{"text_format":"1","workbook":"xlsx","n_sheets":3,"sheets":["Historia","Text","Oddstabell"],"not_rendered":{"charts":1,"images":0,"macros":0,"external_links":0,"defined_names":3,"comments":1,"pivot_tables":0},"unopened":[],"bounds":{"document_bytes":16777216,"sheet_cells":100000,"rows_first":2000,"rows_last":500,"rows_between":2000,"halvings":0,"cell_chars":16384,"cell_head_chars":4096},"cells_cut":0,"cells_raw":0,"read":"whole","date_system":"1900"}

{"sheet":"Historia","index":0,"n_rows":333,"n_cols":164,"rows_kept":333,"cut":false,"hidden":false,"merged":[[15,128,15,129],[15,122,15,123],[15,126,15,127],[15,117,16,117],[15,118,16,118],[15,119,16,119],[15,120,15,121],[15,124,15,125],[15,7,15,8],[15,4,15,5],[15,1,15,3],[16,38,16,43],[15,13,15,14],[15,15,15,16],[15,6,16,6],[15,9,15,10],[15,146,15,147],[15,148,16,148],[16,48,16,52],[15,11,15,12],[15,138,15,139],[15,142,15,143],[15,133,16,133],[16,44,16,47],[16,53,16,57],[16,58,16,62],[15,137,16,137],[15,134,16,134],[15,135,16,135],[15,136,16,136],[15,144,16,144],[15,140,16,140]]}
[null,null,null,null,null,null,null,null,null,null,null,null,null,null,null,null,null,null,null,null,null,null,null,null,null,null,null,null,null,null,null,null,null,null,null,null,null,null,null,null,null,null,null,null,null,null,null,null,null,null,null,null,null,null,null,null,null,null,null,null,null,null,null,null,null,null,null,null,null,null,null,null,null,null,null,null,null,null,null,null,null,null,null,null,null,null,null,null,null,null,null,null,"Eleverade armar","Repetitivt arbete","Tung manuell hantering","Y","BD","Y EA","Y RA","T TMH","Vib"]
[null,null,null,null,null,null,null,null,null,null,null,null,null,null,null,null,null,null,null,null,null,null,null,null,null,null,null,null,null,null,null,null,null,null,null,null,null,null,null,null,null,null,null,null,null,null,null,null,null,null,null,null,null,null,null,null,null,null,null,null,null,null,null,null,null,null,null,null,null,null,null,null,null,null,null,null,null,null,null,null,null,null,null,null,null,null,null,null,null,null,null,null,{"$f":"IF(LEN(Besvär_T[[#Totals],[Besvärsdebut Eleverade armar]])>0,YEAR(Hin_T[[#Totals],[B-år EA]])+MONTH(Hin_T[[#Totals],[B-år EA]])/12,NA())","v":2000.5},{"$f":"IF(LEN(Besvär_T[[#Totals],[Besvärsdebut Repetitivt arbete]])>0,YEAR(Hin_T[[#Totals],[B-år RA]])+MONTH(Hin_T[[#Totals],[B-år RA]])/12,NA())","v":2000.5},{"$f":"IF(LEN(Besvär_T[[#Totals],[Besvärsdebut Tung manuell hantering]])>0,YEAR(Hin_T[[#Totals],[B-år TMH]])+MONTH(Hin_T[[#Totals],[B-år TMH]])/12,NA())","v":2000.5},0,{"$f":"IF(ISNUMBER(Besvär_T[Sjukdomsdebut]),Hin_T[[#Totals],[15AM-A]],MIN(Hut_T[Datum-]))","v":"00:00:00"},0,0,0,0,null,null,null,null,null,null,null,null,null,null,null,null,null,null,null,null,"Besöksdatum",null,"Patient ID"]
[null,null,null,null,null,null,null,null,null,null,null,null,null,null,null,null,null,null,null,null,null,null,null,null,null,null,null,null,null,null,null,"Kum. Belast. (h/liv) AöA","Oddskvot AöA","AöA spann","Kum. Belast. (h/liv) 15AM","Oddskvot 15AM","15AM spann",null,null,null,null,null,null,null,null,null,null,null,null,null,null,null,null,null,null,null,null,null,null,null,null,null,null,null,null,null,null,null,null,null,null,null,null,null,null,null,null,null,null,null,null,null,null,null,null,null,null,null,null,null,null,null,{"$f":"IF(LEN(Besvär_T[[#Totals],[Besvärsdebut Eleverade armar]])>0,YEAR(Hin_T[[#Totals],[B-år EA]])+MONTH(Hin_T[[#Totals],[B-år EA]])/12,NA())","v":2000.5},{"$f":"IF(LEN(Besvär_T[[#Totals],[Besvärsdebut Repetitivt arbete]])>0,YEAR(Hin_T[[#Totals],[B-år RA]])+MONTH(Hin_T[[#Totals],[B-år RA]])/12,NA())","v":2000.5},{"$f":"IF(LEN(Besvär_T[[#Totals],[Besvärsdebut Tung manuell hantering]])>0,YEAR(Hin_T[[#Totals],[B-år TMH]])+MONTH(Hin_T[[#Totals],[B-år TMH]])/12,NA())","v":2000.5},{"$f":"IF(ISNUMBER(Besvär_T[Sjukdomsdebut]),_xlfn.AGGREGATE(4,6,Medel_T[HöA T],Medel_T[AöA T],Medel_T[4AM T],Medel_T[15AM T],Medel_T[20-10D T])*1.25,0)","v":0},{"$f":"IF(ISNUMBER(Besvär_T[Sjukdomsdebut]),Hin_T[[#Totals],[15AM-A]],MIN(Hut_T[Datum-]))","v":"00:00:00"},{"$f":"IF(ISNUMBER(Besvär_T[Sjukdomsdebut]),MAX(Hin_T[HöA],Hin_T[AöA])*1.1,0)","v":0},{"$f":"IF(ISNUMBER(Besvär_T[Sjukdomsdebut]),MAX(Hin_T[4AM],Hin_T[15AM])*1.1,0)","v":0},{"$f":"IF(ISNUMBER(Besvär_T[Sjukdomsdebut]),MAX(Hin_T[20-10D])*1.1,0)","v":0},{"$f":"IF(ISNUMBER(Besvär_T[Sjukdomsdebut]),MAX(Hin_T[Vib2])*1.1,0)","v":0}]
[null,null,null,null,null,null,null,null,null,null,null,null,null,null,null,null,null,null,null,null,null,null,null,null,null,null,null,null,null,null,null,0,1,null,0,1,null,null,null,null,null,null,null,null,null,null,null,null,null,null,null,null,null,null,null,null,null,null,null,null,null,null,null,null,null,null,null,null,null,null,null,"Arbetsdag/år",null,null,null,null,null,null,null,null,null,null,null,null,null,null,null,null,null,null,null,null,{"$f":"IF(ISNUMBER(Hin_T[[#Totals],[B-år EA]]),Besvär_T[[#Headers],[Sjukdomsdebut]]&\" \"&HistGraf_T[[#Headers],[Eleverade armar]]&\" (\"&CO3&\")\",\"-\")","v":"Sjukdomsdebut Eleverade armar (2000,5)"},{"$f":"IF(ISNUMBER(Hin_T[[#Totals],[B-år RA]]),Besvär_T[[#Headers],[Sjukdomsdebut]]&\" \"&HistGraf_T[[#Headers],[Repetitivt arbete]]&\" (\"&CP3&\")\",\"-\")","v":"Sjukdomsdebut Repetitivt arbete (2000,5)"},{"$f":"IF(ISNUMBER(Hin_T[[#Totals],[B-år RA]]),Besvär_T[[#Headers],[Sjukdomsdebut]]&\" \"&HistGraf_T[[#Headers],[Tung manuell hantering]]&\" (\"&CQ3&\")\",\"-\")","v":"Sjukdomsdebut Tung manuell hantering (2000,5)"},null,{"$f":"Besvär_T[[#Headers],[Sjukdomsdebut]]","v":"Sjukdomsdebut"}]
[null,null,null,null,null,null,null,null,null,null,null,null,null,null,null,null,null,null,null,null,null,null,null,null,null,null,null,null,null,null,null,330,1.4,"(1,4 – 1,5)",330,1.2,"(1,1 – 1,3)",null,null,null,null,null,null,null,null,null,null,null,null,null,null,null,null,null,null,null,null,null,null,null,null,null,null,null,null,null,null,null,null,null,null,220]
[null,null,null,null,null,null,null,null,null,null,null,null,null,null,null,null,null,null,null,null,null,null,null,null,null,null,null,null,null,null,null,1155,1.5,"(1,5 – 1,6)",990,1.5,"(1,5 – 1,6)",null,null,null,null,null,null,null,null,null,null,null,null,null,null,null,null,null,null,null,null,null,null,null,null,null,null,null,null,null,null,null,null,null,null,null,null,null,null,null,null,null,null,null,null,null,null,null,null,null,null,null,null,null,null,null,"SJ","Nr","År","Text","Start",null,null,"JN",null,null,null,null,null,null,null,null,null,null,null,null,null,null,null,null,null,"Förekommer:","Före sjukdomsdebut","Efter sjukdomsdebut"]
[null,null,null,null,null,null,null,null,null,null,null,null,null,null,null,null,null,null,null,null,null,null,null,null,null,null,null,null,null,null,null,2475,1.8,"(1,7 – 1,9)",3960,1.6,"(1,5 – 1,6)",null,null,null,null,null,null,null,null,null,null,null,null,null,null,null,null,null,null,null,null,null,null,null,null,null,null,null,null,null,null,null,null,null,null,"Arbetstid/dag",null,null,null,null,null,null,null,null,null,null,null,null,null,null,null,null,null,null,null,null,{"$f":"IF(Hin_T[[#Totals],[B-årX]]=0,\"\",IF(OR(Hin_T[[#Totals],[B-årX]]={1;3;5;7}),\"EA_\",IF(OR(Hin_T[[#Totals],[B-årX]]={2;6}),\"RA_\",\"TMH\")))","v":""},{"$f":"IF(ROW()-ROW(BD3_TX[[#Headers],[Nr]])=1,Medel_T[[#Totals],[NrX]],CP6+1)","v":30},{"$f":"YEAR(IF(Hin_T[[#Totals],[B-årX]]=0,\"\",IF(OR(Hin_T[[#Totals],[B-årX]]={1;3;5;7}),Hin_T[[#Totals],[B-år EA]],IF(OR(Hin_T[[#Totals],[B-årX]]={2;6}),Hin_T[[#Totals],[B-år RA]],Hin_T[[#Totals],[B-år TMH]]))))","v":{"$error":"#VALUE!"}},{"$f":"IF(LEN(BD3_TX[[#This Row],[SJ]])>0,\"Till symptomdebut \"&HistGraf_T[[#Headers],[Eleverade armar]],\"\")","v":""},{"$f":"BD3_TX[[#Totals],[Start]]","v":"00:00:00"},null,null,"Ja",null,"TEXT(AVRUNDA([@Tal];Dig[[#Summor];[Sig]]-(HELTAL(LOG10(ABS([@Tal])))));\"0\"&OM(Dig[[#Summor];[Sig]]-(HELTAL(LOG10(ABS([@Tal]))))>0;\",\"&REP(\"0\";Dig[[#Summor];[Sig]]-(HELTAL(LOG10(ABS([@Tal])))));\"\"))",null,null,null,null,null,null,null,null,null,null,null,null,null,null,null,"händerna ovan axelhöjd"]
[null,null,null,null,null,null,null,null,null,null,null,null,null,null,null,null,null,null,null,null,null,null,null,null,null,null,null,null,null,null,null,4950,2.1,"(2,0 – 2,2)",11880,1.9,"(1,8 – 2,0)",null,null,null,null,null,null,null,null,null,null,null,null,null,null,null,null,null,null,null,null,null,null,null,null,null,null,null,null,null,null,null,null,null,null,"08:00:00",null,null,null,null,null,null,null,null,null,null,null,null,null,null,null,null,null,null,null,null,{"$f":"IF(Hin_T[[#Totals],[B-årX]]=0,\"\",IF(OR(Hin_T[[#Totals],[B-årX]]={3;7}),\"RA_\",IF(OR(Hin_T[[#Totals],[B-årX]]={5;6}),\"TMH\",\"\")))","v":""},{"$f":"IF(ROW()-ROW(BD3_TX[[#Headers],[Nr]])=1,Medel_T[[#Totals],[NrX]],CP7+1)","v":31},{"$f":"YEAR(IF(Hin_T[[#Totals],[B-årX]]=0,\"\",IF(OR(Hin_T[[#Totals],[B-årX]]={3;7}),Hin_T[[#Totals],[B-år RA]],IF(OR(Hin_T[[#Totals],[B-årX]]={5;6}),Hin_T[[#Totals],[B-år TMH]],\"\"))))","v":{"$error":"#VALUE!"}},{"$f":"IF(LEN(BD3_TX[[#This Row],[SJ]])>0,\"Till symptomdebut \"&HistGraf_T[[#Headers],[Repetitivt arbete]],\"\")","v":""},{"$f":"BD3_TX[[#Totals],[Start]]","v":"00:00:00"},null,null,"Nej",null,"TEXT(AVRUNDA(§§§;1-(HELTAL(LOG10(ABS(§§§)))));\"0\"&OM(1-(HELTAL(LOG10(ABS(§§§))))>0;\",\"&REP(\"0\";1-(HELTAL(LOG10(ABS(§§§)))));\"\"))",null,null,null,null,null,null,null,null,null,null,null,null,null,null,null,"tung manuell hantering"]
[null,null,null,null,null,null,null,null,null,null,null,null,null,null,null,null,null,null,null,null,null,null,null,null,null,null,null,null,null,null,null,1000000,2.1,"(2,0 – 2,2)",{"$f":"Odds_T[[#This Row],[Kum. Belast. (h/liv) AöA]]","v":1000000},1.9,"(1,8 – 2,0)",null,null,null,null,null,null,null,null,null,null,null,null,null,null,null,null,null,null,null,null,null,null,null,null,null,null,null,null,null,null,null,null,null,null,null,null,null,null,null,null,null,null,null,null,null,null,null,null,null,null,null,null,null,null,null,{"$f":"IF(Hin_T[[#Totals],[B-årX]]=0,\"\",IF(Hin_T[[#Totals],[B-årX]]=7,\"TMH\",\"\"))","v":""},{"$f":"IF(ROW()-ROW(BD3_TX[[#Headers],[Nr]])=1,Medel_T[[#Totals],[NrX]],CP8+1)","v":32},{"$f":"YEAR(IF(Hin_T[[#Totals],[B-årX]]=0,\"\",IF(Hin_T[[#Totals],[B-årX]]=7,Hin_T[[#Totals],[B-år TMH]],\"\")))","v":{"$error":"#VALUE!"}},{"$f":"IF(LEN(BD3_TX[[#This Row],[SJ]])>0,\"Till symptomdebut \"&HistGraf_T[[#Headers],[Tung manuell hantering]],\"\")","v":""},{"$f":"BD3_TX[[#Totals],[Start]]","v":"00:00:00"},null,null,null,null,null,null,null,null,null,null,null,null,null,null,null,null,null,null,null,null,"arbete med vibrerande verktyg"]
[null,null,null,null,null,null,null,null,null,null,null,null,null,null,null,null,null,null,null,null,null,null,null,null,null,null,null,null,null,null,null,null,null,null,null,null,null,null,null,null,null,null,null,null,null,null,null,null,null,null,null,null,null,null,null,null,null,null,null,null,null,null,null,null,null,null,null,null,null,null,null,null,null,null,null,null,null,null,null,null,null,null,null,null,null,null,null,null,null,null,null,null,"TOT",{"$f":"Medel_T[[#Totals],[NrX]]+COUNTIF(BD3_TX[SJ],\"?*\")","v":30},{"$f":"Hin_T[[#Totals],[S-år]]","v":"00:00:00"},"Totalt antal timmar",{"$f":"Hin_T[[#Totals],[B-år]]","v":"00:00:00"},null,null,null,null,null,null,null,null,null,null,null,null,null,null,null,null,null,null,null,null,"Hur ofta?"]
[null,null,null,null,null,null,null,null,null,null,null,null,null,null,null,null,null,null,null,null,null,null,null,null,null,null,null,null,null,null,null,null,null,null,null,null,null,null,null,null,null,null,null,null,null,null,null,null,null,null,null,null,null,null,null,null,null,null,null,null,null,null,null,null,null,null,null,null,null,null,null,null,null,null,null,null,null,null,null,null,null,null,null,null,null,null,null,null,null,null,null,null,null,null,null,null,null,null,null,"List symb"]
[null,null,null,null,null,null,null,null,null,null,null,null,null,null,null,null,null,null,null,null,null,null,null,null,null,null,null,null,null,null,null,null,null,null,null,null,null,null,null,null,null,null,null,null,null,null,null,null,null,null,null,null,null,null,null,null,null,null,null,null,null,null,null,null,null,null,null,null,null,null,null,null,null,null,null,null,null,null,null,null,null,null,null,null,null,null,null,null,null,null,null,null,"SJ","Nr","År","Text","Start","NrX",null,"● ",null,"Typ","D HöA","D AöA","D 4AM","D 15AM","D 20-10D"]
[null,null,null,null,null,null,null,null,null,null,null,null,null,null,null,null,null,null,null,null,null,null,null,null,null,null,null,null,null,null,null,null,null,null,null,null,null,null,null,null,null,null,null,null,null,null,null,null,null,null,null,null,null,null,null,null,null,null,null,null,null,null,null,null,null,null,null,null,null,null,null,"Oddskvot",null,null,null,null,null,null,null,null,null,null,null,null,null,null,null,null,null,null,null,null,"TOT",{"$f":"Medel_T[[#Totals],[NrX]]+COUNT(Besvär_T[Sjukdomsdebut])","v":30},{"$f":"Hin_T[[#Totals],[S-år]]","v":"00:00:00"},"Totalt antal timmar i arbetslivet",{"$f":"BD_TX[[#Totals],[Start]]","v":"00:00:00"},{"$f":"Hin_T[[#Totals],[Dag]]+COUNT(Besvär_T[Sjukdomsdebut])","v":23},null," – ",null,{"$f":"BD_TX[[SJ]:[SJ]]","v":"TOT"},{"$f":"SUM(Medel_T[D HöA§])","v":0},{"$f":"SUM(Medel_T[D AöA§])","v":0},{"$f":"SUM(Medel_T[D 4AM§])","v":0},{"$f":"SUM(Medel_T[D 15AM§])","v":0},{"$f":"SUM(Medel_T[D 20-10D§])","v":0}]
[null,null,null,null,null,null,null,null,null,null,null,null,null,null,null,null,null,null,null,null,null,null,null,null,null,null,null,null,null,null,null,null,null,null,null,null,null,null,null,null,null,null,null,null,null,null,null,null,null,null,null,null,null,null,null,null,null,null,null,null,null,null,null,null,null,null,null,null,null,null,null,"Nej",null,null,null,null,null,null,null,null,null,null,null,null,null,null,null,null,null,null,null,null,"SJD",{"$f":"Medel_T[[#Totals],[NrX]]","v":30},{"$f":"IF(LEN(BD_TX[[#Totals],[SJ]])>0,Besvär_T[[#Totals],[Sjukdomsdebut]],\"\")","v":"00:00:00"},{"$f":"IF(LEN(BD_TX[[#Totals],[SJ]])>0,\"Totalt antal timmar till sjukdomsdebut\",\"\")","v":"Totalt antal timmar till sjukdomsdebut"},{"$f":"Hin_T[[#Totals],[B-år]]","v":"00:00:00"},{"$f":"Hin_T[[#Totals],[Dag]]","v":23},null,null,null,{"$f":"BD_TX[[#Totals],[SJ]:[SJ]]","v":"SJD"},{"$f":"SUM(Medel_T[D HöA¤])","v":0},{"$f":"SUM(Medel_T[D AöA¤])","v":0},{"$f":"SUM(Medel_T[D 4AM¤])","v":0},{"$f":"SUM(Medel_T[D 15AM¤])","v":0},{"$f":"SUM(Medel_T[D 20-10D¤])","v":0}]
[]
[null,"Yrke",null,null,"Perioder [år-mån-dag] ",null,"Antal dagar / år ","Händer över axelhöjd",null,"Armelevation > 90°",null,">4 arm-rörelser/min",null,">15 arm-rörelser/min",null,"Lyfta/bära >20 kg, >10 ggr/dag",null,"Vibrerande verktyg",null,null,null,null,null,null,null,null,null,null,null,null,null,null,null,null,null,null,null,null,null,null,null,null,null,null,null,null,null,null,null,null,null,null,null,null,null,null,null,null,null,null,null,null,null,null,null,null,"Besvärsdebut Eleverade armar","Besvärsdebut Repetitivt arbete","Besvärsdebut Tung manuell hantering","Sjukdomsdebut",null,null,null,null,null,null,null,null,null,null,null,null,null,null,null,null,null,null,null,null,null,null,null,null,null,null,null,null,null,null,null,null,null,null,null,null,null,null,null,null,null,null,null,null,null,null,null,"Perioder","Yrke","Arbetsmoment","Händer över axelhöjd",null,"Armelevation > 90°",null,">4 arm-rörelser/min",null,">15 arm-rörelser/min",null,">20 kg, >10 ggr/dag",null,null,null,null,"Perioder","Yrke","Arbetsmoment","Företag","Antal dagar / år ","Händer över axelhöjd",null,"Armelevation > 90°",null,">4 arm-rörelser/min",null,">15 arm-rörelser/min",null,">20 kg, >10 ggr/dag",null,"Vibrerande verktyg"]
[null,"Yrke","Arbetsmoment","Företag","Start","Slut",null,"h:mm/dag","Dag/år","h:mm/dag","Dag/år","h:mm/dag","Dag/år","h:mm/dag","Dag/år","h:mm/dag","Dag/år","Ja/Nej","Nr",null,null,"B-år","S-år",null,null,"B-årX",null,null,null,null,null,null,null,null,"Eleverade armar",null,null,null,"Repetitivt arbete",null,null,null,null,null,"Tung manuell hantering",null,null,null,"VIB",null,null,null,null,"Data",null,null,null,null,"Data SJD",null,null,null,null,null,null,"Text",null,null,null,null,null,null,null,null,null,null,null,null,null,null,null,null,null,null,null,null,null,null,null,null,null,null,null,null,null,null,null,null,null,null,null,null,null,null,null,null,null,null,null,null,null,null,null,null,null,null,null,null,null,null,"Dagsnitt","Viktat medel","Dagsnitt","Timmar","Dagsnitt","Viktat medel","Dagsnitt","Timmar","Dagsnitt","Viktat medel",null,null,null,null,null,null,null,null,"Sum h:mm","Andel",null,"Andel","Sum h:mm","Andel",null,"Andel","Sum h:mm","Andel"]
[null,"Yrke","Arbetsmoment","Företag","Start","Slut","Dagar","HöA","HöA-A","AöA","AöA-A","4AM","4AM-A","15AM","15AM-A","20-10D","20-10D-A","Vib","Nr","Kolumn1","AU","B-år","S-år","StartÅR","SlutÅr","B-årX","Dag","Dagarna","Kort","Q%-","Q%+","År diff","tot år HöA","tot år AöA","B-år EA","S-år EA","BD år HöA","BD år AöA","tot år 4AM","tot år 15AM","B-år RA","S-år RA","BD år 4AM","BD år 15AM","tot år 20-10D","B-år TMH","S-år TMH","BD år 20-10D","Vib2","tot år Vib","B-år VIB","S-år Vib","BD år Vib","D HöA","D AöA","D 4AM","D 15AM","D 20-10D","SJD HöA","SJD AöA","SJD 4AM","SJD 15AM","SJD 20-10D","Text","Text AöA","Text 15AM",{"$f":"IFERROR(TEXT(Hin_T[[#Totals],[B-år EA]],\"ÅÅÅÅ-MM-DD\"),\"\")","v":"2000-06-06"},{"$f":"IFERROR(TEXT(Hin_T[[#Totals],[B-år RA]],\"ÅÅÅÅ-MM-DD\"),\"\")","v":"2000-06-06"},{"$f":"IFERROR(TEXT(Hin_T[[#Totals],[B-år TMH]],\"ÅÅÅÅ-MM-DD\"),\"\")","v":"2000-06-06"},{"$f":"IFERROR(IF(LEN(Besvär_T[Sjukdomsdebut])-LEN(SUBSTITUTE(Besvär_T[Sjukdomsdebut],\"-\",\"\"))=2,DATEVALUE(Besvär_T[Sjukdomsdebut]),IF(LEN(Besvär_T[Sjukdomsdebut])<5,DATEVALUE(Besvär_T[Sjukdomsdebut]&\"-06-06\"),DATEVALUE(LEFT(Besvär_T[Sjukdomsdebut],IF(LEN(Besvär_T[Sjukdomsdebut])>6,4,2))&\"-\"&MID(Besvär_T[Sjukdomsdebut],IF(LEN(Besvär_T[Sjukdomsdebut])>6,5,3),2)&\"-\"&RIGHT(Besvär_T[Sjukdomsdebut],2)))),Besvär_T[Sjukdomsdebut])","v":0},"Start","Slut","SJDstart","SJDslut","EfterStart","EfterSlut","NrX","Ant","Yrke","Arbetsmoment","Period ","ArbMomText","Proc dag","Dag sum","År","ÅrSjuk","HöA τ","AöA τ","4AM τ","15AM τ","20-10D τ","HöA T","AöA T","4AM T","15AM T","20-10D T","D HöA§","D AöA§","D 4AM§","D 15AM§","D 20-10D§","D HöA¤","D AöA¤","D 4AM¤","D 15AM¤","D 20-10D¤","AöA text","15AM Text","Text","AöA text Sjuk","15AM Text Sjuk","Text Sjuk","Text print","Rad","Nr","Sep_Nr","ÅRX","År – År","Yrke2","Arbetsmoment2","HöA_T","D HöA","AÖA_T","D AöA","4AM_T","D 4AM","15AM_T","D 15AM","20-10D_T","D 20-10D",null,"Rad","Nr","År-År","Yrke","Arbetsmoment","Företag","Dagar","D HöA","HöA-A","D AöA","AöA-A","D 4AM","4AM-A","D 15AM","15AM-A","D 20-10D","20-10D-A","Vibration","Datum-","Datum+",null,"Rad","RefX","Ref","per/p","ÅrB","År S","År X","HöA T","AöA T","4AM T","15AM T","20-10D T"]
[null,null,null,null,null,null,null,null,null,null,null,null,null,null,null,null,null,null,{"$f":"IF(LEN(Hin_T[[#This Row],[Start]])>0,ROWS($S$19:S19),\"\")","v":""},null,{"$f":"Hin_T[[#This Row],[Yrke]]&IF(ISBLANK(Hin_T[[#This Row],[Arbetsmoment]]),\"\",\"; \"&Hin_T[[#This Row],[Arbetsmoment]])","v":""},{"$f":"IFERROR(IF(LEN(Hin_T[[#This Row],[Start]])-LEN(SUBSTITUTE(Hin_T[[#This Row],[Start]],\"-\",\"\"))=2,DATEVALUE(Hin_T[[#This Row],[Start]]),IF(LEN(Hin_T[[#This Row],[Start]])<5,DATEVALUE(Hin_T[[#This Row],[Start]]&\"-01-01\"),DATEVALUE(LEFT(Hin_T[[#This Row],[Start]],IF(LEN(Hin_T[[#This Row],[Start]])>6,4,2))&\"-\"&MID(Hin_T[[#This Row],[Start]],IF(LEN(Hin_T[[#This Row],[Start]])>6,5,3),2)&\"-\"&RIGHT(Hin_T[[#This Row],[Start]],2)))),\"\")","v":""},{"$f":"IFERROR(IF(LEN(Hin_T[[#This Row],[Slut]])-LEN(SUBSTITUTE(Hin_T[[#This Row],[Slut]],\"-\",\"\"))=2,DATEVALUE(Hin_T[[#This Row],[Slut]]),IF(LEN(Hin_T[[#This Row],[Slut]])<5,DATEVALUE(Hin_T[[#This Row],[Slut]]&\"-12-31\"),DATEVALUE(LEFT(Hin_T[[#This Row],[Slut]],IF(LEN(Hin_T[[#This Row],[Slut]])>6,4,2))&\"-\"&MID(Hin_T[[#This Row],[Slut]],IF(LEN(Hin_T[[#This Row],[Slut]])>6,5,3),2)&\"-\"&RIGHT(Hin_T[[#This Row],[Slut]],2)))),\"\")","v":""},{"$f":"IF(COUNTIF(V$19:V19,Hin_T[[#This Row],[B-år]])=1,Hin_T[[#This Row],[B-år]],\"\")","v":""},{"$f":"IF(COUNTIF(W$19:W19,Hin_T[[#This Row],[S-år]])=1,Hin_T[[#This Row],[S-år]],\"\")","v":""},{"$f":"IFERROR(Hin_T[[#This Row],[B-år]]+IF(COUNTIF($V$19:V19,Hin_T[[#This Row],[B-år]])>1,COUNTIF($V$19:V19,Hin_T[[#This Row],[B-år]])/10,0),\"\")","v":""},{"$f":"IF(ISNUMBER(Hin_T[[#This Row],[Dagar]]),Hin_T[[#This Row],[Dagar]]/DÅ[Arbetsdag/år],1)","v":1},{"$f":"Hin_T[[#This Row],[Dag]]*DÅ[Arbetsdag/år]","v":220},{"$f":"IF(LEN(Hin_T[[#This Row],[Yrke]])=4,1,0)","v":0},{"$f":"_xlfn.DAYS(Hin_T[[#This Row],[B-år]],DATE(YEAR(Hin_T[[#This Row],[B-år]]),1,1))/(DATE(YEAR(Hin_T[[#This Row],[B-år]])+1,1,1)-DATE(YEAR(Hin_T[[#This Row],[B-år]]),1,1))","v":{"$error":"#VALUE!"}},{"$f":"_xlfn.DAYS(DATE(YEAR(Hin_T[[#This Row],[S-år]]),12,31),Hin_T[[#This Row],[S-år]])/(DATE(YEAR(Hin_T[[#This Row],[S-år]])+1,1,1)-DATE(YEAR(Hin_T[[#This Row],[S-år]]),1,1))","v":{"$error":"#VALUE!"}},{"$f":"YEARFRAC(Hin_T[[#This Row],[S-år]],Hin_T[[#This Row],[B-år]])*Hin_T[[#This Row],[Dag]]","v":{"$error":"#VALUE!"}},{"$f":"IFERROR(Hin_T[[#This Row],[År diff]]*IF(ISNUMBER(Hin_T[[#This Row],[HöA]]),1,0),0)","v":0},{"$f":"IFERROR(Hin_T[[#This Row],[År diff]]*IF(ISNUMBER(Hin_T[[#This Row],[AöA]]),1,0),0)","v":0},{"$f":"IF(Hin_T[[#This Row],[B-år]]<=Besvär_T[[#Totals],[Sjukdomsdebut]],Hin_T[[#This Row],[B-år]],\"\")","v":""},{"$f":"IF(Hin_T[[#This Row],[S-år]]<=Besvär_T[[#Totals],[Sjukdomsdebut]],Hin_T[[#This Row],[S-år]],\"\")","v":""},{"$f":"IFERROR(YEARFRAC(IF(AND(ISNUMBER(Hin_T[[#This Row],[B-år EA]]),LEN(Hin_T[[#This Row],[S-år EA]])=0),Hin_T[[#Totals],[15AM-A]],Hin_T[[#This Row],[S-år EA]]),Hin_T[[#This Row],[B-år EA]])*Hin_T[[#This Row],[Dag]]*IF(ISNUMBER(Hin_T[[#This Row],[HöA]]),1,0),0)","v":0},{"$f":"IFERROR(YEARFRAC(IF(AND(ISNUMBER(Hin_T[[#This Row],[B-år EA]]),LEN(Hin_T[[#This Row],[S-år EA]])=0),Hin_T[[#Totals],[15AM-A]],Hin_T[[#This Row],[S-år EA]]),Hin_T[[#This Row],[B-år EA]])*Hin_T[[#This Row],[Dag]]*IF(ISNUMBER(Hin_T[[#This Row],[AöA]]),1,0),0)","v":0},{"$f":"IFERROR(Hin_T[[#This Row],[År diff]]*IF(ISNUMBER(Hin_T[[#This Row],[4AM]]),1,0),0)","v":0},{"$f":"IFERROR(Hin_T[[#This Row],[År diff]]*IF(ISNUMBER(Hin_T[[#This Row],[15AM]]),1,0),0)","v":0},{"$f":"IF(Hin_T[[#This Row],[B-år]]<=Besvär_T[[#Totals],[Sjukdomsdebut]],Hin_T[[#This Row],[B-år]],\"\")","v":""},{"$f":"IF(Hin_T[[#This Row],[S-år]]<=Besvär_T[[#Totals],[Sjukdomsdebut]],Hin_T[[#This Row],[S-år]],\"\")","v":""},{"$f":"IFERROR(YEARFRAC(IF(AND(ISNUMBER(Hin_T[[#This Row],[B-år RA]]),LEN(Hin_T[[#This Row],[S-år RA]])=0),Hin_T[[#Totals],[15AM-A]],Hin_T[[#This Row],[S-år RA]]),Hin_T[[#This Row],[B-år RA]])*Hin_T[[#This Row],[Dag]]*IF(ISNUMBER(Hin_T[[#This Row],[4AM]]),1,0),0)","v":0},{"$f":"IFERROR(YEARFRAC(IF(AND(ISNUMBER(Hin_T[[#This Row],[B-år RA]]),LEN(Hin_T[[#This Row],[S-år RA]])=0),Hin_T[[#Totals],[15AM-A]],Hin_T[[#This Row],[S-år RA]]),Hin_T[[#This Row],[B-år RA]])*Hin_T[[#This Row],[Dag]]*IF(ISNUMBER(Hin_T[[#This Row],[15AM]]),1,0),0)","v":0},{"$f":"IFERROR(Hin_T[[#This Row],[År diff]]*IF(ISNUMBER(Hin_T[[#This Row],[20-10D]]),1,0),0)","v":0},{"$f":"IF(Hin_T[[#This Row],[B-år]]<=Besvär_T[[#Totals],[Sjukdomsdebut]],Hin_T[[#This Row],[B-år]],\"\")","v":""},{"$f":"IF(Hin_T[[#This Row],[S-år]]<=Besvär_T[[#Totals],[Sjukdomsdebut]],Hin_T[[#This Row],[S-år]],\"\")","v":""},{"$f":"IFERROR(YEARFRAC(IF(AND(ISNUMBER(Hin_T[[#This Row],[B-år TMH]]),LEN(Hin_T[[#This Row],[S-år TMH]])=0),Hin_T[[#Totals],[15AM-A]],Hin_T[[#This Row],[S-år TMH]]),Hin_T[[#This Row],[B-år TMH]])*Hin_T[[#This Row],[Dag]]*IF(ISNUMBER(Hin_T[[#This Row],[20-10D]]),1,0),0)","v":0},{"$f":"IF(Hin_T[[#This Row],[Vib]]=JN_T[JN],1,0)","v":0},{"$f":"IFERROR(Hin_T[[#This Row],[År diff]]*IF(Hin_T[[#This Row],[Vib2]]>0,1,0),0)","v":0},{"$f":"IF(Hin_T[[#This Row],[B-år]]<=Besvär_T[[#Totals],[Sjukdomsdebut]],Hin_T[[#This Row],[B-år]],\"\")","v":""},{"$f":"IF(Hin_T[[#This Row],[S-år]]<=Besvär_T[[#Totals],[Sjukdomsdebut]],Hin_T[[#This Row],[S-år]],\"\")","v":""},{"$f":"IFERROR(YEARFRAC(IF(AND(ISNUMBER(Hin_T[[#This Row],[B-år VIB]]),LEN(Hin_T[[#This Row],[S-år Vib]])=0),Hin_T[[#Totals],[15AM-A]],Hin_T[[#This Row],[S-år Vib]]),Hin_T[[#This Row],[B-år VIB]])*IF(Hin_T[[#This Row],[Vib2]]>0,1,0),0)","v":0},{"$f":"Hin_T[[#This Row],[HöA]]*Hin_T[[#This Row],[tot år HöA]]*DÅ[Arbetsdag/år]","v":0},{"$f":"Hin_T[[#This Row],[tot år AöA]]*Hin_T[[#This Row],[AöA]]*DÅ[Arbetsdag/år]","v":0},{"$f":"Hin_T[[#This Row],[tot år 4AM]]*Hin_T[[#This Row],[4AM]]*DÅ[Arbetsdag/år]","v":0},{"$f":"Hin_T[[#This Row],[tot år 15AM]]*Hin_T[[#This Row],[15AM]]*DÅ[Arbetsdag/år]","v":0},{"$f":"Hin_T[[#This Row],[tot år 20-10D]]*Hin_T[[#This Row],[20-10D]]*DÅ[Arbetsdag/år]","v":0},{"$f":"Hin_T[[#This Row],[BD år HöA]]*Hin_T[[#This Row],[HöA]]*DÅ[Arbetsdag/år]","v":0},{"$f":"Hin_T[[#This Row],[BD år AöA]]*Hin_T[[#This Row],[AöA]]*DÅ[Arbetsdag/år]","v":0},{"$f":"Hin_T[[#This Row],[BD år 4AM]]*Hin_T[[#This Row],[4AM]]*DÅ[Arbetsdag/år]","v":0},{"$f":"Hin_T[[#This Row],[BD år 15AM]]*Hin_T[[#This Row],[15AM]]*DÅ[Arbetsdag/år]","v":0},{"$f":"Hin_T[[#This Row],[BD år 20-10D]]*Hin_T[[#This Row],[20-10D]]*DÅ[Arbetsdag/år]","v":0},{"$f":"Hin_T[[#This Row],[Arbetsmoment]]&Hin_T[[#This Row],[Text AöA]]&Hin_T[[#This Row],[Text 15AM]]&IF(Hin_T[[#This Row],[Dagarna]]=DÅ[Arbetsdag/år],\"\",\". \"&Hin_T[[#This Row],[Dagarna]]&\" dagar/år\")&\". \"","v":". "},{"$f":"IF(ISBLANK(Hin_T[[#This Row],[AöA]]),\"\",Exp_T[Överarmslyft> 90°: ]&IF(VALUE(TEXT(Hin_T[[#This Row],[AöA]],\"t\"))>0,VALUE(TEXT(Hin_T[[#This Row],[AöA]],\"t\"))&\" h\",\"\")&IF(AND(VALUE(TEXT(Hin_T[[#This Row],[AöA]],\"t\"))>0,VALUE(TEXT(Hin_T[[#This Row],[AöA]],\"m\"))>2.4),\" \",\"\")&IF(VALUE(TEXT(Hin_T[[#This Row],[AöA]],\"m\"))>2.4,TEXT(ROUND(Hin_T[[#This Row],[AöA]]*(24*60/5),0)/(24*60/5),\"m\")&\" min\",\"\")&\"/dag\")","v":""},{"$f":"IF(ISBLANK(Hin_T[[#This Row],[15AM]]),\"\",Exp_T[Överarmsrörelser> 15/min: ]&IF(VALUE(TEXT(Hin_T[[#This Row],[15AM]],\"t\"))>0,VALUE(TEXT(Hin_T[[#This Row],[15AM]],\"t\"))&\" h\",\"\")&IF(AND(VALUE(TEXT(Hin_T[[#This Row],[15AM]],\"t\"))>0,VALUE(TEXT(Hin_T[[#This Row],[15AM]],\"m\"))>2.4),\" \",\"\")&IF(VALUE(TEXT(Hin_T[[#This Row],[15AM]],\"m\"))>2.4,TEXT(ROUND(Hin_T[[#This Row],[15AM]]*(24*60/5),0)/(24*60/5),\"m\")&\" min\",\"\")&\"/dag\")","v":""},null,null,null,null,{"$f":"SMALL(Hin_T[[StartÅR]:[SlutÅr]],ROW()-ROW(Medel_T[[#Headers],[Start]]))","v":{"$error":"#NUM!"}},{"$f":"SMALL(Hin_T[[StartÅR]:[SlutÅr]],ROW()-ROW(Medel_T[[#Headers],[Slut]])+1)","v":{"$error":"#NUM!"}},{"$f":"IF(Medel_T[[#This Row],[Start]]<=Besvär_T[[#Totals],[Sjukdomsdebut]],Medel_T[[#This Row],[Start]],\"\")","v":{"$error":"#NUM!"}},{"$f":"IF(Medel_T[[#This Row],[Slut]]<=Besvär_T[[#Totals],[Sjukdomsdebut]],Medel_T[[#This Row],[Slut]],IF(AND(LEN(Medel_T[[#This Row],[SJDstart]])>0,LEN(BU20)=0),Besvär_T[[#Totals],[Sjukdomsdebut]],\"\"))","v":{"$error":"#NUM!"}},{"$f":"IF(Medel_T[[#This Row],[Start]]>=Besvär_T[[#Totals],[Sjukdomsdebut]],Medel_T[[#This Row],[Start]],IF(AND(LEN(Medel_T[[#This Row],[EfterSlut]])>0,LEN(BX18)=0),Besvär_T[[#Totals],[Sjukdomsdebut]],\"\"))","v":{"$error":"#NUM!"}},{"$f":"IF(Medel_T[[#This Row],[Slut]]>=Besvär_T[[#Totals],[Sjukdomsdebut]],Medel_T[[#This Row],[Slut]],\"\")","v":{"$error":"#NUM!"}},{"$f":"COUNTIF($BZ$19:BZ19,\">0\")","v":0},{"$f":"COUNTIFS(Hin_T[B-år],\"<=\"&Medel_T[[#This Row],[Start]],Hin_T[S-år],\">=\"&Medel_T[[#This Row],[Slut]])","v":0},{"$f":"SUBSTITUTE(_xlfn.TEXTJOIN(Sep_T[Separator],TRUE,_xlfn._xlws.SORT(_xlfn.UNIQUE(IF((Hin_T[[B-år]:[B-år]]<=Medel_T[[#This Row],[Start]:[Start]])*(Hin_T[[S-år]:[S-år]]>=Medel_T[[#This Row],[Slut]:[Slut]]),Hin_T[Yrke],\"\")))),0&Sep_T[Separator],\"\")","v":{"$error":"#NUM!"}},{"$f":"SUBSTITUTE(_xlfn.TEXTJOIN(Sep_T[Separator],TRUE,_xlfn._xlws.SORT(_xlfn.UNIQUE(IF((Hin_T[[B-år]:[B-år]]<=Medel_T[[#This Row],[Start]:[Start]])*(Hin_T[[S-år]:[S-år]]>=Medel_T[[#This Row],[Slut]:[Slut]]),Hin_T[Arbetsmoment],\"\")))),0&Sep_T[Separator],\"\")","v":{"$error":"#NUM!"}},{"$f":"IF(LEN(Medel_T[[#This Row],[Yrke]])>0,Medel_T[[#Headers],[Period ]]&Medel_T[[#This Row],[NrX]]&\": \"&TEXT(Medel_T[[#This Row],[Start]],\"ÅÅÅÅ\")&List_T[[#Totals],[List symb]]&TEXT(Medel_T[[#This Row],[Slut]],\"ÅÅÅÅ\")&\" (\"&ROUND(Medel_T[[#This Row],[År]],1)&\" år) Anställd som \"&IFERROR(SUBSTITUTE(SUBSTITUTE(Medel_T[[#This Row],[Yrke]],Sep_T[Separator],\" och \",Medel_T[[#This Row],[Ant]]-1),Sep_T[Separator],\", \"),Medel_T[[#This Row],[Yrke]])&↓[↓],\"\")","v":{"$error":"#NUM!"}},{"$f":"IF(LEN(Medel_T[[#This Row],[Arbetsmoment]])>0,ROMAN(1)&\") \"&_xlfn.TEXTJOIN(Delim[Delimiters],TRUE,_xlfn._xlws.SORT(_xlfn.UNIQUE(IF((Hin_T[[B-år]:[B-år]]<=Medel_T[[#This Row],[Start]:[Start]])*(Hin_T[[S-år]:[S-år]]>=Medel_T[[#This Row],[Slut]:[Slut]]),Hin_T[Text],\"\"))))&↓[↓],\"\")","v":{"$error":"#NUM!"}},{"$f":"SUMPRODUCT((Hin_T[[B-år]:[B-år]]<=Medel_T[[#This Row],[Start]:[Start]])*(Hin_T[[S-år]:[S-år]]>=Medel_T[[#This Row],[Slut]:[Slut]])*Hin_T[Dag])","v":{"$error":"#NUM!"}},{"$f":"IF(Medel_T[[#This Row],[Proc dag]]<=1,Medel_T[[#This Row],[Proc dag]],1)","v":{"$error":"#NUM!"}},{"$f":"YEARFRAC(Medel_T[[#This Row],[Slut]],Medel_T[[#This Row],[Start]])","v":{"$error":"#NUM!"}},{"$f":"YEARFRAC(Medel_T[[#This Row],[SJDslut]],Medel_T[[#This Row],[SJDstart]])","v":{"$error":"#NUM!"}},{"$f":"IFERROR(SUMPRODUCT((Hin_T[[B-år]:[B-år]]<=Medel_T[[#This Row],[Start]:[Start]])*(Hin_T[[S-år]:[S-år]]>=Medel_T[[#This Row],[Slut]:[Slut]])*Hin_T[HöA]*Hin_T[[Dag]:[Dag]])/Medel_T[[#This Row],[Proc dag]],-1)","v":-1},{"$f":"IFERROR(SUMPRODUCT((Hin_T[[B-år]:[B-år]]<=Medel_T[[#This Row],[Start]:[Start]])*(Hin_T[[S-år]:[S-år]]>=Medel_T[[#This Row],[Slut]:[Slut]])*Hin_T[AöA]*Hin_T[[Dag]:[Dag]])/Medel_T[[#This Row],[Proc dag]],-1)","v":-1},{"$f":"IFERROR(SUMPRODUCT((Hin_T[[B-år]:[B-år]]<=Medel_T[[#This Row],[Start]:[Start]])*(Hin_T[[S-år]:[S-år]]>=Medel_T[[#This Row],[Slut]:[Slut]])*Hin_T[4AM]*Hin_T[[Dag]:[Dag]])/Medel_T[[#This Row],[Proc dag]],-1)","v":-1},{"$f":"IFERROR(SUMPRODUCT((Hin_T[[B-år]:[B-år]]<=Medel_T[[#This Row],[Start]:[Start]])*(Hin_T[[S-år]:[S-år]]>=Medel_T[[#This Row],[Slut]:[Slut]])*Hin_T[15AM]*Hin_T[[Dag]:[Dag]])/Medel_T[[#This Row],[Proc dag]],-1)","v":-1},{"$f":"IFERROR(SUMPRODUCT((Hin_T[[B-år]:[B-år]]<=Medel_T[[#This Row],[Start]:[Start]])*(Hin_T[[S-år]:[S-år]]>=Medel_T[[#This Row],[Slut]:[Slut]])*Hin_T[20-10D]*Hin_T[[Dag]:[Dag]])/Medel_T[[#This Row],[Proc dag]],-1)","v":-1},{"$f":"IFERROR(SUMPRODUCT((Hin_T[[B-år]:[B-år]]<=Medel_T[[#This Row],[Start]:[Start]])*(Hin_T[[S-år]:[S-år]]>=Medel_T[[#This Row],[Slut]:[Slut]])*Hin_T[[Dag]:[Dag]]*Hin_T[HöA])/Medel_T[[#This Row],[Dag sum]],-1)","v":-1},{"$f":"IFERROR(SUMPRODUCT((Hin_T[[B-år]:[B-år]]<=Medel_T[[#This Row],[Start]:[Start]])*(Hin_T[[S-år]:[S-år]]>=Medel_T[[#This Row],[Slut]:[Slut]])*Hin_T[[Dag]:[Dag]]*Hin_T[AöA])/Medel_T[[#This Row],[Dag sum]],-1)","v":-1},{"$f":"IFERROR(SUMPRODUCT((Hin_T[[B-år]:[B-år]]<=Medel_T[[#This Row],[Start]:[Start]])*(Hin_T[[S-år]:[S-år]]>=Medel_T[[#This Row],[Slut]:[Slut]])*Hin_T[[Dag]:[Dag]]*Hin_T[4AM])/Medel_T[[#This Row],[Dag sum]],-1)","v":-1},{"$f":"IFERROR(SUMPRODUCT((Hin_T[[B-år]:[B-år]]<=Medel_T[[#This Row],[Start]:[Start]])*(Hin_T[[S-år]:[S-år]]>=Medel_T[[#This Row],[Slut]:[Slut]])*Hin_T[15AM]*Hin_T[[Dag]:[Dag]])/Medel_T[[#This Row],[Dag sum]],-1)","v":-1},{"$f":"IFERROR(SUMPRODUCT((Hin_T[[B-år]:[B-år]]<=Medel_T[[#This Row],[Start]:[Start]])*(Hin_T[[S-år]:[S-år]]>=Medel_T[[#This Row],[Slut]:[Slut]])*Hin_T[[Dag]:[Dag]]*Hin_T[20-10D])/Medel_T[[#This Row],[Dag sum]],-1)","v":-1},{"$f":"IFERROR(Medel_T[[#This Row],[Dag sum]:[Dag sum]]*Medel_T[[#This Row],[År]:[År]]*Medel_T[[#This Row],[HöA T]]*DÅ[Arbetsdag/år],0)","v":0},{"$f":"IFERROR(Medel_T[[#This Row],[Dag sum]:[Dag sum]]*Medel_T[[#This Row],[År]:[År]]*Medel_T[[#This Row],[AöA T]]*DÅ[Arbetsdag/år],0)","v":0},{"$f":"IFERROR(Medel_T[[#This Row],[Dag sum]:[Dag sum]]*Medel_T[[#This Row],[År]:[År]]*Medel_T[[#This Row],[4AM T]]*DÅ[Arbetsdag/år],0)","v":0},{"$f":"IFERROR(Medel_T[[#This Row],[Dag sum]:[Dag sum]]*Medel_T[[#This Row],[År]:[År]]*Medel_T[[#This Row],[15AM T]]*DÅ[Arbetsdag/år],0)","v":0},{"$f":"IFERROR(Medel_T[[#This Row],[Dag sum]:[Dag sum]]*Medel_T[[#This Row],[År]:[År]]*Medel_T[[#This Row],[20-10D T]]*DÅ[Arbetsdag/år],0)","v":0},{"$f":"IFERROR(Medel_T[[#This Row],[Dag sum]:[Dag sum]]*Medel_T[[#This Row],[ÅrSjuk]:[ÅrSjuk]]*Medel_T[[#This Row],[HöA T]]*DÅ[Arbetsdag/år],0)","v":0},{"$f":"IFERROR(Medel_T[[#This Row],[Dag sum]:[Dag sum]]*Medel_T[[#This Row],[ÅrSjuk]:[ÅrSjuk]]*Medel_T[[#This Row],[AöA T]]*DÅ[Arbetsdag/år],0)","v":0},{"$f":"IFERROR(Medel_T[[#This Row],[Dag sum]:[Dag sum]]*Medel_T[[#This Row],[ÅrSjuk]:[ÅrSjuk]]*Medel_T[[#This Row],[4AM T]]*DÅ[Arbetsdag/år],0)","v":0},{"$f":"IFERROR(Medel_T[[#This Row],[Dag sum]:[Dag sum]]*Medel_T[[#This Row],[ÅrSjuk]:[ÅrSjuk]]*Medel_T[[#This Row],[15AM T]]*DÅ[Arbetsdag/år],0)","v":0},{"$f":"IFERROR(Medel_T[[#This Row],[Dag sum]:[Dag sum]]*Medel_T[[#This Row],[ÅrSjuk]:[ÅrSjuk]]*Medel_T[[#This Row],[20-10D T]]*DÅ[Arbetsdag/år],0)","v":0},{"$f":"IFERROR(IF(Medel_T[[#This Row],[AöA T]]=0,\"\",List_T[List symb]&Exp_T[[#Headers],[Överarmslyft> 90°: ]]&IF(VALUE(TEXT(Medel_T[[#This Row],[AöA T]],\"t\"))>0,VALUE(TEXT(Medel_T[[#This Row],[AöA T]],\"t\"))&\" h\",\"\")&IF(AND(VALUE(TEXT(Medel_T[[#This Row],[AöA T]],\"t\"))>0,VALUE(TEXT(Medel_T[[#This Row],[AöA T]],\"m\"))>2.4),\" \",\"\")&IF(VALUE(TEXT(Medel_T[[#This Row],[AöA T]],\"m\"))>2.4,TEXT(ROUND(Medel_T[[#This Row],[AöA T]]*(24*60/5),0)/(24*60/5),\"m\")&\" min\",\"\")&\"/dag x \"&ROUND(Medel_T[[#This Row],[Dag sum]:[Dag sum]]*DÅ[Arbetsdag/år],0)&\" dagar x \"&ROUND(Medel_T[[#This Row],[År]:[År]],1)&\" år = \"&TEXT(ROUND(Medel_T[[#This Row],[D AöA§]]*24,1-(INT(LOG10(ABS(Medel_T[[#This Row],[D AöA§]]*24))))),\"0\"&IF(1-(INT(LOG10(ABS(Medel_T[[#This Row],[D AöA§]]*24))))>0,\",\"&REPT(\"0\",1-(INT(LOG10(ABS(Medel_T[[#This Row],[D AöA§]]*24))))),\"\"))& \" h\"),\"\")","v":""},{"$f":"IFERROR(IF(Medel_T[[#This Row],[15AM T]]=0,\"\",List_T[List symb]&Exp_T[[#Headers],[Överarmsrörelser> 15/min: ]]&IF(VALUE(TEXT(Medel_T[[#This Row],[15AM T]],\"t\"))>0,VALUE(TEXT(Medel_T[[#This Row],[15AM T]],\"t\"))&\" h\",\"\")&IF(AND(VALUE(TEXT(Medel_T[[#This Row],[15AM T]],\"t\"))>0,VALUE(TEXT(Medel_T[[#This Row],[15AM T]],\"m\"))>2.4),\" \",\"\")&IF(VALUE(TEXT(Medel_T[[#This Row],[15AM T]],\"m\"))>2.4,TEXT(ROUND(Medel_T[[#This Row],[15AM T]]*(24*60/5),0)/(24*60/5),\"m\")&\" min\",\"\")&\"/dag x \"&ROUND(Medel_T[[#This Row],[Dag sum]:[Dag sum]]*DÅ[Arbetsdag/år],0)&\" dagar x \"&ROUND(Medel_T[[#This Row],[År]:[År]],1)&\" år = \"&TEXT(ROUND(Medel_T[[#This Row],[D 15AM§]]*24,1-(INT(LOG10(ABS(Medel_T[[#This Row],[D 15AM§]]*24))))),\"0\"&IF(1-(INT(LOG10(ABS(Medel_T[[#This Row],[D 15AM§]]*24))))>0,\",\"&REPT(\"0\",1-(INT(LOG10(ABS(Medel_T[[#This Row],[D 15AM§]]*24))))),\"\"))& \" h\"),\"\")","v":""},{"$f":"IFERROR(IF(OR(LEN(Medel_T[[#This Row],[AöA text]])>0,LEN(Medel_T[[#This Row],[15AM Text]])>0),Exp_T[Anställning]&YEAR(Medel_T[[#This Row],[Start]])&List_T[[#Totals],[List symb]]&YEAR(Medel_T[[#This Row],[Slut]])&\" (\"&ROUND(Medel_T[[#This Row],[År]],1)&\" år)\"&IF(LEN(Medel_T[[#This Row],[AöA text]])>0,↓[↓],\"\")&Medel_T[[#This Row],[AöA text]]&IF(LEN(Medel_T[[#This Row],[15AM Text]])>0,↓[↓],\"\")&Medel_T[[#This Row],[15AM Text]],\"\"),\"\")","v":""},{"$f":"IFERROR(IF(Medel_T[[#This Row],[AöA T]]=0,\"\",List_T[List symb]&Exp_T[[#Headers],[Överarmsrörelser> 15/min: ]]&IF(VALUE(TEXT(Medel_T[[#This Row],[AöA T]],\"t\"))>0,VALUE(TEXT(Medel_T[[#This Row],[AöA T]],\"t\"))&\" h\",\"\")&IF(AND(VALUE(TEXT(Medel_T[[#This Row],[AöA T]],\"t\"))>0,VALUE(TEXT(Medel_T[[#This Row],[AöA T]],\"m\"))>2.4),\" \",\"\")&IF(VALUE(TEXT(Medel_T[[#This Row],[AöA T]],\"m\"))>2.4,TEXT(ROUND(Medel_T[[#This Row],[AöA T]]*(24*60/5),0)/(24*60/5),\"m\")&\" min\",\"\")&\"/dag x \"&ROUND(Medel_T[[#This Row],[Dag sum]:[Dag sum]]*DÅ[Arbetsdag/år],0)&\" dagar x \"&ROUND(Medel_T[[#This Row],[År]:[År]],1)&\" år = \"&TEXT(ROUND(Medel_T[[#This Row],[D AöA¤]]*24,1-(INT(LOG10(ABS(Medel_T[[#This Row],[D AöA¤]]*24))))),\"0\"&IF(1-(INT(LOG10(ABS(Medel_T[[#This Row],[D AöA¤]]*24))))>0,\",\"&REPT(\"0\",1-(INT(LOG10(ABS(Medel_T[[#This Row],[D AöA¤]]*24))))),\"\"))& \" h\"),\"\")","v":""},{"$f":"IFERROR(IF(Medel_T[[#This Row],[15AM T]]=0,\"\",List_T[List symb]&Exp_T[[#Headers],[Överarmslyft> 90°: ]]&IF(VALUE(TEXT(Medel_T[[#This Row],[15AM T]],\"t\"))>0,VALUE(TEXT(Medel_T[[#This Row],[15AM T]],\"t\"))&\" h\",\"\")&IF(AND(VALUE(TEXT(Medel_T[[#This Row],[15AM T]],\"t\"))>0,VALUE(TEXT(Medel_T[[#This Row],[15AM T]],\"m\"))>0),\" \",\"\")&IF(VALUE(TEXT(Medel_T[[#This Row],[15AM T]],\"m\"))>0,TEXT(ROUND(Medel_T[[#This Row],[15AM T]]*(24*60/5),0)/(24*60/5),\"m\")&\" min\",\"\")&\"/dag x \"&ROUND(Medel_T[[#This Row],[Dag sum]:[Dag sum]]*DÅ[Arbetsdag/år],0)&\" dagar x \"&ROUND(Medel_T[[#This Row],[År]:[År]],1)&\" år = \"&TEXT(ROUND(Medel_T[[#This Row],[D 15AM¤]]*24,1-(INT(LOG10(ABS(Medel_T[[#This Row],[D 15AM¤]]*24))))),\"0\"&IF(1-(INT(LOG10(ABS(Medel_T[[#This Row],[D 15AM¤]]*24))))>0,\",\"&REPT(\"0\",1-(INT(LOG10(ABS(Medel_T[[#This Row],[D 15AM¤]]*24))))),\"\"))& \" h\"),\"\")","v":""},{"$f":"IFERROR(IF(LEN(Medel_T[[#This Row],[SJDstart]])>0,Exp_T[Anställning]&↓[↓]&YEAR(Medel_T[[#This Row],[Start]])&List_T[[#Totals],[List symb]]&YEAR(Medel_T[[#This Row],[Slut]])&\" (\"&ROUND(Medel_T[[#This Row],[År]],1)&\" år)\"&IF(LEN(Medel_T[[#This Row],[AöA text Sjuk]])>0,↓[↓],\"\")&Medel_T[[#This Row],[AöA text Sjuk]]&IF(LEN(Medel_T[[#This Row],[15AM Text Sjuk]])>0,↓[↓],\"\")&Medel_T[[#This Row],[15AM Text Sjuk]],\"\"),\"\")","v":""},{"$f":"IFERROR(Medel_T[[#This Row],[Period ]]&Medel_T[[#This Row],[ArbMomText]]&Medel_T[[#This Row],[Text]],\"\")","v":""},{"$f":"IF(AND(DJ18>=MAX(Medel_T[NrX]),ISNUMBER(DJ18)),Medel_T[[#Totals],[NrX]]+ROW()-ROW(Medel_T[[#Headers],[Rad]])-Medel_T[[#Totals],[Ant]]-1,INDEX(Medel_T[NrX],MATCH(ROW()-ROW(Medel_T[[#Headers],[Rad]]),Medel_T[NrX],0)))","v":{"$error":"#N/A"}},{"$f":"IF(Medel_T[[#This Row],[Rad]]<=Medel_T[[#Totals],[Ant]],MATCH(Medel_T[[#This Row],[Rad]],Medel_T[NrX],0),IFERROR(INDEX(BD_TX[[#Data],[#Totals],[SJ]],MATCH(Medel_T[[#This Row],[Rad]],BD_TX[[#Data],[#Totals],[Nr]],0)),\"\"))","v":{"$error":"#N/A"}},{"$f":"LEN(Medel_T[[#This Row],[Yrke2]])-LEN(SUBSTITUTE(Medel_T[[#This Row],[Yrke2]],LEFT(Sep_T[Separator],1),\"\"))","v":0},{"$f":"INDEX(Medel_T[År],Medel_T[[#This Row],[Nr]])","v":{"$error":"#N/A"}},{"$f":"IFERROR(IF(LEN(Medel_T[[#This Row],[Nr]])>0,TEXT(IFERROR(INDEX(Medel_T[Start],Medel_T[[#This Row],[Nr]]),INDEX(BD_TX[[#Data],[#Totals],[Start]],MATCH(Medel_T[[#This Row],[Rad]],BD_TX[[#Data],[#Totals],[Nr]],0))),\"ÅÅÅÅ MMM\")&\"-\"&TEXT(IFERROR(INDEX(Medel_T[Slut],Medel_T[[#This Row],[Nr]]),INDEX(BD_TX[[#Data],[#Totals],[År]],MATCH(Medel_T[[#This Row],[Rad]],BD_TX[[#Data],[#Totals],[Nr]],0))),\"ÅÅÅÅ MMM\"),\"\"),\"\")","v":""},{"$f":"IFERROR(IF(LEN(Medel_T[[#This Row],[Nr]])>0,IF(Medel_T[[#This Row],[Rad]]>Medel_T[[#Totals],[Ant]],IFERROR(INDEX(BD_TX[[#Data],[#Totals],[Text]],MATCH(Medel_T[[#This Row],[Rad]],BD_TX[[#Data],[#Totals],[Nr]],0)),\"\"),INDEX(Medel_T[Yrke],Medel_T[[#This Row],[Nr]])),\"\"),\"\")","v":""},{"$f":"IFERROR(INDEX(Medel_T[Arbetsmoment],MATCH(ROW()-ROW(Medel_T[[#Headers],[Arbetsmoment2]]),Medel_T[[NrX]:[NrX]],0)),\"\")","v":""},{"$f":"IFERROR(INDEX(Medel_T[],Medel_T[[#This Row],[Nr]],Medel_T[[#Totals],[HöA_T]]),\"\")","v":""},{"$f":"IF(LEN(Medel_T[[#This Row],[Nr]:[Nr]])>0,IFERROR(TEXT(ROUND(24*IFERROR(INDEX(Medel_T[],Medel_T[[#This Row],[Nr]:[Nr]],Medel_T[[#Totals],[D HöA]]),INDEX(Sum_T[[#Data],[#Totals]],MATCH(Medel_T[[#This Row],[Nr]:[Nr]],Sum_T[[#Data],[#Totals],[Typ]:[Typ]],0),MATCH(Medel_T[[#Headers],[D HöA]],Sum_T[#Headers],0))),1-(INT(LOG10(ABS(24*IFERROR(INDEX(Medel_T[],Medel_T[[#This Row],[Nr]:[Nr]],Medel_T[[#Totals],[D HöA]]),INDEX(Sum_T[[#Data],[#Totals]],MATCH(Medel_T[[#This Row],[Nr]:[Nr]],Sum_T[[#Data],[#Totals],[Typ]:[Typ]],0),MATCH(Medel_T[[#Headers],[D HöA]],Sum_T[#Headers],0)))))))),\"0\"&IF(1-(INT(LOG10(ABS(24*IFERROR(INDEX(Medel_T[],Medel_T[[#This Row],[Nr]:[Nr]],Medel_T[[#Totals],[D HöA]]),INDEX(Sum_T[[#Data],[#Totals]],MATCH(Medel_T[[#This Row],[Nr]:[Nr]],Sum_T[[#Data],[#Totals],[Typ]:[Typ]],0),MATCH(Medel_T[[#Headers],[D HöA]],Sum_T[#Headers],0)))))))>0,\",\"&REPT(\"0\",1-(INT(LOG10(ABS(24*IFERROR(INDEX(Medel_T[],Medel_T[[#This Row],[Nr]:[Nr]],Medel_T[[#Totals],[D HöA]]),INDEX(Sum_T[[#Data],[#Totals]],MATCH(Medel_T[[#This Row],[Nr]:[Nr]],Sum_T[[#Data],[#Totals],[Typ]:[Typ]],0),MATCH(Medel_T[[#Headers],[D HöA]],Sum_T[#Headers],0)))))))),0)),0),\"\")","v":{"$error":"#N/A"}},{"$f":"IFERROR(INDEX(Medel_T[],Medel_T[[#This Row],[Nr]],Medel_T[[#Totals],[AÖA_T]]),\"\")","v":""},{"$f":"IFERROR(IF(LEN(Medel_T[[#This Row],[Nr]:[Nr]])>0,IFERROR(TEXT(ROUND(24*IFERROR(INDEX(Medel_T[],Medel_T[[#This Row],[Nr]:[Nr]],Medel_T[[#Totals],[D AöA]]),INDEX(Sum_T[[#Data],[#Totals]],MATCH(Medel_T[[#This Row],[Nr]:[Nr]],Sum_T[[#Data],[#Totals],[Typ]:[Typ]],0),MATCH(Medel_T[[#Headers],[D AöA]],Sum_T[#Headers],0))),1-(INT(LOG10(ABS(24*IFERROR(INDEX(Medel_T[],Medel_T[[#This Row],[Nr]:[Nr]],Medel_T[[#Totals],[D AöA]]),INDEX(Sum_T[[#Data],[#Totals]],MATCH(Medel_T[[#This Row],[Nr]:[Nr]],Sum_T[[#Data],[#Totals],[Typ]:[Typ]],0),MATCH(Medel_T[[#Headers],[D AöA]],Sum_T[#Headers],0)))))))),\"0\"&IF(1-(INT(LOG10(ABS(24*IFERROR(INDEX(Medel_T[],Medel_T[[#This Row],[Nr]:[Nr]],Medel_T[[#Totals],[D AöA]]),INDEX(Sum_T[[#Data],[#Totals]],MATCH(Medel_T[[#This Row],[Nr]:[Nr]],Sum_T[[#Data],[#Totals],[Typ]:[Typ]],0),MATCH(Medel_T[[#Headers],[D AöA]],Sum_T[#Headers],0)))))))>0,\",\"&REPT(\"0\",1-(INT(LOG10(ABS(24*IFERROR(INDEX(Medel_T[],Medel_T[[#This Row],[Nr]:[Nr]],Medel_T[[#Totals],[D AöA]]),INDEX(Sum_T[[#Data],[#Totals]],MATCH(Medel_T[[#This Row],[Nr]:[Nr]],Sum_T[[#Data],[#Totals],[Typ]:[Typ]],0),MATCH(Medel_T[[#Headers],[D AöA]],Sum_T[#Headers],0)))))))),0)),0),\"\"),\"\")","v":""},{"$f":"IFERROR(INDEX(Medel_T[],Medel_T[[#This Row],[Nr]],Medel_T[[#Totals],[4AM_T]]),\"\")","v":""},{"$f":"IF(LEN(Medel_T[[#This Row],[Nr]:[Nr]])>0,IFERROR(TEXT(ROUND(24*IFERROR(INDEX(Medel_T[],Medel_T[[#This Row],[Nr]:[Nr]],Medel_T[[#Totals],[D 4AM]]),INDEX(Sum_T[[#Data],[#Totals]],MATCH(Medel_T[[#This Row],[Nr]:[Nr]],Sum_T[[#Data],[#Totals],[Typ]:[Typ]],0),MATCH(Medel_T[[#Headers],[D 4AM]],Sum_T[#Headers],0))),1-(INT(LOG10(ABS(24*IFERROR(INDEX(Medel_T[],Medel_T[[#This Row],[Nr]:[Nr]],Medel_T[[#Totals],[D 4AM]]),INDEX(Sum_T[[#Data],[#Totals]],MATCH(Medel_T[[#This Row],[Nr]:[Nr]],Sum_T[[#Data],[#Totals],[Typ]:[Typ]],0),MATCH(Medel_T[[#Headers],[D 4AM]],Sum_T[#Headers],0)))))))),\"0\"&IF(1-(INT(LOG10(ABS(24*IFERROR(INDEX(Medel_T[],Medel_T[[#This Row],[Nr]:[Nr]],Medel_T[[#Totals],[D 4AM]]),INDEX(Sum_T[[#Data],[#Totals]],MATCH(Medel_T[[#This Row],[Nr]:[Nr]],Sum_T[[#Data],[#Totals],[Typ]:[Typ]],0),MATCH(Medel_T[[#Headers],[D 4AM]],Sum_T[#Headers],0)))))))>0,\",\"&REPT(\"0\",1-(INT(LOG10(ABS(24*IFERROR(INDEX(Medel_T[],Medel_T[[#This Row],[Nr]:[Nr]],Medel_T[[#Totals],[D 4AM]]),INDEX(Sum_T[[#Data],[#Totals]],MATCH(Medel_T[[#This Row],[Nr]:[Nr]],Sum_T[[#Data],[#Totals],[Typ]:[Typ]],0),MATCH(Medel_T[[#Headers],[D 4AM]],Sum_T[#Headers],0)))))))),0)),0),\"\")","v":{"$error":"#N/A"}},{"$f":"IFERROR(INDEX(Medel_T[],Medel_T[[#This Row],[Nr]],Medel_T[[#Totals],[15AM_T]]),\"\")","v":""},{"$f":"IFERROR(IF(LEN(Medel_T[[#This Row],[Nr]:[Nr]])>0,IFERROR(TEXT(ROUND(24*IFERROR(INDEX(Medel_T[],Medel_T[[#This Row],[Nr]:[Nr]],Medel_T[[#Totals],[D 15AM]]),INDEX(Sum_T[[#Data],[#Totals]],MATCH(Medel_T[[#This Row],[Nr]:[Nr]],Sum_T[[#Data],[#Totals],[Typ]:[Typ]],0),MATCH(Medel_T[[#Headers],[D 15AM]],Sum_T[#Headers],0))),1-(INT(LOG10(ABS(24*IFERROR(INDEX(Medel_T[],Medel_T[[#This Row],[Nr]:[Nr]],Medel_T[[#Totals],[D 15AM]]),INDEX(Sum_T[[#Data],[#Totals]],MATCH(Medel_T[[#This Row],[Nr]:[Nr]],Sum_T[[#Data],[#Totals],[Typ]:[Typ]],0),MATCH(Medel_T[[#Headers],[D 15AM]],Sum_T[#Headers],0)))))))),\"0\"&IF(1-(INT(LOG10(ABS(24*IFERROR(INDEX(Medel_T[],Medel_T[[#This Row],[Nr]:[Nr]],Medel_T[[#Totals],[D 15AM]]),INDEX(Sum_T[[#Data],[#Totals]],MATCH(Medel_T[[#This Row],[Nr]:[Nr]],Sum_T[[#Data],[#Totals],[Typ]:[Typ]],0),MATCH(Medel_T[[#Headers],[D 15AM]],Sum_T[#Headers],0)))))))>0,\",\"&REPT(\"0\",1-(INT(LOG10(ABS(24*IFERROR(INDEX(Medel_T[],Medel_T[[#This Row],[Nr]:[Nr]],Medel_T[[#Totals],[D 15AM]]),INDEX(Sum_T[[#Data],[#Totals]],MATCH(Medel_T[[#This Row],[Nr]:[Nr]],Sum_T[[#Data],[#Totals],[Typ]:[Typ]],0),MATCH(Medel_T[[#Headers],[D 15AM]],Sum_T[#Headers],0)))))))),0)),0),\"\"),\"\")","v":""},{"$f":"IFERROR(INDEX(Medel_T[],Medel_T[[#This Row],[Nr]],Medel_T[[#Totals],[20-10D_T]]),\"\")","v":""},{"$f":"IF(LEN(Medel_T[[#This Row],[Nr]:[Nr]])>0,IFERROR(TEXT(ROUND(24*IFERROR(INDEX(Medel_T[],Medel_T[[#This Row],[Nr]:[Nr]],Medel_T[[#Totals],[D 20-10D]]),INDEX(Sum_T[[#Data],[#Totals]],MATCH(Medel_T[[#This Row],[Nr]:[Nr]],Sum_T[[#Data],[#Totals],[Typ]:[Typ]],0),MATCH(Medel_T[[#Headers],[D 20-10D]],Sum_T[#Headers],0))),1-(INT(LOG10(ABS(24*IFERROR(INDEX(Medel_T[],Medel_T[[#This Row],[Nr]:[Nr]],Medel_T[[#Totals],[D 20-10D]]),INDEX(Sum_T[[#Data],[#Totals]],MATCH(Medel_T[[#This Row],[Nr]:[Nr]],Sum_T[[#Data],[#Totals],[Typ]:[Typ]],0),MATCH(Medel_T[[#Headers],[D 20-10D]],Sum_T[#Headers],0)))))))),\"0\"&IF(1-(INT(LOG10(ABS(24*IFERROR(INDEX(Medel_T[],Medel_T[[#This Row],[Nr]:[Nr]],Medel_T[[#Totals],[D 20-10D]]),INDEX(Sum_T[[#Data],[#Totals]],MATCH(Medel_T[[#This Row],[Nr]:[Nr]],Sum_T[[#Data],[#Totals],[Typ]:[Typ]],0),MATCH(Medel_T[[#Headers],[D 20-10D]],Sum_T[#Headers],0)))))))>0,\",\"&REPT(\"0\",1-(INT(LOG10(ABS(24*IFERROR(INDEX(Medel_T[],Medel_T[[#This Row],[Nr]:[Nr]],Medel_T[[#Totals],[D 20-10D]]),INDEX(Sum_T[[#Data],[#Totals]],MATCH(Medel_T[[#This Row],[Nr]:[Nr]],Sum_T[[#Data],[#Totals],[Typ]:[Typ]],0),MATCH(Medel_T[[#Headers],[D 20-10D]],Sum_T[#Headers],0)))))))),0)),0),\"\")","v":{"$error":"#N/A"}},null,{"$f":"IFERROR(INDEX(Hin_T[Nr],MATCH(SMALL(Hin_T[B-årX],ROW()-ROW(Hut_T[[#Headers],[Rad]])),Hin_T[B-årX],0)),IF(ROWS($EB$19:EB19)=1+COUNTIF(Hin_T[Start],\"*\"),Hin_T[[#Totals],[Dag]],IF(AND(ROWS($EB$19:EB19)=2+COUNTIF(Hin_T[Start],\"*\"),Hin_T[[#Totals],[Q%-]]>0),EB18+1,IF(AND(ROWS($EB$19:EB19)=3+COUNTIF(Hin_T[Start],\"*\"),Hin_T[[#Totals],[Q%-]]>1),EB18+1,IF(AND(ROWS($EB$19:EB19)=4+COUNTIF(Hin_T[Start],\"*\"),Hin_T[[#Totals],[Q%-]]>2),EB18+1,\"\")))))","v":23},{"$f":"IF(Hut_T[[#This Row],[Rad]]<Hin_T[[#Totals],[Dag]],ROWS($EB$19:EB19),IFERROR(INDEX(BD_TX[[#Data],[#Totals],[SJ]],MATCH(Hut_T[[#This Row],[Rad]],BD_TX[[#Data],[#Totals],[NrX]],0)),\"\"))","v":"TOT"},{"$f":"IF(ISNUMBER(Hut_T[[#This Row],[Datum-]]),TEXT(Hut_T[[#This Row],[Datum-]],\"ÅÅÅÅ MMM\")&\"-\"&TEXT(Hut_T[[#This Row],[Datum+]],\"ÅÅÅÅ MMM\"),\"\")","v":"1900 jan-1900 jan"},{"$f":"IF(ISNUMBER(Hut_T[[#This Row],[Nr]]),IF(INDEX(Hin_T[Yrke],Hut_T[[#This Row],[Rad]])>0,INDEX(Hin_T[Yrke],Hut_T[[#This Row],[Rad]]),\"\"),IFERROR(INDEX(BD_TX[[#Data],[#Totals],[Text]],MATCH(Hut_T[[#This Row],[Rad]],BD_TX[[#Data],[#Totals],[NrX]],0)),\"\"))","v":"Totalt antal timmar i arbetslivet"},{"$f":"IF(ISNUMBER(Hut_T[[#This Row],[Nr]]),IF(INDEX(Hin_T[Arbetsmoment],Hut_T[[#This Row],[Rad]])>0,INDEX(Hin_T[Arbetsmoment],Hut_T[[#This Row],[Rad]]),\"\"),\"\")","v":""},{"$f":"IFERROR(IF(INDEX(Hin_T[Yrke],Hut_T[[#This Row],[Rad]])>0,INDEX(Hin_T[Företag],Hut_T[[#This Row],[Rad]]),\"\"),\"\")","v":""},{"$f":"IFERROR(IF(INDEX(Hin_T[Dag],Hut_T[[#This Row],[Rad]])>0,INDEX(Hin_T[Dag],Hut_T[[#This Row],[Rad]])*DÅ[Arbetsdag/år],\"\"),\"\")","v":""},{"$f":"IF(AND(ISNUMBER(_xlfn.SINGLE(Hut_T[[#This Row],[Rad]:[Rad]])),IFERROR(_xlfn.SINGLE(INDEX(Hin_T[[#Data],[#Totals]],_xlfn.SINGLE(Hut_T[[#This Row],[Rad]:[Rad]]),MATCH(Hut_T[[#Headers],[D HöA]],Hin_T[#Headers],0))),\"\")),IFERROR(ROUND(_xlfn.SINGLE(INDEX(Hin_T[[#Data],[#Totals]],_xlfn.SINGLE(Hut_T[[#This Row],[Rad]:[Rad]])-IF(_xlfn.SINGLE(Hut_T[[#This Row],[Nr]:[Nr]])=_xlfn.SINGLE(#REF!),COUNT(Besvär_T[[Sjukdomsdebut]:[Sjukdomsdebut]]),0),MATCH(_xlfn.SINGLE(IF(_xlfn.SINGLE(Hut_T[[#This Row],[Nr]:[Nr]])=_xlfn.SINGLE(#REF!),#REF!,\"\"))&Hut_T[[#Headers],[D HöA]],Hin_T[#Headers],0))),0),\"\"),\"\")","v":""},{"$f":"IF(AND(ISNUMBER(Hut_T[[#This Row],[Rad]:[Rad]]),ISNUMBER(Hut_T[[#This Row],[D HöA]]),ISNUMBER(Hut_T[[#This Row],[Nr]:[Nr]])),IFERROR(ROUND(INDEX(Hin_T[[#Data],[#Totals]],Hut_T[[#This Row],[Rad]:[Rad]],MATCH(Hut_T[[#Headers],[HöA-A]],Hin_T[#Headers],0)),1-(INT(LOG10(INDEX(Hin_T[[#Data],[#Totals]],Hut_T[[#This Row],[Rad]:[Rad]],MATCH(Hut_T[[#Headers],[HöA-A]],Hin_T[#Headers],0)))))),1),\"\")","v":""},{"$f":"IF(AND(ISNUMBER(Hut_T[[#This Row],[Rad]:[Rad]]),IFERROR(INDEX(Hin_T[[#Data],[#Totals]],Hut_T[[#This Row],[Rad]:[Rad]],MATCH(Hut_T[[#Headers],[D AöA]],Hin_T[#Headers],0)),\"\")),IFERROR(ROUND(INDEX(Hin_T[[#Data],[#Totals]],Hut_T[[#This Row],[Rad]:[Rad]]-IF(Hut_T[[#This Row],[Nr]:[Nr]]=BD_TX[[SJ]:[SJ]],COUNT(Besvär_T[[Sjukdomsdebut]:[Sjukdomsdebut]]),0),MATCH(IF(Hut_T[[#This Row],[Nr]:[Nr]]=BD_TX[[#Totals],[SJ]:[SJ]],BD_TX[[#Headers],[SJ]],\"\")&Hut_T[[#Headers],[D AöA]],Hin_T[#Headers],0)),0),\"\"),\"\")","v":""},{"$f":"IF(AND(ISNUMBER(Hut_T[[#This Row],[Rad]:[Rad]]),ISNUMBER(Hut_T[[#This Row],[D AöA]]),ISNUMBER(Hut_T[[#This Row],[Nr]:[Nr]])),IFERROR(ROUND(INDEX(Hin_T[[#Data],[#Totals]],Hut_T[[#This Row],[Rad]:[Rad]],MATCH(Hut_T[[#Headers],[AöA-A]],Hin_T[#Headers],0)),1-(INT(LOG10(INDEX(Hin_T[[#Data],[#Totals]],Hut_T[[#This Row],[Rad]:[Rad]],MATCH(Hut_T[[#Headers],[AöA-A]],Hin_T[#Headers],0)))))),1),\"\")","v":""},{"$f":"IF(AND(ISNUMBER(_xlfn.SINGLE(Hut_T[[#This Row],[Rad]:[Rad]])),IFERROR(_xlfn.SINGLE(INDEX(Hin_T[[#Data],[#Totals]],_xlfn.SINGLE(Hut_T[[#This Row],[Rad]:[Rad]]),MATCH(Hut_T[[#Headers],[D 4AM]],Hin_T[#Headers],0))),\"\")),IFERROR(ROUND(_xlfn.SINGLE(INDEX(Hin_T[[#Data],[#Totals]],_xlfn.SINGLE(Hut_T[[#This Row],[Rad]:[Rad]])-IF(_xlfn.SINGLE(Hut_T[[#This Row],[Nr]:[Nr]])=_xlfn.SINGLE(#REF!),COUNT(Besvär_T[[Sjukdomsdebut]:[Sjukdomsdebut]]),0),MATCH(_xlfn.SINGLE(IF(_xlfn.SINGLE(Hut_T[[#This Row],[Nr]:[Nr]])=_xlfn.SINGLE(#REF!),#REF!,\"\"))&Hut_T[[#Headers],[D 4AM]],Hin_T[#Headers],0))),0),\"\"),\"\")","v":""},{"$f":"IF(AND(ISNUMBER(Hut_T[[#This Row],[Rad]:[Rad]]),ISNUMBER(Hut_T[[#This Row],[D 4AM]]),ISNUMBER(Hut_T[[#This Row],[Nr]:[Nr]])),IFERROR(ROUND(INDEX(Hin_T[[#Data],[#Totals]],Hut_T[[#This Row],[Rad]:[Rad]],MATCH(Hut_T[[#Headers],[4AM-A]],Hin_T[#Headers],0)),1-(INT(LOG10(INDEX(Hin_T[[#Data],[#Totals]],Hut_T[[#This Row],[Rad]:[Rad]],MATCH(Hut_T[[#Headers],[4AM-A]],Hin_T[#Headers],0)))))),1),\"\")","v":""},{"$f":"IF(AND(ISNUMBER(Hut_T[[#This Row],[Rad]:[Rad]]),IFERROR(INDEX(Hin_T[[#Data],[#Totals]],Hut_T[[#This Row],[Rad]:[Rad]],MATCH(Hut_T[[#Headers],[D 15AM]],Hin_T[#Headers],0)),\"\")),IFERROR(ROUND(INDEX(Hin_T[[#Data],[#Totals]],Hut_T[[#This Row],[Rad]:[Rad]]-IF(Hut_T[[#This Row],[Nr]:[Nr]]=BD_TX[[SJ]:[SJ]],COUNT(Besvär_T[[Sjukdomsdebut]:[Sjukdomsdebut]]),0),MATCH(IF(Hut_T[[#This Row],[Nr]:[Nr]]=BD_TX[[#Totals],[SJ]:[SJ]],BD_TX[[#Headers],[SJ]],\"\")&Hut_T[[#Headers],[D 15AM]],Hin_T[#Headers],0)),0),\"\"),\"\")","v":""},{"$f":"IF(AND(ISNUMBER(Hut_T[[#This Row],[Rad]:[Rad]]),ISNUMBER(Hut_T[[#This Row],[D 15AM]]),ISNUMBER(Hut_T[[#This Row],[Nr]:[Nr]])),IFERROR(ROUND(INDEX(Hin_T[[#Data],[#Totals]],Hut_T[[#This Row],[Rad]:[Rad]],MATCH(Hut_T[[#Headers],[15AM-A]],Hin_T[#Headers],0)),1-(INT(LOG10(INDEX(Hin_T[[#Data],[#Totals]],Hut_T[[#This Row],[Rad]:[Rad]],MATCH(Hut_T[[#Headers],[15AM-A]],Hin_T[#Headers],0)))))),1),\"\")","v":""},{"$f":"IF(AND(ISNUMBER(Hut_T[[#This Row],[Rad]:[Rad]]),IFERROR(INDEX(Hin_T[[#Data],[#Totals]],Hut_T[[#This Row],[Rad]:[Rad]],MATCH(Hut_T[[#Headers],[D 20-10D]],Hin_T[#Headers],0)),\"\")),IFERROR(ROUND(INDEX(Hin_T[[#Data],[#Totals]],Hut_T[[#This Row],[Rad]:[Rad]]-IF(Hut_T[[#This Row],[Nr]:[Nr]]=BD_TX[[SJ]:[SJ]],COUNT(Besvär_T[[Sjukdomsdebut]:[Sjukdomsdebut]]),0),MATCH(IF(Hut_T[[#This Row],[Nr]:[Nr]]=BD_TX[[#Totals],[SJ]:[SJ]],BD_TX[[#Headers],[SJ]],\"\")&Hut_T[[#Headers],[D 20-10D]],Hin_T[#Headers],0)),0),\"\"),\"\")","v":""},{"$f":"IF(AND(ISNUMBER(Hut_T[[#This Row],[Rad]:[Rad]]),ISNUMBER(Hut_T[[#This Row],[D 20-10D]]),ISNUMBER(Hut_T[[#This Row],[Nr]:[Nr]])),IFERROR(ROUND(INDEX(Hin_T[[#Data],[#Totals]],Hut_T[[#This Row],[Rad]:[Rad]],MATCH(Hut_T[[#Headers],[20-10D-A]],Hin_T[#Headers],0)),1-(INT(LOG10(INDEX(Hin_T[[#Data],[#Totals]],Hut_T[[#This Row],[Rad]:[Rad]],MATCH(Hut_T[[#Headers],[20-10D-A]],Hin_T[#Headers],0)))))),1),\"\")","v":""},null,{"$f":"IFERROR(INDEX(Hin_T[[#Data],[#Totals],[B-år]],Hut_T[[#This Row],[Rad]]),IF(ISNUMBER(Hut_T[[#This Row],[Datum+]]),ET18,\"\"))","v":"00:00:00"},{"$f":"IFERROR(INDEX(Hin_T[S-år],Hut_T[[#This Row],[Rad]]),IFERROR(INDEX(BD_TX[[#Data],[#Totals],[År]],MATCH(Hut_T[[#This Row],[Rad]],BD_TX[[#Data],[#Totals],[NrX]],0)),\"\"))","v":"00:00:00"},null,0,{"$f":"IFERROR(MATCH(Hist_Tab[[#This Row],[Ref]],Medel_T[NrX],0),1)","v":1},{"$f":"INT((ROW(Hist_Tab[[#This Row],[Ref]])-ROW(Hist_Tab[[#Headers],[Ref]])-1)/4)+1","v":1},{"$f":"COUNTIF($EY$19:EY19,Hist_Tab[[#This Row],[Ref]])","v":1},{"$f":"IFERROR(INDEX(Medel_T[Start],Hist_Tab[[#This Row],[Ref]]),_xlfn.AGGREGATE(4,6,Medel_T[Start]))","v":"00:00:00"},{"$f":"IFERROR(INDEX(Medel_T[Slut],Hist_Tab[[#This Row],[Ref]]),_xlfn.AGGREGATE(4,6,Medel_T[Slut]))","v":"00:00:00"},{"$f":"IF(EW18=0,Hist_Tab[[#This Row],[ÅrB]],IF(Hist_Tab[[#This Row],[per/p]]<2,Hist_Tab[[#This Row],[ÅrB]],Hist_Tab[[#This Row],[År S]]))","v":"00:00:00"},{"$f":"IF(Hist_Tab[[#This Row],[Rad]:[Rad]]=0,-1,IF($EY20>_xlfn.AGGREGATE(2,6,Medel_T[[Slut]:[Slut]]),0,INDEX(Medel_T[],Hist_Tab[[#This Row],[Ref]:[Ref]],MATCH(Hist_Tab[[#Headers],[HöA T]],Medel_T[#Headers],0))))","v":-1},{"$f":"IF(Hist_Tab[[#This Row],[Rad]:[Rad]]=0,0,IF($EY20>_xlfn.AGGREGATE(2,6,Medel_T[[Slut]:[Slut]]),0,INDEX(Medel_T[],Hist_Tab[[#This Row],[Ref]:[Ref]],MATCH(Hist_Tab[[#Headers],[AöA T]],Medel_T[#Headers],0))))","v":0},{"$f":"IF(Hist_Tab[[#This Row],[Rad]:[Rad]]=0,0,IF($EY20>_xlfn.AGGREGATE(2,6,Medel_T[[Slut]:[Slut]]),0,INDEX(Medel_T[],Hist_Tab[[#This Row],[Ref]:[Ref]],MATCH(Hist_Tab[[#Headers],[4AM T]],Medel_T[#Headers],0))))","v":0},{"$f":"IF(Hist_Tab[[#This Row],[Rad]:[Rad]]=0,0,IF($EY20>_xlfn.AGGREGATE(2,6,Medel_T[[Slut]:[Slut]]),0,INDEX(Medel_T[],Hist_Tab[[#This Row],[Ref]:[Ref]],MATCH(Hist_Tab[[#Headers],[15AM T]],Medel_T[#Headers],0))))","v":0},{"$f":"IF(Hist_Tab[[#This Row],[Rad]:[Rad]]=0,0,IF($EY20>_xlfn.AGGREGATE(2,6,Medel_T[[Slut]:[Slut]]),0,INDEX(Medel_T[],Hist_Tab[[#This Row],[Ref]:[Ref]],MATCH(Hist_Tab[[#Headers],[20-10D T]],Medel_T[#Headers],0))))","v":0}]
[null,null,null,null,null,null,null,null,null,null,null,null,null,null,null,null,null,null,{"$f":"IF(LEN(Hin_T[[#This Row],[Start]])>0,ROWS($S$19:S20),\"\")","v":""},null,{"$f":"Hin_T[[#This Row],[Yrke]]&IF(ISBLANK(Hin_T[[#This Row],[Arbetsmoment]]),\"\",\"; \"&Hin_T[[#This Row],[Arbetsmoment]])","v":""},{"$f":"IFERROR(IF(LEN(Hin_T[[#This Row],[Start]])-LEN(SUBSTITUTE(Hin_T[[#This Row],[Start]],\"-\",\"\"))=2,DATEVALUE(Hin_T[[#This Row],[Start]]),IF(LEN(Hin_T[[#This Row],[Start]])<5,DATEVALUE(Hin_T[[#This Row],[Start]]&\"-01-01\"),DATEVALUE(LEFT(Hin_T[[#This Row],[Start]],IF(LEN(Hin_T[[#This Row],[Start]])>6,4,2))&\"-\"&MID(Hin_T[[#This Row],[Start]],IF(LEN(Hin_T[[#This Row],[Start]])>6,5,3),2)&\"-\"&RIGHT(Hin_T[[#This Row],[Start]],2)))),\"\")","v":""},{"$f":"IFERROR(IF(LEN(Hin_T[[#This Row],[Slut]])-LEN(SUBSTITUTE(Hin_T[[#This Row],[Slut]],\"-\",\"\"))=2,DATEVALUE(Hin_T[[#This Row],[Slut]]),IF(LEN(Hin_T[[#This Row],[Slut]])<5,DATEVALUE(Hin_T[[#This Row],[Slut]]&\"-12-31\"),DATEVALUE(LEFT(Hin_T[[#This Row],[Slut]],IF(LEN(Hin_T[[#This Row],[Slut]])>6,4,2))&\"-\"&MID(Hin_T[[#This Row],[Slut]],IF(LEN(Hin_T[[#This Row],[Slut]])>6,5,3),2)&\"-\"&RIGHT(Hin_T[[#This Row],[Slut]],2)))),\"\")","v":""},{"$f":"IF(COUNTIF(V$19:V20,Hin_T[[#This Row],[B-år]])=1,Hin_T[[#This Row],[B-år]],\"\")","v":""},{"$f":"IF(COUNTIF(W$19:W20,Hin_T[[#This Row],[S-år]])=1,Hin_T[[#This Row],[S-år]],\"\")","v":""},{"$f":"IFERROR(Hin_T[[#This Row],[B-år]]+IF(COUNTIF($V$19:V20,Hin_T[[#This Row],[B-år]])>1,COUNTIF($V$19:V20,Hin_T[[#This Row],[B-år]])/10,0),\"\")","v":""},{"$f":"IF(ISNUMBER(Hin_T[[#This Row],[Dagar]]),Hin_T[[#This Row],[Dagar]]/DÅ[Arbetsdag/år],1)","v":1},{"$f":"Hin_T[[#This Row],[Dag]]*DÅ[Arbetsdag/år]","v":220},{"$f":"IF(LEN(Hin_T[[#This Row],[Yrke]])=4,1,0)","v":0},{"$f":"_xlfn.DAYS(Hin_T[[#This Row],[B-år]],DATE(YEAR(Hin_T[[#This Row],[B-år]]),1,1))/(DATE(YEAR(Hin_T[[#This Row],[B-år]])+1,1,1)-DATE(YEAR(Hin_T[[#This Row],[B-år]]),1,1))","v":{"$error":"#VALUE!"}},{"$f":"_xlfn.DAYS(DATE(YEAR(Hin_T[[#This Row],[S-år]]),12,31),Hin_T[[#This Row],[S-år]])/(DATE(YEAR(Hin_T[[#This Row],[S-år]])+1,1,1)-DATE(YEAR(Hin_T[[#This Row],[S-år]]),1,1))","v":{"$error":"#VALUE!"}},{"$f":"YEARFRAC(Hin_T[[#This Row],[S-år]],Hin_T[[#This Row],[B-år]])*Hin_T[[#This Row],[Dag]]","v":{"$error":"#VALUE!"}},{"$f":"IFERROR(Hin_T[[#This Row],[År diff]]*IF(ISNUMBER(Hin_T[[#This Row],[HöA]]),1,0),0)","v":0},{"$f":"IFERROR(Hin_T[[#This Row],[År diff]]*IF(ISNUMBER(Hin_T[[#This Row],[AöA]]),1,0),0)","v":0},{"$f":"IF(Hin_T[[#This Row],[B-år]]<=Besvär_T[[#Totals],[Sjukdomsdebut]],Hin_T[[#This Row],[B-år]],\"\")","v":""},{"$f":"IF(Hin_T[[#This Row],[S-år]]<=Besvär_T[[#Totals],[Sjukdomsdebut]],Hin_T[[#This Row],[S-år]],\"\")","v":""},{"$f":"IFERROR(YEARFRAC(IF(AND(ISNUMBER(Hin_T[[#This Row],[B-år EA]]),LEN(Hin_T[[#This Row],[S-år EA]])=0),Hin_T[[#Totals],[15AM-A]],Hin_T[[#This Row],[S-år EA]]),Hin_T[[#This Row],[B-år EA]])*Hin_T[[#This Row],[Dag]]*IF(ISNUMBER(Hin_T[[#This Row],[HöA]]),1,0),0)","v":0},{"$f":"IFERROR(YEARFRAC(IF(AND(ISNUMBER(Hin_T[[#This Row],[B-år EA]]),LEN(Hin_T[[#This Row],[S-år EA]])=0),Hin_T[[#Totals],[15AM-A]],Hin_T[[#This Row],[S-år EA]]),Hin_T[[#This Row],[B-år EA]])*Hin_T[[#This Row],[Dag]]*IF(ISNUMBER(Hin_T[[#This Row],[AöA]]),1,0),0)","v":0},{"$f":"IFERROR(Hin_T[[#This Row],[År diff]]*IF(ISNUMBER(Hin_T[[#This Row],[4AM]]),1,0),0)","v":0},{"$f":"IFERROR(Hin_T[[#This Row],[År diff]]*IF(ISNUMBER(Hin_T[[#This Row],[15AM]]),1,0),0)","v":0},{"$f":"IF(Hin_T[[#This Row],[B-år]]<=Besvär_T[[#Totals],[Sjukdomsdebut]],Hin_T[[#This Row],[B-år]],\"\")","v":""},{"$f":"IF(Hin_T[[#This Row],[S-år]]<=Besvär_T[[#Totals],[Sjukdomsdebut]],Hin_T[[#This Row],[S-år]],\"\")","v":""},{"$f":"IFERROR(YEARFRAC(IF(AND(ISNUMBER(Hin_T[[#This Row],[B-år RA]]),LEN(Hin_T[[#This Row],[S-år RA]])=0),Hin_T[[#Totals],[15AM-A]],Hin_T[[#This Row],[S-år RA]]),Hin_T[[#This Row],[B-år RA]])*Hin_T[[#This Row],[Dag]]*IF(ISNUMBER(Hin_T[[#This Row],[4AM]]),1,0),0)","v":0},{"$f":"IFERROR(YEARFRAC(IF(AND(ISNUMBER(Hin_T[[#This Row],[B-år RA]]),LEN(Hin_T[[#This Row],[S-år RA]])=0),Hin_T[[#Totals],[15AM-A]],Hin_T[[#This Row],[S-år RA]]),Hin_T[[#This Row],[B-år RA]])*Hin_T[[#This Row],[Dag]]*IF(ISNUMBER(Hin_T[[#This Row],[15AM]]),1,0),0)","v":0},{"$f":"IFERROR(Hin_T[[#This Row],[År diff]]*IF(ISNUMBER(Hin_T[[#This Row],[20-10D]]),1,0),0)","v":0},{"$f":"IF(Hin_T[[#This Row],[B-år]]<=Besvär_T[[#Totals],[Sjukdomsdebut]],Hin_T[[#This Row],[B-år]],\"\")","v":""},{"$f":"IF(Hin_T[[#This Row],[S-år]]<=Besvär_T[[#Totals],[Sjukdomsdebut]],Hin_T[[#This Row],[S-år]],\"\")","v":""},{"$f":"IFERROR(YEARFRAC(IF(AND(ISNUMBER(Hin_T[[#This Row],[B-år TMH]]),LEN(Hin_T[[#This Row],[S-år TMH]])=0),Hin_T[[#Totals],[15AM-A]],Hin_T[[#This Row],[S-år TMH]]),Hin_T[[#This Row],[B-år TMH]])*Hin_T[[#This Row],[Dag]]*IF(ISNUMBER(Hin_T[[#This Row],[20-10D]]),1,0),0)","v":0},{"$f":"IF(Hin_T[[#This Row],[Vib]]=JN_T[JN],1,0)","v":0},{"$f":"IFERROR(Hin_T[[#This Row],[År diff]]*IF(Hin_T[[#This Row],[Vib2]]>0,1,0),0)","v":0},{"$f":"IF(Hin_T[[#This Row],[B-år]]<=Besvär_T[[#Totals],[Sjukdomsdebut]],Hin_T[[#This Row],[B-år]],\"\")","v":""},{"$f":"IF(Hin_T[[#This Row],[S-år]]<=Besvär_T[[#Totals],[Sjukdomsdebut]],Hin_T[[#This Row],[S-år]],\"\")","v":""},{"$f":"IFERROR(YEARFRAC(IF(AND(ISNUMBER(Hin_T[[#This Row],[B-år VIB]]),LEN(Hin_T[[#This Row],[S-år Vib]])=0),Hin_T[[#Totals],[15AM-A]],Hin_T[[#This Row],[S-år Vib]]),Hin_T[[#This Row],[B-år VIB]])*IF(Hin_T[[#This Row],[Vib2]]>0,1,0),0)","v":0},{"$f":"Hin_T[[#This Row],[HöA]]*Hin_T[[#This Row],[tot år HöA]]*DÅ[Arbetsdag/år]","v":0},{"$f":"Hin_T[[#This Row],[tot år AöA]]*Hin_T[[#This Row],[AöA]]*DÅ[Arbetsdag/år]","v":0},{"$f":"Hin_T[[#This Row],[tot år 4AM]]*Hin_T[[#This Row],[4AM]]*DÅ[Arbetsdag/år]","v":0},{"$f":"Hin_T[[#This Row],[tot år 15AM]]*Hin_T[[#This Row],[15AM]]*DÅ[Arbetsdag/år]","v":0},{"$f":"Hin_T[[#This Row],[tot år 20-10D]]*Hin_T[[#This Row],[20-10D]]*DÅ[Arbetsdag/år]","v":0},{"$f":"Hin_T[[#This Row],[BD år HöA]]*Hin_T[[#This Row],[HöA]]*DÅ[Arbetsdag/år]","v":0},{"$f":"Hin_T[[#This Row],[BD år AöA]]*Hin_T[[#This Row],[AöA]]*DÅ[Arbetsdag/år]","v":0},{"$f":"Hin_T[[#This Row],[BD år 4AM]]*Hin_T[[#This Row],[4AM]]*DÅ[Arbetsdag/år]","v":0},{"$f":"Hin_T[[#This Row],[BD år 15AM]]*Hin_T[[#This Row],[15AM]]*DÅ[Arbetsdag/år]","v":0},{"$f":"Hin_T[[#This Row],[BD år 20-10D]]*Hin_T[[#This Row],[20-10D]]*DÅ[Arbetsdag/år]","v":0},{"$f":"Hin_T[[#This Row],[Arbetsmoment]]&Hin_T[[#This Row],[Text AöA]]&Hin_T[[#This Row],[Text 15AM]]&IF(Hin_T[[#This Row],[Dagarna]]=DÅ[Arbetsdag/år],\"\",\". \"&Hin_T[[#This Row],[Dagarna]]&\" dagar/år\")&\". \"","v":". "},{"$f":"IF(ISBLANK(Hin_T[[#This Row],[AöA]]),\"\",Exp_T[Överarmslyft> 90°: ]&IF(VALUE(TEXT(Hin_T[[#This Row],[AöA]],\"t\"))>0,VALUE(TEXT(Hin_T[[#This Row],[AöA]],\"t\"))&\" h\",\"\")&IF(AND(VALUE(TEXT(Hin_T[[#This Row],[AöA]],\"t\"))>0,VALUE(TEXT(Hin_T[[#This Row],[AöA]],\"m\"))>2.4),\" \",\"\")&IF(VALUE(TEXT(Hin_T[[#This Row],[AöA]],\"m\"))>2.4,TEXT(ROUND(Hin_T[[#This Row],[AöA]]*(24*60/5),0)/(24*60/5),\"m\")&\" min\",\"\")&\"/dag\")","v":""},{"$f":"IF(ISBLANK(Hin_T[[#This Row],[15AM]]),\"\",Exp_T[Överarmsrörelser> 15/min: ]&IF(VALUE(TEXT(Hin_T[[#This Row],[15AM]],\"t\"))>0,VALUE(TEXT(Hin_T[[#This Row],[15AM]],\"t\"))&\" h\",\"\")&IF(AND(VALUE(TEXT(Hin_T[[#This Row],[15AM]],\"t\"))>0,VALUE(TEXT(Hin_T[[#This Row],[15AM]],\"m\"))>2.4),\" \",\"\")&IF(VALUE(TEXT(Hin_T[[#This Row],[15AM]],\"m\"))>2.4,TEXT(ROUND(Hin_T[[#This Row],[15AM]]*(24*60/5),0)/(24*60/5),\"m\")&\" min\",\"\")&\"/dag\")","v":""},null,null,null,null,{"$f":"SMALL(Hin_T[[StartÅR]:[SlutÅr]],ROW()-ROW(Medel_T[[#Headers],[Start]]))","v":{"$error":"#NUM!"}},{"$f":"SMALL(Hin_T[[StartÅR]:[SlutÅr]],ROW()-ROW(Medel_T[[#Headers],[Slut]])+1)","v":{"$error":"#NUM!"}},{"$f":"IF(Medel_T[[#This Row],[Start]]<=Besvär_T[[#Totals],[Sjukdomsdebut]],Medel_T[[#This Row],[Start]],\"\")","v":{"$error":"#NUM!"}},{"$f":"IF(Medel_T[[#This Row],[Slut]]<=Besvär_T[[#Totals],[Sjukdomsdebut]],Medel_T[[#This Row],[Slut]],IF(AND(LEN(Medel_T[[#This Row],[SJDstart]])>0,LEN(BU21)=0),Besvär_T[[#Totals],[Sjukdomsdebut]],\"\"))","v":{"$error":"#NUM!"}},{"$f":"IF(Medel_T[[#This Row],[Start]]>=Besvär_T[[#Totals],[Sjukdomsdebut]],Medel_T[[#This Row],[Start]],IF(AND(LEN(Medel_T[[#This Row],[EfterSlut]])>0,LEN(BX19)=0),Besvär_T[[#Totals],[Sjukdomsdebut]],\"\"))","v":{"$error":"#NUM!"}},{"$f":"IF(Medel_T[[#This Row],[Slut]]>=Besvär_T[[#Totals],[Sjukdomsdebut]],Medel_T[[#This Row],[Slut]],\"\")","v":{"$error":"#NUM!"}},{"$f":"COUNTIF($BZ$19:BZ20,\">0\")","v":0},{"$f":"COUNTIFS(Hin_T[B-år],\"<=\"&Medel_T[[#This Row],[Start]],Hin_T[S-år],\">=\"&Medel_T[[#This Row],[Slut]])","v":0},{"$f":"SUBSTITUTE(_xlfn.TEXTJOIN(Sep_T[Separator],TRUE,_xlfn._xlws.SORT(_xlfn.UNIQUE(IF((Hin_T[[B-år]:[B-år]]<=Medel_T[[#This Row],[Start]:[Start]])*(Hin_T[[S-år]:[S-år]]>=Medel_T[[#This Row],[Slut]:[Slut]]),Hin_T[Yrke],\"\")))),0&Sep_T[Separator],\"\")","v":{"$error":"#NUM!"}},{"$f":"SUBSTITUTE(_xlfn.TEXTJOIN(Sep_T[Separator],TRUE,_xlfn._xlws.SORT(_xlfn.UNIQUE(IF((Hin_T[[B-år]:[B-år]]<=Medel_T[[#This Row],[Start]:[Start]])*(Hin_T[[S-år]:[S-år]]>=Medel_T[[#This Row],[Slut]:[Slut]]),Hin_T[Arbetsmoment],\"\")))),0&Sep_T[Separator],\"\")","v":{"$error":"#NUM!"}},{"$f":"IF(LEN(Medel_T[[#This Row],[Yrke]])>0,Medel_T[[#Headers],[Period ]]&Medel_T[[#This Row],[NrX]]&\": \"&TEXT(Medel_T[[#This Row],[Start]],\"ÅÅÅÅ\")&List_T[[#Totals],[List symb]]&TEXT(Medel_T[[#This Row],[Slut]],\"ÅÅÅÅ\")&\" (\"&ROUND(Medel_T[[#This Row],[År]],1)&\" år) Anställd som \"&IFERROR(SUBSTITUTE(SUBSTITUTE(Medel_T[[#This Row],[Yrke]],Sep_T[Separator],\" och \",Medel_T[[#This Row],[Ant]]-1),Sep_T[Separator],\", \"),Medel_T[[#This Row],[Yrke]])&↓[↓],\"\")","v":{"$error":"#NUM!"}},{"$f":"IF(LEN(Medel_T[[#This Row],[Arbetsmoment]])>0,ROMAN(1)&\") \"&_xlfn.TEXTJOIN(Delim[Delimiters],TRUE,_xlfn._xlws.SORT(_xlfn.UNIQUE(IF((Hin_T[[B-år]:[B-år]]<=Medel_T[[#This Row],[Start]:[Start]])*(Hin_T[[S-år]:[S-år]]>=Medel_T[[#This Row],[Slut]:[Slut]]),Hin_T[Text],\"\"))))&↓[↓],\"\")","v":{"$error":"#NUM!"}},{"$f":"SUMPRODUCT((Hin_T[[B-år]:[B-år]]<=Medel_T[[#This Row],[Start]:[Start]])*(Hin_T[[S-år]:[S-år]]>=Medel_T[[#This Row],[Slut]:[Slut]])*Hin_T[Dag])","v":{"$error":"#NUM!"}},{"$f":"IF(Medel_T[[#This Row],[Proc dag]]<=1,Medel_T[[#This Row],[Proc dag]],1)","v":{"$error":"#NUM!"}},{"$f":"YEARFRAC(Medel_T[[#This Row],[Slut]],Medel_T[[#This Row],[Start]])","v":{"$error":"#NUM!"}},{"$f":"YEARFRAC(Medel_T[[#This Row],[SJDslut]],Medel_T[[#This Row],[SJDstart]])","v":{"$error":"#NUM!"}},{"$f":"IFERROR(SUMPRODUCT((Hin_T[[B-år]:[B-år]]<=Medel_T[[#This Row],[Start]:[Start]])*(Hin_T[[S-år]:[S-år]]>=Medel_T[[#This Row],[Slut]:[Slut]])*Hin_T[HöA]*Hin_T[[Dag]:[Dag]])/Medel_T[[#This Row],[Proc dag]],-1)","v":-1},{"$f":"IFERROR(SUMPRODUCT((Hin_T[[B-år]:[B-år]]<=Medel_T[[#This Row],[Start]:[Start]])*(Hin_T[[S-år]:[S-år]]>=Medel_T[[#This Row],[Slut]:[Slut]])*Hin_T[AöA]*Hin_T[[Dag]:[Dag]])/Medel_T[[#This Row],[Proc dag]],-1)","v":-1},{"$f":"IFERROR(SUMPRODUCT((Hin_T[[B-år]:[B-år]]<=Medel_T[[#This Row],[Start]:[Start]])*(Hin_T[[S-år]:[S-år]]>=Medel_T[[#This Row],[Slut]:[Slut]])*Hin_T[4AM]*Hin_T[[Dag]:[Dag]])/Medel_T[[#This Row],[Proc dag]],-1)","v":-1},{"$f":"IFERROR(SUMPRODUCT((Hin_T[[B-år]:[B-år]]<=Medel_T[[#This Row],[Start]:[Start]])*(Hin_T[[S-år]:[S-år]]>=Medel_T[[#This Row],[Slut]:[Slut]])*Hin_T[15AM]*Hin_T[[Dag]:[Dag]])/Medel_T[[#This Row],[Proc dag]],-1)","v":-1},{"$f":"IFERROR(SUMPRODUCT((Hin_T[[B-år]:[B-år]]<=Medel_T[[#This Row],[Start]:[Start]])*(Hin_T[[S-år]:[S-år]]>=Medel_T[[#This Row],[Slut]:[Slut]])*Hin_T[20-10D]*Hin_T[[Dag]:[Dag]])/Medel_T[[#This Row],[Proc dag]],-1)","v":-1},{"$f":"IFERROR(SUMPRODUCT((Hin_T[[B-år]:[B-år]]<=Medel_T[[#This Row],[Start]:[Start]])*(Hin_T[[S-år]:[S-år]]>=Medel_T[[#This Row],[Slut]:[Slut]])*Hin_T[[Dag]:[Dag]]*Hin_T[HöA])/Medel_T[[#This Row],[Dag sum]],-1)","v":-1},{"$f":"IFERROR(SUMPRODUCT((Hin_T[[B-år]:[B-år]]<=Medel_T[[#This Row],[Start]:[Start]])*(Hin_T[[S-år]:[S-år]]>=Medel_T[[#This Row],[Slut]:[Slut]])*Hin_T[[Dag]:[Dag]]*Hin_T[AöA])/Medel_T[[#This Row],[Dag sum]],-1)","v":-1},{"$f":"IFERROR(SUMPRODUCT((Hin_T[[B-år]:[B-år]]<=Medel_T[[#This Row],[Start]:[Start]])*(Hin_T[[S-år]:[S-år]]>=Medel_T[[#This Row],[Slut]:[Slut]])*Hin_T[[Dag]:[Dag]]*Hin_T[4AM])/Medel_T[[#This Row],[Dag sum]],-1)","v":-1},{"$f":"IFERROR(SUMPRODUCT((Hin_T[[B-år]:[B-år]]<=Medel_T[[#This Row],[Start]:[Start]])*(Hin_T[[S-år]:[S-år]]>=Medel_T[[#This Row],[Slut]:[Slut]])*Hin_T[15AM]*Hin_T[[Dag]:[Dag]])/Medel_T[[#This Row],[Dag sum]],-1)","v":-1},{"$f":"IFERROR(SUMPRODUCT((Hin_T[[B-år]:[B-år]]<=Medel_T[[#This Row],[Start]:[Start]])*(Hin_T[[S-år]:[S-år]]>=Medel_T[[#This Row],[Slut]:[Slut]])*Hin_T[[Dag]:[Dag]]*Hin_T[20-10D])/Medel_T[[#This Row],[Dag sum]],-1)","v":-1},{"$f":"IFERROR(Medel_T[[#This Row],[Dag sum]:[Dag sum]]*Medel_T[[#This Row],[År]:[År]]*Medel_T[[#This Row],[HöA T]]*DÅ[Arbetsdag/år],0)","v":0},{"$f":"IFERROR(Medel_T[[#This Row],[Dag sum]:[Dag sum]]*Medel_T[[#This Row],[År]:[År]]*Medel_T[[#This Row],[AöA T]]*DÅ[Arbetsdag/år],0)","v":0},{"$f":"IFERROR(Medel_T[[#This Row],[Dag sum]:[Dag sum]]*Medel_T[[#This Row],[År]:[År]]*Medel_T[[#This Row],[4AM T]]*DÅ[Arbetsdag/år],0)","v":0},{"$f":"IFERROR(Medel_T[[#This Row],[Dag sum]:[Dag sum]]*Medel_T[[#This Row],[År]:[År]]*Medel_T[[#This Row],[15AM T]]*DÅ[Arbetsdag/år],0)","v":0},{"$f":"IFERROR(Medel_T[[#This Row],[Dag sum]:[Dag sum]]*Medel_T[[#This Row],[År]:[År]]*Medel_T[[#This Row],[20-10D T]]*DÅ[Arbetsdag/år],0)","v":0},{"$f":"IFERROR(Medel_T[[#This Row],[Dag sum]:[Dag sum]]*Medel_T[[#This Row],[ÅrSjuk]:[ÅrSjuk]]*Medel_T[[#This Row],[HöA T]]*DÅ[Arbetsdag/år],0)","v":0},{"$f":"IFERROR(Medel_T[[#This Row],[Dag sum]:[Dag sum]]*Medel_T[[#This Row],[ÅrSjuk]:[ÅrSjuk]]*Medel_T[[#This Row],[AöA T]]*DÅ[Arbetsdag/år],0)","v":0},{"$f":"IFERROR(Medel_T[[#This Row],[Dag sum]:[Dag sum]]*Medel_T[[#This Row],[ÅrSjuk]:[ÅrSjuk]]*Medel_T[[#This Row],[4AM T]]*DÅ[Arbetsdag/år],0)","v":0},{"$f":"IFERROR(Medel_T[[#This Row],[Dag sum]:[Dag sum]]*Medel_T[[#This Row],[ÅrSjuk]:[ÅrSjuk]]*Medel_T[[#This Row],[15AM T]]*DÅ[Arbetsdag/år],0)","v":0},{"$f":"IFERROR(Medel_T[[#This Row],[Dag sum]:[Dag sum]]*Medel_T[[#This Row],[ÅrSjuk]:[ÅrSjuk]]*Medel_T[[#This Row],[20-10D T]]*DÅ[Arbetsdag/år],0)","v":0},{"$f":"IFERROR(IF(Medel_T[[#This Row],[AöA T]]=0,\"\",List_T[List symb]&Exp_T[[#Headers],[Överarmslyft> 90°: ]]&IF(VALUE(TEXT(Medel_T[[#This Row],[AöA T]],\"t\"))>0,VALUE(TEXT(Medel_T[[#This Row],[AöA T]],\"t\"))&\" h\",\"\")&IF(AND(VALUE(TEXT(Medel_T[[#This Row],[AöA T]],\"t\"))>0,VALUE(TEXT(Medel_T[[#This Row],[AöA T]],\"m\"))>2.4),\" \",\"\")&IF(VALUE(TEXT(Medel_T[[#This Row],[AöA T]],\"m\"))>2.4,TEXT(ROUND(Medel_T[[#This Row],[AöA T]]*(24*60/5),0)/(24*60/5),\"m\")&\" min\",\"\")&\"/dag x \"&ROUND(Medel_T[[#This Row],[Dag sum]:[Dag sum]]*DÅ[Arbetsdag/år],0)&\" dagar x \"&ROUND(Medel_T[[#This Row],[År]:[År]],1)&\" år = \"&TEXT(ROUND(Medel_T[[#This Row],[D AöA§]]*24,1-(INT(LOG10(ABS(Medel_T[[#This Row],[D AöA§]]*24))))),\"0\"&IF(1-(INT(LOG10(ABS(Medel_T[[#This Row],[D AöA§]]*24))))>0,\",\"&REPT(\"0\",1-(INT(LOG10(ABS(Medel_T[[#This Row],[D AöA§]]*24))))),\"\"))& \" h\"),\"\")","v":""},{"$f":"IFERROR(IF(Medel_T[[#This Row],[15AM T]]=0,\"\",List_T[List symb]&Exp_T[[#Headers],[Överarmsrörelser> 15/min: ]]&IF(VALUE(TEXT(Medel_T[[#This Row],[15AM T]],\"t\"))>0,VALUE(TEXT(Medel_T[[#This Row],[15AM T]],\"t\"))&\" h\",\"\")&IF(AND(VALUE(TEXT(Medel_T[[#This Row],[15AM T]],\"t\"))>0,VALUE(TEXT(Medel_T[[#This Row],[15AM T]],\"m\"))>2.4),\" \",\"\")&IF(VALUE(TEXT(Medel_T[[#This Row],[15AM T]],\"m\"))>2.4,TEXT(ROUND(Medel_T[[#This Row],[15AM T]]*(24*60/5),0)/(24*60/5),\"m\")&\" min\",\"\")&\"/dag x \"&ROUND(Medel_T[[#This Row],[Dag sum]:[Dag sum]]*DÅ[Arbetsdag/år],0)&\" dagar x \"&ROUND(Medel_T[[#This Row],[År]:[År]],1)&\" år = \"&TEXT(ROUND(Medel_T[[#This Row],[D 15AM§]]*24,1-(INT(LOG10(ABS(Medel_T[[#This Row],[D 15AM§]]*24))))),\"0\"&IF(1-(INT(LOG10(ABS(Medel_T[[#This Row],[D 15AM§]]*24))))>0,\",\"&REPT(\"0\",1-(INT(LOG10(ABS(Medel_T[[#This Row],[D 15AM§]]*24))))),\"\"))& \" h\"),\"\")","v":""},{"$f":"IFERROR(IF(OR(LEN(Medel_T[[#This Row],[AöA text]])>0,LEN(Medel_T[[#This Row],[15AM Text]])>0),Exp_T[Anställning]&YEAR(Medel_T[[#This Row],[Start]])&List_T[[#Totals],[List symb]]&YEAR(Medel_T[[#This Row],[Slut]])&\" (\"&ROUND(Medel_T[[#This Row],[År]],1)&\" år)\"&IF(LEN(Medel_T[[#This Row],[AöA text]])>0,↓[↓],\"\")&Medel_T[[#This Row],[AöA text]]&IF(LEN(Medel_T[[#This Row],[15AM Text]])>0,↓[↓],\"\")&Medel_T[[#This Row],[15AM Text]],\"\"),\"\")","v":""},{"$f":"IFERROR(IF(Medel_T[[#This Row],[AöA T]]=0,\"\",List_T[List symb]&Exp_T[[#Headers],[Överarmsrörelser> 15/min: ]]&IF(VALUE(TEXT(Medel_T[[#This Row],[AöA T]],\"t\"))>0,VALUE(TEXT(Medel_T[[#This Row],[AöA T]],\"t\"))&\" h\",\"\")&IF(AND(VALUE(TEXT(Medel_T[[#This Row],[AöA T]],\"t\"))>0,VALUE(TEXT(Medel_T[[#This Row],[AöA T]],\"m\"))>2.4),\" \",\"\")&IF(VALUE(TEXT(Medel_T[[#This Row],[AöA T]],\"m\"))>2.4,TEXT(ROUND(Medel_T[[#This Row],[AöA T]]*(24*60/5),0)/(24*60/5),\"m\")&\" min\",\"\")&\"/dag x \"&ROUND(Medel_T[[#This Row],[Dag sum]:[Dag sum]]*DÅ[Arbetsdag/år],0)&\" dagar x \"&ROUND(Medel_T[[#This Row],[År]:[År]],1)&\" år = \"&TEXT(ROUND(Medel_T[[#This Row],[D AöA¤]]*24,1-(INT(LOG10(ABS(Medel_T[[#This Row],[D AöA¤]]*24))))),\"0\"&IF(1-(INT(LOG10(ABS(Medel_T[[#This Row],[D AöA¤]]*24))))>0,\",\"&REPT(\"0\",1-(INT(LOG10(ABS(Medel_T[[#This Row],[D AöA¤]]*24))))),\"\"))& \" h\"),\"\")","v":""},{"$f":"IFERROR(IF(Medel_T[[#This Row],[15AM T]]=0,\"\",List_T[List symb]&Exp_T[[#Headers],[Överarmslyft> 90°: ]]&IF(VALUE(TEXT(Medel_T[[#This Row],[15AM T]],\"t\"))>0,VALUE(TEXT(Medel_T[[#This Row],[15AM T]],\"t\"))&\" h\",\"\")&IF(AND(VALUE(TEXT(Medel_T[[#This Row],[15AM T]],\"t\"))>0,VALUE(TEXT(Medel_T[[#This Row],[15AM T]],\"m\"))>0),\" \",\"\")&IF(VALUE(TEXT(Medel_T[[#This Row],[15AM T]],\"m\"))>0,TEXT(ROUND(Medel_T[[#This Row],[15AM T]]*(24*60/5),0)/(24*60/5),\"m\")&\" min\",\"\")&\"/dag x \"&ROUND(Medel_T[[#This Row],[Dag sum]:[Dag sum]]*DÅ[Arbetsdag/år],0)&\" dagar x \"&ROUND(Medel_T[[#This Row],[År]:[År]],1)&\" år = \"&TEXT(ROUND(Medel_T[[#This Row],[D 15AM¤]]*24,1-(INT(LOG10(ABS(Medel_T[[#This Row],[D 15AM¤]]*24))))),\"0\"&IF(1-(INT(LOG10(ABS(Medel_T[[#This Row],[D 15AM¤]]*24))))>0,\",\"&REPT(\"0\",1-(INT(LOG10(ABS(Medel_T[[#This Row],[D 15AM¤]]*24))))),\"\"))& \" h\"),\"\")","v":""},{"$f":"IFERROR(IF(LEN(Medel_T[[#This Row],[SJDstart]])>0,Exp_T[Anställning]&↓[↓]&YEAR(Medel_T[[#This Row],[Start]])&List_T[[#Totals],[List symb]]&YEAR(Medel_T[[#This Row],[Slut]])&\" (\"&ROUND(Medel_T[[#This Row],[År]],1)&\" år)\"&IF(LEN(Medel_T[[#This Row],[AöA text Sjuk]])>0,↓[↓],\"\")&Medel_T[[#This Row],[AöA text Sjuk]]&IF(LEN(Medel_T[[#This Row],[15AM Text Sjuk]])>0,↓[↓],\"\")&Medel_T[[#This Row],[15AM Text Sjuk]],\"\"),\"\")","v":""},{"$f":"IFERROR(Medel_T[[#This Row],[Period ]]&Medel_T[[#This Row],[ArbMomText]]&Medel_T[[#This Row],[Text]],\"\")","v":""},{"$f":"IF(AND(DJ19>=MAX(Medel_T[NrX]),ISNUMBER(DJ19)),Medel_T[[#Totals],[NrX]]+ROW()-ROW(Medel_T[[#Headers],[Rad]])-Medel_T[[#Totals],[Ant]]-1,INDEX(Medel_T[NrX],MATCH(ROW()-ROW(Medel_T[[#Headers],[Rad]]),Medel_T[NrX],0)))","v":{"$error":"#N/A"}},{"$f":"IF(Medel_T[[#This Row],[Rad]]<=Medel_T[[#Totals],[Ant]],MATCH(Medel_T[[#This Row],[Rad]],Medel_T[NrX],0),IFERROR(INDEX(BD_TX[[#Data],[#Totals],[SJ]],MATCH(Medel_T[[#This Row],[Rad]],BD_TX[[#Data],[#Totals],[Nr]],0)),\"\"))","v":{"$error":"#N/A"}},{"$f":"LEN(Medel_T[[#This Row],[Yrke2]])-LEN(SUBSTITUTE(Medel_T[[#This Row],[Yrke2]],LEFT(Sep_T[Separator],1),\"\"))","v":0},{"$f":"INDEX(Medel_T[År],Medel_T[[#This Row],[Nr]])","v":{"$error":"#N/A"}},{"$f":"IFERROR(IF(LEN(Medel_T[[#This Row],[Nr]])>0,TEXT(IFERROR(INDEX(Medel_T[Start],Medel_T[[#This Row],[Nr]]),INDEX(BD_TX[[#Data],[#Totals],[Start]],MATCH(Medel_T[[#This Row],[Rad]],BD_TX[[#Data],[#Totals],[Nr]],0))),\"ÅÅÅÅ MMM\")&\"-\"&TEXT(IFERROR(INDEX(Medel_T[Slut],Medel_T[[#This Row],[Nr]]),INDEX(BD_TX[[#Data],[#Totals],[År]],MATCH(Medel_T[[#This Row],[Rad]],BD_TX[[#Data],[#Totals],[Nr]],0))),\"ÅÅÅÅ MMM\"),\"\"),\"\")","v":""},{"$f":"IFERROR(IF(LEN(Medel_T[[#This Row],[Nr]])>0,IF(Medel_T[[#This Row],[Rad]]>Medel_T[[#Totals],[Ant]],IFERROR(INDEX(BD_TX[[#Data],[#Totals],[Text]],MATCH(Medel_T[[#This Row],[Rad]],BD_TX[[#Data],[#Totals],[Nr]],0)),\"\"),INDEX(Medel_T[Yrke],Medel_T[[#This Row],[Nr]])),\"\"),\"\")","v":""},{"$f":"IFERROR(INDEX(Medel_T[Arbetsmoment],MATCH(ROW()-ROW(Medel_T[[#Headers],[Arbetsmoment2]]),Medel_T[[NrX]:[NrX]],0)),\"\")","v":""},{"$f":"IFERROR(INDEX(Medel_T[],Medel_T[[#This Row],[Nr]],Medel_T[[#Totals],[HöA_T]]),\"\")","v":""},{"$f":"IF(LEN(Medel_T[[#This Row],[Nr]:[Nr]])>0,IFERROR(TEXT(ROUND(24*IFERROR(INDEX(Medel_T[],Medel_T[[#This Row],[Nr]:[Nr]],Medel_T[[#Totals],[D HöA]]),INDEX(Sum_T[[#Data],[#Totals]],MATCH(Medel_T[[#This Row],[Nr]:[Nr]],Sum_T[[#Data],[#Totals],[Typ]:[Typ]],0),MATCH(Medel_T[[#Headers],[D HöA]],Sum_T[#Headers],0))),1-(INT(LOG10(ABS(24*IFERROR(INDEX(Medel_T[],Medel_T[[#This Row],[Nr]:[Nr]],Medel_T[[#Totals],[D HöA]]),INDEX(Sum_T[[#Data],[#Totals]],MATCH(Medel_T[[#This Row],[Nr]:[Nr]],Sum_T[[#Data],[#Totals],[Typ]:[Typ]],0),MATCH(Medel_T[[#Headers],[D HöA]],Sum_T[#Headers],0)))))))),\"0\"&IF(1-(INT(LOG10(ABS(24*IFERROR(INDEX(Medel_T[],Medel_T[[#This Row],[Nr]:[Nr]],Medel_T[[#Totals],[D HöA]]),INDEX(Sum_T[[#Data],[#Totals]],MATCH(Medel_T[[#This Row],[Nr]:[Nr]],Sum_T[[#Data],[#Totals],[Typ]:[Typ]],0),MATCH(Medel_T[[#Headers],[D HöA]],Sum_T[#Headers],0)))))))>0,\",\"&REPT(\"0\",1-(INT(LOG10(ABS(24*IFERROR(INDEX(Medel_T[],Medel_T[[#This Row],[Nr]:[Nr]],Medel_T[[#Totals],[D HöA]]),INDEX(Sum_T[[#Data],[#Totals]],MATCH(Medel_T[[#This Row],[Nr]:[Nr]],Sum_T[[#Data],[#Totals],[Typ]:[Typ]],0),MATCH(Medel_T[[#Headers],[D HöA]],Sum_T[#Headers],0)))))))),0)),0),\"\")","v":{"$error":"#N/A"}},{"$f":"IFERROR(INDEX(Medel_T[],Medel_T[[#This Row],[Nr]],Medel_T[[#Totals],[AÖA_T]]),\"\")","v":""},{"$f":"IFERROR(IF(LEN(Medel_T[[#This Row],[Nr]:[Nr]])>0,IFERROR(TEXT(ROUND(24*IFERROR(INDEX(Medel_T[],Medel_T[[#This Row],[Nr]:[Nr]],Medel_T[[#Totals],[D AöA]]),INDEX(Sum_T[[#Data],[#Totals]],MATCH(Medel_T[[#This Row],[Nr]:[Nr]],Sum_T[[#Data],[#Totals],[Typ]:[Typ]],0),MATCH(Medel_T[[#Headers],[D AöA]],Sum_T[#Headers],0))),1-(INT(LOG10(ABS(24*IFERROR(INDEX(Medel_T[],Medel_T[[#This Row],[Nr]:[Nr]],Medel_T[[#Totals],[D AöA]]),INDEX(Sum_T[[#Data],[#Totals]],MATCH(Medel_T[[#This Row],[Nr]:[Nr]],Sum_T[[#Data],[#Totals],[Typ]:[Typ]],0),MATCH(Medel_T[[#Headers],[D AöA]],Sum_T[#Headers],0)))))))),\"0\"&IF(1-(INT(LOG10(ABS(24*IFERROR(INDEX(Medel_T[],Medel_T[[#This Row],[Nr]:[Nr]],Medel_T[[#Totals],[D AöA]]),INDEX(Sum_T[[#Data],[#Totals]],MATCH(Medel_T[[#This Row],[Nr]:[Nr]],Sum_T[[#Data],[#Totals],[Typ]:[Typ]],0),MATCH(Medel_T[[#Headers],[D AöA]],Sum_T[#Headers],0)))))))>0,\",\"&REPT(\"0\",1-(INT(LOG10(ABS(24*IFERROR(INDEX(Medel_T[],Medel_T[[#This Row],[Nr]:[Nr]],Medel_T[[#Totals],[D AöA]]),INDEX(Sum_T[[#Data],[#Totals]],MATCH(Medel_T[[#This Row],[Nr]:[Nr]],Sum_T[[#Data],[#Totals],[Typ]:[Typ]],0),MATCH(Medel_T[[#Headers],[D AöA]],Sum_T[#Headers],0)))))))),0)),0),\"\"),\"\")","v":""},{"$f":"IFERROR(INDEX(Medel_T[],Medel_T[[#This Row],[Nr]],Medel_T[[#Totals],[4AM_T]]),\"\")","v":""},{"$f":"IF(LEN(Medel_T[[#This Row],[Nr]:[Nr]])>0,IFERROR(TEXT(ROUND(24*IFERROR(INDEX(Medel_T[],Medel_T[[#This Row],[Nr]:[Nr]],Medel_T[[#Totals],[D 4AM]]),INDEX(Sum_T[[#Data],[#Totals]],MATCH(Medel_T[[#This Row],[Nr]:[Nr]],Sum_T[[#Data],[#Totals],[Typ]:[Typ]],0),MATCH(Medel_T[[#Headers],[D 4AM]],Sum_T[#Headers],0))),1-(INT(LOG10(ABS(24*IFERROR(INDEX(Medel_T[],Medel_T[[#This Row],[Nr]:[Nr]],Medel_T[[#Totals],[D 4AM]]),INDEX(Sum_T[[#Data],[#Totals]],MATCH(Medel_T[[#This Row],[Nr]:[Nr]],Sum_T[[#Data],[#Totals],[Typ]:[Typ]],0),MATCH(Medel_T[[#Headers],[D 4AM]],Sum_T[#Headers],0)))))))),\"0\"&IF(1-(INT(LOG10(ABS(24*IFERROR(INDEX(Medel_T[],Medel_T[[#This Row],[Nr]:[Nr]],Medel_T[[#Totals],[D 4AM]]),INDEX(Sum_T[[#Data],[#Totals]],MATCH(Medel_T[[#This Row],[Nr]:[Nr]],Sum_T[[#Data],[#Totals],[Typ]:[Typ]],0),MATCH(Medel_T[[#Headers],[D 4AM]],Sum_T[#Headers],0)))))))>0,\",\"&REPT(\"0\",1-(INT(LOG10(ABS(24*IFERROR(INDEX(Medel_T[],Medel_T[[#This Row],[Nr]:[Nr]],Medel_T[[#Totals],[D 4AM]]),INDEX(Sum_T[[#Data],[#Totals]],MATCH(Medel_T[[#This Row],[Nr]:[Nr]],Sum_T[[#Data],[#Totals],[Typ]:[Typ]],0),MATCH(Medel_T[[#Headers],[D 4AM]],Sum_T[#Headers],0)))))))),0)),0),\"\")","v":{"$error":"#N/A"}},{"$f":"IFERROR(INDEX(Medel_T[],Medel_T[[#This Row],[Nr]],Medel_T[[#Totals],[15AM_T]]),\"\")","v":""},{"$f":"IFERROR(IF(LEN(Medel_T[[#This Row],[Nr]:[Nr]])>0,IFERROR(TEXT(ROUND(24*IFERROR(INDEX(Medel_T[],Medel_T[[#This Row],[Nr]:[Nr]],Medel_T[[#Totals],[D 15AM]]),INDEX(Sum_T[[#Data],[#Totals]],MATCH(Medel_T[[#This Row],[Nr]:[Nr]],Sum_T[[#Data],[#Totals],[Typ]:[Typ]],0),MATCH(Medel_T[[#Headers],[D 15AM]],Sum_T[#Headers],0))),1-(INT(LOG10(ABS(24*IFERROR(INDEX(Medel_T[],Medel_T[[#This Row],[Nr]:[Nr]],Medel_T[[#Totals],[D 15AM]]),INDEX(Sum_T[[#Data],[#Totals]],MATCH(Medel_T[[#This Row],[Nr]:[Nr]],Sum_T[[#Data],[#Totals],[Typ]:[Typ]],0),MATCH(Medel_T[[#Headers],[D 15AM]],Sum_T[#Headers],0)))))))),\"0\"&IF(1-(INT(LOG10(ABS(24*IFERROR(INDEX(Medel_T[],Medel_T[[#This Row],[Nr]:[Nr]],Medel_T[[#Totals],[D 15AM]]),INDEX(Sum_T[[#Data],[#Totals]],MATCH(Medel_T[[#This Row],[Nr]:[Nr]],Sum_T[[#Data],[#Totals],[Typ]:[Typ]],0),MATCH(Medel_T[[#Headers],[D 15AM]],Sum_T[#Headers],0)))))))>0,\",\"&REPT(\"0\",1-(INT(LOG10(ABS(24*IFERROR(INDEX(Medel_T[],Medel_T[[#This Row],[Nr]:[Nr]],Medel_T[[#Totals],[D 15AM]]),INDEX(Sum_T[[#Data],[#Totals]],MATCH(Medel_T[[#This Row],[Nr]:[Nr]],Sum_T[[#Data],[#Totals],[Typ]:[Typ]],0),MATCH(Medel_T[[#Headers],[D 15AM]],Sum_T[#Headers],0)))))))),0)),0),\"\"),\"\")","v":""},{"$f":"IFERROR(INDEX(Medel_T[],Medel_T[[#This Row],[Nr]],Medel_T[[#Totals],[20-10D_T]]),\"\")","v":""},{"$f":"IF(LEN(Medel_T[[#This Row],[Nr]:[Nr]])>0,IFERROR(TEXT(ROUND(24*IFERROR(INDEX(Medel_T[],Medel_T[[#This Row],[Nr]:[Nr]],Medel_T[[#Totals],[D 20-10D]]),INDEX(Sum_T[[#Data],[#Totals]],MATCH(Medel_T[[#This Row],[Nr]:[Nr]],Sum_T[[#Data],[#Totals],[Typ]:[Typ]],0),MATCH(Medel_T[[#Headers],[D 20-10D]],Sum_T[#Headers],0))),1-(INT(LOG10(ABS(24*IFERROR(INDEX(Medel_T[],Medel_T[[#This Row],[Nr]:[Nr]],Medel_T[[#Totals],[D 20-10D]]),INDEX(Sum_T[[#Data],[#Totals]],MATCH(Medel_T[[#This Row],[Nr]:[Nr]],Sum_T[[#Data],[#Totals],[Typ]:[Typ]],0),MATCH(Medel_T[[#Headers],[D 20-10D]],Sum_T[#Headers],0)))))))),\"0\"&IF(1-(INT(LOG10(ABS(24*IFERROR(INDEX(Medel_T[],Medel_T[[#This Row],[Nr]:[Nr]],Medel_T[[#Totals],[D 20-10D]]),INDEX(Sum_T[[#Data],[#Totals]],MATCH(Medel_T[[#This Row],[Nr]:[Nr]],Sum_T[[#Data],[#Totals],[Typ]:[Typ]],0),MATCH(Medel_T[[#Headers],[D 20-10D]],Sum_T[#Headers],0)))))))>0,\",\"&REPT(\"0\",1-(INT(LOG10(ABS(24*IFERROR(INDEX(Medel_T[],Medel_T[[#This Row],[Nr]:[Nr]],Medel_T[[#Totals],[D 20-10D]]),INDEX(Sum_T[[#Data],[#Totals]],MATCH(Medel_T[[#This Row],[Nr]:[Nr]],Sum_T[[#Data],[#Totals],[Typ]:[Typ]],0),MATCH(Medel_T[[#Headers],[D 20-10D]],Sum_T[#Headers],0)))))))),0)),0),\"\")","v":{"$error":"#N/A"}},null,{"$f":"IFERROR(INDEX(Hin_T[Nr],MATCH(SMALL(Hin_T[B-årX],ROW()-ROW(Hut_T[[#Headers],[Rad]])),Hin_T[B-årX],0)),IF(ROWS($EB$19:EB20)=1+COUNTIF(Hin_T[Start],\"*\"),Hin_T[[#Totals],[Dag]],IF(AND(ROWS($EB$19:EB20)=2+COUNTIF(Hin_T[Start],\"*\"),Hin_T[[#Totals],[Q%-]]>0),EB19+1,IF(AND(ROWS($EB$19:EB20)=3+COUNTIF(Hin_T[Start],\"*\"),Hin_T[[#Totals],[Q%-]]>1),EB19+1,IF(AND(ROWS($EB$19:EB20)=4+COUNTIF(Hin_T[Start],\"*\"),Hin_T[[#Totals],[Q%-]]>2),EB19+1,\"\")))))","v":24},{"$f":"IF(Hut_T[[#This Row],[Rad]]<Hin_T[[#Totals],[Dag]],ROWS($EB$19:EB20),IFERROR(INDEX(BD_TX[[#Data],[#Totals],[SJ]],MATCH(Hut_T[[#This Row],[Rad]],BD_TX[[#Data],[#Totals],[NrX]],0)),\"\"))","v":""},{"$f":"IF(ISNUMBER(Hut_T[[#This Row],[Datum-]]),TEXT(Hut_T[[#This Row],[Datum-]],\"ÅÅÅÅ MMM\")&\"-\"&TEXT(Hut_T[[#This Row],[Datum+]],\"ÅÅÅÅ MMM\"),\"\")","v":""},{"$f":"IF(ISNUMBER(Hut_T[[#This Row],[Nr]]),IF(INDEX(Hin_T[Yrke],Hut_T[[#This Row],[Rad]])>0,INDEX(Hin_T[Yrke],Hut_T[[#This Row],[Rad]]),\"\"),IFERROR(INDEX(BD_TX[[#Data],[#Totals],[Text]],MATCH(Hut_T[[#This Row],[Rad]],BD_TX[[#Data],[#Totals],[NrX]],0)),\"\"))","v":""},{"$f":"IF(ISNUMBER(Hut_T[[#This Row],[Nr]]),IF(INDEX(Hin_T[Arbetsmoment],Hut_T[[#This Row],[Rad]])>0,INDEX(Hin_T[Arbetsmoment],Hut_T[[#This Row],[Rad]]),\"\"),\"\")","v":""},{"$f":"IFERROR(IF(INDEX(Hin_T[Yrke],Hut_T[[#This Row],[Rad]])>0,INDEX(Hin_T[Företag],Hut_T[[#This Row],[Rad]]),\"\"),\"\")","v":""},{"$f":"IFERROR(IF(INDEX(Hin_T[Dag],Hut_T[[#This Row],[Rad]])>0,INDEX(Hin_T[Dag],Hut_T[[#This Row],[Rad]])*DÅ[Arbetsdag/år],\"\"),\"\")","v":""},{"$f":"IF(AND(ISNUMBER(_xlfn.SINGLE(Hut_T[[#This Row],[Rad]:[Rad]])),IFERROR(_xlfn.SINGLE(INDEX(Hin_T[[#Data],[#Totals]],_xlfn.SINGLE(Hut_T[[#This Row],[Rad]:[Rad]]),MATCH(Hut_T[[#Headers],[D HöA]],Hin_T[#Headers],0))),\"\")),IFERROR(ROUND(_xlfn.SINGLE(INDEX(Hin_T[[#Data],[#Totals]],_xlfn.SINGLE(Hut_T[[#This Row],[Rad]:[Rad]])-IF(_xlfn.SINGLE(Hut_T[[#This Row],[Nr]:[Nr]])=_xlfn.SINGLE(#REF!),COUNT(Besvär_T[[Sjukdomsdebut]:[Sjukdomsdebut]]),0),MATCH(_xlfn.SINGLE(IF(_xlfn.SINGLE(Hut_T[[#This Row],[Nr]:[Nr]])=_xlfn.SINGLE(#REF!),#REF!,\"\"))&Hut_T[[#Headers],[D HöA]],Hin_T[#Headers],0))),0),\"\"),\"\")","v":""},{"$f":"IF(AND(ISNUMBER(Hut_T[[#This Row],[Rad]:[Rad]]),ISNUMBER(Hut_T[[#This Row],[D HöA]]),ISNUMBER(Hut_T[[#This Row],[Nr]:[Nr]])),IFERROR(ROUND(INDEX(Hin_T[[#Data],[#Totals]],Hut_T[[#This Row],[Rad]:[Rad]],MATCH(Hut_T[[#Headers],[HöA-A]],Hin_T[#Headers],0)),1-(INT(LOG10(INDEX(Hin_T[[#Data],[#Totals]],Hut_T[[#This Row],[Rad]:[Rad]],MATCH(Hut_T[[#Headers],[HöA-A]],Hin_T[#Headers],0)))))),1),\"\")","v":""},{"$f":"IF(AND(ISNUMBER(Hut_T[[#This Row],[Rad]:[Rad]]),IFERROR(INDEX(Hin_T[[#Data],[#Totals]],Hut_T[[#This Row],[Rad]:[Rad]],MATCH(Hut_T[[#Headers],[D AöA]],Hin_T[#Headers],0)),\"\")),IFERROR(ROUND(INDEX(Hin_T[[#Data],[#Totals]],Hut_T[[#This Row],[Rad]:[Rad]]-IF(Hut_T[[#This Row],[Nr]:[Nr]]=BD_TX[[SJ]:[SJ]],COUNT(Besvär_T[[Sjukdomsdebut]:[Sjukdomsdebut]]),0),MATCH(IF(Hut_T[[#This Row],[Nr]:[Nr]]=BD_TX[[#Totals],[SJ]:[SJ]],BD_TX[[#Headers],[SJ]],\"\")&Hut_T[[#Headers],[D AöA]],Hin_T[#Headers],0)),0),\"\"),\"\")","v":""},{"$f":"IF(AND(ISNUMBER(Hut_T[[#This Row],[Rad]:[Rad]]),ISNUMBER(Hut_T[[#This Row],[D AöA]]),ISNUMBER(Hut_T[[#This Row],[Nr]:[Nr]])),IFERROR(ROUND(INDEX(Hin_T[[#Data],[#Totals]],Hut_T[[#This Row],[Rad]:[Rad]],MATCH(Hut_T[[#Headers],[AöA-A]],Hin_T[#Headers],0)),1-(INT(LOG10(INDEX(Hin_T[[#Data],[#Totals]],Hut_T[[#This Row],[Rad]:[Rad]],MATCH(Hut_T[[#Headers],[AöA-A]],Hin_T[#Headers],0)))))),1),\"\")","v":""},{"$f":"IF(AND(ISNUMBER(_xlfn.SINGLE(Hut_T[[#This Row],[Rad]:[Rad]])),IFERROR(_xlfn.SINGLE(INDEX(Hin_T[[#Data],[#Totals]],_xlfn.SINGLE(Hut_T[[#This Row],[Rad]:[Rad]]),MATCH(Hut_T[[#Headers],[D 4AM]],Hin_T[#Headers],0))),\"\")),IFERROR(ROUND(_xlfn.SINGLE(INDEX(Hin_T[[#Data],[#Totals]],_xlfn.SINGLE(Hut_T[[#This Row],[Rad]:[Rad]])-IF(_xlfn.SINGLE(Hut_T[[#This Row],[Nr]:[Nr]])=_xlfn.SINGLE(#REF!),COUNT(Besvär_T[[Sjukdomsdebut]:[Sjukdomsdebut]]),0),MATCH(_xlfn.SINGLE(IF(_xlfn.SINGLE(Hut_T[[#This Row],[Nr]:[Nr]])=_xlfn.SINGLE(#REF!),#REF!,\"\"))&Hut_T[[#Headers],[D 4AM]],Hin_T[#Headers],0))),0),\"\"),\"\")","v":""},{"$f":"IF(AND(ISNUMBER(Hut_T[[#This Row],[Rad]:[Rad]]),ISNUMBER(Hut_T[[#This Row],[D 4AM]]),ISNUMBER(Hut_T[[#This Row],[Nr]:[Nr]])),IFERROR(ROUND(INDEX(Hin_T[[#Data],[#Totals]],Hut_T[[#This Row],[Rad]:[Rad]],MATCH(Hut_T[[#Headers],[4AM-A]],Hin_T[#Headers],0)),1-(INT(LOG10(INDEX(Hin_T[[#Data],[#Totals]],Hut_T[[#This Row],[Rad]:[Rad]],MATCH(Hut_T[[#Headers],[4AM-A]],Hin_T[#Headers],0)))))),1),\"\")","v":""},{"$f":"IF(AND(ISNUMBER(Hut_T[[#This Row],[Rad]:[Rad]]),IFERROR(INDEX(Hin_T[[#Data],[#Totals]],Hut_T[[#This Row],[Rad]:[Rad]],MATCH(Hut_T[[#Headers],[D 15AM]],Hin_T[#Headers],0)),\"\")),IFERROR(ROUND(INDEX(Hin_T[[#Data],[#Totals]],Hut_T[[#This Row],[Rad]:[Rad]]-IF(Hut_T[[#This Row],[Nr]:[Nr]]=BD_TX[[SJ]:[SJ]],COUNT(Besvär_T[[Sjukdomsdebut]:[Sjukdomsdebut]]),0),MATCH(IF(Hut_T[[#This Row],[Nr]:[Nr]]=BD_TX[[#Totals],[SJ]:[SJ]],BD_TX[[#Headers],[SJ]],\"\")&Hut_T[[#Headers],[D 15AM]],Hin_T[#Headers],0)),0),\"\"),\"\")","v":""},{"$f":"IF(AND(ISNUMBER(Hut_T[[#This Row],[Rad]:[Rad]]),ISNUMBER(Hut_T[[#This Row],[D 15AM]]),ISNUMBER(Hut_T[[#This Row],[Nr]:[Nr]])),IFERROR(ROUND(INDEX(Hin_T[[#Data],[#Totals]],Hut_T[[#This Row],[Rad]:[Rad]],MATCH(Hut_T[[#Headers],[15AM-A]],Hin_T[#Headers],0)),1-(INT(LOG10(INDEX(Hin_T[[#Data],[#Totals]],Hut_T[[#This Row],[Rad]:[Rad]],MATCH(Hut_T[[#Headers],[15AM-A]],Hin_T[#Headers],0)))))),1),\"\")","v":""},{"$f":"IF(AND(ISNUMBER(Hut_T[[#This Row],[Rad]:[Rad]]),IFERROR(INDEX(Hin_T[[#Data],[#Totals]],Hut_T[[#This Row],[Rad]:[Rad]],MATCH(Hut_T[[#Headers],[D 20-10D]],Hin_T[#Headers],0)),\"\")),IFERROR(ROUND(INDEX(Hin_T[[#Data],[#Totals]],Hut_T[[#This Row],[Rad]:[Rad]]-IF(Hut_T[[#This Row],[Nr]:[Nr]]=BD_TX[[SJ]:[SJ]],COUNT(Besvär_T[[Sjukdomsdebut]:[Sjukdomsdebut]]),0),MATCH(IF(Hut_T[[#This Row],[Nr]:[Nr]]=BD_TX[[#Totals],[SJ]:[SJ]],BD_TX[[#Headers],[SJ]],\"\")&Hut_T[[#Headers],[D 20-10D]],Hin_T[#Headers],0)),0),\"\"),\"\")","v":""},{"$f":"IF(AND(ISNUMBER(Hut_T[[#This Row],[Rad]:[Rad]]),ISNUMBER(Hut_T[[#This Row],[D 20-10D]]),ISNUMBER(Hut_T[[#This Row],[Nr]:[Nr]])),IFERROR(ROUND(INDEX(Hin_T[[#Data],[#Totals]],Hut_T[[#This Row],[Rad]:[Rad]],MATCH(Hut_T[[#Headers],[20-10D-A]],Hin_T[#Headers],0)),1-(INT(LOG10(INDEX(Hin_T[[#Data],[#Totals]],Hut_T[[#This Row],[Rad]:[Rad]],MATCH(Hut_T[[#Headers],[20-10D-A]],Hin_T[#Headers],0)))))),1),\"\")","v":""},null,{"$f":"IFERROR(INDEX(Hin_T[[#Data],[#Totals],[B-år]],Hut_T[[#This Row],[Rad]]),IF(ISNUMBER(Hut_T[[#This Row],[Datum+]]),ET19,\"\"))","v":""},{"$f":"IFERROR(INDEX(Hin_T[S-år],Hut_T[[#This Row],[Rad]]),IFERROR(INDEX(BD_TX[[#Data],[#Totals],[År]],MATCH(Hut_T[[#This Row],[Rad]],BD_TX[[#Data],[#Totals],[NrX]],0)),\"\"))","v":""},null,{"$f":"ROWS($EW$20:EW20)","v":1},{"$f":"IFERROR(MATCH(Hist_Tab[[#This Row],[Ref]],Medel_T[NrX],0),1)","v":1},{"$f":"INT((ROW(Hist_Tab[[#This Row],[Ref]])-ROW(Hist_Tab[[#Headers],[Ref]])-1)/4)+1","v":1},{"$f":"COUNTIF($EY$19:EY20,Hist_Tab[[#This Row],[Ref]])","v":2},{"$f":"IFERROR(INDEX(Medel_T[Start],Hist_Tab[[#This Row],[Ref]]),_xlfn.AGGREGATE(4,6,Medel_T[Start]))","v":"00:00:00"},{"$f":"IFERROR(INDEX(Medel_T[Slut],Hist_Tab[[#This Row],[Ref]]),_xlfn.AGGREGATE(4,6,Medel_T[Slut]))","v":"00:00:00"},{"$f":"IF(EW19=0,Hist_Tab[[#This Row],[ÅrB]],IF(Hist_Tab[[#This Row],[per/p]]<2,Hist_Tab[[#This Row],[ÅrB]],Hist_Tab[[#This Row],[År S]]))","v":"00:00:00"},{"$f":"IF(Hist_Tab[[#This Row],[Rad]:[Rad]]=0,-1,IF($EY21>_xlfn.AGGREGATE(2,6,Medel_T[[Slut]:[Slut]]),0,INDEX(Medel_T[],Hist_Tab[[#This Row],[Ref]:[Ref]],MATCH(Hist_Tab[[#Headers],[HöA T]],Medel_T[#Headers],0))))","v":0},{"$f":"IF(Hist_Tab[[#This Row],[Rad]:[Rad]]=0,0,IF($EY21>_xlfn.AGGREGATE(2,6,Medel_T[[Slut]:[Slut]]),0,INDEX(Medel_T[],Hist_Tab[[#This Row],[Ref]:[Ref]],MATCH(Hist_Tab[[#Headers],[AöA T]],Medel_T[#Headers],0))))","v":0},{"$f":"IF(Hist_Tab[[#This Row],[Rad]:[Rad]]=0,0,IF($EY21>_xlfn.AGGREGATE(2,6,Medel_T[[Slut]:[Slut]]),0,INDEX(Medel_T[],Hist_Tab[[#This Row],[Ref]:[Ref]],MATCH(Hist_Tab[[#Headers],[4AM T]],Medel_T[#Headers],0))))","v":0},{"$f":"IF(Hist_Tab[[#This Row],[Rad]:[Rad]]=0,0,IF($EY21>_xlfn.AGGREGATE(2,6,Medel_T[[Slut]:[Slut]]),0,INDEX(Medel_T[],Hist_Tab[[#This Row],[Ref]:[Ref]],MATCH(Hist_Tab[[#Headers],[15AM T]],Medel_T[#Headers],0))))","v":0},{"$f":"IF(Hist_Tab[[#This Row],[Rad]:[Rad]]=0,0,IF($EY21>_xlfn.AGGREGATE(2,6,Medel_T[[Slut]:[Slut]]),0,INDEX(Medel_T[],Hist_Tab[[#This Row],[Ref]:[Ref]],MATCH(Hist_Tab[[#Headers],[20-10D T]],Medel_T[#Headers],0))))","v":0}]
[null,null,null,null,null,null,null,null,null,null,null,null,null,null,null,null,null,null,{"$f":"IF(LEN(Hin_T[[#This Row],[Start]])>0,ROWS($S$19:S21),\"\")","v":""},null,{"$f":"Hin_T[[#This Row],[Yrke]]&IF(ISBLANK(Hin_T[[#This Row],[Arbetsmoment]]),\"\",\"; \"&Hin_T[[#This Row],[Arbetsmoment]])","v":""},{"$f":"IFERROR(IF(LEN(Hin_T[[#This Row],[Start]])-LEN(SUBSTITUTE(Hin_T[[#This Row],[Start]],\"-\",\"\"))=2,DATEVALUE(Hin_T[[#This Row],[Start]]),IF(LEN(Hin_T[[#This Row],[Start]])<5,DATEVALUE(Hin_T[[#This Row],[Start]]&\"-01-01\"),DATEVALUE(LEFT(Hin_T[[#This Row],[Start]],IF(LEN(Hin_T[[#This Row],[Start]])>6,4,2))&\"-\"&MID(Hin_T[[#This Row],[Start]],IF(LEN(Hin_T[[#This Row],[Start]])>6,5,3),2)&\"-\"&RIGHT(Hin_T[[#This Row],[Start]],2)))),\"\")","v":""},{"$f":"IFERROR(IF(LEN(Hin_T[[#This Row],[Slut]])-LEN(SUBSTITUTE(Hin_T[[#This Row],[Slut]],\"-\",\"\"))=2,DATEVALUE(Hin_T[[#This Row],[Slut]]),IF(LEN(Hin_T[[#This Row],[Slut]])<5,DATEVALUE(Hin_T[[#This Row],[Slut]]&\"-12-31\"),DATEVALUE(LEFT(Hin_T[[#This Row],[Slut]],IF(LEN(Hin_T[[#This Row],[Slut]])>6,4,2))&\"-\"&MID(Hin_T[[#This Row],[Slut]],IF(LEN(Hin_T[[#This Row],[Slut]])>6,5,3),2)&\"-\"&RIGHT(Hin_T[[#This Row],[Slut]],2)))),\"\")","v":""},{"$f":"IF(COUNTIF(V$19:V21,Hin_T[[#This Row],[B-år]])=1,Hin_T[[#This Row],[B-år]],\"\")","v":""},{"$f":"IF(COUNTIF(W$19:W21,Hin_T[[#This Row],[S-år]])=1,Hin_T[[#This Row],[S-år]],\"\")","v":""},{"$f":"IFERROR(Hin_T[[#This Row],[B-år]]+IF(COUNTIF($V$19:V21,Hin_T[[#This Row],[B-år]])>1,COUNTIF($V$19:V21,Hin_T[[#This Row],[B-år]])/10,0),\"\")","v":""},{"$f":"IF(ISNUMBER(Hin_T[[#This Row],[Dagar]]),Hin_T[[#This Row],[Dagar]]/DÅ[Arbetsdag/år],1)","v":1},{"$f":"Hin_T[[#This Row],[Dag]]*DÅ[Arbetsdag/år]","v":220},{"$f":"IF(LEN(Hin_T[[#This Row],[Yrke]])=4,1,0)","v":0},{"$f":"_xlfn.DAYS(Hin_T[[#This Row],[B-år]],DATE(YEAR(Hin_T[[#This Row],[B-år]]),1,1))/(DATE(YEAR(Hin_T[[#This Row],[B-år]])+1,1,1)-DATE(YEAR(Hin_T[[#This Row],[B-år]]),1,1))","v":{"$error":"#VALUE!"}},{"$f":"_xlfn.DAYS(DATE(YEAR(Hin_T[[#This Row],[S-år]]),12,31),Hin_T[[#This Row],[S-år]])/(DATE(YEAR(Hin_T[[#This Row],[S-år]])+1,1,1)-DATE(YEAR(Hin_T[[#This Row],[S-år]]),1,1))","v":{"$error":"#VALUE!"}},{"$f":"YEARFRAC(Hin_T[[#This Row],[S-år]],Hin_T[[#This Row],[B-år]])*Hin_T[[#This Row],[Dag]]","v":{"$error":"#VALUE!"}},{"$f":"IFERROR(Hin_T[[#This Row],[År diff]]*IF(ISNUMBER(Hin_T[[#This Row],[HöA]]),1,0),0)","v":0},{"$f":"IFERROR(Hin_T[[#This Row],[År diff]]*IF(ISNUMBER(Hin_T[[#This Row],[AöA]]),1,0),0)","v":0},{"$f":"IF(Hin_T[[#This Row],[B-år]]<=Besvär_T[[#Totals],[Sjukdomsdebut]],Hin_T[[#This Row],[B-år]],\"\")","v":""},{"$f":"IF(Hin_T[[#This Row],[S-år]]<=Besvär_T[[#Totals],[Sjukdomsdebut]],Hin_T[[#This Row],[S-år]],\"\")","v":""},{"$f":"IFERROR(YEARFRAC(IF(AND(ISNUMBER(Hin_T[[#This Row],[B-år EA]]),LEN(Hin_T[[#This Row],[S-år EA]])=0),Hin_T[[#Totals],[15AM-A]],Hin_T[[#This Row],[S-år EA]]),Hin_T[[#This Row],[B-år EA]])*Hin_T[[#This Row],[Dag]]*IF(ISNUMBER(Hin_T[[#This Row],[HöA]]),1,0),0)","v":0},{"$f":"IFERROR(YEARFRAC(IF(AND(ISNUMBER(Hin_T[[#This Row],[B-år EA]]),LEN(Hin_T[[#This Row],[S-år EA]])=0),Hin_T[[#Totals],[15AM-A]],Hin_T[[#This Row],[S-år EA]]),Hin_T[[#This Row],[B-år EA]])*Hin_T[[#This Row],[Dag]]*IF(ISNUMBER(Hin_T[[#This Row],[AöA]]),1,0),0)","v":0},{"$f":"IFERROR(Hin_T[[#This Row],[År diff]]*IF(ISNUMBER(Hin_T[[#This Row],[4AM]]),1,0),0)","v":0},{"$f":"IFERROR(Hin_T[[#This Row],[År diff]]*IF(ISNUMBER(Hin_T[[#This Row],[15AM]]),1,0),0)","v":0},{"$f":"IF(Hin_T[[#This Row],[B-år]]<=Besvär_T[[#Totals],[Sjukdomsdebut]],Hin_T[[#This Row],[B-år]],\"\")","v":""},{"$f":"IF(Hin_T[[#This Row],[S-år]]<=Besvär_T[[#Totals],[Sjukdomsdebut]],Hin_T[[#This Row],[S-år]],\"\")","v":""},{"$f":"IFERROR(YEARFRAC(IF(AND(ISNUMBER(Hin_T[[#This Row],[B-år RA]]),LEN(Hin_T[[#This Row],[S-år RA]])=0),Hin_T[[#Totals],[15AM-A]],Hin_T[[#This Row],[S-år RA]]),Hin_T[[#This Row],[B-år RA]])*Hin_T[[#This Row],[Dag]]*IF(ISNUMBER(Hin_T[[#This Row],[4AM]]),1,0),0)","v":0},{"$f":"IFERROR(YEARFRAC(IF(AND(ISNUMBER(Hin_T[[#This Row],[B-år RA]]),LEN(Hin_T[[#This Row],[S-år RA]])=0),Hin_T[[#Totals],[15AM-A]],Hin_T[[#This Row],[S-år RA]]),Hin_T[[#This Row],[B-år RA]])*Hin_T[[#This Row],[Dag]]*IF(ISNUMBER(Hin_T[[#This Row],[15AM]]),1,0),0)","v":0},{"$f":"IFERROR(Hin_T[[#This Row],[År diff]]*IF(ISNUMBER(Hin_T[[#This Row],[20-10D]]),1,0),0)","v":0},{"$f":"IF(Hin_T[[#This Row],[B-år]]<=Besvär_T[[#Totals],[Sjukdomsdebut]],Hin_T[[#This Row],[B-år]],\"\")","v":""},{"$f":"IF(Hin_T[[#This Row],[S-år]]<=Besvär_T[[#Totals],[Sjukdomsdebut]],Hin_T[[#This Row],[S-år]],\"\")","v":""},{"$f":"IFERROR(YEARFRAC(IF(AND(ISNUMBER(Hin_T[[#This Row],[B-år TMH]]),LEN(Hin_T[[#This Row],[S-år TMH]])=0),Hin_T[[#Totals],[15AM-A]],Hin_T[[#This Row],[S-år TMH]]),Hin_T[[#This Row],[B-år TMH]])*Hin_T[[#This Row],[Dag]]*IF(ISNUMBER(Hin_T[[#This Row],[20-10D]]),1,0),0)","v":0},{"$f":"IF(Hin_T[[#This Row],[Vib]]=JN_T[JN],1,0)","v":0},{"$f":"IFERROR(Hin_T[[#This Row],[År diff]]*IF(Hin_T[[#This Row],[Vib2]]>0,1,0),0)","v":0},{"$f":"IF(Hin_T[[#This Row],[B-år]]<=Besvär_T[[#Totals],[Sjukdomsdebut]],Hin_T[[#This Row],[B-år]],\"\")","v":""},{"$f":"IF(Hin_T[[#This Row],[S-år]]<=Besvär_T[[#Totals],[Sjukdomsdebut]],Hin_T[[#This Row],[S-år]],\"\")","v":""},{"$f":"IFERROR(YEARFRAC(IF(AND(ISNUMBER(Hin_T[[#This Row],[B-år VIB]]),LEN(Hin_T[[#This Row],[S-år Vib]])=0),Hin_T[[#Totals],[15AM-A]],Hin_T[[#This Row],[S-år Vib]]),Hin_T[[#This Row],[B-år VIB]])*IF(Hin_T[[#This Row],[Vib2]]>0,1,0),0)","v":0},{"$f":"Hin_T[[#This Row],[HöA]]*Hin_T[[#This Row],[tot år HöA]]*DÅ[Arbetsdag/år]","v":0},{"$f":"Hin_T[[#This Row],[tot år AöA]]*Hin_T[[#This Row],[AöA]]*DÅ[Arbetsdag/år]","v":0},{"$f":"Hin_T[[#This Row],[tot år 4AM]]*Hin_T[[#This Row],[4AM]]*DÅ[Arbetsdag/år]","v":0},{"$f":"Hin_T[[#This Row],[tot år 15AM]]*Hin_T[[#This Row],[15AM]]*DÅ[Arbetsdag/år]","v":0},{"$f":"Hin_T[[#This Row],[tot år 20-10D]]*Hin_T[[#This Row],[20-10D]]*DÅ[Arbetsdag/år]","v":0},{"$f":"Hin_T[[#This Row],[BD år HöA]]*Hin_T[[#This Row],[HöA]]*DÅ[Arbetsdag/år]","v":0},{"$f":"Hin_T[[#This Row],[BD år AöA]]*Hin_T[[#This Row],[AöA]]*DÅ[Arbetsdag/år]","v":0},{"$f":"Hin_T[[#This Row],[BD år 4AM]]*Hin_T[[#This Row],[4AM]]*DÅ[Arbetsdag/år]","v":0},{"$f":"Hin_T[[#This Row],[BD år 15AM]]*Hin_T[[#This Row],[15AM]]*DÅ[Arbetsdag/år]","v":0},{"$f":"Hin_T[[#This Row],[BD år 20-10D]]*Hin_T[[#This Row],[20-10D]]*DÅ[Arbetsdag/år]","v":0},{"$f":"Hin_T[[#This Row],[Arbetsmoment]]&Hin_T[[#This Row],[Text AöA]]&Hin_T[[#This Row],[Text 15AM]]&IF(Hin_T[[#This Row],[Dagarna]]=DÅ[Arbetsdag/år],\"\",\". \"&Hin_T[[#This Row],[Dagarna]]&\" dagar/år\")&\". \"","v":". "},{"$f":"IF(ISBLANK(Hin_T[[#This Row],[AöA]]),\"\",Exp_T[Överarmslyft> 90°: ]&IF(VALUE(TEXT(Hin_T[[#This Row],[AöA]],\"t\"))>0,VALUE(TEXT(Hin_T[[#This Row],[AöA]],\"t\"))&\" h\",\"\")&IF(AND(VALUE(TEXT(Hin_T[[#This Row],[AöA]],\"t\"))>0,VALUE(TEXT(Hin_T[[#This Row],[AöA]],\"m\"))>2.4),\" \",\"\")&IF(VALUE(TEXT(Hin_T[[#This Row],[AöA]],\"m\"))>2.4,TEXT(ROUND(Hin_T[[#This Row],[AöA]]*(24*60/5),0)/(24*60/5),\"m\")&\" min\",\"\")&\"/dag\")","v":""},{"$f":"IF(ISBLANK(Hin_T[[#This Row],[15AM]]),\"\",Exp_T[Överarmsrörelser> 15/min: ]&IF(VALUE(TEXT(Hin_T[[#This Row],[15AM]],\"t\"))>0,VALUE(TEXT(Hin_T[[#This Row],[15AM]],\"t\"))&\" h\",\"\")&IF(AND(VALUE(TEXT(Hin_T[[#This Row],[15AM]],\"t\"))>0,VALUE(TEXT(Hin_T[[#This Row],[15AM]],\"m\"))>2.4),\" \",\"\")&IF(VALUE(TEXT(Hin_T[[#This Row],[15AM]],\"m\"))>2.4,TEXT(ROUND(Hin_T[[#This Row],[15AM]]*(24*60/5),0)/(24*60/5),\"m\")&\" min\",\"\")&\"/dag\")","v":""},null,"Separator",null,null,{"$f":"SMALL(Hin_T[[StartÅR]:[SlutÅr]],ROW()-ROW(Medel_T[[#Headers],[Start]]))","v":{"$error":"#NUM!"}},{"$f":"SMALL(Hin_T[[StartÅR]:[SlutÅr]],ROW()-ROW(Medel_T[[#Headers],[Slut]])+1)","v":{"$error":"#NUM!"}},{"$f":"IF(Medel_T[[#This Row],[Start]]<=Besvär_T[[#Totals],[Sjukdomsdebut]],Medel_T[[#This Row],[Start]],\"\")","v":{"$error":"#NUM!"}},{"$f":"IF(Medel_T[[#This Row],[Slut]]<=Besvär_T[[#Totals],[Sjukdomsdebut]],Medel_T[[#This Row],[Slut]],IF(AND(LEN(Medel_T[[#This Row],[SJDstart]])>0,LEN(BU22)=0),Besvär_T[[#Totals],[Sjukdomsdebut]],\"\"))","v":{"$error":"#NUM!"}},{"$f":"IF(Medel_T[[#This Row],[Start]]>=Besvär_T[[#Totals],[Sjukdomsdebut]],Medel_T[[#This Row],[Start]],IF(AND(LEN(Medel_T[[#This Row],[EfterSlut]])>0,LEN(BX20)=0),Besvär_T[[#Totals],[Sjukdomsdebut]],\"\"))","v":{"$error":"#NUM!"}},{"$f":"IF(Medel_T[[#This Row],[Slut]]>=Besvär_T[[#Totals],[Sjukdomsdebut]],Medel_T[[#This Row],[Slut]],\"\")","v":{"$error":"#NUM!"}},{"$f":"COUNTIF($BZ$19:BZ21,\">0\")","v":0},{"$f":"COUNTIFS(Hin_T[B-år],\"<=\"&Medel_T[[#This Row],[Start]],Hin_T[S-år],\">=\"&Medel_T[[#This Row],[Slut]])","v":0},{"$f":"SUBSTITUTE(_xlfn.TEXTJOIN(Sep_T[Separator],TRUE,_xlfn._xlws.SORT(_xlfn.UNIQUE(IF((Hin_T[[B-år]:[B-år]]<=Medel_T[[#This Row],[Start]:[Start]])*(Hin_T[[S-år]:[S-år]]>=Medel_T[[#This Row],[Slut]:[Slut]]),Hin_T[Yrke],\"\")))),0&Sep_T[Separator],\"\")","v":{"$error":"#NUM!"}},{"$f":"SUBSTITUTE(_xlfn.TEXTJOIN(Sep_T[Separator],TRUE,_xlfn._xlws.SORT(_xlfn.UNIQUE(IF((Hin_T[[B-år]:[B-år]]<=Medel_T[[#This Row],[Start]:[Start]])*(Hin_T[[S-år]:[S-år]]>=Medel_T[[#This Row],[Slut]:[Slut]]),Hin_T[Arbetsmoment],\"\")))),0&Sep_T[Separator],\"\")","v":{"$error":"#NUM!"}},{"$f":"IF(LEN(Medel_T[[#This Row],[Yrke]])>0,Medel_T[[#Headers],[Period ]]&Medel_T[[#This Row],[NrX]]&\": \"&TEXT(Medel_T[[#This Row],[Start]],\"ÅÅÅÅ\")&List_T[[#Totals],[List symb]]&TEXT(Medel_T[[#This Row],[Slut]],\"ÅÅÅÅ\")&\" (\"&ROUND(Medel_T[[#This Row],[År]],1)&\" år) Anställd som \"&IFERROR(SUBSTITUTE(SUBSTITUTE(Medel_T[[#This Row],[Yrke]],Sep_T[Separator],\" och \",Medel_T[[#This Row],[Ant]]-1),Sep_T[Separator],\", \"),Medel_T[[#This Row],[Yrke]])&↓[↓],\"\")","v":{"$error":"#NUM!"}},{"$f":"IF(LEN(Medel_T[[#This Row],[Arbetsmoment]])>0,ROMAN(1)&\") \"&_xlfn.TEXTJOIN(Delim[Delimiters],TRUE,_xlfn._xlws.SORT(_xlfn.UNIQUE(IF((Hin_T[[B-år]:[B-år]]<=Medel_T[[#This Row],[Start]:[Start]])*(Hin_T[[S-år]:[S-år]]>=Medel_T[[#This Row],[Slut]:[Slut]]),Hin_T[Text],\"\"))))&↓[↓],\"\")","v":{"$error":"#NUM!"}},{"$f":"SUMPRODUCT((Hin_T[[B-år]:[B-år]]<=Medel_T[[#This Row],[Start]:[Start]])*(Hin_T[[S-år]:[S-år]]>=Medel_T[[#This Row],[Slut]:[Slut]])*Hin_T[Dag])","v":{"$error":"#NUM!"}},{"$f":"IF(Medel_T[[#This Row],[Proc dag]]<=1,Medel_T[[#This Row],[Proc dag]],1)","v":{"$error":"#NUM!"}},{"$f":"YEARFRAC(Medel_T[[#This Row],[Slut]],Medel_T[[#This Row],[Start]])","v":{"$error":"#NUM!"}},{"$f":"YEARFRAC(Medel_T[[#This Row],[SJDslut]],Medel_T[[#This Row],[SJDstart]])","v":{"$error":"#NUM!"}},{"$f":"IFERROR(SUMPRODUCT((Hin_T[[B-år]:[B-år]]<=Medel_T[[#This Row],[Start]:[Start]])*(Hin_T[[S-år]:[S-år]]>=Medel_T[[#This Row],[Slut]:[Slut]])*Hin_T[HöA]*Hin_T[[Dag]:[Dag]])/Medel_T[[#This Row],[Proc dag]],-1)","v":-1},{"$f":"IFERROR(SUMPRODUCT((Hin_T[[B-år]:[B-år]]<=Medel_T[[#This Row],[Start]:[Start]])*(Hin_T[[S-år]:[S-år]]>=Medel_T[[#This Row],[Slut]:[Slut]])*Hin_T[AöA]*Hin_T[[Dag]:[Dag]])/Medel_T[[#This Row],[Proc dag]],-1)","v":-1},{"$f":"IFERROR(SUMPRODUCT((Hin_T[[B-år]:[B-år]]<=Medel_T[[#This Row],[Start]:[Start]])*(Hin_T[[S-år]:[S-år]]>=Medel_T[[#This Row],[Slut]:[Slut]])*Hin_T[4AM]*Hin_T[[Dag]:[Dag]])/Medel_T[[#This Row],[Proc dag]],-1)","v":-1},{"$f":"IFERROR(SUMPRODUCT((Hin_T[[B-år]:[B-år]]<=Medel_T[[#This Row],[Start]:[Start]])*(Hin_T[[S-år]:[S-år]]>=Medel_T[[#This Row],[Slut]:[Slut]])*Hin_T[15AM]*Hin_T[[Dag]:[Dag]])/Medel_T[[#This Row],[Proc dag]],-1)","v":-1},{"$f":"IFERROR(SUMPRODUCT((Hin_T[[B-år]:[B-år]]<=Medel_T[[#This Row],[Start]:[Start]])*(Hin_T[[S-år]:[S-år]]>=Medel_T[[#This Row],[Slut]:[Slut]])*Hin_T[20-10D]*Hin_T[[Dag]:[Dag]])/Medel_T[[#This Row],[Proc dag]],-1)","v":-1},{"$f":"IFERROR(SUMPRODUCT((Hin_T[[B-år]:[B-år]]<=Medel_T[[#This Row],[Start]:[Start]])*(Hin_T[[S-år]:[S-år]]>=Medel_T[[#This Row],[Slut]:[Slut]])*Hin_T[[Dag]:[Dag]]*Hin_T[HöA])/Medel_T[[#This Row],[Dag sum]],-1)","v":-1},{"$f":"IFERROR(SUMPRODUCT((Hin_T[[B-år]:[B-år]]<=Medel_T[[#This Row],[Start]:[Start]])*(Hin_T[[S-år]:[S-år]]>=Medel_T[[#This Row],[Slut]:[Slut]])*Hin_T[[Dag]:[Dag]]*Hin_T[AöA])/Medel_T[[#This Row],[Dag sum]],-1)","v":-1},{"$f":"IFERROR(SUMPRODUCT((Hin_T[[B-år]:[B-år]]<=Medel_T[[#This Row],[Start]:[Start]])*(Hin_T[[S-år]:[S-år]]>=Medel_T[[#This Row],[Slut]:[Slut]])*Hin_T[[Dag]:[Dag]]*Hin_T[4AM])/Medel_T[[#This Row],[Dag sum]],-1)","v":-1},{"$f":"IFERROR(SUMPRODUCT((Hin_T[[B-år]:[B-år]]<=Medel_T[[#This Row],[Start]:[Start]])*(Hin_T[[S-år]:[S-år]]>=Medel_T[[#This Row],[Slut]:[Slut]])*Hin_T[15AM]*Hin_T[[Dag]:[Dag]])/Medel_T[[#This Row],[Dag sum]],-1)","v":-1},{"$f":"IFERROR(SUMPRODUCT((Hin_T[[B-år]:[B-år]]<=Medel_T[[#This Row],[Start]:[Start]])*(Hin_T[[S-år]:[S-år]]>=Medel_T[[#This Row],[Slut]:[Slut]])*Hin_T[[Dag]:[Dag]]*Hin_T[20-10D])/Medel_T[[#This Row],[Dag sum]],-1)","v":-1},{"$f":"IFERROR(Medel_T[[#This Row],[Dag sum]:[Dag sum]]*Medel_T[[#This Row],[År]:[År]]*Medel_T[[#This Row],[HöA T]]*DÅ[Arbetsdag/år],0)","v":0},{"$f":"IFERROR(Medel_T[[#This Row],[Dag sum]:[Dag sum]]*Medel_T[[#This Row],[År]:[År]]*Medel_T[[#This Row],[AöA T]]*DÅ[Arbetsdag/år],0)","v":0},{"$f":"IFERROR(Medel_T[[#This Row],[Dag sum]:[Dag sum]]*Medel_T[[#This Row],[År]:[År]]*Medel_T[[#This Row],[4AM T]]*DÅ[Arbetsdag/år],0)","v":0},{"$f":"IFERROR(Medel_T[[#This Row],[Dag sum]:[Dag sum]]*Medel_T[[#This Row],[År]:[År]]*Medel_T[[#This Row],[15AM T]]*DÅ[Arbetsdag/år],0)","v":0},{"$f":"IFERROR(Medel_T[[#This Row],[Dag sum]:[Dag sum]]*Medel_T[[#This Row],[År]:[År]]*Medel_T[[#This Row],[20-10D T]]*DÅ[Arbetsdag/år],0)","v":0},{"$f":"IFERROR(Medel_T[[#This Row],[Dag sum]:[Dag sum]]*Medel_T[[#This Row],[ÅrSjuk]:[ÅrSjuk]]*Medel_T[[#This Row],[HöA T]]*DÅ[Arbetsdag/år],0)","v":0},{"$f":"IFERROR(Medel_T[[#This Row],[Dag sum]:[Dag sum]]*Medel_T[[#This Row],[ÅrSjuk]:[ÅrSjuk]]*Medel_T[[#This Row],[AöA T]]*DÅ[Arbetsdag/år],0)","v":0},{"$f":"IFERROR(Medel_T[[#This Row],[Dag sum]:[Dag sum]]*Medel_T[[#This Row],[ÅrSjuk]:[ÅrSjuk]]*Medel_T[[#This Row],[4AM T]]*DÅ[Arbetsdag/år],0)","v":0},{"$f":"IFERROR(Medel_T[[#This Row],[Dag sum]:[Dag sum]]*Medel_T[[#This Row],[ÅrSjuk]:[ÅrSjuk]]*Medel_T[[#This Row],[15AM T]]*DÅ[Arbetsdag/år],0)","v":0},{"$f":"IFERROR(Medel_T[[#This Row],[Dag sum]:[Dag sum]]*Medel_T[[#This Row],[ÅrSjuk]:[ÅrSjuk]]*Medel_T[[#This Row],[20-10D T]]*DÅ[Arbetsdag/år],0)","v":0},{"$f":"IFERROR(IF(Medel_T[[#This Row],[AöA T]]=0,\"\",List_T[List symb]&Exp_T[[#Headers],[Överarmslyft> 90°: ]]&IF(VALUE(TEXT(Medel_T[[#This Row],[AöA T]],\"t\"))>0,VALUE(TEXT(Medel_T[[#This Row],[AöA T]],\"t\"))&\" h\",\"\")&IF(AND(VALUE(TEXT(Medel_T[[#This Row],[AöA T]],\"t\"))>0,VALUE(TEXT(Medel_T[[#This Row],[AöA T]],\"m\"))>2.4),\" \",\"\")&IF(VALUE(TEXT(Medel_T[[#This Row],[AöA T]],\"m\"))>2.4,TEXT(ROUND(Medel_T[[#This Row],[AöA T]]*(24*60/5),0)/(24*60/5),\"m\")&\" min\",\"\")&\"/dag x \"&ROUND(Medel_T[[#This Row],[Dag sum]:[Dag sum]]*DÅ[Arbetsdag/år],0)&\" dagar x \"&ROUND(Medel_T[[#This Row],[År]:[År]],1)&\" år = \"&TEXT(ROUND(Medel_T[[#This Row],[D AöA§]]*24,1-(INT(LOG10(ABS(Medel_T[[#This Row],[D AöA§]]*24))))),\"0\"&IF(1-(INT(LOG10(ABS(Medel_T[[#This Row],[D AöA§]]*24))))>0,\",\"&REPT(\"0\",1-(INT(LOG10(ABS(Medel_T[[#This Row],[D AöA§]]*24))))),\"\"))& \" h\"),\"\")","v":""},{"$f":"IFERROR(IF(Medel_T[[#This Row],[15AM T]]=0,\"\",List_T[List symb]&Exp_T[[#Headers],[Överarmsrörelser> 15/min: ]]&IF(VALUE(TEXT(Medel_T[[#This Row],[15AM T]],\"t\"))>0,VALUE(TEXT(Medel_T[[#This Row],[15AM T]],\"t\"))&\" h\",\"\")&IF(AND(VALUE(TEXT(Medel_T[[#This Row],[15AM T]],\"t\"))>0,VALUE(TEXT(Medel_T[[#This Row],[15AM T]],\"m\"))>2.4),\" \",\"\")&IF(VALUE(TEXT(Medel_T[[#This Row],[15AM T]],\"m\"))>2.4,TEXT(ROUND(Medel_T[[#This Row],[15AM T]]*(24*60/5),0)/(24*60/5),\"m\")&\" min\",\"\")&\"/dag x \"&ROUND(Medel_T[[#This Row],[Dag sum]:[Dag sum]]*DÅ[Arbetsdag/år],0)&\" dagar x \"&ROUND(Medel_T[[#This Row],[År]:[År]],1)&\" år = \"&TEXT(ROUND(Medel_T[[#This Row],[D 15AM§]]*24,1-(INT(LOG10(ABS(Medel_T[[#This Row],[D 15AM§]]*24))))),\"0\"&IF(1-(INT(LOG10(ABS(Medel_T[[#This Row],[D 15AM§]]*24))))>0,\",\"&REPT(\"0\",1-(INT(LOG10(ABS(Medel_T[[#This Row],[D 15AM§]]*24))))),\"\"))& \" h\"),\"\")","v":""},{"$f":"IFERROR(IF(OR(LEN(Medel_T[[#This Row],[AöA text]])>0,LEN(Medel_T[[#This Row],[15AM Text]])>0),Exp_T[Anställning]&YEAR(Medel_T[[#This Row],[Start]])&List_T[[#Totals],[List symb]]&YEAR(Medel_T[[#This Row],[Slut]])&\" (\"&ROUND(Medel_T[[#This Row],[År]],1)&\" år)\"&IF(LEN(Medel_T[[#This Row],[AöA text]])>0,↓[↓],\"\")&Medel_T[[#This Row],[AöA text]]&IF(LEN(Medel_T[[#This Row],[15AM Text]])>0,↓[↓],\"\")&Medel_T[[#This Row],[15AM Text]],\"\"),\"\")","v":""},{"$f":"IFERROR(IF(Medel_T[[#This Row],[AöA T]]=0,\"\",List_T[List symb]&Exp_T[[#Headers],[Överarmsrörelser> 15/min: ]]&IF(VALUE(TEXT(Medel_T[[#This Row],[AöA T]],\"t\"))>0,VALUE(TEXT(Medel_T[[#This Row],[AöA T]],\"t\"))&\" h\",\"\")&IF(AND(VALUE(TEXT(Medel_T[[#This Row],[AöA T]],\"t\"))>0,VALUE(TEXT(Medel_T[[#This Row],[AöA T]],\"m\"))>2.4),\" \",\"\")&IF(VALUE(TEXT(Medel_T[[#This Row],[AöA T]],\"m\"))>2.4,TEXT(ROUND(Medel_T[[#This Row],[AöA T]]*(24*60/5),0)/(24*60/5),\"m\")&\" min\",\"\")&\"/dag x \"&ROUND(Medel_T[[#This Row],[Dag sum]:[Dag sum]]*DÅ[Arbetsdag/år],0)&\" dagar x \"&ROUND(Medel_T[[#This Row],[År]:[År]],1)&\" år = \"&TEXT(ROUND(Medel_T[[#This Row],[D AöA¤]]*24,1-(INT(LOG10(ABS(Medel_T[[#This Row],[D AöA¤]]*24))))),\"0\"&IF(1-(INT(LOG10(ABS(Medel_T[[#This Row],[D AöA¤]]*24))))>0,\",\"&REPT(\"0\",1-(INT(LOG10(ABS(Medel_T[[#This Row],[D AöA¤]]*24))))),\"\"))& \" h\"),\"\")","v":""},{"$f":"IFERROR(IF(Medel_T[[#This Row],[15AM T]]=0,\"\",List_T[List symb]&Exp_T[[#Headers],[Överarmslyft> 90°: ]]&IF(VALUE(TEXT(Medel_T[[#This Row],[15AM T]],\"t\"))>0,VALUE(TEXT(Medel_T[[#This Row],[15AM T]],\"t\"))&\" h\",\"\")&IF(AND(VALUE(TEXT(Medel_T[[#This Row],[15AM T]],\"t\"))>0,VALUE(TEXT(Medel_T[[#This Row],[15AM T]],\"m\"))>0),\" \",\"\")&IF(VALUE(TEXT(Medel_T[[#This Row],[15AM T]],\"m\"))>0,TEXT(ROUND(Medel_T[[#This Row],[15AM T]]*(24*60/5),0)/(24*60/5),\"m\")&\" min\",\"\")&\"/dag x \"&ROUND(Medel_T[[#This Row],[Dag sum]:[Dag sum]]*DÅ[Arbetsdag/år],0)&\" dagar x \"&ROUND(Medel_T[[#This Row],[År]:[År]],1)&\" år = \"&TEXT(ROUND(Medel_T[[#This Row],[D 15AM¤]]*24,1-(INT(LOG10(ABS(Medel_T[[#This Row],[D 15AM¤]]*24))))),\"0\"&IF(1-(INT(LOG10(ABS(Medel_T[[#This Row],[D 15AM¤]]*24))))>0,\",\"&REPT(\"0\",1-(INT(LOG10(ABS(Medel_T[[#This Row],[D 15AM¤]]*24))))),\"\"))& \" h\"),\"\")","v":""},{"$f":"IFERROR(IF(LEN(Medel_T[[#This Row],[SJDstart]])>0,Exp_T[Anställning]&↓[↓]&YEAR(Medel_T[[#This Row],[Start]])&List_T[[#Totals],[List symb]]&YEAR(Medel_T[[#This Row],[Slut]])&\" (\"&ROUND(Medel_T[[#This Row],[År]],1)&\" år)\"&IF(LEN(Medel_T[[#This Row],[AöA text Sjuk]])>0,↓[↓],\"\")&Medel_T[[#This Row],[AöA text Sjuk]]&IF(LEN(Medel_T[[#This Row],[15AM Text Sjuk]])>0,↓[↓],\"\")&Medel_T[[#This Row],[15AM Text Sjuk]],\"\"),\"\")","v":""},{"$f":"IFERROR(Medel_T[[#This Row],[Period ]]&Medel_T[[#This Row],[ArbMomText]]&Medel_T[[#This Row],[Text]],\"\")","v":""},{"$f":"IF(AND(DJ20>=MAX(Medel_T[NrX]),ISNUMBER(DJ20)),Medel_T[[#Totals],[NrX]]+ROW()-ROW(Medel_T[[#Headers],[Rad]])-Medel_T[[#Totals],[Ant]]-1,INDEX(Medel_T[NrX],MATCH(ROW()-ROW(Medel_T[[#Headers],[Rad]]),Medel_T[NrX],0)))","v":{"$error":"#N/A"}},{"$f":"IF(Medel_T[[#This Row],[Rad]]<=Medel_T[[#Totals],[Ant]],MATCH(Medel_T[[#This Row],[Rad]],Medel_T[NrX],0),IFERROR(INDEX(BD_TX[[#Data],[#Totals],[SJ]],MATCH(Medel_T[[#This Row],[Rad]],BD_TX[[#Data],[#Totals],[Nr]],0)),\"\"))","v":{"$error":"#N/A"}},{"$f":"LEN(Medel_T[[#This Row],[Yrke2]])-LEN(SUBSTITUTE(Medel_T[[#This Row],[Yrke2]],LEFT(Sep_T[Separator],1),\"\"))","v":0},{"$f":"INDEX(Medel_T[År],Medel_T[[#This Row],[Nr]])","v":{"$error":"#N/A"}},{"$f":"IFERROR(IF(LEN(Medel_T[[#This Row],[Nr]])>0,TEXT(IFERROR(INDEX(Medel_T[Start],Medel_T[[#This Row],[Nr]]),INDEX(BD_TX[[#Data],[#Totals],[Start]],MATCH(Medel_T[[#This Row],[Rad]],BD_TX[[#Data],[#Totals],[Nr]],0))),\"ÅÅÅÅ MMM\")&\"-\"&TEXT(IFERROR(INDEX(Medel_T[Slut],Medel_T[[#This Row],[Nr]]),INDEX(BD_TX[[#Data],[#Totals],[År]],MATCH(Medel_T[[#This Row],[Rad]],BD_TX[[#Data],[#Totals],[Nr]],0))),\"ÅÅÅÅ MMM\"),\"\"),\"\")","v":""},{"$f":"IFERROR(IF(LEN(Medel_T[[#This Row],[Nr]])>0,IF(Medel_T[[#This Row],[Rad]]>Medel_T[[#Totals],[Ant]],IFERROR(INDEX(BD_TX[[#Data],[#Totals],[Text]],MATCH(Medel_T[[#This Row],[Rad]],BD_TX[[#Data],[#Totals],[Nr]],0)),\"\"),INDEX(Medel_T[Yrke],Medel_T[[#This Row],[Nr]])),\"\"),\"\")","v":""},{"$f":"IFERROR(INDEX(Medel_T[Arbetsmoment],MATCH(ROW()-ROW(Medel_T[[#Headers],[Arbetsmoment2]]),Medel_T[[NrX]:[NrX]],0)),\"\")","v":""},{"$f":"IFERROR(INDEX(Medel_T[],Medel_T[[#This Row],[Nr]],Medel_T[[#Totals],[HöA_T]]),\"\")","v":""},{"$f":"IF(LEN(Medel_T[[#This Row],[Nr]:[Nr]])>0,IFERROR(TEXT(ROUND(24*IFERROR(INDEX(Medel_T[],Medel_T[[#This Row],[Nr]:[Nr]],Medel_T[[#Totals],[D HöA]]),INDEX(Sum_T[[#Data],[#Totals]],MATCH(Medel_T[[#This Row],[Nr]:[Nr]],Sum_T[[#Data],[#Totals],[Typ]:[Typ]],0),MATCH(Medel_T[[#Headers],[D HöA]],Sum_T[#Headers],0))),1-(INT(LOG10(ABS(24*IFERROR(INDEX(Medel_T[],Medel_T[[#This Row],[Nr]:[Nr]],Medel_T[[#Totals],[D HöA]]),INDEX(Sum_T[[#Data],[#Totals]],MATCH(Medel_T[[#This Row],[Nr]:[Nr]],Sum_T[[#Data],[#Totals],[Typ]:[Typ]],0),MATCH(Medel_T[[#Headers],[D HöA]],Sum_T[#Headers],0)))))))),\"0\"&IF(1-(INT(LOG10(ABS(24*IFERROR(INDEX(Medel_T[],Medel_T[[#This Row],[Nr]:[Nr]],Medel_T[[#Totals],[D HöA]]),INDEX(Sum_T[[#Data],[#Totals]],MATCH(Medel_T[[#This Row],[Nr]:[Nr]],Sum_T[[#Data],[#Totals],[Typ]:[Typ]],0),MATCH(Medel_T[[#Headers],[D HöA]],Sum_T[#Headers],0)))))))>0,\",\"&REPT(\"0\",1-(INT(LOG10(ABS(24*IFERROR(INDEX(Medel_T[],Medel_T[[#This Row],[Nr]:[Nr]],Medel_T[[#Totals],[D HöA]]),INDEX(Sum_T[[#Data],[#Totals]],MATCH(Medel_T[[#This Row],[Nr]:[Nr]],Sum_T[[#Data],[#Totals],[Typ]:[Typ]],0),MATCH(Medel_T[[#Headers],[D HöA]],Sum_T[#Headers],0)))))))),0)),0),\"\")","v":{"$error":"#N/A"}},{"$f":"IFERROR(INDEX(Medel_T[],Medel_T[[#This Row],[Nr]],Medel_T[[#Totals],[AÖA_T]]),\"\")","v":""},{"$f":"IFERROR(IF(LEN(Medel_T[[#This Row],[Nr]:[Nr]])>0,IFERROR(TEXT(ROUND(24*IFERROR(INDEX(Medel_T[],Medel_T[[#This Row],[Nr]:[Nr]],Medel_T[[#Totals],[D AöA]]),INDEX(Sum_T[[#Data],[#Totals]],MATCH(Medel_T[[#This Row],[Nr]:[Nr]],Sum_T[[#Data],[#Totals],[Typ]:[Typ]],0),MATCH(Medel_T[[#Headers],[D AöA]],Sum_T[#Headers],0))),1-(INT(LOG10(ABS(24*IFERROR(INDEX(Medel_T[],Medel_T[[#This Row],[Nr]:[Nr]],Medel_T[[#Totals],[D AöA]]),INDEX(Sum_T[[#Data],[#Totals]],MATCH(Medel_T[[#This Row],[Nr]:[Nr]],Sum_T[[#Data],[#Totals],[Typ]:[Typ]],0),MATCH(Medel_T[[#Headers],[D AöA]],Sum_T[#Headers],0)))))))),\"0\"&IF(1-(INT(LOG10(ABS(24*IFERROR(INDEX(Medel_T[],Medel_T[[#This Row],[Nr]:[Nr]],Medel_T[[#Totals],[D AöA]]),INDEX(Sum_T[[#Data],[#Totals]],MATCH(Medel_T[[#This Row],[Nr]:[Nr]],Sum_T[[#Data],[#Totals],[Typ]:[Typ]],0),MATCH(Medel_T[[#Headers],[D AöA]],Sum_T[#Headers],0)))))))>0,\",\"&REPT(\"0\",1-(INT(LOG10(ABS(24*IFERROR(INDEX(Medel_T[],Medel_T[[#This Row],[Nr]:[Nr]],Medel_T[[#Totals],[D AöA]]),INDEX(Sum_T[[#Data],[#Totals]],MATCH(Medel_T[[#This Row],[Nr]:[Nr]],Sum_T[[#Data],[#Totals],[Typ]:[Typ]],0),MATCH(Medel_T[[#Headers],[D AöA]],Sum_T[#Headers],0)))))))),0)),0),\"\"),\"\")","v":""},{"$f":"IFERROR(INDEX(Medel_T[],Medel_T[[#This Row],[Nr]],Medel_T[[#Totals],[4AM_T]]),\"\")","v":""},{"$f":"IF(LEN(Medel_T[[#This Row],[Nr]:[Nr]])>0,IFERROR(TEXT(ROUND(24*IFERROR(INDEX(Medel_T[],Medel_T[[#This Row],[Nr]:[Nr]],Medel_T[[#Totals],[D 4AM]]),INDEX(Sum_T[[#Data],[#Totals]],MATCH(Medel_T[[#This Row],[Nr]:[Nr]],Sum_T[[#Data],[#Totals],[Typ]:[Typ]],0),MATCH(Medel_T[[#Headers],[D 4AM]],Sum_T[#Headers],0))),1-(INT(LOG10(ABS(24*IFERROR(INDEX(Medel_T[],Medel_T[[#This Row],[Nr]:[Nr]],Medel_T[[#Totals],[D 4AM]]),INDEX(Sum_T[[#Data],[#Totals]],MATCH(Medel_T[[#This Row],[Nr]:[Nr]],Sum_T[[#Data],[#Totals],[Typ]:[Typ]],0),MATCH(Medel_T[[#Headers],[D 4AM]],Sum_T[#Headers],0)))))))),\"0\"&IF(1-(INT(LOG10(ABS(24*IFERROR(INDEX(Medel_T[],Medel_T[[#This Row],[Nr]:[Nr]],Medel_T[[#Totals],[D 4AM]]),INDEX(Sum_T[[#Data],[#Totals]],MATCH(Medel_T[[#This Row],[Nr]:[Nr]],Sum_T[[#Data],[#Totals],[Typ]:[Typ]],0),MATCH(Medel_T[[#Headers],[D 4AM]],Sum_T[#Headers],0)))))))>0,\",\"&REPT(\"0\",1-(INT(LOG10(ABS(24*IFERROR(INDEX(Medel_T[],Medel_T[[#This Row],[Nr]:[Nr]],Medel_T[[#Totals],[D 4AM]]),INDEX(Sum_T[[#Data],[#Totals]],MATCH(Medel_T[[#This Row],[Nr]:[Nr]],Sum_T[[#Data],[#Totals],[Typ]:[Typ]],0),MATCH(Medel_T[[#Headers],[D 4AM]],Sum_T[#Headers],0)))))))),0)),0),\"\")","v":{"$error":"#N/A"}},{"$f":"IFERROR(INDEX(Medel_T[],Medel_T[[#This Row],[Nr]],Medel_T[[#Totals],[15AM_T]]),\"\")","v":""},{"$f":"IFERROR(IF(LEN(Medel_T[[#This Row],[Nr]:[Nr]])>0,IFERROR(TEXT(ROUND(24*IFERROR(INDEX(Medel_T[],Medel_T[[#This Row],[Nr]:[Nr]],Medel_T[[#Totals],[D 15AM]]),INDEX(Sum_T[[#Data],[#Totals]],MATCH(Medel_T[[#This Row],[Nr]:[Nr]],Sum_T[[#Data],[#Totals],[Typ]:[Typ]],0),MATCH(Medel_T[[#Headers],[D 15AM]],Sum_T[#Headers],0))),1-(INT(LOG10(ABS(24*IFERROR(INDEX(Medel_T[],Medel_T[[#This Row],[Nr]:[Nr]],Medel_T[[#Totals],[D 15AM]]),INDEX(Sum_T[[#Data],[#Totals]],MATCH(Medel_T[[#This Row],[Nr]:[Nr]],Sum_T[[#Data],[#Totals],[Typ]:[Typ]],0),MATCH(Medel_T[[#Headers],[D 15AM]],Sum_T[#Headers],0)))))))),\"0\"&IF(1-(INT(LOG10(ABS(24*IFERROR(INDEX(Medel_T[],Medel_T[[#This Row],[Nr]:[Nr]],Medel_T[[#Totals],[D 15AM]]),INDEX(Sum_T[[#Data],[#Totals]],MATCH(Medel_T[[#This Row],[Nr]:[Nr]],Sum_T[[#Data],[#Totals],[Typ]:[Typ]],0),MATCH(Medel_T[[#Headers],[D 15AM]],Sum_T[#Headers],0)))))))>0,\",\"&REPT(\"0\",1-(INT(LOG10(ABS(24*IFERROR(INDEX(Medel_T[],Medel_T[[#This Row],[Nr]:[Nr]],Medel_T[[#Totals],[D 15AM]]),INDEX(Sum_T[[#Data],[#Totals]],MATCH(Medel_T[[#This Row],[Nr]:[Nr]],Sum_T[[#Data],[#Totals],[Typ]:[Typ]],0),MATCH(Medel_T[[#Headers],[D 15AM]],Sum_T[#Headers],0)))))))),0)),0),\"\"),\"\")","v":""},{"$f":"IFERROR(INDEX(Medel_T[],Medel_T[[#This Row],[Nr]],Medel_T[[#Totals],[20-10D_T]]),\"\")","v":""},{"$f":"IF(LEN(Medel_T[[#This Row],[Nr]:[Nr]])>0,IFERROR(TEXT(ROUND(24*IFERROR(INDEX(Medel_T[],Medel_T[[#This Row],[Nr]:[Nr]],Medel_T[[#Totals],[D 20-10D]]),INDEX(Sum_T[[#Data],[#Totals]],MATCH(Medel_T[[#This Row],[Nr]:[Nr]],Sum_T[[#Data],[#Totals],[Typ]:[Typ]],0),MATCH(Medel_T[[#Headers],[D 20-10D]],Sum_T[#Headers],0))),1-(INT(LOG10(ABS(24*IFERROR(INDEX(Medel_T[],Medel_T[[#This Row],[Nr]:[Nr]],Medel_T[[#Totals],[D 20-10D]]),INDEX(Sum_T[[#Data],[#Totals]],MATCH(Medel_T[[#This Row],[Nr]:[Nr]],Sum_T[[#Data],[#Totals],[Typ]:[Typ]],0),MATCH(Medel_T[[#Headers],[D 20-10D]],Sum_T[#Headers],0)))))))),\"0\"&IF(1-(INT(LOG10(ABS(24*IFERROR(INDEX(Medel_T[],Medel_T[[#This Row],[Nr]:[Nr]],Medel_T[[#Totals],[D 20-10D]]),INDEX(Sum_T[[#Data],[#Totals]],MATCH(Medel_T[[#This Row],[Nr]:[Nr]],Sum_T[[#Data],[#Totals],[Typ]:[Typ]],0),MATCH(Medel_T[[#Headers],[D 20-10D]],Sum_T[#Headers],0)))))))>0,\",\"&REPT(\"0\",1-(INT(LOG10(ABS(24*IFERROR(INDEX(Medel_T[],Medel_T[[#This Row],[Nr]:[Nr]],Medel_T[[#Totals],[D 20-10D]]),INDEX(Sum_T[[#Data],[#Totals]],MATCH(Medel_T[[#This Row],[Nr]:[Nr]],Sum_T[[#Data],[#Totals],[Typ]:[Typ]],0),MATCH(Medel_T[[#Headers],[D 20-10D]],Sum_T[#Headers],0)))))))),0)),0),\"\")","v":{"$error":"#N/A"}},null,{"$f":"IFERROR(INDEX(Hin_T[Nr],MATCH(SMALL(Hin_T[B-årX],ROW()-ROW(Hut_T[[#Headers],[Rad]])),Hin_T[B-årX],0)),IF(ROWS($EB$19:EB21)=1+COUNTIF(Hin_T[Start],\"*\"),Hin_T[[#Totals],[Dag]],IF(AND(ROWS($EB$19:EB21)=2+COUNTIF(Hin_T[Start],\"*\"),Hin_T[[#Totals],[Q%-]]>0),EB20+1,IF(AND(ROWS($EB$19:EB21)=3+COUNTIF(Hin_T[Start],\"*\"),Hin_T[[#Totals],[Q%-]]>1),EB20+1,IF(AND(ROWS($EB$19:EB21)=4+COUNTIF(Hin_T[Start],\"*\"),Hin_T[[#Totals],[Q%-]]>2),EB20+1,\"\")))))","v":25},{"$f":"IF(Hut_T[[#This Row],[Rad]]<Hin_T[[#Totals],[Dag]],ROWS($EB$19:EB21),IFERROR(INDEX(BD_TX[[#Data],[#Totals],[SJ]],MATCH(Hut_T[[#This Row],[Rad]],BD_TX[[#Data],[#Totals],[NrX]],0)),\"\"))","v":""},{"$f":"IF(ISNUMBER(Hut_T[[#This Row],[Datum-]]),TEXT(Hut_T[[#This Row],[Datum-]],\"ÅÅÅÅ MMM\")&\"-\"&TEXT(Hut_T[[#This Row],[Datum+]],\"ÅÅÅÅ MMM\"),\"\")","v":""},{"$f":"IF(ISNUMBER(Hut_T[[#This Row],[Nr]]),IF(INDEX(Hin_T[Yrke],Hut_T[[#This Row],[Rad]])>0,INDEX(Hin_T[Yrke],Hut_T[[#This Row],[Rad]]),\"\"),IFERROR(INDEX(BD_TX[[#Data],[#Totals],[Text]],MATCH(Hut_T[[#This Row],[Rad]],BD_TX[[#Data],[#Totals],[NrX]],0)),\"\"))","v":""},{"$f":"IF(ISNUMBER(Hut_T[[#This Row],[Nr]]),IF(INDEX(Hin_T[Arbetsmoment],Hut_T[[#This Row],[Rad]])>0,INDEX(Hin_T[Arbetsmoment],Hut_T[[#This Row],[Rad]]),\"\"),\"\")","v":""},{"$f":"IFERROR(IF(INDEX(Hin_T[Yrke],Hut_T[[#This Row],[Rad]])>0,INDEX(Hin_T[Företag],Hut_T[[#This Row],[Rad]]),\"\"),\"\")","v":""},{"$f":"IFERROR(IF(INDEX(Hin_T[Dag],Hut_T[[#This Row],[Rad]])>0,INDEX(Hin_T[Dag],Hut_T[[#This Row],[Rad]])*DÅ[Arbetsdag/år],\"\"),\"\")","v":""},{"$f":"IF(AND(ISNUMBER(_xlfn.SINGLE(Hut_T[[#This Row],[Rad]:[Rad]])),IFERROR(_xlfn.SINGLE(INDEX(Hin_T[[#Data],[#Totals]],_xlfn.SINGLE(Hut_T[[#This Row],[Rad]:[Rad]]),MATCH(Hut_T[[#Headers],[D HöA]],Hin_T[#Headers],0))),\"\")),IFERROR(ROUND(_xlfn.SINGLE(INDEX(Hin_T[[#Data],[#Totals]],_xlfn.SINGLE(Hut_T[[#This Row],[Rad]:[Rad]])-IF(_xlfn.SINGLE(Hut_T[[#This Row],[Nr]:[Nr]])=_xlfn.SINGLE(#REF!),COUNT(Besvär_T[[Sjukdomsdebut]:[Sjukdomsdebut]]),0),MATCH(_xlfn.SINGLE(IF(_xlfn.SINGLE(Hut_T[[#This Row],[Nr]:[Nr]])=_xlfn.SINGLE(#REF!),#REF!,\"\"))&Hut_T[[#Headers],[D HöA]],Hin_T[#Headers],0))),0),\"\"),\"\")","v":""},{"$f":"IF(AND(ISNUMBER(Hut_T[[#This Row],[Rad]:[Rad]]),ISNUMBER(Hut_T[[#This Row],[D HöA]]),ISNUMBER(Hut_T[[#This Row],[Nr]:[Nr]])),IFERROR(ROUND(INDEX(Hin_T[[#Data],[#Totals]],Hut_T[[#This Row],[Rad]:[Rad]],MATCH(Hut_T[[#Headers],[HöA-A]],Hin_T[#Headers],0)),1-(INT(LOG10(INDEX(Hin_T[[#Data],[#Totals]],Hut_T[[#This Row],[Rad]:[Rad]],MATCH(Hut_T[[#Headers],[HöA-A]],Hin_T[#Headers],0)))))),1),\"\")","v":""},{"$f":"IF(AND(ISNUMBER(Hut_T[[#This Row],[Rad]:[Rad]]),IFERROR(INDEX(Hin_T[[#Data],[#Totals]],Hut_T[[#This Row],[Rad]:[Rad]],MATCH(Hut_T[[#Headers],[D AöA]],Hin_T[#Headers],0)),\"\")),IFERROR(ROUND(INDEX(Hin_T[[#Data],[#Totals]],Hut_T[[#This Row],[Rad]:[Rad]]-IF(Hut_T[[#This Row],[Nr]:[Nr]]=BD_TX[[SJ]:[SJ]],COUNT(Besvär_T[[Sjukdomsdebut]:[Sjukdomsdebut]]),0),MATCH(IF(Hut_T[[#This Row],[Nr]:[Nr]]=BD_TX[[#Totals],[SJ]:[SJ]],BD_TX[[#Headers],[SJ]],\"\")&Hut_T[[#Headers],[D AöA]],Hin_T[#Headers],0)),0),\"\"),\"\")","v":""},{"$f":"IF(AND(ISNUMBER(Hut_T[[#This Row],[Rad]:[Rad]]),ISNUMBER(Hut_T[[#This Row],[D AöA]]),ISNUMBER(Hut_T[[#This Row],[Nr]:[Nr]])),IFERROR(ROUND(INDEX(Hin_T[[#Data],[#Totals]],Hut_T[[#This Row],[Rad]:[Rad]],MATCH(Hut_T[[#Headers],[AöA-A]],Hin_T[#Headers],0)),1-(INT(LOG10(INDEX(Hin_T[[#Data],[#Totals]],Hut_T[[#This Row],[Rad]:[Rad]],MATCH(Hut_T[[#Headers],[AöA-A]],Hin_T[#Headers],0)))))),1),\"\")","v":""},{"$f":"IF(AND(ISNUMBER(_xlfn.SINGLE(Hut_T[[#This Row],[Rad]:[Rad]])),IFERROR(_xlfn.SINGLE(INDEX(Hin_T[[#Data],[#Totals]],_xlfn.SINGLE(Hut_T[[#This Row],[Rad]:[Rad]]),MATCH(Hut_T[[#Headers],[D 4AM]],Hin_T[#Headers],0))),\"\")),IFERROR(ROUND(_xlfn.SINGLE(INDEX(Hin_T[[#Data],[#Totals]],_xlfn.SINGLE(Hut_T[[#This Row],[Rad]:[Rad]])-IF(_xlfn.SINGLE(Hut_T[[#This Row],[Nr]:[Nr]])=_xlfn.SINGLE(#REF!),COUNT(Besvär_T[[Sjukdomsdebut]:[Sjukdomsdebut]]),0),MATCH(_xlfn.SINGLE(IF(_xlfn.SINGLE(Hut_T[[#This Row],[Nr]:[Nr]])=_xlfn.SINGLE(#REF!),#REF!,\"\"))&Hut_T[[#Headers],[D 4AM]],Hin_T[#Headers],0))),0),\"\"),\"\")","v":""},{"$f":"IF(AND(ISNUMBER(Hut_T[[#This Row],[Rad]:[Rad]]),ISNUMBER(Hut_T[[#This Row],[D 4AM]]),ISNUMBER(Hut_T[[#This Row],[Nr]:[Nr]])),IFERROR(ROUND(INDEX(Hin_T[[#Data],[#Totals]],Hut_T[[#This Row],[Rad]:[Rad]],MATCH(Hut_T[[#Headers],[4AM-A]],Hin_T[#Headers],0)),1-(INT(LOG10(INDEX(Hin_T[[#Data],[#Totals]],Hut_T[[#This Row],[Rad]:[Rad]],MATCH(Hut_T[[#Headers],[4AM-A]],Hin_T[#Headers],0)))))),1),\"\")","v":""},{"$f":"IF(AND(ISNUMBER(Hut_T[[#This Row],[Rad]:[Rad]]),IFERROR(INDEX(Hin_T[[#Data],[#Totals]],Hut_T[[#This Row],[Rad]:[Rad]],MATCH(Hut_T[[#Headers],[D 15AM]],Hin_T[#Headers],0)),\"\")),IFERROR(ROUND(INDEX(Hin_T[[#Data],[#Totals]],Hut_T[[#This Row],[Rad]:[Rad]]-IF(Hut_T[[#This Row],[Nr]:[Nr]]=BD_TX[[SJ]:[SJ]],COUNT(Besvär_T[[Sjukdomsdebut]:[Sjukdomsdebut]]),0),MATCH(IF(Hut_T[[#This Row],[Nr]:[Nr]]=BD_TX[[#Totals],[SJ]:[SJ]],BD_TX[[#Headers],[SJ]],\"\")&Hut_T[[#Headers],[D 15AM]],Hin_T[#Headers],0)),0),\"\"),\"\")","v":""},{"$f":"IF(AND(ISNUMBER(Hut_T[[#This Row],[Rad]:[Rad]]),ISNUMBER(Hut_T[[#This Row],[D 15AM]]),ISNUMBER(Hut_T[[#This Row],[Nr]:[Nr]])),IFERROR(ROUND(INDEX(Hin_T[[#Data],[#Totals]],Hut_T[[#This Row],[Rad]:[Rad]],MATCH(Hut_T[[#Headers],[15AM-A]],Hin_T[#Headers],0)),1-(INT(LOG10(INDEX(Hin_T[[#Data],[#Totals]],Hut_T[[#This Row],[Rad]:[Rad]],MATCH(Hut_T[[#Headers],[15AM-A]],Hin_T[#Headers],0)))))),1),\"\")","v":""},{"$f":"IF(AND(ISNUMBER(Hut_T[[#This Row],[Rad]:[Rad]]),IFERROR(INDEX(Hin_T[[#Data],[#Totals]],Hut_T[[#This Row],[Rad]:[Rad]],MATCH(Hut_T[[#Headers],[D 20-10D]],Hin_T[#Headers],0)),\"\")),IFERROR(ROUND(INDEX(Hin_T[[#Data],[#Totals]],Hut_T[[#This Row],[Rad]:[Rad]]-IF(Hut_T[[#This Row],[Nr]:[Nr]]=BD_TX[[SJ]:[SJ]],COUNT(Besvär_T[[Sjukdomsdebut]:[Sjukdomsdebut]]),0),MATCH(IF(Hut_T[[#This Row],[Nr]:[Nr]]=BD_TX[[#Totals],[SJ]:[SJ]],BD_TX[[#Headers],[SJ]],\"\")&Hut_T[[#Headers],[D 20-10D]],Hin_T[#Headers],0)),0),\"\"),\"\")","v":""},{"$f":"IF(AND(ISNUMBER(Hut_T[[#This Row],[Rad]:[Rad]]),ISNUMBER(Hut_T[[#This Row],[D 20-10D]]),ISNUMBER(Hut_T[[#This Row],[Nr]:[Nr]])),IFERROR(ROUND(INDEX(Hin_T[[#Data],[#Totals]],Hut_T[[#This Row],[Rad]:[Rad]],MATCH(Hut_T[[#Headers],[20-10D-A]],Hin_T[#Headers],0)),1-(INT(LOG10(INDEX(Hin_T[[#Data],[#Totals]],Hut_T[[#This Row],[Rad]:[Rad]],MATCH(Hut_T[[#Headers],[20-10D-A]],Hin_T[#Headers],0)))))),1),\"\")","v":""},null,{"$f":"IFERROR(INDEX(Hin_T[[#Data],[#Totals],[B-år]],Hut_T[[#This Row],[Rad]]),IF(ISNUMBER(Hut_T[[#This Row],[Datum+]]),ET20,\"\"))","v":""},{"$f":"IFERROR(INDEX(Hin_T[S-år],Hut_T[[#This Row],[Rad]]),IFERROR(INDEX(BD_TX[[#Data],[#Totals],[År]],MATCH(Hut_T[[#This Row],[Rad]],BD_TX[[#Data],[#Totals],[NrX]],0)),\"\"))","v":""},null,{"$f":"ROWS($EW$20:EW21)","v":2},{"$f":"IFERROR(MATCH(Hist_Tab[[#This Row],[Ref]],Medel_T[NrX],0),1)","v":1},{"$f":"INT((ROW(Hist_Tab[[#This Row],[Ref]])-ROW(Hist_Tab[[#Headers],[Ref]])-1)/4)+1","v":1},{"$f":"COUNTIF($EY$19:EY21,Hist_Tab[[#This Row],[Ref]])","v":3},{"$f":"IFERROR(INDEX(Medel_T[Start],Hist_Tab[[#This Row],[Ref]]),_xlfn.AGGREGATE(4,6,Medel_T[Start]))","v":"00:00:00"},{"$f":"IFERROR(INDEX(Medel_T[Slut],Hist_Tab[[#This Row],[Ref]]),_xlfn.AGGREGATE(4,6,Medel_T[Slut]))","v":"00:00:00"},{"$f":"IF(EW20=0,Hist_Tab[[#This Row],[ÅrB]],IF(Hist_Tab[[#This Row],[per/p]]<2,Hist_Tab[[#This Row],[ÅrB]],Hist_Tab[[#This Row],[År S]]))","v":"00:00:00"},{"$f":"IF(Hist_Tab[[#This Row],[Rad]:[Rad]]=0,-1,IF($EY22>_xlfn.AGGREGATE(2,6,Medel_T[[Slut]:[Slut]]),0,INDEX(Medel_T[],Hist_Tab[[#This Row],[Ref]:[Ref]],MATCH(Hist_Tab[[#Headers],[HöA T]],Medel_T[#Headers],0))))","v":0},{"$f":"IF(Hist_Tab[[#This Row],[Rad]:[Rad]]=0,0,IF($EY22>_xlfn.AGGREGATE(2,6,Medel_T[[Slut]:[Slut]]),0,INDEX(Medel_T[],Hist_Tab[[#This Row],[Ref]:[Ref]],MATCH(Hist_Tab[[#Headers],[AöA T]],Medel_T[#Headers],0))))","v":0},{"$f":"IF(Hist_Tab[[#This Row],[Rad]:[Rad]]=0,0,IF($EY22>_xlfn.AGGREGATE(2,6,Medel_T[[Slut]:[Slut]]),0,INDEX(Medel_T[],Hist_Tab[[#This Row],[Ref]:[Ref]],MATCH(Hist_Tab[[#Headers],[4AM T]],Medel_T[#Headers],0))))","v":0},{"$f":"IF(Hist_Tab[[#This Row],[Rad]:[Rad]]=0,0,IF($EY22>_xlfn.AGGREGATE(2,6,Medel_T[[Slut]:[Slut]]),0,INDEX(Medel_T[],Hist_Tab[[#This Row],[Ref]:[Ref]],MATCH(Hist_Tab[[#Headers],[15AM T]],Medel_T[#Headers],0))))","v":0},{"$f":"IF(Hist_Tab[[#This Row],[Rad]:[Rad]]=0,0,IF($EY22>_xlfn.AGGREGATE(2,6,Medel_T[[Slut]:[Slut]]),0,INDEX(Medel_T[],Hist_Tab[[#This Row],[Ref]:[Ref]],MATCH(Hist_Tab[[#Headers],[20-10D T]],Medel_T[#Headers],0))))","v":0}]
[null,null,null,null,null,null,null,null,null,null,null,null,null,null,null,null,null,null,{"$f":"IF(LEN(Hin_T[[#This Row],[Start]])>0,ROWS($S$19:S22),\"\")","v":""},null,{"$f":"Hin_T[[#This Row],[Yrke]]&IF(ISBLANK(Hin_T[[#This Row],[Arbetsmoment]]),\"\",\"; \"&Hin_T[[#This Row],[Arbetsmoment]])","v":""},{"$f":"IFERROR(IF(LEN(Hin_T[[#This Row],[Start]])-LEN(SUBSTITUTE(Hin_T[[#This Row],[Start]],\"-\",\"\"))=2,DATEVALUE(Hin_T[[#This Row],[Start]]),IF(LEN(Hin_T[[#This Row],[Start]])<5,DATEVALUE(Hin_T[[#This Row],[Start]]&\"-01-01\"),DATEVALUE(LEFT(Hin_T[[#This Row],[Start]],IF(LEN(Hin_T[[#This Row],[Start]])>6,4,2))&\"-\"&MID(Hin_T[[#This Row],[Start]],IF(LEN(Hin_T[[#This Row],[Start]])>6,5,3),2)&\"-\"&RIGHT(Hin_T[[#This Row],[Start]],2)))),\"\")","v":""},{"$f":"IFERROR(IF(LEN(Hin_T[[#This Row],[Slut]])-LEN(SUBSTITUTE(Hin_T[[#This Row],[Slut]],\"-\",\"\"))=2,DATEVALUE(Hin_T[[#This Row],[Slut]]),IF(LEN(Hin_T[[#This Row],[Slut]])<5,DATEVALUE(Hin_T[[#This Row],[Slut]]&\"-12-31\"),DATEVALUE(LEFT(Hin_T[[#This Row],[Slut]],IF(LEN(Hin_T[[#This Row],[Slut]])>6,4,2))&\"-\"&MID(Hin_T[[#This Row],[Slut]],IF(LEN(Hin_T[[#This Row],[Slut]])>6,5,3),2)&\"-\"&RIGHT(Hin_T[[#This Row],[Slut]],2)))),\"\")","v":""},{"$f":"IF(COUNTIF(V$19:V22,Hin_T[[#This Row],[B-år]])=1,Hin_T[[#This Row],[B-år]],\"\")","v":""},{"$f":"IF(COUNTIF(W$19:W22,Hin_T[[#This Row],[S-år]])=1,Hin_T[[#This Row],[S-år]],\"\")","v":""},{"$f":"IFERROR(Hin_T[[#This Row],[B-år]]+IF(COUNTIF($V$19:V22,Hin_T[[#This Row],[B-år]])>1,COUNTIF($V$19:V22,Hin_T[[#This Row],[B-år]])/10,0),\"\")","v":""},{"$f":"IF(ISNUMBER(Hin_T[[#This Row],[Dagar]]),Hin_T[[#This Row],[Dagar]]/DÅ[Arbetsdag/år],1)","v":1},{"$f":"Hin_T[[#This Row],[Dag]]*DÅ[Arbetsdag/år]","v":220},{"$f":"IF(LEN(Hin_T[[#This Row],[Yrke]])=4,1,0)","v":0},{"$f":"_xlfn.DAYS(Hin_T[[#This Row],[B-år]],DATE(YEAR(Hin_T[[#This Row],[B-år]]),1,1))/(DATE(YEAR(Hin_T[[#This Row],[B-år]])+1,1,1)-DATE(YEAR(Hin_T[[#This Row],[B-år]]),1,1))","v":{"$error":"#VALUE!"}},{"$f":"_xlfn.DAYS(DATE(YEAR(Hin_T[[#This Row],[S-år]]),12,31),Hin_T[[#This Row],[S-år]])/(DATE(YEAR(Hin_T[[#This Row],[S-år]])+1,1,1)-DATE(YEAR(Hin_T[[#This Row],[S-år]]),1,1))","v":{"$error":"#VALUE!"}},{"$f":"YEARFRAC(Hin_T[[#This Row],[S-år]],Hin_T[[#This Row],[B-år]])*Hin_T[[#This Row],[Dag]]","v":{"$error":"#VALUE!"}},{"$f":"IFERROR(Hin_T[[#This Row],[År diff]]*IF(ISNUMBER(Hin_T[[#This Row],[HöA]]),1,0),0)","v":0},{"$f":"IFERROR(Hin_T[[#This Row],[År diff]]*IF(ISNUMBER(Hin_T[[#This Row],[AöA]]),1,0),0)","v":0},{"$f":"IF(Hin_T[[#This Row],[B-år]]<=Besvär_T[[#Totals],[Sjukdomsdebut]],Hin_T[[#This Row],[B-år]],\"\")","v":""},{"$f":"IF(Hin_T[[#This Row],[S-år]]<=Besvär_T[[#Totals],[Sjukdomsdebut]],Hin_T[[#This Row],[S-år]],\"\")","v":""},{"$f":"IFERROR(YEARFRAC(IF(AND(ISNUMBER(Hin_T[[#This Row],[B-år EA]]),LEN(Hin_T[[#This Row],[S-år EA]])=0),Hin_T[[#Totals],[15AM-A]],Hin_T[[#This Row],[S-år EA]]),Hin_T[[#This Row],[B-år EA]])*Hin_T[[#This Row],[Dag]]*IF(ISNUMBER(Hin_T[[#This Row],[HöA]]),1,0),0)","v":0},{"$f":"IFERROR(YEARFRAC(IF(AND(ISNUMBER(Hin_T[[#This Row],[B-år EA]]),LEN(Hin_T[[#This Row],[S-år EA]])=0),Hin_T[[#Totals],[15AM-A]],Hin_T[[#This Row],[S-år EA]]),Hin_T[[#This Row],[B-år EA]])*Hin_T[[#This Row],[Dag]]*IF(ISNUMBER(Hin_T[[#This Row],[AöA]]),1,0),0)","v":0},{"$f":"IFERROR(Hin_T[[#This Row],[År diff]]*IF(ISNUMBER(Hin_T[[#This Row],[4AM]]),1,0),0)","v":0},{"$f":"IFERROR(Hin_T[[#This Row],[År diff]]*IF(ISNUMBER(Hin_T[[#This Row],[15AM]]),1,0),0)","v":0},{"$f":"IF(Hin_T[[#This Row],[B-år]]<=Besvär_T[[#Totals],[Sjukdomsdebut]],Hin_T[[#This Row],[B-år]],\"\")","v":""},{"$f":"IF(Hin_T[[#This Row],[S-år]]<=Besvär_T[[#Totals],[Sjukdomsdebut]],Hin_T[[#This Row],[S-år]],\"\")","v":""},{"$f":"IFERROR(YEARFRAC(IF(AND(ISNUMBER(Hin_T[[#This Row],[B-år RA]]),LEN(Hin_T[[#This Row],[S-år RA]])=0),Hin_T[[#Totals],[15AM-A]],Hin_T[[#This Row],[S-år RA]]),Hin_T[[#This Row],[B-år RA]])*Hin_T[[#This Row],[Dag]]*IF(ISNUMBER(Hin_T[[#This Row],[4AM]]),1,0),0)","v":0},{"$f":"IFERROR(YEARFRAC(IF(AND(ISNUMBER(Hin_T[[#This Row],[B-år RA]]),LEN(Hin_T[[#This Row],[S-år RA]])=0),Hin_T[[#Totals],[15AM-A]],Hin_T[[#This Row],[S-år RA]]),Hin_T[[#This Row],[B-år RA]])*Hin_T[[#This Row],[Dag]]*IF(ISNUMBER(Hin_T[[#This Row],[15AM]]),1,0),0)","v":0},{"$f":"IFERROR(Hin_T[[#This Row],[År diff]]*IF(ISNUMBER(Hin_T[[#This Row],[20-10D]]),1,0),0)","v":0},{"$f":"IF(Hin_T[[#This Row],[B-år]]<=Besvär_T[[#Totals],[Sjukdomsdebut]],Hin_T[[#This Row],[B-år]],\"\")","v":""},{"$f":"IF(Hin_T[[#This Row],[S-år]]<=Besvär_T[[#Totals],[Sjukdomsdebut]],Hin_T[[#This Row],[S-år]],\"\")","v":""},{"$f":"IFERROR(YEARFRAC(IF(AND(ISNUMBER(Hin_T[[#This Row],[B-år TMH]]),LEN(Hin_T[[#This Row],[S-år TMH]])=0),Hin_T[[#Totals],[15AM-A]],Hin_T[[#This Row],[S-år TMH]]),Hin_T[[#This Row],[B-år TMH]])*Hin_T[[#This Row],[Dag]]*IF(ISNUMBER(Hin_T[[#This Row],[20-10D]]),1,0),0)","v":0},{"$f":"IF(Hin_T[[#This Row],[Vib]]=JN_T[JN],1,0)","v":0},{"$f":"IFERROR(Hin_T[[#This Row],[År diff]]*IF(Hin_T[[#This Row],[Vib2]]>0,1,0),0)","v":0},{"$f":"IF(Hin_T[[#This Row],[B-år]]<=Besvär_T[[#Totals],[Sjukdomsdebut]],Hin_T[[#This Row],[B-år]],\"\")","v":""},{"$f":"IF(Hin_T[[#This Row],[S-år]]<=Besvär_T[[#Totals],[Sjukdomsdebut]],Hin_T[[#This Row],[S-år]],\"\")","v":""},{"$f":"IFERROR(YEARFRAC(IF(AND(ISNUMBER(Hin_T[[#This Row],[B-år VIB]]),LEN(Hin_T[[#This Row],[S-år Vib]])=0),Hin_T[[#Totals],[15AM-A]],Hin_T[[#This Row],[S-år Vib]]),Hin_T[[#This Row],[B-år VIB]])*IF(Hin_T[[#This Row],[Vib2]]>0,1,0),0)","v":0},{"$f":"Hin_T[[#This Row],[HöA]]*Hin_T[[#This Row],[tot år HöA]]*DÅ[Arbetsdag/år]","v":0},{"$f":"Hin_T[[#This Row],[tot år AöA]]*Hin_T[[#This Row],[AöA]]*DÅ[Arbetsdag/år]","v":0},{"$f":"Hin_T[[#This Row],[tot år 4AM]]*Hin_T[[#This Row],[4AM]]*DÅ[Arbetsdag/år]","v":0},{"$f":"Hin_T[[#This Row],[tot år 15AM]]*Hin_T[[#This Row],[15AM]]*DÅ[Arbetsdag/år]","v":0},{"$f":"Hin_T[[#This Row],[tot år 20-10D]]*Hin_T[[#This Row],[20-10D]]*DÅ[Arbetsdag/år]","v":0},{"$f":"Hin_T[[#This Row],[BD år HöA]]*Hin_T[[#This Row],[HöA]]*DÅ[Arbetsdag/år]","v":0},{"$f":"Hin_T[[#This Row],[BD år AöA]]*Hin_T[[#This Row],[AöA]]*DÅ[Arbetsdag/år]","v":0},{"$f":"Hin_T[[#This Row],[BD år 4AM]]*Hin_T[[#This Row],[4AM]]*DÅ[Arbetsdag/år]","v":0},{"$f":"Hin_T[[#This Row],[BD år 15AM]]*Hin_T[[#This Row],[15AM]]*DÅ[Arbetsdag/år]","v":0},{"$f":"Hin_T[[#This Row],[BD år 20-10D]]*Hin_T[[#This Row],[20-10D]]*DÅ[Arbetsdag/år]","v":0},{"$f":"Hin_T[[#This Row],[Arbetsmoment]]&Hin_T[[#This Row],[Text AöA]]&Hin_T[[#This Row],[Text 15AM]]&IF(Hin_T[[#This Row],[Dagarna]]=DÅ[Arbetsdag/år],\"\",\". \"&Hin_T[[#This Row],[Dagarna]]&\" dagar/år\")&\". \"","v":". "},{"$f":"IF(ISBLANK(Hin_T[[#This Row],[AöA]]),\"\",Exp_T[Överarmslyft> 90°: ]&IF(VALUE(TEXT(Hin_T[[#This Row],[AöA]],\"t\"))>0,VALUE(TEXT(Hin_T[[#This Row],[AöA]],\"t\"))&\" h\",\"\")&IF(AND(VALUE(TEXT(Hin_T[[#This Row],[AöA]],\"t\"))>0,VALUE(TEXT(Hin_T[[#This Row],[AöA]],\"m\"))>2.4),\" \",\"\")&IF(VALUE(TEXT(Hin_T[[#This Row],[AöA]],\"m\"))>2.4,TEXT(ROUND(Hin_T[[#This Row],[AöA]]*(24*60/5),0)/(24*60/5),\"m\")&\" min\",\"\")&\"/dag\")","v":""},{"$f":"IF(ISBLANK(Hin_T[[#This Row],[15AM]]),\"\",Exp_T[Överarmsrörelser> 15/min: ]&IF(VALUE(TEXT(Hin_T[[#This Row],[15AM]],\"t\"))>0,VALUE(TEXT(Hin_T[[#This Row],[15AM]],\"t\"))&\" h\",\"\")&IF(AND(VALUE(TEXT(Hin_T[[#This Row],[15AM]],\"t\"))>0,VALUE(TEXT(Hin_T[[#This Row],[15AM]],\"m\"))>2.4),\" \",\"\")&IF(VALUE(TEXT(Hin_T[[#This Row],[15AM]],\"m\"))>2.4,TEXT(ROUND(Hin_T[[#This Row],[15AM]]*(24*60/5),0)/(24*60/5),\"m\")&\" min\",\"\")&\"/dag\")","v":""},null,"; ",null,null,{"$f":"SMALL(Hin_T[[StartÅR]:[SlutÅr]],ROW()-ROW(Medel_T[[#Headers],[Start]]))","v":{"$error":"#NUM!"}},{"$f":"SMALL(Hin_T[[StartÅR]:[SlutÅr]],ROW()-ROW(Medel_T[[#Headers],[Slut]])+1)","v":{"$error":"#NUM!"}},{"$f":"IF(Medel_T[[#This Row],[Start]]<=Besvär_T[[#Totals],[Sjukdomsdebut]],Medel_T[[#This Row],[Start]],\"\")","v":{"$error":"#NUM!"}},{"$f":"IF(Medel_T[[#This Row],[Slut]]<=Besvär_T[[#Totals],[Sjukdomsdebut]],Medel_T[[#This Row],[Slut]],IF(AND(LEN(Medel_T[[#This Row],[SJDstart]])>0,LEN(BU23)=0),Besvär_T[[#Totals],[Sjukdomsdebut]],\"\"))","v":{"$error":"#NUM!"}},{"$f":"IF(Medel_T[[#This Row],[Start]]>=Besvär_T[[#Totals],[Sjukdomsdebut]],Medel_T[[#This Row],[Start]],IF(AND(LEN(Medel_T[[#This Row],[EfterSlut]])>0,LEN(BX21)=0),Besvär_T[[#Totals],[Sjukdomsdebut]],\"\"))","v":{"$error":"#NUM!"}},{"$f":"IF(Medel_T[[#This Row],[Slut]]>=Besvär_T[[#Totals],[Sjukdomsdebut]],Medel_T[[#This Row],[Slut]],\"\")","v":{"$error":"#NUM!"}},{"$f":"COUNTIF($BZ$19:BZ22,\">0\")","v":0},{"$f":"COUNTIFS(Hin_T[B-år],\"<=\"&Medel_T[[#This Row],[Start]],Hin_T[S-år],\">=\"&Medel_T[[#This Row],[Slut]])","v":0},{"$f":"SUBSTITUTE(_xlfn.TEXTJOIN(Sep_T[Separator],TRUE,_xlfn._xlws.SORT(_xlfn.UNIQUE(IF((Hin_T[[B-år]:[B-år]]<=Medel_T[[#This Row],[Start]:[Start]])*(Hin_T[[S-år]:[S-år]]>=Medel_T[[#This Row],[Slut]:[Slut]]),Hin_T[Yrke],\"\")))),0&Sep_T[Separator],\"\")","v":{"$error":"#NUM!"}},{"$f":"SUBSTITUTE(_xlfn.TEXTJOIN(Sep_T[Separator],TRUE,_xlfn._xlws.SORT(_xlfn.UNIQUE(IF((Hin_T[[B-år]:[B-år]]<=Medel_T[[#This Row],[Start]:[Start]])*(Hin_T[[S-år]:[S-år]]>=Medel_T[[#This Row],[Slut]:[Slut]]),Hin_T[Arbetsmoment],\"\")))),0&Sep_T[Separator],\"\")","v":{"$error":"#NUM!"}},{"$f":"IF(LEN(Medel_T[[#This Row],[Yrke]])>0,Medel_T[[#Headers],[Period ]]&Medel_T[[#This Row],[NrX]]&\": \"&TEXT(Medel_T[[#This Row],[Start]],\"ÅÅÅÅ\")&List_T[[#Totals],[List symb]]&TEXT(Medel_T[[#This Row],[Slut]],\"ÅÅÅÅ\")&\" (\"&ROUND(Medel_T[[#This Row],[År]],1)&\" år) Anställd som \"&IFERROR(SUBSTITUTE(SUBSTITUTE(Medel_T[[#This Row],[Yrke]],Sep_T[Separator],\" och \",Medel_T[[#This Row],[Ant]]-1),Sep_T[Separator],\", \"),Medel_T[[#This Row],[Yrke]])&↓[↓],\"\")","v":{"$error":"#NUM!"}},{"$f":"IF(LEN(Medel_T[[#This Row],[Arbetsmoment]])>0,ROMAN(1)&\") \"&_xlfn.TEXTJOIN(Delim[Delimiters],TRUE,_xlfn._xlws.SORT(_xlfn.UNIQUE(IF((Hin_T[[B-år]:[B-år]]<=Medel_T[[#This Row],[Start]:[Start]])*(Hin_T[[S-år]:[S-år]]>=Medel_T[[#This Row],[Slut]:[Slut]]),Hin_T[Text],\"\"))))&↓[↓],\"\")","v":{"$error":"#NUM!"}},{"$f":"SUMPRODUCT((Hin_T[[B-år]:[B-år]]<=Medel_T[[#This Row],[Start]:[Start]])*(Hin_T[[S-år]:[S-år]]>=Medel_T[[#This Row],[Slut]:[Slut]])*Hin_T[Dag])","v":{"$error":"#NUM!"}},{"$f":"IF(Medel_T[[#This Row],[Proc dag]]<=1,Medel_T[[#This Row],[Proc dag]],1)","v":{"$error":"#NUM!"}},{"$f":"YEARFRAC(Medel_T[[#This Row],[Slut]],Medel_T[[#This Row],[Start]])","v":{"$error":"#NUM!"}},{"$f":"YEARFRAC(Medel_T[[#This Row],[SJDslut]],Medel_T[[#This Row],[SJDstart]])","v":{"$error":"#NUM!"}},{"$f":"IFERROR(SUMPRODUCT((Hin_T[[B-år]:[B-år]]<=Medel_T[[#This Row],[Start]:[Start]])*(Hin_T[[S-år]:[S-år]]>=Medel_T[[#This Row],[Slut]:[Slut]])*Hin_T[HöA]*Hin_T[[Dag]:[Dag]])/Medel_T[[#This Row],[Proc dag]],-1)","v":-1},{"$f":"IFERROR(SUMPRODUCT((Hin_T[[B-år]:[B-år]]<=Medel_T[[#This Row],[Start]:[Start]])*(Hin_T[[S-år]:[S-år]]>=Medel_T[[#This Row],[Slut]:[Slut]])*Hin_T[AöA]*Hin_T[[Dag]:[Dag]])/Medel_T[[#This Row],[Proc dag]],-1)","v":-1},{"$f":"IFERROR(SUMPRODUCT((Hin_T[[B-år]:[B-år]]<=Medel_T[[#This Row],[Start]:[Start]])*(Hin_T[[S-år]:[S-år]]>=Medel_T[[#This Row],[Slut]:[Slut]])*Hin_T[4AM]*Hin_T[[Dag]:[Dag]])/Medel_T[[#This Row],[Proc dag]],-1)","v":-1},{"$f":"IFERROR(SUMPRODUCT((Hin_T[[B-år]:[B-år]]<=Medel_T[[#This Row],[Start]:[Start]])*(Hin_T[[S-år]:[S-år]]>=Medel_T[[#This Row],[Slut]:[Slut]])*Hin_T[15AM]*Hin_T[[Dag]:[Dag]])/Medel_T[[#This Row],[Proc dag]],-1)","v":-1},{"$f":"IFERROR(SUMPRODUCT((Hin_T[[B-år]:[B-år]]<=Medel_T[[#This Row],[Start]:[Start]])*(Hin_T[[S-år]:[S-år]]>=Medel_T[[#This Row],[Slut]:[Slut]])*Hin_T[20-10D]*Hin_T[[Dag]:[Dag]])/Medel_T[[#This Row],[Proc dag]],-1)","v":-1},{"$f":"IFERROR(SUMPRODUCT((Hin_T[[B-år]:[B-år]]<=Medel_T[[#This Row],[Start]:[Start]])*(Hin_T[[S-år]:[S-år]]>=Medel_T[[#This Row],[Slut]:[Slut]])*Hin_T[[Dag]:[Dag]]*Hin_T[HöA])/Medel_T[[#This Row],[Dag sum]],-1)","v":-1},{"$f":"IFERROR(SUMPRODUCT((Hin_T[[B-år]:[B-år]]<=Medel_T[[#This Row],[Start]:[Start]])*(Hin_T[[S-år]:[S-år]]>=Medel_T[[#This Row],[Slut]:[Slut]])*Hin_T[[Dag]:[Dag]]*Hin_T[AöA])/Medel_T[[#This Row],[Dag sum]],-1)","v":-1},{"$f":"IFERROR(SUMPRODUCT((Hin_T[[B-år]:[B-år]]<=Medel_T[[#This Row],[Start]:[Start]])*(Hin_T[[S-år]:[S-år]]>=Medel_T[[#This Row],[Slut]:[Slut]])*Hin_T[[Dag]:[Dag]]*Hin_T[4AM])/Medel_T[[#This Row],[Dag sum]],-1)","v":-1},{"$f":"IFERROR(SUMPRODUCT((Hin_T[[B-år]:[B-år]]<=Medel_T[[#This Row],[Start]:[Start]])*(Hin_T[[S-år]:[S-år]]>=Medel_T[[#This Row],[Slut]:[Slut]])*Hin_T[15AM]*Hin_T[[Dag]:[Dag]])/Medel_T[[#This Row],[Dag sum]],-1)","v":-1},{"$f":"IFERROR(SUMPRODUCT((Hin_T[[B-år]:[B-år]]<=Medel_T[[#This Row],[Start]:[Start]])*(Hin_T[[S-år]:[S-år]]>=Medel_T[[#This Row],[Slut]:[Slut]])*Hin_T[[Dag]:[Dag]]*Hin_T[20-10D])/Medel_T[[#This Row],[Dag sum]],-1)","v":-1},{"$f":"IFERROR(Medel_T[[#This Row],[Dag sum]:[Dag sum]]*Medel_T[[#This Row],[År]:[År]]*Medel_T[[#This Row],[HöA T]]*DÅ[Arbetsdag/år],0)","v":0},{"$f":"IFERROR(Medel_T[[#This Row],[Dag sum]:[Dag sum]]*Medel_T[[#This Row],[År]:[År]]*Medel_T[[#This Row],[AöA T]]*DÅ[Arbetsdag/år],0)","v":0},{"$f":"IFERROR(Medel_T[[#This Row],[Dag sum]:[Dag sum]]*Medel_T[[#This Row],[År]:[År]]*Medel_T[[#This Row],[4AM T]]*DÅ[Arbetsdag/år],0)","v":0},{"$f":"IFERROR(Medel_T[[#This Row],[Dag sum]:[Dag sum]]*Medel_T[[#This Row],[År]:[År]]*Medel_T[[#This Row],[15AM T]]*DÅ[Arbetsdag/år],0)","v":0},{"$f":"IFERROR(Medel_T[[#This Row],[Dag sum]:[Dag sum]]*Medel_T[[#This Row],[År]:[År]]*Medel_T[[#This Row],[20-10D T]]*DÅ[Arbetsdag/år],0)","v":0},{"$f":"IFERROR(Medel_T[[#This Row],[Dag sum]:[Dag sum]]*Medel_T[[#This Row],[ÅrSjuk]:[ÅrSjuk]]*Medel_T[[#This Row],[HöA T]]*DÅ[Arbetsdag/år],0)","v":0},{"$f":"IFERROR(Medel_T[[#This Row],[Dag sum]:[Dag sum]]*Medel_T[[#This Row],[ÅrSjuk]:[ÅrSjuk]]*Medel_T[[#This Row],[AöA T]]*DÅ[Arbetsdag/år],0)","v":0},{"$f":"IFERROR(Medel_T[[#This Row],[Dag sum]:[Dag sum]]*Medel_T[[#This Row],[ÅrSjuk]:[ÅrSjuk]]*Medel_T[[#This Row],[4AM T]]*DÅ[Arbetsdag/år],0)","v":0},{"$f":"IFERROR(Medel_T[[#This Row],[Dag sum]:[Dag sum]]*Medel_T[[#This Row],[ÅrSjuk]:[ÅrSjuk]]*Medel_T[[#This Row],[15AM T]]*DÅ[Arbetsdag/år],0)","v":0},{"$f":"IFERROR(Medel_T[[#This Row],[Dag sum]:[Dag sum]]*Medel_T[[#This Row],[ÅrSjuk]:[ÅrSjuk]]*Medel_T[[#This Row],[20-10D T]]*DÅ[Arbetsdag/år],0)","v":0},{"$f":"IFERROR(IF(Medel_T[[#This Row],[AöA T]]=0,\"\",List_T[List symb]&Exp_T[[#Headers],[Överarmslyft> 90°: ]]&IF(VALUE(TEXT(Medel_T[[#This Row],[AöA T]],\"t\"))>0,VALUE(TEXT(Medel_T[[#This Row],[AöA T]],\"t\"))&\" h\",\"\")&IF(AND(VALUE(TEXT(Medel_T[[#This Row],[AöA T]],\"t\"))>0,VALUE(TEXT(Medel_T[[#This Row],[AöA T]],\"m\"))>2.4),\" \",\"\")&IF(VALUE(TEXT(Medel_T[[#This Row],[AöA T]],\"m\"))>2.4,TEXT(ROUND(Medel_T[[#This Row],[AöA T]]*(24*60/5),0)/(24*60/5),\"m\")&\" min\",\"\")&\"/dag x \"&ROUND(Medel_T[[#This Row],[Dag sum]:[Dag sum]]*DÅ[Arbetsdag/år],0)&\" dagar x \"&ROUND(Medel_T[[#This Row],[År]:[År]],1)&\" år = \"&TEXT(ROUND(Medel_T[[#This Row],[D AöA§]]*24,1-(INT(LOG10(ABS(Medel_T[[#This Row],[D AöA§]]*24))))),\"0\"&IF(1-(INT(LOG10(ABS(Medel_T[[#This Row],[D AöA§]]*24))))>0,\",\"&REPT(\"0\",1-(INT(LOG10(ABS(Medel_T[[#This Row],[D AöA§]]*24))))),\"\"))& \" h\"),\"\")","v":""},{"$f":"IFERROR(IF(Medel_T[[#This Row],[15AM T]]=0,\"\",List_T[List symb]&Exp_T[[#Headers],[Överarmsrörelser> 15/min: ]]&IF(VALUE(TEXT(Medel_T[[#This Row],[15AM T]],\"t\"))>0,VALUE(TEXT(Medel_T[[#This Row],[15AM T]],\"t\"))&\" h\",\"\")&IF(AND(VALUE(TEXT(Medel_T[[#This Row],[15AM T]],\"t\"))>0,VALUE(TEXT(Medel_T[[#This Row],[15AM T]],\"m\"))>2.4),\" \",\"\")&IF(VALUE(TEXT(Medel_T[[#This Row],[15AM T]],\"m\"))>2.4,TEXT(ROUND(Medel_T[[#This Row],[15AM T]]*(24*60/5),0)/(24*60/5),\"m\")&\" min\",\"\")&\"/dag x \"&ROUND(Medel_T[[#This Row],[Dag sum]:[Dag sum]]*DÅ[Arbetsdag/år],0)&\" dagar x \"&ROUND(Medel_T[[#This Row],[År]:[År]],1)&\" år = \"&TEXT(ROUND(Medel_T[[#This Row],[D 15AM§]]*24,1-(INT(LOG10(ABS(Medel_T[[#This Row],[D 15AM§]]*24))))),\"0\"&IF(1-(INT(LOG10(ABS(Medel_T[[#This Row],[D 15AM§]]*24))))>0,\",\"&REPT(\"0\",1-(INT(LOG10(ABS(Medel_T[[#This Row],[D 15AM§]]*24))))),\"\"))& \" h\"),\"\")","v":""},{"$f":"IFERROR(IF(OR(LEN(Medel_T[[#This Row],[AöA text]])>0,LEN(Medel_T[[#This Row],[15AM Text]])>0),Exp_T[Anställning]&YEAR(Medel_T[[#This Row],[Start]])&List_T[[#Totals],[List symb]]&YEAR(Medel_T[[#This Row],[Slut]])&\" (\"&ROUND(Medel_T[[#This Row],[År]],1)&\" år)\"&IF(LEN(Medel_T[[#This Row],[AöA text]])>0,↓[↓],\"\")&Medel_T[[#This Row],[AöA text]]&IF(LEN(Medel_T[[#This Row],[15AM Text]])>0,↓[↓],\"\")&Medel_T[[#This Row],[15AM Text]],\"\"),\"\")","v":""},{"$f":"IFERROR(IF(Medel_T[[#This Row],[AöA T]]=0,\"\",List_T[List symb]&Exp_T[[#Headers],[Överarmsrörelser> 15/min: ]]&IF(VALUE(TEXT(Medel_T[[#This Row],[AöA T]],\"t\"))>0,VALUE(TEXT(Medel_T[[#This Row],[AöA T]],\"t\"))&\" h\",\"\")&IF(AND(VALUE(TEXT(Medel_T[[#This Row],[AöA T]],\"t\"))>0,VALUE(TEXT(Medel_T[[#This Row],[AöA T]],\"m\"))>2.4),\" \",\"\")&IF(VALUE(TEXT(Medel_T[[#This Row],[AöA T]],\"m\"))>2.4,TEXT(ROUND(Medel_T[[#This Row],[AöA T]]*(24*60/5),0)/(24*60/5),\"m\")&\" min\",\"\")&\"/dag x \"&ROUND(Medel_T[[#This Row],[Dag sum]:[Dag sum]]*DÅ[Arbetsdag/år],0)&\" dagar x \"&ROUND(Medel_T[[#This Row],[År]:[År]],1)&\" år = \"&TEXT(ROUND(Medel_T[[#This Row],[D AöA¤]]*24,1-(INT(LOG10(ABS(Medel_T[[#This Row],[D AöA¤]]*24))))),\"0\"&IF(1-(INT(LOG10(ABS(Medel_T[[#This Row],[D AöA¤]]*24))))>0,\",\"&REPT(\"0\",1-(INT(LOG10(ABS(Medel_T[[#This Row],[D AöA¤]]*24))))),\"\"))& \" h\"),\"\")","v":""},{"$f":"IFERROR(IF(Medel_T[[#This Row],[15AM T]]=0,\"\",List_T[List symb]&Exp_T[[#Headers],[Överarmslyft> 90°: ]]&IF(VALUE(TEXT(Medel_T[[#This Row],[15AM T]],\"t\"))>0,VALUE(TEXT(Medel_T[[#This Row],[15AM T]],\"t\"))&\" h\",\"\")&IF(AND(VALUE(TEXT(Medel_T[[#This Row],[15AM T]],\"t\"))>0,VALUE(TEXT(Medel_T[[#This Row],[15AM T]],\"m\"))>0),\" \",\"\")&IF(VALUE(TEXT(Medel_T[[#This Row],[15AM T]],\"m\"))>0,TEXT(ROUND(Medel_T[[#This Row],[15AM T]]*(24*60/5),0)/(24*60/5),\"m\")&\" min\",\"\")&\"/dag x \"&ROUND(Medel_T[[#This Row],[Dag sum]:[Dag sum]]*DÅ[Arbetsdag/år],0)&\" dagar x \"&ROUND(Medel_T[[#This Row],[År]:[År]],1)&\" år = \"&TEXT(ROUND(Medel_T[[#This Row],[D 15AM¤]]*24,1-(INT(LOG10(ABS(Medel_T[[#This Row],[D 15AM¤]]*24))))),\"0\"&IF(1-(INT(LOG10(ABS(Medel_T[[#This Row],[D 15AM¤]]*24))))>0,\",\"&REPT(\"0\",1-(INT(LOG10(ABS(Medel_T[[#This Row],[D 15AM¤]]*24))))),\"\"))& \" h\"),\"\")","v":""},{"$f":"IFERROR(IF(LEN(Medel_T[[#This Row],[SJDstart]])>0,Exp_T[Anställning]&↓[↓]&YEAR(Medel_T[[#This Row],[Start]])&List_T[[#Totals],[List symb]]&YEAR(Medel_T[[#This Row],[Slut]])&\" (\"&ROUND(Medel_T[[#This Row],[År]],1)&\" år)\"&IF(LEN(Medel_T[[#This Row],[AöA text Sjuk]])>0,↓[↓],\"\")&Medel_T[[#This Row],[AöA text Sjuk]]&IF(LEN(Medel_T[[#This Row],[15AM Text Sjuk]])>0,↓[↓],\"\")&Medel_T[[#This Row],[15AM Text Sjuk]],\"\"),\"\")","v":""},{"$f":"IFERROR(Medel_T[[#This Row],[Period ]]&Medel_T[[#This Row],[ArbMomText]]&Medel_T[[#This Row],[Text]],\"\")","v":""},{"$f":"IF(AND(DJ21>=MAX(Medel_T[NrX]),ISNUMBER(DJ21)),Medel_T[[#Totals],[NrX]]+ROW()-ROW(Medel_T[[#Headers],[Rad]])-Medel_T[[#Totals],[Ant]]-1,INDEX(Medel_T[NrX],MATCH(ROW()-ROW(Medel_T[[#Headers],[Rad]]),Medel_T[NrX],0)))","v":{"$error":"#N/A"}},{"$f":"IF(Medel_T[[#This Row],[Rad]]<=Medel_T[[#Totals],[Ant]],MATCH(Medel_T[[#This Row],[Rad]],Medel_T[NrX],0),IFERROR(INDEX(BD_TX[[#Data],[#Totals],[SJ]],MATCH(Medel_T[[#This Row],[Rad]],BD_TX[[#Data],[#Totals],[Nr]],0)),\"\"))","v":{"$error":"#N/A"}},{"$f":"LEN(Medel_T[[#This Row],[Yrke2]])-LEN(SUBSTITUTE(Medel_T[[#This Row],[Yrke2]],LEFT(Sep_T[Separator],1),\"\"))","v":0},{"$f":"INDEX(Medel_T[År],Medel_T[[#This Row],[Nr]])","v":{"$error":"#N/A"}},{"$f":"IFERROR(IF(LEN(Medel_T[[#This Row],[Nr]])>0,TEXT(IFERROR(INDEX(Medel_T[Start],Medel_T[[#This Row],[Nr]]),INDEX(BD_TX[[#Data],[#Totals],[Start]],MATCH(Medel_T[[#This Row],[Rad]],BD_TX[[#Data],[#Totals],[Nr]],0))),\"ÅÅÅÅ MMM\")&\"-\"&TEXT(IFERROR(INDEX(Medel_T[Slut],Medel_T[[#This Row],[Nr]]),INDEX(BD_TX[[#Data],[#Totals],[År]],MATCH(Medel_T[[#This Row],[Rad]],BD_TX[[#Data],[#Totals],[Nr]],0))),\"ÅÅÅÅ MMM\"),\"\"),\"\")","v":""},{"$f":"IFERROR(IF(LEN(Medel_T[[#This Row],[Nr]])>0,IF(Medel_T[[#This Row],[Rad]]>Medel_T[[#Totals],[Ant]],IFERROR(INDEX(BD_TX[[#Data],[#Totals],[Text]],MATCH(Medel_T[[#This Row],[Rad]],BD_TX[[#Data],[#Totals],[Nr]],0)),\"\"),INDEX(Medel_T[Yrke],Medel_T[[#This Row],[Nr]])),\"\"),\"\")","v":""},{"$f":"IFERROR(INDEX(Medel_T[Arbetsmoment],MATCH(ROW()-ROW(Medel_T[[#Headers],[Arbetsmoment2]]),Medel_T[[NrX]:[NrX]],0)),\"\")","v":""},{"$f":"IFERROR(INDEX(Medel_T[],Medel_T[[#This Row],[Nr]],Medel_T[[#Totals],[HöA_T]]),\"\")","v":""},{"$f":"IF(LEN(Medel_T[[#This Row],[Nr]:[Nr]])>0,IFERROR(TEXT(ROUND(24*IFERROR(INDEX(Medel_T[],Medel_T[[#This Row],[Nr]:[Nr]],Medel_T[[#Totals],[D HöA]]),INDEX(Sum_T[[#Data],[#Totals]],MATCH(Medel_T[[#This Row],[Nr]:[Nr]],Sum_T[[#Data],[#Totals],[Typ]:[Typ]],0),MATCH(Medel_T[[#Headers],[D HöA]],Sum_T[#Headers],0))),1-(INT(LOG10(ABS(24*IFERROR(INDEX(Medel_T[],Medel_T[[#This Row],[Nr]:[Nr]],Medel_T[[#Totals],[D HöA]]),INDEX(Sum_T[[#Data],[#Totals]],MATCH(Medel_T[[#This Row],[Nr]:[Nr]],Sum_T[[#Data],[#Totals],[Typ]:[Typ]],0),MATCH(Medel_T[[#Headers],[D HöA]],Sum_T[#Headers],0)))))))),\"0\"&IF(1-(INT(LOG10(ABS(24*IFERROR(INDEX(Medel_T[],Medel_T[[#This Row],[Nr]:[Nr]],Medel_T[[#Totals],[D HöA]]),INDEX(Sum_T[[#Data],[#Totals]],MATCH(Medel_T[[#This Row],[Nr]:[Nr]],Sum_T[[#Data],[#Totals],[Typ]:[Typ]],0),MATCH(Medel_T[[#Headers],[D HöA]],Sum_T[#Headers],0)))))))>0,\",\"&REPT(\"0\",1-(INT(LOG10(ABS(24*IFERROR(INDEX(Medel_T[],Medel_T[[#This Row],[Nr]:[Nr]],Medel_T[[#Totals],[D HöA]]),INDEX(Sum_T[[#Data],[#Totals]],MATCH(Medel_T[[#This Row],[Nr]:[Nr]],Sum_T[[#Data],[#Totals],[Typ]:[Typ]],0),MATCH(Medel_T[[#Headers],[D HöA]],Sum_T[#Headers],0)))))))),0)),0),\"\")","v":{"$error":"#N/A"}},{"$f":"IFERROR(INDEX(Medel_T[],Medel_T[[#This Row],[Nr]],Medel_T[[#Totals],[AÖA_T]]),\"\")","v":""},{"$f":"IFERROR(IF(LEN(Medel_T[[#This Row],[Nr]:[Nr]])>0,IFERROR(TEXT(ROUND(24*IFERROR(INDEX(Medel_T[],Medel_T[[#This Row],[Nr]:[Nr]],Medel_T[[#Totals],[D AöA]]),INDEX(Sum_T[[#Data],[#Totals]],MATCH(Medel_T[[#This Row],[Nr]:[Nr]],Sum_T[[#Data],[#Totals],[Typ]:[Typ]],0),MATCH(Medel_T[[#Headers],[D AöA]],Sum_T[#Headers],0))),1-(INT(LOG10(ABS(24*IFERROR(INDEX(Medel_T[],Medel_T[[#This Row],[Nr]:[Nr]],Medel_T[[#Totals],[D AöA]]),INDEX(Sum_T[[#Data],[#Totals]],MATCH(Medel_T[[#This Row],[Nr]:[Nr]],Sum_T[[#Data],[#Totals],[Typ]:[Typ]],0),MATCH(Medel_T[[#Headers],[D AöA]],Sum_T[#Headers],0)))))))),\"0\"&IF(1-(INT(LOG10(ABS(24*IFERROR(INDEX(Medel_T[],Medel_T[[#This Row],[Nr]:[Nr]],Medel_T[[#Totals],[D AöA]]),INDEX(Sum_T[[#Data],[#Totals]],MATCH(Medel_T[[#This Row],[Nr]:[Nr]],Sum_T[[#Data],[#Totals],[Typ]:[Typ]],0),MATCH(Medel_T[[#Headers],[D AöA]],Sum_T[#Headers],0)))))))>0,\",\"&REPT(\"0\",1-(INT(LOG10(ABS(24*IFERROR(INDEX(Medel_T[],Medel_T[[#This Row],[Nr]:[Nr]],Medel_T[[#Totals],[D AöA]]),INDEX(Sum_T[[#Data],[#Totals]],MATCH(Medel_T[[#This Row],[Nr]:[Nr]],Sum_T[[#Data],[#Totals],[Typ]:[Typ]],0),MATCH(Medel_T[[#Headers],[D AöA]],Sum_T[#Headers],0)))))))),0)),0),\"\"),\"\")","v":""},{"$f":"IFERROR(INDEX(Medel_T[],Medel_T[[#This Row],[Nr]],Medel_T[[#Totals],[4AM_T]]),\"\")","v":""},{"$f":"IF(LEN(Medel_T[[#This Row],[Nr]:[Nr]])>0,IFERROR(TEXT(ROUND(24*IFERROR(INDEX(Medel_T[],Medel_T[[#This Row],[Nr]:[Nr]],Medel_T[[#Totals],[D 4AM]]),INDEX(Sum_T[[#Data],[#Totals]],MATCH(Medel_T[[#This Row],[Nr]:[Nr]],Sum_T[[#Data],[#Totals],[Typ]:[Typ]],0),MATCH(Medel_T[[#Headers],[D 4AM]],Sum_T[#Headers],0))),1-(INT(LOG10(ABS(24*IFERROR(INDEX(Medel_T[],Medel_T[[#This Row],[Nr]:[Nr]],Medel_T[[#Totals],[D 4AM]]),INDEX(Sum_T[[#Data],[#Totals]],MATCH(Medel_T[[#This Row],[Nr]:[Nr]],Sum_T[[#Data],[#Totals],[Typ]:[Typ]],0),MATCH(Medel_T[[#Headers],[D 4AM]],Sum_T[#Headers],0)))))))),\"0\"&IF(1-(INT(LOG10(ABS(24*IFERROR(INDEX(Medel_T[],Medel_T[[#This Row],[Nr]:[Nr]],Medel_T[[#Totals],[D 4AM]]),INDEX(Sum_T[[#Data],[#Totals]],MATCH(Medel_T[[#This Row],[Nr]:[Nr]],Sum_T[[#Data],[#Totals],[Typ]:[Typ]],0),MATCH(Medel_T[[#Headers],[D 4AM]],Sum_T[#Headers],0)))))))>0,\",\"&REPT(\"0\",1-(INT(LOG10(ABS(24*IFERROR(INDEX(Medel_T[],Medel_T[[#This Row],[Nr]:[Nr]],Medel_T[[#Totals],[D 4AM]]),INDEX(Sum_T[[#Data],[#Totals]],MATCH(Medel_T[[#This Row],[Nr]:[Nr]],Sum_T[[#Data],[#Totals],[Typ]:[Typ]],0),MATCH(Medel_T[[#Headers],[D 4AM]],Sum_T[#Headers],0)))))))),0)),0),\"\")","v":{"$error":"#N/A"}},{"$f":"IFERROR(INDEX(Medel_T[],Medel_T[[#This Row],[Nr]],Medel_T[[#Totals],[15AM_T]]),\"\")","v":""},{"$f":"IFERROR(IF(LEN(Medel_T[[#This Row],[Nr]:[Nr]])>0,IFERROR(TEXT(ROUND(24*IFERROR(INDEX(Medel_T[],Medel_T[[#This Row],[Nr]:[Nr]],Medel_T[[#Totals],[D 15AM]]),INDEX(Sum_T[[#Data],[#Totals]],MATCH(Medel_T[[#This Row],[Nr]:[Nr]],Sum_T[[#Data],[#Totals],[Typ]:[Typ]],0),MATCH(Medel_T[[#Headers],[D 15AM]],Sum_T[#Headers],0))),1-(INT(LOG10(ABS(24*IFERROR(INDEX(Medel_T[],Medel_T[[#This Row],[Nr]:[Nr]],Medel_T[[#Totals],[D 15AM]]),INDEX(Sum_T[[#Data],[#Totals]],MATCH(Medel_T[[#This Row],[Nr]:[Nr]],Sum_T[[#Data],[#Totals],[Typ]:[Typ]],0),MATCH(Medel_T[[#Headers],[D 15AM]],Sum_T[#Headers],0)))))))),\"0\"&IF(1-(INT(LOG10(ABS(24*IFERROR(INDEX(Medel_T[],Medel_T[[#This Row],[Nr]:[Nr]],Medel_T[[#Totals],[D 15AM]]),INDEX(Sum_T[[#Data],[#Totals]],MATCH(Medel_T[[#This Row],[Nr]:[Nr]],Sum_T[[#Data],[#Totals],[Typ]:[Typ]],0),MATCH(Medel_T[[#Headers],[D 15AM]],Sum_T[#Headers],0)))))))>0,\",\"&REPT(\"0\",1-(INT(LOG10(ABS(24*IFERROR(INDEX(Medel_T[],Medel_T[[#This Row],[Nr]:[Nr]],Medel_T[[#Totals],[D 15AM]]),INDEX(Sum_T[[#Data],[#Totals]],MATCH(Medel_T[[#This Row],[Nr]:[Nr]],Sum_T[[#Data],[#Totals],[Typ]:[Typ]],0),MATCH(Medel_T[[#Headers],[D 15AM]],Sum_T[#Headers],0)))))))),0)),0),\"\"),\"\")","v":""},{"$f":"IFERROR(INDEX(Medel_T[],Medel_T[[#This Row],[Nr]],Medel_T[[#Totals],[20-10D_T]]),\"\")","v":""},{"$f":"IF(LEN(Medel_T[[#This Row],[Nr]:[Nr]])>0,IFERROR(TEXT(ROUND(24*IFERROR(INDEX(Medel_T[],Medel_T[[#This Row],[Nr]:[Nr]],Medel_T[[#Totals],[D 20-10D]]),INDEX(Sum_T[[#Data],[#Totals]],MATCH(Medel_T[[#This Row],[Nr]:[Nr]],Sum_T[[#Data],[#Totals],[Typ]:[Typ]],0),MATCH(Medel_T[[#Headers],[D 20-10D]],Sum_T[#Headers],0))),1-(INT(LOG10(ABS(24*IFERROR(INDEX(Medel_T[],Medel_T[[#This Row],[Nr]:[Nr]],Medel_T[[#Totals],[D 20-10D]]),INDEX(Sum_T[[#Data],[#Totals]],MATCH(Medel_T[[#This Row],[Nr]:[Nr]],Sum_T[[#Data],[#Totals],[Typ]:[Typ]],0),MATCH(Medel_T[[#Headers],[D 20-10D]],Sum_T[#Headers],0)))))))),\"0\"&IF(1-(INT(LOG10(ABS(24*IFERROR(INDEX(Medel_T[],Medel_T[[#This Row],[Nr]:[Nr]],Medel_T[[#Totals],[D 20-10D]]),INDEX(Sum_T[[#Data],[#Totals]],MATCH(Medel_T[[#This Row],[Nr]:[Nr]],Sum_T[[#Data],[#Totals],[Typ]:[Typ]],0),MATCH(Medel_T[[#Headers],[D 20-10D]],Sum_T[#Headers],0)))))))>0,\",\"&REPT(\"0\",1-(INT(LOG10(ABS(24*IFERROR(INDEX(Medel_T[],Medel_T[[#This Row],[Nr]:[Nr]],Medel_T[[#Totals],[D 20-10D]]),INDEX(Sum_T[[#Data],[#Totals]],MATCH(Medel_T[[#This Row],[Nr]:[Nr]],Sum_T[[#Data],[#Totals],[Typ]:[Typ]],0),MATCH(Medel_T[[#Headers],[D 20-10D]],Sum_T[#Headers],0)))))))),0)),0),\"\")","v":{"$error":"#N/A"}},null,{"$f":"IFERROR(INDEX(Hin_T[Nr],MATCH(SMALL(Hin_T[B-årX],ROW()-ROW(Hut_T[[#Headers],[Rad]])),Hin_T[B-årX],0)),IF(ROWS($EB$19:EB22)=1+COUNTIF(Hin_T[Start],\"*\"),Hin_T[[#Totals],[Dag]],IF(AND(ROWS($EB$19:EB22)=2+COUNTIF(Hin_T[Start],\"*\"),Hin_T[[#Totals],[Q%-]]>0),EB21+1,IF(AND(ROWS($EB$19:EB22)=3+COUNTIF(Hin_T[Start],\"*\"),Hin_T[[#Totals],[Q%-]]>1),EB21+1,IF(AND(ROWS($EB$19:EB22)=4+COUNTIF(Hin_T[Start],\"*\"),Hin_T[[#Totals],[Q%-]]>2),EB21+1,\"\")))))","v":26},{"$f":"IF(Hut_T[[#This Row],[Rad]]<Hin_T[[#Totals],[Dag]],ROWS($EB$19:EB22),IFERROR(INDEX(BD_TX[[#Data],[#Totals],[SJ]],MATCH(Hut_T[[#This Row],[Rad]],BD_TX[[#Data],[#Totals],[NrX]],0)),\"\"))","v":""},{"$f":"IF(ISNUMBER(Hut_T[[#This Row],[Datum-]]),TEXT(Hut_T[[#This Row],[Datum-]],\"ÅÅÅÅ MMM\")&\"-\"&TEXT(Hut_T[[#This Row],[Datum+]],\"ÅÅÅÅ MMM\"),\"\")","v":""},{"$f":"IF(ISNUMBER(Hut_T[[#This Row],[Nr]]),IF(INDEX(Hin_T[Yrke],Hut_T[[#This Row],[Rad]])>0,INDEX(Hin_T[Yrke],Hut_T[[#This Row],[Rad]]),\"\"),IFERROR(INDEX(BD_TX[[#Data],[#Totals],[Text]],MATCH(Hut_T[[#This Row],[Rad]],BD_TX[[#Data],[#Totals],[NrX]],0)),\"\"))","v":""},{"$f":"IF(ISNUMBER(Hut_T[[#This Row],[Nr]]),IF(INDEX(Hin_T[Arbetsmoment],Hut_T[[#This Row],[Rad]])>0,INDEX(Hin_T[Arbetsmoment],Hut_T[[#This Row],[Rad]]),\"\"),\"\")","v":""},{"$f":"IFERROR(IF(INDEX(Hin_T[Yrke],Hut_T[[#This Row],[Rad]])>0,INDEX(Hin_T[Företag],Hut_T[[#This Row],[Rad]]),\"\"),\"\")","v":""},{"$f":"IFERROR(IF(INDEX(Hin_T[Dag],Hut_T[[#This Row],[Rad]])>0,INDEX(Hin_T[Dag],Hut_T[[#This Row],[Rad]])*DÅ[Arbetsdag/år],\"\"),\"\")","v":""},{"$f":"IF(AND(ISNUMBER(_xlfn.SINGLE(Hut_T[[#This Row],[Rad]:[Rad]])),IFERROR(_xlfn.SINGLE(INDEX(Hin_T[[#Data],[#Totals]],_xlfn.SINGLE(Hut_T[[#This Row],[Rad]:[Rad]]),MATCH(Hut_T[[#Headers],[D HöA]],Hin_T[#Headers],0))),\"\")),IFERROR(ROUND(_xlfn.SINGLE(INDEX(Hin_T[[#Data],[#Totals]],_xlfn.SINGLE(Hut_T[[#This Row],[Rad]:[Rad]])-IF(_xlfn.SINGLE(Hut_T[[#This Row],[Nr]:[Nr]])=_xlfn.SINGLE(#REF!),COUNT(Besvär_T[[Sjukdomsdebut]:[Sjukdomsdebut]]),0),MATCH(_xlfn.SINGLE(IF(_xlfn.SINGLE(Hut_T[[#This Row],[Nr]:[Nr]])=_xlfn.SINGLE(#REF!),#REF!,\"\"))&Hut_T[[#Headers],[D HöA]],Hin_T[#Headers],0))),0),\"\"),\"\")","v":""},{"$f":"IF(AND(ISNUMBER(Hut_T[[#This Row],[Rad]:[Rad]]),ISNUMBER(Hut_T[[#This Row],[D HöA]]),ISNUMBER(Hut_T[[#This Row],[Nr]:[Nr]])),IFERROR(ROUND(INDEX(Hin_T[[#Data],[#Totals]],Hut_T[[#This Row],[Rad]:[Rad]],MATCH(Hut_T[[#Headers],[HöA-A]],Hin_T[#Headers],0)),1-(INT(LOG10(INDEX(Hin_T[[#Data],[#Totals]],Hut_T[[#This Row],[Rad]:[Rad]],MATCH(Hut_T[[#Headers],[HöA-A]],Hin_T[#Headers],0)))))),1),\"\")","v":""},{"$f":"IF(AND(ISNUMBER(Hut_T[[#This Row],[Rad]:[Rad]]),IFERROR(INDEX(Hin_T[[#Data],[#Totals]],Hut_T[[#This Row],[Rad]:[Rad]],MATCH(Hut_T[[#Headers],[D AöA]],Hin_T[#Headers],0)),\"\")),IFERROR(ROUND(INDEX(Hin_T[[#Data],[#Totals]],Hut_T[[#This Row],[Rad]:[Rad]]-IF(Hut_T[[#This Row],[Nr]:[Nr]]=BD_TX[[SJ]:[SJ]],COUNT(Besvär_T[[Sjukdomsdebut]:[Sjukdomsdebut]]),0),MATCH(IF(Hut_T[[#This Row],[Nr]:[Nr]]=BD_TX[[#Totals],[SJ]:[SJ]],BD_TX[[#Headers],[SJ]],\"\")&Hut_T[[#Headers],[D AöA]],Hin_T[#Headers],0)),0),\"\"),\"\")","v":""},{"$f":"IF(AND(ISNUMBER(Hut_T[[#This Row],[Rad]:[Rad]]),ISNUMBER(Hut_T[[#This Row],[D AöA]]),ISNUMBER(Hut_T[[#This Row],[Nr]:[Nr]])),IFERROR(ROUND(INDEX(Hin_T[[#Data],[#Totals]],Hut_T[[#This Row],[Rad]:[Rad]],MATCH(Hut_T[[#Headers],[AöA-A]],Hin_T[#Headers],0)),1-(INT(LOG10(INDEX(Hin_T[[#Data],[#Totals]],Hut_T[[#This Row],[Rad]:[Rad]],MATCH(Hut_T[[#Headers],[AöA-A]],Hin_T[#Headers],0)))))),1),\"\")","v":""},{"$f":"IF(AND(ISNUMBER(_xlfn.SINGLE(Hut_T[[#This Row],[Rad]:[Rad]])),IFERROR(_xlfn.SINGLE(INDEX(Hin_T[[#Data],[#Totals]],_xlfn.SINGLE(Hut_T[[#This Row],[Rad]:[Rad]]),MATCH(Hut_T[[#Headers],[D 4AM]],Hin_T[#Headers],0))),\"\")),IFERROR(ROUND(_xlfn.SINGLE(INDEX(Hin_T[[#Data],[#Totals]],_xlfn.SINGLE(Hut_T[[#This Row],[Rad]:[Rad]])-IF(_xlfn.SINGLE(Hut_T[[#This Row],[Nr]:[Nr]])=_xlfn.SINGLE(#REF!),COUNT(Besvär_T[[Sjukdomsdebut]:[Sjukdomsdebut]]),0),MATCH(_xlfn.SINGLE(IF(_xlfn.SINGLE(Hut_T[[#This Row],[Nr]:[Nr]])=_xlfn.SINGLE(#REF!),#REF!,\"\"))&Hut_T[[#Headers],[D 4AM]],Hin_T[#Headers],0))),0),\"\"),\"\")","v":""},{"$f":"IF(AND(ISNUMBER(Hut_T[[#This Row],[Rad]:[Rad]]),ISNUMBER(Hut_T[[#This Row],[D 4AM]]),ISNUMBER(Hut_T[[#This Row],[Nr]:[Nr]])),IFERROR(ROUND(INDEX(Hin_T[[#Data],[#Totals]],Hut_T[[#This Row],[Rad]:[Rad]],MATCH(Hut_T[[#Headers],[4AM-A]],Hin_T[#Headers],0)),1-(INT(LOG10(INDEX(Hin_T[[#Data],[#Totals]],Hut_T[[#This Row],[Rad]:[Rad]],MATCH(Hut_T[[#Headers],[4AM-A]],Hin_T[#Headers],0)))))),1),\"\")","v":""},{"$f":"IF(AND(ISNUMBER(Hut_T[[#This Row],[Rad]:[Rad]]),IFERROR(INDEX(Hin_T[[#Data],[#Totals]],Hut_T[[#This Row],[Rad]:[Rad]],MATCH(Hut_T[[#Headers],[D 15AM]],Hin_T[#Headers],0)),\"\")),IFERROR(ROUND(INDEX(Hin_T[[#Data],[#Totals]],Hut_T[[#This Row],[Rad]:[Rad]]-IF(Hut_T[[#This Row],[Nr]:[Nr]]=BD_TX[[SJ]:[SJ]],COUNT(Besvär_T[[Sjukdomsdebut]:[Sjukdomsdebut]]),0),MATCH(IF(Hut_T[[#This Row],[Nr]:[Nr]]=BD_TX[[#Totals],[SJ]:[SJ]],BD_TX[[#Headers],[SJ]],\"\")&Hut_T[[#Headers],[D 15AM]],Hin_T[#Headers],0)),0),\"\"),\"\")","v":""},{"$f":"IF(AND(ISNUMBER(Hut_T[[#This Row],[Rad]:[Rad]]),ISNUMBER(Hut_T[[#This Row],[D 15AM]]),ISNUMBER(Hut_T[[#This Row],[Nr]:[Nr]])),IFERROR(ROUND(INDEX(Hin_T[[#Data],[#Totals]],Hut_T[[#This Row],[Rad]:[Rad]],MATCH(Hut_T[[#Headers],[15AM-A]],Hin_T[#Headers],0)),1-(INT(LOG10(INDEX(Hin_T[[#Data],[#Totals]],Hut_T[[#This Row],[Rad]:[Rad]],MATCH(Hut_T[[#Headers],[15AM-A]],Hin_T[#Headers],0)))))),1),\"\")","v":""},{"$f":"IF(AND(ISNUMBER(Hut_T[[#This Row],[Rad]:[Rad]]),IFERROR(INDEX(Hin_T[[#Data],[#Totals]],Hut_T[[#This Row],[Rad]:[Rad]],MATCH(Hut_T[[#Headers],[D 20-10D]],Hin_T[#Headers],0)),\"\")),IFERROR(ROUND(INDEX(Hin_T[[#Data],[#Totals]],Hut_T[[#This Row],[Rad]:[Rad]]-IF(Hut_T[[#This Row],[Nr]:[Nr]]=BD_TX[[SJ]:[SJ]],COUNT(Besvär_T[[Sjukdomsdebut]:[Sjukdomsdebut]]),0),MATCH(IF(Hut_T[[#This Row],[Nr]:[Nr]]=BD_TX[[#Totals],[SJ]:[SJ]],BD_TX[[#Headers],[SJ]],\"\")&Hut_T[[#Headers],[D 20-10D]],Hin_T[#Headers],0)),0),\"\"),\"\")","v":""},{"$f":"IF(AND(ISNUMBER(Hut_T[[#This Row],[Rad]:[Rad]]),ISNUMBER(Hut_T[[#This Row],[D 20-10D]]),ISNUMBER(Hut_T[[#This Row],[Nr]:[Nr]])),IFERROR(ROUND(INDEX(Hin_T[[#Data],[#Totals]],Hut_T[[#This Row],[Rad]:[Rad]],MATCH(Hut_T[[#Headers],[20-10D-A]],Hin_T[#Headers],0)),1-(INT(LOG10(INDEX(Hin_T[[#Data],[#Totals]],Hut_T[[#This Row],[Rad]:[Rad]],MATCH(Hut_T[[#Headers],[20-10D-A]],Hin_T[#Headers],0)))))),1),\"\")","v":""},null,{"$f":"IFERROR(INDEX(Hin_T[[#Data],[#Totals],[B-år]],Hut_T[[#This Row],[Rad]]),IF(ISNUMBER(Hut_T[[#This Row],[Datum+]]),ET21,\"\"))","v":""},{"$f":"IFERROR(INDEX(Hin_T[S-år],Hut_T[[#This Row],[Rad]]),IFERROR(INDEX(BD_TX[[#Data],[#Totals],[År]],MATCH(Hut_T[[#This Row],[Rad]],BD_TX[[#Data],[#Totals],[NrX]],0)),\"\"))","v":""},null,{"$f":"ROWS($EW$20:EW22)","v":3},{"$f":"IFERROR(MATCH(Hist_Tab[[#This Row],[Ref]],Medel_T[NrX],0),1)","v":1},{"$f":"INT((ROW(Hist_Tab[[#This Row],[Ref]])-ROW(Hist_Tab[[#Headers],[Ref]])-1)/4)+1","v":1},{"$f":"COUNTIF($EY$19:EY22,Hist_Tab[[#This Row],[Ref]])","v":4},{"$f":"IFERROR(INDEX(Medel_T[Start],Hist_Tab[[#This Row],[Ref]]),_xlfn.AGGREGATE(4,6,Medel_T[Start]))","v":"00:00:00"},{"$f":"IFERROR(INDEX(Medel_T[Slut],Hist_Tab[[#This Row],[Ref]]),_xlfn.AGGREGATE(4,6,Medel_T[Slut]))","v":"00:00:00"},{"$f":"IF(EW21=0,Hist_Tab[[#This Row],[ÅrB]],IF(Hist_Tab[[#This Row],[per/p]]<2,Hist_Tab[[#This Row],[ÅrB]],Hist_Tab[[#This Row],[År S]]))","v":"00:00:00"},{"$f":"IF(Hist_Tab[[#This Row],[Rad]:[Rad]]=0,-1,IF($EY23>_xlfn.AGGREGATE(2,6,Medel_T[[Slut]:[Slut]]),0,INDEX(Medel_T[],Hist_Tab[[#This Row],[Ref]:[Ref]],MATCH(Hist_Tab[[#Headers],[HöA T]],Medel_T[#Headers],0))))","v":0},{"$f":"IF(Hist_Tab[[#This Row],[Rad]:[Rad]]=0,0,IF($EY23>_xlfn.AGGREGATE(2,6,Medel_T[[Slut]:[Slut]]),0,INDEX(Medel_T[],Hist_Tab[[#This Row],[Ref]:[Ref]],MATCH(Hist_Tab[[#Headers],[AöA T]],Medel_T[#Headers],0))))","v":0},{"$f":"IF(Hist_Tab[[#This Row],[Rad]:[Rad]]=0,0,IF($EY23>_xlfn.AGGREGATE(2,6,Medel_T[[Slut]:[Slut]]),0,INDEX(Medel_T[],Hist_Tab[[#This Row],[Ref]:[Ref]],MATCH(Hist_Tab[[#Headers],[4AM T]],Medel_T[#Headers],0))))","v":0},{"$f":"IF(Hist_Tab[[#This Row],[Rad]:[Rad]]=0,0,IF($EY23>_xlfn.AGGREGATE(2,6,Medel_T[[Slut]:[Slut]]),0,INDEX(Medel_T[],Hist_Tab[[#This Row],[Ref]:[Ref]],MATCH(Hist_Tab[[#Headers],[15AM T]],Medel_T[#Headers],0))))","v":0},{"$f":"IF(Hist_Tab[[#This Row],[Rad]:[Rad]]=0,0,IF($EY23>_xlfn.AGGREGATE(2,6,Medel_T[[Slut]:[Slut]]),0,INDEX(Medel_T[],Hist_Tab[[#This Row],[Ref]:[Ref]],MATCH(Hist_Tab[[#Headers],[20-10D T]],Medel_T[#Headers],0))))","v":0}]
[null,null,null,null,null,null,null,null,null,null,null,null,null,null,null,null,null,null,{"$f":"IF(LEN(Hin_T[[#This Row],[Start]])>0,ROWS($S$19:S23),\"\")","v":""},null,{"$f":"Hin_T[[#This Row],[Yrke]]&IF(ISBLANK(Hin_T[[#This Row],[Arbetsmoment]]),\"\",\"; \"&Hin_T[[#This Row],[Arbetsmoment]])","v":""},{"$f":"IFERROR(IF(LEN(Hin_T[[#This Row],[Start]])-LEN(SUBSTITUTE(Hin_T[[#This Row],[Start]],\"-\",\"\"))=2,DATEVALUE(Hin_T[[#This Row],[Start]]),IF(LEN(Hin_T[[#This Row],[Start]])<5,DATEVALUE(Hin_T[[#This Row],[Start]]&\"-01-01\"),DATEVALUE(LEFT(Hin_T[[#This Row],[Start]],IF(LEN(Hin_T[[#This Row],[Start]])>6,4,2))&\"-\"&MID(Hin_T[[#This Row],[Start]],IF(LEN(Hin_T[[#This Row],[Start]])>6,5,3),2)&\"-\"&RIGHT(Hin_T[[#This Row],[Start]],2)))),\"\")","v":""},{"$f":"IFERROR(IF(LEN(Hin_T[[#This Row],[Slut]])-LEN(SUBSTITUTE(Hin_T[[#This Row],[Slut]],\"-\",\"\"))=2,DATEVALUE(Hin_T[[#This Row],[Slut]]),IF(LEN(Hin_T[[#This Row],[Slut]])<5,DATEVALUE(Hin_T[[#This Row],[Slut]]&\"-12-31\"),DATEVALUE(LEFT(Hin_T[[#This Row],[Slut]],IF(LEN(Hin_T[[#This Row],[Slut]])>6,4,2))&\"-\"&MID(Hin_T[[#This Row],[Slut]],IF(LEN(Hin_T[[#This Row],[Slut]])>6,5,3),2)&\"-\"&RIGHT(Hin_T[[#This Row],[Slut]],2)))),\"\")","v":""},{"$f":"IF(COUNTIF(V$19:V23,Hin_T[[#This Row],[B-år]])=1,Hin_T[[#This Row],[B-år]],\"\")","v":""},{"$f":"IF(COUNTIF(W$19:W23,Hin_T[[#This Row],[S-år]])=1,Hin_T[[#This Row],[S-år]],\"\")","v":""},{"$f":"IFERROR(Hin_T[[#This Row],[B-år]]+IF(COUNTIF($V$19:V23,Hin_T[[#This Row],[B-år]])>1,COUNTIF($V$19:V23,Hin_T[[#This Row],[B-år]])/10,0),\"\")","v":""},{"$f":"IF(ISNUMBER(Hin_T[[#This Row],[Dagar]]),Hin_T[[#This Row],[Dagar]]/DÅ[Arbetsdag/år],1)","v":1},{"$f":"Hin_T[[#This Row],[Dag]]*DÅ[Arbetsdag/år]","v":220},{"$f":"IF(LEN(Hin_T[[#This Row],[Yrke]])=4,1,0)","v":0},{"$f":"_xlfn.DAYS(Hin_T[[#This Row],[B-år]],DATE(YEAR(Hin_T[[#This Row],[B-år]]),1,1))/(DATE(YEAR(Hin_T[[#This Row],[B-år]])+1,1,1)-DATE(YEAR(Hin_T[[#This Row],[B-år]]),1,1))","v":{"$error":"#VALUE!"}},{"$f":"_xlfn.DAYS(DATE(YEAR(Hin_T[[#This Row],[S-år]]),12,31),Hin_T[[#This Row],[S-år]])/(DATE(YEAR(Hin_T[[#This Row],[S-år]])+1,1,1)-DATE(YEAR(Hin_T[[#This Row],[S-år]]),1,1))","v":{"$error":"#VALUE!"}},{"$f":"YEARFRAC(Hin_T[[#This Row],[S-år]],Hin_T[[#This Row],[B-år]])*Hin_T[[#This Row],[Dag]]","v":{"$error":"#VALUE!"}},{"$f":"IFERROR(Hin_T[[#This Row],[År diff]]*IF(ISNUMBER(Hin_T[[#This Row],[HöA]]),1,0),0)","v":0},{"$f":"IFERROR(Hin_T[[#This Row],[År diff]]*IF(ISNUMBER(Hin_T[[#This Row],[AöA]]),1,0),0)","v":0},{"$f":"IF(Hin_T[[#This Row],[B-år]]<=Besvär_T[[#Totals],[Sjukdomsdebut]],Hin_T[[#This Row],[B-år]],\"\")","v":""},{"$f":"IF(Hin_T[[#This Row],[S-år]]<=Besvär_T[[#Totals],[Sjukdomsdebut]],Hin_T[[#This Row],[S-år]],\"\")","v":""},{"$f":"IFERROR(YEARFRAC(IF(AND(ISNUMBER(Hin_T[[#This Row],[B-år EA]]),LEN(Hin_T[[#This Row],[S-år EA]])=0),Hin_T[[#Totals],[15AM-A]],Hin_T[[#This Row],[S-år EA]]),Hin_T[[#This Row],[B-år EA]])*Hin_T[[#This Row],[Dag]]*IF(ISNUMBER(Hin_T[[#This Row],[HöA]]),1,0),0)","v":0},{"$f":"IFERROR(YEARFRAC(IF(AND(ISNUMBER(Hin_T[[#This Row],[B-år EA]]),LEN(Hin_T[[#This Row],[S-år EA]])=0),Hin_T[[#Totals],[15AM-A]],Hin_T[[#This Row],[S-år EA]]),Hin_T[[#This Row],[B-år EA]])*Hin_T[[#This Row],[Dag]]*IF(ISNUMBER(Hin_T[[#This Row],[AöA]]),1,0),0)","v":0},{"$f":"IFERROR(Hin_T[[#This Row],[År diff]]*IF(ISNUMBER(Hin_T[[#This Row],[4AM]]),1,0),0)","v":0},{"$f":"IFERROR(Hin_T[[#This Row],[År diff]]*IF(ISNUMBER(Hin_T[[#This Row],[15AM]]),1,0),0)","v":0},{"$f":"IF(Hin_T[[#This Row],[B-år]]<=Besvär_T[[#Totals],[Sjukdomsdebut]],Hin_T[[#This Row],[B-år]],\"\")","v":""},{"$f":"IF(Hin_T[[#This Row],[S-år]]<=Besvär_T[[#Totals],[Sjukdomsdebut]],Hin_T[[#This Row],[S-år]],\"\")","v":""},{"$f":"IFERROR(YEARFRAC(IF(AND(ISNUMBER(Hin_T[[#This Row],[B-år RA]]),LEN(Hin_T[[#This Row],[S-år RA]])=0),Hin_T[[#Totals],[15AM-A]],Hin_T[[#This Row],[S-år RA]]),Hin_T[[#This Row],[B-år RA]])*Hin_T[[#This Row],[Dag]]*IF(ISNUMBER(Hin_T[[#This Row],[4AM]]),1,0),0)","v":0},{"$f":"IFERROR(YEARFRAC(IF(AND(ISNUMBER(Hin_T[[#This Row],[B-år RA]]),LEN(Hin_T[[#This Row],[S-år RA]])=0),Hin_T[[#Totals],[15AM-A]],Hin_T[[#This Row],[S-år RA]]),Hin_T[[#This Row],[B-år RA]])*Hin_T[[#This Row],[Dag]]*IF(ISNUMBER(Hin_T[[#This Row],[15AM]]),1,0),0)","v":0},{"$f":"IFERROR(Hin_T[[#This Row],[År diff]]*IF(ISNUMBER(Hin_T[[#This Row],[20-10D]]),1,0),0)","v":0},{"$f":"IF(Hin_T[[#This Row],[B-år]]<=Besvär_T[[#Totals],[Sjukdomsdebut]],Hin_T[[#This Row],[B-år]],\"\")","v":""},{"$f":"IF(Hin_T[[#This Row],[S-år]]<=Besvär_T[[#Totals],[Sjukdomsdebut]],Hin_T[[#This Row],[S-år]],\"\")","v":""},{"$f":"IFERROR(YEARFRAC(IF(AND(ISNUMBER(Hin_T[[#This Row],[B-år TMH]]),LEN(Hin_T[[#This Row],[S-år TMH]])=0),Hin_T[[#Totals],[15AM-A]],Hin_T[[#This Row],[S-år TMH]]),Hin_T[[#This Row],[B-år TMH]])*Hin_T[[#This Row],[Dag]]*IF(ISNUMBER(Hin_T[[#This Row],[20-10D]]),1,0),0)","v":0},{"$f":"IF(Hin_T[[#This Row],[Vib]]=JN_T[JN],1,0)","v":0},{"$f":"IFERROR(Hin_T[[#This Row],[År diff]]*IF(Hin_T[[#This Row],[Vib2]]>0,1,0),0)","v":0},{"$f":"IF(Hin_T[[#This Row],[B-år]]<=Besvär_T[[#Totals],[Sjukdomsdebut]],Hin_T[[#This Row],[B-år]],\"\")","v":""},{"$f":"IF(Hin_T[[#This Row],[S-år]]<=Besvär_T[[#Totals],[Sjukdomsdebut]],Hin_T[[#This Row],[S-år]],\"\")","v":""},{"$f":"IFERROR(YEARFRAC(IF(AND(ISNUMBER(Hin_T[[#This Row],[B-år VIB]]),LEN(Hin_T[[#This Row],[S-år Vib]])=0),Hin_T[[#Totals],[15AM-A]],Hin_T[[#This Row],[S-år Vib]]),Hin_T[[#This Row],[B-år VIB]])*IF(Hin_T[[#This Row],[Vib2]]>0,1,0),0)","v":0},{"$f":"Hin_T[[#This Row],[HöA]]*Hin_T[[#This Row],[tot år HöA]]*DÅ[Arbetsdag/år]","v":0},{"$f":"Hin_T[[#This Row],[tot år AöA]]*Hin_T[[#This Row],[AöA]]*DÅ[Arbetsdag/år]","v":0},{"$f":"Hin_T[[#This Row],[tot år 4AM]]*Hin_T[[#This Row],[4AM]]*DÅ[Arbetsdag/år]","v":0},{"$f":"Hin_T[[#This Row],[tot år 15AM]]*Hin_T[[#This Row],[15AM]]*DÅ[Arbetsdag/år]","v":0},{"$f":"Hin_T[[#This Row],[tot år 20-10D]]*Hin_T[[#This Row],[20-10D]]*DÅ[Arbetsdag/år]","v":0},{"$f":"Hin_T[[#This Row],[BD år HöA]]*Hin_T[[#This Row],[HöA]]*DÅ[Arbetsdag/år]","v":0},{"$f":"Hin_T[[#This Row],[BD år AöA]]*Hin_T[[#This Row],[AöA]]*DÅ[Arbetsdag/år]","v":0},{"$f":"Hin_T[[#This Row],[BD år 4AM]]*Hin_T[[#This Row],[4AM]]*DÅ[Arbetsdag/år]","v":0},{"$f":"Hin_T[[#This Row],[BD år 15AM]]*Hin_T[[#This Row],[15AM]]*DÅ[Arbetsdag/år]","v":0},{"$f":"Hin_T[[#This Row],[BD år 20-10D]]*Hin_T[[#This Row],[20-10D]]*DÅ[Arbetsdag/år]","v":0},{"$f":"Hin_T[[#This Row],[Arbetsmoment]]&Hin_T[[#This Row],[Text AöA]]&Hin_T[[#This Row],[Text 15AM]]&IF(Hin_T[[#This Row],[Dagarna]]=DÅ[Arbetsdag/år],\"\",\". \"&Hin_T[[#This Row],[Dagarna]]&\" dagar/år\")&\". \"","v":". "},{"$f":"IF(ISBLANK(Hin_T[[#This Row],[AöA]]),\"\",Exp_T[Överarmslyft> 90°: ]&IF(VALUE(TEXT(Hin_T[[#This Row],[AöA]],\"t\"))>0,VALUE(TEXT(Hin_T[[#This Row],[AöA]],\"t\"))&\" h\",\"\")&IF(AND(VALUE(TEXT(Hin_T[[#This Row],[AöA]],\"t\"))>0,VALUE(TEXT(Hin_T[[#This Row],[AöA]],\"m\"))>2.4),\" \",\"\")&IF(VALUE(TEXT(Hin_T[[#This Row],[AöA]],\"m\"))>2.4,TEXT(ROUND(Hin_T[[#This Row],[AöA]]*(24*60/5),0)/(24*60/5),\"m\")&\" min\",\"\")&\"/dag\")","v":""},{"$f":"IF(ISBLANK(Hin_T[[#This Row],[15AM]]),\"\",Exp_T[Överarmsrörelser> 15/min: ]&IF(VALUE(TEXT(Hin_T[[#This Row],[15AM]],\"t\"))>0,VALUE(TEXT(Hin_T[[#This Row],[15AM]],\"t\"))&\" h\",\"\")&IF(AND(VALUE(TEXT(Hin_T[[#This Row],[15AM]],\"t\"))>0,VALUE(TEXT(Hin_T[[#This Row],[15AM]],\"m\"))>2.4),\" \",\"\")&IF(VALUE(TEXT(Hin_T[[#This Row],[15AM]],\"m\"))>2.4,TEXT(ROUND(Hin_T[[#This Row],[15AM]]*(24*60/5),0)/(24*60/5),\"m\")&\" min\",\"\")&\"/dag\")","v":""},null,null,null,null,{"$f":"SMALL(Hin_T[[StartÅR]:[SlutÅr]],ROW()-ROW(Medel_T[[#Headers],[Start]]))","v":{"$error":"#NUM!"}},{"$f":"SMALL(Hin_T[[StartÅR]:[SlutÅr]],ROW()-ROW(Medel_T[[#Headers],[Slut]])+1)","v":{"$error":"#NUM!"}},{"$f":"IF(Medel_T[[#This Row],[Start]]<=Besvär_T[[#Totals],[Sjukdomsdebut]],Medel_T[[#This Row],[Start]],\"\")","v":{"$error":"#NUM!"}},{"$f":"IF(Medel_T[[#This Row],[Slut]]<=Besvär_T[[#Totals],[Sjukdomsdebut]],Medel_T[[#This Row],[Slut]],IF(AND(LEN(Medel_T[[#This Row],[SJDstart]])>0,LEN(BU24)=0),Besvär_T[[#Totals],[Sjukdomsdebut]],\"\"))","v":{"$error":"#NUM!"}},{"$f":"IF(Medel_T[[#This Row],[Start]]>=Besvär_T[[#Totals],[Sjukdomsdebut]],Medel_T[[#This Row],[Start]],IF(AND(LEN(Medel_T[[#This Row],[EfterSlut]])>0,LEN(BX22)=0),Besvär_T[[#Totals],[Sjukdomsdebut]],\"\"))","v":{"$error":"#NUM!"}},{"$f":"IF(Medel_T[[#This Row],[Slut]]>=Besvär_T[[#Totals],[Sjukdomsdebut]],Medel_T[[#This Row],[Slut]],\"\")","v":{"$error":"#NUM!"}},{"$f":"COUNTIF($BZ$19:BZ23,\">0\")","v":0},{"$f":"COUNTIFS(Hin_T[B-år],\"<=\"&Medel_T[[#This Row],[Start]],Hin_T[S-år],\">=\"&Medel_T[[#This Row],[Slut]])","v":0},{"$f":"SUBSTITUTE(_xlfn.TEXTJOIN(Sep_T[Separator],TRUE,_xlfn._xlws.SORT(_xlfn.UNIQUE(IF((Hin_T[[B-år]:[B-år]]<=Medel_T[[#This Row],[Start]:[Start]])*(Hin_T[[S-år]:[S-år]]>=Medel_T[[#This Row],[Slut]:[Slut]]),Hin_T[Yrke],\"\")))),0&Sep_T[Separator],\"\")","v":{"$error":"#NUM!"}},{"$f":"SUBSTITUTE(_xlfn.TEXTJOIN(Sep_T[Separator],TRUE,_xlfn._xlws.SORT(_xlfn.UNIQUE(IF((Hin_T[[B-år]:[B-år]]<=Medel_T[[#This Row],[Start]:[Start]])*(Hin_T[[S-år]:[S-år]]>=Medel_T[[#This Row],[Slut]:[Slut]]),Hin_T[Arbetsmoment],\"\")))),0&Sep_T[Separator],\"\")","v":{"$error":"#NUM!"}},{"$f":"IF(LEN(Medel_T[[#This Row],[Yrke]])>0,Medel_T[[#Headers],[Period ]]&Medel_T[[#This Row],[NrX]]&\": \"&TEXT(Medel_T[[#This Row],[Start]],\"ÅÅÅÅ\")&List_T[[#Totals],[List symb]]&TEXT(Medel_T[[#This Row],[Slut]],\"ÅÅÅÅ\")&\" (\"&ROUND(Medel_T[[#This Row],[År]],1)&\" år) Anställd som \"&IFERROR(SUBSTITUTE(SUBSTITUTE(Medel_T[[#This Row],[Yrke]],Sep_T[Separator],\" och \",Medel_T[[#This Row],[Ant]]-1),Sep_T[Separator],\", \"),Medel_T[[#This Row],[Yrke]])&↓[↓],\"\")","v":{"$error":"#NUM!"}},{"$f":"IF(LEN(Medel_T[[#This Row],[Arbetsmoment]])>0,ROMAN(1)&\") \"&_xlfn.TEXTJOIN(Delim[Delimiters],TRUE,_xlfn._xlws.SORT(_xlfn.UNIQUE(IF((Hin_T[[B-år]:[B-år]]<=Medel_T[[#This Row],[Start]:[Start]])*(Hin_T[[S-år]:[S-år]]>=Medel_T[[#This Row],[Slut]:[Slut]]),Hin_T[Text],\"\"))))&↓[↓],\"\")","v":{"$error":"#NUM!"}},{"$f":"SUMPRODUCT((Hin_T[[B-år]:[B-år]]<=Medel_T[[#This Row],[Start]:[Start]])*(Hin_T[[S-år]:[S-år]]>=Medel_T[[#This Row],[Slut]:[Slut]])*Hin_T[Dag])","v":{"$error":"#NUM!"}},{"$f":"IF(Medel_T[[#This Row],[Proc dag]]<=1,Medel_T[[#This Row],[Proc dag]],1)","v":{"$error":"#NUM!"}},{"$f":"YEARFRAC(Medel_T[[#This Row],[Slut]],Medel_T[[#This Row],[Start]])","v":{"$error":"#NUM!"}},{"$f":"YEARFRAC(Medel_T[[#This Row],[SJDslut]],Medel_T[[#This Row],[SJDstart]])","v":{"$error":"#NUM!"}},{"$f":"IFERROR(SUMPRODUCT((Hin_T[[B-år]:[B-år]]<=Medel_T[[#This Row],[Start]:[Start]])*(Hin_T[[S-år]:[S-år]]>=Medel_T[[#This Row],[Slut]:[Slut]])*Hin_T[HöA]*Hin_T[[Dag]:[Dag]])/Medel_T[[#This Row],[Proc dag]],-1)","v":-1},{"$f":"IFERROR(SUMPRODUCT((Hin_T[[B-år]:[B-år]]<=Medel_T[[#This Row],[Start]:[Start]])*(Hin_T[[S-år]:[S-år]]>=Medel_T[[#This Row],[Slut]:[Slut]])*Hin_T[AöA]*Hin_T[[Dag]:[Dag]])/Medel_T[[#This Row],[Proc dag]],-1)","v":-1},{"$f":"IFERROR(SUMPRODUCT((Hin_T[[B-år]:[B-år]]<=Medel_T[[#This Row],[Start]:[Start]])*(Hin_T[[S-år]:[S-år]]>=Medel_T[[#This Row],[Slut]:[Slut]])*Hin_T[4AM]*Hin_T[[Dag]:[Dag]])/Medel_T[[#This Row],[Proc dag]],-1)","v":-1},{"$f":"IFERROR(SUMPRODUCT((Hin_T[[B-år]:[B-år]]<=Medel_T[[#This Row],[Start]:[Start]])*(Hin_T[[S-år]:[S-år]]>=Medel_T[[#This Row],[Slut]:[Slut]])*Hin_T[15AM]*Hin_T[[Dag]:[Dag]])/Medel_T[[#This Row],[Proc dag]],-1)","v":-1},{"$f":"IFERROR(SUMPRODUCT((Hin_T[[B-år]:[B-år]]<=Medel_T[[#This Row],[Start]:[Start]])*(Hin_T[[S-år]:[S-år]]>=Medel_T[[#This Row],[Slut]:[Slut]])*Hin_T[20-10D]*Hin_T[[Dag]:[Dag]])/Medel_T[[#This Row],[Proc dag]],-1)","v":-1},{"$f":"IFERROR(SUMPRODUCT((Hin_T[[B-år]:[B-år]]<=Medel_T[[#This Row],[Start]:[Start]])*(Hin_T[[S-år]:[S-år]]>=Medel_T[[#This Row],[Slut]:[Slut]])*Hin_T[[Dag]:[Dag]]*Hin_T[HöA])/Medel_T[[#This Row],[Dag sum]],-1)","v":-1},{"$f":"IFERROR(SUMPRODUCT((Hin_T[[B-år]:[B-år]]<=Medel_T[[#This Row],[Start]:[Start]])*(Hin_T[[S-år]:[S-år]]>=Medel_T[[#This Row],[Slut]:[Slut]])*Hin_T[[Dag]:[Dag]]*Hin_T[AöA])/Medel_T[[#This Row],[Dag sum]],-1)","v":-1},{"$f":"IFERROR(SUMPRODUCT((Hin_T[[B-år]:[B-år]]<=Medel_T[[#This Row],[Start]:[Start]])*(Hin_T[[S-år]:[S-år]]>=Medel_T[[#This Row],[Slut]:[Slut]])*Hin_T[[Dag]:[Dag]]*Hin_T[4AM])/Medel_T[[#This Row],[Dag sum]],-1)","v":-1},{"$f":"IFERROR(SUMPRODUCT((Hin_T[[B-år]:[B-år]]<=Medel_T[[#This Row],[Start]:[Start]])*(Hin_T[[S-år]:[S-år]]>=Medel_T[[#This Row],[Slut]:[Slut]])*Hin_T[15AM]*Hin_T[[Dag]:[Dag]])/Medel_T[[#This Row],[Dag sum]],-1)","v":-1},{"$f":"IFERROR(SUMPRODUCT((Hin_T[[B-år]:[B-år]]<=Medel_T[[#This Row],[Start]:[Start]])*(Hin_T[[S-år]:[S-år]]>=Medel_T[[#This Row],[Slut]:[Slut]])*Hin_T[[Dag]:[Dag]]*Hin_T[20-10D])/Medel_T[[#This Row],[Dag sum]],-1)","v":-1},{"$f":"IFERROR(Medel_T[[#This Row],[Dag sum]:[Dag sum]]*Medel_T[[#This Row],[År]:[År]]*Medel_T[[#This Row],[HöA T]]*DÅ[Arbetsdag/år],0)","v":0},{"$f":"IFERROR(Medel_T[[#This Row],[Dag sum]:[Dag sum]]*Medel_T[[#This Row],[År]:[År]]*Medel_T[[#This Row],[AöA T]]*DÅ[Arbetsdag/år],0)","v":0},{"$f":"IFERROR(Medel_T[[#This Row],[Dag sum]:[Dag sum]]*Medel_T[[#This Row],[År]:[År]]*Medel_T[[#This Row],[4AM T]]*DÅ[Arbetsdag/år],0)","v":0},{"$f":"IFERROR(Medel_T[[#This Row],[Dag sum]:[Dag sum]]*Medel_T[[#This Row],[År]:[År]]*Medel_T[[#This Row],[15AM T]]*DÅ[Arbetsdag/år],0)","v":0},{"$f":"IFERROR(Medel_T[[#This Row],[Dag sum]:[Dag sum]]*Medel_T[[#This Row],[År]:[År]]*Medel_T[[#This Row],[20-10D T]]*DÅ[Arbetsdag/år],0)","v":0},{"$f":"IFERROR(Medel_T[[#This Row],[Dag sum]:[Dag sum]]*Medel_T[[#This Row],[ÅrSjuk]:[ÅrSjuk]]*Medel_T[[#This Row],[HöA T]]*DÅ[Arbetsdag/år],0)","v":0},{"$f":"IFERROR(Medel_T[[#This Row],[Dag sum]:[Dag sum]]*Medel_T[[#This Row],[ÅrSjuk]:[ÅrSjuk]]*Medel_T[[#This Row],[AöA T]]*DÅ[Arbetsdag/år],0)","v":0},{"$f":"IFERROR(Medel_T[[#This Row],[Dag sum]:[Dag sum]]*Medel_T[[#This Row],[ÅrSjuk]:[ÅrSjuk]]*Medel_T[[#This Row],[4AM T]]*DÅ[Arbetsdag/år],0)","v":0},{"$f":"IFERROR(Medel_T[[#This Row],[Dag sum]:[Dag sum]]*Medel_T[[#This Row],[ÅrSjuk]:[ÅrSjuk]]*Medel_T[[#This Row],[15AM T]]*DÅ[Arbetsdag/år],0)","v":0},{"$f":"IFERROR(Medel_T[[#This Row],[Dag sum]:[Dag sum]]*Medel_T[[#This Row],[ÅrSjuk]:[ÅrSjuk]]*Medel_T[[#This Row],[20-10D T]]*DÅ[Arbetsdag/år],0)","v":0},{"$f":"IFERROR(IF(Medel_T[[#This Row],[AöA T]]=0,\"\",List_T[List symb]&Exp_T[[#Headers],[Överarmslyft> 90°: ]]&IF(VALUE(TEXT(Medel_T[[#This Row],[AöA T]],\"t\"))>0,VALUE(TEXT(Medel_T[[#This Row],[AöA T]],\"t\"))&\" h\",\"\")&IF(AND(VALUE(TEXT(Medel_T[[#This Row],[AöA T]],\"t\"))>0,VALUE(TEXT(Medel_T[[#This Row],[AöA T]],\"m\"))>2.4),\" \",\"\")&IF(VALUE(TEXT(Medel_T[[#This Row],[AöA T]],\"m\"))>2.4,TEXT(ROUND(Medel_T[[#This Row],[AöA T]]*(24*60/5),0)/(24*60/5),\"m\")&\" min\",\"\")&\"/dag x \"&ROUND(Medel_T[[#This Row],[Dag sum]:[Dag sum]]*DÅ[Arbetsdag/år],0)&\" dagar x \"&ROUND(Medel_T[[#This Row],[År]:[År]],1)&\" år = \"&TEXT(ROUND(Medel_T[[#This Row],[D AöA§]]*24,1-(INT(LOG10(ABS(Medel_T[[#This Row],[D AöA§]]*24))))),\"0\"&IF(1-(INT(LOG10(ABS(Medel_T[[#This Row],[D AöA§]]*24))))>0,\",\"&REPT(\"0\",1-(INT(LOG10(ABS(Medel_T[[#This Row],[D AöA§]]*24))))),\"\"))& \" h\"),\"\")","v":""},{"$f":"IFERROR(IF(Medel_T[[#This Row],[15AM T]]=0,\"\",List_T[List symb]&Exp_T[[#Headers],[Överarmsrörelser> 15/min: ]]&IF(VALUE(TEXT(Medel_T[[#This Row],[15AM T]],\"t\"))>0,VALUE(TEXT(Medel_T[[#This Row],[15AM T]],\"t\"))&\" h\",\"\")&IF(AND(VALUE(TEXT(Medel_T[[#This Row],[15AM T]],\"t\"))>0,VALUE(TEXT(Medel_T[[#This Row],[15AM T]],\"m\"))>2.4),\" \",\"\")&IF(VALUE(TEXT(Medel_T[[#This Row],[15AM T]],\"m\"))>2.4,TEXT(ROUND(Medel_T[[#This Row],[15AM T]]*(24*60/5),0)/(24*60/5),\"m\")&\" min\",\"\")&\"/dag x \"&ROUND(Medel_T[[#This Row],[Dag sum]:[Dag sum]]*DÅ[Arbetsdag/år],0)&\" dagar x \"&ROUND(Medel_T[[#This Row],[År]:[År]],1)&\" år = \"&TEXT(ROUND(Medel_T[[#This Row],[D 15AM§]]*24,1-(INT(LOG10(ABS(Medel_T[[#This Row],[D 15AM§]]*24))))),\"0\"&IF(1-(INT(LOG10(ABS(Medel_T[[#This Row],[D 15AM§]]*24))))>0,\",\"&REPT(\"0\",1-(INT(LOG10(ABS(Medel_T[[#This Row],[D 15AM§]]*24))))),\"\"))& \" h\"),\"\")","v":""},{"$f":"IFERROR(IF(OR(LEN(Medel_T[[#This Row],[AöA text]])>0,LEN(Medel_T[[#This Row],[15AM Text]])>0),Exp_T[Anställning]&YEAR(Medel_T[[#This Row],[Start]])&List_T[[#Totals],[List symb]]&YEAR(Medel_T[[#This Row],[Slut]])&\" (\"&ROUND(Medel_T[[#This Row],[År]],1)&\" år)\"&IF(LEN(Medel_T[[#This Row],[AöA text]])>0,↓[↓],\"\")&Medel_T[[#This Row],[AöA text]]&IF(LEN(Medel_T[[#This Row],[15AM Text]])>0,↓[↓],\"\")&Medel_T[[#This Row],[15AM Text]],\"\"),\"\")","v":""},{"$f":"IFERROR(IF(Medel_T[[#This Row],[AöA T]]=0,\"\",List_T[List symb]&Exp_T[[#Headers],[Överarmsrörelser> 15/min: ]]&IF(VALUE(TEXT(Medel_T[[#This Row],[AöA T]],\"t\"))>0,VALUE(TEXT(Medel_T[[#This Row],[AöA T]],\"t\"))&\" h\",\"\")&IF(AND(VALUE(TEXT(Medel_T[[#This Row],[AöA T]],\"t\"))>0,VALUE(TEXT(Medel_T[[#This Row],[AöA T]],\"m\"))>2.4),\" \",\"\")&IF(VALUE(TEXT(Medel_T[[#This Row],[AöA T]],\"m\"))>2.4,TEXT(ROUND(Medel_T[[#This Row],[AöA T]]*(24*60/5),0)/(24*60/5),\"m\")&\" min\",\"\")&\"/dag x \"&ROUND(Medel_T[[#This Row],[Dag sum]:[Dag sum]]*DÅ[Arbetsdag/år],0)&\" dagar x \"&ROUND(Medel_T[[#This Row],[År]:[År]],1)&\" år = \"&TEXT(ROUND(Medel_T[[#This Row],[D AöA¤]]*24,1-(INT(LOG10(ABS(Medel_T[[#This Row],[D AöA¤]]*24))))),\"0\"&IF(1-(INT(LOG10(ABS(Medel_T[[#This Row],[D AöA¤]]*24))))>0,\",\"&REPT(\"0\",1-(INT(LOG10(ABS(Medel_T[[#This Row],[D AöA¤]]*24))))),\"\"))& \" h\"),\"\")","v":""},{"$f":"IFERROR(IF(Medel_T[[#This Row],[15AM T]]=0,\"\",List_T[List symb]&Exp_T[[#Headers],[Överarmslyft> 90°: ]]&IF(VALUE(TEXT(Medel_T[[#This Row],[15AM T]],\"t\"))>0,VALUE(TEXT(Medel_T[[#This Row],[15AM T]],\"t\"))&\" h\",\"\")&IF(AND(VALUE(TEXT(Medel_T[[#This Row],[15AM T]],\"t\"))>0,VALUE(TEXT(Medel_T[[#This Row],[15AM T]],\"m\"))>0),\" \",\"\")&IF(VALUE(TEXT(Medel_T[[#This Row],[15AM T]],\"m\"))>0,TEXT(ROUND(Medel_T[[#This Row],[15AM T]]*(24*60/5),0)/(24*60/5),\"m\")&\" min\",\"\")&\"/dag x \"&ROUND(Medel_T[[#This Row],[Dag sum]:[Dag sum]]*DÅ[Arbetsdag/år],0)&\" dagar x \"&ROUND(Medel_T[[#This Row],[År]:[År]],1)&\" år = \"&TEXT(ROUND(Medel_T[[#This Row],[D 15AM¤]]*24,1-(INT(LOG10(ABS(Medel_T[[#This Row],[D 15AM¤]]*24))))),\"0\"&IF(1-(INT(LOG10(ABS(Medel_T[[#This Row],[D 15AM¤]]*24))))>0,\",\"&REPT(\"0\",1-(INT(LOG10(ABS(Medel_T[[#This Row],[D 15AM¤]]*24))))),\"\"))& \" h\"),\"\")","v":""},{"$f":"IFERROR(IF(LEN(Medel_T[[#This Row],[SJDstart]])>0,Exp_T[Anställning]&↓[↓]&YEAR(Medel_T[[#This Row],[Start]])&List_T[[#Totals],[List symb]]&YEAR(Medel_T[[#This Row],[Slut]])&\" (\"&ROUND(Medel_T[[#This Row],[År]],1)&\" år)\"&IF(LEN(Medel_T[[#This Row],[AöA text Sjuk]])>0,↓[↓],\"\")&Medel_T[[#This Row],[AöA text Sjuk]]&IF(LEN(Medel_T[[#This Row],[15AM Text Sjuk]])>0,↓[↓],\"\")&Medel_T[[#This Row],[15AM Text Sjuk]],\"\"),\"\")","v":""},{"$f":"IFERROR(Medel_T[[#This Row],[Period ]]&Medel_T[[#This Row],[ArbMomText]]&Medel_T[[#This Row],[Text]],\"\")","v":""},{"$f":"IF(AND(DJ22>=MAX(Medel_T[NrX]),ISNUMBER(DJ22)),Medel_T[[#Totals],[NrX]]+ROW()-ROW(Medel_T[[#Headers],[Rad]])-Medel_T[[#Totals],[Ant]]-1,INDEX(Medel_T[NrX],MATCH(ROW()-ROW(Medel_T[[#Headers],[Rad]]),Medel_T[NrX],0)))","v":{"$error":"#N/A"}},{"$f":"IF(Medel_T[[#This Row],[Rad]]<=Medel_T[[#Totals],[Ant]],MATCH(Medel_T[[#This Row],[Rad]],Medel_T[NrX],0),IFERROR(INDEX(BD_TX[[#Data],[#Totals],[SJ]],MATCH(Medel_T[[#This Row],[Rad]],BD_TX[[#Data],[#Totals],[Nr]],0)),\"\"))","v":{"$error":"#N/A"}},{"$f":"LEN(Medel_T[[#This Row],[Yrke2]])-LEN(SUBSTITUTE(Medel_T[[#This Row],[Yrke2]],LEFT(Sep_T[Separator],1),\"\"))","v":0},{"$f":"INDEX(Medel_T[År],Medel_T[[#This Row],[Nr]])","v":{"$error":"#N/A"}},{"$f":"IFERROR(IF(LEN(Medel_T[[#This Row],[Nr]])>0,TEXT(IFERROR(INDEX(Medel_T[Start],Medel_T[[#This Row],[Nr]]),INDEX(BD_TX[[#Data],[#Totals],[Start]],MATCH(Medel_T[[#This Row],[Rad]],BD_TX[[#Data],[#Totals],[Nr]],0))),\"ÅÅÅÅ MMM\")&\"-\"&TEXT(IFERROR(INDEX(Medel_T[Slut],Medel_T[[#This Row],[Nr]]),INDEX(BD_TX[[#Data],[#Totals],[År]],MATCH(Medel_T[[#This Row],[Rad]],BD_TX[[#Data],[#Totals],[Nr]],0))),\"ÅÅÅÅ MMM\"),\"\"),\"\")","v":""},{"$f":"IFERROR(IF(LEN(Medel_T[[#This Row],[Nr]])>0,IF(Medel_T[[#This Row],[Rad]]>Medel_T[[#Totals],[Ant]],IFERROR(INDEX(BD_TX[[#Data],[#Totals],[Text]],MATCH(Medel_T[[#This Row],[Rad]],BD_TX[[#Data],[#Totals],[Nr]],0)),\"\"),INDEX(Medel_T[Yrke],Medel_T[[#This Row],[Nr]])),\"\"),\"\")","v":""},{"$f":"IFERROR(INDEX(Medel_T[Arbetsmoment],MATCH(ROW()-ROW(Medel_T[[#Headers],[Arbetsmoment2]]),Medel_T[[NrX]:[NrX]],0)),\"\")","v":""},{"$f":"IFERROR(INDEX(Medel_T[],Medel_T[[#This Row],[Nr]],Medel_T[[#Totals],[HöA_T]]),\"\")","v":""},{"$f":"IF(LEN(Medel_T[[#This Row],[Nr]:[Nr]])>0,IFERROR(TEXT(ROUND(24*IFERROR(INDEX(Medel_T[],Medel_T[[#This Row],[Nr]:[Nr]],Medel_T[[#Totals],[D HöA]]),INDEX(Sum_T[[#Data],[#Totals]],MATCH(Medel_T[[#This Row],[Nr]:[Nr]],Sum_T[[#Data],[#Totals],[Typ]:[Typ]],0),MATCH(Medel_T[[#Headers],[D HöA]],Sum_T[#Headers],0))),1-(INT(LOG10(ABS(24*IFERROR(INDEX(Medel_T[],Medel_T[[#This Row],[Nr]:[Nr]],Medel_T[[#Totals],[D HöA]]),INDEX(Sum_T[[#Data],[#Totals]],MATCH(Medel_T[[#This Row],[Nr]:[Nr]],Sum_T[[#Data],[#Totals],[Typ]:[Typ]],0),MATCH(Medel_T[[#Headers],[D HöA]],Sum_T[#Headers],0)))))))),\"0\"&IF(1-(INT(LOG10(ABS(24*IFERROR(INDEX(Medel_T[],Medel_T[[#This Row],[Nr]:[Nr]],Medel_T[[#Totals],[D HöA]]),INDEX(Sum_T[[#Data],[#Totals]],MATCH(Medel_T[[#This Row],[Nr]:[Nr]],Sum_T[[#Data],[#Totals],[Typ]:[Typ]],0),MATCH(Medel_T[[#Headers],[D HöA]],Sum_T[#Headers],0)))))))>0,\",\"&REPT(\"0\",1-(INT(LOG10(ABS(24*IFERROR(INDEX(Medel_T[],Medel_T[[#This Row],[Nr]:[Nr]],Medel_T[[#Totals],[D HöA]]),INDEX(Sum_T[[#Data],[#Totals]],MATCH(Medel_T[[#This Row],[Nr]:[Nr]],Sum_T[[#Data],[#Totals],[Typ]:[Typ]],0),MATCH(Medel_T[[#Headers],[D HöA]],Sum_T[#Headers],0)))))))),0)),0),\"\")","v":{"$error":"#N/A"}},{"$f":"IFERROR(INDEX(Medel_T[],Medel_T[[#This Row],[Nr]],Medel_T[[#Totals],[AÖA_T]]),\"\")","v":""},{"$f":"IFERROR(IF(LEN(Medel_T[[#This Row],[Nr]:[Nr]])>0,IFERROR(TEXT(ROUND(24*IFERROR(INDEX(Medel_T[],Medel_T[[#This Row],[Nr]:[Nr]],Medel_T[[#Totals],[D AöA]]),INDEX(Sum_T[[#Data],[#Totals]],MATCH(Medel_T[[#This Row],[Nr]:[Nr]],Sum_T[[#Data],[#Totals],[Typ]:[Typ]],0),MATCH(Medel_T[[#Headers],[D AöA]],Sum_T[#Headers],0))),1-(INT(LOG10(ABS(24*IFERROR(INDEX(Medel_T[],Medel_T[[#This Row],[Nr]:[Nr]],Medel_T[[#Totals],[D AöA]]),INDEX(Sum_T[[#Data],[#Totals]],MATCH(Medel_T[[#This Row],[Nr]:[Nr]],Sum_T[[#Data],[#Totals],[Typ]:[Typ]],0),MATCH(Medel_T[[#Headers],[D AöA]],Sum_T[#Headers],0)))))))),\"0\"&IF(1-(INT(LOG10(ABS(24*IFERROR(INDEX(Medel_T[],Medel_T[[#This Row],[Nr]:[Nr]],Medel_T[[#Totals],[D AöA]]),INDEX(Sum_T[[#Data],[#Totals]],MATCH(Medel_T[[#This Row],[Nr]:[Nr]],Sum_T[[#Data],[#Totals],[Typ]:[Typ]],0),MATCH(Medel_T[[#Headers],[D AöA]],Sum_T[#Headers],0)))))))>0,\",\"&REPT(\"0\",1-(INT(LOG10(ABS(24*IFERROR(INDEX(Medel_T[],Medel_T[[#This Row],[Nr]:[Nr]],Medel_T[[#Totals],[D AöA]]),INDEX(Sum_T[[#Data],[#Totals]],MATCH(Medel_T[[#This Row],[Nr]:[Nr]],Sum_T[[#Data],[#Totals],[Typ]:[Typ]],0),MATCH(Medel_T[[#Headers],[D AöA]],Sum_T[#Headers],0)))))))),0)),0),\"\"),\"\")","v":""},{"$f":"IFERROR(INDEX(Medel_T[],Medel_T[[#This Row],[Nr]],Medel_T[[#Totals],[4AM_T]]),\"\")","v":""},{"$f":"IF(LEN(Medel_T[[#This Row],[Nr]:[Nr]])>0,IFERROR(TEXT(ROUND(24*IFERROR(INDEX(Medel_T[],Medel_T[[#This Row],[Nr]:[Nr]],Medel_T[[#Totals],[D 4AM]]),INDEX(Sum_T[[#Data],[#Totals]],MATCH(Medel_T[[#This Row],[Nr]:[Nr]],Sum_T[[#Data],[#Totals],[Typ]:[Typ]],0),MATCH(Medel_T[[#Headers],[D 4AM]],Sum_T[#Headers],0))),1-(INT(LOG10(ABS(24*IFERROR(INDEX(Medel_T[],Medel_T[[#This Row],[Nr]:[Nr]],Medel_T[[#Totals],[D 4AM]]),INDEX(Sum_T[[#Data],[#Totals]],MATCH(Medel_T[[#This Row],[Nr]:[Nr]],Sum_T[[#Data],[#Totals],[Typ]:[Typ]],0),MATCH(Medel_T[[#Headers],[D 4AM]],Sum_T[#Headers],0)))))))),\"0\"&IF(1-(INT(LOG10(ABS(24*IFERROR(INDEX(Medel_T[],Medel_T[[#This Row],[Nr]:[Nr]],Medel_T[[#Totals],[D 4AM]]),INDEX(Sum_T[[#Data],[#Totals]],MATCH(Medel_T[[#This Row],[Nr]:[Nr]],Sum_T[[#Data],[#Totals],[Typ]:[Typ]],0),MATCH(Medel_T[[#Headers],[D 4AM]],Sum_T[#Headers],0)))))))>0,\",\"&REPT(\"0\",1-(INT(LOG10(ABS(24*IFERROR(INDEX(Medel_T[],Medel_T[[#This Row],[Nr]:[Nr]],Medel_T[[#Totals],[D 4AM]]),INDEX(Sum_T[[#Data],[#Totals]],MATCH(Medel_T[[#This Row],[Nr]:[Nr]],Sum_T[[#Data],[#Totals],[Typ]:[Typ]],0),MATCH(Medel_T[[#Headers],[D 4AM]],Sum_T[#Headers],0)))))))),0)),0),\"\")","v":{"$error":"#N/A"}},{"$f":"IFERROR(INDEX(Medel_T[],Medel_T[[#This Row],[Nr]],Medel_T[[#Totals],[15AM_T]]),\"\")","v":""},{"$f":"IFERROR(IF(LEN(Medel_T[[#This Row],[Nr]:[Nr]])>0,IFERROR(TEXT(ROUND(24*IFERROR(INDEX(Medel_T[],Medel_T[[#This Row],[Nr]:[Nr]],Medel_T[[#Totals],[D 15AM]]),INDEX(Sum_T[[#Data],[#Totals]],MATCH(Medel_T[[#This Row],[Nr]:[Nr]],Sum_T[[#Data],[#Totals],[Typ]:[Typ]],0),MATCH(Medel_T[[#Headers],[D 15AM]],Sum_T[#Headers],0))),1-(INT(LOG10(ABS(24*IFERROR(INDEX(Medel_T[],Medel_T[[#This Row],[Nr]:[Nr]],Medel_T[[#Totals],[D 15AM]]),INDEX(Sum_T[[#Data],[#Totals]],MATCH(Medel_T[[#This Row],[Nr]:[Nr]],Sum_T[[#Data],[#Totals],[Typ]:[Typ]],0),MATCH(Medel_T[[#Headers],[D 15AM]],Sum_T[#Headers],0)))))))),\"0\"&IF(1-(INT(LOG10(ABS(24*IFERROR(INDEX(Medel_T[],Medel_T[[#This Row],[Nr]:[Nr]],Medel_T[[#Totals],[D 15AM]]),INDEX(Sum_T[[#Data],[#Totals]],MATCH(Medel_T[[#This Row],[Nr]:[Nr]],Sum_T[[#Data],[#Totals],[Typ]:[Typ]],0),MATCH(Medel_T[[#Headers],[D 15AM]],Sum_T[#Headers],0)))))))>0,\",\"&REPT(\"0\",1-(INT(LOG10(ABS(24*IFERROR(INDEX(Medel_T[],Medel_T[[#This Row],[Nr]:[Nr]],Medel_T[[#Totals],[D 15AM]]),INDEX(Sum_T[[#Data],[#Totals]],MATCH(Medel_T[[#This Row],[Nr]:[Nr]],Sum_T[[#Data],[#Totals],[Typ]:[Typ]],0),MATCH(Medel_T[[#Headers],[D 15AM]],Sum_T[#Headers],0)))))))),0)),0),\"\"),\"\")","v":""},{"$f":"IFERROR(INDEX(Medel_T[],Medel_T[[#This Row],[Nr]],Medel_T[[#Totals],[20-10D_T]]),\"\")","v":""},{"$f":"IF(LEN(Medel_T[[#This Row],[Nr]:[Nr]])>0,IFERROR(TEXT(ROUND(24*IFERROR(INDEX(Medel_T[],Medel_T[[#This Row],[Nr]:[Nr]],Medel_T[[#Totals],[D 20-10D]]),INDEX(Sum_T[[#Data],[#Totals]],MATCH(Medel_T[[#This Row],[Nr]:[Nr]],Sum_T[[#Data],[#Totals],[Typ]:[Typ]],0),MATCH(Medel_T[[#Headers],[D 20-10D]],Sum_T[#Headers],0))),1-(INT(LOG10(ABS(24*IFERROR(INDEX(Medel_T[],Medel_T[[#This Row],[Nr]:[Nr]],Medel_T[[#Totals],[D 20-10D]]),INDEX(Sum_T[[#Data],[#Totals]],MATCH(Medel_T[[#This Row],[Nr]:[Nr]],Sum_T[[#Data],[#Totals],[Typ]:[Typ]],0),MATCH(Medel_T[[#Headers],[D 20-10D]],Sum_T[#Headers],0)))))))),\"0\"&IF(1-(INT(LOG10(ABS(24*IFERROR(INDEX(Medel_T[],Medel_T[[#This Row],[Nr]:[Nr]],Medel_T[[#Totals],[D 20-10D]]),INDEX(Sum_T[[#Data],[#Totals]],MATCH(Medel_T[[#This Row],[Nr]:[Nr]],Sum_T[[#Data],[#Totals],[Typ]:[Typ]],0),MATCH(Medel_T[[#Headers],[D 20-10D]],Sum_T[#Headers],0)))))))>0,\",\"&REPT(\"0\",1-(INT(LOG10(ABS(24*IFERROR(INDEX(Medel_T[],Medel_T[[#This Row],[Nr]:[Nr]],Medel_T[[#Totals],[D 20-10D]]),INDEX(Sum_T[[#Data],[#Totals]],MATCH(Medel_T[[#This Row],[Nr]:[Nr]],Sum_T[[#Data],[#Totals],[Typ]:[Typ]],0),MATCH(Medel_T[[#Headers],[D 20-10D]],Sum_T[#Headers],0)))))))),0)),0),\"\")","v":{"$error":"#N/A"}},null,{"$f":"IFERROR(INDEX(Hin_T[Nr],MATCH(SMALL(Hin_T[B-årX],ROW()-ROW(Hut_T[[#Headers],[Rad]])),Hin_T[B-årX],0)),IF(ROWS($EB$19:EB23)=1+COUNTIF(Hin_T[Start],\"*\"),Hin_T[[#Totals],[Dag]],IF(AND(ROWS($EB$19:EB23)=2+COUNTIF(Hin_T[Start],\"*\"),Hin_T[[#Totals],[Q%-]]>0),EB22+1,IF(AND(ROWS($EB$19:EB23)=3+COUNTIF(Hin_T[Start],\"*\"),Hin_T[[#Totals],[Q%-]]>1),EB22+1,IF(AND(ROWS($EB$19:EB23)=4+COUNTIF(Hin_T[Start],\"*\"),Hin_T[[#Totals],[Q%-]]>2),EB22+1,\"\")))))","v":""},{"$f":"IF(Hut_T[[#This Row],[Rad]]<Hin_T[[#Totals],[Dag]],ROWS($EB$19:EB23),IFERROR(INDEX(BD_TX[[#Data],[#Totals],[SJ]],MATCH(Hut_T[[#This Row],[Rad]],BD_TX[[#Data],[#Totals],[NrX]],0)),\"\"))","v":""},{"$f":"IF(ISNUMBER(Hut_T[[#This Row],[Datum-]]),TEXT(Hut_T[[#This Row],[Datum-]],\"ÅÅÅÅ MMM\")&\"-\"&TEXT(Hut_T[[#This Row],[Datum+]],\"ÅÅÅÅ MMM\"),\"\")","v":""},{"$f":"IF(ISNUMBER(Hut_T[[#This Row],[Nr]]),IF(INDEX(Hin_T[Yrke],Hut_T[[#This Row],[Rad]])>0,INDEX(Hin_T[Yrke],Hut_T[[#This Row],[Rad]]),\"\"),IFERROR(INDEX(BD_TX[[#Data],[#Totals],[Text]],MATCH(Hut_T[[#This Row],[Rad]],BD_TX[[#Data],[#Totals],[NrX]],0)),\"\"))","v":""},{"$f":"IF(ISNUMBER(Hut_T[[#This Row],[Nr]]),IF(INDEX(Hin_T[Arbetsmoment],Hut_T[[#This Row],[Rad]])>0,INDEX(Hin_T[Arbetsmoment],Hut_T[[#This Row],[Rad]]),\"\"),\"\")","v":""},{"$f":"IFERROR(IF(INDEX(Hin_T[Yrke],Hut_T[[#This Row],[Rad]])>0,INDEX(Hin_T[Företag],Hut_T[[#This Row],[Rad]]),\"\"),\"\")","v":""},{"$f":"IFERROR(IF(INDEX(Hin_T[Dag],Hut_T[[#This Row],[Rad]])>0,INDEX(Hin_T[Dag],Hut_T[[#This Row],[Rad]])*DÅ[Arbetsdag/år],\"\"),\"\")","v":""},{"$f":"IF(AND(ISNUMBER(_xlfn.SINGLE(Hut_T[[#This Row],[Rad]:[Rad]])),IFERROR(_xlfn.SINGLE(INDEX(Hin_T[[#Data],[#Totals]],_xlfn.SINGLE(Hut_T[[#This Row],[Rad]:[Rad]]),MATCH(Hut_T[[#Headers],[D HöA]],Hin_T[#Headers],0))),\"\")),IFERROR(ROUND(_xlfn.SINGLE(INDEX(Hin_T[[#Data],[#Totals]],_xlfn.SINGLE(Hut_T[[#This Row],[Rad]:[Rad]])-IF(_xlfn.SINGLE(Hut_T[[#This Row],[Nr]:[Nr]])=_xlfn.SINGLE(#REF!),COUNT(Besvär_T[[Sjukdomsdebut]:[Sjukdomsdebut]]),0),MATCH(_xlfn.SINGLE(IF(_xlfn.SINGLE(Hut_T[[#This Row],[Nr]:[Nr]])=_xlfn.SINGLE(#REF!),#REF!,\"\"))&Hut_T[[#Headers],[D HöA]],Hin_T[#Headers],0))),0),\"\"),\"\")","v":""},{"$f":"IF(AND(ISNUMBER(Hut_T[[#This Row],[Rad]:[Rad]]),ISNUMBER(Hut_T[[#This Row],[D HöA]]),ISNUMBER(Hut_T[[#This Row],[Nr]:[Nr]])),IFERROR(ROUND(INDEX(Hin_T[[#Data],[#Totals]],Hut_T[[#This Row],[Rad]:[Rad]],MATCH(Hut_T[[#Headers],[HöA-A]],Hin_T[#Headers],0)),1-(INT(LOG10(INDEX(Hin_T[[#Data],[#Totals]],Hut_T[[#This Row],[Rad]:[Rad]],MATCH(Hut_T[[#Headers],[HöA-A]],Hin_T[#Headers],0)))))),1),\"\")","v":""},{"$f":"IF(AND(ISNUMBER(Hut_T[[#This Row],[Rad]:[Rad]]),IFERROR(INDEX(Hin_T[[#Data],[#Totals]],Hut_T[[#This Row],[Rad]:[Rad]],MATCH(Hut_T[[#Headers],[D AöA]],Hin_T[#Headers],0)),\"\")),IFERROR(ROUND(INDEX(Hin_T[[#Data],[#Totals]],Hut_T[[#This Row],[Rad]:[Rad]]-IF(Hut_T[[#This Row],[Nr]:[Nr]]=BD_TX[[SJ]:[SJ]],COUNT(Besvär_T[[Sjukdomsdebut]:[Sjukdomsdebut]]),0),MATCH(IF(Hut_T[[#This Row],[Nr]:[Nr]]=BD_TX[[#Totals],[SJ]:[SJ]],BD_TX[[#Headers],[SJ]],\"\")&Hut_T[[#Headers],[D AöA]],Hin_T[#Headers],0)),0),\"\"),\"\")","v":""},{"$f":"IF(AND(ISNUMBER(Hut_T[[#This Row],[Rad]:[Rad]]),ISNUMBER(Hut_T[[#This Row],[D AöA]]),ISNUMBER(Hut_T[[#This Row],[Nr]:[Nr]])),IFERROR(ROUND(INDEX(Hin_T[[#Data],[#Totals]],Hut_T[[#This Row],[Rad]:[Rad]],MATCH(Hut_T[[#Headers],[AöA-A]],Hin_T[#Headers],0)),1-(INT(LOG10(INDEX(Hin_T[[#Data],[#Totals]],Hut_T[[#This Row],[Rad]:[Rad]],MATCH(Hut_T[[#Headers],[AöA-A]],Hin_T[#Headers],0)))))),1),\"\")","v":""},{"$f":"IF(AND(ISNUMBER(_xlfn.SINGLE(Hut_T[[#This Row],[Rad]:[Rad]])),IFERROR(_xlfn.SINGLE(INDEX(Hin_T[[#Data],[#Totals]],_xlfn.SINGLE(Hut_T[[#This Row],[Rad]:[Rad]]),MATCH(Hut_T[[#Headers],[D 4AM]],Hin_T[#Headers],0))),\"\")),IFERROR(ROUND(_xlfn.SINGLE(INDEX(Hin_T[[#Data],[#Totals]],_xlfn.SINGLE(Hut_T[[#This Row],[Rad]:[Rad]])-IF(_xlfn.SINGLE(Hut_T[[#This Row],[Nr]:[Nr]])=_xlfn.SINGLE(#REF!),COUNT(Besvär_T[[Sjukdomsdebut]:[Sjukdomsdebut]]),0),MATCH(_xlfn.SINGLE(IF(_xlfn.SINGLE(Hut_T[[#This Row],[Nr]:[Nr]])=_xlfn.SINGLE(#REF!),#REF!,\"\"))&Hut_T[[#Headers],[D 4AM]],Hin_T[#Headers],0))),0),\"\"),\"\")","v":""},{"$f":"IF(AND(ISNUMBER(Hut_T[[#This Row],[Rad]:[Rad]]),ISNUMBER(Hut_T[[#This Row],[D 4AM]]),ISNUMBER(Hut_T[[#This Row],[Nr]:[Nr]])),IFERROR(ROUND(INDEX(Hin_T[[#Data],[#Totals]],Hut_T[[#This Row],[Rad]:[Rad]],MATCH(Hut_T[[#Headers],[4AM-A]],Hin_T[#Headers],0)),1-(INT(LOG10(INDEX(Hin_T[[#Data],[#Totals]],Hut_T[[#This Row],[Rad]:[Rad]],MATCH(Hut_T[[#Headers],[4AM-A]],Hin_T[#Headers],0)))))),1),\"\")","v":""},{"$f":"IF(AND(ISNUMBER(Hut_T[[#This Row],[Rad]:[Rad]]),IFERROR(INDEX(Hin_T[[#Data],[#Totals]],Hut_T[[#This Row],[Rad]:[Rad]],MATCH(Hut_T[[#Headers],[D 15AM]],Hin_T[#Headers],0)),\"\")),IFERROR(ROUND(INDEX(Hin_T[[#Data],[#Totals]],Hut_T[[#This Row],[Rad]:[Rad]]-IF(Hut_T[[#This Row],[Nr]:[Nr]]=BD_TX[[SJ]:[SJ]],COUNT(Besvär_T[[Sjukdomsdebut]:[Sjukdomsdebut]]),0),MATCH(IF(Hut_T[[#This Row],[Nr]:[Nr]]=BD_TX[[#Totals],[SJ]:[SJ]],BD_TX[[#Headers],[SJ]],\"\")&Hut_T[[#Headers],[D 15AM]],Hin_T[#Headers],0)),0),\"\"),\"\")","v":""},{"$f":"IF(AND(ISNUMBER(Hut_T[[#This Row],[Rad]:[Rad]]),ISNUMBER(Hut_T[[#This Row],[D 15AM]]),ISNUMBER(Hut_T[[#This Row],[Nr]:[Nr]])),IFERROR(ROUND(INDEX(Hin_T[[#Data],[#Totals]],Hut_T[[#This Row],[Rad]:[Rad]],MATCH(Hut_T[[#Headers],[15AM-A]],Hin_T[#Headers],0)),1-(INT(LOG10(INDEX(Hin_T[[#Data],[#Totals]],Hut_T[[#This Row],[Rad]:[Rad]],MATCH(Hut_T[[#Headers],[15AM-A]],Hin_T[#Headers],0)))))),1),\"\")","v":""},{"$f":"IF(AND(ISNUMBER(Hut_T[[#This Row],[Rad]:[Rad]]),IFERROR(INDEX(Hin_T[[#Data],[#Totals]],Hut_T[[#This Row],[Rad]:[Rad]],MATCH(Hut_T[[#Headers],[D 20-10D]],Hin_T[#Headers],0)),\"\")),IFERROR(ROUND(INDEX(Hin_T[[#Data],[#Totals]],Hut_T[[#This Row],[Rad]:[Rad]]-IF(Hut_T[[#This Row],[Nr]:[Nr]]=BD_TX[[SJ]:[SJ]],COUNT(Besvär_T[[Sjukdomsdebut]:[Sjukdomsdebut]]),0),MATCH(IF(Hut_T[[#This Row],[Nr]:[Nr]]=BD_TX[[#Totals],[SJ]:[SJ]],BD_TX[[#Headers],[SJ]],\"\")&Hut_T[[#Headers],[D 20-10D]],Hin_T[#Headers],0)),0),\"\"),\"\")","v":""},{"$f":"IF(AND(ISNUMBER(Hut_T[[#This Row],[Rad]:[Rad]]),ISNUMBER(Hut_T[[#This Row],[D 20-10D]]),ISNUMBER(Hut_T[[#This Row],[Nr]:[Nr]])),IFERROR(ROUND(INDEX(Hin_T[[#Data],[#Totals]],Hut_T[[#This Row],[Rad]:[Rad]],MATCH(Hut_T[[#Headers],[20-10D-A]],Hin_T[#Headers],0)),1-(INT(LOG10(INDEX(Hin_T[[#Data],[#Totals]],Hut_T[[#This Row],[Rad]:[Rad]],MATCH(Hut_T[[#Headers],[20-10D-A]],Hin_T[#Headers],0)))))),1),\"\")","v":""},null,{"$f":"IFERROR(INDEX(Hin_T[[#Data],[#Totals],[B-år]],Hut_T[[#This Row],[Rad]]),IF(ISNUMBER(Hut_T[[#This Row],[Datum+]]),ET22,\"\"))","v":""},{"$f":"IFERROR(INDEX(Hin_T[S-år],Hut_T[[#This Row],[Rad]]),IFERROR(INDEX(BD_TX[[#Data],[#Totals],[År]],MATCH(Hut_T[[#This Row],[Rad]],BD_TX[[#Data],[#Totals],[NrX]],0)),\"\"))","v":""},null,{"$f":"ROWS($EW$20:EW23)","v":4},{"$f":"IFERROR(MATCH(Hist_Tab[[#This Row],[Ref]],Medel_T[NrX],0),1)","v":1},{"$f":"INT((ROW(Hist_Tab[[#This Row],[Ref]])-ROW(Hist_Tab[[#Headers],[Ref]])-1)/4)+1","v":2},{"$f":"COUNTIF($EY$19:EY23,Hist_Tab[[#This Row],[Ref]])","v":1},{"$f":"IFERROR(INDEX(Medel_T[Start],Hist_Tab[[#This Row],[Ref]]),_xlfn.AGGREGATE(4,6,Medel_T[Start]))","v":"00:00:00"},{"$f":"IFERROR(INDEX(Medel_T[Slut],Hist_Tab[[#This Row],[Ref]]),_xlfn.AGGREGATE(4,6,Medel_T[Slut]))","v":"00:00:00"},{"$f":"IF(EW22=0,Hist_Tab[[#This Row],[ÅrB]],IF(Hist_Tab[[#This Row],[per/p]]<2,Hist_Tab[[#This Row],[ÅrB]],Hist_Tab[[#This Row],[År S]]))","v":"00:00:00"},{"$f":"IF(Hist_Tab[[#This Row],[Rad]:[Rad]]=0,-1,IF($EY24>_xlfn.AGGREGATE(2,6,Medel_T[[Slut]:[Slut]]),0,INDEX(Medel_T[],Hist_Tab[[#This Row],[Ref]:[Ref]],MATCH(Hist_Tab[[#Headers],[HöA T]],Medel_T[#Headers],0))))","v":0},{"$f":"IF(Hist_Tab[[#This Row],[Rad]:[Rad]]=0,0,IF($EY24>_xlfn.AGGREGATE(2,6,Medel_T[[Slut]:[Slut]]),0,INDEX(Medel_T[],Hist_Tab[[#This Row],[Ref]:[Ref]],MATCH(Hist_Tab[[#Headers],[AöA T]],Medel_T[#Headers],0))))","v":0},{"$f":"IF(Hist_Tab[[#This Row],[Rad]:[Rad]]=0,0,IF($EY24>_xlfn.AGGREGATE(2,6,Medel_T[[Slut]:[Slut]]),0,INDEX(Medel_T[],Hist_Tab[[#This Row],[Ref]:[Ref]],MATCH(Hist_Tab[[#Headers],[4AM T]],Medel_T[#Headers],0))))","v":0},{"$f":"IF(Hist_Tab[[#This Row],[Rad]:[Rad]]=0,0,IF($EY24>_xlfn.AGGREGATE(2,6,Medel_T[[Slut]:[Slut]]),0,INDEX(Medel_T[],Hist_Tab[[#This Row],[Ref]:[Ref]],MATCH(Hist_Tab[[#Headers],[15AM T]],Medel_T[#Headers],0))))","v":0},{"$f":"IF(Hist_Tab[[#This Row],[Rad]:[Rad]]=0,0,IF($EY24>_xlfn.AGGREGATE(2,6,Medel_T[[Slut]:[Slut]]),0,INDEX(Medel_T[],Hist_Tab[[#This Row],[Ref]:[Ref]],MATCH(Hist_Tab[[#Headers],[20-10D T]],Medel_T[#Headers],0))))","v":0}]
[null,null,null,null,null,null,null,null,null,null,null,null,null,null,null,null,null,null,{"$f":"IF(LEN(Hin_T[[#This Row],[Start]])>0,ROWS($S$19:S24),\"\")","v":""},null,{"$f":"Hin_T[[#This Row],[Yrke]]&IF(ISBLANK(Hin_T[[#This Row],[Arbetsmoment]]),\"\",\"; \"&Hin_T[[#This Row],[Arbetsmoment]])","v":""},{"$f":"IFERROR(IF(LEN(Hin_T[[#This Row],[Start]])-LEN(SUBSTITUTE(Hin_T[[#This Row],[Start]],\"-\",\"\"))=2,DATEVALUE(Hin_T[[#This Row],[Start]]),IF(LEN(Hin_T[[#This Row],[Start]])<5,DATEVALUE(Hin_T[[#This Row],[Start]]&\"-01-01\"),DATEVALUE(LEFT(Hin_T[[#This Row],[Start]],IF(LEN(Hin_T[[#This Row],[Start]])>6,4,2))&\"-\"&MID(Hin_T[[#This Row],[Start]],IF(LEN(Hin_T[[#This Row],[Start]])>6,5,3),2)&\"-\"&RIGHT(Hin_T[[#This Row],[Start]],2)))),\"\")","v":""},{"$f":"IFERROR(IF(LEN(Hin_T[[#This Row],[Slut]])-LEN(SUBSTITUTE(Hin_T[[#This Row],[Slut]],\"-\",\"\"))=2,DATEVALUE(Hin_T[[#This Row],[Slut]]),IF(LEN(Hin_T[[#This Row],[Slut]])<5,DATEVALUE(Hin_T[[#This Row],[Slut]]&\"-12-31\"),DATEVALUE(LEFT(Hin_T[[#This Row],[Slut]],IF(LEN(Hin_T[[#This Row],[Slut]])>6,4,2))&\"-\"&MID(Hin_T[[#This Row],[Slut]],IF(LEN(Hin_T[[#This Row],[Slut]])>6,5,3),2)&\"-\"&RIGHT(Hin_T[[#This Row],[Slut]],2)))),\"\")","v":""},{"$f":"IF(COUNTIF(V$19:V24,Hin_T[[#This Row],[B-år]])=1,Hin_T[[#This Row],[B-år]],\"\")","v":""},{"$f":"IF(COUNTIF(W$19:W24,Hin_T[[#This Row],[S-år]])=1,Hin_T[[#This Row],[S-år]],\"\")","v":""},{"$f":"IFERROR(Hin_T[[#This Row],[B-år]]+IF(COUNTIF($V$19:V24,Hin_T[[#This Row],[B-år]])>1,COUNTIF($V$19:V24,Hin_T[[#This Row],[B-år]])/10,0),\"\")","v":""},{"$f":"IF(ISNUMBER(Hin_T[[#This Row],[Dagar]]),Hin_T[[#This Row],[Dagar]]/DÅ[Arbetsdag/år],1)","v":1},{"$f":"Hin_T[[#This Row],[Dag]]*DÅ[Arbetsdag/år]","v":220},{"$f":"IF(LEN(Hin_T[[#This Row],[Yrke]])=4,1,0)","v":0},{"$f":"_xlfn.DAYS(Hin_T[[#This Row],[B-år]],DATE(YEAR(Hin_T[[#This Row],[B-år]]),1,1))/(DATE(YEAR(Hin_T[[#This Row],[B-år]])+1,1,1)-DATE(YEAR(Hin_T[[#This Row],[B-år]]),1,1))","v":{"$error":"#VALUE!"}},{"$f":"_xlfn.DAYS(DATE(YEAR(Hin_T[[#This Row],[S-år]]),12,31),Hin_T[[#This Row],[S-år]])/(DATE(YEAR(Hin_T[[#This Row],[S-år]])+1,1,1)-DATE(YEAR(Hin_T[[#This Row],[S-år]]),1,1))","v":{"$error":"#VALUE!"}},{"$f":"YEARFRAC(Hin_T[[#This Row],[S-år]],Hin_T[[#This Row],[B-år]])*Hin_T[[#This Row],[Dag]]","v":{"$error":"#VALUE!"}},{"$f":"IFERROR(Hin_T[[#This Row],[År diff]]*IF(ISNUMBER(Hin_T[[#This Row],[HöA]]),1,0),0)","v":0},{"$f":"IFERROR(Hin_T[[#This Row],[År diff]]*IF(ISNUMBER(Hin_T[[#This Row],[AöA]]),1,0),0)","v":0},{"$f":"IF(Hin_T[[#This Row],[B-år]]<=Besvär_T[[#Totals],[Sjukdomsdebut]],Hin_T[[#This Row],[B-år]],\"\")","v":""},{"$f":"IF(Hin_T[[#This Row],[S-år]]<=Besvär_T[[#Totals],[Sjukdomsdebut]],Hin_T[[#This Row],[S-år]],\"\")","v":""},{"$f":"IFERROR(YEARFRAC(IF(AND(ISNUMBER(Hin_T[[#This Row],[B-år EA]]),LEN(Hin_T[[#This Row],[S-år EA]])=0),Hin_T[[#Totals],[15AM-A]],Hin_T[[#This Row],[S-år EA]]),Hin_T[[#This Row],[B-år EA]])*Hin_T[[#This Row],[Dag]]*IF(ISNUMBER(Hin_T[[#This Row],[HöA]]),1,0),0)","v":0},{"$f":"IFERROR(YEARFRAC(IF(AND(ISNUMBER(Hin_T[[#This Row],[B-år EA]]),LEN(Hin_T[[#This Row],[S-år EA]])=0),Hin_T[[#Totals],[15AM-A]],Hin_T[[#This Row],[S-år EA]]),Hin_T[[#This Row],[B-år EA]])*Hin_T[[#This Row],[Dag]]*IF(ISNUMBER(Hin_T[[#This Row],[AöA]]),1,0),0)","v":0},{"$f":"IFERROR(Hin_T[[#This Row],[År diff]]*IF(ISNUMBER(Hin_T[[#This Row],[4AM]]),1,0),0)","v":0},{"$f":"IFERROR(Hin_T[[#This Row],[År diff]]*IF(ISNUMBER(Hin_T[[#This Row],[15AM]]),1,0),0)","v":0},{"$f":"IF(Hin_T[[#This Row],[B-år]]<=Besvär_T[[#Totals],[Sjukdomsdebut]],Hin_T[[#This Row],[B-år]],\"\")","v":""},{"$f":"IF(Hin_T[[#This Row],[S-år]]<=Besvär_T[[#Totals],[Sjukdomsdebut]],Hin_T[[#This Row],[S-år]],\"\")","v":""},{"$f":"IFERROR(YEARFRAC(IF(AND(ISNUMBER(Hin_T[[#This Row],[B-år RA]]),LEN(Hin_T[[#This Row],[S-år RA]])=0),Hin_T[[#Totals],[15AM-A]],Hin_T[[#This Row],[S-år RA]]),Hin_T[[#This Row],[B-år RA]])*Hin_T[[#This Row],[Dag]]*IF(ISNUMBER(Hin_T[[#This Row],[4AM]]),1,0),0)","v":0},{"$f":"IFERROR(YEARFRAC(IF(AND(ISNUMBER(Hin_T[[#This Row],[B-år RA]]),LEN(Hin_T[[#This Row],[S-år RA]])=0),Hin_T[[#Totals],[15AM-A]],Hin_T[[#This Row],[S-år RA]]),Hin_T[[#This Row],[B-år RA]])*Hin_T[[#This Row],[Dag]]*IF(ISNUMBER(Hin_T[[#This Row],[15AM]]),1,0),0)","v":0},{"$f":"IFERROR(Hin_T[[#This Row],[År diff]]*IF(ISNUMBER(Hin_T[[#This Row],[20-10D]]),1,0),0)","v":0},{"$f":"IF(Hin_T[[#This Row],[B-år]]<=Besvär_T[[#Totals],[Sjukdomsdebut]],Hin_T[[#This Row],[B-år]],\"\")","v":""},{"$f":"IF(Hin_T[[#This Row],[S-år]]<=Besvär_T[[#Totals],[Sjukdomsdebut]],Hin_T[[#This Row],[S-år]],\"\")","v":""},{"$f":"IFERROR(YEARFRAC(IF(AND(ISNUMBER(Hin_T[[#This Row],[B-år TMH]]),LEN(Hin_T[[#This Row],[S-år TMH]])=0),Hin_T[[#Totals],[15AM-A]],Hin_T[[#This Row],[S-år TMH]]),Hin_T[[#This Row],[B-år TMH]])*Hin_T[[#This Row],[Dag]]*IF(ISNUMBER(Hin_T[[#This Row],[20-10D]]),1,0),0)","v":0},{"$f":"IF(Hin_T[[#This Row],[Vib]]=JN_T[JN],1,0)","v":0},{"$f":"IFERROR(Hin_T[[#This Row],[År diff]]*IF(Hin_T[[#This Row],[Vib2]]>0,1,0),0)","v":0},{"$f":"IF(Hin_T[[#This Row],[B-år]]<=Besvär_T[[#Totals],[Sjukdomsdebut]],Hin_T[[#This Row],[B-år]],\"\")","v":""},{"$f":"IF(Hin_T[[#This Row],[S-år]]<=Besvär_T[[#Totals],[Sjukdomsdebut]],Hin_T[[#This Row],[S-år]],\"\")","v":""},{"$f":"IFERROR(YEARFRAC(IF(AND(ISNUMBER(Hin_T[[#This Row],[B-år VIB]]),LEN(Hin_T[[#This Row],[S-år Vib]])=0),Hin_T[[#Totals],[15AM-A]],Hin_T[[#This Row],[S-år Vib]]),Hin_T[[#This Row],[B-år VIB]])*IF(Hin_T[[#This Row],[Vib2]]>0,1,0),0)","v":0},{"$f":"Hin_T[[#This Row],[HöA]]*Hin_T[[#This Row],[tot år HöA]]*DÅ[Arbetsdag/år]","v":0},{"$f":"Hin_T[[#This Row],[tot år AöA]]*Hin_T[[#This Row],[AöA]]*DÅ[Arbetsdag/år]","v":0},{"$f":"Hin_T[[#This Row],[tot år 4AM]]*Hin_T[[#This Row],[4AM]]*DÅ[Arbetsdag/år]","v":0},{"$f":"Hin_T[[#This Row],[tot år 15AM]]*Hin_T[[#This Row],[15AM]]*DÅ[Arbetsdag/år]","v":0},{"$f":"Hin_T[[#This Row],[tot år 20-10D]]*Hin_T[[#This Row],[20-10D]]*DÅ[Arbetsdag/år]","v":0},{"$f":"Hin_T[[#This Row],[BD år HöA]]*Hin_T[[#This Row],[HöA]]*DÅ[Arbetsdag/år]","v":0},{"$f":"Hin_T[[#This Row],[BD år AöA]]*Hin_T[[#This Row],[AöA]]*DÅ[Arbetsdag/år]","v":0},{"$f":"Hin_T[[#This Row],[BD år 4AM]]*Hin_T[[#This Row],[4AM]]*DÅ[Arbetsdag/år]","v":0},{"$f":"Hin_T[[#This Row],[BD år 15AM]]*Hin_T[[#This Row],[15AM]]*DÅ[Arbetsdag/år]","v":0},{"$f":"Hin_T[[#This Row],[BD år 20-10D]]*Hin_T[[#This Row],[20-10D]]*DÅ[Arbetsdag/år]","v":0},{"$f":"Hin_T[[#This Row],[Arbetsmoment]]&Hin_T[[#This Row],[Text AöA]]&Hin_T[[#This Row],[Text 15AM]]&IF(Hin_T[[#This Row],[Dagarna]]=DÅ[Arbetsdag/år],\"\",\". \"&Hin_T[[#This Row],[Dagarna]]&\" dagar/år\")&\". \"","v":". "},{"$f":"IF(ISBLANK(Hin_T[[#This Row],[AöA]]),\"\",Exp_T[Överarmslyft> 90°: ]&IF(VALUE(TEXT(Hin_T[[#This Row],[AöA]],\"t\"))>0,VALUE(TEXT(Hin_T[[#This Row],[AöA]],\"t\"))&\" h\",\"\")&IF(AND(VALUE(TEXT(Hin_T[[#This Row],[AöA]],\"t\"))>0,VALUE(TEXT(Hin_T[[#This Row],[AöA]],\"m\"))>2.4),\" \",\"\")&IF(VALUE(TEXT(Hin_T[[#This Row],[AöA]],\"m\"))>2.4,TEXT(ROUND(Hin_T[[#This Row],[AöA]]*(24*60/5),0)/(24*60/5),\"m\")&\" min\",\"\")&\"/dag\")","v":""},{"$f":"IF(ISBLANK(Hin_T[[#This Row],[15AM]]),\"\",Exp_T[Överarmsrörelser> 15/min: ]&IF(VALUE(TEXT(Hin_T[[#This Row],[15AM]],\"t\"))>0,VALUE(TEXT(Hin_T[[#This Row],[15AM]],\"t\"))&\" h\",\"\")&IF(AND(VALUE(TEXT(Hin_T[[#This Row],[15AM]],\"t\"))>0,VALUE(TEXT(Hin_T[[#This Row],[15AM]],\"m\"))>2.4),\" \",\"\")&IF(VALUE(TEXT(Hin_T[[#This Row],[15AM]],\"m\"))>2.4,TEXT(ROUND(Hin_T[[#This Row],[15AM]]*(24*60/5),0)/(24*60/5),\"m\")&\" min\",\"\")&\"/dag\")","v":""},null,null,null,null,{"$f":"SMALL(Hin_T[[StartÅR]:[SlutÅr]],ROW()-ROW(Medel_T[[#Headers],[Start]]))","v":{"$error":"#NUM!"}},{"$f":"SMALL(Hin_T[[StartÅR]:[SlutÅr]],ROW()-ROW(Medel_T[[#Headers],[Slut]])+1)","v":{"$error":"#NUM!"}},{"$f":"IF(Medel_T[[#This Row],[Start]]<=Besvär_T[[#Totals],[Sjukdomsdebut]],Medel_T[[#This Row],[Start]],\"\")","v":{"$error":"#NUM!"}},{"$f":"IF(Medel_T[[#This Row],[Slut]]<=Besvär_T[[#Totals],[Sjukdomsdebut]],Medel_T[[#This Row],[Slut]],IF(AND(LEN(Medel_T[[#This Row],[SJDstart]])>0,LEN(BU25)=0),Besvär_T[[#Totals],[Sjukdomsdebut]],\"\"))","v":{"$error":"#NUM!"}},{"$f":"IF(Medel_T[[#This Row],[Start]]>=Besvär_T[[#Totals],[Sjukdomsdebut]],Medel_T[[#This Row],[Start]],IF(AND(LEN(Medel_T[[#This Row],[EfterSlut]])>0,LEN(BX23)=0),Besvär_T[[#Totals],[Sjukdomsdebut]],\"\"))","v":{"$error":"#NUM!"}},{"$f":"IF(Medel_T[[#This Row],[Slut]]>=Besvär_T[[#Totals],[Sjukdomsdebut]],Medel_T[[#This Row],[Slut]],\"\")","v":{"$error":"#NUM!"}},{"$f":"COUNTIF($BZ$19:BZ24,\">0\")","v":0},{"$f":"COUNTIFS(Hin_T[B-år],\"<=\"&Medel_T[[#This Row],[Start]],Hin_T[S-år],\">=\"&Medel_T[[#This Row],[Slut]])","v":0},{"$f":"SUBSTITUTE(_xlfn.TEXTJOIN(Sep_T[Separator],TRUE,_xlfn._xlws.SORT(_xlfn.UNIQUE(IF((Hin_T[[B-år]:[B-år]]<=Medel_T[[#This Row],[Start]:[Start]])*(Hin_T[[S-år]:[S-år]]>=Medel_T[[#This Row],[Slut]:[Slut]]),Hin_T[Yrke],\"\")))),0&Sep_T[Separator],\"\")","v":{"$error":"#NUM!"}},{"$f":"SUBSTITUTE(_xlfn.TEXTJOIN(Sep_T[Separator],TRUE,_xlfn._xlws.SORT(_xlfn.UNIQUE(IF((Hin_T[[B-år]:[B-år]]<=Medel_T[[#This Row],[Start]:[Start]])*(Hin_T[[S-år]:[S-år]]>=Medel_T[[#This Row],[Slut]:[Slut]]),Hin_T[Arbetsmoment],\"\")))),0&Sep_T[Separator],\"\")","v":{"$error":"#NUM!"}},{"$f":"IF(LEN(Medel_T[[#This Row],[Yrke]])>0,Medel_T[[#Headers],[Period ]]&Medel_T[[#This Row],[NrX]]&\": \"&TEXT(Medel_T[[#This Row],[Start]],\"ÅÅÅÅ\")&List_T[[#Totals],[List symb]]&TEXT(Medel_T[[#This Row],[Slut]],\"ÅÅÅÅ\")&\" (\"&ROUND(Medel_T[[#This Row],[År]],1)&\" år) Anställd som \"&IFERROR(SUBSTITUTE(SUBSTITUTE(Medel_T[[#This Row],[Yrke]],Sep_T[Separator],\" och \",Medel_T[[#This Row],[Ant]]-1),Sep_T[Separator],\", \"),Medel_T[[#This Row],[Yrke]])&↓[↓],\"\")","v":{"$error":"#NUM!"}},{"$f":"IF(LEN(Medel_T[[#This Row],[Arbetsmoment]])>0,ROMAN(1)&\") \"&_xlfn.TEXTJOIN(Delim[Delimiters],TRUE,_xlfn._xlws.SORT(_xlfn.UNIQUE(IF((Hin_T[[B-år]:[B-år]]<=Medel_T[[#This Row],[Start]:[Start]])*(Hin_T[[S-år]:[S-år]]>=Medel_T[[#This Row],[Slut]:[Slut]]),Hin_T[Text],\"\"))))&↓[↓],\"\")","v":{"$error":"#NUM!"}},{"$f":"SUMPRODUCT((Hin_T[[B-år]:[B-år]]<=Medel_T[[#This Row],[Start]:[Start]])*(Hin_T[[S-år]:[S-år]]>=Medel_T[[#This Row],[Slut]:[Slut]])*Hin_T[Dag])","v":{"$error":"#NUM!"}},{"$f":"IF(Medel_T[[#This Row],[Proc dag]]<=1,Medel_T[[#This Row],[Proc dag]],1)","v":{"$error":"#NUM!"}},{"$f":"YEARFRAC(Medel_T[[#This Row],[Slut]],Medel_T[[#This Row],[Start]])","v":{"$error":"#NUM!"}},{"$f":"YEARFRAC(Medel_T[[#This Row],[SJDslut]],Medel_T[[#This Row],[SJDstart]])","v":{"$error":"#NUM!"}},{"$f":"IFERROR(SUMPRODUCT((Hin_T[[B-år]:[B-år]]<=Medel_T[[#This Row],[Start]:[Start]])*(Hin_T[[S-år]:[S-år]]>=Medel_T[[#This Row],[Slut]:[Slut]])*Hin_T[HöA]*Hin_T[[Dag]:[Dag]])/Medel_T[[#This Row],[Proc dag]],-1)","v":-1},{"$f":"IFERROR(SUMPRODUCT((Hin_T[[B-år]:[B-år]]<=Medel_T[[#This Row],[Start]:[Start]])*(Hin_T[[S-år]:[S-år]]>=Medel_T[[#This Row],[Slut]:[Slut]])*Hin_T[AöA]*Hin_T[[Dag]:[Dag]])/Medel_T[[#This Row],[Proc dag]],-1)","v":-1},{"$f":"IFERROR(SUMPRODUCT((Hin_T[[B-år]:[B-år]]<=Medel_T[[#This Row],[Start]:[Start]])*(Hin_T[[S-år]:[S-år]]>=Medel_T[[#This Row],[Slut]:[Slut]])*Hin_T[4AM]*Hin_T[[Dag]:[Dag]])/Medel_T[[#This Row],[Proc dag]],-1)","v":-1},{"$f":"IFERROR(SUMPRODUCT((Hin_T[[B-år]:[B-år]]<=Medel_T[[#This Row],[Start]:[Start]])*(Hin_T[[S-år]:[S-år]]>=Medel_T[[#This Row],[Slut]:[Slut]])*Hin_T[15AM]*Hin_T[[Dag]:[Dag]])/Medel_T[[#This Row],[Proc dag]],-1)","v":-1},{"$f":"IFERROR(SUMPRODUCT((Hin_T[[B-år]:[B-år]]<=Medel_T[[#This Row],[Start]:[Start]])*(Hin_T[[S-år]:[S-år]]>=Medel_T[[#This Row],[Slut]:[Slut]])*Hin_T[20-10D]*Hin_T[[Dag]:[Dag]])/Medel_T[[#This Row],[Proc dag]],-1)","v":-1},{"$f":"IFERROR(SUMPRODUCT((Hin_T[[B-år]:[B-år]]<=Medel_T[[#This Row],[Start]:[Start]])*(Hin_T[[S-år]:[S-år]]>=Medel_T[[#This Row],[Slut]:[Slut]])*Hin_T[[Dag]:[Dag]]*Hin_T[HöA])/Medel_T[[#This Row],[Dag sum]],-1)","v":-1},{"$f":"IFERROR(SUMPRODUCT((Hin_T[[B-år]:[B-år]]<=Medel_T[[#This Row],[Start]:[Start]])*(Hin_T[[S-år]:[S-år]]>=Medel_T[[#This Row],[Slut]:[Slut]])*Hin_T[[Dag]:[Dag]]*Hin_T[AöA])/Medel_T[[#This Row],[Dag sum]],-1)","v":-1},{"$f":"IFERROR(SUMPRODUCT((Hin_T[[B-år]:[B-år]]<=Medel_T[[#This Row],[Start]:[Start]])*(Hin_T[[S-år]:[S-år]]>=Medel_T[[#This Row],[Slut]:[Slut]])*Hin_T[[Dag]:[Dag]]*Hin_T[4AM])/Medel_T[[#This Row],[Dag sum]],-1)","v":-1},{"$f":"IFERROR(SUMPRODUCT((Hin_T[[B-år]:[B-år]]<=Medel_T[[#This Row],[Start]:[Start]])*(Hin_T[[S-år]:[S-år]]>=Medel_T[[#This Row],[Slut]:[Slut]])*Hin_T[15AM]*Hin_T[[Dag]:[Dag]])/Medel_T[[#This Row],[Dag sum]],-1)","v":-1},{"$f":"IFERROR(SUMPRODUCT((Hin_T[[B-år]:[B-år]]<=Medel_T[[#This Row],[Start]:[Start]])*(Hin_T[[S-år]:[S-år]]>=Medel_T[[#This Row],[Slut]:[Slut]])*Hin_T[[Dag]:[Dag]]*Hin_T[20-10D])/Medel_T[[#This Row],[Dag sum]],-1)","v":-1},{"$f":"IFERROR(Medel_T[[#This Row],[Dag sum]:[Dag sum]]*Medel_T[[#This Row],[År]:[År]]*Medel_T[[#This Row],[HöA T]]*DÅ[Arbetsdag/år],0)","v":0},{"$f":"IFERROR(Medel_T[[#This Row],[Dag sum]:[Dag sum]]*Medel_T[[#This Row],[År]:[År]]*Medel_T[[#This Row],[AöA T]]*DÅ[Arbetsdag/år],0)","v":0},{"$f":"IFERROR(Medel_T[[#This Row],[Dag sum]:[Dag sum]]*Medel_T[[#This Row],[År]:[År]]*Medel_T[[#This Row],[4AM T]]*DÅ[Arbetsdag/år],0)","v":0},{"$f":"IFERROR(Medel_T[[#This Row],[Dag sum]:[Dag sum]]*Medel_T[[#This Row],[År]:[År]]*Medel_T[[#This Row],[15AM T]]*DÅ[Arbetsdag/år],0)","v":0},{"$f":"IFERROR(Medel_T[[#This Row],[Dag sum]:[Dag sum]]*Medel_T[[#This Row],[År]:[År]]*Medel_T[[#This Row],[20-10D T]]*DÅ[Arbetsdag/år],0)","v":0},{"$f":"IFERROR(Medel_T[[#This Row],[Dag sum]:[Dag sum]]*Medel_T[[#This Row],[ÅrSjuk]:[ÅrSjuk]]*Medel_T[[#This Row],[HöA T]]*DÅ[Arbetsdag/år],0)","v":0},{"$f":"IFERROR(Medel_T[[#This Row],[Dag sum]:[Dag sum]]*Medel_T[[#This Row],[ÅrSjuk]:[ÅrSjuk]]*Medel_T[[#This Row],[AöA T]]*DÅ[Arbetsdag/år],0)","v":0},{"$f":"IFERROR(Medel_T[[#This Row],[Dag sum]:[Dag sum]]*Medel_T[[#This Row],[ÅrSjuk]:[ÅrSjuk]]*Medel_T[[#This Row],[4AM T]]*DÅ[Arbetsdag/år],0)","v":0},{"$f":"IFERROR(Medel_T[[#This Row],[Dag sum]:[Dag sum]]*Medel_T[[#This Row],[ÅrSjuk]:[ÅrSjuk]]*Medel_T[[#This Row],[15AM T]]*DÅ[Arbetsdag/år],0)","v":0},{"$f":"IFERROR(Medel_T[[#This Row],[Dag sum]:[Dag sum]]*Medel_T[[#This Row],[ÅrSjuk]:[ÅrSjuk]]*Medel_T[[#This Row],[20-10D T]]*DÅ[Arbetsdag/år],0)","v":0},{"$f":"IFERROR(IF(Medel_T[[#This Row],[AöA T]]=0,\"\",List_T[List symb]&Exp_T[[#Headers],[Överarmslyft> 90°: ]]&IF(VALUE(TEXT(Medel_T[[#This Row],[AöA T]],\"t\"))>0,VALUE(TEXT(Medel_T[[#This Row],[AöA T]],\"t\"))&\" h\",\"\")&IF(AND(VALUE(TEXT(Medel_T[[#This Row],[AöA T]],\"t\"))>0,VALUE(TEXT(Medel_T[[#This Row],[AöA T]],\"m\"))>2.4),\" \",\"\")&IF(VALUE(TEXT(Medel_T[[#This Row],[AöA T]],\"m\"))>2.4,TEXT(ROUND(Medel_T[[#This Row],[AöA T]]*(24*60/5),0)/(24*60/5),\"m\")&\" min\",\"\")&\"/dag x \"&ROUND(Medel_T[[#This Row],[Dag sum]:[Dag sum]]*DÅ[Arbetsdag/år],0)&\" dagar x \"&ROUND(Medel_T[[#This Row],[År]:[År]],1)&\" år = \"&TEXT(ROUND(Medel_T[[#This Row],[D AöA§]]*24,1-(INT(LOG10(ABS(Medel_T[[#This Row],[D AöA§]]*24))))),\"0\"&IF(1-(INT(LOG10(ABS(Medel_T[[#This Row],[D AöA§]]*24))))>0,\",\"&REPT(\"0\",1-(INT(LOG10(ABS(Medel_T[[#This Row],[D AöA§]]*24))))),\"\"))& \" h\"),\"\")","v":""},{"$f":"IFERROR(IF(Medel_T[[#This Row],[15AM T]]=0,\"\",List_T[List symb]&Exp_T[[#Headers],[Överarmsrörelser> 15/min: ]]&IF(VALUE(TEXT(Medel_T[[#This Row],[15AM T]],\"t\"))>0,VALUE(TEXT(Medel_T[[#This Row],[15AM T]],\"t\"))&\" h\",\"\")&IF(AND(VALUE(TEXT(Medel_T[[#This Row],[15AM T]],\"t\"))>0,VALUE(TEXT(Medel_T[[#This Row],[15AM T]],\"m\"))>2.4),\" \",\"\")&IF(VALUE(TEXT(Medel_T[[#This Row],[15AM T]],\"m\"))>2.4,TEXT(ROUND(Medel_T[[#This Row],[15AM T]]*(24*60/5),0)/(24*60/5),\"m\")&\" min\",\"\")&\"/dag x \"&ROUND(Medel_T[[#This Row],[Dag sum]:[Dag sum]]*DÅ[Arbetsdag/år],0)&\" dagar x \"&ROUND(Medel_T[[#This Row],[År]:[År]],1)&\" år = \"&TEXT(ROUND(Medel_T[[#This Row],[D 15AM§]]*24,1-(INT(LOG10(ABS(Medel_T[[#This Row],[D 15AM§]]*24))))),\"0\"&IF(1-(INT(LOG10(ABS(Medel_T[[#This Row],[D 15AM§]]*24))))>0,\",\"&REPT(\"0\",1-(INT(LOG10(ABS(Medel_T[[#This Row],[D 15AM§]]*24))))),\"\"))& \" h\"),\"\")","v":""},{"$f":"IFERROR(IF(OR(LEN(Medel_T[[#This Row],[AöA text]])>0,LEN(Medel_T[[#This Row],[15AM Text]])>0),Exp_T[Anställning]&YEAR(Medel_T[[#This Row],[Start]])&List_T[[#Totals],[List symb]]&YEAR(Medel_T[[#This Row],[Slut]])&\" (\"&ROUND(Medel_T[[#This Row],[År]],1)&\" år)\"&IF(LEN(Medel_T[[#This Row],[AöA text]])>0,↓[↓],\"\")&Medel_T[[#This Row],[AöA text]]&IF(LEN(Medel_T[[#This Row],[15AM Text]])>0,↓[↓],\"\")&Medel_T[[#This Row],[15AM Text]],\"\"),\"\")","v":""},{"$f":"IFERROR(IF(Medel_T[[#This Row],[AöA T]]=0,\"\",List_T[List symb]&Exp_T[[#Headers],[Överarmsrörelser> 15/min: ]]&IF(VALUE(TEXT(Medel_T[[#This Row],[AöA T]],\"t\"))>0,VALUE(TEXT(Medel_T[[#This Row],[AöA T]],\"t\"))&\" h\",\"\")&IF(AND(VALUE(TEXT(Medel_T[[#This Row],[AöA T]],\"t\"))>0,VALUE(TEXT(Medel_T[[#This Row],[AöA T]],\"m\"))>2.4),\" \",\"\")&IF(VALUE(TEXT(Medel_T[[#This Row],[AöA T]],\"m\"))>2.4,TEXT(ROUND(Medel_T[[#This Row],[AöA T]]*(24*60/5),0)/(24*60/5),\"m\")&\" min\",\"\")&\"/dag x \"&ROUND(Medel_T[[#This Row],[Dag sum]:[Dag sum]]*DÅ[Arbetsdag/år],0)&\" dagar x \"&ROUND(Medel_T[[#This Row],[År]:[År]],1)&\" år = \"&TEXT(ROUND(Medel_T[[#This Row],[D AöA¤]]*24,1-(INT(LOG10(ABS(Medel_T[[#This Row],[D AöA¤]]*24))))),\"0\"&IF(1-(INT(LOG10(ABS(Medel_T[[#This Row],[D AöA¤]]*24))))>0,\",\"&REPT(\"0\",1-(INT(LOG10(ABS(Medel_T[[#This Row],[D AöA¤]]*24))))),\"\"))& \" h\"),\"\")","v":""},{"$f":"IFERROR(IF(Medel_T[[#This Row],[15AM T]]=0,\"\",List_T[List symb]&Exp_T[[#Headers],[Överarmslyft> 90°: ]]&IF(VALUE(TEXT(Medel_T[[#This Row],[15AM T]],\"t\"))>0,VALUE(TEXT(Medel_T[[#This Row],[15AM T]],\"t\"))&\" h\",\"\")&IF(AND(VALUE(TEXT(Medel_T[[#This Row],[15AM T]],\"t\"))>0,VALUE(TEXT(Medel_T[[#This Row],[15AM T]],\"m\"))>0),\" \",\"\")&IF(VALUE(TEXT(Medel_T[[#This Row],[15AM T]],\"m\"))>0,TEXT(ROUND(Medel_T[[#This Row],[15AM T]]*(24*60/5),0)/(24*60/5),\"m\")&\" min\",\"\")&\"/dag x \"&ROUND(Medel_T[[#This Row],[Dag sum]:[Dag sum]]*DÅ[Arbetsdag/år],0)&\" dagar x \"&ROUND(Medel_T[[#This Row],[År]:[År]],1)&\" år = \"&TEXT(ROUND(Medel_T[[#This Row],[D 15AM¤]]*24,1-(INT(LOG10(ABS(Medel_T[[#This Row],[D 15AM¤]]*24))))),\"0\"&IF(1-(INT(LOG10(ABS(Medel_T[[#This Row],[D 15AM¤]]*24))))>0,\",\"&REPT(\"0\",1-(INT(LOG10(ABS(Medel_T[[#This Row],[D 15AM¤]]*24))))),\"\"))& \" h\"),\"\")","v":""},{"$f":"IFERROR(IF(LEN(Medel_T[[#This Row],[SJDstart]])>0,Exp_T[Anställning]&↓[↓]&YEAR(Medel_T[[#This Row],[Start]])&List_T[[#Totals],[List symb]]&YEAR(Medel_T[[#This Row],[Slut]])&\" (\"&ROUND(Medel_T[[#This Row],[År]],1)&\" år)\"&IF(LEN(Medel_T[[#This Row],[AöA text Sjuk]])>0,↓[↓],\"\")&Medel_T[[#This Row],[AöA text Sjuk]]&IF(LEN(Medel_T[[#This Row],[15AM Text Sjuk]])>0,↓[↓],\"\")&Medel_T[[#This Row],[15AM Text Sjuk]],\"\"),\"\")","v":""},{"$f":"IFERROR(Medel_T[[#This Row],[Period ]]&Medel_T[[#This Row],[ArbMomText]]&Medel_T[[#This Row],[Text]],\"\")","v":""},{"$f":"IF(AND(DJ23>=MAX(Medel_T[NrX]),ISNUMBER(DJ23)),Medel_T[[#Totals],[NrX]]+ROW()-ROW(Medel_T[[#Headers],[Rad]])-Medel_T[[#Totals],[Ant]]-1,INDEX(Medel_T[NrX],MATCH(ROW()-ROW(Medel_T[[#Headers],[Rad]]),Medel_T[NrX],0)))","v":{"$error":"#N/A"}},{"$f":"IF(Medel_T[[#This Row],[Rad]]<=Medel_T[[#Totals],[Ant]],MATCH(Medel_T[[#This Row],[Rad]],Medel_T[NrX],0),IFERROR(INDEX(BD_TX[[#Data],[#Totals],[SJ]],MATCH(Medel_T[[#This Row],[Rad]],BD_TX[[#Data],[#Totals],[Nr]],0)),\"\"))","v":{"$error":"#N/A"}},{"$f":"LEN(Medel_T[[#This Row],[Yrke2]])-LEN(SUBSTITUTE(Medel_T[[#This Row],[Yrke2]],LEFT(Sep_T[Separator],1),\"\"))","v":0},{"$f":"INDEX(Medel_T[År],Medel_T[[#This Row],[Nr]])","v":{"$error":"#N/A"}},{"$f":"IFERROR(IF(LEN(Medel_T[[#This Row],[Nr]])>0,TEXT(IFERROR(INDEX(Medel_T[Start],Medel_T[[#This Row],[Nr]]),INDEX(BD_TX[[#Data],[#Totals],[Start]],MATCH(Medel_T[[#This Row],[Rad]],BD_TX[[#Data],[#Totals],[Nr]],0))),\"ÅÅÅÅ MMM\")&\"-\"&TEXT(IFERROR(INDEX(Medel_T[Slut],Medel_T[[#This Row],[Nr]]),INDEX(BD_TX[[#Data],[#Totals],[År]],MATCH(Medel_T[[#This Row],[Rad]],BD_TX[[#Data],[#Totals],[Nr]],0))),\"ÅÅÅÅ MMM\"),\"\"),\"\")","v":""},{"$f":"IFERROR(IF(LEN(Medel_T[[#This Row],[Nr]])>0,IF(Medel_T[[#This Row],[Rad]]>Medel_T[[#Totals],[Ant]],IFERROR(INDEX(BD_TX[[#Data],[#Totals],[Text]],MATCH(Medel_T[[#This Row],[Rad]],BD_TX[[#Data],[#Totals],[Nr]],0)),\"\"),INDEX(Medel_T[Yrke],Medel_T[[#This Row],[Nr]])),\"\"),\"\")","v":""},{"$f":"IFERROR(INDEX(Medel_T[Arbetsmoment],MATCH(ROW()-ROW(Medel_T[[#Headers],[Arbetsmoment2]]),Medel_T[[NrX]:[NrX]],0)),\"\")","v":""},{"$f":"IFERROR(INDEX(Medel_T[],Medel_T[[#This Row],[Nr]],Medel_T[[#Totals],[HöA_T]]),\"\")","v":""},{"$f":"IF(LEN(Medel_T[[#This Row],[Nr]:[Nr]])>0,IFERROR(TEXT(ROUND(24*IFERROR(INDEX(Medel_T[],Medel_T[[#This Row],[Nr]:[Nr]],Medel_T[[#Totals],[D HöA]]),INDEX(Sum_T[[#Data],[#Totals]],MATCH(Medel_T[[#This Row],[Nr]:[Nr]],Sum_T[[#Data],[#Totals],[Typ]:[Typ]],0),MATCH(Medel_T[[#Headers],[D HöA]],Sum_T[#Headers],0))),1-(INT(LOG10(ABS(24*IFERROR(INDEX(Medel_T[],Medel_T[[#This Row],[Nr]:[Nr]],Medel_T[[#Totals],[D HöA]]),INDEX(Sum_T[[#Data],[#Totals]],MATCH(Medel_T[[#This Row],[Nr]:[Nr]],Sum_T[[#Data],[#Totals],[Typ]:[Typ]],0),MATCH(Medel_T[[#Headers],[D HöA]],Sum_T[#Headers],0)))))))),\"0\"&IF(1-(INT(LOG10(ABS(24*IFERROR(INDEX(Medel_T[],Medel_T[[#This Row],[Nr]:[Nr]],Medel_T[[#Totals],[D HöA]]),INDEX(Sum_T[[#Data],[#Totals]],MATCH(Medel_T[[#This Row],[Nr]:[Nr]],Sum_T[[#Data],[#Totals],[Typ]:[Typ]],0),MATCH(Medel_T[[#Headers],[D HöA]],Sum_T[#Headers],0)))))))>0,\",\"&REPT(\"0\",1-(INT(LOG10(ABS(24*IFERROR(INDEX(Medel_T[],Medel_T[[#This Row],[Nr]:[Nr]],Medel_T[[#Totals],[D HöA]]),INDEX(Sum_T[[#Data],[#Totals]],MATCH(Medel_T[[#This Row],[Nr]:[Nr]],Sum_T[[#Data],[#Totals],[Typ]:[Typ]],0),MATCH(Medel_T[[#Headers],[D HöA]],Sum_T[#Headers],0)))))))),0)),0),\"\")","v":{"$error":"#N/A"}},{"$f":"IFERROR(INDEX(Medel_T[],Medel_T[[#This Row],[Nr]],Medel_T[[#Totals],[AÖA_T]]),\"\")","v":""},{"$f":"IFERROR(IF(LEN(Medel_T[[#This Row],[Nr]:[Nr]])>0,IFERROR(TEXT(ROUND(24*IFERROR(INDEX(Medel_T[],Medel_T[[#This Row],[Nr]:[Nr]],Medel_T[[#Totals],[D AöA]]),INDEX(Sum_T[[#Data],[#Totals]],MATCH(Medel_T[[#This Row],[Nr]:[Nr]],Sum_T[[#Data],[#Totals],[Typ]:[Typ]],0),MATCH(Medel_T[[#Headers],[D AöA]],Sum_T[#Headers],0))),1-(INT(LOG10(ABS(24*IFERROR(INDEX(Medel_T[],Medel_T[[#This Row],[Nr]:[Nr]],Medel_T[[#Totals],[D AöA]]),INDEX(Sum_T[[#Data],[#Totals]],MATCH(Medel_T[[#This Row],[Nr]:[Nr]],Sum_T[[#Data],[#Totals],[Typ]:[Typ]],0),MATCH(Medel_T[[#Headers],[D AöA]],Sum_T[#Headers],0)))))))),\"0\"&IF(1-(INT(LOG10(ABS(24*IFERROR(INDEX(Medel_T[],Medel_T[[#This Row],[Nr]:[Nr]],Medel_T[[#Totals],[D AöA]]),INDEX(Sum_T[[#Data],[#Totals]],MATCH(Medel_T[[#This Row],[Nr]:[Nr]],Sum_T[[#Data],[#Totals],[Typ]:[Typ]],0),MATCH(Medel_T[[#Headers],[D AöA]],Sum_T[#Headers],0)))))))>0,\",\"&REPT(\"0\",1-(INT(LOG10(ABS(24*IFERROR(INDEX(Medel_T[],Medel_T[[#This Row],[Nr]:[Nr]],Medel_T[[#Totals],[D AöA]]),INDEX(Sum_T[[#Data],[#Totals]],MATCH(Medel_T[[#This Row],[Nr]:[Nr]],Sum_T[[#Data],[#Totals],[Typ]:[Typ]],0),MATCH(Medel_T[[#Headers],[D AöA]],Sum_T[#Headers],0)))))))),0)),0),\"\"),\"\")","v":""},{"$f":"IFERROR(INDEX(Medel_T[],Medel_T[[#This Row],[Nr]],Medel_T[[#Totals],[4AM_T]]),\"\")","v":""},{"$f":"IF(LEN(Medel_T[[#This Row],[Nr]:[Nr]])>0,IFERROR(TEXT(ROUND(24*IFERROR(INDEX(Medel_T[],Medel_T[[#This Row],[Nr]:[Nr]],Medel_T[[#Totals],[D 4AM]]),INDEX(Sum_T[[#Data],[#Totals]],MATCH(Medel_T[[#This Row],[Nr]:[Nr]],Sum_T[[#Data],[#Totals],[Typ]:[Typ]],0),MATCH(Medel_T[[#Headers],[D 4AM]],Sum_T[#Headers],0))),1-(INT(LOG10(ABS(24*IFERROR(INDEX(Medel_T[],Medel_T[[#This Row],[Nr]:[Nr]],Medel_T[[#Totals],[D 4AM]]),INDEX(Sum_T[[#Data],[#Totals]],MATCH(Medel_T[[#This Row],[Nr]:[Nr]],Sum_T[[#Data],[#Totals],[Typ]:[Typ]],0),MATCH(Medel_T[[#Headers],[D 4AM]],Sum_T[#Headers],0)))))))),\"0\"&IF(1-(INT(LOG10(ABS(24*IFERROR(INDEX(Medel_T[],Medel_T[[#This Row],[Nr]:[Nr]],Medel_T[[#Totals],[D 4AM]]),INDEX(Sum_T[[#Data],[#Totals]],MATCH(Medel_T[[#This Row],[Nr]:[Nr]],Sum_T[[#Data],[#Totals],[Typ]:[Typ]],0),MATCH(Medel_T[[#Headers],[D 4AM]],Sum_T[#Headers],0)))))))>0,\",\"&REPT(\"0\",1-(INT(LOG10(ABS(24*IFERROR(INDEX(Medel_T[],Medel_T[[#This Row],[Nr]:[Nr]],Medel_T[[#Totals],[D 4AM]]),INDEX(Sum_T[[#Data],[#Totals]],MATCH(Medel_T[[#This Row],[Nr]:[Nr]],Sum_T[[#Data],[#Totals],[Typ]:[Typ]],0),MATCH(Medel_T[[#Headers],[D 4AM]],Sum_T[#Headers],0)))))))),0)),0),\"\")","v":{"$error":"#N/A"}},{"$f":"IFERROR(INDEX(Medel_T[],Medel_T[[#This Row],[Nr]],Medel_T[[#Totals],[15AM_T]]),\"\")","v":""},{"$f":"IFERROR(IF(LEN(Medel_T[[#This Row],[Nr]:[Nr]])>0,IFERROR(TEXT(ROUND(24*IFERROR(INDEX(Medel_T[],Medel_T[[#This Row],[Nr]:[Nr]],Medel_T[[#Totals],[D 15AM]]),INDEX(Sum_T[[#Data],[#Totals]],MATCH(Medel_T[[#This Row],[Nr]:[Nr]],Sum_T[[#Data],[#Totals],[Typ]:[Typ]],0),MATCH(Medel_T[[#Headers],[D 15AM]],Sum_T[#Headers],0))),1-(INT(LOG10(ABS(24*IFERROR(INDEX(Medel_T[],Medel_T[[#This Row],[Nr]:[Nr]],Medel_T[[#Totals],[D 15AM]]),INDEX(Sum_T[[#Data],[#Totals]],MATCH(Medel_T[[#This Row],[Nr]:[Nr]],Sum_T[[#Data],[#Totals],[Typ]:[Typ]],0),MATCH(Medel_T[[#Headers],[D 15AM]],Sum_T[#Headers],0)))))))),\"0\"&IF(1-(INT(LOG10(ABS(24*IFERROR(INDEX(Medel_T[],Medel_T[[#This Row],[Nr]:[Nr]],Medel_T[[#Totals],[D 15AM]]),INDEX(Sum_T[[#Data],[#Totals]],MATCH(Medel_T[[#This Row],[Nr]:[Nr]],Sum_T[[#Data],[#Totals],[Typ]:[Typ]],0),MATCH(Medel_T[[#Headers],[D 15AM]],Sum_T[#Headers],0)))))))>0,\",\"&REPT(\"0\",1-(INT(LOG10(ABS(24*IFERROR(INDEX(Medel_T[],Medel_T[[#This Row],[Nr]:[Nr]],Medel_T[[#Totals],[D 15AM]]),INDEX(Sum_T[[#Data],[#Totals]],MATCH(Medel_T[[#This Row],[Nr]:[Nr]],Sum_T[[#Data],[#Totals],[Typ]:[Typ]],0),MATCH(Medel_T[[#Headers],[D 15AM]],Sum_T[#Headers],0)))))))),0)),0),\"\"),\"\")","v":""},{"$f":"IFERROR(INDEX(Medel_T[],Medel_T[[#This Row],[Nr]],Medel_T[[#Totals],[20-10D_T]]),\"\")","v":""},{"$f":"IF(LEN(Medel_T[[#This Row],[Nr]:[Nr]])>0,IFERROR(TEXT(ROUND(24*IFERROR(INDEX(Medel_T[],Medel_T[[#This Row],[Nr]:[Nr]],Medel_T[[#Totals],[D 20-10D]]),INDEX(Sum_T[[#Data],[#Totals]],MATCH(Medel_T[[#This Row],[Nr]:[Nr]],Sum_T[[#Data],[#Totals],[Typ]:[Typ]],0),MATCH(Medel_T[[#Headers],[D 20-10D]],Sum_T[#Headers],0))),1-(INT(LOG10(ABS(24*IFERROR(INDEX(Medel_T[],Medel_T[[#This Row],[Nr]:[Nr]],Medel_T[[#Totals],[D 20-10D]]),INDEX(Sum_T[[#Data],[#Totals]],MATCH(Medel_T[[#This Row],[Nr]:[Nr]],Sum_T[[#Data],[#Totals],[Typ]:[Typ]],0),MATCH(Medel_T[[#Headers],[D 20-10D]],Sum_T[#Headers],0)))))))),\"0\"&IF(1-(INT(LOG10(ABS(24*IFERROR(INDEX(Medel_T[],Medel_T[[#This Row],[Nr]:[Nr]],Medel_T[[#Totals],[D 20-10D]]),INDEX(Sum_T[[#Data],[#Totals]],MATCH(Medel_T[[#This Row],[Nr]:[Nr]],Sum_T[[#Data],[#Totals],[Typ]:[Typ]],0),MATCH(Medel_T[[#Headers],[D 20-10D]],Sum_T[#Headers],0)))))))>0,\",\"&REPT(\"0\",1-(INT(LOG10(ABS(24*IFERROR(INDEX(Medel_T[],Medel_T[[#This Row],[Nr]:[Nr]],Medel_T[[#Totals],[D 20-10D]]),INDEX(Sum_T[[#Data],[#Totals]],MATCH(Medel_T[[#This Row],[Nr]:[Nr]],Sum_T[[#Data],[#Totals],[Typ]:[Typ]],0),MATCH(Medel_T[[#Headers],[D 20-10D]],Sum_T[#Headers],0)))))))),0)),0),\"\")","v":{"$error":"#N/A"}},null,{"$f":"IFERROR(INDEX(Hin_T[Nr],MATCH(SMALL(Hin_T[B-årX],ROW()-ROW(Hut_T[[#Headers],[Rad]])),Hin_T[B-årX],0)),IF(ROWS($EB$19:EB24)=1+COUNTIF(Hin_T[Start],\"*\"),Hin_T[[#Totals],[Dag]],IF(AND(ROWS($EB$19:EB24)=2+COUNTIF(Hin_T[Start],\"*\"),Hin_T[[#Totals],[Q%-]]>0),EB23+1,IF(AND(ROWS($EB$19:EB24)=3+COUNTIF(Hin_T[Start],\"*\"),Hin_T[[#Totals],[Q%-]]>1),EB23+1,IF(AND(ROWS($EB$19:EB24)=4+COUNTIF(Hin_T[Start],\"*\"),Hin_T[[#Totals],[Q%-]]>2),EB23+1,\"\")))))","v":""},{"$f":"IF(Hut_T[[#This Row],[Rad]]<Hin_T[[#Totals],[Dag]],ROWS($EB$19:EB24),IFERROR(INDEX(BD_TX[[#Data],[#Totals],[SJ]],MATCH(Hut_T[[#This Row],[Rad]],BD_TX[[#Data],[#Totals],[NrX]],0)),\"\"))","v":""},{"$f":"IF(ISNUMBER(Hut_T[[#This Row],[Datum-]]),TEXT(Hut_T[[#This Row],[Datum-]],\"ÅÅÅÅ MMM\")&\"-\"&TEXT(Hut_T[[#This Row],[Datum+]],\"ÅÅÅÅ MMM\"),\"\")","v":""},{"$f":"IF(ISNUMBER(Hut_T[[#This Row],[Nr]]),IF(INDEX(Hin_T[Yrke],Hut_T[[#This Row],[Rad]])>0,INDEX(Hin_T[Yrke],Hut_T[[#This Row],[Rad]]),\"\"),IFERROR(INDEX(BD_TX[[#Data],[#Totals],[Text]],MATCH(Hut_T[[#This Row],[Rad]],BD_TX[[#Data],[#Totals],[NrX]],0)),\"\"))","v":""},{"$f":"IF(ISNUMBER(Hut_T[[#This Row],[Nr]]),IF(INDEX(Hin_T[Arbetsmoment],Hut_T[[#This Row],[Rad]])>0,INDEX(Hin_T[Arbetsmoment],Hut_T[[#This Row],[Rad]]),\"\"),\"\")","v":""},{"$f":"IFERROR(IF(INDEX(Hin_T[Yrke],Hut_T[[#This Row],[Rad]])>0,INDEX(Hin_T[Företag],Hut_T[[#This Row],[Rad]]),\"\"),\"\")","v":""},{"$f":"IFERROR(IF(INDEX(Hin_T[Dag],Hut_T[[#This Row],[Rad]])>0,INDEX(Hin_T[Dag],Hut_T[[#This Row],[Rad]])*DÅ[Arbetsdag/år],\"\"),\"\")","v":""},{"$f":"IF(AND(ISNUMBER(_xlfn.SINGLE(Hut_T[[#This Row],[Rad]:[Rad]])),IFERROR(_xlfn.SINGLE(INDEX(Hin_T[[#Data],[#Totals]],_xlfn.SINGLE(Hut_T[[#This Row],[Rad]:[Rad]]),MATCH(Hut_T[[#Headers],[D HöA]],Hin_T[#Headers],0))),\"\")),IFERROR(ROUND(_xlfn.SINGLE(INDEX(Hin_T[[#Data],[#Totals]],_xlfn.SINGLE(Hut_T[[#This Row],[Rad]:[Rad]])-IF(_xlfn.SINGLE(Hut_T[[#This Row],[Nr]:[Nr]])=_xlfn.SINGLE(#REF!),COUNT(Besvär_T[[Sjukdomsdebut]:[Sjukdomsdebut]]),0),MATCH(_xlfn.SINGLE(IF(_xlfn.SINGLE(Hut_T[[#This Row],[Nr]:[Nr]])=_xlfn.SINGLE(#REF!),#REF!,\"\"))&Hut_T[[#Headers],[D HöA]],Hin_T[#Headers],0))),0),\"\"),\"\")","v":""},{"$f":"IF(AND(ISNUMBER(Hut_T[[#This Row],[Rad]:[Rad]]),ISNUMBER(Hut_T[[#This Row],[D HöA]]),ISNUMBER(Hut_T[[#This Row],[Nr]:[Nr]])),IFERROR(ROUND(INDEX(Hin_T[[#Data],[#Totals]],Hut_T[[#This Row],[Rad]:[Rad]],MATCH(Hut_T[[#Headers],[HöA-A]],Hin_T[#Headers],0)),1-(INT(LOG10(INDEX(Hin_T[[#Data],[#Totals]],Hut_T[[#This Row],[Rad]:[Rad]],MATCH(Hut_T[[#Headers],[HöA-A]],Hin_T[#Headers],0)))))),1),\"\")","v":""},{"$f":"IF(AND(ISNUMBER(Hut_T[[#This Row],[Rad]:[Rad]]),IFERROR(INDEX(Hin_T[[#Data],[#Totals]],Hut_T[[#This Row],[Rad]:[Rad]],MATCH(Hut_T[[#Headers],[D AöA]],Hin_T[#Headers],0)),\"\")),IFERROR(ROUND(INDEX(Hin_T[[#Data],[#Totals]],Hut_T[[#This Row],[Rad]:[Rad]]-IF(Hut_T[[#This Row],[Nr]:[Nr]]=BD_TX[[SJ]:[SJ]],COUNT(Besvär_T[[Sjukdomsdebut]:[Sjukdomsdebut]]),0),MATCH(IF(Hut_T[[#This Row],[Nr]:[Nr]]=BD_TX[[#Totals],[SJ]:[SJ]],BD_TX[[#Headers],[SJ]],\"\")&Hut_T[[#Headers],[D AöA]],Hin_T[#Headers],0)),0),\"\"),\"\")","v":""},{"$f":"IF(AND(ISNUMBER(Hut_T[[#This Row],[Rad]:[Rad]]),ISNUMBER(Hut_T[[#This Row],[D AöA]]),ISNUMBER(Hut_T[[#This Row],[Nr]:[Nr]])),IFERROR(ROUND(INDEX(Hin_T[[#Data],[#Totals]],Hut_T[[#This Row],[Rad]:[Rad]],MATCH(Hut_T[[#Headers],[AöA-A]],Hin_T[#Headers],0)),1-(INT(LOG10(INDEX(Hin_T[[#Data],[#Totals]],Hut_T[[#This Row],[Rad]:[Rad]],MATCH(Hut_T[[#Headers],[AöA-A]],Hin_T[#Headers],0)))))),1),\"\")","v":""},{"$f":"IF(AND(ISNUMBER(_xlfn.SINGLE(Hut_T[[#This Row],[Rad]:[Rad]])),IFERROR(_xlfn.SINGLE(INDEX(Hin_T[[#Data],[#Totals]],_xlfn.SINGLE(Hut_T[[#This Row],[Rad]:[Rad]]),MATCH(Hut_T[[#Headers],[D 4AM]],Hin_T[#Headers],0))),\"\")),IFERROR(ROUND(_xlfn.SINGLE(INDEX(Hin_T[[#Data],[#Totals]],_xlfn.SINGLE(Hut_T[[#This Row],[Rad]:[Rad]])-IF(_xlfn.SINGLE(Hut_T[[#This Row],[Nr]:[Nr]])=_xlfn.SINGLE(#REF!),COUNT(Besvär_T[[Sjukdomsdebut]:[Sjukdomsdebut]]),0),MATCH(_xlfn.SINGLE(IF(_xlfn.SINGLE(Hut_T[[#This Row],[Nr]:[Nr]])=_xlfn.SINGLE(#REF!),#REF!,\"\"))&Hut_T[[#Headers],[D 4AM]],Hin_T[#Headers],0))),0),\"\"),\"\")","v":""},{"$f":"IF(AND(ISNUMBER(Hut_T[[#This Row],[Rad]:[Rad]]),ISNUMBER(Hut_T[[#This Row],[D 4AM]]),ISNUMBER(Hut_T[[#This Row],[Nr]:[Nr]])),IFERROR(ROUND(INDEX(Hin_T[[#Data],[#Totals]],Hut_T[[#This Row],[Rad]:[Rad]],MATCH(Hut_T[[#Headers],[4AM-A]],Hin_T[#Headers],0)),1-(INT(LOG10(INDEX(Hin_T[[#Data],[#Totals]],Hut_T[[#This Row],[Rad]:[Rad]],MATCH(Hut_T[[#Headers],[4AM-A]],Hin_T[#Headers],0)))))),1),\"\")","v":""},{"$f":"IF(AND(ISNUMBER(Hut_T[[#This Row],[Rad]:[Rad]]),IFERROR(INDEX(Hin_T[[#Data],[#Totals]],Hut_T[[#This Row],[Rad]:[Rad]],MATCH(Hut_T[[#Headers],[D 15AM]],Hin_T[#Headers],0)),\"\")),IFERROR(ROUND(INDEX(Hin_T[[#Data],[#Totals]],Hut_T[[#This Row],[Rad]:[Rad]]-IF(Hut_T[[#This Row],[Nr]:[Nr]]=BD_TX[[SJ]:[SJ]],COUNT(Besvär_T[[Sjukdomsdebut]:[Sjukdomsdebut]]),0),MATCH(IF(Hut_T[[#This Row],[Nr]:[Nr]]=BD_TX[[#Totals],[SJ]:[SJ]],BD_TX[[#Headers],[SJ]],\"\")&Hut_T[[#Headers],[D 15AM]],Hin_T[#Headers],0)),0),\"\"),\"\")","v":""},{"$f":"IF(AND(ISNUMBER(Hut_T[[#This Row],[Rad]:[Rad]]),ISNUMBER(Hut_T[[#This Row],[D 15AM]]),ISNUMBER(Hut_T[[#This Row],[Nr]:[Nr]])),IFERROR(ROUND(INDEX(Hin_T[[#Data],[#Totals]],Hut_T[[#This Row],[Rad]:[Rad]],MATCH(Hut_T[[#Headers],[15AM-A]],Hin_T[#Headers],0)),1-(INT(LOG10(INDEX(Hin_T[[#Data],[#Totals]],Hut_T[[#This Row],[Rad]:[Rad]],MATCH(Hut_T[[#Headers],[15AM-A]],Hin_T[#Headers],0)))))),1),\"\")","v":""},{"$f":"IF(AND(ISNUMBER(Hut_T[[#This Row],[Rad]:[Rad]]),IFERROR(INDEX(Hin_T[[#Data],[#Totals]],Hut_T[[#This Row],[Rad]:[Rad]],MATCH(Hut_T[[#Headers],[D 20-10D]],Hin_T[#Headers],0)),\"\")),IFERROR(ROUND(INDEX(Hin_T[[#Data],[#Totals]],Hut_T[[#This Row],[Rad]:[Rad]]-IF(Hut_T[[#This Row],[Nr]:[Nr]]=BD_TX[[SJ]:[SJ]],COUNT(Besvär_T[[Sjukdomsdebut]:[Sjukdomsdebut]]),0),MATCH(IF(Hut_T[[#This Row],[Nr]:[Nr]]=BD_TX[[#Totals],[SJ]:[SJ]],BD_TX[[#Headers],[SJ]],\"\")&Hut_T[[#Headers],[D 20-10D]],Hin_T[#Headers],0)),0),\"\"),\"\")","v":""},{"$f":"IF(AND(ISNUMBER(Hut_T[[#This Row],[Rad]:[Rad]]),ISNUMBER(Hut_T[[#This Row],[D 20-10D]]),ISNUMBER(Hut_T[[#This Row],[Nr]:[Nr]])),IFERROR(ROUND(INDEX(Hin_T[[#Data],[#Totals]],Hut_T[[#This Row],[Rad]:[Rad]],MATCH(Hut_T[[#Headers],[20-10D-A]],Hin_T[#Headers],0)),1-(INT(LOG10(INDEX(Hin_T[[#Data],[#Totals]],Hut_T[[#This Row],[Rad]:[Rad]],MATCH(Hut_T[[#Headers],[20-10D-A]],Hin_T[#Headers],0)))))),1),\"\")","v":""},null,{"$f":"IFERROR(INDEX(Hin_T[[#Data],[#Totals],[B-år]],Hut_T[[#This Row],[Rad]]),IF(ISNUMBER(Hut_T[[#This Row],[Datum+]]),ET23,\"\"))","v":""},{"$f":"IFERROR(INDEX(Hin_T[S-år],Hut_T[[#This Row],[Rad]]),IFERROR(INDEX(BD_TX[[#Data],[#Totals],[År]],MATCH(Hut_T[[#This Row],[Rad]],BD_TX[[#Data],[#Totals],[NrX]],0)),\"\"))","v":""},null,{"$f":"ROWS($EW$20:EW24)","v":5},{"$f":"IFERROR(MATCH(Hist_Tab[[#This Row],[Ref]],Medel_T[NrX],0),1)","v":1},{"$f":"INT((ROW(Hist_Tab[[#This Row],[Ref]])-ROW(Hist_Tab[[#Headers],[Ref]])-1)/4)+1","v":2},{"$f":"COUNTIF($EY$19:EY24,Hist_Tab[[#This Row],[Ref]])","v":2},{"$f":"IFERROR(INDEX(Medel_T[Start],Hist_Tab[[#This Row],[Ref]]),_xlfn.AGGREGATE(4,6,Medel_T[Start]))","v":"00:00:00"},{"$f":"IFERROR(INDEX(Medel_T[Slut],Hist_Tab[[#This Row],[Ref]]),_xlfn.AGGREGATE(4,6,Medel_T[Slut]))","v":"00:00:00"},{"$f":"IF(EW23=0,Hist_Tab[[#This Row],[ÅrB]],IF(Hist_Tab[[#This Row],[per/p]]<2,Hist_Tab[[#This Row],[ÅrB]],Hist_Tab[[#This Row],[År S]]))","v":"00:00:00"},{"$f":"IF(Hist_Tab[[#This Row],[Rad]:[Rad]]=0,-1,IF($EY25>_xlfn.AGGREGATE(2,6,Medel_T[[Slut]:[Slut]]),0,INDEX(Medel_T[],Hist_Tab[[#This Row],[Ref]:[Ref]],MATCH(Hist_Tab[[#Headers],[HöA T]],Medel_T[#Headers],0))))","v":0},{"$f":"IF(Hist_Tab[[#This Row],[Rad]:[Rad]]=0,0,IF($EY25>_xlfn.AGGREGATE(2,6,Medel_T[[Slut]:[Slut]]),0,INDEX(Medel_T[],Hist_Tab[[#This Row],[Ref]:[Ref]],MATCH(Hist_Tab[[#Headers],[AöA T]],Medel_T[#Headers],0))))","v":0},{"$f":"IF(Hist_Tab[[#This Row],[Rad]:[Rad]]=0,0,IF($EY25>_xlfn.AGGREGATE(2,6,Medel_T[[Slut]:[Slut]]),0,INDEX(Medel_T[],Hist_Tab[[#This Row],[Ref]:[Ref]],MATCH(Hist_Tab[[#Headers],[4AM T]],Medel_T[#Headers],0))))","v":0},{"$f":"IF(Hist_Tab[[#This Row],[Rad]:[Rad]]=0,0,IF($EY25>_xlfn.AGGREGATE(2,6,Medel_T[[Slut]:[Slut]]),0,INDEX(Medel_T[],Hist_Tab[[#This Row],[Ref]:[Ref]],MATCH(Hist_Tab[[#Headers],[15AM T]],Medel_T[#Headers],0))))","v":0},{"$f":"IF(Hist_Tab[[#This Row],[Rad]:[Rad]]=0,0,IF($EY25>_xlfn.AGGREGATE(2,6,Medel_T[[Slut]:[Slut]]),0,INDEX(Medel_T[],Hist_Tab[[#This Row],[Ref]:[Ref]],MATCH(Hist_Tab[[#Headers],[20-10D T]],Medel_T[#Headers],0))))","v":0}]
[null,null,null,null,null,null,null,null,null,null,null,null,null,null,null,null,null,null,{"$f":"IF(LEN(Hin_T[[#This Row],[Start]])>0,ROWS($S$19:S25),\"\")","v":""},null,{"$f":"Hin_T[[#This Row],[Yrke]]&IF(ISBLANK(Hin_T[[#This Row],[Arbetsmoment]]),\"\",\"; \"&Hin_T[[#This Row],[Arbetsmoment]])","v":""},{"$f":"IFERROR(IF(LEN(Hin_T[[#This Row],[Start]])-LEN(SUBSTITUTE(Hin_T[[#This Row],[Start]],\"-\",\"\"))=2,DATEVALUE(Hin_T[[#This Row],[Start]]),IF(LEN(Hin_T[[#This Row],[Start]])<5,DATEVALUE(Hin_T[[#This Row],[Start]]&\"-01-01\"),DATEVALUE(LEFT(Hin_T[[#This Row],[Start]],IF(LEN(Hin_T[[#This Row],[Start]])>6,4,2))&\"-\"&MID(Hin_T[[#This Row],[Start]],IF(LEN(Hin_T[[#This Row],[Start]])>6,5,3),2)&\"-\"&RIGHT(Hin_T[[#This Row],[Start]],2)))),\"\")","v":""},{"$f":"IFERROR(IF(LEN(Hin_T[[#This Row],[Slut]])-LEN(SUBSTITUTE(Hin_T[[#This Row],[Slut]],\"-\",\"\"))=2,DATEVALUE(Hin_T[[#This Row],[Slut]]),IF(LEN(Hin_T[[#This Row],[Slut]])<5,DATEVALUE(Hin_T[[#This Row],[Slut]]&\"-12-31\"),DATEVALUE(LEFT(Hin_T[[#This Row],[Slut]],IF(LEN(Hin_T[[#This Row],[Slut]])>6,4,2))&\"-\"&MID(Hin_T[[#This Row],[Slut]],IF(LEN(Hin_T[[#This Row],[Slut]])>6,5,3),2)&\"-\"&RIGHT(Hin_T[[#This Row],[Slut]],2)))),\"\")","v":""},{"$f":"IF(COUNTIF(V$19:V25,Hin_T[[#This Row],[B-år]])=1,Hin_T[[#This Row],[B-år]],\"\")","v":""},{"$f":"IF(COUNTIF(W$19:W25,Hin_T[[#This Row],[S-år]])=1,Hin_T[[#This Row],[S-år]],\"\")","v":""},{"$f":"IFERROR(Hin_T[[#This Row],[B-år]]+IF(COUNTIF($V$19:V25,Hin_T[[#This Row],[B-år]])>1,COUNTIF($V$19:V25,Hin_T[[#This Row],[B-år]])/10,0),\"\")","v":""},{"$f":"IF(ISNUMBER(Hin_T[[#This Row],[Dagar]]),Hin_T[[#This Row],[Dagar]]/DÅ[Arbetsdag/år],1)","v":1},{"$f":"Hin_T[[#This Row],[Dag]]*DÅ[Arbetsdag/år]","v":220},{"$f":"IF(LEN(Hin_T[[#This Row],[Yrke]])=4,1,0)","v":0},{"$f":"_xlfn.DAYS(Hin_T[[#This Row],[B-år]],DATE(YEAR(Hin_T[[#This Row],[B-år]]),1,1))/(DATE(YEAR(Hin_T[[#This Row],[B-år]])+1,1,1)-DATE(YEAR(Hin_T[[#This Row],[B-år]]),1,1))","v":{"$error":"#VALUE!"}},{"$f":"_xlfn.DAYS(DATE(YEAR(Hin_T[[#This Row],[S-år]]),12,31),Hin_T[[#This Row],[S-år]])/(DATE(YEAR(Hin_T[[#This Row],[S-år]])+1,1,1)-DATE(YEAR(Hin_T[[#This Row],[S-år]]),1,1))","v":{"$error":"#VALUE!"}},{"$f":"YEARFRAC(Hin_T[[#This Row],[S-år]],Hin_T[[#This Row],[B-år]])*Hin_T[[#This Row],[Dag]]","v":{"$error":"#VALUE!"}},{"$f":"IFERROR(Hin_T[[#This Row],[År diff]]*IF(ISNUMBER(Hin_T[[#This Row],[HöA]]),1,0),0)","v":0},{"$f":"IFERROR(Hin_T[[#This Row],[År diff]]*IF(ISNUMBER(Hin_T[[#This Row],[AöA]]),1,0),0)","v":0},{"$f":"IF(Hin_T[[#This Row],[B-år]]<=Besvär_T[[#Totals],[Sjukdomsdebut]],Hin_T[[#This Row],[B-år]],\"\")","v":""},{"$f":"IF(Hin_T[[#This Row],[S-år]]<=Besvär_T[[#Totals],[Sjukdomsdebut]],Hin_T[[#This Row],[S-år]],\"\")","v":""},{"$f":"IFERROR(YEARFRAC(IF(AND(ISNUMBER(Hin_T[[#This Row],[B-år EA]]),LEN(Hin_T[[#This Row],[S-år EA]])=0),Hin_T[[#Totals],[15AM-A]],Hin_T[[#This Row],[S-år EA]]),Hin_T[[#This Row],[B-år EA]])*Hin_T[[#This Row],[Dag]]*IF(ISNUMBER(Hin_T[[#This Row],[HöA]]),1,0),0)","v":0},{"$f":"IFERROR(YEARFRAC(IF(AND(ISNUMBER(Hin_T[[#This Row],[B-år EA]]),LEN(Hin_T[[#This Row],[S-år EA]])=0),Hin_T[[#Totals],[15AM-A]],Hin_T[[#This Row],[S-år EA]]),Hin_T[[#This Row],[B-år EA]])*Hin_T[[#This Row],[Dag]]*IF(ISNUMBER(Hin_T[[#This Row],[AöA]]),1,0),0)","v":0},{"$f":"IFERROR(Hin_T[[#This Row],[År diff]]*IF(ISNUMBER(Hin_T[[#This Row],[4AM]]),1,0),0)","v":0},{"$f":"IFERROR(Hin_T[[#This Row],[År diff]]*IF(ISNUMBER(Hin_T[[#This Row],[15AM]]),1,0),0)","v":0},{"$f":"IF(Hin_T[[#This Row],[B-år]]<=Besvär_T[[#Totals],[Sjukdomsdebut]],Hin_T[[#This Row],[B-år]],\"\")","v":""},{"$f":"IF(Hin_T[[#This Row],[S-år]]<=Besvär_T[[#Totals],[Sjukdomsdebut]],Hin_T[[#This Row],[S-år]],\"\")","v":""},{"$f":"IFERROR(YEARFRAC(IF(AND(ISNUMBER(Hin_T[[#This Row],[B-år RA]]),LEN(Hin_T[[#This Row],[S-år RA]])=0),Hin_T[[#Totals],[15AM-A]],Hin_T[[#This Row],[S-år RA]]),Hin_T[[#This Row],[B-år RA]])*Hin_T[[#This Row],[Dag]]*IF(ISNUMBER(Hin_T[[#This Row],[4AM]]),1,0),0)","v":0},{"$f":"IFERROR(YEARFRAC(IF(AND(ISNUMBER(Hin_T[[#This Row],[B-år RA]]),LEN(Hin_T[[#This Row],[S-år RA]])=0),Hin_T[[#Totals],[15AM-A]],Hin_T[[#This Row],[S-år RA]]),Hin_T[[#This Row],[B-år RA]])*Hin_T[[#This Row],[Dag]]*IF(ISNUMBER(Hin_T[[#This Row],[15AM]]),1,0),0)","v":0},{"$f":"IFERROR(Hin_T[[#This Row],[År diff]]*IF(ISNUMBER(Hin_T[[#This Row],[20-10D]]),1,0),0)","v":0},{"$f":"IF(Hin_T[[#This Row],[B-år]]<=Besvär_T[[#Totals],[Sjukdomsdebut]],Hin_T[[#This Row],[B-år]],\"\")","v":""},{"$f":"IF(Hin_T[[#This Row],[S-år]]<=Besvär_T[[#Totals],[Sjukdomsdebut]],Hin_T[[#This Row],[S-år]],\"\")","v":""},{"$f":"IFERROR(YEARFRAC(IF(AND(ISNUMBER(Hin_T[[#This Row],[B-år TMH]]),LEN(Hin_T[[#This Row],[S-år TMH]])=0),Hin_T[[#Totals],[15AM-A]],Hin_T[[#This Row],[S-år TMH]]),Hin_T[[#This Row],[B-år TMH]])*Hin_T[[#This Row],[Dag]]*IF(ISNUMBER(Hin_T[[#This Row],[20-10D]]),1,0),0)","v":0},{"$f":"IF(Hin_T[[#This Row],[Vib]]=JN_T[JN],1,0)","v":0},{"$f":"IFERROR(Hin_T[[#This Row],[År diff]]*IF(Hin_T[[#This Row],[Vib2]]>0,1,0),0)","v":0},{"$f":"IF(Hin_T[[#This Row],[B-år]]<=Besvär_T[[#Totals],[Sjukdomsdebut]],Hin_T[[#This Row],[B-år]],\"\")","v":""},{"$f":"IF(Hin_T[[#This Row],[S-år]]<=Besvär_T[[#Totals],[Sjukdomsdebut]],Hin_T[[#This Row],[S-år]],\"\")","v":""},{"$f":"IFERROR(YEARFRAC(IF(AND(ISNUMBER(Hin_T[[#This Row],[B-år VIB]]),LEN(Hin_T[[#This Row],[S-år Vib]])=0),Hin_T[[#Totals],[15AM-A]],Hin_T[[#This Row],[S-år Vib]]),Hin_T[[#This Row],[B-år VIB]])*IF(Hin_T[[#This Row],[Vib2]]>0,1,0),0)","v":0},{"$f":"Hin_T[[#This Row],[HöA]]*Hin_T[[#This Row],[tot år HöA]]*DÅ[Arbetsdag/år]","v":0},{"$f":"Hin_T[[#This Row],[tot år AöA]]*Hin_T[[#This Row],[AöA]]*DÅ[Arbetsdag/år]","v":0},{"$f":"Hin_T[[#This Row],[tot år 4AM]]*Hin_T[[#This Row],[4AM]]*DÅ[Arbetsdag/år]","v":0},{"$f":"Hin_T[[#This Row],[tot år 15AM]]*Hin_T[[#This Row],[15AM]]*DÅ[Arbetsdag/år]","v":0},{"$f":"Hin_T[[#This Row],[tot år 20-10D]]*Hin_T[[#This Row],[20-10D]]*DÅ[Arbetsdag/år]","v":0},{"$f":"Hin_T[[#This Row],[BD år HöA]]*Hin_T[[#This Row],[HöA]]*DÅ[Arbetsdag/år]","v":0},{"$f":"Hin_T[[#This Row],[BD år AöA]]*Hin_T[[#This Row],[AöA]]*DÅ[Arbetsdag/år]","v":0},{"$f":"Hin_T[[#This Row],[BD år 4AM]]*Hin_T[[#This Row],[4AM]]*DÅ[Arbetsdag/år]","v":0},{"$f":"Hin_T[[#This Row],[BD år 15AM]]*Hin_T[[#This Row],[15AM]]*DÅ[Arbetsdag/år]","v":0},{"$f":"Hin_T[[#This Row],[BD år 20-10D]]*Hin_T[[#This Row],[20-10D]]*DÅ[Arbetsdag/år]","v":0},{"$f":"Hin_T[[#This Row],[Arbetsmoment]]&Hin_T[[#This Row],[Text AöA]]&Hin_T[[#This Row],[Text 15AM]]&IF(Hin_T[[#This Row],[Dagarna]]=DÅ[Arbetsdag/år],\"\",\". \"&Hin_T[[#This Row],[Dagarna]]&\" dagar/år\")&\". \"","v":". "},{"$f":"IF(ISBLANK(Hin_T[[#This Row],[AöA]]),\"\",Exp_T[Överarmslyft> 90°: ]&IF(VALUE(TEXT(Hin_T[[#This Row],[AöA]],\"t\"))>0,VALUE(TEXT(Hin_T[[#This Row],[AöA]],\"t\"))&\" h\",\"\")&IF(AND(VALUE(TEXT(Hin_T[[#This Row],[AöA]],\"t\"))>0,VALUE(TEXT(Hin_T[[#This Row],[AöA]],\"m\"))>2.4),\" \",\"\")&IF(VALUE(TEXT(Hin_T[[#This Row],[AöA]],\"m\"))>2.4,TEXT(ROUND(Hin_T[[#This Row],[AöA]]*(24*60/5),0)/(24*60/5),\"m\")&\" min\",\"\")&\"/dag\")","v":""},{"$f":"IF(ISBLANK(Hin_T[[#This Row],[15AM]]),\"\",Exp_T[Överarmsrörelser> 15/min: ]&IF(VALUE(TEXT(Hin_T[[#This Row],[15AM]],\"t\"))>0,VALUE(TEXT(Hin_T[[#This Row],[15AM]],\"t\"))&\" h\",\"\")&IF(AND(VALUE(TEXT(Hin_T[[#This Row],[15AM]],\"t\"))>0,VALUE(TEXT(Hin_T[[#This Row],[15AM]],\"m\"))>2.4),\" \",\"\")&IF(VALUE(TEXT(Hin_T[[#This Row],[15AM]],\"m\"))>2.4,TEXT(ROUND(Hin_T[[#This Row],[15AM]]*(24*60/5),0)/(24*60/5),\"m\")&\" min\",\"\")&\"/dag\")","v":""},null,null,null,null,{"$f":"SMALL(Hin_T[[StartÅR]:[SlutÅr]],ROW()-ROW(Medel_T[[#Headers],[Start]]))","v":{"$error":"#NUM!"}},{"$f":"SMALL(Hin_T[[StartÅR]:[SlutÅr]],ROW()-ROW(Medel_T[[#Headers],[Slut]])+1)","v":{"$error":"#NUM!"}},{"$f":"IF(Medel_T[[#This Row],[Start]]<=Besvär_T[[#Totals],[Sjukdomsdebut]],Medel_T[[#This Row],[Start]],\"\")","v":{"$error":"#NUM!"}},{"$f":"IF(Medel_T[[#This Row],[Slut]]<=Besvär_T[[#Totals],[Sjukdomsdebut]],Medel_T[[#This Row],[Slut]],IF(AND(LEN(Medel_T[[#This Row],[SJDstart]])>0,LEN(BU26)=0),Besvär_T[[#Totals],[Sjukdomsdebut]],\"\"))","v":{"$error":"#NUM!"}},{"$f":"IF(Medel_T[[#This Row],[Start]]>=Besvär_T[[#Totals],[Sjukdomsdebut]],Medel_T[[#This Row],[Start]],IF(AND(LEN(Medel_T[[#This Row],[EfterSlut]])>0,LEN(BX24)=0),Besvär_T[[#Totals],[Sjukdomsdebut]],\"\"))","v":{"$error":"#NUM!"}},{"$f":"IF(Medel_T[[#This Row],[Slut]]>=Besvär_T[[#Totals],[Sjukdomsdebut]],Medel_T[[#This Row],[Slut]],\"\")","v":{"$error":"#NUM!"}},{"$f":"COUNTIF($BZ$19:BZ25,\">0\")","v":0},{"$f":"COUNTIFS(Hin_T[B-år],\"<=\"&Medel_T[[#This Row],[Start]],Hin_T[S-år],\">=\"&Medel_T[[#This Row],[Slut]])","v":0},{"$f":"SUBSTITUTE(_xlfn.TEXTJOIN(Sep_T[Separator],TRUE,_xlfn._xlws.SORT(_xlfn.UNIQUE(IF((Hin_T[[B-år]:[B-år]]<=Medel_T[[#This Row],[Start]:[Start]])*(Hin_T[[S-år]:[S-år]]>=Medel_T[[#This Row],[Slut]:[Slut]]),Hin_T[Yrke],\"\")))),0&Sep_T[Separator],\"\")","v":{"$error":"#NUM!"}},{"$f":"SUBSTITUTE(_xlfn.TEXTJOIN(Sep_T[Separator],TRUE,_xlfn._xlws.SORT(_xlfn.UNIQUE(IF((Hin_T[[B-år]:[B-år]]<=Medel_T[[#This Row],[Start]:[Start]])*(Hin_T[[S-år]:[S-år]]>=Medel_T[[#This Row],[Slut]:[Slut]]),Hin_T[Arbetsmoment],\"\")))),0&Sep_T[Separator],\"\")","v":{"$error":"#NUM!"}},{"$f":"IF(LEN(Medel_T[[#This Row],[Yrke]])>0,Medel_T[[#Headers],[Period ]]&Medel_T[[#This Row],[NrX]]&\": \"&TEXT(Medel_T[[#This Row],[Start]],\"ÅÅÅÅ\")&List_T[[#Totals],[List symb]]&TEXT(Medel_T[[#This Row],[Slut]],\"ÅÅÅÅ\")&\" (\"&ROUND(Medel_T[[#This Row],[År]],1)&\" år) Anställd som \"&IFERROR(SUBSTITUTE(SUBSTITUTE(Medel_T[[#This Row],[Yrke]],Sep_T[Separator],\" och \",Medel_T[[#This Row],[Ant]]-1),Sep_T[Separator],\", \"),Medel_T[[#This Row],[Yrke]])&↓[↓],\"\")","v":{"$error":"#NUM!"}},{"$f":"IF(LEN(Medel_T[[#This Row],[Arbetsmoment]])>0,ROMAN(1)&\") \"&_xlfn.TEXTJOIN(Delim[Delimiters],TRUE,_xlfn._xlws.SORT(_xlfn.UNIQUE(IF((Hin_T[[B-år]:[B-år]]<=Medel_T[[#This Row],[Start]:[Start]])*(Hin_T[[S-år]:[S-år]]>=Medel_T[[#This Row],[Slut]:[Slut]]),Hin_T[Text],\"\"))))&↓[↓],\"\")","v":{"$error":"#NUM!"}},{"$f":"SUMPRODUCT((Hin_T[[B-år]:[B-år]]<=Medel_T[[#This Row],[Start]:[Start]])*(Hin_T[[S-år]:[S-år]]>=Medel_T[[#This Row],[Slut]:[Slut]])*Hin_T[Dag])","v":{"$error":"#NUM!"}},{"$f":"IF(Medel_T[[#This Row],[Proc dag]]<=1,Medel_T[[#This Row],[Proc dag]],1)","v":{"$error":"#NUM!"}},{"$f":"YEARFRAC(Medel_T[[#This Row],[Slut]],Medel_T[[#This Row],[Start]])","v":{"$error":"#NUM!"}},{"$f":"YEARFRAC(Medel_T[[#This Row],[SJDslut]],Medel_T[[#This Row],[SJDstart]])","v":{"$error":"#NUM!"}},{"$f":"IFERROR(SUMPRODUCT((Hin_T[[B-år]:[B-år]]<=Medel_T[[#This Row],[Start]:[Start]])*(Hin_T[[S-år]:[S-år]]>=Medel_T[[#This Row],[Slut]:[Slut]])*Hin_T[HöA]*Hin_T[[Dag]:[Dag]])/Medel_T[[#This Row],[Proc dag]],-1)","v":-1},{"$f":"IFERROR(SUMPRODUCT((Hin_T[[B-år]:[B-år]]<=Medel_T[[#This Row],[Start]:[Start]])*(Hin_T[[S-år]:[S-år]]>=Medel_T[[#This Row],[Slut]:[Slut]])*Hin_T[AöA]*Hin_T[[Dag]:[Dag]])/Medel_T[[#This Row],[Proc dag]],-1)","v":-1},{"$f":"IFERROR(SUMPRODUCT((Hin_T[[B-år]:[B-år]]<=Medel_T[[#This Row],[Start]:[Start]])*(Hin_T[[S-år]:[S-år]]>=Medel_T[[#This Row],[Slut]:[Slut]])*Hin_T[4AM]*Hin_T[[Dag]:[Dag]])/Medel_T[[#This Row],[Proc dag]],-1)","v":-1},{"$f":"IFERROR(SUMPRODUCT((Hin_T[[B-år]:[B-år]]<=Medel_T[[#This Row],[Start]:[Start]])*(Hin_T[[S-år]:[S-år]]>=Medel_T[[#This Row],[Slut]:[Slut]])*Hin_T[15AM]*Hin_T[[Dag]:[Dag]])/Medel_T[[#This Row],[Proc dag]],-1)","v":-1},{"$f":"IFERROR(SUMPRODUCT((Hin_T[[B-år]:[B-år]]<=Medel_T[[#This Row],[Start]:[Start]])*(Hin_T[[S-år]:[S-år]]>=Medel_T[[#This Row],[Slut]:[Slut]])*Hin_T[20-10D]*Hin_T[[Dag]:[Dag]])/Medel_T[[#This Row],[Proc dag]],-1)","v":-1},{"$f":"IFERROR(SUMPRODUCT((Hin_T[[B-år]:[B-år]]<=Medel_T[[#This Row],[Start]:[Start]])*(Hin_T[[S-år]:[S-år]]>=Medel_T[[#This Row],[Slut]:[Slut]])*Hin_T[[Dag]:[Dag]]*Hin_T[HöA])/Medel_T[[#This Row],[Dag sum]],-1)","v":-1},{"$f":"IFERROR(SUMPRODUCT((Hin_T[[B-år]:[B-år]]<=Medel_T[[#This Row],[Start]:[Start]])*(Hin_T[[S-år]:[S-år]]>=Medel_T[[#This Row],[Slut]:[Slut]])*Hin_T[[Dag]:[Dag]]*Hin_T[AöA])/Medel_T[[#This Row],[Dag sum]],-1)","v":-1},{"$f":"IFERROR(SUMPRODUCT((Hin_T[[B-år]:[B-år]]<=Medel_T[[#This Row],[Start]:[Start]])*(Hin_T[[S-år]:[S-år]]>=Medel_T[[#This Row],[Slut]:[Slut]])*Hin_T[[Dag]:[Dag]]*Hin_T[4AM])/Medel_T[[#This Row],[Dag sum]],-1)","v":-1},{"$f":"IFERROR(SUMPRODUCT((Hin_T[[B-år]:[B-år]]<=Medel_T[[#This Row],[Start]:[Start]])*(Hin_T[[S-år]:[S-år]]>=Medel_T[[#This Row],[Slut]:[Slut]])*Hin_T[15AM]*Hin_T[[Dag]:[Dag]])/Medel_T[[#This Row],[Dag sum]],-1)","v":-1},{"$f":"IFERROR(SUMPRODUCT((Hin_T[[B-år]:[B-år]]<=Medel_T[[#This Row],[Start]:[Start]])*(Hin_T[[S-år]:[S-år]]>=Medel_T[[#This Row],[Slut]:[Slut]])*Hin_T[[Dag]:[Dag]]*Hin_T[20-10D])/Medel_T[[#This Row],[Dag sum]],-1)","v":-1},{"$f":"IFERROR(Medel_T[[#This Row],[Dag sum]:[Dag sum]]*Medel_T[[#This Row],[År]:[År]]*Medel_T[[#This Row],[HöA T]]*DÅ[Arbetsdag/år],0)","v":0},{"$f":"IFERROR(Medel_T[[#This Row],[Dag sum]:[Dag sum]]*Medel_T[[#This Row],[År]:[År]]*Medel_T[[#This Row],[AöA T]]*DÅ[Arbetsdag/år],0)","v":0},{"$f":"IFERROR(Medel_T[[#This Row],[Dag sum]:[Dag sum]]*Medel_T[[#This Row],[År]:[År]]*Medel_T[[#This Row],[4AM T]]*DÅ[Arbetsdag/år],0)","v":0},{"$f":"IFERROR(Medel_T[[#This Row],[Dag sum]:[Dag sum]]*Medel_T[[#This Row],[År]:[År]]*Medel_T[[#This Row],[15AM T]]*DÅ[Arbetsdag/år],0)","v":0},{"$f":"IFERROR(Medel_T[[#This Row],[Dag sum]:[Dag sum]]*Medel_T[[#This Row],[År]:[År]]*Medel_T[[#This Row],[20-10D T]]*DÅ[Arbetsdag/år],0)","v":0},{"$f":"IFERROR(Medel_T[[#This Row],[Dag sum]:[Dag sum]]*Medel_T[[#This Row],[ÅrSjuk]:[ÅrSjuk]]*Medel_T[[#This Row],[HöA T]]*DÅ[Arbetsdag/år],0)","v":0},{"$f":"IFERROR(Medel_T[[#This Row],[Dag sum]:[Dag sum]]*Medel_T[[#This Row],[ÅrSjuk]:[ÅrSjuk]]*Medel_T[[#This Row],[AöA T]]*DÅ[Arbetsdag/år],0)","v":0},{"$f":"IFERROR(Medel_T[[#This Row],[Dag sum]:[Dag sum]]*Medel_T[[#This Row],[ÅrSjuk]:[ÅrSjuk]]*Medel_T[[#This Row],[4AM T]]*DÅ[Arbetsdag/år],0)","v":0},{"$f":"IFERROR(Medel_T[[#This Row],[Dag sum]:[Dag sum]]*Medel_T[[#This Row],[ÅrSjuk]:[ÅrSjuk]]*Medel_T[[#This Row],[15AM T]]*DÅ[Arbetsdag/år],0)","v":0},{"$f":"IFERROR(Medel_T[[#This Row],[Dag sum]:[Dag sum]]*Medel_T[[#This Row],[ÅrSjuk]:[ÅrSjuk]]*Medel_T[[#This Row],[20-10D T]]*DÅ[Arbetsdag/år],0)","v":0},{"$f":"IFERROR(IF(Medel_T[[#This Row],[AöA T]]=0,\"\",List_T[List symb]&Exp_T[[#Headers],[Överarmslyft> 90°: ]]&IF(VALUE(TEXT(Medel_T[[#This Row],[AöA T]],\"t\"))>0,VALUE(TEXT(Medel_T[[#This Row],[AöA T]],\"t\"))&\" h\",\"\")&IF(AND(VALUE(TEXT(Medel_T[[#This Row],[AöA T]],\"t\"))>0,VALUE(TEXT(Medel_T[[#This Row],[AöA T]],\"m\"))>2.4),\" \",\"\")&IF(VALUE(TEXT(Medel_T[[#This Row],[AöA T]],\"m\"))>2.4,TEXT(ROUND(Medel_T[[#This Row],[AöA T]]*(24*60/5),0)/(24*60/5),\"m\")&\" min\",\"\")&\"/dag x \"&ROUND(Medel_T[[#This Row],[Dag sum]:[Dag sum]]*DÅ[Arbetsdag/år],0)&\" dagar x \"&ROUND(Medel_T[[#This Row],[År]:[År]],1)&\" år = \"&TEXT(ROUND(Medel_T[[#This Row],[D AöA§]]*24,1-(INT(LOG10(ABS(Medel_T[[#This Row],[D AöA§]]*24))))),\"0\"&IF(1-(INT(LOG10(ABS(Medel_T[[#This Row],[D AöA§]]*24))))>0,\",\"&REPT(\"0\",1-(INT(LOG10(ABS(Medel_T[[#This Row],[D AöA§]]*24))))),\"\"))& \" h\"),\"\")","v":""},{"$f":"IFERROR(IF(Medel_T[[#This Row],[15AM T]]=0,\"\",List_T[List symb]&Exp_T[[#Headers],[Överarmsrörelser> 15/min: ]]&IF(VALUE(TEXT(Medel_T[[#This Row],[15AM T]],\"t\"))>0,VALUE(TEXT(Medel_T[[#This Row],[15AM T]],\"t\"))&\" h\",\"\")&IF(AND(VALUE(TEXT(Medel_T[[#This Row],[15AM T]],\"t\"))>0,VALUE(TEXT(Medel_T[[#This Row],[15AM T]],\"m\"))>2.4),\" \",\"\")&IF(VALUE(TEXT(Medel_T[[#This Row],[15AM T]],\"m\"))>2.4,TEXT(ROUND(Medel_T[[#This Row],[15AM T]]*(24*60/5),0)/(24*60/5),\"m\")&\" min\",\"\")&\"/dag x \"&ROUND(Medel_T[[#This Row],[Dag sum]:[Dag sum]]*DÅ[Arbetsdag/år],0)&\" dagar x \"&ROUND(Medel_T[[#This Row],[År]:[År]],1)&\" år = \"&TEXT(ROUND(Medel_T[[#This Row],[D 15AM§]]*24,1-(INT(LOG10(ABS(Medel_T[[#This Row],[D 15AM§]]*24))))),\"0\"&IF(1-(INT(LOG10(ABS(Medel_T[[#This Row],[D 15AM§]]*24))))>0,\",\"&REPT(\"0\",1-(INT(LOG10(ABS(Medel_T[[#This Row],[D 15AM§]]*24))))),\"\"))& \" h\"),\"\")","v":""},{"$f":"IFERROR(IF(OR(LEN(Medel_T[[#This Row],[AöA text]])>0,LEN(Medel_T[[#This Row],[15AM Text]])>0),Exp_T[Anställning]&YEAR(Medel_T[[#This Row],[Start]])&List_T[[#Totals],[List symb]]&YEAR(Medel_T[[#This Row],[Slut]])&\" (\"&ROUND(Medel_T[[#This Row],[År]],1)&\" år)\"&IF(LEN(Medel_T[[#This Row],[AöA text]])>0,↓[↓],\"\")&Medel_T[[#This Row],[AöA text]]&IF(LEN(Medel_T[[#This Row],[15AM Text]])>0,↓[↓],\"\")&Medel_T[[#This Row],[15AM Text]],\"\"),\"\")","v":""},{"$f":"IFERROR(IF(Medel_T[[#This Row],[AöA T]]=0,\"\",List_T[List symb]&Exp_T[[#Headers],[Överarmsrörelser> 15/min: ]]&IF(VALUE(TEXT(Medel_T[[#This Row],[AöA T]],\"t\"))>0,VALUE(TEXT(Medel_T[[#This Row],[AöA T]],\"t\"))&\" h\",\"\")&IF(AND(VALUE(TEXT(Medel_T[[#This Row],[AöA T]],\"t\"))>0,VALUE(TEXT(Medel_T[[#This Row],[AöA T]],\"m\"))>2.4),\" \",\"\")&IF(VALUE(TEXT(Medel_T[[#This Row],[AöA T]],\"m\"))>2.4,TEXT(ROUND(Medel_T[[#This Row],[AöA T]]*(24*60/5),0)/(24*60/5),\"m\")&\" min\",\"\")&\"/dag x \"&ROUND(Medel_T[[#This Row],[Dag sum]:[Dag sum]]*DÅ[Arbetsdag/år],0)&\" dagar x \"&ROUND(Medel_T[[#This Row],[År]:[År]],1)&\" år = \"&TEXT(ROUND(Medel_T[[#This Row],[D AöA¤]]*24,1-(INT(LOG10(ABS(Medel_T[[#This Row],[D AöA¤]]*24))))),\"0\"&IF(1-(INT(LOG10(ABS(Medel_T[[#This Row],[D AöA¤]]*24))))>0,\",\"&REPT(\"0\",1-(INT(LOG10(ABS(Medel_T[[#This Row],[D AöA¤]]*24))))),\"\"))& \" h\"),\"\")","v":""},{"$f":"IFERROR(IF(Medel_T[[#This Row],[15AM T]]=0,\"\",List_T[List symb]&Exp_T[[#Headers],[Överarmslyft> 90°: ]]&IF(VALUE(TEXT(Medel_T[[#This Row],[15AM T]],\"t\"))>0,VALUE(TEXT(Medel_T[[#This Row],[15AM T]],\"t\"))&\" h\",\"\")&IF(AND(VALUE(TEXT(Medel_T[[#This Row],[15AM T]],\"t\"))>0,VALUE(TEXT(Medel_T[[#This Row],[15AM T]],\"m\"))>0),\" \",\"\")&IF(VALUE(TEXT(Medel_T[[#This Row],[15AM T]],\"m\"))>0,TEXT(ROUND(Medel_T[[#This Row],[15AM T]]*(24*60/5),0)/(24*60/5),\"m\")&\" min\",\"\")&\"/dag x \"&ROUND(Medel_T[[#This Row],[Dag sum]:[Dag sum]]*DÅ[Arbetsdag/år],0)&\" dagar x \"&ROUND(Medel_T[[#This Row],[År]:[År]],1)&\" år = \"&TEXT(ROUND(Medel_T[[#This Row],[D 15AM¤]]*24,1-(INT(LOG10(ABS(Medel_T[[#This Row],[D 15AM¤]]*24))))),\"0\"&IF(1-(INT(LOG10(ABS(Medel_T[[#This Row],[D 15AM¤]]*24))))>0,\",\"&REPT(\"0\",1-(INT(LOG10(ABS(Medel_T[[#This Row],[D 15AM¤]]*24))))),\"\"))& \" h\"),\"\")","v":""},{"$f":"IFERROR(IF(LEN(Medel_T[[#This Row],[SJDstart]])>0,Exp_T[Anställning]&↓[↓]&YEAR(Medel_T[[#This Row],[Start]])&List_T[[#Totals],[List symb]]&YEAR(Medel_T[[#This Row],[Slut]])&\" (\"&ROUND(Medel_T[[#This Row],[År]],1)&\" år)\"&IF(LEN(Medel_T[[#This Row],[AöA text Sjuk]])>0,↓[↓],\"\")&Medel_T[[#This Row],[AöA text Sjuk]]&IF(LEN(Medel_T[[#This Row],[15AM Text Sjuk]])>0,↓[↓],\"\")&Medel_T[[#This Row],[15AM Text Sjuk]],\"\"),\"\")","v":""},{"$f":"IFERROR(Medel_T[[#This Row],[Period ]]&Medel_T[[#This Row],[ArbMomText]]&Medel_T[[#This Row],[Text]],\"\")","v":""},{"$f":"IF(AND(DJ24>=MAX(Medel_T[NrX]),ISNUMBER(DJ24)),Medel_T[[#Totals],[NrX]]+ROW()-ROW(Medel_T[[#Headers],[Rad]])-Medel_T[[#Totals],[Ant]]-1,INDEX(Medel_T[NrX],MATCH(ROW()-ROW(Medel_T[[#Headers],[Rad]]),Medel_T[NrX],0)))","v":{"$error":"#N/A"}},{"$f":"IF(Medel_T[[#This Row],[Rad]]<=Medel_T[[#Totals],[Ant]],MATCH(Medel_T[[#This Row],[Rad]],Medel_T[NrX],0),IFERROR(INDEX(BD_TX[[#Data],[#Totals],[SJ]],MATCH(Medel_T[[#This Row],[Rad]],BD_TX[[#Data],[#Totals],[Nr]],0)),\"\"))","v":{"$error":"#N/A"}},{"$f":"LEN(Medel_T[[#This Row],[Yrke2]])-LEN(SUBSTITUTE(Medel_T[[#This Row],[Yrke2]],LEFT(Sep_T[Separator],1),\"\"))","v":0},{"$f":"INDEX(Medel_T[År],Medel_T[[#This Row],[Nr]])","v":{"$error":"#N/A"}},{"$f":"IFERROR(IF(LEN(Medel_T[[#This Row],[Nr]])>0,TEXT(IFERROR(INDEX(Medel_T[Start],Medel_T[[#This Row],[Nr]]),INDEX(BD_TX[[#Data],[#Totals],[Start]],MATCH(Medel_T[[#This Row],[Rad]],BD_TX[[#Data],[#Totals],[Nr]],0))),\"ÅÅÅÅ MMM\")&\"-\"&TEXT(IFERROR(INDEX(Medel_T[Slut],Medel_T[[#This Row],[Nr]]),INDEX(BD_TX[[#Data],[#Totals],[År]],MATCH(Medel_T[[#This Row],[Rad]],BD_TX[[#Data],[#Totals],[Nr]],0))),\"ÅÅÅÅ MMM\"),\"\"),\"\")","v":""},{"$f":"IFERROR(IF(LEN(Medel_T[[#This Row],[Nr]])>0,IF(Medel_T[[#This Row],[Rad]]>Medel_T[[#Totals],[Ant]],IFERROR(INDEX(BD_TX[[#Data],[#Totals],[Text]],MATCH(Medel_T[[#This Row],[Rad]],BD_TX[[#Data],[#Totals],[Nr]],0)),\"\"),INDEX(Medel_T[Yrke],Medel_T[[#This Row],[Nr]])),\"\"),\"\")","v":""},{"$f":"IFERROR(INDEX(Medel_T[Arbetsmoment],MATCH(ROW()-ROW(Medel_T[[#Headers],[Arbetsmoment2]]),Medel_T[[NrX]:[NrX]],0)),\"\")","v":""},{"$f":"IFERROR(INDEX(Medel_T[],Medel_T[[#This Row],[Nr]],Medel_T[[#Totals],[HöA_T]]),\"\")","v":""},{"$f":"IF(LEN(Medel_T[[#This Row],[Nr]:[Nr]])>0,IFERROR(TEXT(ROUND(24*IFERROR(INDEX(Medel_T[],Medel_T[[#This Row],[Nr]:[Nr]],Medel_T[[#Totals],[D HöA]]),INDEX(Sum_T[[#Data],[#Totals]],MATCH(Medel_T[[#This Row],[Nr]:[Nr]],Sum_T[[#Data],[#Totals],[Typ]:[Typ]],0),MATCH(Medel_T[[#Headers],[D HöA]],Sum_T[#Headers],0))),1-(INT(LOG10(ABS(24*IFERROR(INDEX(Medel_T[],Medel_T[[#This Row],[Nr]:[Nr]],Medel_T[[#Totals],[D HöA]]),INDEX(Sum_T[[#Data],[#Totals]],MATCH(Medel_T[[#This Row],[Nr]:[Nr]],Sum_T[[#Data],[#Totals],[Typ]:[Typ]],0),MATCH(Medel_T[[#Headers],[D HöA]],Sum_T[#Headers],0)))))))),\"0\"&IF(1-(INT(LOG10(ABS(24*IFERROR(INDEX(Medel_T[],Medel_T[[#This Row],[Nr]:[Nr]],Medel_T[[#Totals],[D HöA]]),INDEX(Sum_T[[#Data],[#Totals]],MATCH(Medel_T[[#This Row],[Nr]:[Nr]],Sum_T[[#Data],[#Totals],[Typ]:[Typ]],0),MATCH(Medel_T[[#Headers],[D HöA]],Sum_T[#Headers],0)))))))>0,\",\"&REPT(\"0\",1-(INT(LOG10(ABS(24*IFERROR(INDEX(Medel_T[],Medel_T[[#This Row],[Nr]:[Nr]],Medel_T[[#Totals],[D HöA]]),INDEX(Sum_T[[#Data],[#Totals]],MATCH(Medel_T[[#This Row],[Nr]:[Nr]],Sum_T[[#Data],[#Totals],[Typ]:[Typ]],0),MATCH(Medel_T[[#Headers],[D HöA]],Sum_T[#Headers],0)))))))),0)),0),\"\")","v":{"$error":"#N/A"}},{"$f":"IFERROR(INDEX(Medel_T[],Medel_T[[#This Row],[Nr]],Medel_T[[#Totals],[AÖA_T]]),\"\")","v":""},{"$f":"IFERROR(IF(LEN(Medel_T[[#This Row],[Nr]:[Nr]])>0,IFERROR(TEXT(ROUND(24*IFERROR(INDEX(Medel_T[],Medel_T[[#This Row],[Nr]:[Nr]],Medel_T[[#Totals],[D AöA]]),INDEX(Sum_T[[#Data],[#Totals]],MATCH(Medel_T[[#This Row],[Nr]:[Nr]],Sum_T[[#Data],[#Totals],[Typ]:[Typ]],0),MATCH(Medel_T[[#Headers],[D AöA]],Sum_T[#Headers],0))),1-(INT(LOG10(ABS(24*IFERROR(INDEX(Medel_T[],Medel_T[[#This Row],[Nr]:[Nr]],Medel_T[[#Totals],[D AöA]]),INDEX(Sum_T[[#Data],[#Totals]],MATCH(Medel_T[[#This Row],[Nr]:[Nr]],Sum_T[[#Data],[#Totals],[Typ]:[Typ]],0),MATCH(Medel_T[[#Headers],[D AöA]],Sum_T[#Headers],0)))))))),\"0\"&IF(1-(INT(LOG10(ABS(24*IFERROR(INDEX(Medel_T[],Medel_T[[#This Row],[Nr]:[Nr]],Medel_T[[#Totals],[D AöA]]),INDEX(Sum_T[[#Data],[#Totals]],MATCH(Medel_T[[#This Row],[Nr]:[Nr]],Sum_T[[#Data],[#Totals],[Typ]:[Typ]],0),MATCH(Medel_T[[#Headers],[D AöA]],Sum_T[#Headers],0)))))))>0,\",\"&REPT(\"0\",1-(INT(LOG10(ABS(24*IFERROR(INDEX(Medel_T[],Medel_T[[#This Row],[Nr]:[Nr]],Medel_T[[#Totals],[D AöA]]),INDEX(Sum_T[[#Data],[#Totals]],MATCH(Medel_T[[#This Row],[Nr]:[Nr]],Sum_T[[#Data],[#Totals],[Typ]:[Typ]],0),MATCH(Medel_T[[#Headers],[D AöA]],Sum_T[#Headers],0)))))))),0)),0),\"\"),\"\")","v":""},{"$f":"IFERROR(INDEX(Medel_T[],Medel_T[[#This Row],[Nr]],Medel_T[[#Totals],[4AM_T]]),\"\")","v":""},{"$f":"IF(LEN(Medel_T[[#This Row],[Nr]:[Nr]])>0,IFERROR(TEXT(ROUND(24*IFERROR(INDEX(Medel_T[],Medel_T[[#This Row],[Nr]:[Nr]],Medel_T[[#Totals],[D 4AM]]),INDEX(Sum_T[[#Data],[#Totals]],MATCH(Medel_T[[#This Row],[Nr]:[Nr]],Sum_T[[#Data],[#Totals],[Typ]:[Typ]],0),MATCH(Medel_T[[#Headers],[D 4AM]],Sum_T[#Headers],0))),1-(INT(LOG10(ABS(24*IFERROR(INDEX(Medel_T[],Medel_T[[#This Row],[Nr]:[Nr]],Medel_T[[#Totals],[D 4AM]]),INDEX(Sum_T[[#Data],[#Totals]],MATCH(Medel_T[[#This Row],[Nr]:[Nr]],Sum_T[[#Data],[#Totals],[Typ]:[Typ]],0),MATCH(Medel_T[[#Headers],[D 4AM]],Sum_T[#Headers],0)))))))),\"0\"&IF(1-(INT(LOG10(ABS(24*IFERROR(INDEX(Medel_T[],Medel_T[[#This Row],[Nr]:[Nr]],Medel_T[[#Totals],[D 4AM]]),INDEX(Sum_T[[#Data],[#Totals]],MATCH(Medel_T[[#This Row],[Nr]:[Nr]],Sum_T[[#Data],[#Totals],[Typ]:[Typ]],0),MATCH(Medel_T[[#Headers],[D 4AM]],Sum_T[#Headers],0)))))))>0,\",\"&REPT(\"0\",1-(INT(LOG10(ABS(24*IFERROR(INDEX(Medel_T[],Medel_T[[#This Row],[Nr]:[Nr]],Medel_T[[#Totals],[D 4AM]]),INDEX(Sum_T[[#Data],[#Totals]],MATCH(Medel_T[[#This Row],[Nr]:[Nr]],Sum_T[[#Data],[#Totals],[Typ]:[Typ]],0),MATCH(Medel_T[[#Headers],[D 4AM]],Sum_T[#Headers],0)))))))),0)),0),\"\")","v":{"$error":"#N/A"}},{"$f":"IFERROR(INDEX(Medel_T[],Medel_T[[#This Row],[Nr]],Medel_T[[#Totals],[15AM_T]]),\"\")","v":""},{"$f":"IFERROR(IF(LEN(Medel_T[[#This Row],[Nr]:[Nr]])>0,IFERROR(TEXT(ROUND(24*IFERROR(INDEX(Medel_T[],Medel_T[[#This Row],[Nr]:[Nr]],Medel_T[[#Totals],[D 15AM]]),INDEX(Sum_T[[#Data],[#Totals]],MATCH(Medel_T[[#This Row],[Nr]:[Nr]],Sum_T[[#Data],[#Totals],[Typ]:[Typ]],0),MATCH(Medel_T[[#Headers],[D 15AM]],Sum_T[#Headers],0))),1-(INT(LOG10(ABS(24*IFERROR(INDEX(Medel_T[],Medel_T[[#This Row],[Nr]:[Nr]],Medel_T[[#Totals],[D 15AM]]),INDEX(Sum_T[[#Data],[#Totals]],MATCH(Medel_T[[#This Row],[Nr]:[Nr]],Sum_T[[#Data],[#Totals],[Typ]:[Typ]],0),MATCH(Medel_T[[#Headers],[D 15AM]],Sum_T[#Headers],0)))))))),\"0\"&IF(1-(INT(LOG10(ABS(24*IFERROR(INDEX(Medel_T[],Medel_T[[#This Row],[Nr]:[Nr]],Medel_T[[#Totals],[D 15AM]]),INDEX(Sum_T[[#Data],[#Totals]],MATCH(Medel_T[[#This Row],[Nr]:[Nr]],Sum_T[[#Data],[#Totals],[Typ]:[Typ]],0),MATCH(Medel_T[[#Headers],[D 15AM]],Sum_T[#Headers],0)))))))>0,\",\"&REPT(\"0\",1-(INT(LOG10(ABS(24*IFERROR(INDEX(Medel_T[],Medel_T[[#This Row],[Nr]:[Nr]],Medel_T[[#Totals],[D 15AM]]),INDEX(Sum_T[[#Data],[#Totals]],MATCH(Medel_T[[#This Row],[Nr]:[Nr]],Sum_T[[#Data],[#Totals],[Typ]:[Typ]],0),MATCH(Medel_T[[#Headers],[D 15AM]],Sum_T[#Headers],0)))))))),0)),0),\"\"),\"\")","v":""},{"$f":"IFERROR(INDEX(Medel_T[],Medel_T[[#This Row],[Nr]],Medel_T[[#Totals],[20-10D_T]]),\"\")","v":""},{"$f":"IF(LEN(Medel_T[[#This Row],[Nr]:[Nr]])>0,IFERROR(TEXT(ROUND(24*IFERROR(INDEX(Medel_T[],Medel_T[[#This Row],[Nr]:[Nr]],Medel_T[[#Totals],[D 20-10D]]),INDEX(Sum_T[[#Data],[#Totals]],MATCH(Medel_T[[#This Row],[Nr]:[Nr]],Sum_T[[#Data],[#Totals],[Typ]:[Typ]],0),MATCH(Medel_T[[#Headers],[D 20-10D]],Sum_T[#Headers],0))),1-(INT(LOG10(ABS(24*IFERROR(INDEX(Medel_T[],Medel_T[[#This Row],[Nr]:[Nr]],Medel_T[[#Totals],[D 20-10D]]),INDEX(Sum_T[[#Data],[#Totals]],MATCH(Medel_T[[#This Row],[Nr]:[Nr]],Sum_T[[#Data],[#Totals],[Typ]:[Typ]],0),MATCH(Medel_T[[#Headers],[D 20-10D]],Sum_T[#Headers],0)))))))),\"0\"&IF(1-(INT(LOG10(ABS(24*IFERROR(INDEX(Medel_T[],Medel_T[[#This Row],[Nr]:[Nr]],Medel_T[[#Totals],[D 20-10D]]),INDEX(Sum_T[[#Data],[#Totals]],MATCH(Medel_T[[#This Row],[Nr]:[Nr]],Sum_T[[#Data],[#Totals],[Typ]:[Typ]],0),MATCH(Medel_T[[#Headers],[D 20-10D]],Sum_T[#Headers],0)))))))>0,\",\"&REPT(\"0\",1-(INT(LOG10(ABS(24*IFERROR(INDEX(Medel_T[],Medel_T[[#This Row],[Nr]:[Nr]],Medel_T[[#Totals],[D 20-10D]]),INDEX(Sum_T[[#Data],[#Totals]],MATCH(Medel_T[[#This Row],[Nr]:[Nr]],Sum_T[[#Data],[#Totals],[Typ]:[Typ]],0),MATCH(Medel_T[[#Headers],[D 20-10D]],Sum_T[#Headers],0)))))))),0)),0),\"\")","v":{"$error":"#N/A"}},null,{"$f":"IFERROR(INDEX(Hin_T[Nr],MATCH(SMALL(Hin_T[B-årX],ROW()-ROW(Hut_T[[#Headers],[Rad]])),Hin_T[B-årX],0)),IF(ROWS($EB$19:EB25)=1+COUNTIF(Hin_T[Start],\"*\"),Hin_T[[#Totals],[Dag]],IF(AND(ROWS($EB$19:EB25)=2+COUNTIF(Hin_T[Start],\"*\"),Hin_T[[#Totals],[Q%-]]>0),EB24+1,IF(AND(ROWS($EB$19:EB25)=3+COUNTIF(Hin_T[Start],\"*\"),Hin_T[[#Totals],[Q%-]]>1),EB24+1,IF(AND(ROWS($EB$19:EB25)=4+COUNTIF(Hin_T[Start],\"*\"),Hin_T[[#Totals],[Q%-]]>2),EB24+1,\"\")))))","v":""},{"$f":"IF(Hut_T[[#This Row],[Rad]]<Hin_T[[#Totals],[Dag]],ROWS($EB$19:EB25),IFERROR(INDEX(BD_TX[[#Data],[#Totals],[SJ]],MATCH(Hut_T[[#This Row],[Rad]],BD_TX[[#Data],[#Totals],[NrX]],0)),\"\"))","v":""},{"$f":"IF(ISNUMBER(Hut_T[[#This Row],[Datum-]]),TEXT(Hut_T[[#This Row],[Datum-]],\"ÅÅÅÅ MMM\")&\"-\"&TEXT(Hut_T[[#This Row],[Datum+]],\"ÅÅÅÅ MMM\"),\"\")","v":""},{"$f":"IF(ISNUMBER(Hut_T[[#This Row],[Nr]]),IF(INDEX(Hin_T[Yrke],Hut_T[[#This Row],[Rad]])>0,INDEX(Hin_T[Yrke],Hut_T[[#This Row],[Rad]]),\"\"),IFERROR(INDEX(BD_TX[[#Data],[#Totals],[Text]],MATCH(Hut_T[[#This Row],[Rad]],BD_TX[[#Data],[#Totals],[NrX]],0)),\"\"))","v":""},{"$f":"IF(ISNUMBER(Hut_T[[#This Row],[Nr]]),IF(INDEX(Hin_T[Arbetsmoment],Hut_T[[#This Row],[Rad]])>0,INDEX(Hin_T[Arbetsmoment],Hut_T[[#This Row],[Rad]]),\"\"),\"\")","v":""},{"$f":"IFERROR(IF(INDEX(Hin_T[Yrke],Hut_T[[#This Row],[Rad]])>0,INDEX(Hin_T[Företag],Hut_T[[#This Row],[Rad]]),\"\"),\"\")","v":""},{"$f":"IFERROR(IF(INDEX(Hin_T[Dag],Hut_T[[#This Row],[Rad]])>0,INDEX(Hin_T[Dag],Hut_T[[#This Row],[Rad]])*DÅ[Arbetsdag/år],\"\"),\"\")","v":""},{"$f":"IF(AND(ISNUMBER(_xlfn.SINGLE(Hut_T[[#This Row],[Rad]:[Rad]])),IFERROR(_xlfn.SINGLE(INDEX(Hin_T[[#Data],[#Totals]],_xlfn.SINGLE(Hut_T[[#This Row],[Rad]:[Rad]]),MATCH(Hut_T[[#Headers],[D HöA]],Hin_T[#Headers],0))),\"\")),IFERROR(ROUND(_xlfn.SINGLE(INDEX(Hin_T[[#Data],[#Totals]],_xlfn.SINGLE(Hut_T[[#This Row],[Rad]:[Rad]])-IF(_xlfn.SINGLE(Hut_T[[#This Row],[Nr]:[Nr]])=_xlfn.SINGLE(#REF!),COUNT(Besvär_T[[Sjukdomsdebut]:[Sjukdomsdebut]]),0),MATCH(_xlfn.SINGLE(IF(_xlfn.SINGLE(Hut_T[[#This Row],[Nr]:[Nr]])=_xlfn.SINGLE(#REF!),#REF!,\"\"))&Hut_T[[#Headers],[D HöA]],Hin_T[#Headers],0))),0),\"\"),\"\")","v":""},{"$f":"IF(AND(ISNUMBER(Hut_T[[#This Row],[Rad]:[Rad]]),ISNUMBER(Hut_T[[#This Row],[D HöA]]),ISNUMBER(Hut_T[[#This Row],[Nr]:[Nr]])),IFERROR(ROUND(INDEX(Hin_T[[#Data],[#Totals]],Hut_T[[#This Row],[Rad]:[Rad]],MATCH(Hut_T[[#Headers],[HöA-A]],Hin_T[#Headers],0)),1-(INT(LOG10(INDEX(Hin_T[[#Data],[#Totals]],Hut_T[[#This Row],[Rad]:[Rad]],MATCH(Hut_T[[#Headers],[HöA-A]],Hin_T[#Headers],0)))))),1),\"\")","v":""},{"$f":"IF(AND(ISNUMBER(Hut_T[[#This Row],[Rad]:[Rad]]),IFERROR(INDEX(Hin_T[[#Data],[#Totals]],Hut_T[[#This Row],[Rad]:[Rad]],MATCH(Hut_T[[#Headers],[D AöA]],Hin_T[#Headers],0)),\"\")),IFERROR(ROUND(INDEX(Hin_T[[#Data],[#Totals]],Hut_T[[#This Row],[Rad]:[Rad]]-IF(Hut_T[[#This Row],[Nr]:[Nr]]=BD_TX[[SJ]:[SJ]],COUNT(Besvär_T[[Sjukdomsdebut]:[Sjukdomsdebut]]),0),MATCH(IF(Hut_T[[#This Row],[Nr]:[Nr]]=BD_TX[[#Totals],[SJ]:[SJ]],BD_TX[[#Headers],[SJ]],\"\")&Hut_T[[#Headers],[D AöA]],Hin_T[#Headers],0)),0),\"\"),\"\")","v":""},{"$f":"IF(AND(ISNUMBER(Hut_T[[#This Row],[Rad]:[Rad]]),ISNUMBER(Hut_T[[#This Row],[D AöA]]),ISNUMBER(Hut_T[[#This Row],[Nr]:[Nr]])),IFERROR(ROUND(INDEX(Hin_T[[#Data],[#Totals]],Hut_T[[#This Row],[Rad]:[Rad]],MATCH(Hut_T[[#Headers],[AöA-A]],Hin_T[#Headers],0)),1-(INT(LOG10(INDEX(Hin_T[[#Data],[#Totals]],Hut_T[[#This Row],[Rad]:[Rad]],MATCH(Hut_T[[#Headers],[AöA-A]],Hin_T[#Headers],0)))))),1),\"\")","v":""},{"$f":"IF(AND(ISNUMBER(_xlfn.SINGLE(Hut_T[[#This Row],[Rad]:[Rad]])),IFERROR(_xlfn.SINGLE(INDEX(Hin_T[[#Data],[#Totals]],_xlfn.SINGLE(Hut_T[[#This Row],[Rad]:[Rad]]),MATCH(Hut_T[[#Headers],[D 4AM]],Hin_T[#Headers],0))),\"\")),IFERROR(ROUND(_xlfn.SINGLE(INDEX(Hin_T[[#Data],[#Totals]],_xlfn.SINGLE(Hut_T[[#This Row],[Rad]:[Rad]])-IF(_xlfn.SINGLE(Hut_T[[#This Row],[Nr]:[Nr]])=_xlfn.SINGLE(#REF!),COUNT(Besvär_T[[Sjukdomsdebut]:[Sjukdomsdebut]]),0),MATCH(_xlfn.SINGLE(IF(_xlfn.SINGLE(Hut_T[[#This Row],[Nr]:[Nr]])=_xlfn.SINGLE(#REF!),#REF!,\"\"))&Hut_T[[#Headers],[D 4AM]],Hin_T[#Headers],0))),0),\"\"),\"\")","v":""},{"$f":"IF(AND(ISNUMBER(Hut_T[[#This Row],[Rad]:[Rad]]),ISNUMBER(Hut_T[[#This Row],[D 4AM]]),ISNUMBER(Hut_T[[#This Row],[Nr]:[Nr]])),IFERROR(ROUND(INDEX(Hin_T[[#Data],[#Totals]],Hut_T[[#This Row],[Rad]:[Rad]],MATCH(Hut_T[[#Headers],[4AM-A]],Hin_T[#Headers],0)),1-(INT(LOG10(INDEX(Hin_T[[#Data],[#Totals]],Hut_T[[#This Row],[Rad]:[Rad]],MATCH(Hut_T[[#Headers],[4AM-A]],Hin_T[#Headers],0)))))),1),\"\")","v":""},{"$f":"IF(AND(ISNUMBER(Hut_T[[#This Row],[Rad]:[Rad]]),IFERROR(INDEX(Hin_T[[#Data],[#Totals]],Hut_T[[#This Row],[Rad]:[Rad]],MATCH(Hut_T[[#Headers],[D 15AM]],Hin_T[#Headers],0)),\"\")),IFERROR(ROUND(INDEX(Hin_T[[#Data],[#Totals]],Hut_T[[#This Row],[Rad]:[Rad]]-IF(Hut_T[[#This Row],[Nr]:[Nr]]=BD_TX[[SJ]:[SJ]],COUNT(Besvär_T[[Sjukdomsdebut]:[Sjukdomsdebut]]),0),MATCH(IF(Hut_T[[#This Row],[Nr]:[Nr]]=BD_TX[[#Totals],[SJ]:[SJ]],BD_TX[[#Headers],[SJ]],\"\")&Hut_T[[#Headers],[D 15AM]],Hin_T[#Headers],0)),0),\"\"),\"\")","v":""},{"$f":"IF(AND(ISNUMBER(Hut_T[[#This Row],[Rad]:[Rad]]),ISNUMBER(Hut_T[[#This Row],[D 15AM]]),ISNUMBER(Hut_T[[#This Row],[Nr]:[Nr]])),IFERROR(ROUND(INDEX(Hin_T[[#Data],[#Totals]],Hut_T[[#This Row],[Rad]:[Rad]],MATCH(Hut_T[[#Headers],[15AM-A]],Hin_T[#Headers],0)),1-(INT(LOG10(INDEX(Hin_T[[#Data],[#Totals]],Hut_T[[#This Row],[Rad]:[Rad]],MATCH(Hut_T[[#Headers],[15AM-A]],Hin_T[#Headers],0)))))),1),\"\")","v":""},{"$f":"IF(AND(ISNUMBER(Hut_T[[#This Row],[Rad]:[Rad]]),IFERROR(INDEX(Hin_T[[#Data],[#Totals]],Hut_T[[#This Row],[Rad]:[Rad]],MATCH(Hut_T[[#Headers],[D 20-10D]],Hin_T[#Headers],0)),\"\")),IFERROR(ROUND(INDEX(Hin_T[[#Data],[#Totals]],Hut_T[[#This Row],[Rad]:[Rad]]-IF(Hut_T[[#This Row],[Nr]:[Nr]]=BD_TX[[SJ]:[SJ]],COUNT(Besvär_T[[Sjukdomsdebut]:[Sjukdomsdebut]]),0),MATCH(IF(Hut_T[[#This Row],[Nr]:[Nr]]=BD_TX[[#Totals],[SJ]:[SJ]],BD_TX[[#Headers],[SJ]],\"\")&Hut_T[[#Headers],[D 20-10D]],Hin_T[#Headers],0)),0),\"\"),\"\")","v":""},{"$f":"IF(AND(ISNUMBER(Hut_T[[#This Row],[Rad]:[Rad]]),ISNUMBER(Hut_T[[#This Row],[D 20-10D]]),ISNUMBER(Hut_T[[#This Row],[Nr]:[Nr]])),IFERROR(ROUND(INDEX(Hin_T[[#Data],[#Totals]],Hut_T[[#This Row],[Rad]:[Rad]],MATCH(Hut_T[[#Headers],[20-10D-A]],Hin_T[#Headers],0)),1-(INT(LOG10(INDEX(Hin_T[[#Data],[#Totals]],Hut_T[[#This Row],[Rad]:[Rad]],MATCH(Hut_T[[#Headers],[20-10D-A]],Hin_T[#Headers],0)))))),1),\"\")","v":""},null,{"$f":"IFERROR(INDEX(Hin_T[[#Data],[#Totals],[B-år]],Hut_T[[#This Row],[Rad]]),IF(ISNUMBER(Hut_T[[#This Row],[Datum+]]),ET24,\"\"))","v":""},{"$f":"IFERROR(INDEX(Hin_T[S-år],Hut_T[[#This Row],[Rad]]),IFERROR(INDEX(BD_TX[[#Data],[#Totals],[År]],MATCH(Hut_T[[#This Row],[Rad]],BD_TX[[#Data],[#Totals],[NrX]],0)),\"\"))","v":""},null,{"$f":"ROWS($EW$20:EW25)","v":6},{"$f":"IFERROR(MATCH(Hist_Tab[[#This Row],[Ref]],Medel_T[NrX],0),1)","v":1},{"$f":"INT((ROW(Hist_Tab[[#This Row],[Ref]])-ROW(Hist_Tab[[#Headers],[Ref]])-1)/4)+1","v":2},{"$f":"COUNTIF($EY$19:EY25,Hist_Tab[[#This Row],[Ref]])","v":3},{"$f":"IFERROR(INDEX(Medel_T[Start],Hist_Tab[[#This Row],[Ref]]),_xlfn.AGGREGATE(4,6,Medel_T[Start]))","v":"00:00:00"},{"$f":"IFERROR(INDEX(Medel_T[Slut],Hist_Tab[[#This Row],[Ref]]),_xlfn.AGGREGATE(4,6,Medel_T[Slut]))","v":"00:00:00"},{"$f":"IF(EW24=0,Hist_Tab[[#This Row],[ÅrB]],IF(Hist_Tab[[#This Row],[per/p]]<2,Hist_Tab[[#This Row],[ÅrB]],Hist_Tab[[#This Row],[År S]]))","v":"00:00:00"},{"$f":"IF(Hist_Tab[[#This Row],[Rad]:[Rad]]=0,-1,IF($EY26>_xlfn.AGGREGATE(2,6,Medel_T[[Slut]:[Slut]]),0,INDEX(Medel_T[],Hist_Tab[[#This Row],[Ref]:[Ref]],MATCH(Hist_Tab[[#Headers],[HöA T]],Medel_T[#Headers],0))))","v":0},{"$f":"IF(Hist_Tab[[#This Row],[Rad]:[Rad]]=0,0,IF($EY26>_xlfn.AGGREGATE(2,6,Medel_T[[Slut]:[Slut]]),0,INDEX(Medel_T[],Hist_Tab[[#This Row],[Ref]:[Ref]],MATCH(Hist_Tab[[#Headers],[AöA T]],Medel_T[#Headers],0))))","v":0},{"$f":"IF(Hist_Tab[[#This Row],[Rad]:[Rad]]=0,0,IF($EY26>_xlfn.AGGREGATE(2,6,Medel_T[[Slut]:[Slut]]),0,INDEX(Medel_T[],Hist_Tab[[#This Row],[Ref]:[Ref]],MATCH(Hist_Tab[[#Headers],[4AM T]],Medel_T[#Headers],0))))","v":0},{"$f":"IF(Hist_Tab[[#This Row],[Rad]:[Rad]]=0,0,IF($EY26>_xlfn.AGGREGATE(2,6,Medel_T[[Slut]:[Slut]]),0,INDEX(Medel_T[],Hist_Tab[[#This Row],[Ref]:[Ref]],MATCH(Hist_Tab[[#Headers],[15AM T]],Medel_T[#Headers],0))))","v":0},{"$f":"IF(Hist_Tab[[#This Row],[Rad]:[Rad]]=0,0,IF($EY26>_xlfn.AGGREGATE(2,6,Medel_T[[Slut]:[Slut]]),0,INDEX(Medel_T[],Hist_Tab[[#This Row],[Ref]:[Ref]],MATCH(Hist_Tab[[#Headers],[20-10D T]],Medel_T[#Headers],0))))","v":0}]
[null,null,null,null,null,null,null,null,null,null,null,null,null,null,null,null,null,null,{"$f":"IF(LEN(Hin_T[[#This Row],[Start]])>0,ROWS($S$19:S26),\"\")","v":""},null,{"$f":"Hin_T[[#This Row],[Yrke]]&IF(ISBLANK(Hin_T[[#This Row],[Arbetsmoment]]),\"\",\"; \"&Hin_T[[#This Row],[Arbetsmoment]])","v":""},{"$f":"IFERROR(IF(LEN(Hin_T[[#This Row],[Start]])-LEN(SUBSTITUTE(Hin_T[[#This Row],[Start]],\"-\",\"\"))=2,DATEVALUE(Hin_T[[#This Row],[Start]]),IF(LEN(Hin_T[[#This Row],[Start]])<5,DATEVALUE(Hin_T[[#This Row],[Start]]&\"-01-01\"),DATEVALUE(LEFT(Hin_T[[#This Row],[Start]],IF(LEN(Hin_T[[#This Row],[Start]])>6,4,2))&\"-\"&MID(Hin_T[[#This Row],[Start]],IF(LEN(Hin_T[[#This Row],[Start]])>6,5,3),2)&\"-\"&RIGHT(Hin_T[[#This Row],[Start]],2)))),\"\")","v":""},{"$f":"IFERROR(IF(LEN(Hin_T[[#This Row],[Slut]])-LEN(SUBSTITUTE(Hin_T[[#This Row],[Slut]],\"-\",\"\"))=2,DATEVALUE(Hin_T[[#This Row],[Slut]]),IF(LEN(Hin_T[[#This Row],[Slut]])<5,DATEVALUE(Hin_T[[#This Row],[Slut]]&\"-12-31\"),DATEVALUE(LEFT(Hin_T[[#This Row],[Slut]],IF(LEN(Hin_T[[#This Row],[Slut]])>6,4,2))&\"-\"&MID(Hin_T[[#This Row],[Slut]],IF(LEN(Hin_T[[#This Row],[Slut]])>6,5,3),2)&\"-\"&RIGHT(Hin_T[[#This Row],[Slut]],2)))),\"\")","v":""},{"$f":"IF(COUNTIF(V$19:V26,Hin_T[[#This Row],[B-år]])=1,Hin_T[[#This Row],[B-år]],\"\")","v":""},{"$f":"IF(COUNTIF(W$19:W26,Hin_T[[#This Row],[S-år]])=1,Hin_T[[#This Row],[S-år]],\"\")","v":""},{"$f":"IFERROR(Hin_T[[#This Row],[B-år]]+IF(COUNTIF($V$19:V26,Hin_T[[#This Row],[B-år]])>1,COUNTIF($V$19:V26,Hin_T[[#This Row],[B-år]])/10,0),\"\")","v":""},{"$f":"IF(ISNUMBER(Hin_T[[#This Row],[Dagar]]),Hin_T[[#This Row],[Dagar]]/DÅ[Arbetsdag/år],1)","v":1},{"$f":"Hin_T[[#This Row],[Dag]]*DÅ[Arbetsdag/år]","v":220},{"$f":"IF(LEN(Hin_T[[#This Row],[Yrke]])=4,1,0)","v":0},{"$f":"_xlfn.DAYS(Hin_T[[#This Row],[B-år]],DATE(YEAR(Hin_T[[#This Row],[B-år]]),1,1))/(DATE(YEAR(Hin_T[[#This Row],[B-år]])+1,1,1)-DATE(YEAR(Hin_T[[#This Row],[B-år]]),1,1))","v":{"$error":"#VALUE!"}},{"$f":"_xlfn.DAYS(DATE(YEAR(Hin_T[[#This Row],[S-år]]),12,31),Hin_T[[#This Row],[S-år]])/(DATE(YEAR(Hin_T[[#This Row],[S-år]])+1,1,1)-DATE(YEAR(Hin_T[[#This Row],[S-år]]),1,1))","v":{"$error":"#VALUE!"}},{"$f":"YEARFRAC(Hin_T[[#This Row],[S-år]],Hin_T[[#This Row],[B-år]])*Hin_T[[#This Row],[Dag]]","v":{"$error":"#VALUE!"}},{"$f":"IFERROR(Hin_T[[#This Row],[År diff]]*IF(ISNUMBER(Hin_T[[#This Row],[HöA]]),1,0),0)","v":0},{"$f":"IFERROR(Hin_T[[#This Row],[År diff]]*IF(ISNUMBER(Hin_T[[#This Row],[AöA]]),1,0),0)","v":0},{"$f":"IF(Hin_T[[#This Row],[B-år]]<=Besvär_T[[#Totals],[Sjukdomsdebut]],Hin_T[[#This Row],[B-år]],\"\")","v":""},{"$f":"IF(Hin_T[[#This Row],[S-år]]<=Besvär_T[[#Totals],[Sjukdomsdebut]],Hin_T[[#This Row],[S-år]],\"\")","v":""},{"$f":"IFERROR(YEARFRAC(IF(AND(ISNUMBER(Hin_T[[#This Row],[B-år EA]]),LEN(Hin_T[[#This Row],[S-år EA]])=0),Hin_T[[#Totals],[15AM-A]],Hin_T[[#This Row],[S-år EA]]),Hin_T[[#This Row],[B-år EA]])*Hin_T[[#This Row],[Dag]]*IF(ISNUMBER(Hin_T[[#This Row],[HöA]]),1,0),0)","v":0},{"$f":"IFERROR(YEARFRAC(IF(AND(ISNUMBER(Hin_T[[#This Row],[B-år EA]]),LEN(Hin_T[[#This Row],[S-år EA]])=0),Hin_T[[#Totals],[15AM-A]],Hin_T[[#This Row],[S-år EA]]),Hin_T[[#This Row],[B-år EA]])*Hin_T[[#This Row],[Dag]]*IF(ISNUMBER(Hin_T[[#This Row],[AöA]]),1,0),0)","v":0},{"$f":"IFERROR(Hin_T[[#This Row],[År diff]]*IF(ISNUMBER(Hin_T[[#This Row],[4AM]]),1,0),0)","v":0},{"$f":"IFERROR(Hin_T[[#This Row],[År diff]]*IF(ISNUMBER(Hin_T[[#This Row],[15AM]]),1,0),0)","v":0},{"$f":"IF(Hin_T[[#This Row],[B-år]]<=Besvär_T[[#Totals],[Sjukdomsdebut]],Hin_T[[#This Row],[B-år]],\"\")","v":""},{"$f":"IF(Hin_T[[#This Row],[S-år]]<=Besvär_T[[#Totals],[Sjukdomsdebut]],Hin_T[[#This Row],[S-år]],\"\")","v":""},{"$f":"IFERROR(YEARFRAC(IF(AND(ISNUMBER(Hin_T[[#This Row],[B-år RA]]),LEN(Hin_T[[#This Row],[S-år RA]])=0),Hin_T[[#Totals],[15AM-A]],Hin_T[[#This Row],[S-år RA]]),Hin_T[[#This Row],[B-år RA]])*Hin_T[[#This Row],[Dag]]*IF(ISNUMBER(Hin_T[[#This Row],[4AM]]),1,0),0)","v":0},{"$f":"IFERROR(YEARFRAC(IF(AND(ISNUMBER(Hin_T[[#This Row],[B-år RA]]),LEN(Hin_T[[#This Row],[S-år RA]])=0),Hin_T[[#Totals],[15AM-A]],Hin_T[[#This Row],[S-år RA]]),Hin_T[[#This Row],[B-år RA]])*Hin_T[[#This Row],[Dag]]*IF(ISNUMBER(Hin_T[[#This Row],[15AM]]),1,0),0)","v":0},{"$f":"IFERROR(Hin_T[[#This Row],[År diff]]*IF(ISNUMBER(Hin_T[[#This Row],[20-10D]]),1,0),0)","v":0},{"$f":"IF(Hin_T[[#This Row],[B-år]]<=Besvär_T[[#Totals],[Sjukdomsdebut]],Hin_T[[#This Row],[B-år]],\"\")","v":""},{"$f":"IF(Hin_T[[#This Row],[S-år]]<=Besvär_T[[#Totals],[Sjukdomsdebut]],Hin_T[[#This Row],[S-år]],\"\")","v":""},{"$f":"IFERROR(YEARFRAC(IF(AND(ISNUMBER(Hin_T[[#This Row],[B-år TMH]]),LEN(Hin_T[[#This Row],[S-år TMH]])=0),Hin_T[[#Totals],[15AM-A]],Hin_T[[#This Row],[S-år TMH]]),Hin_T[[#This Row],[B-år TMH]])*Hin_T[[#This Row],[Dag]]*IF(ISNUMBER(Hin_T[[#This Row],[20-10D]]),1,0),0)","v":0},{"$f":"IF(Hin_T[[#This Row],[Vib]]=JN_T[JN],1,0)","v":0},{"$f":"IFERROR(Hin_T[[#This Row],[År diff]]*IF(Hin_T[[#This Row],[Vib2]]>0,1,0),0)","v":0},{"$f":"IF(Hin_T[[#This Row],[B-år]]<=Besvär_T[[#Totals],[Sjukdomsdebut]],Hin_T[[#This Row],[B-år]],\"\")","v":""},{"$f":"IF(Hin_T[[#This Row],[S-år]]<=Besvär_T[[#Totals],[Sjukdomsdebut]],Hin_T[[#This Row],[S-år]],\"\")","v":""},{"$f":"IFERROR(YEARFRAC(IF(AND(ISNUMBER(Hin_T[[#This Row],[B-år VIB]]),LEN(Hin_T[[#This Row],[S-år Vib]])=0),Hin_T[[#Totals],[15AM-A]],Hin_T[[#This Row],[S-år Vib]]),Hin_T[[#This Row],[B-år VIB]])*IF(Hin_T[[#This Row],[Vib2]]>0,1,0),0)","v":0},{"$f":"Hin_T[[#This Row],[HöA]]*Hin_T[[#This Row],[tot år HöA]]*DÅ[Arbetsdag/år]","v":0},{"$f":"Hin_T[[#This Row],[tot år AöA]]*Hin_T[[#This Row],[AöA]]*DÅ[Arbetsdag/år]","v":0},{"$f":"Hin_T[[#This Row],[tot år 4AM]]*Hin_T[[#This Row],[4AM]]*DÅ[Arbetsdag/år]","v":0},{"$f":"Hin_T[[#This Row],[tot år 15AM]]*Hin_T[[#This Row],[15AM]]*DÅ[Arbetsdag/år]","v":0},{"$f":"Hin_T[[#This Row],[tot år 20-10D]]*Hin_T[[#This Row],[20-10D]]*DÅ[Arbetsdag/år]","v":0},{"$f":"Hin_T[[#This Row],[BD år HöA]]*Hin_T[[#This Row],[HöA]]*DÅ[Arbetsdag/år]","v":0},{"$f":"Hin_T[[#This Row],[BD år AöA]]*Hin_T[[#This Row],[AöA]]*DÅ[Arbetsdag/år]","v":0},{"$f":"Hin_T[[#This Row],[BD år 4AM]]*Hin_T[[#This Row],[4AM]]*DÅ[Arbetsdag/år]","v":0},{"$f":"Hin_T[[#This Row],[BD år 15AM]]*Hin_T[[#This Row],[15AM]]*DÅ[Arbetsdag/år]","v":0},{"$f":"Hin_T[[#This Row],[BD år 20-10D]]*Hin_T[[#This Row],[20-10D]]*DÅ[Arbetsdag/år]","v":0},{"$f":"Hin_T[[#This Row],[Arbetsmoment]]&Hin_T[[#This Row],[Text AöA]]&Hin_T[[#This Row],[Text 15AM]]&IF(Hin_T[[#This Row],[Dagarna]]=DÅ[Arbetsdag/år],\"\",\". \"&Hin_T[[#This Row],[Dagarna]]&\" dagar/år\")&\". \"","v":". "},{"$f":"IF(ISBLANK(Hin_T[[#This Row],[AöA]]),\"\",Exp_T[Överarmslyft> 90°: ]&IF(VALUE(TEXT(Hin_T[[#This Row],[AöA]],\"t\"))>0,VALUE(TEXT(Hin_T[[#This Row],[AöA]],\"t\"))&\" h\",\"\")&IF(AND(VALUE(TEXT(Hin_T[[#This Row],[AöA]],\"t\"))>0,VALUE(TEXT(Hin_T[[#This Row],[AöA]],\"m\"))>2.4),\" \",\"\")&IF(VALUE(TEXT(Hin_T[[#This Row],[AöA]],\"m\"))>2.4,TEXT(ROUND(Hin_T[[#This Row],[AöA]]*(24*60/5),0)/(24*60/5),\"m\")&\" min\",\"\")&\"/dag\")","v":""},{"$f":"IF(ISBLANK(Hin_T[[#This Row],[15AM]]),\"\",Exp_T[Överarmsrörelser> 15/min: ]&IF(VALUE(TEXT(Hin_T[[#This Row],[15AM]],\"t\"))>0,VALUE(TEXT(Hin_T[[#This Row],[15AM]],\"t\"))&\" h\",\"\")&IF(AND(VALUE(TEXT(Hin_T[[#This Row],[15AM]],\"t\"))>0,VALUE(TEXT(Hin_T[[#This Row],[15AM]],\"m\"))>2.4),\" \",\"\")&IF(VALUE(TEXT(Hin_T[[#This Row],[15AM]],\"m\"))>2.4,TEXT(ROUND(Hin_T[[#This Row],[15AM]]*(24*60/5),0)/(24*60/5),\"m\")&\" min\",\"\")&\"/dag\")","v":""},null,null,null,null,{"$f":"SMALL(Hin_T[[StartÅR]:[SlutÅr]],ROW()-ROW(Medel_T[[#Headers],[Start]]))","v":{"$error":"#NUM!"}},{"$f":"SMALL(Hin_T[[StartÅR]:[SlutÅr]],ROW()-ROW(Medel_T[[#Headers],[Slut]])+1)","v":{"$error":"#NUM!"}},{"$f":"IF(Medel_T[[#This Row],[Start]]<=Besvär_T[[#Totals],[Sjukdomsdebut]],Medel_T[[#This Row],[Start]],\"\")","v":{"$error":"#NUM!"}},{"$f":"IF(Medel_T[[#This Row],[Slut]]<=Besvär_T[[#Totals],[Sjukdomsdebut]],Medel_T[[#This Row],[Slut]],IF(AND(LEN(Medel_T[[#This Row],[SJDstart]])>0,LEN(BU27)=0),Besvär_T[[#Totals],[Sjukdomsdebut]],\"\"))","v":{"$error":"#NUM!"}},{"$f":"IF(Medel_T[[#This Row],[Start]]>=Besvär_T[[#Totals],[Sjukdomsdebut]],Medel_T[[#This Row],[Start]],IF(AND(LEN(Medel_T[[#This Row],[EfterSlut]])>0,LEN(BX25)=0),Besvär_T[[#Totals],[Sjukdomsdebut]],\"\"))","v":{"$error":"#NUM!"}},{"$f":"IF(Medel_T[[#This Row],[Slut]]>=Besvär_T[[#Totals],[Sjukdomsdebut]],Medel_T[[#This Row],[Slut]],\"\")","v":{"$error":"#NUM!"}},{"$f":"COUNTIF($BZ$19:BZ26,\">0\")","v":0},{"$f":"COUNTIFS(Hin_T[B-år],\"<=\"&Medel_T[[#This Row],[Start]],Hin_T[S-år],\">=\"&Medel_T[[#This Row],[Slut]])","v":0},{"$f":"SUBSTITUTE(_xlfn.TEXTJOIN(Sep_T[Separator],TRUE,_xlfn._xlws.SORT(_xlfn.UNIQUE(IF((Hin_T[[B-år]:[B-år]]<=Medel_T[[#This Row],[Start]:[Start]])*(Hin_T[[S-år]:[S-år]]>=Medel_T[[#This Row],[Slut]:[Slut]]),Hin_T[Yrke],\"\")))),0&Sep_T[Separator],\"\")","v":{"$error":"#NUM!"}},{"$f":"SUBSTITUTE(_xlfn.TEXTJOIN(Sep_T[Separator],TRUE,_xlfn._xlws.SORT(_xlfn.UNIQUE(IF((Hin_T[[B-år]:[B-år]]<=Medel_T[[#This Row],[Start]:[Start]])*(Hin_T[[S-år]:[S-år]]>=Medel_T[[#This Row],[Slut]:[Slut]]),Hin_T[Arbetsmoment],\"\")))),0&Sep_T[Separator],\"\")","v":{"$error":"#NUM!"}},{"$f":"IF(LEN(Medel_T[[#This Row],[Yrke]])>0,Medel_T[[#Headers],[Period ]]&Medel_T[[#This Row],[NrX]]&\": \"&TEXT(Medel_T[[#This Row],[Start]],\"ÅÅÅÅ\")&List_T[[#Totals],[List symb]]&TEXT(Medel_T[[#This Row],[Slut]],\"ÅÅÅÅ\")&\" (\"&ROUND(Medel_T[[#This Row],[År]],1)&\" år) Anställd som \"&IFERROR(SUBSTITUTE(SUBSTITUTE(Medel_T[[#This Row],[Yrke]],Sep_T[Separator],\" och \",Medel_T[[#This Row],[Ant]]-1),Sep_T[Separator],\", \"),Medel_T[[#This Row],[Yrke]])&↓[↓],\"\")","v":{"$error":"#NUM!"}},{"$f":"IF(LEN(Medel_T[[#This Row],[Arbetsmoment]])>0,ROMAN(1)&\") \"&_xlfn.TEXTJOIN(Delim[Delimiters],TRUE,_xlfn._xlws.SORT(_xlfn.UNIQUE(IF((Hin_T[[B-år]:[B-år]]<=Medel_T[[#This Row],[Start]:[Start]])*(Hin_T[[S-år]:[S-år]]>=Medel_T[[#This Row],[Slut]:[Slut]]),Hin_T[Text],\"\"))))&↓[↓],\"\")","v":{"$error":"#NUM!"}},{"$f":"SUMPRODUCT((Hin_T[[B-år]:[B-år]]<=Medel_T[[#This Row],[Start]:[Start]])*(Hin_T[[S-år]:[S-år]]>=Medel_T[[#This Row],[Slut]:[Slut]])*Hin_T[Dag])","v":{"$error":"#NUM!"}},{"$f":"IF(Medel_T[[#This Row],[Proc dag]]<=1,Medel_T[[#This Row],[Proc dag]],1)","v":{"$error":"#NUM!"}},{"$f":"YEARFRAC(Medel_T[[#This Row],[Slut]],Medel_T[[#This Row],[Start]])","v":{"$error":"#NUM!"}},{"$f":"YEARFRAC(Medel_T[[#This Row],[SJDslut]],Medel_T[[#This Row],[SJDstart]])","v":{"$error":"#NUM!"}},{"$f":"IFERROR(SUMPRODUCT((Hin_T[[B-år]:[B-år]]<=Medel_T[[#This Row],[Start]:[Start]])*(Hin_T[[S-år]:[S-år]]>=Medel_T[[#This Row],[Slut]:[Slut]])*Hin_T[HöA]*Hin_T[[Dag]:[Dag]])/Medel_T[[#This Row],[Proc dag]],-1)","v":-1},{"$f":"IFERROR(SUMPRODUCT((Hin_T[[B-år]:[B-år]]<=Medel_T[[#This Row],[Start]:[Start]])*(Hin_T[[S-år]:[S-år]]>=Medel_T[[#This Row],[Slut]:[Slut]])*Hin_T[AöA]*Hin_T[[Dag]:[Dag]])/Medel_T[[#This Row],[Proc dag]],-1)","v":-1},{"$f":"IFERROR(SUMPRODUCT((Hin_T[[B-år]:[B-år]]<=Medel_T[[#This Row],[Start]:[Start]])*(Hin_T[[S-år]:[S-år]]>=Medel_T[[#This Row],[Slut]:[Slut]])*Hin_T[4AM]*Hin_T[[Dag]:[Dag]])/Medel_T[[#This Row],[Proc dag]],-1)","v":-1},{"$f":"IFERROR(SUMPRODUCT((Hin_T[[B-år]:[B-år]]<=Medel_T[[#This Row],[Start]:[Start]])*(Hin_T[[S-år]:[S-år]]>=Medel_T[[#This Row],[Slut]:[Slut]])*Hin_T[15AM]*Hin_T[[Dag]:[Dag]])/Medel_T[[#This Row],[Proc dag]],-1)","v":-1},{"$f":"IFERROR(SUMPRODUCT((Hin_T[[B-år]:[B-år]]<=Medel_T[[#This Row],[Start]:[Start]])*(Hin_T[[S-år]:[S-år]]>=Medel_T[[#This Row],[Slut]:[Slut]])*Hin_T[20-10D]*Hin_T[[Dag]:[Dag]])/Medel_T[[#This Row],[Proc dag]],-1)","v":-1},{"$f":"IFERROR(SUMPRODUCT((Hin_T[[B-år]:[B-år]]<=Medel_T[[#This Row],[Start]:[Start]])*(Hin_T[[S-år]:[S-år]]>=Medel_T[[#This Row],[Slut]:[Slut]])*Hin_T[[Dag]:[Dag]]*Hin_T[HöA])/Medel_T[[#This Row],[Dag sum]],-1)","v":-1},{"$f":"IFERROR(SUMPRODUCT((Hin_T[[B-år]:[B-år]]<=Medel_T[[#This Row],[Start]:[Start]])*(Hin_T[[S-år]:[S-år]]>=Medel_T[[#This Row],[Slut]:[Slut]])*Hin_T[[Dag]:[Dag]]*Hin_T[AöA])/Medel_T[[#This Row],[Dag sum]],-1)","v":-1},{"$f":"IFERROR(SUMPRODUCT((Hin_T[[B-år]:[B-år]]<=Medel_T[[#This Row],[Start]:[Start]])*(Hin_T[[S-år]:[S-år]]>=Medel_T[[#This Row],[Slut]:[Slut]])*Hin_T[[Dag]:[Dag]]*Hin_T[4AM])/Medel_T[[#This Row],[Dag sum]],-1)","v":-1},{"$f":"IFERROR(SUMPRODUCT((Hin_T[[B-år]:[B-år]]<=Medel_T[[#This Row],[Start]:[Start]])*(Hin_T[[S-år]:[S-år]]>=Medel_T[[#This Row],[Slut]:[Slut]])*Hin_T[15AM]*Hin_T[[Dag]:[Dag]])/Medel_T[[#This Row],[Dag sum]],-1)","v":-1},{"$f":"IFERROR(SUMPRODUCT((Hin_T[[B-år]:[B-år]]<=Medel_T[[#This Row],[Start]:[Start]])*(Hin_T[[S-år]:[S-år]]>=Medel_T[[#This Row],[Slut]:[Slut]])*Hin_T[[Dag]:[Dag]]*Hin_T[20-10D])/Medel_T[[#This Row],[Dag sum]],-1)","v":-1},{"$f":"IFERROR(Medel_T[[#This Row],[Dag sum]:[Dag sum]]*Medel_T[[#This Row],[År]:[År]]*Medel_T[[#This Row],[HöA T]]*DÅ[Arbetsdag/år],0)","v":0},{"$f":"IFERROR(Medel_T[[#This Row],[Dag sum]:[Dag sum]]*Medel_T[[#This Row],[År]:[År]]*Medel_T[[#This Row],[AöA T]]*DÅ[Arbetsdag/år],0)","v":0},{"$f":"IFERROR(Medel_T[[#This Row],[Dag sum]:[Dag sum]]*Medel_T[[#This Row],[År]:[År]]*Medel_T[[#This Row],[4AM T]]*DÅ[Arbetsdag/år],0)","v":0},{"$f":"IFERROR(Medel_T[[#This Row],[Dag sum]:[Dag sum]]*Medel_T[[#This Row],[År]:[År]]*Medel_T[[#This Row],[15AM T]]*DÅ[Arbetsdag/år],0)","v":0},{"$f":"IFERROR(Medel_T[[#This Row],[Dag sum]:[Dag sum]]*Medel_T[[#This Row],[År]:[År]]*Medel_T[[#This Row],[20-10D T]]*DÅ[Arbetsdag/år],0)","v":0},{"$f":"IFERROR(Medel_T[[#This Row],[Dag sum]:[Dag sum]]*Medel_T[[#This Row],[ÅrSjuk]:[ÅrSjuk]]*Medel_T[[#This Row],[HöA T]]*DÅ[Arbetsdag/år],0)","v":0},{"$f":"IFERROR(Medel_T[[#This Row],[Dag sum]:[Dag sum]]*Medel_T[[#This Row],[ÅrSjuk]:[ÅrSjuk]]*Medel_T[[#This Row],[AöA T]]*DÅ[Arbetsdag/år],0)","v":0},{"$f":"IFERROR(Medel_T[[#This Row],[Dag sum]:[Dag sum]]*Medel_T[[#This Row],[ÅrSjuk]:[ÅrSjuk]]*Medel_T[[#This Row],[4AM T]]*DÅ[Arbetsdag/år],0)","v":0},{"$f":"IFERROR(Medel_T[[#This Row],[Dag sum]:[Dag sum]]*Medel_T[[#This Row],[ÅrSjuk]:[ÅrSjuk]]*Medel_T[[#This Row],[15AM T]]*DÅ[Arbetsdag/år],0)","v":0},{"$f":"IFERROR(Medel_T[[#This Row],[Dag sum]:[Dag sum]]*Medel_T[[#This Row],[ÅrSjuk]:[ÅrSjuk]]*Medel_T[[#This Row],[20-10D T]]*DÅ[Arbetsdag/år],0)","v":0},{"$f":"IFERROR(IF(Medel_T[[#This Row],[AöA T]]=0,\"\",List_T[List symb]&Exp_T[[#Headers],[Överarmslyft> 90°: ]]&IF(VALUE(TEXT(Medel_T[[#This Row],[AöA T]],\"t\"))>0,VALUE(TEXT(Medel_T[[#This Row],[AöA T]],\"t\"))&\" h\",\"\")&IF(AND(VALUE(TEXT(Medel_T[[#This Row],[AöA T]],\"t\"))>0,VALUE(TEXT(Medel_T[[#This Row],[AöA T]],\"m\"))>2.4),\" \",\"\")&IF(VALUE(TEXT(Medel_T[[#This Row],[AöA T]],\"m\"))>2.4,TEXT(ROUND(Medel_T[[#This Row],[AöA T]]*(24*60/5),0)/(24*60/5),\"m\")&\" min\",\"\")&\"/dag x \"&ROUND(Medel_T[[#This Row],[Dag sum]:[Dag sum]]*DÅ[Arbetsdag/år],0)&\" dagar x \"&ROUND(Medel_T[[#This Row],[År]:[År]],1)&\" år = \"&TEXT(ROUND(Medel_T[[#This Row],[D AöA§]]*24,1-(INT(LOG10(ABS(Medel_T[[#This Row],[D AöA§]]*24))))),\"0\"&IF(1-(INT(LOG10(ABS(Medel_T[[#This Row],[D AöA§]]*24))))>0,\",\"&REPT(\"0\",1-(INT(LOG10(ABS(Medel_T[[#This Row],[D AöA§]]*24))))),\"\"))& \" h\"),\"\")","v":""},{"$f":"IFERROR(IF(Medel_T[[#This Row],[15AM T]]=0,\"\",List_T[List symb]&Exp_T[[#Headers],[Överarmsrörelser> 15/min: ]]&IF(VALUE(TEXT(Medel_T[[#This Row],[15AM T]],\"t\"))>0,VALUE(TEXT(Medel_T[[#This Row],[15AM T]],\"t\"))&\" h\",\"\")&IF(AND(VALUE(TEXT(Medel_T[[#This Row],[15AM T]],\"t\"))>0,VALUE(TEXT(Medel_T[[#This Row],[15AM T]],\"m\"))>2.4),\" \",\"\")&IF(VALUE(TEXT(Medel_T[[#This Row],[15AM T]],\"m\"))>2.4,TEXT(ROUND(Medel_T[[#This Row],[15AM T]]*(24*60/5),0)/(24*60/5),\"m\")&\" min\",\"\")&\"/dag x \"&ROUND(Medel_T[[#This Row],[Dag sum]:[Dag sum]]*DÅ[Arbetsdag/år],0)&\" dagar x \"&ROUND(Medel_T[[#This Row],[År]:[År]],1)&\" år = \"&TEXT(ROUND(Medel_T[[#This Row],[D 15AM§]]*24,1-(INT(LOG10(ABS(Medel_T[[#This Row],[D 15AM§]]*24))))),\"0\"&IF(1-(INT(LOG10(ABS(Medel_T[[#This Row],[D 15AM§]]*24))))>0,\",\"&REPT(\"0\",1-(INT(LOG10(ABS(Medel_T[[#This Row],[D 15AM§]]*24))))),\"\"))& \" h\"),\"\")","v":""},{"$f":"IFERROR(IF(OR(LEN(Medel_T[[#This Row],[AöA text]])>0,LEN(Medel_T[[#This Row],[15AM Text]])>0),Exp_T[Anställning]&YEAR(Medel_T[[#This Row],[Start]])&List_T[[#Totals],[List symb]]&YEAR(Medel_T[[#This Row],[Slut]])&\" (\"&ROUND(Medel_T[[#This Row],[År]],1)&\" år)\"&IF(LEN(Medel_T[[#This Row],[AöA text]])>0,↓[↓],\"\")&Medel_T[[#This Row],[AöA text]]&IF(LEN(Medel_T[[#This Row],[15AM Text]])>0,↓[↓],\"\")&Medel_T[[#This Row],[15AM Text]],\"\"),\"\")","v":""},{"$f":"IFERROR(IF(Medel_T[[#This Row],[AöA T]]=0,\"\",List_T[List symb]&Exp_T[[#Headers],[Överarmsrörelser> 15/min: ]]&IF(VALUE(TEXT(Medel_T[[#This Row],[AöA T]],\"t\"))>0,VALUE(TEXT(Medel_T[[#This Row],[AöA T]],\"t\"))&\" h\",\"\")&IF(AND(VALUE(TEXT(Medel_T[[#This Row],[AöA T]],\"t\"))>0,VALUE(TEXT(Medel_T[[#This Row],[AöA T]],\"m\"))>2.4),\" \",\"\")&IF(VALUE(TEXT(Medel_T[[#This Row],[AöA T]],\"m\"))>2.4,TEXT(ROUND(Medel_T[[#This Row],[AöA T]]*(24*60/5),0)/(24*60/5),\"m\")&\" min\",\"\")&\"/dag x \"&ROUND(Medel_T[[#This Row],[Dag sum]:[Dag sum]]*DÅ[Arbetsdag/år],0)&\" dagar x \"&ROUND(Medel_T[[#This Row],[År]:[År]],1)&\" år = \"&TEXT(ROUND(Medel_T[[#This Row],[D AöA¤]]*24,1-(INT(LOG10(ABS(Medel_T[[#This Row],[D AöA¤]]*24))))),\"0\"&IF(1-(INT(LOG10(ABS(Medel_T[[#This Row],[D AöA¤]]*24))))>0,\",\"&REPT(\"0\",1-(INT(LOG10(ABS(Medel_T[[#This Row],[D AöA¤]]*24))))),\"\"))& \" h\"),\"\")","v":""},{"$f":"IFERROR(IF(Medel_T[[#This Row],[15AM T]]=0,\"\",List_T[List symb]&Exp_T[[#Headers],[Överarmslyft> 90°: ]]&IF(VALUE(TEXT(Medel_T[[#This Row],[15AM T]],\"t\"))>0,VALUE(TEXT(Medel_T[[#This Row],[15AM T]],\"t\"))&\" h\",\"\")&IF(AND(VALUE(TEXT(Medel_T[[#This Row],[15AM T]],\"t\"))>0,VALUE(TEXT(Medel_T[[#This Row],[15AM T]],\"m\"))>0),\" \",\"\")&IF(VALUE(TEXT(Medel_T[[#This Row],[15AM T]],\"m\"))>0,TEXT(ROUND(Medel_T[[#This Row],[15AM T]]*(24*60/5),0)/(24*60/5),\"m\")&\" min\",\"\")&\"/dag x \"&ROUND(Medel_T[[#This Row],[Dag sum]:[Dag sum]]*DÅ[Arbetsdag/år],0)&\" dagar x \"&ROUND(Medel_T[[#This Row],[År]:[År]],1)&\" år = \"&TEXT(ROUND(Medel_T[[#This Row],[D 15AM¤]]*24,1-(INT(LOG10(ABS(Medel_T[[#This Row],[D 15AM¤]]*24))))),\"0\"&IF(1-(INT(LOG10(ABS(Medel_T[[#This Row],[D 15AM¤]]*24))))>0,\",\"&REPT(\"0\",1-(INT(LOG10(ABS(Medel_T[[#This Row],[D 15AM¤]]*24))))),\"\"))& \" h\"),\"\")","v":""},{"$f":"IFERROR(IF(LEN(Medel_T[[#This Row],[SJDstart]])>0,Exp_T[Anställning]&↓[↓]&YEAR(Medel_T[[#This Row],[Start]])&List_T[[#Totals],[List symb]]&YEAR(Medel_T[[#This Row],[Slut]])&\" (\"&ROUND(Medel_T[[#This Row],[År]],1)&\" år)\"&IF(LEN(Medel_T[[#This Row],[AöA text Sjuk]])>0,↓[↓],\"\")&Medel_T[[#This Row],[AöA text Sjuk]]&IF(LEN(Medel_T[[#This Row],[15AM Text Sjuk]])>0,↓[↓],\"\")&Medel_T[[#This Row],[15AM Text Sjuk]],\"\"),\"\")","v":""},{"$f":"IFERROR(Medel_T[[#This Row],[Period ]]&Medel_T[[#This Row],[ArbMomText]]&Medel_T[[#This Row],[Text]],\"\")","v":""},{"$f":"IF(AND(DJ25>=MAX(Medel_T[NrX]),ISNUMBER(DJ25)),Medel_T[[#Totals],[NrX]]+ROW()-ROW(Medel_T[[#Headers],[Rad]])-Medel_T[[#Totals],[Ant]]-1,INDEX(Medel_T[NrX],MATCH(ROW()-ROW(Medel_T[[#Headers],[Rad]]),Medel_T[NrX],0)))","v":{"$error":"#N/A"}},{"$f":"IF(Medel_T[[#This Row],[Rad]]<=Medel_T[[#Totals],[Ant]],MATCH(Medel_T[[#This Row],[Rad]],Medel_T[NrX],0),IFERROR(INDEX(BD_TX[[#Data],[#Totals],[SJ]],MATCH(Medel_T[[#This Row],[Rad]],BD_TX[[#Data],[#Totals],[Nr]],0)),\"\"))","v":{"$error":"#N/A"}},{"$f":"LEN(Medel_T[[#This Row],[Yrke2]])-LEN(SUBSTITUTE(Medel_T[[#This Row],[Yrke2]],LEFT(Sep_T[Separator],1),\"\"))","v":0},{"$f":"INDEX(Medel_T[År],Medel_T[[#This Row],[Nr]])","v":{"$error":"#N/A"}},{"$f":"IFERROR(IF(LEN(Medel_T[[#This Row],[Nr]])>0,TEXT(IFERROR(INDEX(Medel_T[Start],Medel_T[[#This Row],[Nr]]),INDEX(BD_TX[[#Data],[#Totals],[Start]],MATCH(Medel_T[[#This Row],[Rad]],BD_TX[[#Data],[#Totals],[Nr]],0))),\"ÅÅÅÅ MMM\")&\"-\"&TEXT(IFERROR(INDEX(Medel_T[Slut],Medel_T[[#This Row],[Nr]]),INDEX(BD_TX[[#Data],[#Totals],[År]],MATCH(Medel_T[[#This Row],[Rad]],BD_TX[[#Data],[#Totals],[Nr]],0))),\"ÅÅÅÅ MMM\"),\"\"),\"\")","v":""},{"$f":"IFERROR(IF(LEN(Medel_T[[#This Row],[Nr]])>0,IF(Medel_T[[#This Row],[Rad]]>Medel_T[[#Totals],[Ant]],IFERROR(INDEX(BD_TX[[#Data],[#Totals],[Text]],MATCH(Medel_T[[#This Row],[Rad]],BD_TX[[#Data],[#Totals],[Nr]],0)),\"\"),INDEX(Medel_T[Yrke],Medel_T[[#This Row],[Nr]])),\"\"),\"\")","v":""},{"$f":"IFERROR(INDEX(Medel_T[Arbetsmoment],MATCH(ROW()-ROW(Medel_T[[#Headers],[Arbetsmoment2]]),Medel_T[[NrX]:[NrX]],0)),\"\")","v":""},{"$f":"IFERROR(INDEX(Medel_T[],Medel_T[[#This Row],[Nr]],Medel_T[[#Totals],[HöA_T]]),\"\")","v":""},{"$f":"IF(LEN(Medel_T[[#This Row],[Nr]:[Nr]])>0,IFERROR(TEXT(ROUND(24*IFERROR(INDEX(Medel_T[],Medel_T[[#This Row],[Nr]:[Nr]],Medel_T[[#Totals],[D HöA]]),INDEX(Sum_T[[#Data],[#Totals]],MATCH(Medel_T[[#This Row],[Nr]:[Nr]],Sum_T[[#Data],[#Totals],[Typ]:[Typ]],0),MATCH(Medel_T[[#Headers],[D HöA]],Sum_T[#Headers],0))),1-(INT(LOG10(ABS(24*IFERROR(INDEX(Medel_T[],Medel_T[[#This Row],[Nr]:[Nr]],Medel_T[[#Totals],[D HöA]]),INDEX(Sum_T[[#Data],[#Totals]],MATCH(Medel_T[[#This Row],[Nr]:[Nr]],Sum_T[[#Data],[#Totals],[Typ]:[Typ]],0),MATCH(Medel_T[[#Headers],[D HöA]],Sum_T[#Headers],0)))))))),\"0\"&IF(1-(INT(LOG10(ABS(24*IFERROR(INDEX(Medel_T[],Medel_T[[#This Row],[Nr]:[Nr]],Medel_T[[#Totals],[D HöA]]),INDEX(Sum_T[[#Data],[#Totals]],MATCH(Medel_T[[#This Row],[Nr]:[Nr]],Sum_T[[#Data],[#Totals],[Typ]:[Typ]],0),MATCH(Medel_T[[#Headers],[D HöA]],Sum_T[#Headers],0)))))))>0,\",\"&REPT(\"0\",1-(INT(LOG10(ABS(24*IFERROR(INDEX(Medel_T[],Medel_T[[#This Row],[Nr]:[Nr]],Medel_T[[#Totals],[D HöA]]),INDEX(Sum_T[[#Data],[#Totals]],MATCH(Medel_T[[#This Row],[Nr]:[Nr]],Sum_T[[#Data],[#Totals],[Typ]:[Typ]],0),MATCH(Medel_T[[#Headers],[D HöA]],Sum_T[#Headers],0)))))))),0)),0),\"\")","v":{"$error":"#N/A"}},{"$f":"IFERROR(INDEX(Medel_T[],Medel_T[[#This Row],[Nr]],Medel_T[[#Totals],[AÖA_T]]),\"\")","v":""},{"$f":"IFERROR(IF(LEN(Medel_T[[#This Row],[Nr]:[Nr]])>0,IFERROR(TEXT(ROUND(24*IFERROR(INDEX(Medel_T[],Medel_T[[#This Row],[Nr]:[Nr]],Medel_T[[#Totals],[D AöA]]),INDEX(Sum_T[[#Data],[#Totals]],MATCH(Medel_T[[#This Row],[Nr]:[Nr]],Sum_T[[#Data],[#Totals],[Typ]:[Typ]],0),MATCH(Medel_T[[#Headers],[D AöA]],Sum_T[#Headers],0))),1-(INT(LOG10(ABS(24*IFERROR(INDEX(Medel_T[],Medel_T[[#This Row],[Nr]:[Nr]],Medel_T[[#Totals],[D AöA]]),INDEX(Sum_T[[#Data],[#Totals]],MATCH(Medel_T[[#This Row],[Nr]:[Nr]],Sum_T[[#Data],[#Totals],[Typ]:[Typ]],0),MATCH(Medel_T[[#Headers],[D AöA]],Sum_T[#Headers],0)))))))),\"0\"&IF(1-(INT(LOG10(ABS(24*IFERROR(INDEX(Medel_T[],Medel_T[[#This Row],[Nr]:[Nr]],Medel_T[[#Totals],[D AöA]]),INDEX(Sum_T[[#Data],[#Totals]],MATCH(Medel_T[[#This Row],[Nr]:[Nr]],Sum_T[[#Data],[#Totals],[Typ]:[Typ]],0),MATCH(Medel_T[[#Headers],[D AöA]],Sum_T[#Headers],0)))))))>0,\",\"&REPT(\"0\",1-(INT(LOG10(ABS(24*IFERROR(INDEX(Medel_T[],Medel_T[[#This Row],[Nr]:[Nr]],Medel_T[[#Totals],[D AöA]]),INDEX(Sum_T[[#Data],[#Totals]],MATCH(Medel_T[[#This Row],[Nr]:[Nr]],Sum_T[[#Data],[#Totals],[Typ]:[Typ]],0),MATCH(Medel_T[[#Headers],[D AöA]],Sum_T[#Headers],0)))))))),0)),0),\"\"),\"\")","v":""},{"$f":"IFERROR(INDEX(Medel_T[],Medel_T[[#This Row],[Nr]],Medel_T[[#Totals],[4AM_T]]),\"\")","v":""},{"$f":"IF(LEN(Medel_T[[#This Row],[Nr]:[Nr]])>0,IFERROR(TEXT(ROUND(24*IFERROR(INDEX(Medel_T[],Medel_T[[#This Row],[Nr]:[Nr]],Medel_T[[#Totals],[D 4AM]]),INDEX(Sum_T[[#Data],[#Totals]],MATCH(Medel_T[[#This Row],[Nr]:[Nr]],Sum_T[[#Data],[#Totals],[Typ]:[Typ]],0),MATCH(Medel_T[[#Headers],[D 4AM]],Sum_T[#Headers],0))),1-(INT(LOG10(ABS(24*IFERROR(INDEX(Medel_T[],Medel_T[[#This Row],[Nr]:[Nr]],Medel_T[[#Totals],[D 4AM]]),INDEX(Sum_T[[#Data],[#Totals]],MATCH(Medel_T[[#This Row],[Nr]:[Nr]],Sum_T[[#Data],[#Totals],[Typ]:[Typ]],0),MATCH(Medel_T[[#Headers],[D 4AM]],Sum_T[#Headers],0)))))))),\"0\"&IF(1-(INT(LOG10(ABS(24*IFERROR(INDEX(Medel_T[],Medel_T[[#This Row],[Nr]:[Nr]],Medel_T[[#Totals],[D 4AM]]),INDEX(Sum_T[[#Data],[#Totals]],MATCH(Medel_T[[#This Row],[Nr]:[Nr]],Sum_T[[#Data],[#Totals],[Typ]:[Typ]],0),MATCH(Medel_T[[#Headers],[D 4AM]],Sum_T[#Headers],0)))))))>0,\",\"&REPT(\"0\",1-(INT(LOG10(ABS(24*IFERROR(INDEX(Medel_T[],Medel_T[[#This Row],[Nr]:[Nr]],Medel_T[[#Totals],[D 4AM]]),INDEX(Sum_T[[#Data],[#Totals]],MATCH(Medel_T[[#This Row],[Nr]:[Nr]],Sum_T[[#Data],[#Totals],[Typ]:[Typ]],0),MATCH(Medel_T[[#Headers],[D 4AM]],Sum_T[#Headers],0)))))))),0)),0),\"\")","v":{"$error":"#N/A"}},{"$f":"IFERROR(INDEX(Medel_T[],Medel_T[[#This Row],[Nr]],Medel_T[[#Totals],[15AM_T]]),\"\")","v":""},{"$f":"IFERROR(IF(LEN(Medel_T[[#This Row],[Nr]:[Nr]])>0,IFERROR(TEXT(ROUND(24*IFERROR(INDEX(Medel_T[],Medel_T[[#This Row],[Nr]:[Nr]],Medel_T[[#Totals],[D 15AM]]),INDEX(Sum_T[[#Data],[#Totals]],MATCH(Medel_T[[#This Row],[Nr]:[Nr]],Sum_T[[#Data],[#Totals],[Typ]:[Typ]],0),MATCH(Medel_T[[#Headers],[D 15AM]],Sum_T[#Headers],0))),1-(INT(LOG10(ABS(24*IFERROR(INDEX(Medel_T[],Medel_T[[#This Row],[Nr]:[Nr]],Medel_T[[#Totals],[D 15AM]]),INDEX(Sum_T[[#Data],[#Totals]],MATCH(Medel_T[[#This Row],[Nr]:[Nr]],Sum_T[[#Data],[#Totals],[Typ]:[Typ]],0),MATCH(Medel_T[[#Headers],[D 15AM]],Sum_T[#Headers],0)))))))),\"0\"&IF(1-(INT(LOG10(ABS(24*IFERROR(INDEX(Medel_T[],Medel_T[[#This Row],[Nr]:[Nr]],Medel_T[[#Totals],[D 15AM]]),INDEX(Sum_T[[#Data],[#Totals]],MATCH(Medel_T[[#This Row],[Nr]:[Nr]],Sum_T[[#Data],[#Totals],[Typ]:[Typ]],0),MATCH(Medel_T[[#Headers],[D 15AM]],Sum_T[#Headers],0)))))))>0,\",\"&REPT(\"0\",1-(INT(LOG10(ABS(24*IFERROR(INDEX(Medel_T[],Medel_T[[#This Row],[Nr]:[Nr]],Medel_T[[#Totals],[D 15AM]]),INDEX(Sum_T[[#Data],[#Totals]],MATCH(Medel_T[[#This Row],[Nr]:[Nr]],Sum_T[[#Data],[#Totals],[Typ]:[Typ]],0),MATCH(Medel_T[[#Headers],[D 15AM]],Sum_T[#Headers],0)))))))),0)),0),\"\"),\"\")","v":""},{"$f":"IFERROR(INDEX(Medel_T[],Medel_T[[#This Row],[Nr]],Medel_T[[#Totals],[20-10D_T]]),\"\")","v":""},{"$f":"IF(LEN(Medel_T[[#This Row],[Nr]:[Nr]])>0,IFERROR(TEXT(ROUND(24*IFERROR(INDEX(Medel_T[],Medel_T[[#This Row],[Nr]:[Nr]],Medel_T[[#Totals],[D 20-10D]]),INDEX(Sum_T[[#Data],[#Totals]],MATCH(Medel_T[[#This Row],[Nr]:[Nr]],Sum_T[[#Data],[#Totals],[Typ]:[Typ]],0),MATCH(Medel_T[[#Headers],[D 20-10D]],Sum_T[#Headers],0))),1-(INT(LOG10(ABS(24*IFERROR(INDEX(Medel_T[],Medel_T[[#This Row],[Nr]:[Nr]],Medel_T[[#Totals],[D 20-10D]]),INDEX(Sum_T[[#Data],[#Totals]],MATCH(Medel_T[[#This Row],[Nr]:[Nr]],Sum_T[[#Data],[#Totals],[Typ]:[Typ]],0),MATCH(Medel_T[[#Headers],[D 20-10D]],Sum_T[#Headers],0)))))))),\"0\"&IF(1-(INT(LOG10(ABS(24*IFERROR(INDEX(Medel_T[],Medel_T[[#This Row],[Nr]:[Nr]],Medel_T[[#Totals],[D 20-10D]]),INDEX(Sum_T[[#Data],[#Totals]],MATCH(Medel_T[[#This Row],[Nr]:[Nr]],Sum_T[[#Data],[#Totals],[Typ]:[Typ]],0),MATCH(Medel_T[[#Headers],[D 20-10D]],Sum_T[#Headers],0)))))))>0,\",\"&REPT(\"0\",1-(INT(LOG10(ABS(24*IFERROR(INDEX(Medel_T[],Medel_T[[#This Row],[Nr]:[Nr]],Medel_T[[#Totals],[D 20-10D]]),INDEX(Sum_T[[#Data],[#Totals]],MATCH(Medel_T[[#This Row],[Nr]:[Nr]],Sum_T[[#Data],[#Totals],[Typ]:[Typ]],0),MATCH(Medel_T[[#Headers],[D 20-10D]],Sum_T[#Headers],0)))))))),0)),0),\"\")","v":{"$error":"#N/A"}},null,{"$f":"IFERROR(INDEX(Hin_T[Nr],MATCH(SMALL(Hin_T[B-årX],ROW()-ROW(Hut_T[[#Headers],[Rad]])),Hin_T[B-årX],0)),IF(ROWS($EB$19:EB26)=1+COUNTIF(Hin_T[Start],\"*\"),Hin_T[[#Totals],[Dag]],IF(AND(ROWS($EB$19:EB26)=2+COUNTIF(Hin_T[Start],\"*\"),Hin_T[[#Totals],[Q%-]]>0),EB25+1,IF(AND(ROWS($EB$19:EB26)=3+COUNTIF(Hin_T[Start],\"*\"),Hin_T[[#Totals],[Q%-]]>1),EB25+1,IF(AND(ROWS($EB$19:EB26)=4+COUNTIF(Hin_T[Start],\"*\"),Hin_T[[#Totals],[Q%-]]>2),EB25+1,\"\")))))","v":""},{"$f":"IF(Hut_T[[#This Row],[Rad]]<Hin_T[[#Totals],[Dag]],ROWS($EB$19:EB26),IFERROR(INDEX(BD_TX[[#Data],[#Totals],[SJ]],MATCH(Hut_T[[#This Row],[Rad]],BD_TX[[#Data],[#Totals],[NrX]],0)),\"\"))","v":""},{"$f":"IF(ISNUMBER(Hut_T[[#This Row],[Datum-]]),TEXT(Hut_T[[#This Row],[Datum-]],\"ÅÅÅÅ MMM\")&\"-\"&TEXT(Hut_T[[#This Row],[Datum+]],\"ÅÅÅÅ MMM\"),\"\")","v":""},{"$f":"IF(ISNUMBER(Hut_T[[#This Row],[Nr]]),IF(INDEX(Hin_T[Yrke],Hut_T[[#This Row],[Rad]])>0,INDEX(Hin_T[Yrke],Hut_T[[#This Row],[Rad]]),\"\"),IFERROR(INDEX(BD_TX[[#Data],[#Totals],[Text]],MATCH(Hut_T[[#This Row],[Rad]],BD_TX[[#Data],[#Totals],[NrX]],0)),\"\"))","v":""},{"$f":"IF(ISNUMBER(Hut_T[[#This Row],[Nr]]),IF(INDEX(Hin_T[Arbetsmoment],Hut_T[[#This Row],[Rad]])>0,INDEX(Hin_T[Arbetsmoment],Hut_T[[#This Row],[Rad]]),\"\"),\"\")","v":""},{"$f":"IFERROR(IF(INDEX(Hin_T[Yrke],Hut_T[[#This Row],[Rad]])>0,INDEX(Hin_T[Företag],Hut_T[[#This Row],[Rad]]),\"\"),\"\")","v":""},{"$f":"IFERROR(IF(INDEX(Hin_T[Dag],Hut_T[[#This Row],[Rad]])>0,INDEX(Hin_T[Dag],Hut_T[[#This Row],[Rad]])*DÅ[Arbetsdag/år],\"\"),\"\")","v":""},{"$f":"IF(AND(ISNUMBER(_xlfn.SINGLE(Hut_T[[#This Row],[Rad]:[Rad]])),IFERROR(_xlfn.SINGLE(INDEX(Hin_T[[#Data],[#Totals]],_xlfn.SINGLE(Hut_T[[#This Row],[Rad]:[Rad]]),MATCH(Hut_T[[#Headers],[D HöA]],Hin_T[#Headers],0))),\"\")),IFERROR(ROUND(_xlfn.SINGLE(INDEX(Hin_T[[#Data],[#Totals]],_xlfn.SINGLE(Hut_T[[#This Row],[Rad]:[Rad]])-IF(_xlfn.SINGLE(Hut_T[[#This Row],[Nr]:[Nr]])=_xlfn.SINGLE(#REF!),COUNT(Besvär_T[[Sjukdomsdebut]:[Sjukdomsdebut]]),0),MATCH(_xlfn.SINGLE(IF(_xlfn.SINGLE(Hut_T[[#This Row],[Nr]:[Nr]])=_xlfn.SINGLE(#REF!),#REF!,\"\"))&Hut_T[[#Headers],[D HöA]],Hin_T[#Headers],0))),0),\"\"),\"\")","v":""},{"$f":"IF(AND(ISNUMBER(Hut_T[[#This Row],[Rad]:[Rad]]),ISNUMBER(Hut_T[[#This Row],[D HöA]]),ISNUMBER(Hut_T[[#This Row],[Nr]:[Nr]])),IFERROR(ROUND(INDEX(Hin_T[[#Data],[#Totals]],Hut_T[[#This Row],[Rad]:[Rad]],MATCH(Hut_T[[#Headers],[HöA-A]],Hin_T[#Headers],0)),1-(INT(LOG10(INDEX(Hin_T[[#Data],[#Totals]],Hut_T[[#This Row],[Rad]:[Rad]],MATCH(Hut_T[[#Headers],[HöA-A]],Hin_T[#Headers],0)))))),1),\"\")","v":""},{"$f":"IF(AND(ISNUMBER(Hut_T[[#This Row],[Rad]:[Rad]]),IFERROR(INDEX(Hin_T[[#Data],[#Totals]],Hut_T[[#This Row],[Rad]:[Rad]],MATCH(Hut_T[[#Headers],[D AöA]],Hin_T[#Headers],0)),\"\")),IFERROR(ROUND(INDEX(Hin_T[[#Data],[#Totals]],Hut_T[[#This Row],[Rad]:[Rad]]-IF(Hut_T[[#This Row],[Nr]:[Nr]]=BD_TX[[SJ]:[SJ]],COUNT(Besvär_T[[Sjukdomsdebut]:[Sjukdomsdebut]]),0),MATCH(IF(Hut_T[[#This Row],[Nr]:[Nr]]=BD_TX[[#Totals],[SJ]:[SJ]],BD_TX[[#Headers],[SJ]],\"\")&Hut_T[[#Headers],[D AöA]],Hin_T[#Headers],0)),0),\"\"),\"\")","v":""},{"$f":"IF(AND(ISNUMBER(Hut_T[[#This Row],[Rad]:[Rad]]),ISNUMBER(Hut_T[[#This Row],[D AöA]]),ISNUMBER(Hut_T[[#This Row],[Nr]:[Nr]])),IFERROR(ROUND(INDEX(Hin_T[[#Data],[#Totals]],Hut_T[[#This Row],[Rad]:[Rad]],MATCH(Hut_T[[#Headers],[AöA-A]],Hin_T[#Headers],0)),1-(INT(LOG10(INDEX(Hin_T[[#Data],[#Totals]],Hut_T[[#This Row],[Rad]:[Rad]],MATCH(Hut_T[[#Headers],[AöA-A]],Hin_T[#Headers],0)))))),1),\"\")","v":""},{"$f":"IF(AND(ISNUMBER(_xlfn.SINGLE(Hut_T[[#This Row],[Rad]:[Rad]])),IFERROR(_xlfn.SINGLE(INDEX(Hin_T[[#Data],[#Totals]],_xlfn.SINGLE(Hut_T[[#This Row],[Rad]:[Rad]]),MATCH(Hut_T[[#Headers],[D 4AM]],Hin_T[#Headers],0))),\"\")),IFERROR(ROUND(_xlfn.SINGLE(INDEX(Hin_T[[#Data],[#Totals]],_xlfn.SINGLE(Hut_T[[#This Row],[Rad]:[Rad]])-IF(_xlfn.SINGLE(Hut_T[[#This Row],[Nr]:[Nr]])=_xlfn.SINGLE(#REF!),COUNT(Besvär_T[[Sjukdomsdebut]:[Sjukdomsdebut]]),0),MATCH(_xlfn.SINGLE(IF(_xlfn.SINGLE(Hut_T[[#This Row],[Nr]:[Nr]])=_xlfn.SINGLE(#REF!),#REF!,\"\"))&Hut_T[[#Headers],[D 4AM]],Hin_T[#Headers],0))),0),\"\"),\"\")","v":""},{"$f":"IF(AND(ISNUMBER(Hut_T[[#This Row],[Rad]:[Rad]]),ISNUMBER(Hut_T[[#This Row],[D 4AM]]),ISNUMBER(Hut_T[[#This Row],[Nr]:[Nr]])),IFERROR(ROUND(INDEX(Hin_T[[#Data],[#Totals]],Hut_T[[#This Row],[Rad]:[Rad]],MATCH(Hut_T[[#Headers],[4AM-A]],Hin_T[#Headers],0)),1-(INT(LOG10(INDEX(Hin_T[[#Data],[#Totals]],Hut_T[[#This Row],[Rad]:[Rad]],MATCH(Hut_T[[#Headers],[4AM-A]],Hin_T[#Headers],0)))))),1),\"\")","v":""},{"$f":"IF(AND(ISNUMBER(Hut_T[[#This Row],[Rad]:[Rad]]),IFERROR(INDEX(Hin_T[[#Data],[#Totals]],Hut_T[[#This Row],[Rad]:[Rad]],MATCH(Hut_T[[#Headers],[D 15AM]],Hin_T[#Headers],0)),\"\")),IFERROR(ROUND(INDEX(Hin_T[[#Data],[#Totals]],Hut_T[[#This Row],[Rad]:[Rad]]-IF(Hut_T[[#This Row],[Nr]:[Nr]]=BD_TX[[SJ]:[SJ]],COUNT(Besvär_T[[Sjukdomsdebut]:[Sjukdomsdebut]]),0),MATCH(IF(Hut_T[[#This Row],[Nr]:[Nr]]=BD_TX[[#Totals],[SJ]:[SJ]],BD_TX[[#Headers],[SJ]],\"\")&Hut_T[[#Headers],[D 15AM]],Hin_T[#Headers],0)),0),\"\"),\"\")","v":""},{"$f":"IF(AND(ISNUMBER(Hut_T[[#This Row],[Rad]:[Rad]]),ISNUMBER(Hut_T[[#This Row],[D 15AM]]),ISNUMBER(Hut_T[[#This Row],[Nr]:[Nr]])),IFERROR(ROUND(INDEX(Hin_T[[#Data],[#Totals]],Hut_T[[#This Row],[Rad]:[Rad]],MATCH(Hut_T[[#Headers],[15AM-A]],Hin_T[#Headers],0)),1-(INT(LOG10(INDEX(Hin_T[[#Data],[#Totals]],Hut_T[[#This Row],[Rad]:[Rad]],MATCH(Hut_T[[#Headers],[15AM-A]],Hin_T[#Headers],0)))))),1),\"\")","v":""},{"$f":"IF(AND(ISNUMBER(Hut_T[[#This Row],[Rad]:[Rad]]),IFERROR(INDEX(Hin_T[[#Data],[#Totals]],Hut_T[[#This Row],[Rad]:[Rad]],MATCH(Hut_T[[#Headers],[D 20-10D]],Hin_T[#Headers],0)),\"\")),IFERROR(ROUND(INDEX(Hin_T[[#Data],[#Totals]],Hut_T[[#This Row],[Rad]:[Rad]]-IF(Hut_T[[#This Row],[Nr]:[Nr]]=BD_TX[[SJ]:[SJ]],COUNT(Besvär_T[[Sjukdomsdebut]:[Sjukdomsdebut]]),0),MATCH(IF(Hut_T[[#This Row],[Nr]:[Nr]]=BD_TX[[#Totals],[SJ]:[SJ]],BD_TX[[#Headers],[SJ]],\"\")&Hut_T[[#Headers],[D 20-10D]],Hin_T[#Headers],0)),0),\"\"),\"\")","v":""},{"$f":"IF(AND(ISNUMBER(Hut_T[[#This Row],[Rad]:[Rad]]),ISNUMBER(Hut_T[[#This Row],[D 20-10D]]),ISNUMBER(Hut_T[[#This Row],[Nr]:[Nr]])),IFERROR(ROUND(INDEX(Hin_T[[#Data],[#Totals]],Hut_T[[#This Row],[Rad]:[Rad]],MATCH(Hut_T[[#Headers],[20-10D-A]],Hin_T[#Headers],0)),1-(INT(LOG10(INDEX(Hin_T[[#Data],[#Totals]],Hut_T[[#This Row],[Rad]:[Rad]],MATCH(Hut_T[[#Headers],[20-10D-A]],Hin_T[#Headers],0)))))),1),\"\")","v":""},null,{"$f":"IFERROR(INDEX(Hin_T[[#Data],[#Totals],[B-år]],Hut_T[[#This Row],[Rad]]),IF(ISNUMBER(Hut_T[[#This Row],[Datum+]]),ET25,\"\"))","v":""},{"$f":"IFERROR(INDEX(Hin_T[S-år],Hut_T[[#This Row],[Rad]]),IFERROR(INDEX(BD_TX[[#Data],[#Totals],[År]],MATCH(Hut_T[[#This Row],[Rad]],BD_TX[[#Data],[#Totals],[NrX]],0)),\"\"))","v":""},null,{"$f":"ROWS($EW$20:EW26)","v":7},{"$f":"IFERROR(MATCH(Hist_Tab[[#This Row],[Ref]],Medel_T[NrX],0),1)","v":1},{"$f":"INT((ROW(Hist_Tab[[#This Row],[Ref]])-ROW(Hist_Tab[[#Headers],[Ref]])-1)/4)+1","v":2},{"$f":"COUNTIF($EY$19:EY26,Hist_Tab[[#This Row],[Ref]])","v":4},{"$f":"IFERROR(INDEX(Medel_T[Start],Hist_Tab[[#This Row],[Ref]]),_xlfn.AGGREGATE(4,6,Medel_T[Start]))","v":"00:00:00"},{"$f":"IFERROR(INDEX(Medel_T[Slut],Hist_Tab[[#This Row],[Ref]]),_xlfn.AGGREGATE(4,6,Medel_T[Slut]))","v":"00:00:00"},{"$f":"IF(EW25=0,Hist_Tab[[#This Row],[ÅrB]],IF(Hist_Tab[[#This Row],[per/p]]<2,Hist_Tab[[#This Row],[ÅrB]],Hist_Tab[[#This Row],[År S]]))","v":"00:00:00"},{"$f":"IF(Hist_Tab[[#This Row],[Rad]:[Rad]]=0,-1,IF($EY27>_xlfn.AGGREGATE(2,6,Medel_T[[Slut]:[Slut]]),0,INDEX(Medel_T[],Hist_Tab[[#This Row],[Ref]:[Ref]],MATCH(Hist_Tab[[#Headers],[HöA T]],Medel_T[#Headers],0))))","v":0},{"$f":"IF(Hist_Tab[[#This Row],[Rad]:[Rad]]=0,0,IF($EY27>_xlfn.AGGREGATE(2,6,Medel_T[[Slut]:[Slut]]),0,INDEX(Medel_T[],Hist_Tab[[#This Row],[Ref]:[Ref]],MATCH(Hist_Tab[[#Headers],[AöA T]],Medel_T[#Headers],0))))","v":0},{"$f":"IF(Hist_Tab[[#This Row],[Rad]:[Rad]]=0,0,IF($EY27>_xlfn.AGGREGATE(2,6,Medel_T[[Slut]:[Slut]]),0,INDEX(Medel_T[],Hist_Tab[[#This Row],[Ref]:[Ref]],MATCH(Hist_Tab[[#Headers],[4AM T]],Medel_T[#Headers],0))))","v":0},{"$f":"IF(Hist_Tab[[#This Row],[Rad]:[Rad]]=0,0,IF($EY27>_xlfn.AGGREGATE(2,6,Medel_T[[Slut]:[Slut]]),0,INDEX(Medel_T[],Hist_Tab[[#This Row],[Ref]:[Ref]],MATCH(Hist_Tab[[#Headers],[15AM T]],Medel_T[#Headers],0))))","v":0},{"$f":"IF(Hist_Tab[[#This Row],[Rad]:[Rad]]=0,0,IF($EY27>_xlfn.AGGREGATE(2,6,Medel_T[[Slut]:[Slut]]),0,INDEX(Medel_T[],Hist_Tab[[#This Row],[Ref]:[Ref]],MATCH(Hist_Tab[[#Headers],[20-10D T]],Medel_T[#Headers],0))))","v":0}]
[null,null,null,null,null,null,null,null,null,null,null,null,null,null,null,null,null,null,{"$f":"IF(LEN(Hin_T[[#This Row],[Start]])>0,ROWS($S$19:S27),\"\")","v":""},null,{"$f":"Hin_T[[#This Row],[Yrke]]&IF(ISBLANK(Hin_T[[#This Row],[Arbetsmoment]]),\"\",\"; \"&Hin_T[[#This Row],[Arbetsmoment]])","v":""},{"$f":"IFERROR(IF(LEN(Hin_T[[#This Row],[Start]])-LEN(SUBSTITUTE(Hin_T[[#This Row],[Start]],\"-\",\"\"))=2,DATEVALUE(Hin_T[[#This Row],[Start]]),IF(LEN(Hin_T[[#This Row],[Start]])<5,DATEVALUE(Hin_T[[#This Row],[Start]]&\"-01-01\"),DATEVALUE(LEFT(Hin_T[[#This Row],[Start]],IF(LEN(Hin_T[[#This Row],[Start]])>6,4,2))&\"-\"&MID(Hin_T[[#This Row],[Start]],IF(LEN(Hin_T[[#This Row],[Start]])>6,5,3),2)&\"-\"&RIGHT(Hin_T[[#This Row],[Start]],2)))),\"\")","v":""},{"$f":"IFERROR(IF(LEN(Hin_T[[#This Row],[Slut]])-LEN(SUBSTITUTE(Hin_T[[#This Row],[Slut]],\"-\",\"\"))=2,DATEVALUE(Hin_T[[#This Row],[Slut]]),IF(LEN(Hin_T[[#This Row],[Slut]])<5,DATEVALUE(Hin_T[[#This Row],[Slut]]&\"-12-31\"),DATEVALUE(LEFT(Hin_T[[#This Row],[Slut]],IF(LEN(Hin_T[[#This Row],[Slut]])>6,4,2))&\"-\"&MID(Hin_T[[#This Row],[Slut]],IF(LEN(Hin_T[[#This Row],[Slut]])>6,5,3),2)&\"-\"&RIGHT(Hin_T[[#This Row],[Slut]],2)))),\"\")","v":""},{"$f":"IF(COUNTIF(V$19:V27,Hin_T[[#This Row],[B-år]])=1,Hin_T[[#This Row],[B-år]],\"\")","v":""},{"$f":"IF(COUNTIF(W$19:W27,Hin_T[[#This Row],[S-år]])=1,Hin_T[[#This Row],[S-år]],\"\")","v":""},{"$f":"IFERROR(Hin_T[[#This Row],[B-år]]+IF(COUNTIF($V$19:V27,Hin_T[[#This Row],[B-år]])>1,COUNTIF($V$19:V27,Hin_T[[#This Row],[B-år]])/10,0),\"\")","v":""},{"$f":"IF(ISNUMBER(Hin_T[[#This Row],[Dagar]]),Hin_T[[#This Row],[Dagar]]/DÅ[Arbetsdag/år],1)","v":1},{"$f":"Hin_T[[#This Row],[Dag]]*DÅ[Arbetsdag/år]","v":220},{"$f":"IF(LEN(Hin_T[[#This Row],[Yrke]])=4,1,0)","v":0},{"$f":"_xlfn.DAYS(Hin_T[[#This Row],[B-år]],DATE(YEAR(Hin_T[[#This Row],[B-år]]),1,1))/(DATE(YEAR(Hin_T[[#This Row],[B-år]])+1,1,1)-DATE(YEAR(Hin_T[[#This Row],[B-år]]),1,1))","v":{"$error":"#VALUE!"}},{"$f":"_xlfn.DAYS(DATE(YEAR(Hin_T[[#This Row],[S-år]]),12,31),Hin_T[[#This Row],[S-år]])/(DATE(YEAR(Hin_T[[#This Row],[S-år]])+1,1,1)-DATE(YEAR(Hin_T[[#This Row],[S-år]]),1,1))","v":{"$error":"#VALUE!"}},{"$f":"YEARFRAC(Hin_T[[#This Row],[S-år]],Hin_T[[#This Row],[B-år]])*Hin_T[[#This Row],[Dag]]","v":{"$error":"#VALUE!"}},{"$f":"IFERROR(Hin_T[[#This Row],[År diff]]*IF(ISNUMBER(Hin_T[[#This Row],[HöA]]),1,0),0)","v":0},{"$f":"IFERROR(Hin_T[[#This Row],[År diff]]*IF(ISNUMBER(Hin_T[[#This Row],[AöA]]),1,0),0)","v":0},{"$f":"IF(Hin_T[[#This Row],[B-år]]<=Besvär_T[[#Totals],[Sjukdomsdebut]],Hin_T[[#This Row],[B-år]],\"\")","v":""},{"$f":"IF(Hin_T[[#This Row],[S-år]]<=Besvär_T[[#Totals],[Sjukdomsdebut]],Hin_T[[#This Row],[S-år]],\"\")","v":""},{"$f":"IFERROR(YEARFRAC(IF(AND(ISNUMBER(Hin_T[[#This Row],[B-år EA]]),LEN(Hin_T[[#This Row],[S-år EA]])=0),Hin_T[[#Totals],[15AM-A]],Hin_T[[#This Row],[S-år EA]]),Hin_T[[#This Row],[B-år EA]])*Hin_T[[#This Row],[Dag]]*IF(ISNUMBER(Hin_T[[#This Row],[HöA]]),1,0),0)","v":0},{"$f":"IFERROR(YEARFRAC(IF(AND(ISNUMBER(Hin_T[[#This Row],[B-år EA]]),LEN(Hin_T[[#This Row],[S-år EA]])=0),Hin_T[[#Totals],[15AM-A]],Hin_T[[#This Row],[S-år EA]]),Hin_T[[#This Row],[B-år EA]])*Hin_T[[#This Row],[Dag]]*IF(ISNUMBER(Hin_T[[#This Row],[AöA]]),1,0),0)","v":0},{"$f":"IFERROR(Hin_T[[#This Row],[År diff]]*IF(ISNUMBER(Hin_T[[#This Row],[4AM]]),1,0),0)","v":0},{"$f":"IFERROR(Hin_T[[#This Row],[År diff]]*IF(ISNUMBER(Hin_T[[#This Row],[15AM]]),1,0),0)","v":0},{"$f":"IF(Hin_T[[#This Row],[B-år]]<=Besvär_T[[#Totals],[Sjukdomsdebut]],Hin_T[[#This Row],[B-år]],\"\")","v":""},{"$f":"IF(Hin_T[[#This Row],[S-år]]<=Besvär_T[[#Totals],[Sjukdomsdebut]],Hin_T[[#This Row],[S-år]],\"\")","v":""},{"$f":"IFERROR(YEARFRAC(IF(AND(ISNUMBER(Hin_T[[#This Row],[B-år RA]]),LEN(Hin_T[[#This Row],[S-år RA]])=0),Hin_T[[#Totals],[15AM-A]],Hin_T[[#This Row],[S-år RA]]),Hin_T[[#This Row],[B-år RA]])*Hin_T[[#This Row],[Dag]]*IF(ISNUMBER(Hin_T[[#This Row],[4AM]]),1,0),0)","v":0},{"$f":"IFERROR(YEARFRAC(IF(AND(ISNUMBER(Hin_T[[#This Row],[B-år RA]]),LEN(Hin_T[[#This Row],[S-år RA]])=0),Hin_T[[#Totals],[15AM-A]],Hin_T[[#This Row],[S-år RA]]),Hin_T[[#This Row],[B-år RA]])*Hin_T[[#This Row],[Dag]]*IF(ISNUMBER(Hin_T[[#This Row],[15AM]]),1,0),0)","v":0},{"$f":"IFERROR(Hin_T[[#This Row],[År diff]]*IF(ISNUMBER(Hin_T[[#This Row],[20-10D]]),1,0),0)","v":0},{"$f":"IF(Hin_T[[#This Row],[B-år]]<=Besvär_T[[#Totals],[Sjukdomsdebut]],Hin_T[[#This Row],[B-år]],\"\")","v":""},{"$f":"IF(Hin_T[[#This Row],[S-år]]<=Besvär_T[[#Totals],[Sjukdomsdebut]],Hin_T[[#This Row],[S-år]],\"\")","v":""},{"$f":"IFERROR(YEARFRAC(IF(AND(ISNUMBER(Hin_T[[#This Row],[B-år TMH]]),LEN(Hin_T[[#This Row],[S-år TMH]])=0),Hin_T[[#Totals],[15AM-A]],Hin_T[[#This Row],[S-år TMH]]),Hin_T[[#This Row],[B-år TMH]])*Hin_T[[#This Row],[Dag]]*IF(ISNUMBER(Hin_T[[#This Row],[20-10D]]),1,0),0)","v":0},{"$f":"IF(Hin_T[[#This Row],[Vib]]=JN_T[JN],1,0)","v":0},{"$f":"IFERROR(Hin_T[[#This Row],[År diff]]*IF(Hin_T[[#This Row],[Vib2]]>0,1,0),0)","v":0},{"$f":"IF(Hin_T[[#This Row],[B-år]]<=Besvär_T[[#Totals],[Sjukdomsdebut]],Hin_T[[#This Row],[B-år]],\"\")","v":""},{"$f":"IF(Hin_T[[#This Row],[S-år]]<=Besvär_T[[#Totals],[Sjukdomsdebut]],Hin_T[[#This Row],[S-år]],\"\")","v":""},{"$f":"IFERROR(YEARFRAC(IF(AND(ISNUMBER(Hin_T[[#This Row],[B-år VIB]]),LEN(Hin_T[[#This Row],[S-år Vib]])=0),Hin_T[[#Totals],[15AM-A]],Hin_T[[#This Row],[S-år Vib]]),Hin_T[[#This Row],[B-år VIB]])*IF(Hin_T[[#This Row],[Vib2]]>0,1,0),0)","v":0},{"$f":"Hin_T[[#This Row],[HöA]]*Hin_T[[#This Row],[tot år HöA]]*DÅ[Arbetsdag/år]","v":0},{"$f":"Hin_T[[#This Row],[tot år AöA]]*Hin_T[[#This Row],[AöA]]*DÅ[Arbetsdag/år]","v":0},{"$f":"Hin_T[[#This Row],[tot år 4AM]]*Hin_T[[#This Row],[4AM]]*DÅ[Arbetsdag/år]","v":0},{"$f":"Hin_T[[#This Row],[tot år 15AM]]*Hin_T[[#This Row],[15AM]]*DÅ[Arbetsdag/år]","v":0},{"$f":"Hin_T[[#This Row],[tot år 20-10D]]*Hin_T[[#This Row],[20-10D]]*DÅ[Arbetsdag/år]","v":0},{"$f":"Hin_T[[#This Row],[BD år HöA]]*Hin_T[[#This Row],[HöA]]*DÅ[Arbetsdag/år]","v":0},{"$f":"Hin_T[[#This Row],[BD år AöA]]*Hin_T[[#This Row],[AöA]]*DÅ[Arbetsdag/år]","v":0},{"$f":"Hin_T[[#This Row],[BD år 4AM]]*Hin_T[[#This Row],[4AM]]*DÅ[Arbetsdag/år]","v":0},{"$f":"Hin_T[[#This Row],[BD år 15AM]]*Hin_T[[#This Row],[15AM]]*DÅ[Arbetsdag/år]","v":0},{"$f":"Hin_T[[#This Row],[BD år 20-10D]]*Hin_T[[#This Row],[20-10D]]*DÅ[Arbetsdag/år]","v":0},{"$f":"Hin_T[[#This Row],[Arbetsmoment]]&Hin_T[[#This Row],[Text AöA]]&Hin_T[[#This Row],[Text 15AM]]&IF(Hin_T[[#This Row],[Dagarna]]=DÅ[Arbetsdag/år],\"\",\". \"&Hin_T[[#This Row],[Dagarna]]&\" dagar/år\")&\". \"","v":". "},{"$f":"IF(ISBLANK(Hin_T[[#This Row],[AöA]]),\"\",Exp_T[Överarmslyft> 90°: ]&IF(VALUE(TEXT(Hin_T[[#This Row],[AöA]],\"t\"))>0,VALUE(TEXT(Hin_T[[#This Row],[AöA]],\"t\"))&\" h\",\"\")&IF(AND(VALUE(TEXT(Hin_T[[#This Row],[AöA]],\"t\"))>0,VALUE(TEXT(Hin_T[[#This Row],[AöA]],\"m\"))>2.4),\" \",\"\")&IF(VALUE(TEXT(Hin_T[[#This Row],[AöA]],\"m\"))>2.4,TEXT(ROUND(Hin_T[[#This Row],[AöA]]*(24*60/5),0)/(24*60/5),\"m\")&\" min\",\"\")&\"/dag\")","v":""},{"$f":"IF(ISBLANK(Hin_T[[#This Row],[15AM]]),\"\",Exp_T[Överarmsrörelser> 15/min: ]&IF(VALUE(TEXT(Hin_T[[#This Row],[15AM]],\"t\"))>0,VALUE(TEXT(Hin_T[[#This Row],[15AM]],\"t\"))&\" h\",\"\")&IF(AND(VALUE(TEXT(Hin_T[[#This Row],[15AM]],\"t\"))>0,VALUE(TEXT(Hin_T[[#This Row],[15AM]],\"m\"))>2.4),\" \",\"\")&IF(VALUE(TEXT(Hin_T[[#This Row],[15AM]],\"m\"))>2.4,TEXT(ROUND(Hin_T[[#This Row],[15AM]]*(24*60/5),0)/(24*60/5),\"m\")&\" min\",\"\")&\"/dag\")","v":""},null,null,null,null,{"$f":"SMALL(Hin_T[[StartÅR]:[SlutÅr]],ROW()-ROW(Medel_T[[#Headers],[Start]]))","v":{"$error":"#NUM!"}},{"$f":"SMALL(Hin_T[[StartÅR]:[SlutÅr]],ROW()-ROW(Medel_T[[#Headers],[Slut]])+1)","v":{"$error":"#NUM!"}},{"$f":"IF(Medel_T[[#This Row],[Start]]<=Besvär_T[[#Totals],[Sjukdomsdebut]],Medel_T[[#This Row],[Start]],\"\")","v":{"$error":"#NUM!"}},{"$f":"IF(Medel_T[[#This Row],[Slut]]<=Besvär_T[[#Totals],[Sjukdomsdebut]],Medel_T[[#This Row],[Slut]],IF(AND(LEN(Medel_T[[#This Row],[SJDstart]])>0,LEN(BU28)=0),Besvär_T[[#Totals],[Sjukdomsdebut]],\"\"))","v":{"$error":"#NUM!"}},{"$f":"IF(Medel_T[[#This Row],[Start]]>=Besvär_T[[#Totals],[Sjukdomsdebut]],Medel_T[[#This Row],[Start]],IF(AND(LEN(Medel_T[[#This Row],[EfterSlut]])>0,LEN(BX26)=0),Besvär_T[[#Totals],[Sjukdomsdebut]],\"\"))","v":{"$error":"#NUM!"}},{"$f":"IF(Medel_T[[#This Row],[Slut]]>=Besvär_T[[#Totals],[Sjukdomsdebut]],Medel_T[[#This Row],[Slut]],\"\")","v":{"$error":"#NUM!"}},{"$f":"COUNTIF($BZ$19:BZ27,\">0\")","v":0},{"$f":"COUNTIFS(Hin_T[B-år],\"<=\"&Medel_T[[#This Row],[Start]],Hin_T[S-år],\">=\"&Medel_T[[#This Row],[Slut]])","v":0},{"$f":"SUBSTITUTE(_xlfn.TEXTJOIN(Sep_T[Separator],TRUE,_xlfn._xlws.SORT(_xlfn.UNIQUE(IF((Hin_T[[B-år]:[B-år]]<=Medel_T[[#This Row],[Start]:[Start]])*(Hin_T[[S-år]:[S-år]]>=Medel_T[[#This Row],[Slut]:[Slut]]),Hin_T[Yrke],\"\")))),0&Sep_T[Separator],\"\")","v":{"$error":"#NUM!"}},{"$f":"SUBSTITUTE(_xlfn.TEXTJOIN(Sep_T[Separator],TRUE,_xlfn._xlws.SORT(_xlfn.UNIQUE(IF((Hin_T[[B-år]:[B-år]]<=Medel_T[[#This Row],[Start]:[Start]])*(Hin_T[[S-år]:[S-år]]>=Medel_T[[#This Row],[Slut]:[Slut]]),Hin_T[Arbetsmoment],\"\")))),0&Sep_T[Separator],\"\")","v":{"$error":"#NUM!"}},{"$f":"IF(LEN(Medel_T[[#This Row],[Yrke]])>0,Medel_T[[#Headers],[Period ]]&Medel_T[[#This Row],[NrX]]&\": \"&TEXT(Medel_T[[#This Row],[Start]],\"ÅÅÅÅ\")&List_T[[#Totals],[List symb]]&TEXT(Medel_T[[#This Row],[Slut]],\"ÅÅÅÅ\")&\" (\"&ROUND(Medel_T[[#This Row],[År]],1)&\" år) Anställd som \"&IFERROR(SUBSTITUTE(SUBSTITUTE(Medel_T[[#This Row],[Yrke]],Sep_T[Separator],\" och \",Medel_T[[#This Row],[Ant]]-1),Sep_T[Separator],\", \"),Medel_T[[#This Row],[Yrke]])&↓[↓],\"\")","v":{"$error":"#NUM!"}},{"$f":"IF(LEN(Medel_T[[#This Row],[Arbetsmoment]])>0,ROMAN(1)&\") \"&_xlfn.TEXTJOIN(Delim[Delimiters],TRUE,_xlfn._xlws.SORT(_xlfn.UNIQUE(IF((Hin_T[[B-år]:[B-år]]<=Medel_T[[#This Row],[Start]:[Start]])*(Hin_T[[S-år]:[S-år]]>=Medel_T[[#This Row],[Slut]:[Slut]]),Hin_T[Text],\"\"))))&↓[↓],\"\")","v":{"$error":"#NUM!"}},{"$f":"SUMPRODUCT((Hin_T[[B-år]:[B-år]]<=Medel_T[[#This Row],[Start]:[Start]])*(Hin_T[[S-år]:[S-år]]>=Medel_T[[#This Row],[Slut]:[Slut]])*Hin_T[Dag])","v":{"$error":"#NUM!"}},{"$f":"IF(Medel_T[[#This Row],[Proc dag]]<=1,Medel_T[[#This Row],[Proc dag]],1)","v":{"$error":"#NUM!"}},{"$f":"YEARFRAC(Medel_T[[#This Row],[Slut]],Medel_T[[#This Row],[Start]])","v":{"$error":"#NUM!"}},{"$f":"YEARFRAC(Medel_T[[#This Row],[SJDslut]],Medel_T[[#This Row],[SJDstart]])","v":{"$error":"#NUM!"}},{"$f":"IFERROR(SUMPRODUCT((Hin_T[[B-år]:[B-år]]<=Medel_T[[#This Row],[Start]:[Start]])*(Hin_T[[S-år]:[S-år]]>=Medel_T[[#This Row],[Slut]:[Slut]])*Hin_T[HöA]*Hin_T[[Dag]:[Dag]])/Medel_T[[#This Row],[Proc dag]],-1)","v":-1},{"$f":"IFERROR(SUMPRODUCT((Hin_T[[B-år]:[B-år]]<=Medel_T[[#This Row],[Start]:[Start]])*(Hin_T[[S-år]:[S-år]]>=Medel_T[[#This Row],[Slut]:[Slut]])*Hin_T[AöA]*Hin_T[[Dag]:[Dag]])/Medel_T[[#This Row],[Proc dag]],-1)","v":-1},{"$f":"IFERROR(SUMPRODUCT((Hin_T[[B-år]:[B-år]]<=Medel_T[[#This Row],[Start]:[Start]])*(Hin_T[[S-år]:[S-år]]>=Medel_T[[#This Row],[Slut]:[Slut]])*Hin_T[4AM]*Hin_T[[Dag]:[Dag]])/Medel_T[[#This Row],[Proc dag]],-1)","v":-1},{"$f":"IFERROR(SUMPRODUCT((Hin_T[[B-år]:[B-år]]<=Medel_T[[#This Row],[Start]:[Start]])*(Hin_T[[S-år]:[S-år]]>=Medel_T[[#This Row],[Slut]:[Slut]])*Hin_T[15AM]*Hin_T[[Dag]:[Dag]])/Medel_T[[#This Row],[Proc dag]],-1)","v":-1},{"$f":"IFERROR(SUMPRODUCT((Hin_T[[B-år]:[B-år]]<=Medel_T[[#This Row],[Start]:[Start]])*(Hin_T[[S-år]:[S-år]]>=Medel_T[[#This Row],[Slut]:[Slut]])*Hin_T[20-10D]*Hin_T[[Dag]:[Dag]])/Medel_T[[#This Row],[Proc dag]],-1)","v":-1},{"$f":"IFERROR(SUMPRODUCT((Hin_T[[B-år]:[B-år]]<=Medel_T[[#This Row],[Start]:[Start]])*(Hin_T[[S-år]:[S-år]]>=Medel_T[[#This Row],[Slut]:[Slut]])*Hin_T[[Dag]:[Dag]]*Hin_T[HöA])/Medel_T[[#This Row],[Dag sum]],-1)","v":-1},{"$f":"IFERROR(SUMPRODUCT((Hin_T[[B-år]:[B-år]]<=Medel_T[[#This Row],[Start]:[Start]])*(Hin_T[[S-år]:[S-år]]>=Medel_T[[#This Row],[Slut]:[Slut]])*Hin_T[[Dag]:[Dag]]*Hin_T[AöA])/Medel_T[[#This Row],[Dag sum]],-1)","v":-1},{"$f":"IFERROR(SUMPRODUCT((Hin_T[[B-år]:[B-år]]<=Medel_T[[#This Row],[Start]:[Start]])*(Hin_T[[S-år]:[S-år]]>=Medel_T[[#This Row],[Slut]:[Slut]])*Hin_T[[Dag]:[Dag]]*Hin_T[4AM])/Medel_T[[#This Row],[Dag sum]],-1)","v":-1},{"$f":"IFERROR(SUMPRODUCT((Hin_T[[B-år]:[B-år]]<=Medel_T[[#This Row],[Start]:[Start]])*(Hin_T[[S-år]:[S-år]]>=Medel_T[[#This Row],[Slut]:[Slut]])*Hin_T[15AM]*Hin_T[[Dag]:[Dag]])/Medel_T[[#This Row],[Dag sum]],-1)","v":-1},{"$f":"IFERROR(SUMPRODUCT((Hin_T[[B-år]:[B-år]]<=Medel_T[[#This Row],[Start]:[Start]])*(Hin_T[[S-år]:[S-år]]>=Medel_T[[#This Row],[Slut]:[Slut]])*Hin_T[[Dag]:[Dag]]*Hin_T[20-10D])/Medel_T[[#This Row],[Dag sum]],-1)","v":-1},{"$f":"IFERROR(Medel_T[[#This Row],[Dag sum]:[Dag sum]]*Medel_T[[#This Row],[År]:[År]]*Medel_T[[#This Row],[HöA T]]*DÅ[Arbetsdag/år],0)","v":0},{"$f":"IFERROR(Medel_T[[#This Row],[Dag sum]:[Dag sum]]*Medel_T[[#This Row],[År]:[År]]*Medel_T[[#This Row],[AöA T]]*DÅ[Arbetsdag/år],0)","v":0},{"$f":"IFERROR(Medel_T[[#This Row],[Dag sum]:[Dag sum]]*Medel_T[[#This Row],[År]:[År]]*Medel_T[[#This Row],[4AM T]]*DÅ[Arbetsdag/år],0)","v":0},{"$f":"IFERROR(Medel_T[[#This Row],[Dag sum]:[Dag sum]]*Medel_T[[#This Row],[År]:[År]]*Medel_T[[#This Row],[15AM T]]*DÅ[Arbetsdag/år],0)","v":0},{"$f":"IFERROR(Medel_T[[#This Row],[Dag sum]:[Dag sum]]*Medel_T[[#This Row],[År]:[År]]*Medel_T[[#This Row],[20-10D T]]*DÅ[Arbetsdag/år],0)","v":0},{"$f":"IFERROR(Medel_T[[#This Row],[Dag sum]:[Dag sum]]*Medel_T[[#This Row],[ÅrSjuk]:[ÅrSjuk]]*Medel_T[[#This Row],[HöA T]]*DÅ[Arbetsdag/år],0)","v":0},{"$f":"IFERROR(Medel_T[[#This Row],[Dag sum]:[Dag sum]]*Medel_T[[#This Row],[ÅrSjuk]:[ÅrSjuk]]*Medel_T[[#This Row],[AöA T]]*DÅ[Arbetsdag/år],0)","v":0},{"$f":"IFERROR(Medel_T[[#This Row],[Dag sum]:[Dag sum]]*Medel_T[[#This Row],[ÅrSjuk]:[ÅrSjuk]]*Medel_T[[#This Row],[4AM T]]*DÅ[Arbetsdag/år],0)","v":0},{"$f":"IFERROR(Medel_T[[#This Row],[Dag sum]:[Dag sum]]*Medel_T[[#This Row],[ÅrSjuk]:[ÅrSjuk]]*Medel_T[[#This Row],[15AM T]]*DÅ[Arbetsdag/år],0)","v":0},{"$f":"IFERROR(Medel_T[[#This Row],[Dag sum]:[Dag sum]]*Medel_T[[#This Row],[ÅrSjuk]:[ÅrSjuk]]*Medel_T[[#This Row],[20-10D T]]*DÅ[Arbetsdag/år],0)","v":0},{"$f":"IFERROR(IF(Medel_T[[#This Row],[AöA T]]=0,\"\",List_T[List symb]&Exp_T[[#Headers],[Överarmslyft> 90°: ]]&IF(VALUE(TEXT(Medel_T[[#This Row],[AöA T]],\"t\"))>0,VALUE(TEXT(Medel_T[[#This Row],[AöA T]],\"t\"))&\" h\",\"\")&IF(AND(VALUE(TEXT(Medel_T[[#This Row],[AöA T]],\"t\"))>0,VALUE(TEXT(Medel_T[[#This Row],[AöA T]],\"m\"))>2.4),\" \",\"\")&IF(VALUE(TEXT(Medel_T[[#This Row],[AöA T]],\"m\"))>2.4,TEXT(ROUND(Medel_T[[#This Row],[AöA T]]*(24*60/5),0)/(24*60/5),\"m\")&\" min\",\"\")&\"/dag x \"&ROUND(Medel_T[[#This Row],[Dag sum]:[Dag sum]]*DÅ[Arbetsdag/år],0)&\" dagar x \"&ROUND(Medel_T[[#This Row],[År]:[År]],1)&\" år = \"&TEXT(ROUND(Medel_T[[#This Row],[D AöA§]]*24,1-(INT(LOG10(ABS(Medel_T[[#This Row],[D AöA§]]*24))))),\"0\"&IF(1-(INT(LOG10(ABS(Medel_T[[#This Row],[D AöA§]]*24))))>0,\",\"&REPT(\"0\",1-(INT(LOG10(ABS(Medel_T[[#This Row],[D AöA§]]*24))))),\"\"))& \" h\"),\"\")","v":""},{"$f":"IFERROR(IF(Medel_T[[#This Row],[15AM T]]=0,\"\",List_T[List symb]&Exp_T[[#Headers],[Överarmsrörelser> 15/min: ]]&IF(VALUE(TEXT(Medel_T[[#This Row],[15AM T]],\"t\"))>0,VALUE(TEXT(Medel_T[[#This Row],[15AM T]],\"t\"))&\" h\",\"\")&IF(AND(VALUE(TEXT(Medel_T[[#This Row],[15AM T]],\"t\"))>0,VALUE(TEXT(Medel_T[[#This Row],[15AM T]],\"m\"))>2.4),\" \",\"\")&IF(VALUE(TEXT(Medel_T[[#This Row],[15AM T]],\"m\"))>2.4,TEXT(ROUND(Medel_T[[#This Row],[15AM T]]*(24*60/5),0)/(24*60/5),\"m\")&\" min\",\"\")&\"/dag x \"&ROUND(Medel_T[[#This Row],[Dag sum]:[Dag sum]]*DÅ[Arbetsdag/år],0)&\" dagar x \"&ROUND(Medel_T[[#This Row],[År]:[År]],1)&\" år = \"&TEXT(ROUND(Medel_T[[#This Row],[D 15AM§]]*24,1-(INT(LOG10(ABS(Medel_T[[#This Row],[D 15AM§]]*24))))),\"0\"&IF(1-(INT(LOG10(ABS(Medel_T[[#This Row],[D 15AM§]]*24))))>0,\",\"&REPT(\"0\",1-(INT(LOG10(ABS(Medel_T[[#This Row],[D 15AM§]]*24))))),\"\"))& \" h\"),\"\")","v":""},{"$f":"IFERROR(IF(OR(LEN(Medel_T[[#This Row],[AöA text]])>0,LEN(Medel_T[[#This Row],[15AM Text]])>0),Exp_T[Anställning]&YEAR(Medel_T[[#This Row],[Start]])&List_T[[#Totals],[List symb]]&YEAR(Medel_T[[#This Row],[Slut]])&\" (\"&ROUND(Medel_T[[#This Row],[År]],1)&\" år)\"&IF(LEN(Medel_T[[#This Row],[AöA text]])>0,↓[↓],\"\")&Medel_T[[#This Row],[AöA text]]&IF(LEN(Medel_T[[#This Row],[15AM Text]])>0,↓[↓],\"\")&Medel_T[[#This Row],[15AM Text]],\"\"),\"\")","v":""},{"$f":"IFERROR(IF(Medel_T[[#This Row],[AöA T]]=0,\"\",List_T[List symb]&Exp_T[[#Headers],[Överarmsrörelser> 15/min: ]]&IF(VALUE(TEXT(Medel_T[[#This Row],[AöA T]],\"t\"))>0,VALUE(TEXT(Medel_T[[#This Row],[AöA T]],\"t\"))&\" h\",\"\")&IF(AND(VALUE(TEXT(Medel_T[[#This Row],[AöA T]],\"t\"))>0,VALUE(TEXT(Medel_T[[#This Row],[AöA T]],\"m\"))>2.4),\" \",\"\")&IF(VALUE(TEXT(Medel_T[[#This Row],[AöA T]],\"m\"))>2.4,TEXT(ROUND(Medel_T[[#This Row],[AöA T]]*(24*60/5),0)/(24*60/5),\"m\")&\" min\",\"\")&\"/dag x \"&ROUND(Medel_T[[#This Row],[Dag sum]:[Dag sum]]*DÅ[Arbetsdag/år],0)&\" dagar x \"&ROUND(Medel_T[[#This Row],[År]:[År]],1)&\" år = \"&TEXT(ROUND(Medel_T[[#This Row],[D AöA¤]]*24,1-(INT(LOG10(ABS(Medel_T[[#This Row],[D AöA¤]]*24))))),\"0\"&IF(1-(INT(LOG10(ABS(Medel_T[[#This Row],[D AöA¤]]*24))))>0,\",\"&REPT(\"0\",1-(INT(LOG10(ABS(Medel_T[[#This Row],[D AöA¤]]*24))))),\"\"))& \" h\"),\"\")","v":""},{"$f":"IFERROR(IF(Medel_T[[#This Row],[15AM T]]=0,\"\",List_T[List symb]&Exp_T[[#Headers],[Överarmslyft> 90°: ]]&IF(VALUE(TEXT(Medel_T[[#This Row],[15AM T]],\"t\"))>0,VALUE(TEXT(Medel_T[[#This Row],[15AM T]],\"t\"))&\" h\",\"\")&IF(AND(VALUE(TEXT(Medel_T[[#This Row],[15AM T]],\"t\"))>0,VALUE(TEXT(Medel_T[[#This Row],[15AM T]],\"m\"))>0),\" \",\"\")&IF(VALUE(TEXT(Medel_T[[#This Row],[15AM T]],\"m\"))>0,TEXT(ROUND(Medel_T[[#This Row],[15AM T]]*(24*60/5),0)/(24*60/5),\"m\")&\" min\",\"\")&\"/dag x \"&ROUND(Medel_T[[#This Row],[Dag sum]:[Dag sum]]*DÅ[Arbetsdag/år],0)&\" dagar x \"&ROUND(Medel_T[[#This Row],[År]:[År]],1)&\" år = \"&TEXT(ROUND(Medel_T[[#This Row],[D 15AM¤]]*24,1-(INT(LOG10(ABS(Medel_T[[#This Row],[D 15AM¤]]*24))))),\"0\"&IF(1-(INT(LOG10(ABS(Medel_T[[#This Row],[D 15AM¤]]*24))))>0,\",\"&REPT(\"0\",1-(INT(LOG10(ABS(Medel_T[[#This Row],[D 15AM¤]]*24))))),\"\"))& \" h\"),\"\")","v":""},{"$f":"IFERROR(IF(LEN(Medel_T[[#This Row],[SJDstart]])>0,Exp_T[Anställning]&↓[↓]&YEAR(Medel_T[[#This Row],[Start]])&List_T[[#Totals],[List symb]]&YEAR(Medel_T[[#This Row],[Slut]])&\" (\"&ROUND(Medel_T[[#This Row],[År]],1)&\" år)\"&IF(LEN(Medel_T[[#This Row],[AöA text Sjuk]])>0,↓[↓],\"\")&Medel_T[[#This Row],[AöA text Sjuk]]&IF(LEN(Medel_T[[#This Row],[15AM Text Sjuk]])>0,↓[↓],\"\")&Medel_T[[#This Row],[15AM Text Sjuk]],\"\"),\"\")","v":""},{"$f":"IFERROR(Medel_T[[#This Row],[Period ]]&Medel_T[[#This Row],[ArbMomText]]&Medel_T[[#This Row],[Text]],\"\")","v":""},{"$f":"IF(AND(DJ26>=MAX(Medel_T[NrX]),ISNUMBER(DJ26)),Medel_T[[#Totals],[NrX]]+ROW()-ROW(Medel_T[[#Headers],[Rad]])-Medel_T[[#Totals],[Ant]]-1,INDEX(Medel_T[NrX],MATCH(ROW()-ROW(Medel_T[[#Headers],[Rad]]),Medel_T[NrX],0)))","v":{"$error":"#N/A"}},{"$f":"IF(Medel_T[[#This Row],[Rad]]<=Medel_T[[#Totals],[Ant]],MATCH(Medel_T[[#This Row],[Rad]],Medel_T[NrX],0),IFERROR(INDEX(BD_TX[[#Data],[#Totals],[SJ]],MATCH(Medel_T[[#This Row],[Rad]],BD_TX[[#Data],[#Totals],[Nr]],0)),\"\"))","v":{"$error":"#N/A"}},{"$f":"LEN(Medel_T[[#This Row],[Yrke2]])-LEN(SUBSTITUTE(Medel_T[[#This Row],[Yrke2]],LEFT(Sep_T[Separator],1),\"\"))","v":0},{"$f":"INDEX(Medel_T[År],Medel_T[[#This Row],[Nr]])","v":{"$error":"#N/A"}},{"$f":"IFERROR(IF(LEN(Medel_T[[#This Row],[Nr]])>0,TEXT(IFERROR(INDEX(Medel_T[Start],Medel_T[[#This Row],[Nr]]),INDEX(BD_TX[[#Data],[#Totals],[Start]],MATCH(Medel_T[[#This Row],[Rad]],BD_TX[[#Data],[#Totals],[Nr]],0))),\"ÅÅÅÅ MMM\")&\"-\"&TEXT(IFERROR(INDEX(Medel_T[Slut],Medel_T[[#This Row],[Nr]]),INDEX(BD_TX[[#Data],[#Totals],[År]],MATCH(Medel_T[[#This Row],[Rad]],BD_TX[[#Data],[#Totals],[Nr]],0))),\"ÅÅÅÅ MMM\"),\"\"),\"\")","v":""},{"$f":"IFERROR(IF(LEN(Medel_T[[#This Row],[Nr]])>0,IF(Medel_T[[#This Row],[Rad]]>Medel_T[[#Totals],[Ant]],IFERROR(INDEX(BD_TX[[#Data],[#Totals],[Text]],MATCH(Medel_T[[#This Row],[Rad]],BD_TX[[#Data],[#Totals],[Nr]],0)),\"\"),INDEX(Medel_T[Yrke],Medel_T[[#This Row],[Nr]])),\"\"),\"\")","v":""},{"$f":"IFERROR(INDEX(Medel_T[Arbetsmoment],MATCH(ROW()-ROW(Medel_T[[#Headers],[Arbetsmoment2]]),Medel_T[[NrX]:[NrX]],0)),\"\")","v":""},{"$f":"IFERROR(INDEX(Medel_T[],Medel_T[[#This Row],[Nr]],Medel_T[[#Totals],[HöA_T]]),\"\")","v":""},{"$f":"IF(LEN(Medel_T[[#This Row],[Nr]:[Nr]])>0,IFERROR(TEXT(ROUND(24*IFERROR(INDEX(Medel_T[],Medel_T[[#This Row],[Nr]:[Nr]],Medel_T[[#Totals],[D HöA]]),INDEX(Sum_T[[#Data],[#Totals]],MATCH(Medel_T[[#This Row],[Nr]:[Nr]],Sum_T[[#Data],[#Totals],[Typ]:[Typ]],0),MATCH(Medel_T[[#Headers],[D HöA]],Sum_T[#Headers],0))),1-(INT(LOG10(ABS(24*IFERROR(INDEX(Medel_T[],Medel_T[[#This Row],[Nr]:[Nr]],Medel_T[[#Totals],[D HöA]]),INDEX(Sum_T[[#Data],[#Totals]],MATCH(Medel_T[[#This Row],[Nr]:[Nr]],Sum_T[[#Data],[#Totals],[Typ]:[Typ]],0),MATCH(Medel_T[[#Headers],[D HöA]],Sum_T[#Headers],0)))))))),\"0\"&IF(1-(INT(LOG10(ABS(24*IFERROR(INDEX(Medel_T[],Medel_T[[#This Row],[Nr]:[Nr]],Medel_T[[#Totals],[D HöA]]),INDEX(Sum_T[[#Data],[#Totals]],MATCH(Medel_T[[#This Row],[Nr]:[Nr]],Sum_T[[#Data],[#Totals],[Typ]:[Typ]],0),MATCH(Medel_T[[#Headers],[D HöA]],Sum_T[#Headers],0)))))))>0,\",\"&REPT(\"0\",1-(INT(LOG10(ABS(24*IFERROR(INDEX(Medel_T[],Medel_T[[#This Row],[Nr]:[Nr]],Medel_T[[#Totals],[D HöA]]),INDEX(Sum_T[[#Data],[#Totals]],MATCH(Medel_T[[#This Row],[Nr]:[Nr]],Sum_T[[#Data],[#Totals],[Typ]:[Typ]],0),MATCH(Medel_T[[#Headers],[D HöA]],Sum_T[#Headers],0)))))))),0)),0),\"\")","v":{"$error":"#N/A"}},{"$f":"IFERROR(INDEX(Medel_T[],Medel_T[[#This Row],[Nr]],Medel_T[[#Totals],[AÖA_T]]),\"\")","v":""},{"$f":"IFERROR(IF(LEN(Medel_T[[#This Row],[Nr]:[Nr]])>0,IFERROR(TEXT(ROUND(24*IFERROR(INDEX(Medel_T[],Medel_T[[#This Row],[Nr]:[Nr]],Medel_T[[#Totals],[D AöA]]),INDEX(Sum_T[[#Data],[#Totals]],MATCH(Medel_T[[#This Row],[Nr]:[Nr]],Sum_T[[#Data],[#Totals],[Typ]:[Typ]],0),MATCH(Medel_T[[#Headers],[D AöA]],Sum_T[#Headers],0))),1-(INT(LOG10(ABS(24*IFERROR(INDEX(Medel_T[],Medel_T[[#This Row],[Nr]:[Nr]],Medel_T[[#Totals],[D AöA]]),INDEX(Sum_T[[#Data],[#Totals]],MATCH(Medel_T[[#This Row],[Nr]:[Nr]],Sum_T[[#Data],[#Totals],[Typ]:[Typ]],0),MATCH(Medel_T[[#Headers],[D AöA]],Sum_T[#Headers],0)))))))),\"0\"&IF(1-(INT(LOG10(ABS(24*IFERROR(INDEX(Medel_T[],Medel_T[[#This Row],[Nr]:[Nr]],Medel_T[[#Totals],[D AöA]]),INDEX(Sum_T[[#Data],[#Totals]],MATCH(Medel_T[[#This Row],[Nr]:[Nr]],Sum_T[[#Data],[#Totals],[Typ]:[Typ]],0),MATCH(Medel_T[[#Headers],[D AöA]],Sum_T[#Headers],0)))))))>0,\",\"&REPT(\"0\",1-(INT(LOG10(ABS(24*IFERROR(INDEX(Medel_T[],Medel_T[[#This Row],[Nr]:[Nr]],Medel_T[[#Totals],[D AöA]]),INDEX(Sum_T[[#Data],[#Totals]],MATCH(Medel_T[[#This Row],[Nr]:[Nr]],Sum_T[[#Data],[#Totals],[Typ]:[Typ]],0),MATCH(Medel_T[[#Headers],[D AöA]],Sum_T[#Headers],0)))))))),0)),0),\"\"),\"\")","v":""},{"$f":"IFERROR(INDEX(Medel_T[],Medel_T[[#This Row],[Nr]],Medel_T[[#Totals],[4AM_T]]),\"\")","v":""},{"$f":"IF(LEN(Medel_T[[#This Row],[Nr]:[Nr]])>0,IFERROR(TEXT(ROUND(24*IFERROR(INDEX(Medel_T[],Medel_T[[#This Row],[Nr]:[Nr]],Medel_T[[#Totals],[D 4AM]]),INDEX(Sum_T[[#Data],[#Totals]],MATCH(Medel_T[[#This Row],[Nr]:[Nr]],Sum_T[[#Data],[#Totals],[Typ]:[Typ]],0),MATCH(Medel_T[[#Headers],[D 4AM]],Sum_T[#Headers],0))),1-(INT(LOG10(ABS(24*IFERROR(INDEX(Medel_T[],Medel_T[[#This Row],[Nr]:[Nr]],Medel_T[[#Totals],[D 4AM]]),INDEX(Sum_T[[#Data],[#Totals]],MATCH(Medel_T[[#This Row],[Nr]:[Nr]],Sum_T[[#Data],[#Totals],[Typ]:[Typ]],0),MATCH(Medel_T[[#Headers],[D 4AM]],Sum_T[#Headers],0)))))))),\"0\"&IF(1-(INT(LOG10(ABS(24*IFERROR(INDEX(Medel_T[],Medel_T[[#This Row],[Nr]:[Nr]],Medel_T[[#Totals],[D 4AM]]),INDEX(Sum_T[[#Data],[#Totals]],MATCH(Medel_T[[#This Row],[Nr]:[Nr]],Sum_T[[#Data],[#Totals],[Typ]:[Typ]],0),MATCH(Medel_T[[#Headers],[D 4AM]],Sum_T[#Headers],0)))))))>0,\",\"&REPT(\"0\",1-(INT(LOG10(ABS(24*IFERROR(INDEX(Medel_T[],Medel_T[[#This Row],[Nr]:[Nr]],Medel_T[[#Totals],[D 4AM]]),INDEX(Sum_T[[#Data],[#Totals]],MATCH(Medel_T[[#This Row],[Nr]:[Nr]],Sum_T[[#Data],[#Totals],[Typ]:[Typ]],0),MATCH(Medel_T[[#Headers],[D 4AM]],Sum_T[#Headers],0)))))))),0)),0),\"\")","v":{"$error":"#N/A"}},{"$f":"IFERROR(INDEX(Medel_T[],Medel_T[[#This Row],[Nr]],Medel_T[[#Totals],[15AM_T]]),\"\")","v":""},{"$f":"IFERROR(IF(LEN(Medel_T[[#This Row],[Nr]:[Nr]])>0,IFERROR(TEXT(ROUND(24*IFERROR(INDEX(Medel_T[],Medel_T[[#This Row],[Nr]:[Nr]],Medel_T[[#Totals],[D 15AM]]),INDEX(Sum_T[[#Data],[#Totals]],MATCH(Medel_T[[#This Row],[Nr]:[Nr]],Sum_T[[#Data],[#Totals],[Typ]:[Typ]],0),MATCH(Medel_T[[#Headers],[D 15AM]],Sum_T[#Headers],0))),1-(INT(LOG10(ABS(24*IFERROR(INDEX(Medel_T[],Medel_T[[#This Row],[Nr]:[Nr]],Medel_T[[#Totals],[D 15AM]]),INDEX(Sum_T[[#Data],[#Totals]],MATCH(Medel_T[[#This Row],[Nr]:[Nr]],Sum_T[[#Data],[#Totals],[Typ]:[Typ]],0),MATCH(Medel_T[[#Headers],[D 15AM]],Sum_T[#Headers],0)))))))),\"0\"&IF(1-(INT(LOG10(ABS(24*IFERROR(INDEX(Medel_T[],Medel_T[[#This Row],[Nr]:[Nr]],Medel_T[[#Totals],[D 15AM]]),INDEX(Sum_T[[#Data],[#Totals]],MATCH(Medel_T[[#This Row],[Nr]:[Nr]],Sum_T[[#Data],[#Totals],[Typ]:[Typ]],0),MATCH(Medel_T[[#Headers],[D 15AM]],Sum_T[#Headers],0)))))))>0,\",\"&REPT(\"0\",1-(INT(LOG10(ABS(24*IFERROR(INDEX(Medel_T[],Medel_T[[#This Row],[Nr]:[Nr]],Medel_T[[#Totals],[D 15AM]]),INDEX(Sum_T[[#Data],[#Totals]],MATCH(Medel_T[[#This Row],[Nr]:[Nr]],Sum_T[[#Data],[#Totals],[Typ]:[Typ]],0),MATCH(Medel_T[[#Headers],[D 15AM]],Sum_T[#Headers],0)))))))),0)),0),\"\"),\"\")","v":""},{"$f":"IFERROR(INDEX(Medel_T[],Medel_T[[#This Row],[Nr]],Medel_T[[#Totals],[20-10D_T]]),\"\")","v":""},{"$f":"IF(LEN(Medel_T[[#This Row],[Nr]:[Nr]])>0,IFERROR(TEXT(ROUND(24*IFERROR(INDEX(Medel_T[],Medel_T[[#This Row],[Nr]:[Nr]],Medel_T[[#Totals],[D 20-10D]]),INDEX(Sum_T[[#Data],[#Totals]],MATCH(Medel_T[[#This Row],[Nr]:[Nr]],Sum_T[[#Data],[#Totals],[Typ]:[Typ]],0),MATCH(Medel_T[[#Headers],[D 20-10D]],Sum_T[#Headers],0))),1-(INT(LOG10(ABS(24*IFERROR(INDEX(Medel_T[],Medel_T[[#This Row],[Nr]:[Nr]],Medel_T[[#Totals],[D 20-10D]]),INDEX(Sum_T[[#Data],[#Totals]],MATCH(Medel_T[[#This Row],[Nr]:[Nr]],Sum_T[[#Data],[#Totals],[Typ]:[Typ]],0),MATCH(Medel_T[[#Headers],[D 20-10D]],Sum_T[#Headers],0)))))))),\"0\"&IF(1-(INT(LOG10(ABS(24*IFERROR(INDEX(Medel_T[],Medel_T[[#This Row],[Nr]:[Nr]],Medel_T[[#Totals],[D 20-10D]]),INDEX(Sum_T[[#Data],[#Totals]],MATCH(Medel_T[[#This Row],[Nr]:[Nr]],Sum_T[[#Data],[#Totals],[Typ]:[Typ]],0),MATCH(Medel_T[[#Headers],[D 20-10D]],Sum_T[#Headers],0)))))))>0,\",\"&REPT(\"0\",1-(INT(LOG10(ABS(24*IFERROR(INDEX(Medel_T[],Medel_T[[#This Row],[Nr]:[Nr]],Medel_T[[#Totals],[D 20-10D]]),INDEX(Sum_T[[#Data],[#Totals]],MATCH(Medel_T[[#This Row],[Nr]:[Nr]],Sum_T[[#Data],[#Totals],[Typ]:[Typ]],0),MATCH(Medel_T[[#Headers],[D 20-10D]],Sum_T[#Headers],0)))))))),0)),0),\"\")","v":{"$error":"#N/A"}},null,{"$f":"IFERROR(INDEX(Hin_T[Nr],MATCH(SMALL(Hin_T[B-årX],ROW()-ROW(Hut_T[[#Headers],[Rad]])),Hin_T[B-årX],0)),IF(ROWS($EB$19:EB27)=1+COUNTIF(Hin_T[Start],\"*\"),Hin_T[[#Totals],[Dag]],IF(AND(ROWS($EB$19:EB27)=2+COUNTIF(Hin_T[Start],\"*\"),Hin_T[[#Totals],[Q%-]]>0),EB26+1,IF(AND(ROWS($EB$19:EB27)=3+COUNTIF(Hin_T[Start],\"*\"),Hin_T[[#Totals],[Q%-]]>1),EB26+1,IF(AND(ROWS($EB$19:EB27)=4+COUNTIF(Hin_T[Start],\"*\"),Hin_T[[#Totals],[Q%-]]>2),EB26+1,\"\")))))","v":""},{"$f":"IF(Hut_T[[#This Row],[Rad]]<Hin_T[[#Totals],[Dag]],ROWS($EB$19:EB27),IFERROR(INDEX(BD_TX[[#Data],[#Totals],[SJ]],MATCH(Hut_T[[#This Row],[Rad]],BD_TX[[#Data],[#Totals],[NrX]],0)),\"\"))","v":""},{"$f":"IF(ISNUMBER(Hut_T[[#This Row],[Datum-]]),TEXT(Hut_T[[#This Row],[Datum-]],\"ÅÅÅÅ MMM\")&\"-\"&TEXT(Hut_T[[#This Row],[Datum+]],\"ÅÅÅÅ MMM\"),\"\")","v":""},{"$f":"IF(ISNUMBER(Hut_T[[#This Row],[Nr]]),IF(INDEX(Hin_T[Yrke],Hut_T[[#This Row],[Rad]])>0,INDEX(Hin_T[Yrke],Hut_T[[#This Row],[Rad]]),\"\"),IFERROR(INDEX(BD_TX[[#Data],[#Totals],[Text]],MATCH(Hut_T[[#This Row],[Rad]],BD_TX[[#Data],[#Totals],[NrX]],0)),\"\"))","v":""},{"$f":"IF(ISNUMBER(Hut_T[[#This Row],[Nr]]),IF(INDEX(Hin_T[Arbetsmoment],Hut_T[[#This Row],[Rad]])>0,INDEX(Hin_T[Arbetsmoment],Hut_T[[#This Row],[Rad]]),\"\"),\"\")","v":""},{"$f":"IFERROR(IF(INDEX(Hin_T[Yrke],Hut_T[[#This Row],[Rad]])>0,INDEX(Hin_T[Företag],Hut_T[[#This Row],[Rad]]),\"\"),\"\")","v":""},{"$f":"IFERROR(IF(INDEX(Hin_T[Dag],Hut_T[[#This Row],[Rad]])>0,INDEX(Hin_T[Dag],Hut_T[[#This Row],[Rad]])*DÅ[Arbetsdag/år],\"\"),\"\")","v":""},{"$f":"IF(AND(ISNUMBER(_xlfn.SINGLE(Hut_T[[#This Row],[Rad]:[Rad]])),IFERROR(_xlfn.SINGLE(INDEX(Hin_T[[#Data],[#Totals]],_xlfn.SINGLE(Hut_T[[#This Row],[Rad]:[Rad]]),MATCH(Hut_T[[#Headers],[D HöA]],Hin_T[#Headers],0))),\"\")),IFERROR(ROUND(_xlfn.SINGLE(INDEX(Hin_T[[#Data],[#Totals]],_xlfn.SINGLE(Hut_T[[#This Row],[Rad]:[Rad]])-IF(_xlfn.SINGLE(Hut_T[[#This Row],[Nr]:[Nr]])=_xlfn.SINGLE(#REF!),COUNT(Besvär_T[[Sjukdomsdebut]:[Sjukdomsdebut]]),0),MATCH(_xlfn.SINGLE(IF(_xlfn.SINGLE(Hut_T[[#This Row],[Nr]:[Nr]])=_xlfn.SINGLE(#REF!),#REF!,\"\"))&Hut_T[[#Headers],[D HöA]],Hin_T[#Headers],0))),0),\"\"),\"\")","v":""},{"$f":"IF(AND(ISNUMBER(Hut_T[[#This Row],[Rad]:[Rad]]),ISNUMBER(Hut_T[[#This Row],[D HöA]]),ISNUMBER(Hut_T[[#This Row],[Nr]:[Nr]])),IFERROR(ROUND(INDEX(Hin_T[[#Data],[#Totals]],Hut_T[[#This Row],[Rad]:[Rad]],MATCH(Hut_T[[#Headers],[HöA-A]],Hin_T[#Headers],0)),1-(INT(LOG10(INDEX(Hin_T[[#Data],[#Totals]],Hut_T[[#This Row],[Rad]:[Rad]],MATCH(Hut_T[[#Headers],[HöA-A]],Hin_T[#Headers],0)))))),1),\"\")","v":""},{"$f":"IF(AND(ISNUMBER(Hut_T[[#This Row],[Rad]:[Rad]]),IFERROR(INDEX(Hin_T[[#Data],[#Totals]],Hut_T[[#This Row],[Rad]:[Rad]],MATCH(Hut_T[[#Headers],[D AöA]],Hin_T[#Headers],0)),\"\")),IFERROR(ROUND(INDEX(Hin_T[[#Data],[#Totals]],Hut_T[[#This Row],[Rad]:[Rad]]-IF(Hut_T[[#This Row],[Nr]:[Nr]]=BD_TX[[SJ]:[SJ]],COUNT(Besvär_T[[Sjukdomsdebut]:[Sjukdomsdebut]]),0),MATCH(IF(Hut_T[[#This Row],[Nr]:[Nr]]=BD_TX[[#Totals],[SJ]:[SJ]],BD_TX[[#Headers],[SJ]],\"\")&Hut_T[[#Headers],[D AöA]],Hin_T[#Headers],0)),0),\"\"),\"\")","v":""},{"$f":"IF(AND(ISNUMBER(Hut_T[[#This Row],[Rad]:[Rad]]),ISNUMBER(Hut_T[[#This Row],[D AöA]]),ISNUMBER(Hut_T[[#This Row],[Nr]:[Nr]])),IFERROR(ROUND(INDEX(Hin_T[[#Data],[#Totals]],Hut_T[[#This Row],[Rad]:[Rad]],MATCH(Hut_T[[#Headers],[AöA-A]],Hin_T[#Headers],0)),1-(INT(LOG10(INDEX(Hin_T[[#Data],[#Totals]],Hut_T[[#This Row],[Rad]:[Rad]],MATCH(Hut_T[[#Headers],[AöA-A]],Hin_T[#Headers],0)))))),1),\"\")","v":""},{"$f":"IF(AND(ISNUMBER(_xlfn.SINGLE(Hut_T[[#This Row],[Rad]:[Rad]])),IFERROR(_xlfn.SINGLE(INDEX(Hin_T[[#Data],[#Totals]],_xlfn.SINGLE(Hut_T[[#This Row],[Rad]:[Rad]]),MATCH(Hut_T[[#Headers],[D 4AM]],Hin_T[#Headers],0))),\"\")),IFERROR(ROUND(_xlfn.SINGLE(INDEX(Hin_T[[#Data],[#Totals]],_xlfn.SINGLE(Hut_T[[#This Row],[Rad]:[Rad]])-IF(_xlfn.SINGLE(Hut_T[[#This Row],[Nr]:[Nr]])=_xlfn.SINGLE(#REF!),COUNT(Besvär_T[[Sjukdomsdebut]:[Sjukdomsdebut]]),0),MATCH(_xlfn.SINGLE(IF(_xlfn.SINGLE(Hut_T[[#This Row],[Nr]:[Nr]])=_xlfn.SINGLE(#REF!),#REF!,\"\"))&Hut_T[[#Headers],[D 4AM]],Hin_T[#Headers],0))),0),\"\"),\"\")","v":""},{"$f":"IF(AND(ISNUMBER(Hut_T[[#This Row],[Rad]:[Rad]]),ISNUMBER(Hut_T[[#This Row],[D 4AM]]),ISNUMBER(Hut_T[[#This Row],[Nr]:[Nr]])),IFERROR(ROUND(INDEX(Hin_T[[#Data],[#Totals]],Hut_T[[#This Row],[Rad]:[Rad]],MATCH(Hut_T[[#Headers],[4AM-A]],Hin_T[#Headers],0)),1-(INT(LOG10(INDEX(Hin_T[[#Data],[#Totals]],Hut_T[[#This Row],[Rad]:[Rad]],MATCH(Hut_T[[#Headers],[4AM-A]],Hin_T[#Headers],0)))))),1),\"\")","v":""},{"$f":"IF(AND(ISNUMBER(Hut_T[[#This Row],[Rad]:[Rad]]),IFERROR(INDEX(Hin_T[[#Data],[#Totals]],Hut_T[[#This Row],[Rad]:[Rad]],MATCH(Hut_T[[#Headers],[D 15AM]],Hin_T[#Headers],0)),\"\")),IFERROR(ROUND(INDEX(Hin_T[[#Data],[#Totals]],Hut_T[[#This Row],[Rad]:[Rad]]-IF(Hut_T[[#This Row],[Nr]:[Nr]]=BD_TX[[SJ]:[SJ]],COUNT(Besvär_T[[Sjukdomsdebut]:[Sjukdomsdebut]]),0),MATCH(IF(Hut_T[[#This Row],[Nr]:[Nr]]=BD_TX[[#Totals],[SJ]:[SJ]],BD_TX[[#Headers],[SJ]],\"\")&Hut_T[[#Headers],[D 15AM]],Hin_T[#Headers],0)),0),\"\"),\"\")","v":""},{"$f":"IF(AND(ISNUMBER(Hut_T[[#This Row],[Rad]:[Rad]]),ISNUMBER(Hut_T[[#This Row],[D 15AM]]),ISNUMBER(Hut_T[[#This Row],[Nr]:[Nr]])),IFERROR(ROUND(INDEX(Hin_T[[#Data],[#Totals]],Hut_T[[#This Row],[Rad]:[Rad]],MATCH(Hut_T[[#Headers],[15AM-A]],Hin_T[#Headers],0)),1-(INT(LOG10(INDEX(Hin_T[[#Data],[#Totals]],Hut_T[[#This Row],[Rad]:[Rad]],MATCH(Hut_T[[#Headers],[15AM-A]],Hin_T[#Headers],0)))))),1),\"\")","v":""},{"$f":"IF(AND(ISNUMBER(Hut_T[[#This Row],[Rad]:[Rad]]),IFERROR(INDEX(Hin_T[[#Data],[#Totals]],Hut_T[[#This Row],[Rad]:[Rad]],MATCH(Hut_T[[#Headers],[D 20-10D]],Hin_T[#Headers],0)),\"\")),IFERROR(ROUND(INDEX(Hin_T[[#Data],[#Totals]],Hut_T[[#This Row],[Rad]:[Rad]]-IF(Hut_T[[#This Row],[Nr]:[Nr]]=BD_TX[[SJ]:[SJ]],COUNT(Besvär_T[[Sjukdomsdebut]:[Sjukdomsdebut]]),0),MATCH(IF(Hut_T[[#This Row],[Nr]:[Nr]]=BD_TX[[#Totals],[SJ]:[SJ]],BD_TX[[#Headers],[SJ]],\"\")&Hut_T[[#Headers],[D 20-10D]],Hin_T[#Headers],0)),0),\"\"),\"\")","v":""},{"$f":"IF(AND(ISNUMBER(Hut_T[[#This Row],[Rad]:[Rad]]),ISNUMBER(Hut_T[[#This Row],[D 20-10D]]),ISNUMBER(Hut_T[[#This Row],[Nr]:[Nr]])),IFERROR(ROUND(INDEX(Hin_T[[#Data],[#Totals]],Hut_T[[#This Row],[Rad]:[Rad]],MATCH(Hut_T[[#Headers],[20-10D-A]],Hin_T[#Headers],0)),1-(INT(LOG10(INDEX(Hin_T[[#Data],[#Totals]],Hut_T[[#This Row],[Rad]:[Rad]],MATCH(Hut_T[[#Headers],[20-10D-A]],Hin_T[#Headers],0)))))),1),\"\")","v":""},null,{"$f":"IFERROR(INDEX(Hin_T[[#Data],[#Totals],[B-år]],Hut_T[[#This Row],[Rad]]),IF(ISNUMBER(Hut_T[[#This Row],[Datum+]]),ET26,\"\"))","v":""},{"$f":"IFERROR(INDEX(Hin_T[S-år],Hut_T[[#This Row],[Rad]]),IFERROR(INDEX(BD_TX[[#Data],[#Totals],[År]],MATCH(Hut_T[[#This Row],[Rad]],BD_TX[[#Data],[#Totals],[NrX]],0)),\"\"))","v":""},null,{"$f":"ROWS($EW$20:EW27)","v":8},{"$f":"IFERROR(MATCH(Hist_Tab[[#This Row],[Ref]],Medel_T[NrX],0),1)","v":1},{"$f":"INT((ROW(Hist_Tab[[#This Row],[Ref]])-ROW(Hist_Tab[[#Headers],[Ref]])-1)/4)+1","v":3},{"$f":"COUNTIF($EY$19:EY27,Hist_Tab[[#This Row],[Ref]])","v":1},{"$f":"IFERROR(INDEX(Medel_T[Start],Hist_Tab[[#This Row],[Ref]]),_xlfn.AGGREGATE(4,6,Medel_T[Start]))","v":"00:00:00"},{"$f":"IFERROR(INDEX(Medel_T[Slut],Hist_Tab[[#This Row],[Ref]]),_xlfn.AGGREGATE(4,6,Medel_T[Slut]))","v":"00:00:00"},{"$f":"IF(EW26=0,Hist_Tab[[#This Row],[ÅrB]],IF(Hist_Tab[[#This Row],[per/p]]<2,Hist_Tab[[#This Row],[ÅrB]],Hist_Tab[[#This Row],[År S]]))","v":"00:00:00"},{"$f":"IF(Hist_Tab[[#This Row],[Rad]:[Rad]]=0,-1,IF($EY28>_xlfn.AGGREGATE(2,6,Medel_T[[Slut]:[Slut]]),0,INDEX(Medel_T[],Hist_Tab[[#This Row],[Ref]:[Ref]],MATCH(Hist_Tab[[#Headers],[HöA T]],Medel_T[#Headers],0))))","v":0},{"$f":"IF(Hist_Tab[[#This Row],[Rad]:[Rad]]=0,0,IF($EY28>_xlfn.AGGREGATE(2,6,Medel_T[[Slut]:[Slut]]),0,INDEX(Medel_T[],Hist_Tab[[#This Row],[Ref]:[Ref]],MATCH(Hist_Tab[[#Headers],[AöA T]],Medel_T[#Headers],0))))","v":0},{"$f":"IF(Hist_Tab[[#This Row],[Rad]:[Rad]]=0,0,IF($EY28>_xlfn.AGGREGATE(2,6,Medel_T[[Slut]:[Slut]]),0,INDEX(Medel_T[],Hist_Tab[[#This Row],[Ref]:[Ref]],MATCH(Hist_Tab[[#Headers],[4AM T]],Medel_T[#Headers],0))))","v":0},{"$f":"IF(Hist_Tab[[#This Row],[Rad]:[Rad]]=0,0,IF($EY28>_xlfn.AGGREGATE(2,6,Medel_T[[Slut]:[Slut]]),0,INDEX(Medel_T[],Hist_Tab[[#This Row],[Ref]:[Ref]],MATCH(Hist_Tab[[#Headers],[15AM T]],Medel_T[#Headers],0))))","v":0},{"$f":"IF(Hist_Tab[[#This Row],[Rad]:[Rad]]=0,0,IF($EY28>_xlfn.AGGREGATE(2,6,Medel_T[[Slut]:[Slut]]),0,INDEX(Medel_T[],Hist_Tab[[#This Row],[Ref]:[Ref]],MATCH(Hist_Tab[[#Headers],[20-10D T]],Medel_T[#Headers],0))))","v":0}]
[null,null,null,null,null,null,null,null,null,null,null,null,null,null,null,null,null,null,{"$f":"IF(LEN(Hin_T[[#This Row],[Start]])>0,ROWS($S$19:S28),\"\")","v":""},null,{"$f":"Hin_T[[#This Row],[Yrke]]&IF(ISBLANK(Hin_T[[#This Row],[Arbetsmoment]]),\"\",\"; \"&Hin_T[[#This Row],[Arbetsmoment]])","v":""},{"$f":"IFERROR(IF(LEN(Hin_T[[#This Row],[Start]])-LEN(SUBSTITUTE(Hin_T[[#This Row],[Start]],\"-\",\"\"))=2,DATEVALUE(Hin_T[[#This Row],[Start]]),IF(LEN(Hin_T[[#This Row],[Start]])<5,DATEVALUE(Hin_T[[#This Row],[Start]]&\"-01-01\"),DATEVALUE(LEFT(Hin_T[[#This Row],[Start]],IF(LEN(Hin_T[[#This Row],[Start]])>6,4,2))&\"-\"&MID(Hin_T[[#This Row],[Start]],IF(LEN(Hin_T[[#This Row],[Start]])>6,5,3),2)&\"-\"&RIGHT(Hin_T[[#This Row],[Start]],2)))),\"\")","v":""},{"$f":"IFERROR(IF(LEN(Hin_T[[#This Row],[Slut]])-LEN(SUBSTITUTE(Hin_T[[#This Row],[Slut]],\"-\",\"\"))=2,DATEVALUE(Hin_T[[#This Row],[Slut]]),IF(LEN(Hin_T[[#This Row],[Slut]])<5,DATEVALUE(Hin_T[[#This Row],[Slut]]&\"-12-31\"),DATEVALUE(LEFT(Hin_T[[#This Row],[Slut]],IF(LEN(Hin_T[[#This Row],[Slut]])>6,4,2))&\"-\"&MID(Hin_T[[#This Row],[Slut]],IF(LEN(Hin_T[[#This Row],[Slut]])>6,5,3),2)&\"-\"&RIGHT(Hin_T[[#This Row],[Slut]],2)))),\"\")","v":""},{"$f":"IF(COUNTIF(V$19:V28,Hin_T[[#This Row],[B-år]])=1,Hin_T[[#This Row],[B-år]],\"\")","v":""},{"$f":"IF(COUNTIF(W$19:W28,Hin_T[[#This Row],[S-år]])=1,Hin_T[[#This Row],[S-år]],\"\")","v":""},{"$f":"IFERROR(Hin_T[[#This Row],[B-år]]+IF(COUNTIF($V$19:V28,Hin_T[[#This Row],[B-år]])>1,COUNTIF($V$19:V28,Hin_T[[#This Row],[B-år]])/10,0),\"\")","v":""},{"$f":"IF(ISNUMBER(Hin_T[[#This Row],[Dagar]]),Hin_T[[#This Row],[Dagar]]/DÅ[Arbetsdag/år],1)","v":1},{"$f":"Hin_T[[#This Row],[Dag]]*DÅ[Arbetsdag/år]","v":220},{"$f":"IF(LEN(Hin_T[[#This Row],[Yrke]])=4,1,0)","v":0},{"$f":"_xlfn.DAYS(Hin_T[[#This Row],[B-år]],DATE(YEAR(Hin_T[[#This Row],[B-år]]),1,1))/(DATE(YEAR(Hin_T[[#This Row],[B-år]])+1,1,1)-DATE(YEAR(Hin_T[[#This Row],[B-år]]),1,1))","v":{"$error":"#VALUE!"}},{"$f":"_xlfn.DAYS(DATE(YEAR(Hin_T[[#This Row],[S-år]]),12,31),Hin_T[[#This Row],[S-år]])/(DATE(YEAR(Hin_T[[#This Row],[S-år]])+1,1,1)-DATE(YEAR(Hin_T[[#This Row],[S-år]]),1,1))","v":{"$error":"#VALUE!"}},{"$f":"YEARFRAC(Hin_T[[#This Row],[S-år]],Hin_T[[#This Row],[B-år]])*Hin_T[[#This Row],[Dag]]","v":{"$error":"#VALUE!"}},{"$f":"IFERROR(Hin_T[[#This Row],[År diff]]*IF(ISNUMBER(Hin_T[[#This Row],[HöA]]),1,0),0)","v":0},{"$f":"IFERROR(Hin_T[[#This Row],[År diff]]*IF(ISNUMBER(Hin_T[[#This Row],[AöA]]),1,0),0)","v":0},{"$f":"IF(Hin_T[[#This Row],[B-år]]<=Besvär_T[[#Totals],[Sjukdomsdebut]],Hin_T[[#This Row],[B-år]],\"\")","v":""},{"$f":"IF(Hin_T[[#This Row],[S-år]]<=Besvär_T[[#Totals],[Sjukdomsdebut]],Hin_T[[#This Row],[S-år]],\"\")","v":""},{"$f":"IFERROR(YEARFRAC(IF(AND(ISNUMBER(Hin_T[[#This Row],[B-år EA]]),LEN(Hin_T[[#This Row],[S-år EA]])=0),Hin_T[[#Totals],[15AM-A]],Hin_T[[#This Row],[S-år EA]]),Hin_T[[#This Row],[B-år EA]])*Hin_T[[#This Row],[Dag]]*IF(ISNUMBER(Hin_T[[#This Row],[HöA]]),1,0),0)","v":0},{"$f":"IFERROR(YEARFRAC(IF(AND(ISNUMBER(Hin_T[[#This Row],[B-år EA]]),LEN(Hin_T[[#This Row],[S-år EA]])=0),Hin_T[[#Totals],[15AM-A]],Hin_T[[#This Row],[S-år EA]]),Hin_T[[#This Row],[B-år EA]])*Hin_T[[#This Row],[Dag]]*IF(ISNUMBER(Hin_T[[#This Row],[AöA]]),1,0),0)","v":0},{"$f":"IFERROR(Hin_T[[#This Row],[År diff]]*IF(ISNUMBER(Hin_T[[#This Row],[4AM]]),1,0),0)","v":0},{"$f":"IFERROR(Hin_T[[#This Row],[År diff]]*IF(ISNUMBER(Hin_T[[#This Row],[15AM]]),1,0),0)","v":0},{"$f":"IF(Hin_T[[#This Row],[B-år]]<=Besvär_T[[#Totals],[Sjukdomsdebut]],Hin_T[[#This Row],[B-år]],\"\")","v":""},{"$f":"IF(Hin_T[[#This Row],[S-år]]<=Besvär_T[[#Totals],[Sjukdomsdebut]],Hin_T[[#This Row],[S-år]],\"\")","v":""},{"$f":"IFERROR(YEARFRAC(IF(AND(ISNUMBER(Hin_T[[#This Row],[B-år RA]]),LEN(Hin_T[[#This Row],[S-år RA]])=0),Hin_T[[#Totals],[15AM-A]],Hin_T[[#This Row],[S-år RA]]),Hin_T[[#This Row],[B-år RA]])*Hin_T[[#This Row],[Dag]]*IF(ISNUMBER(Hin_T[[#This Row],[4AM]]),1,0),0)","v":0},{"$f":"IFERROR(YEARFRAC(IF(AND(ISNUMBER(Hin_T[[#This Row],[B-år RA]]),LEN(Hin_T[[#This Row],[S-år RA]])=0),Hin_T[[#Totals],[15AM-A]],Hin_T[[#This Row],[S-år RA]]),Hin_T[[#This Row],[B-år RA]])*Hin_T[[#This Row],[Dag]]*IF(ISNUMBER(Hin_T[[#This Row],[15AM]]),1,0),0)","v":0},{"$f":"IFERROR(Hin_T[[#This Row],[År diff]]*IF(ISNUMBER(Hin_T[[#This Row],[20-10D]]),1,0),0)","v":0},{"$f":"IF(Hin_T[[#This Row],[B-år]]<=Besvär_T[[#Totals],[Sjukdomsdebut]],Hin_T[[#This Row],[B-år]],\"\")","v":""},{"$f":"IF(Hin_T[[#This Row],[S-år]]<=Besvär_T[[#Totals],[Sjukdomsdebut]],Hin_T[[#This Row],[S-år]],\"\")","v":""},{"$f":"IFERROR(YEARFRAC(IF(AND(ISNUMBER(Hin_T[[#This Row],[B-år TMH]]),LEN(Hin_T[[#This Row],[S-år TMH]])=0),Hin_T[[#Totals],[15AM-A]],Hin_T[[#This Row],[S-år TMH]]),Hin_T[[#This Row],[B-år TMH]])*Hin_T[[#This Row],[Dag]]*IF(ISNUMBER(Hin_T[[#This Row],[20-10D]]),1,0),0)","v":0},{"$f":"IF(Hin_T[[#This Row],[Vib]]=JN_T[JN],1,0)","v":0},{"$f":"IFERROR(Hin_T[[#This Row],[År diff]]*IF(Hin_T[[#This Row],[Vib2]]>0,1,0),0)","v":0},{"$f":"IF(Hin_T[[#This Row],[B-år]]<=Besvär_T[[#Totals],[Sjukdomsdebut]],Hin_T[[#This Row],[B-år]],\"\")","v":""},{"$f":"IF(Hin_T[[#This Row],[S-år]]<=Besvär_T[[#Totals],[Sjukdomsdebut]],Hin_T[[#This Row],[S-år]],\"\")","v":""},{"$f":"IFERROR(YEARFRAC(IF(AND(ISNUMBER(Hin_T[[#This Row],[B-år VIB]]),LEN(Hin_T[[#This Row],[S-år Vib]])=0),Hin_T[[#Totals],[15AM-A]],Hin_T[[#This Row],[S-år Vib]]),Hin_T[[#This Row],[B-år VIB]])*IF(Hin_T[[#This Row],[Vib2]]>0,1,0),0)","v":0},{"$f":"Hin_T[[#This Row],[HöA]]*Hin_T[[#This Row],[tot år HöA]]*DÅ[Arbetsdag/år]","v":0},{"$f":"Hin_T[[#This Row],[tot år AöA]]*Hin_T[[#This Row],[AöA]]*DÅ[Arbetsdag/år]","v":0},{"$f":"Hin_T[[#This Row],[tot år 4AM]]*Hin_T[[#This Row],[4AM]]*DÅ[Arbetsdag/år]","v":0},{"$f":"Hin_T[[#This Row],[tot år 15AM]]*Hin_T[[#This Row],[15AM]]*DÅ[Arbetsdag/år]","v":0},{"$f":"Hin_T[[#This Row],[tot år 20-10D]]*Hin_T[[#This Row],[20-10D]]*DÅ[Arbetsdag/år]","v":0},{"$f":"Hin_T[[#This Row],[BD år HöA]]*Hin_T[[#This Row],[HöA]]*DÅ[Arbetsdag/år]","v":0},{"$f":"Hin_T[[#This Row],[BD år AöA]]*Hin_T[[#This Row],[AöA]]*DÅ[Arbetsdag/år]","v":0},{"$f":"Hin_T[[#This Row],[BD år 4AM]]*Hin_T[[#This Row],[4AM]]*DÅ[Arbetsdag/år]","v":0},{"$f":"Hin_T[[#This Row],[BD år 15AM]]*Hin_T[[#This Row],[15AM]]*DÅ[Arbetsdag/år]","v":0},{"$f":"Hin_T[[#This Row],[BD år 20-10D]]*Hin_T[[#This Row],[20-10D]]*DÅ[Arbetsdag/år]","v":0},{"$f":"Hin_T[[#This Row],[Arbetsmoment]]&Hin_T[[#This Row],[Text AöA]]&Hin_T[[#This Row],[Text 15AM]]&IF(Hin_T[[#This Row],[Dagarna]]=DÅ[Arbetsdag/år],\"\",\". \"&Hin_T[[#This Row],[Dagarna]]&\" dagar/år\")&\". \"","v":". "},{"$f":"IF(ISBLANK(Hin_T[[#This Row],[AöA]]),\"\",Exp_T[Överarmslyft> 90°: ]&IF(VALUE(TEXT(Hin_T[[#This Row],[AöA]],\"t\"))>0,VALUE(TEXT(Hin_T[[#This Row],[AöA]],\"t\"))&\" h\",\"\")&IF(AND(VALUE(TEXT(Hin_T[[#This Row],[AöA]],\"t\"))>0,VALUE(TEXT(Hin_T[[#This Row],[AöA]],\"m\"))>2.4),\" \",\"\")&IF(VALUE(TEXT(Hin_T[[#This Row],[AöA]],\"m\"))>2.4,TEXT(ROUND(Hin_T[[#This Row],[AöA]]*(24*60/5),0)/(24*60/5),\"m\")&\" min\",\"\")&\"/dag\")","v":""},{"$f":"IF(ISBLANK(Hin_T[[#This Row],[15AM]]),\"\",Exp_T[Överarmsrörelser> 15/min: ]&IF(VALUE(TEXT(Hin_T[[#This Row],[15AM]],\"t\"))>0,VALUE(TEXT(Hin_T[[#This Row],[15AM]],\"t\"))&\" h\",\"\")&IF(AND(VALUE(TEXT(Hin_T[[#This Row],[15AM]],\"t\"))>0,VALUE(TEXT(Hin_T[[#This Row],[15AM]],\"m\"))>2.4),\" \",\"\")&IF(VALUE(TEXT(Hin_T[[#This Row],[15AM]],\"m\"))>2.4,TEXT(ROUND(Hin_T[[#This Row],[15AM]]*(24*60/5),0)/(24*60/5),\"m\")&\" min\",\"\")&\"/dag\")","v":""},null,null,null,null,{"$f":"SMALL(Hin_T[[StartÅR]:[SlutÅr]],ROW()-ROW(Medel_T[[#Headers],[Start]]))","v":{"$error":"#NUM!"}},{"$f":"SMALL(Hin_T[[StartÅR]:[SlutÅr]],ROW()-ROW(Medel_T[[#Headers],[Slut]])+1)","v":{"$error":"#NUM!"}},{"$f":"IF(Medel_T[[#This Row],[Start]]<=Besvär_T[[#Totals],[Sjukdomsdebut]],Medel_T[[#This Row],[Start]],\"\")","v":{"$error":"#NUM!"}},{"$f":"IF(Medel_T[[#This Row],[Slut]]<=Besvär_T[[#Totals],[Sjukdomsdebut]],Medel_T[[#This Row],[Slut]],IF(AND(LEN(Medel_T[[#This Row],[SJDstart]])>0,LEN(BU29)=0),Besvär_T[[#Totals],[Sjukdomsdebut]],\"\"))","v":{"$error":"#NUM!"}},{"$f":"IF(Medel_T[[#This Row],[Start]]>=Besvär_T[[#Totals],[Sjukdomsdebut]],Medel_T[[#This Row],[Start]],IF(AND(LEN(Medel_T[[#This Row],[EfterSlut]])>0,LEN(BX27)=0),Besvär_T[[#Totals],[Sjukdomsdebut]],\"\"))","v":{"$error":"#NUM!"}},{"$f":"IF(Medel_T[[#This Row],[Slut]]>=Besvär_T[[#Totals],[Sjukdomsdebut]],Medel_T[[#This Row],[Slut]],\"\")","v":{"$error":"#NUM!"}},{"$f":"COUNTIF($BZ$19:BZ28,\">0\")","v":0},{"$f":"COUNTIFS(Hin_T[B-år],\"<=\"&Medel_T[[#This Row],[Start]],Hin_T[S-år],\">=\"&Medel_T[[#This Row],[Slut]])","v":0},{"$f":"SUBSTITUTE(_xlfn.TEXTJOIN(Sep_T[Separator],TRUE,_xlfn._xlws.SORT(_xlfn.UNIQUE(IF((Hin_T[[B-år]:[B-år]]<=Medel_T[[#This Row],[Start]:[Start]])*(Hin_T[[S-år]:[S-år]]>=Medel_T[[#This Row],[Slut]:[Slut]]),Hin_T[Yrke],\"\")))),0&Sep_T[Separator],\"\")","v":{"$error":"#NUM!"}},{"$f":"SUBSTITUTE(_xlfn.TEXTJOIN(Sep_T[Separator],TRUE,_xlfn._xlws.SORT(_xlfn.UNIQUE(IF((Hin_T[[B-år]:[B-år]]<=Medel_T[[#This Row],[Start]:[Start]])*(Hin_T[[S-år]:[S-år]]>=Medel_T[[#This Row],[Slut]:[Slut]]),Hin_T[Arbetsmoment],\"\")))),0&Sep_T[Separator],\"\")","v":{"$error":"#NUM!"}},{"$f":"IF(LEN(Medel_T[[#This Row],[Yrke]])>0,Medel_T[[#Headers],[Period ]]&Medel_T[[#This Row],[NrX]]&\": \"&TEXT(Medel_T[[#This Row],[Start]],\"ÅÅÅÅ\")&List_T[[#Totals],[List symb]]&TEXT(Medel_T[[#This Row],[Slut]],\"ÅÅÅÅ\")&\" (\"&ROUND(Medel_T[[#This Row],[År]],1)&\" år) Anställd som \"&IFERROR(SUBSTITUTE(SUBSTITUTE(Medel_T[[#This Row],[Yrke]],Sep_T[Separator],\" och \",Medel_T[[#This Row],[Ant]]-1),Sep_T[Separator],\", \"),Medel_T[[#This Row],[Yrke]])&↓[↓],\"\")","v":{"$error":"#NUM!"}},{"$f":"IF(LEN(Medel_T[[#This Row],[Arbetsmoment]])>0,ROMAN(1)&\") \"&_xlfn.TEXTJOIN(Delim[Delimiters],TRUE,_xlfn._xlws.SORT(_xlfn.UNIQUE(IF((Hin_T[[B-år]:[B-år]]<=Medel_T[[#This Row],[Start]:[Start]])*(Hin_T[[S-år]:[S-år]]>=Medel_T[[#This Row],[Slut]:[Slut]]),Hin_T[Text],\"\"))))&↓[↓],\"\")","v":{"$error":"#NUM!"}},{"$f":"SUMPRODUCT((Hin_T[[B-år]:[B-år]]<=Medel_T[[#This Row],[Start]:[Start]])*(Hin_T[[S-år]:[S-år]]>=Medel_T[[#This Row],[Slut]:[Slut]])*Hin_T[Dag])","v":{"$error":"#NUM!"}},{"$f":"IF(Medel_T[[#This Row],[Proc dag]]<=1,Medel_T[[#This Row],[Proc dag]],1)","v":{"$error":"#NUM!"}},{"$f":"YEARFRAC(Medel_T[[#This Row],[Slut]],Medel_T[[#This Row],[Start]])","v":{"$error":"#NUM!"}},{"$f":"YEARFRAC(Medel_T[[#This Row],[SJDslut]],Medel_T[[#This Row],[SJDstart]])","v":{"$error":"#NUM!"}},{"$f":"IFERROR(SUMPRODUCT((Hin_T[[B-år]:[B-år]]<=Medel_T[[#This Row],[Start]:[Start]])*(Hin_T[[S-år]:[S-år]]>=Medel_T[[#This Row],[Slut]:[Slut]])*Hin_T[HöA]*Hin_T[[Dag]:[Dag]])/Medel_T[[#This Row],[Proc dag]],-1)","v":-1},{"$f":"IFERROR(SUMPRODUCT((Hin_T[[B-år]:[B-år]]<=Medel_T[[#This Row],[Start]:[Start]])*(Hin_T[[S-år]:[S-år]]>=Medel_T[[#This Row],[Slut]:[Slut]])*Hin_T[AöA]*Hin_T[[Dag]:[Dag]])/Medel_T[[#This Row],[Proc dag]],-1)","v":-1},{"$f":"IFERROR(SUMPRODUCT((Hin_T[[B-år]:[B-år]]<=Medel_T[[#This Row],[Start]:[Start]])*(Hin_T[[S-år]:[S-år]]>=Medel_T[[#This Row],[Slut]:[Slut]])*Hin_T[4AM]*Hin_T[[Dag]:[Dag]])/Medel_T[[#This Row],[Proc dag]],-1)","v":-1},{"$f":"IFERROR(SUMPRODUCT((Hin_T[[B-år]:[B-år]]<=Medel_T[[#This Row],[Start]:[Start]])*(Hin_T[[S-år]:[S-år]]>=Medel_T[[#This Row],[Slut]:[Slut]])*Hin_T[15AM]*Hin_T[[Dag]:[Dag]])/Medel_T[[#This Row],[Proc dag]],-1)","v":-1},{"$f":"IFERROR(SUMPRODUCT((Hin_T[[B-år]:[B-år]]<=Medel_T[[#This Row],[Start]:[Start]])*(Hin_T[[S-år]:[S-år]]>=Medel_T[[#This Row],[Slut]:[Slut]])*Hin_T[20-10D]*Hin_T[[Dag]:[Dag]])/Medel_T[[#This Row],[Proc dag]],-1)","v":-1},{"$f":"IFERROR(SUMPRODUCT((Hin_T[[B-år]:[B-år]]<=Medel_T[[#This Row],[Start]:[Start]])*(Hin_T[[S-år]:[S-år]]>=Medel_T[[#This Row],[Slut]:[Slut]])*Hin_T[[Dag]:[Dag]]*Hin_T[HöA])/Medel_T[[#This Row],[Dag sum]],-1)","v":-1},{"$f":"IFERROR(SUMPRODUCT((Hin_T[[B-år]:[B-år]]<=Medel_T[[#This Row],[Start]:[Start]])*(Hin_T[[S-år]:[S-år]]>=Medel_T[[#This Row],[Slut]:[Slut]])*Hin_T[[Dag]:[Dag]]*Hin_T[AöA])/Medel_T[[#This Row],[Dag sum]],-1)","v":-1},{"$f":"IFERROR(SUMPRODUCT((Hin_T[[B-år]:[B-år]]<=Medel_T[[#This Row],[Start]:[Start]])*(Hin_T[[S-år]:[S-år]]>=Medel_T[[#This Row],[Slut]:[Slut]])*Hin_T[[Dag]:[Dag]]*Hin_T[4AM])/Medel_T[[#This Row],[Dag sum]],-1)","v":-1},{"$f":"IFERROR(SUMPRODUCT((Hin_T[[B-år]:[B-år]]<=Medel_T[[#This Row],[Start]:[Start]])*(Hin_T[[S-år]:[S-år]]>=Medel_T[[#This Row],[Slut]:[Slut]])*Hin_T[15AM]*Hin_T[[Dag]:[Dag]])/Medel_T[[#This Row],[Dag sum]],-1)","v":-1},{"$f":"IFERROR(SUMPRODUCT((Hin_T[[B-år]:[B-år]]<=Medel_T[[#This Row],[Start]:[Start]])*(Hin_T[[S-år]:[S-år]]>=Medel_T[[#This Row],[Slut]:[Slut]])*Hin_T[[Dag]:[Dag]]*Hin_T[20-10D])/Medel_T[[#This Row],[Dag sum]],-1)","v":-1},{"$f":"IFERROR(Medel_T[[#This Row],[Dag sum]:[Dag sum]]*Medel_T[[#This Row],[År]:[År]]*Medel_T[[#This Row],[HöA T]]*DÅ[Arbetsdag/år],0)","v":0},{"$f":"IFERROR(Medel_T[[#This Row],[Dag sum]:[Dag sum]]*Medel_T[[#This Row],[År]:[År]]*Medel_T[[#This Row],[AöA T]]*DÅ[Arbetsdag/år],0)","v":0},{"$f":"IFERROR(Medel_T[[#This Row],[Dag sum]:[Dag sum]]*Medel_T[[#This Row],[År]:[År]]*Medel_T[[#This Row],[4AM T]]*DÅ[Arbetsdag/år],0)","v":0},{"$f":"IFERROR(Medel_T[[#This Row],[Dag sum]:[Dag sum]]*Medel_T[[#This Row],[År]:[År]]*Medel_T[[#This Row],[15AM T]]*DÅ[Arbetsdag/år],0)","v":0},{"$f":"IFERROR(Medel_T[[#This Row],[Dag sum]:[Dag sum]]*Medel_T[[#This Row],[År]:[År]]*Medel_T[[#This Row],[20-10D T]]*DÅ[Arbetsdag/år],0)","v":0},{"$f":"IFERROR(Medel_T[[#This Row],[Dag sum]:[Dag sum]]*Medel_T[[#This Row],[ÅrSjuk]:[ÅrSjuk]]*Medel_T[[#This Row],[HöA T]]*DÅ[Arbetsdag/år],0)","v":0},{"$f":"IFERROR(Medel_T[[#This Row],[Dag sum]:[Dag sum]]*Medel_T[[#This Row],[ÅrSjuk]:[ÅrSjuk]]*Medel_T[[#This Row],[AöA T]]*DÅ[Arbetsdag/år],0)","v":0},{"$f":"IFERROR(Medel_T[[#This Row],[Dag sum]:[Dag sum]]*Medel_T[[#This Row],[ÅrSjuk]:[ÅrSjuk]]*Medel_T[[#This Row],[4AM T]]*DÅ[Arbetsdag/år],0)","v":0},{"$f":"IFERROR(Medel_T[[#This Row],[Dag sum]:[Dag sum]]*Medel_T[[#This Row],[ÅrSjuk]:[ÅrSjuk]]*Medel_T[[#This Row],[15AM T]]*DÅ[Arbetsdag/år],0)","v":0},{"$f":"IFERROR(Medel_T[[#This Row],[Dag sum]:[Dag sum]]*Medel_T[[#This Row],[ÅrSjuk]:[ÅrSjuk]]*Medel_T[[#This Row],[20-10D T]]*DÅ[Arbetsdag/år],0)","v":0},{"$f":"IFERROR(IF(Medel_T[[#This Row],[AöA T]]=0,\"\",List_T[List symb]&Exp_T[[#Headers],[Överarmslyft> 90°: ]]&IF(VALUE(TEXT(Medel_T[[#This Row],[AöA T]],\"t\"))>0,VALUE(TEXT(Medel_T[[#This Row],[AöA T]],\"t\"))&\" h\",\"\")&IF(AND(VALUE(TEXT(Medel_T[[#This Row],[AöA T]],\"t\"))>0,VALUE(TEXT(Medel_T[[#This Row],[AöA T]],\"m\"))>2.4),\" \",\"\")&IF(VALUE(TEXT(Medel_T[[#This Row],[AöA T]],\"m\"))>2.4,TEXT(ROUND(Medel_T[[#This Row],[AöA T]]*(24*60/5),0)/(24*60/5),\"m\")&\" min\",\"\")&\"/dag x \"&ROUND(Medel_T[[#This Row],[Dag sum]:[Dag sum]]*DÅ[Arbetsdag/år],0)&\" dagar x \"&ROUND(Medel_T[[#This Row],[År]:[År]],1)&\" år = \"&TEXT(ROUND(Medel_T[[#This Row],[D AöA§]]*24,1-(INT(LOG10(ABS(Medel_T[[#This Row],[D AöA§]]*24))))),\"0\"&IF(1-(INT(LOG10(ABS(Medel_T[[#This Row],[D AöA§]]*24))))>0,\",\"&REPT(\"0\",1-(INT(LOG10(ABS(Medel_T[[#This Row],[D AöA§]]*24))))),\"\"))& \" h\"),\"\")","v":""},{"$f":"IFERROR(IF(Medel_T[[#This Row],[15AM T]]=0,\"\",List_T[List symb]&Exp_T[[#Headers],[Överarmsrörelser> 15/min: ]]&IF(VALUE(TEXT(Medel_T[[#This Row],[15AM T]],\"t\"))>0,VALUE(TEXT(Medel_T[[#This Row],[15AM T]],\"t\"))&\" h\",\"\")&IF(AND(VALUE(TEXT(Medel_T[[#This Row],[15AM T]],\"t\"))>0,VALUE(TEXT(Medel_T[[#This Row],[15AM T]],\"m\"))>2.4),\" \",\"\")&IF(VALUE(TEXT(Medel_T[[#This Row],[15AM T]],\"m\"))>2.4,TEXT(ROUND(Medel_T[[#This Row],[15AM T]]*(24*60/5),0)/(24*60/5),\"m\")&\" min\",\"\")&\"/dag x \"&ROUND(Medel_T[[#This Row],[Dag sum]:[Dag sum]]*DÅ[Arbetsdag/år],0)&\" dagar x \"&ROUND(Medel_T[[#This Row],[År]:[År]],1)&\" år = \"&TEXT(ROUND(Medel_T[[#This Row],[D 15AM§]]*24,1-(INT(LOG10(ABS(Medel_T[[#This Row],[D 15AM§]]*24))))),\"0\"&IF(1-(INT(LOG10(ABS(Medel_T[[#This Row],[D 15AM§]]*24))))>0,\",\"&REPT(\"0\",1-(INT(LOG10(ABS(Medel_T[[#This Row],[D 15AM§]]*24))))),\"\"))& \" h\"),\"\")","v":""},{"$f":"IFERROR(IF(OR(LEN(Medel_T[[#This Row],[AöA text]])>0,LEN(Medel_T[[#This Row],[15AM Text]])>0),Exp_T[Anställning]&YEAR(Medel_T[[#This Row],[Start]])&List_T[[#Totals],[List symb]]&YEAR(Medel_T[[#This Row],[Slut]])&\" (\"&ROUND(Medel_T[[#This Row],[År]],1)&\" år)\"&IF(LEN(Medel_T[[#This Row],[AöA text]])>0,↓[↓],\"\")&Medel_T[[#This Row],[AöA text]]&IF(LEN(Medel_T[[#This Row],[15AM Text]])>0,↓[↓],\"\")&Medel_T[[#This Row],[15AM Text]],\"\"),\"\")","v":""},{"$f":"IFERROR(IF(Medel_T[[#This Row],[AöA T]]=0,\"\",List_T[List symb]&Exp_T[[#Headers],[Överarmsrörelser> 15/min: ]]&IF(VALUE(TEXT(Medel_T[[#This Row],[AöA T]],\"t\"))>0,VALUE(TEXT(Medel_T[[#This Row],[AöA T]],\"t\"))&\" h\",\"\")&IF(AND(VALUE(TEXT(Medel_T[[#This Row],[AöA T]],\"t\"))>0,VALUE(TEXT(Medel_T[[#This Row],[AöA T]],\"m\"))>2.4),\" \",\"\")&IF(VALUE(TEXT(Medel_T[[#This Row],[AöA T]],\"m\"))>2.4,TEXT(ROUND(Medel_T[[#This Row],[AöA T]]*(24*60/5),0)/(24*60/5),\"m\")&\" min\",\"\")&\"/dag x \"&ROUND(Medel_T[[#This Row],[Dag sum]:[Dag sum]]*DÅ[Arbetsdag/år],0)&\" dagar x \"&ROUND(Medel_T[[#This Row],[År]:[År]],1)&\" år = \"&TEXT(ROUND(Medel_T[[#This Row],[D AöA¤]]*24,1-(INT(LOG10(ABS(Medel_T[[#This Row],[D AöA¤]]*24))))),\"0\"&IF(1-(INT(LOG10(ABS(Medel_T[[#This Row],[D AöA¤]]*24))))>0,\",\"&REPT(\"0\",1-(INT(LOG10(ABS(Medel_T[[#This Row],[D AöA¤]]*24))))),\"\"))& \" h\"),\"\")","v":""},{"$f":"IFERROR(IF(Medel_T[[#This Row],[15AM T]]=0,\"\",List_T[List symb]&Exp_T[[#Headers],[Överarmslyft> 90°: ]]&IF(VALUE(TEXT(Medel_T[[#This Row],[15AM T]],\"t\"))>0,VALUE(TEXT(Medel_T[[#This Row],[15AM T]],\"t\"))&\" h\",\"\")&IF(AND(VALUE(TEXT(Medel_T[[#This Row],[15AM T]],\"t\"))>0,VALUE(TEXT(Medel_T[[#This Row],[15AM T]],\"m\"))>0),\" \",\"\")&IF(VALUE(TEXT(Medel_T[[#This Row],[15AM T]],\"m\"))>0,TEXT(ROUND(Medel_T[[#This Row],[15AM T]]*(24*60/5),0)/(24*60/5),\"m\")&\" min\",\"\")&\"/dag x \"&ROUND(Medel_T[[#This Row],[Dag sum]:[Dag sum]]*DÅ[Arbetsdag/år],0)&\" dagar x \"&ROUND(Medel_T[[#This Row],[År]:[År]],1)&\" år = \"&TEXT(ROUND(Medel_T[[#This Row],[D 15AM¤]]*24,1-(INT(LOG10(ABS(Medel_T[[#This Row],[D 15AM¤]]*24))))),\"0\"&IF(1-(INT(LOG10(ABS(Medel_T[[#This Row],[D 15AM¤]]*24))))>0,\",\"&REPT(\"0\",1-(INT(LOG10(ABS(Medel_T[[#This Row],[D 15AM¤]]*24))))),\"\"))& \" h\"),\"\")","v":""},{"$f":"IFERROR(IF(LEN(Medel_T[[#This Row],[SJDstart]])>0,Exp_T[Anställning]&↓[↓]&YEAR(Medel_T[[#This Row],[Start]])&List_T[[#Totals],[List symb]]&YEAR(Medel_T[[#This Row],[Slut]])&\" (\"&ROUND(Medel_T[[#This Row],[År]],1)&\" år)\"&IF(LEN(Medel_T[[#This Row],[AöA text Sjuk]])>0,↓[↓],\"\")&Medel_T[[#This Row],[AöA text Sjuk]]&IF(LEN(Medel_T[[#This Row],[15AM Text Sjuk]])>0,↓[↓],\"\")&Medel_T[[#This Row],[15AM Text Sjuk]],\"\"),\"\")","v":""},{"$f":"IFERROR(Medel_T[[#This Row],[Period ]]&Medel_T[[#This Row],[ArbMomText]]&Medel_T[[#This Row],[Text]],\"\")","v":""},{"$f":"IF(AND(DJ27>=MAX(Medel_T[NrX]),ISNUMBER(DJ27)),Medel_T[[#Totals],[NrX]]+ROW()-ROW(Medel_T[[#Headers],[Rad]])-Medel_T[[#Totals],[Ant]]-1,INDEX(Medel_T[NrX],MATCH(ROW()-ROW(Medel_T[[#Headers],[Rad]]),Medel_T[NrX],0)))","v":{"$error":"#N/A"}},{"$f":"IF(Medel_T[[#This Row],[Rad]]<=Medel_T[[#Totals],[Ant]],MATCH(Medel_T[[#This Row],[Rad]],Medel_T[NrX],0),IFERROR(INDEX(BD_TX[[#Data],[#Totals],[SJ]],MATCH(Medel_T[[#This Row],[Rad]],BD_TX[[#Data],[#Totals],[Nr]],0)),\"\"))","v":{"$error":"#N/A"}},{"$f":"LEN(Medel_T[[#This Row],[Yrke2]])-LEN(SUBSTITUTE(Medel_T[[#This Row],[Yrke2]],LEFT(Sep_T[Separator],1),\"\"))","v":0},{"$f":"INDEX(Medel_T[År],Medel_T[[#This Row],[Nr]])","v":{"$error":"#N/A"}},{"$f":"IFERROR(IF(LEN(Medel_T[[#This Row],[Nr]])>0,TEXT(IFERROR(INDEX(Medel_T[Start],Medel_T[[#This Row],[Nr]]),INDEX(BD_TX[[#Data],[#Totals],[Start]],MATCH(Medel_T[[#This Row],[Rad]],BD_TX[[#Data],[#Totals],[Nr]],0))),\"ÅÅÅÅ MMM\")&\"-\"&TEXT(IFERROR(INDEX(Medel_T[Slut],Medel_T[[#This Row],[Nr]]),INDEX(BD_TX[[#Data],[#Totals],[År]],MATCH(Medel_T[[#This Row],[Rad]],BD_TX[[#Data],[#Totals],[Nr]],0))),\"ÅÅÅÅ MMM\"),\"\"),\"\")","v":""},{"$f":"IFERROR(IF(LEN(Medel_T[[#This Row],[Nr]])>0,IF(Medel_T[[#This Row],[Rad]]>Medel_T[[#Totals],[Ant]],IFERROR(INDEX(BD_TX[[#Data],[#Totals],[Text]],MATCH(Medel_T[[#This Row],[Rad]],BD_TX[[#Data],[#Totals],[Nr]],0)),\"\"),INDEX(Medel_T[Yrke],Medel_T[[#This Row],[Nr]])),\"\"),\"\")","v":""},{"$f":"IFERROR(INDEX(Medel_T[Arbetsmoment],MATCH(ROW()-ROW(Medel_T[[#Headers],[Arbetsmoment2]]),Medel_T[[NrX]:[NrX]],0)),\"\")","v":""},{"$f":"IFERROR(INDEX(Medel_T[],Medel_T[[#This Row],[Nr]],Medel_T[[#Totals],[HöA_T]]),\"\")","v":""},{"$f":"IF(LEN(Medel_T[[#This Row],[Nr]:[Nr]])>0,IFERROR(TEXT(ROUND(24*IFERROR(INDEX(Medel_T[],Medel_T[[#This Row],[Nr]:[Nr]],Medel_T[[#Totals],[D HöA]]),INDEX(Sum_T[[#Data],[#Totals]],MATCH(Medel_T[[#This Row],[Nr]:[Nr]],Sum_T[[#Data],[#Totals],[Typ]:[Typ]],0),MATCH(Medel_T[[#Headers],[D HöA]],Sum_T[#Headers],0))),1-(INT(LOG10(ABS(24*IFERROR(INDEX(Medel_T[],Medel_T[[#This Row],[Nr]:[Nr]],Medel_T[[#Totals],[D HöA]]),INDEX(Sum_T[[#Data],[#Totals]],MATCH(Medel_T[[#This Row],[Nr]:[Nr]],Sum_T[[#Data],[#Totals],[Typ]:[Typ]],0),MATCH(Medel_T[[#Headers],[D HöA]],Sum_T[#Headers],0)))))))),\"0\"&IF(1-(INT(LOG10(ABS(24*IFERROR(INDEX(Medel_T[],Medel_T[[#This Row],[Nr]:[Nr]],Medel_T[[#Totals],[D HöA]]),INDEX(Sum_T[[#Data],[#Totals]],MATCH(Medel_T[[#This Row],[Nr]:[Nr]],Sum_T[[#Data],[#Totals],[Typ]:[Typ]],0),MATCH(Medel_T[[#Headers],[D HöA]],Sum_T[#Headers],0)))))))>0,\",\"&REPT(\"0\",1-(INT(LOG10(ABS(24*IFERROR(INDEX(Medel_T[],Medel_T[[#This Row],[Nr]:[Nr]],Medel_T[[#Totals],[D HöA]]),INDEX(Sum_T[[#Data],[#Totals]],MATCH(Medel_T[[#This Row],[Nr]:[Nr]],Sum_T[[#Data],[#Totals],[Typ]:[Typ]],0),MATCH(Medel_T[[#Headers],[D HöA]],Sum_T[#Headers],0)))))))),0)),0),\"\")","v":{"$error":"#N/A"}},{"$f":"IFERROR(INDEX(Medel_T[],Medel_T[[#This Row],[Nr]],Medel_T[[#Totals],[AÖA_T]]),\"\")","v":""},{"$f":"IFERROR(IF(LEN(Medel_T[[#This Row],[Nr]:[Nr]])>0,IFERROR(TEXT(ROUND(24*IFERROR(INDEX(Medel_T[],Medel_T[[#This Row],[Nr]:[Nr]],Medel_T[[#Totals],[D AöA]]),INDEX(Sum_T[[#Data],[#Totals]],MATCH(Medel_T[[#This Row],[Nr]:[Nr]],Sum_T[[#Data],[#Totals],[Typ]:[Typ]],0),MATCH(Medel_T[[#Headers],[D AöA]],Sum_T[#Headers],0))),1-(INT(LOG10(ABS(24*IFERROR(INDEX(Medel_T[],Medel_T[[#This Row],[Nr]:[Nr]],Medel_T[[#Totals],[D AöA]]),INDEX(Sum_T[[#Data],[#Totals]],MATCH(Medel_T[[#This Row],[Nr]:[Nr]],Sum_T[[#Data],[#Totals],[Typ]:[Typ]],0),MATCH(Medel_T[[#Headers],[D AöA]],Sum_T[#Headers],0)))))))),\"0\"&IF(1-(INT(LOG10(ABS(24*IFERROR(INDEX(Medel_T[],Medel_T[[#This Row],[Nr]:[Nr]],Medel_T[[#Totals],[D AöA]]),INDEX(Sum_T[[#Data],[#Totals]],MATCH(Medel_T[[#This Row],[Nr]:[Nr]],Sum_T[[#Data],[#Totals],[Typ]:[Typ]],0),MATCH(Medel_T[[#Headers],[D AöA]],Sum_T[#Headers],0)))))))>0,\",\"&REPT(\"0\",1-(INT(LOG10(ABS(24*IFERROR(INDEX(Medel_T[],Medel_T[[#This Row],[Nr]:[Nr]],Medel_T[[#Totals],[D AöA]]),INDEX(Sum_T[[#Data],[#Totals]],MATCH(Medel_T[[#This Row],[Nr]:[Nr]],Sum_T[[#Data],[#Totals],[Typ]:[Typ]],0),MATCH(Medel_T[[#Headers],[D AöA]],Sum_T[#Headers],0)))))))),0)),0),\"\"),\"\")","v":""},{"$f":"IFERROR(INDEX(Medel_T[],Medel_T[[#This Row],[Nr]],Medel_T[[#Totals],[4AM_T]]),\"\")","v":""},{"$f":"IF(LEN(Medel_T[[#This Row],[Nr]:[Nr]])>0,IFERROR(TEXT(ROUND(24*IFERROR(INDEX(Medel_T[],Medel_T[[#This Row],[Nr]:[Nr]],Medel_T[[#Totals],[D 4AM]]),INDEX(Sum_T[[#Data],[#Totals]],MATCH(Medel_T[[#This Row],[Nr]:[Nr]],Sum_T[[#Data],[#Totals],[Typ]:[Typ]],0),MATCH(Medel_T[[#Headers],[D 4AM]],Sum_T[#Headers],0))),1-(INT(LOG10(ABS(24*IFERROR(INDEX(Medel_T[],Medel_T[[#This Row],[Nr]:[Nr]],Medel_T[[#Totals],[D 4AM]]),INDEX(Sum_T[[#Data],[#Totals]],MATCH(Medel_T[[#This Row],[Nr]:[Nr]],Sum_T[[#Data],[#Totals],[Typ]:[Typ]],0),MATCH(Medel_T[[#Headers],[D 4AM]],Sum_T[#Headers],0)))))))),\"0\"&IF(1-(INT(LOG10(ABS(24*IFERROR(INDEX(Medel_T[],Medel_T[[#This Row],[Nr]:[Nr]],Medel_T[[#Totals],[D 4AM]]),INDEX(Sum_T[[#Data],[#Totals]],MATCH(Medel_T[[#This Row],[Nr]:[Nr]],Sum_T[[#Data],[#Totals],[Typ]:[Typ]],0),MATCH(Medel_T[[#Headers],[D 4AM]],Sum_T[#Headers],0)))))))>0,\",\"&REPT(\"0\",1-(INT(LOG10(ABS(24*IFERROR(INDEX(Medel_T[],Medel_T[[#This Row],[Nr]:[Nr]],Medel_T[[#Totals],[D 4AM]]),INDEX(Sum_T[[#Data],[#Totals]],MATCH(Medel_T[[#This Row],[Nr]:[Nr]],Sum_T[[#Data],[#Totals],[Typ]:[Typ]],0),MATCH(Medel_T[[#Headers],[D 4AM]],Sum_T[#Headers],0)))))))),0)),0),\"\")","v":{"$error":"#N/A"}},{"$f":"IFERROR(INDEX(Medel_T[],Medel_T[[#This Row],[Nr]],Medel_T[[#Totals],[15AM_T]]),\"\")","v":""},{"$f":"IFERROR(IF(LEN(Medel_T[[#This Row],[Nr]:[Nr]])>0,IFERROR(TEXT(ROUND(24*IFERROR(INDEX(Medel_T[],Medel_T[[#This Row],[Nr]:[Nr]],Medel_T[[#Totals],[D 15AM]]),INDEX(Sum_T[[#Data],[#Totals]],MATCH(Medel_T[[#This Row],[Nr]:[Nr]],Sum_T[[#Data],[#Totals],[Typ]:[Typ]],0),MATCH(Medel_T[[#Headers],[D 15AM]],Sum_T[#Headers],0))),1-(INT(LOG10(ABS(24*IFERROR(INDEX(Medel_T[],Medel_T[[#This Row],[Nr]:[Nr]],Medel_T[[#Totals],[D 15AM]]),INDEX(Sum_T[[#Data],[#Totals]],MATCH(Medel_T[[#This Row],[Nr]:[Nr]],Sum_T[[#Data],[#Totals],[Typ]:[Typ]],0),MATCH(Medel_T[[#Headers],[D 15AM]],Sum_T[#Headers],0)))))))),\"0\"&IF(1-(INT(LOG10(ABS(24*IFERROR(INDEX(Medel_T[],Medel_T[[#This Row],[Nr]:[Nr]],Medel_T[[#Totals],[D 15AM]]),INDEX(Sum_T[[#Data],[#Totals]],MATCH(Medel_T[[#This Row],[Nr]:[Nr]],Sum_T[[#Data],[#Totals],[Typ]:[Typ]],0),MATCH(Medel_T[[#Headers],[D 15AM]],Sum_T[#Headers],0)))))))>0,\",\"&REPT(\"0\",1-(INT(LOG10(ABS(24*IFERROR(INDEX(Medel_T[],Medel_T[[#This Row],[Nr]:[Nr]],Medel_T[[#Totals],[D 15AM]]),INDEX(Sum_T[[#Data],[#Totals]],MATCH(Medel_T[[#This Row],[Nr]:[Nr]],Sum_T[[#Data],[#Totals],[Typ]:[Typ]],0),MATCH(Medel_T[[#Headers],[D 15AM]],Sum_T[#Headers],0)))))))),0)),0),\"\"),\"\")","v":""},{"$f":"IFERROR(INDEX(Medel_T[],Medel_T[[#This Row],[Nr]],Medel_T[[#Totals],[20-10D_T]]),\"\")","v":""},{"$f":"IF(LEN(Medel_T[[#This Row],[Nr]:[Nr]])>0,IFERROR(TEXT(ROUND(24*IFERROR(INDEX(Medel_T[],Medel_T[[#This Row],[Nr]:[Nr]],Medel_T[[#Totals],[D 20-10D]]),INDEX(Sum_T[[#Data],[#Totals]],MATCH(Medel_T[[#This Row],[Nr]:[Nr]],Sum_T[[#Data],[#Totals],[Typ]:[Typ]],0),MATCH(Medel_T[[#Headers],[D 20-10D]],Sum_T[#Headers],0))),1-(INT(LOG10(ABS(24*IFERROR(INDEX(Medel_T[],Medel_T[[#This Row],[Nr]:[Nr]],Medel_T[[#Totals],[D 20-10D]]),INDEX(Sum_T[[#Data],[#Totals]],MATCH(Medel_T[[#This Row],[Nr]:[Nr]],Sum_T[[#Data],[#Totals],[Typ]:[Typ]],0),MATCH(Medel_T[[#Headers],[D 20-10D]],Sum_T[#Headers],0)))))))),\"0\"&IF(1-(INT(LOG10(ABS(24*IFERROR(INDEX(Medel_T[],Medel_T[[#This Row],[Nr]:[Nr]],Medel_T[[#Totals],[D 20-10D]]),INDEX(Sum_T[[#Data],[#Totals]],MATCH(Medel_T[[#This Row],[Nr]:[Nr]],Sum_T[[#Data],[#Totals],[Typ]:[Typ]],0),MATCH(Medel_T[[#Headers],[D 20-10D]],Sum_T[#Headers],0)))))))>0,\",\"&REPT(\"0\",1-(INT(LOG10(ABS(24*IFERROR(INDEX(Medel_T[],Medel_T[[#This Row],[Nr]:[Nr]],Medel_T[[#Totals],[D 20-10D]]),INDEX(Sum_T[[#Data],[#Totals]],MATCH(Medel_T[[#This Row],[Nr]:[Nr]],Sum_T[[#Data],[#Totals],[Typ]:[Typ]],0),MATCH(Medel_T[[#Headers],[D 20-10D]],Sum_T[#Headers],0)))))))),0)),0),\"\")","v":{"$error":"#N/A"}},null,{"$f":"IFERROR(INDEX(Hin_T[Nr],MATCH(SMALL(Hin_T[B-årX],ROW()-ROW(Hut_T[[#Headers],[Rad]])),Hin_T[B-årX],0)),IF(ROWS($EB$19:EB28)=1+COUNTIF(Hin_T[Start],\"*\"),Hin_T[[#Totals],[Dag]],IF(AND(ROWS($EB$19:EB28)=2+COUNTIF(Hin_T[Start],\"*\"),Hin_T[[#Totals],[Q%-]]>0),EB27+1,IF(AND(ROWS($EB$19:EB28)=3+COUNTIF(Hin_T[Start],\"*\"),Hin_T[[#Totals],[Q%-]]>1),EB27+1,IF(AND(ROWS($EB$19:EB28)=4+COUNTIF(Hin_T[Start],\"*\"),Hin_T[[#Totals],[Q%-]]>2),EB27+1,\"\")))))","v":""},{"$f":"IF(Hut_T[[#This Row],[Rad]]<Hin_T[[#Totals],[Dag]],ROWS($EB$19:EB28),IFERROR(INDEX(BD_TX[[#Data],[#Totals],[SJ]],MATCH(Hut_T[[#This Row],[Rad]],BD_TX[[#Data],[#Totals],[NrX]],0)),\"\"))","v":""},{"$f":"IF(ISNUMBER(Hut_T[[#This Row],[Datum-]]),TEXT(Hut_T[[#This Row],[Datum-]],\"ÅÅÅÅ MMM\")&\"-\"&TEXT(Hut_T[[#This Row],[Datum+]],\"ÅÅÅÅ MMM\"),\"\")","v":""},{"$f":"IF(ISNUMBER(Hut_T[[#This Row],[Nr]]),IF(INDEX(Hin_T[Yrke],Hut_T[[#This Row],[Rad]])>0,INDEX(Hin_T[Yrke],Hut_T[[#This Row],[Rad]]),\"\"),IFERROR(INDEX(BD_TX[[#Data],[#Totals],[Text]],MATCH(Hut_T[[#This Row],[Rad]],BD_TX[[#Data],[#Totals],[NrX]],0)),\"\"))","v":""},{"$f":"IF(ISNUMBER(Hut_T[[#This Row],[Nr]]),IF(INDEX(Hin_T[Arbetsmoment],Hut_T[[#This Row],[Rad]])>0,INDEX(Hin_T[Arbetsmoment],Hut_T[[#This Row],[Rad]]),\"\"),\"\")","v":""},{"$f":"IFERROR(IF(INDEX(Hin_T[Yrke],Hut_T[[#This Row],[Rad]])>0,INDEX(Hin_T[Företag],Hut_T[[#This Row],[Rad]]),\"\"),\"\")","v":""},{"$f":"IFERROR(IF(INDEX(Hin_T[Dag],Hut_T[[#This Row],[Rad]])>0,INDEX(Hin_T[Dag],Hut_T[[#This Row],[Rad]])*DÅ[Arbetsdag/år],\"\"),\"\")","v":""},{"$f":"IF(AND(ISNUMBER(_xlfn.SINGLE(Hut_T[[#This Row],[Rad]:[Rad]])),IFERROR(_xlfn.SINGLE(INDEX(Hin_T[[#Data],[#Totals]],_xlfn.SINGLE(Hut_T[[#This Row],[Rad]:[Rad]]),MATCH(Hut_T[[#Headers],[D HöA]],Hin_T[#Headers],0))),\"\")),IFERROR(ROUND(_xlfn.SINGLE(INDEX(Hin_T[[#Data],[#Totals]],_xlfn.SINGLE(Hut_T[[#This Row],[Rad]:[Rad]])-IF(_xlfn.SINGLE(Hut_T[[#This Row],[Nr]:[Nr]])=_xlfn.SINGLE(#REF!),COUNT(Besvär_T[[Sjukdomsdebut]:[Sjukdomsdebut]]),0),MATCH(_xlfn.SINGLE(IF(_xlfn.SINGLE(Hut_T[[#This Row],[Nr]:[Nr]])=_xlfn.SINGLE(#REF!),#REF!,\"\"))&Hut_T[[#Headers],[D HöA]],Hin_T[#Headers],0))),0),\"\"),\"\")","v":""},{"$f":"IF(AND(ISNUMBER(Hut_T[[#This Row],[Rad]:[Rad]]),ISNUMBER(Hut_T[[#This Row],[D HöA]]),ISNUMBER(Hut_T[[#This Row],[Nr]:[Nr]])),IFERROR(ROUND(INDEX(Hin_T[[#Data],[#Totals]],Hut_T[[#This Row],[Rad]:[Rad]],MATCH(Hut_T[[#Headers],[HöA-A]],Hin_T[#Headers],0)),1-(INT(LOG10(INDEX(Hin_T[[#Data],[#Totals]],Hut_T[[#This Row],[Rad]:[Rad]],MATCH(Hut_T[[#Headers],[HöA-A]],Hin_T[#Headers],0)))))),1),\"\")","v":""},{"$f":"IF(AND(ISNUMBER(Hut_T[[#This Row],[Rad]:[Rad]]),IFERROR(INDEX(Hin_T[[#Data],[#Totals]],Hut_T[[#This Row],[Rad]:[Rad]],MATCH(Hut_T[[#Headers],[D AöA]],Hin_T[#Headers],0)),\"\")),IFERROR(ROUND(INDEX(Hin_T[[#Data],[#Totals]],Hut_T[[#This Row],[Rad]:[Rad]]-IF(Hut_T[[#This Row],[Nr]:[Nr]]=BD_TX[[SJ]:[SJ]],COUNT(Besvär_T[[Sjukdomsdebut]:[Sjukdomsdebut]]),0),MATCH(IF(Hut_T[[#This Row],[Nr]:[Nr]]=BD_TX[[#Totals],[SJ]:[SJ]],BD_TX[[#Headers],[SJ]],\"\")&Hut_T[[#Headers],[D AöA]],Hin_T[#Headers],0)),0),\"\"),\"\")","v":""},{"$f":"IF(AND(ISNUMBER(Hut_T[[#This Row],[Rad]:[Rad]]),ISNUMBER(Hut_T[[#This Row],[D AöA]]),ISNUMBER(Hut_T[[#This Row],[Nr]:[Nr]])),IFERROR(ROUND(INDEX(Hin_T[[#Data],[#Totals]],Hut_T[[#This Row],[Rad]:[Rad]],MATCH(Hut_T[[#Headers],[AöA-A]],Hin_T[#Headers],0)),1-(INT(LOG10(INDEX(Hin_T[[#Data],[#Totals]],Hut_T[[#This Row],[Rad]:[Rad]],MATCH(Hut_T[[#Headers],[AöA-A]],Hin_T[#Headers],0)))))),1),\"\")","v":""},{"$f":"IF(AND(ISNUMBER(_xlfn.SINGLE(Hut_T[[#This Row],[Rad]:[Rad]])),IFERROR(_xlfn.SINGLE(INDEX(Hin_T[[#Data],[#Totals]],_xlfn.SINGLE(Hut_T[[#This Row],[Rad]:[Rad]]),MATCH(Hut_T[[#Headers],[D 4AM]],Hin_T[#Headers],0))),\"\")),IFERROR(ROUND(_xlfn.SINGLE(INDEX(Hin_T[[#Data],[#Totals]],_xlfn.SINGLE(Hut_T[[#This Row],[Rad]:[Rad]])-IF(_xlfn.SINGLE(Hut_T[[#This Row],[Nr]:[Nr]])=_xlfn.SINGLE(#REF!),COUNT(Besvär_T[[Sjukdomsdebut]:[Sjukdomsdebut]]),0),MATCH(_xlfn.SINGLE(IF(_xlfn.SINGLE(Hut_T[[#This Row],[Nr]:[Nr]])=_xlfn.SINGLE(#REF!),#REF!,\"\"))&Hut_T[[#Headers],[D 4AM]],Hin_T[#Headers],0))),0),\"\"),\"\")","v":""},{"$f":"IF(AND(ISNUMBER(Hut_T[[#This Row],[Rad]:[Rad]]),ISNUMBER(Hut_T[[#This Row],[D 4AM]]),ISNUMBER(Hut_T[[#This Row],[Nr]:[Nr]])),IFERROR(ROUND(INDEX(Hin_T[[#Data],[#Totals]],Hut_T[[#This Row],[Rad]:[Rad]],MATCH(Hut_T[[#Headers],[4AM-A]],Hin_T[#Headers],0)),1-(INT(LOG10(INDEX(Hin_T[[#Data],[#Totals]],Hut_T[[#This Row],[Rad]:[Rad]],MATCH(Hut_T[[#Headers],[4AM-A]],Hin_T[#Headers],0)))))),1),\"\")","v":""},{"$f":"IF(AND(ISNUMBER(Hut_T[[#This Row],[Rad]:[Rad]]),IFERROR(INDEX(Hin_T[[#Data],[#Totals]],Hut_T[[#This Row],[Rad]:[Rad]],MATCH(Hut_T[[#Headers],[D 15AM]],Hin_T[#Headers],0)),\"\")),IFERROR(ROUND(INDEX(Hin_T[[#Data],[#Totals]],Hut_T[[#This Row],[Rad]:[Rad]]-IF(Hut_T[[#This Row],[Nr]:[Nr]]=BD_TX[[SJ]:[SJ]],COUNT(Besvär_T[[Sjukdomsdebut]:[Sjukdomsdebut]]),0),MATCH(IF(Hut_T[[#This Row],[Nr]:[Nr]]=BD_TX[[#Totals],[SJ]:[SJ]],BD_TX[[#Headers],[SJ]],\"\")&Hut_T[[#Headers],[D 15AM]],Hin_T[#Headers],0)),0),\"\"),\"\")","v":""},{"$f":"IF(AND(ISNUMBER(Hut_T[[#This Row],[Rad]:[Rad]]),ISNUMBER(Hut_T[[#This Row],[D 15AM]]),ISNUMBER(Hut_T[[#This Row],[Nr]:[Nr]])),IFERROR(ROUND(INDEX(Hin_T[[#Data],[#Totals]],Hut_T[[#This Row],[Rad]:[Rad]],MATCH(Hut_T[[#Headers],[15AM-A]],Hin_T[#Headers],0)),1-(INT(LOG10(INDEX(Hin_T[[#Data],[#Totals]],Hut_T[[#This Row],[Rad]:[Rad]],MATCH(Hut_T[[#Headers],[15AM-A]],Hin_T[#Headers],0)))))),1),\"\")","v":""},{"$f":"IF(AND(ISNUMBER(Hut_T[[#This Row],[Rad]:[Rad]]),IFERROR(INDEX(Hin_T[[#Data],[#Totals]],Hut_T[[#This Row],[Rad]:[Rad]],MATCH(Hut_T[[#Headers],[D 20-10D]],Hin_T[#Headers],0)),\"\")),IFERROR(ROUND(INDEX(Hin_T[[#Data],[#Totals]],Hut_T[[#This Row],[Rad]:[Rad]]-IF(Hut_T[[#This Row],[Nr]:[Nr]]=BD_TX[[SJ]:[SJ]],COUNT(Besvär_T[[Sjukdomsdebut]:[Sjukdomsdebut]]),0),MATCH(IF(Hut_T[[#This Row],[Nr]:[Nr]]=BD_TX[[#Totals],[SJ]:[SJ]],BD_TX[[#Headers],[SJ]],\"\")&Hut_T[[#Headers],[D 20-10D]],Hin_T[#Headers],0)),0),\"\"),\"\")","v":""},{"$f":"IF(AND(ISNUMBER(Hut_T[[#This Row],[Rad]:[Rad]]),ISNUMBER(Hut_T[[#This Row],[D 20-10D]]),ISNUMBER(Hut_T[[#This Row],[Nr]:[Nr]])),IFERROR(ROUND(INDEX(Hin_T[[#Data],[#Totals]],Hut_T[[#This Row],[Rad]:[Rad]],MATCH(Hut_T[[#Headers],[20-10D-A]],Hin_T[#Headers],0)),1-(INT(LOG10(INDEX(Hin_T[[#Data],[#Totals]],Hut_T[[#This Row],[Rad]:[Rad]],MATCH(Hut_T[[#Headers],[20-10D-A]],Hin_T[#Headers],0)))))),1),\"\")","v":""},null,{"$f":"IFERROR(INDEX(Hin_T[[#Data],[#Totals],[B-år]],Hut_T[[#This Row],[Rad]]),IF(ISNUMBER(Hut_T[[#This Row],[Datum+]]),ET27,\"\"))","v":""},{"$f":"IFERROR(INDEX(Hin_T[S-år],Hut_T[[#This Row],[Rad]]),IFERROR(INDEX(BD_TX[[#Data],[#Totals],[År]],MATCH(Hut_T[[#This Row],[Rad]],BD_TX[[#Data],[#Totals],[NrX]],0)),\"\"))","v":""},null,{"$f":"ROWS($EW$20:EW28)","v":9},{"$f":"IFERROR(MATCH(Hist_Tab[[#This Row],[Ref]],Medel_T[NrX],0),1)","v":1},{"$f":"INT((ROW(Hist_Tab[[#This Row],[Ref]])-ROW(Hist_Tab[[#Headers],[Ref]])-1)/4)+1","v":3},{"$f":"COUNTIF($EY$19:EY28,Hist_Tab[[#This Row],[Ref]])","v":2},{"$f":"IFERROR(INDEX(Medel_T[Start],Hist_Tab[[#This Row],[Ref]]),_xlfn.AGGREGATE(4,6,Medel_T[Start]))","v":"00:00:00"},{"$f":"IFERROR(INDEX(Medel_T[Slut],Hist_Tab[[#This Row],[Ref]]),_xlfn.AGGREGATE(4,6,Medel_T[Slut]))","v":"00:00:00"},{"$f":"IF(EW27=0,Hist_Tab[[#This Row],[ÅrB]],IF(Hist_Tab[[#This Row],[per/p]]<2,Hist_Tab[[#This Row],[ÅrB]],Hist_Tab[[#This Row],[År S]]))","v":"00:00:00"},{"$f":"IF(Hist_Tab[[#This Row],[Rad]:[Rad]]=0,-1,IF($EY29>_xlfn.AGGREGATE(2,6,Medel_T[[Slut]:[Slut]]),0,INDEX(Medel_T[],Hist_Tab[[#This Row],[Ref]:[Ref]],MATCH(Hist_Tab[[#Headers],[HöA T]],Medel_T[#Headers],0))))","v":0},{"$f":"IF(Hist_Tab[[#This Row],[Rad]:[Rad]]=0,0,IF($EY29>_xlfn.AGGREGATE(2,6,Medel_T[[Slut]:[Slut]]),0,INDEX(Medel_T[],Hist_Tab[[#This Row],[Ref]:[Ref]],MATCH(Hist_Tab[[#Headers],[AöA T]],Medel_T[#Headers],0))))","v":0},{"$f":"IF(Hist_Tab[[#This Row],[Rad]:[Rad]]=0,0,IF($EY29>_xlfn.AGGREGATE(2,6,Medel_T[[Slut]:[Slut]]),0,INDEX(Medel_T[],Hist_Tab[[#This Row],[Ref]:[Ref]],MATCH(Hist_Tab[[#Headers],[4AM T]],Medel_T[#Headers],0))))","v":0},{"$f":"IF(Hist_Tab[[#This Row],[Rad]:[Rad]]=0,0,IF($EY29>_xlfn.AGGREGATE(2,6,Medel_T[[Slut]:[Slut]]),0,INDEX(Medel_T[],Hist_Tab[[#This Row],[Ref]:[Ref]],MATCH(Hist_Tab[[#Headers],[15AM T]],Medel_T[#Headers],0))))","v":0},{"$f":"IF(Hist_Tab[[#This Row],[Rad]:[Rad]]=0,0,IF($EY29>_xlfn.AGGREGATE(2,6,Medel_T[[Slut]:[Slut]]),0,INDEX(Medel_T[],Hist_Tab[[#This Row],[Ref]:[Ref]],MATCH(Hist_Tab[[#Headers],[20-10D T]],Medel_T[#Headers],0))))","v":0}]
[null,null,null,null,null,null,null,null,null,null,null,null,null,null,null,null,null,null,{"$f":"IF(LEN(Hin_T[[#This Row],[Start]])>0,ROWS($S$19:S29),\"\")","v":""},null,{"$f":"Hin_T[[#This Row],[Yrke]]&IF(ISBLANK(Hin_T[[#This Row],[Arbetsmoment]]),\"\",\"; \"&Hin_T[[#This Row],[Arbetsmoment]])","v":""},{"$f":"IFERROR(IF(LEN(Hin_T[[#This Row],[Start]])-LEN(SUBSTITUTE(Hin_T[[#This Row],[Start]],\"-\",\"\"))=2,DATEVALUE(Hin_T[[#This Row],[Start]]),IF(LEN(Hin_T[[#This Row],[Start]])<5,DATEVALUE(Hin_T[[#This Row],[Start]]&\"-01-01\"),DATEVALUE(LEFT(Hin_T[[#This Row],[Start]],IF(LEN(Hin_T[[#This Row],[Start]])>6,4,2))&\"-\"&MID(Hin_T[[#This Row],[Start]],IF(LEN(Hin_T[[#This Row],[Start]])>6,5,3),2)&\"-\"&RIGHT(Hin_T[[#This Row],[Start]],2)))),\"\")","v":""},{"$f":"IFERROR(IF(LEN(Hin_T[[#This Row],[Slut]])-LEN(SUBSTITUTE(Hin_T[[#This Row],[Slut]],\"-\",\"\"))=2,DATEVALUE(Hin_T[[#This Row],[Slut]]),IF(LEN(Hin_T[[#This Row],[Slut]])<5,DATEVALUE(Hin_T[[#This Row],[Slut]]&\"-12-31\"),DATEVALUE(LEFT(Hin_T[[#This Row],[Slut]],IF(LEN(Hin_T[[#This Row],[Slut]])>6,4,2))&\"-\"&MID(Hin_T[[#This Row],[Slut]],IF(LEN(Hin_T[[#This Row],[Slut]])>6,5,3),2)&\"-\"&RIGHT(Hin_T[[#This Row],[Slut]],2)))),\"\")","v":""},{"$f":"IF(COUNTIF(V$19:V29,Hin_T[[#This Row],[B-år]])=1,Hin_T[[#This Row],[B-år]],\"\")","v":""},{"$f":"IF(COUNTIF(W$19:W29,Hin_T[[#This Row],[S-år]])=1,Hin_T[[#This Row],[S-år]],\"\")","v":""},{"$f":"IFERROR(Hin_T[[#This Row],[B-år]]+IF(COUNTIF($V$19:V29,Hin_T[[#This Row],[B-år]])>1,COUNTIF($V$19:V29,Hin_T[[#This Row],[B-år]])/10,0),\"\")","v":""},{"$f":"IF(ISNUMBER(Hin_T[[#This Row],[Dagar]]),Hin_T[[#This Row],[Dagar]]/DÅ[Arbetsdag/år],1)","v":1},{"$f":"Hin_T[[#This Row],[Dag]]*DÅ[Arbetsdag/år]","v":220},{"$f":"IF(LEN(Hin_T[[#This Row],[Yrke]])=4,1,0)","v":0},{"$f":"_xlfn.DAYS(Hin_T[[#This Row],[B-år]],DATE(YEAR(Hin_T[[#This Row],[B-år]]),1,1))/(DATE(YEAR(Hin_T[[#This Row],[B-år]])+1,1,1)-DATE(YEAR(Hin_T[[#This Row],[B-år]]),1,1))","v":{"$error":"#VALUE!"}},{"$f":"_xlfn.DAYS(DATE(YEAR(Hin_T[[#This Row],[S-år]]),12,31),Hin_T[[#This Row],[S-år]])/(DATE(YEAR(Hin_T[[#This Row],[S-år]])+1,1,1)-DATE(YEAR(Hin_T[[#This Row],[S-år]]),1,1))","v":{"$error":"#VALUE!"}},{"$f":"YEARFRAC(Hin_T[[#This Row],[S-år]],Hin_T[[#This Row],[B-år]])*Hin_T[[#This Row],[Dag]]","v":{"$error":"#VALUE!"}},{"$f":"IFERROR(Hin_T[[#This Row],[År diff]]*IF(ISNUMBER(Hin_T[[#This Row],[HöA]]),1,0),0)","v":0},{"$f":"IFERROR(Hin_T[[#This Row],[År diff]]*IF(ISNUMBER(Hin_T[[#This Row],[AöA]]),1,0),0)","v":0},{"$f":"IF(Hin_T[[#This Row],[B-år]]<=Besvär_T[[#Totals],[Sjukdomsdebut]],Hin_T[[#This Row],[B-år]],\"\")","v":""},{"$f":"IF(Hin_T[[#This Row],[S-år]]<=Besvär_T[[#Totals],[Sjukdomsdebut]],Hin_T[[#This Row],[S-år]],\"\")","v":""},{"$f":"IFERROR(YEARFRAC(IF(AND(ISNUMBER(Hin_T[[#This Row],[B-år EA]]),LEN(Hin_T[[#This Row],[S-år EA]])=0),Hin_T[[#Totals],[15AM-A]],Hin_T[[#This Row],[S-år EA]]),Hin_T[[#This Row],[B-år EA]])*Hin_T[[#This Row],[Dag]]*IF(ISNUMBER(Hin_T[[#This Row],[HöA]]),1,0),0)","v":0},{"$f":"IFERROR(YEARFRAC(IF(AND(ISNUMBER(Hin_T[[#This Row],[B-år EA]]),LEN(Hin_T[[#This Row],[S-år EA]])=0),Hin_T[[#Totals],[15AM-A]],Hin_T[[#This Row],[S-år EA]]),Hin_T[[#This Row],[B-år EA]])*Hin_T[[#This Row],[Dag]]*IF(ISNUMBER(Hin_T[[#This Row],[AöA]]),1,0),0)","v":0},{"$f":"IFERROR(Hin_T[[#This Row],[År diff]]*IF(ISNUMBER(Hin_T[[#This Row],[4AM]]),1,0),0)","v":0},{"$f":"IFERROR(Hin_T[[#This Row],[År diff]]*IF(ISNUMBER(Hin_T[[#This Row],[15AM]]),1,0),0)","v":0},{"$f":"IF(Hin_T[[#This Row],[B-år]]<=Besvär_T[[#Totals],[Sjukdomsdebut]],Hin_T[[#This Row],[B-år]],\"\")","v":""},{"$f":"IF(Hin_T[[#This Row],[S-år]]<=Besvär_T[[#Totals],[Sjukdomsdebut]],Hin_T[[#This Row],[S-år]],\"\")","v":""},{"$f":"IFERROR(YEARFRAC(IF(AND(ISNUMBER(Hin_T[[#This Row],[B-år RA]]),LEN(Hin_T[[#This Row],[S-år RA]])=0),Hin_T[[#Totals],[15AM-A]],Hin_T[[#This Row],[S-år RA]]),Hin_T[[#This Row],[B-år RA]])*Hin_T[[#This Row],[Dag]]*IF(ISNUMBER(Hin_T[[#This Row],[4AM]]),1,0),0)","v":0},{"$f":"IFERROR(YEARFRAC(IF(AND(ISNUMBER(Hin_T[[#This Row],[B-år RA]]),LEN(Hin_T[[#This Row],[S-år RA]])=0),Hin_T[[#Totals],[15AM-A]],Hin_T[[#This Row],[S-år RA]]),Hin_T[[#This Row],[B-år RA]])*Hin_T[[#This Row],[Dag]]*IF(ISNUMBER(Hin_T[[#This Row],[15AM]]),1,0),0)","v":0},{"$f":"IFERROR(Hin_T[[#This Row],[År diff]]*IF(ISNUMBER(Hin_T[[#This Row],[20-10D]]),1,0),0)","v":0},{"$f":"IF(Hin_T[[#This Row],[B-år]]<=Besvär_T[[#Totals],[Sjukdomsdebut]],Hin_T[[#This Row],[B-år]],\"\")","v":""},{"$f":"IF(Hin_T[[#This Row],[S-år]]<=Besvär_T[[#Totals],[Sjukdomsdebut]],Hin_T[[#This Row],[S-år]],\"\")","v":""},{"$f":"IFERROR(YEARFRAC(IF(AND(ISNUMBER(Hin_T[[#This Row],[B-år TMH]]),LEN(Hin_T[[#This Row],[S-år TMH]])=0),Hin_T[[#Totals],[15AM-A]],Hin_T[[#This Row],[S-år TMH]]),Hin_T[[#This Row],[B-år TMH]])*Hin_T[[#This Row],[Dag]]*IF(ISNUMBER(Hin_T[[#This Row],[20-10D]]),1,0),0)","v":0},{"$f":"IF(Hin_T[[#This Row],[Vib]]=JN_T[JN],1,0)","v":0},{"$f":"IFERROR(Hin_T[[#This Row],[År diff]]*IF(Hin_T[[#This Row],[Vib2]]>0,1,0),0)","v":0},{"$f":"IF(Hin_T[[#This Row],[B-år]]<=Besvär_T[[#Totals],[Sjukdomsdebut]],Hin_T[[#This Row],[B-år]],\"\")","v":""},{"$f":"IF(Hin_T[[#This Row],[S-år]]<=Besvär_T[[#Totals],[Sjukdomsdebut]],Hin_T[[#This Row],[S-år]],\"\")","v":""},{"$f":"IFERROR(YEARFRAC(IF(AND(ISNUMBER(Hin_T[[#This Row],[B-år VIB]]),LEN(Hin_T[[#This Row],[S-år Vib]])=0),Hin_T[[#Totals],[15AM-A]],Hin_T[[#This Row],[S-år Vib]]),Hin_T[[#This Row],[B-år VIB]])*IF(Hin_T[[#This Row],[Vib2]]>0,1,0),0)","v":0},{"$f":"Hin_T[[#This Row],[HöA]]*Hin_T[[#This Row],[tot år HöA]]*DÅ[Arbetsdag/år]","v":0},{"$f":"Hin_T[[#This Row],[tot år AöA]]*Hin_T[[#This Row],[AöA]]*DÅ[Arbetsdag/år]","v":0},{"$f":"Hin_T[[#This Row],[tot år 4AM]]*Hin_T[[#This Row],[4AM]]*DÅ[Arbetsdag/år]","v":0},{"$f":"Hin_T[[#This Row],[tot år 15AM]]*Hin_T[[#This Row],[15AM]]*DÅ[Arbetsdag/år]","v":0},{"$f":"Hin_T[[#This Row],[tot år 20-10D]]*Hin_T[[#This Row],[20-10D]]*DÅ[Arbetsdag/år]","v":0},{"$f":"Hin_T[[#This Row],[BD år HöA]]*Hin_T[[#This Row],[HöA]]*DÅ[Arbetsdag/år]","v":0},{"$f":"Hin_T[[#This Row],[BD år AöA]]*Hin_T[[#This Row],[AöA]]*DÅ[Arbetsdag/år]","v":0},{"$f":"Hin_T[[#This Row],[BD år 4AM]]*Hin_T[[#This Row],[4AM]]*DÅ[Arbetsdag/år]","v":0},{"$f":"Hin_T[[#This Row],[BD år 15AM]]*Hin_T[[#This Row],[15AM]]*DÅ[Arbetsdag/år]","v":0},{"$f":"Hin_T[[#This Row],[BD år 20-10D]]*Hin_T[[#This Row],[20-10D]]*DÅ[Arbetsdag/år]","v":0},{"$f":"Hin_T[[#This Row],[Arbetsmoment]]&Hin_T[[#This Row],[Text AöA]]&Hin_T[[#This Row],[Text 15AM]]&IF(Hin_T[[#This Row],[Dagarna]]=DÅ[Arbetsdag/år],\"\",\". \"&Hin_T[[#This Row],[Dagarna]]&\" dagar/år\")&\". \"","v":". "},{"$f":"IF(ISBLANK(Hin_T[[#This Row],[AöA]]),\"\",Exp_T[Överarmslyft> 90°: ]&IF(VALUE(TEXT(Hin_T[[#This Row],[AöA]],\"t\"))>0,VALUE(TEXT(Hin_T[[#This Row],[AöA]],\"t\"))&\" h\",\"\")&IF(AND(VALUE(TEXT(Hin_T[[#This Row],[AöA]],\"t\"))>0,VALUE(TEXT(Hin_T[[#This Row],[AöA]],\"m\"))>2.4),\" \",\"\")&IF(VALUE(TEXT(Hin_T[[#This Row],[AöA]],\"m\"))>2.4,TEXT(ROUND(Hin_T[[#This Row],[AöA]]*(24*60/5),0)/(24*60/5),\"m\")&\" min\",\"\")&\"/dag\")","v":""},{"$f":"IF(ISBLANK(Hin_T[[#This Row],[15AM]]),\"\",Exp_T[Överarmsrörelser> 15/min: ]&IF(VALUE(TEXT(Hin_T[[#This Row],[15AM]],\"t\"))>0,VALUE(TEXT(Hin_T[[#This Row],[15AM]],\"t\"))&\" h\",\"\")&IF(AND(VALUE(TEXT(Hin_T[[#This Row],[15AM]],\"t\"))>0,VALUE(TEXT(Hin_T[[#This Row],[15AM]],\"m\"))>2.4),\" \",\"\")&IF(VALUE(TEXT(Hin_T[[#This Row],[15AM]],\"m\"))>2.4,TEXT(ROUND(Hin_T[[#This Row],[15AM]]*(24*60/5),0)/(24*60/5),\"m\")&\" min\",\"\")&\"/dag\")","v":""},null,null,null,null,{"$f":"SMALL(Hin_T[[StartÅR]:[SlutÅr]],ROW()-ROW(Medel_T[[#Headers],[Start]]))","v":{"$error":"#NUM!"}},{"$f":"SMALL(Hin_T[[StartÅR]:[SlutÅr]],ROW()-ROW(Medel_T[[#Headers],[Slut]])+1)","v":{"$error":"#NUM!"}},{"$f":"IF(Medel_T[[#This Row],[Start]]<=Besvär_T[[#Totals],[Sjukdomsdebut]],Medel_T[[#This Row],[Start]],\"\")","v":{"$error":"#NUM!"}},{"$f":"IF(Medel_T[[#This Row],[Slut]]<=Besvär_T[[#Totals],[Sjukdomsdebut]],Medel_T[[#This Row],[Slut]],IF(AND(LEN(Medel_T[[#This Row],[SJDstart]])>0,LEN(BU30)=0),Besvär_T[[#Totals],[Sjukdomsdebut]],\"\"))","v":{"$error":"#NUM!"}},{"$f":"IF(Medel_T[[#This Row],[Start]]>=Besvär_T[[#Totals],[Sjukdomsdebut]],Medel_T[[#This Row],[Start]],IF(AND(LEN(Medel_T[[#This Row],[EfterSlut]])>0,LEN(BX28)=0),Besvär_T[[#Totals],[Sjukdomsdebut]],\"\"))","v":{"$error":"#NUM!"}},{"$f":"IF(Medel_T[[#This Row],[Slut]]>=Besvär_T[[#Totals],[Sjukdomsdebut]],Medel_T[[#This Row],[Slut]],\"\")","v":{"$error":"#NUM!"}},{"$f":"COUNTIF($BZ$19:BZ29,\">0\")","v":0},{"$f":"COUNTIFS(Hin_T[B-år],\"<=\"&Medel_T[[#This Row],[Start]],Hin_T[S-år],\">=\"&Medel_T[[#This Row],[Slut]])","v":0},{"$f":"SUBSTITUTE(_xlfn.TEXTJOIN(Sep_T[Separator],TRUE,_xlfn._xlws.SORT(_xlfn.UNIQUE(IF((Hin_T[[B-år]:[B-år]]<=Medel_T[[#This Row],[Start]:[Start]])*(Hin_T[[S-år]:[S-år]]>=Medel_T[[#This Row],[Slut]:[Slut]]),Hin_T[Yrke],\"\")))),0&Sep_T[Separator],\"\")","v":{"$error":"#NUM!"}},{"$f":"SUBSTITUTE(_xlfn.TEXTJOIN(Sep_T[Separator],TRUE,_xlfn._xlws.SORT(_xlfn.UNIQUE(IF((Hin_T[[B-år]:[B-år]]<=Medel_T[[#This Row],[Start]:[Start]])*(Hin_T[[S-år]:[S-år]]>=Medel_T[[#This Row],[Slut]:[Slut]]),Hin_T[Arbetsmoment],\"\")))),0&Sep_T[Separator],\"\")","v":{"$error":"#NUM!"}},{"$f":"IF(LEN(Medel_T[[#This Row],[Yrke]])>0,Medel_T[[#Headers],[Period ]]&Medel_T[[#This Row],[NrX]]&\": \"&TEXT(Medel_T[[#This Row],[Start]],\"ÅÅÅÅ\")&List_T[[#Totals],[List symb]]&TEXT(Medel_T[[#This Row],[Slut]],\"ÅÅÅÅ\")&\" (\"&ROUND(Medel_T[[#This Row],[År]],1)&\" år) Anställd som \"&IFERROR(SUBSTITUTE(SUBSTITUTE(Medel_T[[#This Row],[Yrke]],Sep_T[Separator],\" och \",Medel_T[[#This Row],[Ant]]-1),Sep_T[Separator],\", \"),Medel_T[[#This Row],[Yrke]])&↓[↓],\"\")","v":{"$error":"#NUM!"}},{"$f":"IF(LEN(Medel_T[[#This Row],[Arbetsmoment]])>0,ROMAN(1)&\") \"&_xlfn.TEXTJOIN(Delim[Delimiters],TRUE,_xlfn._xlws.SORT(_xlfn.UNIQUE(IF((Hin_T[[B-år]:[B-år]]<=Medel_T[[#This Row],[Start]:[Start]])*(Hin_T[[S-år]:[S-år]]>=Medel_T[[#This Row],[Slut]:[Slut]]),Hin_T[Text],\"\"))))&↓[↓],\"\")","v":{"$error":"#NUM!"}},{"$f":"SUMPRODUCT((Hin_T[[B-år]:[B-år]]<=Medel_T[[#This Row],[Start]:[Start]])*(Hin_T[[S-år]:[S-år]]>=Medel_T[[#This Row],[Slut]:[Slut]])*Hin_T[Dag])","v":{"$error":"#NUM!"}},{"$f":"IF(Medel_T[[#This Row],[Proc dag]]<=1,Medel_T[[#This Row],[Proc dag]],1)","v":{"$error":"#NUM!"}},{"$f":"YEARFRAC(Medel_T[[#This Row],[Slut]],Medel_T[[#This Row],[Start]])","v":{"$error":"#NUM!"}},{"$f":"YEARFRAC(Medel_T[[#This Row],[SJDslut]],Medel_T[[#This Row],[SJDstart]])","v":{"$error":"#NUM!"}},{"$f":"IFERROR(SUMPRODUCT((Hin_T[[B-år]:[B-år]]<=Medel_T[[#This Row],[Start]:[Start]])*(Hin_T[[S-år]:[S-år]]>=Medel_T[[#This Row],[Slut]:[Slut]])*Hin_T[HöA]*Hin_T[[Dag]:[Dag]])/Medel_T[[#This Row],[Proc dag]],-1)","v":-1},{"$f":"IFERROR(SUMPRODUCT((Hin_T[[B-år]:[B-år]]<=Medel_T[[#This Row],[Start]:[Start]])*(Hin_T[[S-år]:[S-år]]>=Medel_T[[#This Row],[Slut]:[Slut]])*Hin_T[AöA]*Hin_T[[Dag]:[Dag]])/Medel_T[[#This Row],[Proc dag]],-1)","v":-1},{"$f":"IFERROR(SUMPRODUCT((Hin_T[[B-år]:[B-år]]<=Medel_T[[#This Row],[Start]:[Start]])*(Hin_T[[S-år]:[S-år]]>=Medel_T[[#This Row],[Slut]:[Slut]])*Hin_T[4AM]*Hin_T[[Dag]:[Dag]])/Medel_T[[#This Row],[Proc dag]],-1)","v":-1},{"$f":"IFERROR(SUMPRODUCT((Hin_T[[B-år]:[B-år]]<=Medel_T[[#This Row],[Start]:[Start]])*(Hin_T[[S-år]:[S-år]]>=Medel_T[[#This Row],[Slut]:[Slut]])*Hin_T[15AM]*Hin_T[[Dag]:[Dag]])/Medel_T[[#This Row],[Proc dag]],-1)","v":-1},{"$f":"IFERROR(SUMPRODUCT((Hin_T[[B-år]:[B-år]]<=Medel_T[[#This Row],[Start]:[Start]])*(Hin_T[[S-år]:[S-år]]>=Medel_T[[#This Row],[Slut]:[Slut]])*Hin_T[20-10D]*Hin_T[[Dag]:[Dag]])/Medel_T[[#This Row],[Proc dag]],-1)","v":-1},{"$f":"IFERROR(SUMPRODUCT((Hin_T[[B-år]:[B-år]]<=Medel_T[[#This Row],[Start]:[Start]])*(Hin_T[[S-år]:[S-år]]>=Medel_T[[#This Row],[Slut]:[Slut]])*Hin_T[[Dag]:[Dag]]*Hin_T[HöA])/Medel_T[[#This Row],[Dag sum]],-1)","v":-1},{"$f":"IFERROR(SUMPRODUCT((Hin_T[[B-år]:[B-år]]<=Medel_T[[#This Row],[Start]:[Start]])*(Hin_T[[S-år]:[S-år]]>=Medel_T[[#This Row],[Slut]:[Slut]])*Hin_T[[Dag]:[Dag]]*Hin_T[AöA])/Medel_T[[#This Row],[Dag sum]],-1)","v":-1},{"$f":"IFERROR(SUMPRODUCT((Hin_T[[B-år]:[B-år]]<=Medel_T[[#This Row],[Start]:[Start]])*(Hin_T[[S-år]:[S-år]]>=Medel_T[[#This Row],[Slut]:[Slut]])*Hin_T[[Dag]:[Dag]]*Hin_T[4AM])/Medel_T[[#This Row],[Dag sum]],-1)","v":-1},{"$f":"IFERROR(SUMPRODUCT((Hin_T[[B-år]:[B-år]]<=Medel_T[[#This Row],[Start]:[Start]])*(Hin_T[[S-år]:[S-år]]>=Medel_T[[#This Row],[Slut]:[Slut]])*Hin_T[15AM]*Hin_T[[Dag]:[Dag]])/Medel_T[[#This Row],[Dag sum]],-1)","v":-1},{"$f":"IFERROR(SUMPRODUCT((Hin_T[[B-år]:[B-år]]<=Medel_T[[#This Row],[Start]:[Start]])*(Hin_T[[S-år]:[S-år]]>=Medel_T[[#This Row],[Slut]:[Slut]])*Hin_T[[Dag]:[Dag]]*Hin_T[20-10D])/Medel_T[[#This Row],[Dag sum]],-1)","v":-1},{"$f":"IFERROR(Medel_T[[#This Row],[Dag sum]:[Dag sum]]*Medel_T[[#This Row],[År]:[År]]*Medel_T[[#This Row],[HöA T]]*DÅ[Arbetsdag/år],0)","v":0},{"$f":"IFERROR(Medel_T[[#This Row],[Dag sum]:[Dag sum]]*Medel_T[[#This Row],[År]:[År]]*Medel_T[[#This Row],[AöA T]]*DÅ[Arbetsdag/år],0)","v":0},{"$f":"IFERROR(Medel_T[[#This Row],[Dag sum]:[Dag sum]]*Medel_T[[#This Row],[År]:[År]]*Medel_T[[#This Row],[4AM T]]*DÅ[Arbetsdag/år],0)","v":0},{"$f":"IFERROR(Medel_T[[#This Row],[Dag sum]:[Dag sum]]*Medel_T[[#This Row],[År]:[År]]*Medel_T[[#This Row],[15AM T]]*DÅ[Arbetsdag/år],0)","v":0},{"$f":"IFERROR(Medel_T[[#This Row],[Dag sum]:[Dag sum]]*Medel_T[[#This Row],[År]:[År]]*Medel_T[[#This Row],[20-10D T]]*DÅ[Arbetsdag/år],0)","v":0},{"$f":"IFERROR(Medel_T[[#This Row],[Dag sum]:[Dag sum]]*Medel_T[[#This Row],[ÅrSjuk]:[ÅrSjuk]]*Medel_T[[#This Row],[HöA T]]*DÅ[Arbetsdag/år],0)","v":0},{"$f":"IFERROR(Medel_T[[#This Row],[Dag sum]:[Dag sum]]*Medel_T[[#This Row],[ÅrSjuk]:[ÅrSjuk]]*Medel_T[[#This Row],[AöA T]]*DÅ[Arbetsdag/år],0)","v":0},{"$f":"IFERROR(Medel_T[[#This Row],[Dag sum]:[Dag sum]]*Medel_T[[#This Row],[ÅrSjuk]:[ÅrSjuk]]*Medel_T[[#This Row],[4AM T]]*DÅ[Arbetsdag/år],0)","v":0},{"$f":"IFERROR(Medel_T[[#This Row],[Dag sum]:[Dag sum]]*Medel_T[[#This Row],[ÅrSjuk]:[ÅrSjuk]]*Medel_T[[#This Row],[15AM T]]*DÅ[Arbetsdag/år],0)","v":0},{"$f":"IFERROR(Medel_T[[#This Row],[Dag sum]:[Dag sum]]*Medel_T[[#This Row],[ÅrSjuk]:[ÅrSjuk]]*Medel_T[[#This Row],[20-10D T]]*DÅ[Arbetsdag/år],0)","v":0},{"$f":"IFERROR(IF(Medel_T[[#This Row],[AöA T]]=0,\"\",List_T[List symb]&Exp_T[[#Headers],[Överarmslyft> 90°: ]]&IF(VALUE(TEXT(Medel_T[[#This Row],[AöA T]],\"t\"))>0,VALUE(TEXT(Medel_T[[#This Row],[AöA T]],\"t\"))&\" h\",\"\")&IF(AND(VALUE(TEXT(Medel_T[[#This Row],[AöA T]],\"t\"))>0,VALUE(TEXT(Medel_T[[#This Row],[AöA T]],\"m\"))>2.4),\" \",\"\")&IF(VALUE(TEXT(Medel_T[[#This Row],[AöA T]],\"m\"))>2.4,TEXT(ROUND(Medel_T[[#This Row],[AöA T]]*(24*60/5),0)/(24*60/5),\"m\")&\" min\",\"\")&\"/dag x \"&ROUND(Medel_T[[#This Row],[Dag sum]:[Dag sum]]*DÅ[Arbetsdag/år],0)&\" dagar x \"&ROUND(Medel_T[[#This Row],[År]:[År]],1)&\" år = \"&TEXT(ROUND(Medel_T[[#This Row],[D AöA§]]*24,1-(INT(LOG10(ABS(Medel_T[[#This Row],[D AöA§]]*24))))),\"0\"&IF(1-(INT(LOG10(ABS(Medel_T[[#This Row],[D AöA§]]*24))))>0,\",\"&REPT(\"0\",1-(INT(LOG10(ABS(Medel_T[[#This Row],[D AöA§]]*24))))),\"\"))& \" h\"),\"\")","v":""},{"$f":"IFERROR(IF(Medel_T[[#This Row],[15AM T]]=0,\"\",List_T[List symb]&Exp_T[[#Headers],[Överarmsrörelser> 15/min: ]]&IF(VALUE(TEXT(Medel_T[[#This Row],[15AM T]],\"t\"))>0,VALUE(TEXT(Medel_T[[#This Row],[15AM T]],\"t\"))&\" h\",\"\")&IF(AND(VALUE(TEXT(Medel_T[[#This Row],[15AM T]],\"t\"))>0,VALUE(TEXT(Medel_T[[#This Row],[15AM T]],\"m\"))>2.4),\" \",\"\")&IF(VALUE(TEXT(Medel_T[[#This Row],[15AM T]],\"m\"))>2.4,TEXT(ROUND(Medel_T[[#This Row],[15AM T]]*(24*60/5),0)/(24*60/5),\"m\")&\" min\",\"\")&\"/dag x \"&ROUND(Medel_T[[#This Row],[Dag sum]:[Dag sum]]*DÅ[Arbetsdag/år],0)&\" dagar x \"&ROUND(Medel_T[[#This Row],[År]:[År]],1)&\" år = \"&TEXT(ROUND(Medel_T[[#This Row],[D 15AM§]]*24,1-(INT(LOG10(ABS(Medel_T[[#This Row],[D 15AM§]]*24))))),\"0\"&IF(1-(INT(LOG10(ABS(Medel_T[[#This Row],[D 15AM§]]*24))))>0,\",\"&REPT(\"0\",1-(INT(LOG10(ABS(Medel_T[[#This Row],[D 15AM§]]*24))))),\"\"))& \" h\"),\"\")","v":""},{"$f":"IFERROR(IF(OR(LEN(Medel_T[[#This Row],[AöA text]])>0,LEN(Medel_T[[#This Row],[15AM Text]])>0),Exp_T[Anställning]&YEAR(Medel_T[[#This Row],[Start]])&List_T[[#Totals],[List symb]]&YEAR(Medel_T[[#This Row],[Slut]])&\" (\"&ROUND(Medel_T[[#This Row],[År]],1)&\" år)\"&IF(LEN(Medel_T[[#This Row],[AöA text]])>0,↓[↓],\"\")&Medel_T[[#This Row],[AöA text]]&IF(LEN(Medel_T[[#This Row],[15AM Text]])>0,↓[↓],\"\")&Medel_T[[#This Row],[15AM Text]],\"\"),\"\")","v":""},{"$f":"IFERROR(IF(Medel_T[[#This Row],[AöA T]]=0,\"\",List_T[List symb]&Exp_T[[#Headers],[Överarmsrörelser> 15/min: ]]&IF(VALUE(TEXT(Medel_T[[#This Row],[AöA T]],\"t\"))>0,VALUE(TEXT(Medel_T[[#This Row],[AöA T]],\"t\"))&\" h\",\"\")&IF(AND(VALUE(TEXT(Medel_T[[#This Row],[AöA T]],\"t\"))>0,VALUE(TEXT(Medel_T[[#This Row],[AöA T]],\"m\"))>2.4),\" \",\"\")&IF(VALUE(TEXT(Medel_T[[#This Row],[AöA T]],\"m\"))>2.4,TEXT(ROUND(Medel_T[[#This Row],[AöA T]]*(24*60/5),0)/(24*60/5),\"m\")&\" min\",\"\")&\"/dag x \"&ROUND(Medel_T[[#This Row],[Dag sum]:[Dag sum]]*DÅ[Arbetsdag/år],0)&\" dagar x \"&ROUND(Medel_T[[#This Row],[År]:[År]],1)&\" år = \"&TEXT(ROUND(Medel_T[[#This Row],[D AöA¤]]*24,1-(INT(LOG10(ABS(Medel_T[[#This Row],[D AöA¤]]*24))))),\"0\"&IF(1-(INT(LOG10(ABS(Medel_T[[#This Row],[D AöA¤]]*24))))>0,\",\"&REPT(\"0\",1-(INT(LOG10(ABS(Medel_T[[#This Row],[D AöA¤]]*24))))),\"\"))& \" h\"),\"\")","v":""},{"$f":"IFERROR(IF(Medel_T[[#This Row],[15AM T]]=0,\"\",List_T[List symb]&Exp_T[[#Headers],[Överarmslyft> 90°: ]]&IF(VALUE(TEXT(Medel_T[[#This Row],[15AM T]],\"t\"))>0,VALUE(TEXT(Medel_T[[#This Row],[15AM T]],\"t\"))&\" h\",\"\")&IF(AND(VALUE(TEXT(Medel_T[[#This Row],[15AM T]],\"t\"))>0,VALUE(TEXT(Medel_T[[#This Row],[15AM T]],\"m\"))>0),\" \",\"\")&IF(VALUE(TEXT(Medel_T[[#This Row],[15AM T]],\"m\"))>0,TEXT(ROUND(Medel_T[[#This Row],[15AM T]]*(24*60/5),0)/(24*60/5),\"m\")&\" min\",\"\")&\"/dag x \"&ROUND(Medel_T[[#This Row],[Dag sum]:[Dag sum]]*DÅ[Arbetsdag/år],0)&\" dagar x \"&ROUND(Medel_T[[#This Row],[År]:[År]],1)&\" år = \"&TEXT(ROUND(Medel_T[[#This Row],[D 15AM¤]]*24,1-(INT(LOG10(ABS(Medel_T[[#This Row],[D 15AM¤]]*24))))),\"0\"&IF(1-(INT(LOG10(ABS(Medel_T[[#This Row],[D 15AM¤]]*24))))>0,\",\"&REPT(\"0\",1-(INT(LOG10(ABS(Medel_T[[#This Row],[D 15AM¤]]*24))))),\"\"))& \" h\"),\"\")","v":""},{"$f":"IFERROR(IF(LEN(Medel_T[[#This Row],[SJDstart]])>0,Exp_T[Anställning]&↓[↓]&YEAR(Medel_T[[#This Row],[Start]])&List_T[[#Totals],[List symb]]&YEAR(Medel_T[[#This Row],[Slut]])&\" (\"&ROUND(Medel_T[[#This Row],[År]],1)&\" år)\"&IF(LEN(Medel_T[[#This Row],[AöA text Sjuk]])>0,↓[↓],\"\")&Medel_T[[#This Row],[AöA text Sjuk]]&IF(LEN(Medel_T[[#This Row],[15AM Text Sjuk]])>0,↓[↓],\"\")&Medel_T[[#This Row],[15AM Text Sjuk]],\"\"),\"\")","v":""},{"$f":"IFERROR(Medel_T[[#This Row],[Period ]]&Medel_T[[#This Row],[ArbMomText]]&Medel_T[[#This Row],[Text]],\"\")","v":""},{"$f":"IF(AND(DJ28>=MAX(Medel_T[NrX]),ISNUMBER(DJ28)),Medel_T[[#Totals],[NrX]]+ROW()-ROW(Medel_T[[#Headers],[Rad]])-Medel_T[[#Totals],[Ant]]-1,INDEX(Medel_T[NrX],MATCH(ROW()-ROW(Medel_T[[#Headers],[Rad]]),Medel_T[NrX],0)))","v":{"$error":"#N/A"}},{"$f":"IF(Medel_T[[#This Row],[Rad]]<=Medel_T[[#Totals],[Ant]],MATCH(Medel_T[[#This Row],[Rad]],Medel_T[NrX],0),IFERROR(INDEX(BD_TX[[#Data],[#Totals],[SJ]],MATCH(Medel_T[[#This Row],[Rad]],BD_TX[[#Data],[#Totals],[Nr]],0)),\"\"))","v":{"$error":"#N/A"}},{"$f":"LEN(Medel_T[[#This Row],[Yrke2]])-LEN(SUBSTITUTE(Medel_T[[#This Row],[Yrke2]],LEFT(Sep_T[Separator],1),\"\"))","v":0},{"$f":"INDEX(Medel_T[År],Medel_T[[#This Row],[Nr]])","v":{"$error":"#N/A"}},{"$f":"IFERROR(IF(LEN(Medel_T[[#This Row],[Nr]])>0,TEXT(IFERROR(INDEX(Medel_T[Start],Medel_T[[#This Row],[Nr]]),INDEX(BD_TX[[#Data],[#Totals],[Start]],MATCH(Medel_T[[#This Row],[Rad]],BD_TX[[#Data],[#Totals],[Nr]],0))),\"ÅÅÅÅ MMM\")&\"-\"&TEXT(IFERROR(INDEX(Medel_T[Slut],Medel_T[[#This Row],[Nr]]),INDEX(BD_TX[[#Data],[#Totals],[År]],MATCH(Medel_T[[#This Row],[Rad]],BD_TX[[#Data],[#Totals],[Nr]],0))),\"ÅÅÅÅ MMM\"),\"\"),\"\")","v":""},{"$f":"IFERROR(IF(LEN(Medel_T[[#This Row],[Nr]])>0,IF(Medel_T[[#This Row],[Rad]]>Medel_T[[#Totals],[Ant]],IFERROR(INDEX(BD_TX[[#Data],[#Totals],[Text]],MATCH(Medel_T[[#This Row],[Rad]],BD_TX[[#Data],[#Totals],[Nr]],0)),\"\"),INDEX(Medel_T[Yrke],Medel_T[[#This Row],[Nr]])),\"\"),\"\")","v":""},{"$f":"IFERROR(INDEX(Medel_T[Arbetsmoment],MATCH(ROW()-ROW(Medel_T[[#Headers],[Arbetsmoment2]]),Medel_T[[NrX]:[NrX]],0)),\"\")","v":""},{"$f":"IFERROR(INDEX(Medel_T[],Medel_T[[#This Row],[Nr]],Medel_T[[#Totals],[HöA_T]]),\"\")","v":""},{"$f":"IF(LEN(Medel_T[[#This Row],[Nr]:[Nr]])>0,IFERROR(TEXT(ROUND(24*IFERROR(INDEX(Medel_T[],Medel_T[[#This Row],[Nr]:[Nr]],Medel_T[[#Totals],[D HöA]]),INDEX(Sum_T[[#Data],[#Totals]],MATCH(Medel_T[[#This Row],[Nr]:[Nr]],Sum_T[[#Data],[#Totals],[Typ]:[Typ]],0),MATCH(Medel_T[[#Headers],[D HöA]],Sum_T[#Headers],0))),1-(INT(LOG10(ABS(24*IFERROR(INDEX(Medel_T[],Medel_T[[#This Row],[Nr]:[Nr]],Medel_T[[#Totals],[D HöA]]),INDEX(Sum_T[[#Data],[#Totals]],MATCH(Medel_T[[#This Row],[Nr]:[Nr]],Sum_T[[#Data],[#Totals],[Typ]:[Typ]],0),MATCH(Medel_T[[#Headers],[D HöA]],Sum_T[#Headers],0)))))))),\"0\"&IF(1-(INT(LOG10(ABS(24*IFERROR(INDEX(Medel_T[],Medel_T[[#This Row],[Nr]:[Nr]],Medel_T[[#Totals],[D HöA]]),INDEX(Sum_T[[#Data],[#Totals]],MATCH(Medel_T[[#This Row],[Nr]:[Nr]],Sum_T[[#Data],[#Totals],[Typ]:[Typ]],0),MATCH(Medel_T[[#Headers],[D HöA]],Sum_T[#Headers],0)))))))>0,\",\"&REPT(\"0\",1-(INT(LOG10(ABS(24*IFERROR(INDEX(Medel_T[],Medel_T[[#This Row],[Nr]:[Nr]],Medel_T[[#Totals],[D HöA]]),INDEX(Sum_T[[#Data],[#Totals]],MATCH(Medel_T[[#This Row],[Nr]:[Nr]],Sum_T[[#Data],[#Totals],[Typ]:[Typ]],0),MATCH(Medel_T[[#Headers],[D HöA]],Sum_T[#Headers],0)))))))),0)),0),\"\")","v":{"$error":"#N/A"}},{"$f":"IFERROR(INDEX(Medel_T[],Medel_T[[#This Row],[Nr]],Medel_T[[#Totals],[AÖA_T]]),\"\")","v":""},{"$f":"IFERROR(IF(LEN(Medel_T[[#This Row],[Nr]:[Nr]])>0,IFERROR(TEXT(ROUND(24*IFERROR(INDEX(Medel_T[],Medel_T[[#This Row],[Nr]:[Nr]],Medel_T[[#Totals],[D AöA]]),INDEX(Sum_T[[#Data],[#Totals]],MATCH(Medel_T[[#This Row],[Nr]:[Nr]],Sum_T[[#Data],[#Totals],[Typ]:[Typ]],0),MATCH(Medel_T[[#Headers],[D AöA]],Sum_T[#Headers],0))),1-(INT(LOG10(ABS(24*IFERROR(INDEX(Medel_T[],Medel_T[[#This Row],[Nr]:[Nr]],Medel_T[[#Totals],[D AöA]]),INDEX(Sum_T[[#Data],[#Totals]],MATCH(Medel_T[[#This Row],[Nr]:[Nr]],Sum_T[[#Data],[#Totals],[Typ]:[Typ]],0),MATCH(Medel_T[[#Headers],[D AöA]],Sum_T[#Headers],0)))))))),\"0\"&IF(1-(INT(LOG10(ABS(24*IFERROR(INDEX(Medel_T[],Medel_T[[#This Row],[Nr]:[Nr]],Medel_T[[#Totals],[D AöA]]),INDEX(Sum_T[[#Data],[#Totals]],MATCH(Medel_T[[#This Row],[Nr]:[Nr]],Sum_T[[#Data],[#Totals],[Typ]:[Typ]],0),MATCH(Medel_T[[#Headers],[D AöA]],Sum_T[#Headers],0)))))))>0,\",\"&REPT(\"0\",1-(INT(LOG10(ABS(24*IFERROR(INDEX(Medel_T[],Medel_T[[#This Row],[Nr]:[Nr]],Medel_T[[#Totals],[D AöA]]),INDEX(Sum_T[[#Data],[#Totals]],MATCH(Medel_T[[#This Row],[Nr]:[Nr]],Sum_T[[#Data],[#Totals],[Typ]:[Typ]],0),MATCH(Medel_T[[#Headers],[D AöA]],Sum_T[#Headers],0)))))))),0)),0),\"\"),\"\")","v":""},{"$f":"IFERROR(INDEX(Medel_T[],Medel_T[[#This Row],[Nr]],Medel_T[[#Totals],[4AM_T]]),\"\")","v":""},{"$f":"IF(LEN(Medel_T[[#This Row],[Nr]:[Nr]])>0,IFERROR(TEXT(ROUND(24*IFERROR(INDEX(Medel_T[],Medel_T[[#This Row],[Nr]:[Nr]],Medel_T[[#Totals],[D 4AM]]),INDEX(Sum_T[[#Data],[#Totals]],MATCH(Medel_T[[#This Row],[Nr]:[Nr]],Sum_T[[#Data],[#Totals],[Typ]:[Typ]],0),MATCH(Medel_T[[#Headers],[D 4AM]],Sum_T[#Headers],0))),1-(INT(LOG10(ABS(24*IFERROR(INDEX(Medel_T[],Medel_T[[#This Row],[Nr]:[Nr]],Medel_T[[#Totals],[D 4AM]]),INDEX(Sum_T[[#Data],[#Totals]],MATCH(Medel_T[[#This Row],[Nr]:[Nr]],Sum_T[[#Data],[#Totals],[Typ]:[Typ]],0),MATCH(Medel_T[[#Headers],[D 4AM]],Sum_T[#Headers],0)))))))),\"0\"&IF(1-(INT(LOG10(ABS(24*IFERROR(INDEX(Medel_T[],Medel_T[[#This Row],[Nr]:[Nr]],Medel_T[[#Totals],[D 4AM]]),INDEX(Sum_T[[#Data],[#Totals]],MATCH(Medel_T[[#This Row],[Nr]:[Nr]],Sum_T[[#Data],[#Totals],[Typ]:[Typ]],0),MATCH(Medel_T[[#Headers],[D 4AM]],Sum_T[#Headers],0)))))))>0,\",\"&REPT(\"0\",1-(INT(LOG10(ABS(24*IFERROR(INDEX(Medel_T[],Medel_T[[#This Row],[Nr]:[Nr]],Medel_T[[#Totals],[D 4AM]]),INDEX(Sum_T[[#Data],[#Totals]],MATCH(Medel_T[[#This Row],[Nr]:[Nr]],Sum_T[[#Data],[#Totals],[Typ]:[Typ]],0),MATCH(Medel_T[[#Headers],[D 4AM]],Sum_T[#Headers],0)))))))),0)),0),\"\")","v":{"$error":"#N/A"}},{"$f":"IFERROR(INDEX(Medel_T[],Medel_T[[#This Row],[Nr]],Medel_T[[#Totals],[15AM_T]]),\"\")","v":""},{"$f":"IFERROR(IF(LEN(Medel_T[[#This Row],[Nr]:[Nr]])>0,IFERROR(TEXT(ROUND(24*IFERROR(INDEX(Medel_T[],Medel_T[[#This Row],[Nr]:[Nr]],Medel_T[[#Totals],[D 15AM]]),INDEX(Sum_T[[#Data],[#Totals]],MATCH(Medel_T[[#This Row],[Nr]:[Nr]],Sum_T[[#Data],[#Totals],[Typ]:[Typ]],0),MATCH(Medel_T[[#Headers],[D 15AM]],Sum_T[#Headers],0))),1-(INT(LOG10(ABS(24*IFERROR(INDEX(Medel_T[],Medel_T[[#This Row],[Nr]:[Nr]],Medel_T[[#Totals],[D 15AM]]),INDEX(Sum_T[[#Data],[#Totals]],MATCH(Medel_T[[#This Row],[Nr]:[Nr]],Sum_T[[#Data],[#Totals],[Typ]:[Typ]],0),MATCH(Medel_T[[#Headers],[D 15AM]],Sum_T[#Headers],0)))))))),\"0\"&IF(1-(INT(LOG10(ABS(24*IFERROR(INDEX(Medel_T[],Medel_T[[#This Row],[Nr]:[Nr]],Medel_T[[#Totals],[D 15AM]]),INDEX(Sum_T[[#Data],[#Totals]],MATCH(Medel_T[[#This Row],[Nr]:[Nr]],Sum_T[[#Data],[#Totals],[Typ]:[Typ]],0),MATCH(Medel_T[[#Headers],[D 15AM]],Sum_T[#Headers],0)))))))>0,\",\"&REPT(\"0\",1-(INT(LOG10(ABS(24*IFERROR(INDEX(Medel_T[],Medel_T[[#This Row],[Nr]:[Nr]],Medel_T[[#Totals],[D 15AM]]),INDEX(Sum_T[[#Data],[#Totals]],MATCH(Medel_T[[#This Row],[Nr]:[Nr]],Sum_T[[#Data],[#Totals],[Typ]:[Typ]],0),MATCH(Medel_T[[#Headers],[D 15AM]],Sum_T[#Headers],0)))))))),0)),0),\"\"),\"\")","v":""},{"$f":"IFERROR(INDEX(Medel_T[],Medel_T[[#This Row],[Nr]],Medel_T[[#Totals],[20-10D_T]]),\"\")","v":""},{"$f":"IF(LEN(Medel_T[[#This Row],[Nr]:[Nr]])>0,IFERROR(TEXT(ROUND(24*IFERROR(INDEX(Medel_T[],Medel_T[[#This Row],[Nr]:[Nr]],Medel_T[[#Totals],[D 20-10D]]),INDEX(Sum_T[[#Data],[#Totals]],MATCH(Medel_T[[#This Row],[Nr]:[Nr]],Sum_T[[#Data],[#Totals],[Typ]:[Typ]],0),MATCH(Medel_T[[#Headers],[D 20-10D]],Sum_T[#Headers],0))),1-(INT(LOG10(ABS(24*IFERROR(INDEX(Medel_T[],Medel_T[[#This Row],[Nr]:[Nr]],Medel_T[[#Totals],[D 20-10D]]),INDEX(Sum_T[[#Data],[#Totals]],MATCH(Medel_T[[#This Row],[Nr]:[Nr]],Sum_T[[#Data],[#Totals],[Typ]:[Typ]],0),MATCH(Medel_T[[#Headers],[D 20-10D]],Sum_T[#Headers],0)))))))),\"0\"&IF(1-(INT(LOG10(ABS(24*IFERROR(INDEX(Medel_T[],Medel_T[[#This Row],[Nr]:[Nr]],Medel_T[[#Totals],[D 20-10D]]),INDEX(Sum_T[[#Data],[#Totals]],MATCH(Medel_T[[#This Row],[Nr]:[Nr]],Sum_T[[#Data],[#Totals],[Typ]:[Typ]],0),MATCH(Medel_T[[#Headers],[D 20-10D]],Sum_T[#Headers],0)))))))>0,\",\"&REPT(\"0\",1-(INT(LOG10(ABS(24*IFERROR(INDEX(Medel_T[],Medel_T[[#This Row],[Nr]:[Nr]],Medel_T[[#Totals],[D 20-10D]]),INDEX(Sum_T[[#Data],[#Totals]],MATCH(Medel_T[[#This Row],[Nr]:[Nr]],Sum_T[[#Data],[#Totals],[Typ]:[Typ]],0),MATCH(Medel_T[[#Headers],[D 20-10D]],Sum_T[#Headers],0)))))))),0)),0),\"\")","v":{"$error":"#N/A"}},null,{"$f":"IFERROR(INDEX(Hin_T[Nr],MATCH(SMALL(Hin_T[B-årX],ROW()-ROW(Hut_T[[#Headers],[Rad]])),Hin_T[B-årX],0)),IF(ROWS($EB$19:EB29)=1+COUNTIF(Hin_T[Start],\"*\"),Hin_T[[#Totals],[Dag]],IF(AND(ROWS($EB$19:EB29)=2+COUNTIF(Hin_T[Start],\"*\"),Hin_T[[#Totals],[Q%-]]>0),EB28+1,IF(AND(ROWS($EB$19:EB29)=3+COUNTIF(Hin_T[Start],\"*\"),Hin_T[[#Totals],[Q%-]]>1),EB28+1,IF(AND(ROWS($EB$19:EB29)=4+COUNTIF(Hin_T[Start],\"*\"),Hin_T[[#Totals],[Q%-]]>2),EB28+1,\"\")))))","v":""},{"$f":"IF(Hut_T[[#This Row],[Rad]]<Hin_T[[#Totals],[Dag]],ROWS($EB$19:EB29),IFERROR(INDEX(BD_TX[[#Data],[#Totals],[SJ]],MATCH(Hut_T[[#This Row],[Rad]],BD_TX[[#Data],[#Totals],[NrX]],0)),\"\"))","v":""},{"$f":"IF(ISNUMBER(Hut_T[[#This Row],[Datum-]]),TEXT(Hut_T[[#This Row],[Datum-]],\"ÅÅÅÅ MMM\")&\"-\"&TEXT(Hut_T[[#This Row],[Datum+]],\"ÅÅÅÅ MMM\"),\"\")","v":""},{"$f":"IF(ISNUMBER(Hut_T[[#This Row],[Nr]]),IF(INDEX(Hin_T[Yrke],Hut_T[[#This Row],[Rad]])>0,INDEX(Hin_T[Yrke],Hut_T[[#This Row],[Rad]]),\"\"),IFERROR(INDEX(BD_TX[[#Data],[#Totals],[Text]],MATCH(Hut_T[[#This Row],[Rad]],BD_TX[[#Data],[#Totals],[NrX]],0)),\"\"))","v":""},{"$f":"IF(ISNUMBER(Hut_T[[#This Row],[Nr]]),IF(INDEX(Hin_T[Arbetsmoment],Hut_T[[#This Row],[Rad]])>0,INDEX(Hin_T[Arbetsmoment],Hut_T[[#This Row],[Rad]]),\"\"),\"\")","v":""},{"$f":"IFERROR(IF(INDEX(Hin_T[Yrke],Hut_T[[#This Row],[Rad]])>0,INDEX(Hin_T[Företag],Hut_T[[#This Row],[Rad]]),\"\"),\"\")","v":""},{"$f":"IFERROR(IF(INDEX(Hin_T[Dag],Hut_T[[#This Row],[Rad]])>0,INDEX(Hin_T[Dag],Hut_T[[#This Row],[Rad]])*DÅ[Arbetsdag/år],\"\"),\"\")","v":""},{"$f":"IF(AND(ISNUMBER(_xlfn.SINGLE(Hut_T[[#This Row],[Rad]:[Rad]])),IFERROR(_xlfn.SINGLE(INDEX(Hin_T[[#Data],[#Totals]],_xlfn.SINGLE(Hut_T[[#This Row],[Rad]:[Rad]]),MATCH(Hut_T[[#Headers],[D HöA]],Hin_T[#Headers],0))),\"\")),IFERROR(ROUND(_xlfn.SINGLE(INDEX(Hin_T[[#Data],[#Totals]],_xlfn.SINGLE(Hut_T[[#This Row],[Rad]:[Rad]])-IF(_xlfn.SINGLE(Hut_T[[#This Row],[Nr]:[Nr]])=_xlfn.SINGLE(#REF!),COUNT(Besvär_T[[Sjukdomsdebut]:[Sjukdomsdebut]]),0),MATCH(_xlfn.SINGLE(IF(_xlfn.SINGLE(Hut_T[[#This Row],[Nr]:[Nr]])=_xlfn.SINGLE(#REF!),#REF!,\"\"))&Hut_T[[#Headers],[D HöA]],Hin_T[#Headers],0))),0),\"\"),\"\")","v":""},{"$f":"IF(AND(ISNUMBER(Hut_T[[#This Row],[Rad]:[Rad]]),ISNUMBER(Hut_T[[#This Row],[D HöA]]),ISNUMBER(Hut_T[[#This Row],[Nr]:[Nr]])),IFERROR(ROUND(INDEX(Hin_T[[#Data],[#Totals]],Hut_T[[#This Row],[Rad]:[Rad]],MATCH(Hut_T[[#Headers],[HöA-A]],Hin_T[#Headers],0)),1-(INT(LOG10(INDEX(Hin_T[[#Data],[#Totals]],Hut_T[[#This Row],[Rad]:[Rad]],MATCH(Hut_T[[#Headers],[HöA-A]],Hin_T[#Headers],0)))))),1),\"\")","v":""},{"$f":"IF(AND(ISNUMBER(Hut_T[[#This Row],[Rad]:[Rad]]),IFERROR(INDEX(Hin_T[[#Data],[#Totals]],Hut_T[[#This Row],[Rad]:[Rad]],MATCH(Hut_T[[#Headers],[D AöA]],Hin_T[#Headers],0)),\"\")),IFERROR(ROUND(INDEX(Hin_T[[#Data],[#Totals]],Hut_T[[#This Row],[Rad]:[Rad]]-IF(Hut_T[[#This Row],[Nr]:[Nr]]=BD_TX[[SJ]:[SJ]],COUNT(Besvär_T[[Sjukdomsdebut]:[Sjukdomsdebut]]),0),MATCH(IF(Hut_T[[#This Row],[Nr]:[Nr]]=BD_TX[[#Totals],[SJ]:[SJ]],BD_TX[[#Headers],[SJ]],\"\")&Hut_T[[#Headers],[D AöA]],Hin_T[#Headers],0)),0),\"\"),\"\")","v":""},{"$f":"IF(AND(ISNUMBER(Hut_T[[#This Row],[Rad]:[Rad]]),ISNUMBER(Hut_T[[#This Row],[D AöA]]),ISNUMBER(Hut_T[[#This Row],[Nr]:[Nr]])),IFERROR(ROUND(INDEX(Hin_T[[#Data],[#Totals]],Hut_T[[#This Row],[Rad]:[Rad]],MATCH(Hut_T[[#Headers],[AöA-A]],Hin_T[#Headers],0)),1-(INT(LOG10(INDEX(Hin_T[[#Data],[#Totals]],Hut_T[[#This Row],[Rad]:[Rad]],MATCH(Hut_T[[#Headers],[AöA-A]],Hin_T[#Headers],0)))))),1),\"\")","v":""},{"$f":"IF(AND(ISNUMBER(_xlfn.SINGLE(Hut_T[[#This Row],[Rad]:[Rad]])),IFERROR(_xlfn.SINGLE(INDEX(Hin_T[[#Data],[#Totals]],_xlfn.SINGLE(Hut_T[[#This Row],[Rad]:[Rad]]),MATCH(Hut_T[[#Headers],[D 4AM]],Hin_T[#Headers],0))),\"\")),IFERROR(ROUND(_xlfn.SINGLE(INDEX(Hin_T[[#Data],[#Totals]],_xlfn.SINGLE(Hut_T[[#This Row],[Rad]:[Rad]])-IF(_xlfn.SINGLE(Hut_T[[#This Row],[Nr]:[Nr]])=_xlfn.SINGLE(#REF!),COUNT(Besvär_T[[Sjukdomsdebut]:[Sjukdomsdebut]]),0),MATCH(_xlfn.SINGLE(IF(_xlfn.SINGLE(Hut_T[[#This Row],[Nr]:[Nr]])=_xlfn.SINGLE(#REF!),#REF!,\"\"))&Hut_T[[#Headers],[D 4AM]],Hin_T[#Headers],0))),0),\"\"),\"\")","v":""},{"$f":"IF(AND(ISNUMBER(Hut_T[[#This Row],[Rad]:[Rad]]),ISNUMBER(Hut_T[[#This Row],[D 4AM]]),ISNUMBER(Hut_T[[#This Row],[Nr]:[Nr]])),IFERROR(ROUND(INDEX(Hin_T[[#Data],[#Totals]],Hut_T[[#This Row],[Rad]:[Rad]],MATCH(Hut_T[[#Headers],[4AM-A]],Hin_T[#Headers],0)),1-(INT(LOG10(INDEX(Hin_T[[#Data],[#Totals]],Hut_T[[#This Row],[Rad]:[Rad]],MATCH(Hut_T[[#Headers],[4AM-A]],Hin_T[#Headers],0)))))),1),\"\")","v":""},{"$f":"IF(AND(ISNUMBER(Hut_T[[#This Row],[Rad]:[Rad]]),IFERROR(INDEX(Hin_T[[#Data],[#Totals]],Hut_T[[#This Row],[Rad]:[Rad]],MATCH(Hut_T[[#Headers],[D 15AM]],Hin_T[#Headers],0)),\"\")),IFERROR(ROUND(INDEX(Hin_T[[#Data],[#Totals]],Hut_T[[#This Row],[Rad]:[Rad]]-IF(Hut_T[[#This Row],[Nr]:[Nr]]=BD_TX[[SJ]:[SJ]],COUNT(Besvär_T[[Sjukdomsdebut]:[Sjukdomsdebut]]),0),MATCH(IF(Hut_T[[#This Row],[Nr]:[Nr]]=BD_TX[[#Totals],[SJ]:[SJ]],BD_TX[[#Headers],[SJ]],\"\")&Hut_T[[#Headers],[D 15AM]],Hin_T[#Headers],0)),0),\"\"),\"\")","v":""},{"$f":"IF(AND(ISNUMBER(Hut_T[[#This Row],[Rad]:[Rad]]),ISNUMBER(Hut_T[[#This Row],[D 15AM]]),ISNUMBER(Hut_T[[#This Row],[Nr]:[Nr]])),IFERROR(ROUND(INDEX(Hin_T[[#Data],[#Totals]],Hut_T[[#This Row],[Rad]:[Rad]],MATCH(Hut_T[[#Headers],[15AM-A]],Hin_T[#Headers],0)),1-(INT(LOG10(INDEX(Hin_T[[#Data],[#Totals]],Hut_T[[#This Row],[Rad]:[Rad]],MATCH(Hut_T[[#Headers],[15AM-A]],Hin_T[#Headers],0)))))),1),\"\")","v":""},{"$f":"IF(AND(ISNUMBER(Hut_T[[#This Row],[Rad]:[Rad]]),IFERROR(INDEX(Hin_T[[#Data],[#Totals]],Hut_T[[#This Row],[Rad]:[Rad]],MATCH(Hut_T[[#Headers],[D 20-10D]],Hin_T[#Headers],0)),\"\")),IFERROR(ROUND(INDEX(Hin_T[[#Data],[#Totals]],Hut_T[[#This Row],[Rad]:[Rad]]-IF(Hut_T[[#This Row],[Nr]:[Nr]]=BD_TX[[SJ]:[SJ]],COUNT(Besvär_T[[Sjukdomsdebut]:[Sjukdomsdebut]]),0),MATCH(IF(Hut_T[[#This Row],[Nr]:[Nr]]=BD_TX[[#Totals],[SJ]:[SJ]],BD_TX[[#Headers],[SJ]],\"\")&Hut_T[[#Headers],[D 20-10D]],Hin_T[#Headers],0)),0),\"\"),\"\")","v":""},{"$f":"IF(AND(ISNUMBER(Hut_T[[#This Row],[Rad]:[Rad]]),ISNUMBER(Hut_T[[#This Row],[D 20-10D]]),ISNUMBER(Hut_T[[#This Row],[Nr]:[Nr]])),IFERROR(ROUND(INDEX(Hin_T[[#Data],[#Totals]],Hut_T[[#This Row],[Rad]:[Rad]],MATCH(Hut_T[[#Headers],[20-10D-A]],Hin_T[#Headers],0)),1-(INT(LOG10(INDEX(Hin_T[[#Data],[#Totals]],Hut_T[[#This Row],[Rad]:[Rad]],MATCH(Hut_T[[#Headers],[20-10D-A]],Hin_T[#Headers],0)))))),1),\"\")","v":""},null,{"$f":"IFERROR(INDEX(Hin_T[[#Data],[#Totals],[B-år]],Hut_T[[#This Row],[Rad]]),IF(ISNUMBER(Hut_T[[#This Row],[Datum+]]),ET28,\"\"))","v":""},{"$f":"IFERROR(INDEX(Hin_T[S-år],Hut_T[[#This Row],[Rad]]),IFERROR(INDEX(BD_TX[[#Data],[#Totals],[År]],MATCH(Hut_T[[#This Row],[Rad]],BD_TX[[#Data],[#Totals],[NrX]],0)),\"\"))","v":""},null,{"$f":"ROWS($EW$20:EW29)","v":10},{"$f":"IFERROR(MATCH(Hist_Tab[[#This Row],[Ref]],Medel_T[NrX],0),1)","v":1},{"$f":"INT((ROW(Hist_Tab[[#This Row],[Ref]])-ROW(Hist_Tab[[#Headers],[Ref]])-1)/4)+1","v":3},{"$f":"COUNTIF($EY$19:EY29,Hist_Tab[[#This Row],[Ref]])","v":3},{"$f":"IFERROR(INDEX(Medel_T[Start],Hist_Tab[[#This Row],[Ref]]),_xlfn.AGGREGATE(4,6,Medel_T[Start]))","v":"00:00:00"},{"$f":"IFERROR(INDEX(Medel_T[Slut],Hist_Tab[[#This Row],[Ref]]),_xlfn.AGGREGATE(4,6,Medel_T[Slut]))","v":"00:00:00"},{"$f":"IF(EW28=0,Hist_Tab[[#This Row],[ÅrB]],IF(Hist_Tab[[#This Row],[per/p]]<2,Hist_Tab[[#This Row],[ÅrB]],Hist_Tab[[#This Row],[År S]]))","v":"00:00:00"},{"$f":"IF(Hist_Tab[[#This Row],[Rad]:[Rad]]=0,-1,IF($EY30>_xlfn.AGGREGATE(2,6,Medel_T[[Slut]:[Slut]]),0,INDEX(Medel_T[],Hist_Tab[[#This Row],[Ref]:[Ref]],MATCH(Hist_Tab[[#Headers],[HöA T]],Medel_T[#Headers],0))))","v":0},{"$f":"IF(Hist_Tab[[#This Row],[Rad]:[Rad]]=0,0,IF($EY30>_xlfn.AGGREGATE(2,6,Medel_T[[Slut]:[Slut]]),0,INDEX(Medel_T[],Hist_Tab[[#This Row],[Ref]:[Ref]],MATCH(Hist_Tab[[#Headers],[AöA T]],Medel_T[#Headers],0))))","v":0},{"$f":"IF(Hist_Tab[[#This Row],[Rad]:[Rad]]=0,0,IF($EY30>_xlfn.AGGREGATE(2,6,Medel_T[[Slut]:[Slut]]),0,INDEX(Medel_T[],Hist_Tab[[#This Row],[Ref]:[Ref]],MATCH(Hist_Tab[[#Headers],[4AM T]],Medel_T[#Headers],0))))","v":0},{"$f":"IF(Hist_Tab[[#This Row],[Rad]:[Rad]]=0,0,IF($EY30>_xlfn.AGGREGATE(2,6,Medel_T[[Slut]:[Slut]]),0,INDEX(Medel_T[],Hist_Tab[[#This Row],[Ref]:[Ref]],MATCH(Hist_Tab[[#Headers],[15AM T]],Medel_T[#Headers],0))))","v":0},{"$f":"IF(Hist_Tab[[#This Row],[Rad]:[Rad]]=0,0,IF($EY30>_xlfn.AGGREGATE(2,6,Medel_T[[Slut]:[Slut]]),0,INDEX(Medel_T[],Hist_Tab[[#This Row],[Ref]:[Ref]],MATCH(Hist_Tab[[#Headers],[20-10D T]],Medel_T[#Headers],0))))","v":0}]
[null,null,null,null,null,null,null,null,null,null,null,null,null,null,null,null,null,null,{"$f":"IF(LEN(Hin_T[[#This Row],[Start]])>0,ROWS($S$19:S30),\"\")","v":""},null,{"$f":"Hin_T[[#This Row],[Yrke]]&IF(ISBLANK(Hin_T[[#This Row],[Arbetsmoment]]),\"\",\"; \"&Hin_T[[#This Row],[Arbetsmoment]])","v":""},{"$f":"IFERROR(IF(LEN(Hin_T[[#This Row],[Start]])-LEN(SUBSTITUTE(Hin_T[[#This Row],[Start]],\"-\",\"\"))=2,DATEVALUE(Hin_T[[#This Row],[Start]]),IF(LEN(Hin_T[[#This Row],[Start]])<5,DATEVALUE(Hin_T[[#This Row],[Start]]&\"-01-01\"),DATEVALUE(LEFT(Hin_T[[#This Row],[Start]],IF(LEN(Hin_T[[#This Row],[Start]])>6,4,2))&\"-\"&MID(Hin_T[[#This Row],[Start]],IF(LEN(Hin_T[[#This Row],[Start]])>6,5,3),2)&\"-\"&RIGHT(Hin_T[[#This Row],[Start]],2)))),\"\")","v":""},{"$f":"IFERROR(IF(LEN(Hin_T[[#This Row],[Slut]])-LEN(SUBSTITUTE(Hin_T[[#This Row],[Slut]],\"-\",\"\"))=2,DATEVALUE(Hin_T[[#This Row],[Slut]]),IF(LEN(Hin_T[[#This Row],[Slut]])<5,DATEVALUE(Hin_T[[#This Row],[Slut]]&\"-12-31\"),DATEVALUE(LEFT(Hin_T[[#This Row],[Slut]],IF(LEN(Hin_T[[#This Row],[Slut]])>6,4,2))&\"-\"&MID(Hin_T[[#This Row],[Slut]],IF(LEN(Hin_T[[#This Row],[Slut]])>6,5,3),2)&\"-\"&RIGHT(Hin_T[[#This Row],[Slut]],2)))),\"\")","v":""},{"$f":"IF(COUNTIF(V$19:V30,Hin_T[[#This Row],[B-år]])=1,Hin_T[[#This Row],[B-år]],\"\")","v":""},{"$f":"IF(COUNTIF(W$19:W30,Hin_T[[#This Row],[S-år]])=1,Hin_T[[#This Row],[S-år]],\"\")","v":""},{"$f":"IFERROR(Hin_T[[#This Row],[B-år]]+IF(COUNTIF($V$19:V30,Hin_T[[#This Row],[B-år]])>1,COUNTIF($V$19:V30,Hin_T[[#This Row],[B-år]])/10,0),\"\")","v":""},{"$f":"IF(ISNUMBER(Hin_T[[#This Row],[Dagar]]),Hin_T[[#This Row],[Dagar]]/DÅ[Arbetsdag/år],1)","v":1},{"$f":"Hin_T[[#This Row],[Dag]]*DÅ[Arbetsdag/år]","v":220},{"$f":"IF(LEN(Hin_T[[#This Row],[Yrke]])=4,1,0)","v":0},{"$f":"_xlfn.DAYS(Hin_T[[#This Row],[B-år]],DATE(YEAR(Hin_T[[#This Row],[B-år]]),1,1))/(DATE(YEAR(Hin_T[[#This Row],[B-år]])+1,1,1)-DATE(YEAR(Hin_T[[#This Row],[B-år]]),1,1))","v":{"$error":"#VALUE!"}},{"$f":"_xlfn.DAYS(DATE(YEAR(Hin_T[[#This Row],[S-år]]),12,31),Hin_T[[#This Row],[S-år]])/(DATE(YEAR(Hin_T[[#This Row],[S-år]])+1,1,1)-DATE(YEAR(Hin_T[[#This Row],[S-år]]),1,1))","v":{"$error":"#VALUE!"}},{"$f":"YEARFRAC(Hin_T[[#This Row],[S-år]],Hin_T[[#This Row],[B-år]])*Hin_T[[#This Row],[Dag]]","v":{"$error":"#VALUE!"}},{"$f":"IFERROR(Hin_T[[#This Row],[År diff]]*IF(ISNUMBER(Hin_T[[#This Row],[HöA]]),1,0),0)","v":0},{"$f":"IFERROR(Hin_T[[#This Row],[År diff]]*IF(ISNUMBER(Hin_T[[#This Row],[AöA]]),1,0),0)","v":0},{"$f":"IF(Hin_T[[#This Row],[B-år]]<=Besvär_T[[#Totals],[Sjukdomsdebut]],Hin_T[[#This Row],[B-år]],\"\")","v":""},{"$f":"IF(Hin_T[[#This Row],[S-år]]<=Besvär_T[[#Totals],[Sjukdomsdebut]],Hin_T[[#This Row],[S-år]],\"\")","v":""},{"$f":"IFERROR(YEARFRAC(IF(AND(ISNUMBER(Hin_T[[#This Row],[B-år EA]]),LEN(Hin_T[[#This Row],[S-år EA]])=0),Hin_T[[#Totals],[15AM-A]],Hin_T[[#This Row],[S-år EA]]),Hin_T[[#This Row],[B-år EA]])*Hin_T[[#This Row],[Dag]]*IF(ISNUMBER(Hin_T[[#This Row],[HöA]]),1,0),0)","v":0},{"$f":"IFERROR(YEARFRAC(IF(AND(ISNUMBER(Hin_T[[#This Row],[B-år EA]]),LEN(Hin_T[[#This Row],[S-år EA]])=0),Hin_T[[#Totals],[15AM-A]],Hin_T[[#This Row],[S-år EA]]),Hin_T[[#This Row],[B-år EA]])*Hin_T[[#This Row],[Dag]]*IF(ISNUMBER(Hin_T[[#This Row],[AöA]]),1,0),0)","v":0},{"$f":"IFERROR(Hin_T[[#This Row],[År diff]]*IF(ISNUMBER(Hin_T[[#This Row],[4AM]]),1,0),0)","v":0},{"$f":"IFERROR(Hin_T[[#This Row],[År diff]]*IF(ISNUMBER(Hin_T[[#This Row],[15AM]]),1,0),0)","v":0},{"$f":"IF(Hin_T[[#This Row],[B-år]]<=Besvär_T[[#Totals],[Sjukdomsdebut]],Hin_T[[#This Row],[B-år]],\"\")","v":""},{"$f":"IF(Hin_T[[#This Row],[S-år]]<=Besvär_T[[#Totals],[Sjukdomsdebut]],Hin_T[[#This Row],[S-år]],\"\")","v":""},{"$f":"IFERROR(YEARFRAC(IF(AND(ISNUMBER(Hin_T[[#This Row],[B-år RA]]),LEN(Hin_T[[#This Row],[S-år RA]])=0),Hin_T[[#Totals],[15AM-A]],Hin_T[[#This Row],[S-år RA]]),Hin_T[[#This Row],[B-år RA]])*Hin_T[[#This Row],[Dag]]*IF(ISNUMBER(Hin_T[[#This Row],[4AM]]),1,0),0)","v":0},{"$f":"IFERROR(YEARFRAC(IF(AND(ISNUMBER(Hin_T[[#This Row],[B-år RA]]),LEN(Hin_T[[#This Row],[S-år RA]])=0),Hin_T[[#Totals],[15AM-A]],Hin_T[[#This Row],[S-år RA]]),Hin_T[[#This Row],[B-år RA]])*Hin_T[[#This Row],[Dag]]*IF(ISNUMBER(Hin_T[[#This Row],[15AM]]),1,0),0)","v":0},{"$f":"IFERROR(Hin_T[[#This Row],[År diff]]*IF(ISNUMBER(Hin_T[[#This Row],[20-10D]]),1,0),0)","v":0},{"$f":"IF(Hin_T[[#This Row],[B-år]]<=Besvär_T[[#Totals],[Sjukdomsdebut]],Hin_T[[#This Row],[B-år]],\"\")","v":""},{"$f":"IF(Hin_T[[#This Row],[S-år]]<=Besvär_T[[#Totals],[Sjukdomsdebut]],Hin_T[[#This Row],[S-år]],\"\")","v":""},{"$f":"IFERROR(YEARFRAC(IF(AND(ISNUMBER(Hin_T[[#This Row],[B-år TMH]]),LEN(Hin_T[[#This Row],[S-år TMH]])=0),Hin_T[[#Totals],[15AM-A]],Hin_T[[#This Row],[S-år TMH]]),Hin_T[[#This Row],[B-år TMH]])*Hin_T[[#This Row],[Dag]]*IF(ISNUMBER(Hin_T[[#This Row],[20-10D]]),1,0),0)","v":0},{"$f":"IF(Hin_T[[#This Row],[Vib]]=JN_T[JN],1,0)","v":0},{"$f":"IFERROR(Hin_T[[#This Row],[År diff]]*IF(Hin_T[[#This Row],[Vib2]]>0,1,0),0)","v":0},{"$f":"IF(Hin_T[[#This Row],[B-år]]<=Besvär_T[[#Totals],[Sjukdomsdebut]],Hin_T[[#This Row],[B-år]],\"\")","v":""},{"$f":"IF(Hin_T[[#This Row],[S-år]]<=Besvär_T[[#Totals],[Sjukdomsdebut]],Hin_T[[#This Row],[S-år]],\"\")","v":""},{"$f":"IFERROR(YEARFRAC(IF(AND(ISNUMBER(Hin_T[[#This Row],[B-år VIB]]),LEN(Hin_T[[#This Row],[S-år Vib]])=0),Hin_T[[#Totals],[15AM-A]],Hin_T[[#This Row],[S-år Vib]]),Hin_T[[#This Row],[B-år VIB]])*IF(Hin_T[[#This Row],[Vib2]]>0,1,0),0)","v":0},{"$f":"Hin_T[[#This Row],[HöA]]*Hin_T[[#This Row],[tot år HöA]]*DÅ[Arbetsdag/år]","v":0},{"$f":"Hin_T[[#This Row],[tot år AöA]]*Hin_T[[#This Row],[AöA]]*DÅ[Arbetsdag/år]","v":0},{"$f":"Hin_T[[#This Row],[tot år 4AM]]*Hin_T[[#This Row],[4AM]]*DÅ[Arbetsdag/år]","v":0},{"$f":"Hin_T[[#This Row],[tot år 15AM]]*Hin_T[[#This Row],[15AM]]*DÅ[Arbetsdag/år]","v":0},{"$f":"Hin_T[[#This Row],[tot år 20-10D]]*Hin_T[[#This Row],[20-10D]]*DÅ[Arbetsdag/år]","v":0},{"$f":"Hin_T[[#This Row],[BD år HöA]]*Hin_T[[#This Row],[HöA]]*DÅ[Arbetsdag/år]","v":0},{"$f":"Hin_T[[#This Row],[BD år AöA]]*Hin_T[[#This Row],[AöA]]*DÅ[Arbetsdag/år]","v":0},{"$f":"Hin_T[[#This Row],[BD år 4AM]]*Hin_T[[#This Row],[4AM]]*DÅ[Arbetsdag/år]","v":0},{"$f":"Hin_T[[#This Row],[BD år 15AM]]*Hin_T[[#This Row],[15AM]]*DÅ[Arbetsdag/år]","v":0},{"$f":"Hin_T[[#This Row],[BD år 20-10D]]*Hin_T[[#This Row],[20-10D]]*DÅ[Arbetsdag/år]","v":0},{"$f":"Hin_T[[#This Row],[Arbetsmoment]]&Hin_T[[#This Row],[Text AöA]]&Hin_T[[#This Row],[Text 15AM]]&IF(Hin_T[[#This Row],[Dagarna]]=DÅ[Arbetsdag/år],\"\",\". \"&Hin_T[[#This Row],[Dagarna]]&\" dagar/år\")&\". \"","v":". "},{"$f":"IF(ISBLANK(Hin_T[[#This Row],[AöA]]),\"\",Exp_T[Överarmslyft> 90°: ]&IF(VALUE(TEXT(Hin_T[[#This Row],[AöA]],\"t\"))>0,VALUE(TEXT(Hin_T[[#This Row],[AöA]],\"t\"))&\" h\",\"\")&IF(AND(VALUE(TEXT(Hin_T[[#This Row],[AöA]],\"t\"))>0,VALUE(TEXT(Hin_T[[#This Row],[AöA]],\"m\"))>2.4),\" \",\"\")&IF(VALUE(TEXT(Hin_T[[#This Row],[AöA]],\"m\"))>2.4,TEXT(ROUND(Hin_T[[#This Row],[AöA]]*(24*60/5),0)/(24*60/5),\"m\")&\" min\",\"\")&\"/dag\")","v":""},{"$f":"IF(ISBLANK(Hin_T[[#This Row],[15AM]]),\"\",Exp_T[Överarmsrörelser> 15/min: ]&IF(VALUE(TEXT(Hin_T[[#This Row],[15AM]],\"t\"))>0,VALUE(TEXT(Hin_T[[#This Row],[15AM]],\"t\"))&\" h\",\"\")&IF(AND(VALUE(TEXT(Hin_T[[#This Row],[15AM]],\"t\"))>0,VALUE(TEXT(Hin_T[[#This Row],[15AM]],\"m\"))>2.4),\" \",\"\")&IF(VALUE(TEXT(Hin_T[[#This Row],[15AM]],\"m\"))>2.4,TEXT(ROUND(Hin_T[[#This Row],[15AM]]*(24*60/5),0)/(24*60/5),\"m\")&\" min\",\"\")&\"/dag\")","v":""},null,null,null,null,{"$f":"SMALL(Hin_T[[StartÅR]:[SlutÅr]],ROW()-ROW(Medel_T[[#Headers],[Start]]))","v":{"$error":"#NUM!"}},{"$f":"SMALL(Hin_T[[StartÅR]:[SlutÅr]],ROW()-ROW(Medel_T[[#Headers],[Slut]])+1)","v":{"$error":"#NUM!"}},{"$f":"IF(Medel_T[[#This Row],[Start]]<=Besvär_T[[#Totals],[Sjukdomsdebut]],Medel_T[[#This Row],[Start]],\"\")","v":{"$error":"#NUM!"}},{"$f":"IF(Medel_T[[#This Row],[Slut]]<=Besvär_T[[#Totals],[Sjukdomsdebut]],Medel_T[[#This Row],[Slut]],IF(AND(LEN(Medel_T[[#This Row],[SJDstart]])>0,LEN(BU31)=0),Besvär_T[[#Totals],[Sjukdomsdebut]],\"\"))","v":{"$error":"#NUM!"}},{"$f":"IF(Medel_T[[#This Row],[Start]]>=Besvär_T[[#Totals],[Sjukdomsdebut]],Medel_T[[#This Row],[Start]],IF(AND(LEN(Medel_T[[#This Row],[EfterSlut]])>0,LEN(BX29)=0),Besvär_T[[#Totals],[Sjukdomsdebut]],\"\"))","v":{"$error":"#NUM!"}},{"$f":"IF(Medel_T[[#This Row],[Slut]]>=Besvär_T[[#Totals],[Sjukdomsdebut]],Medel_T[[#This Row],[Slut]],\"\")","v":{"$error":"#NUM!"}},{"$f":"COUNTIF($BZ$19:BZ30,\">0\")","v":0},{"$f":"COUNTIFS(Hin_T[B-år],\"<=\"&Medel_T[[#This Row],[Start]],Hin_T[S-år],\">=\"&Medel_T[[#This Row],[Slut]])","v":0},{"$f":"SUBSTITUTE(_xlfn.TEXTJOIN(Sep_T[Separator],TRUE,_xlfn._xlws.SORT(_xlfn.UNIQUE(IF((Hin_T[[B-år]:[B-år]]<=Medel_T[[#This Row],[Start]:[Start]])*(Hin_T[[S-år]:[S-år]]>=Medel_T[[#This Row],[Slut]:[Slut]]),Hin_T[Yrke],\"\")))),0&Sep_T[Separator],\"\")","v":{"$error":"#NUM!"}},{"$f":"SUBSTITUTE(_xlfn.TEXTJOIN(Sep_T[Separator],TRUE,_xlfn._xlws.SORT(_xlfn.UNIQUE(IF((Hin_T[[B-år]:[B-år]]<=Medel_T[[#This Row],[Start]:[Start]])*(Hin_T[[S-år]:[S-år]]>=Medel_T[[#This Row],[Slut]:[Slut]]),Hin_T[Arbetsmoment],\"\")))),0&Sep_T[Separator],\"\")","v":{"$error":"#NUM!"}},{"$f":"IF(LEN(Medel_T[[#This Row],[Yrke]])>0,Medel_T[[#Headers],[Period ]]&Medel_T[[#This Row],[NrX]]&\": \"&TEXT(Medel_T[[#This Row],[Start]],\"ÅÅÅÅ\")&List_T[[#Totals],[List symb]]&TEXT(Medel_T[[#This Row],[Slut]],\"ÅÅÅÅ\")&\" (\"&ROUND(Medel_T[[#This Row],[År]],1)&\" år) Anställd som \"&IFERROR(SUBSTITUTE(SUBSTITUTE(Medel_T[[#This Row],[Yrke]],Sep_T[Separator],\" och \",Medel_T[[#This Row],[Ant]]-1),Sep_T[Separator],\", \"),Medel_T[[#This Row],[Yrke]])&↓[↓],\"\")","v":{"$error":"#NUM!"}},{"$f":"IF(LEN(Medel_T[[#This Row],[Arbetsmoment]])>0,ROMAN(1)&\") \"&_xlfn.TEXTJOIN(Delim[Delimiters],TRUE,_xlfn._xlws.SORT(_xlfn.UNIQUE(IF((Hin_T[[B-år]:[B-år]]<=Medel_T[[#This Row],[Start]:[Start]])*(Hin_T[[S-år]:[S-år]]>=Medel_T[[#This Row],[Slut]:[Slut]]),Hin_T[Text],\"\"))))&↓[↓],\"\")","v":{"$error":"#NUM!"}},{"$f":"SUMPRODUCT((Hin_T[[B-år]:[B-år]]<=Medel_T[[#This Row],[Start]:[Start]])*(Hin_T[[S-år]:[S-år]]>=Medel_T[[#This Row],[Slut]:[Slut]])*Hin_T[Dag])","v":{"$error":"#NUM!"}},{"$f":"IF(Medel_T[[#This Row],[Proc dag]]<=1,Medel_T[[#This Row],[Proc dag]],1)","v":{"$error":"#NUM!"}},{"$f":"YEARFRAC(Medel_T[[#This Row],[Slut]],Medel_T[[#This Row],[Start]])","v":{"$error":"#NUM!"}},{"$f":"YEARFRAC(Medel_T[[#This Row],[SJDslut]],Medel_T[[#This Row],[SJDstart]])","v":{"$error":"#NUM!"}},{"$f":"IFERROR(SUMPRODUCT((Hin_T[[B-år]:[B-år]]<=Medel_T[[#This Row],[Start]:[Start]])*(Hin_T[[S-år]:[S-år]]>=Medel_T[[#This Row],[Slut]:[Slut]])*Hin_T[HöA]*Hin_T[[Dag]:[Dag]])/Medel_T[[#This Row],[Proc dag]],-1)","v":-1},{"$f":"IFERROR(SUMPRODUCT((Hin_T[[B-år]:[B-år]]<=Medel_T[[#This Row],[Start]:[Start]])*(Hin_T[[S-år]:[S-år]]>=Medel_T[[#This Row],[Slut]:[Slut]])*Hin_T[AöA]*Hin_T[[Dag]:[Dag]])/Medel_T[[#This Row],[Proc dag]],-1)","v":-1},{"$f":"IFERROR(SUMPRODUCT((Hin_T[[B-år]:[B-år]]<=Medel_T[[#This Row],[Start]:[Start]])*(Hin_T[[S-år]:[S-år]]>=Medel_T[[#This Row],[Slut]:[Slut]])*Hin_T[4AM]*Hin_T[[Dag]:[Dag]])/Medel_T[[#This Row],[Proc dag]],-1)","v":-1},{"$f":"IFERROR(SUMPRODUCT((Hin_T[[B-år]:[B-år]]<=Medel_T[[#This Row],[Start]:[Start]])*(Hin_T[[S-år]:[S-år]]>=Medel_T[[#This Row],[Slut]:[Slut]])*Hin_T[15AM]*Hin_T[[Dag]:[Dag]])/Medel_T[[#This Row],[Proc dag]],-1)","v":-1},{"$f":"IFERROR(SUMPRODUCT((Hin_T[[B-år]:[B-år]]<=Medel_T[[#This Row],[Start]:[Start]])*(Hin_T[[S-år]:[S-år]]>=Medel_T[[#This Row],[Slut]:[Slut]])*Hin_T[20-10D]*Hin_T[[Dag]:[Dag]])/Medel_T[[#This Row],[Proc dag]],-1)","v":-1},{"$f":"IFERROR(SUMPRODUCT((Hin_T[[B-år]:[B-år]]<=Medel_T[[#This Row],[Start]:[Start]])*(Hin_T[[S-år]:[S-år]]>=Medel_T[[#This Row],[Slut]:[Slut]])*Hin_T[[Dag]:[Dag]]*Hin_T[HöA])/Medel_T[[#This Row],[Dag sum]],-1)","v":-1},{"$f":"IFERROR(SUMPRODUCT((Hin_T[[B-år]:[B-år]]<=Medel_T[[#This Row],[Start]:[Start]])*(Hin_T[[S-år]:[S-år]]>=Medel_T[[#This Row],[Slut]:[Slut]])*Hin_T[[Dag]:[Dag]]*Hin_T[AöA])/Medel_T[[#This Row],[Dag sum]],-1)","v":-1},{"$f":"IFERROR(SUMPRODUCT((Hin_T[[B-år]:[B-år]]<=Medel_T[[#This Row],[Start]:[Start]])*(Hin_T[[S-år]:[S-år]]>=Medel_T[[#This Row],[Slut]:[Slut]])*Hin_T[[Dag]:[Dag]]*Hin_T[4AM])/Medel_T[[#This Row],[Dag sum]],-1)","v":-1},{"$f":"IFERROR(SUMPRODUCT((Hin_T[[B-år]:[B-år]]<=Medel_T[[#This Row],[Start]:[Start]])*(Hin_T[[S-år]:[S-år]]>=Medel_T[[#This Row],[Slut]:[Slut]])*Hin_T[15AM]*Hin_T[[Dag]:[Dag]])/Medel_T[[#This Row],[Dag sum]],-1)","v":-1},{"$f":"IFERROR(SUMPRODUCT((Hin_T[[B-år]:[B-år]]<=Medel_T[[#This Row],[Start]:[Start]])*(Hin_T[[S-år]:[S-år]]>=Medel_T[[#This Row],[Slut]:[Slut]])*Hin_T[[Dag]:[Dag]]*Hin_T[20-10D])/Medel_T[[#This Row],[Dag sum]],-1)","v":-1},{"$f":"IFERROR(Medel_T[[#This Row],[Dag sum]:[Dag sum]]*Medel_T[[#This Row],[År]:[År]]*Medel_T[[#This Row],[HöA T]]*DÅ[Arbetsdag/år],0)","v":0},{"$f":"IFERROR(Medel_T[[#This Row],[Dag sum]:[Dag sum]]*Medel_T[[#This Row],[År]:[År]]*Medel_T[[#This Row],[AöA T]]*DÅ[Arbetsdag/år],0)","v":0},{"$f":"IFERROR(Medel_T[[#This Row],[Dag sum]:[Dag sum]]*Medel_T[[#This Row],[År]:[År]]*Medel_T[[#This Row],[4AM T]]*DÅ[Arbetsdag/år],0)","v":0},{"$f":"IFERROR(Medel_T[[#This Row],[Dag sum]:[Dag sum]]*Medel_T[[#This Row],[År]:[År]]*Medel_T[[#This Row],[15AM T]]*DÅ[Arbetsdag/år],0)","v":0},{"$f":"IFERROR(Medel_T[[#This Row],[Dag sum]:[Dag sum]]*Medel_T[[#This Row],[År]:[År]]*Medel_T[[#This Row],[20-10D T]]*DÅ[Arbetsdag/år],0)","v":0},{"$f":"IFERROR(Medel_T[[#This Row],[Dag sum]:[Dag sum]]*Medel_T[[#This Row],[ÅrSjuk]:[ÅrSjuk]]*Medel_T[[#This Row],[HöA T]]*DÅ[Arbetsdag/år],0)","v":0},{"$f":"IFERROR(Medel_T[[#This Row],[Dag sum]:[Dag sum]]*Medel_T[[#This Row],[ÅrSjuk]:[ÅrSjuk]]*Medel_T[[#This Row],[AöA T]]*DÅ[Arbetsdag/år],0)","v":0},{"$f":"IFERROR(Medel_T[[#This Row],[Dag sum]:[Dag sum]]*Medel_T[[#This Row],[ÅrSjuk]:[ÅrSjuk]]*Medel_T[[#This Row],[4AM T]]*DÅ[Arbetsdag/år],0)","v":0},{"$f":"IFERROR(Medel_T[[#This Row],[Dag sum]:[Dag sum]]*Medel_T[[#This Row],[ÅrSjuk]:[ÅrSjuk]]*Medel_T[[#This Row],[15AM T]]*DÅ[Arbetsdag/år],0)","v":0},{"$f":"IFERROR(Medel_T[[#This Row],[Dag sum]:[Dag sum]]*Medel_T[[#This Row],[ÅrSjuk]:[ÅrSjuk]]*Medel_T[[#This Row],[20-10D T]]*DÅ[Arbetsdag/år],0)","v":0},{"$f":"IFERROR(IF(Medel_T[[#This Row],[AöA T]]=0,\"\",List_T[List symb]&Exp_T[[#Headers],[Överarmslyft> 90°: ]]&IF(VALUE(TEXT(Medel_T[[#This Row],[AöA T]],\"t\"))>0,VALUE(TEXT(Medel_T[[#This Row],[AöA T]],\"t\"))&\" h\",\"\")&IF(AND(VALUE(TEXT(Medel_T[[#This Row],[AöA T]],\"t\"))>0,VALUE(TEXT(Medel_T[[#This Row],[AöA T]],\"m\"))>2.4),\" \",\"\")&IF(VALUE(TEXT(Medel_T[[#This Row],[AöA T]],\"m\"))>2.4,TEXT(ROUND(Medel_T[[#This Row],[AöA T]]*(24*60/5),0)/(24*60/5),\"m\")&\" min\",\"\")&\"/dag x \"&ROUND(Medel_T[[#This Row],[Dag sum]:[Dag sum]]*DÅ[Arbetsdag/år],0)&\" dagar x \"&ROUND(Medel_T[[#This Row],[År]:[År]],1)&\" år = \"&TEXT(ROUND(Medel_T[[#This Row],[D AöA§]]*24,1-(INT(LOG10(ABS(Medel_T[[#This Row],[D AöA§]]*24))))),\"0\"&IF(1-(INT(LOG10(ABS(Medel_T[[#This Row],[D AöA§]]*24))))>0,\",\"&REPT(\"0\",1-(INT(LOG10(ABS(Medel_T[[#This Row],[D AöA§]]*24))))),\"\"))& \" h\"),\"\")","v":""},{"$f":"IFERROR(IF(Medel_T[[#This Row],[15AM T]]=0,\"\",List_T[List symb]&Exp_T[[#Headers],[Överarmsrörelser> 15/min: ]]&IF(VALUE(TEXT(Medel_T[[#This Row],[15AM T]],\"t\"))>0,VALUE(TEXT(Medel_T[[#This Row],[15AM T]],\"t\"))&\" h\",\"\")&IF(AND(VALUE(TEXT(Medel_T[[#This Row],[15AM T]],\"t\"))>0,VALUE(TEXT(Medel_T[[#This Row],[15AM T]],\"m\"))>2.4),\" \",\"\")&IF(VALUE(TEXT(Medel_T[[#This Row],[15AM T]],\"m\"))>2.4,TEXT(ROUND(Medel_T[[#This Row],[15AM T]]*(24*60/5),0)/(24*60/5),\"m\")&\" min\",\"\")&\"/dag x \"&ROUND(Medel_T[[#This Row],[Dag sum]:[Dag sum]]*DÅ[Arbetsdag/år],0)&\" dagar x \"&ROUND(Medel_T[[#This Row],[År]:[År]],1)&\" år = \"&TEXT(ROUND(Medel_T[[#This Row],[D 15AM§]]*24,1-(INT(LOG10(ABS(Medel_T[[#This Row],[D 15AM§]]*24))))),\"0\"&IF(1-(INT(LOG10(ABS(Medel_T[[#This Row],[D 15AM§]]*24))))>0,\",\"&REPT(\"0\",1-(INT(LOG10(ABS(Medel_T[[#This Row],[D 15AM§]]*24))))),\"\"))& \" h\"),\"\")","v":""},{"$f":"IFERROR(IF(OR(LEN(Medel_T[[#This Row],[AöA text]])>0,LEN(Medel_T[[#This Row],[15AM Text]])>0),Exp_T[Anställning]&YEAR(Medel_T[[#This Row],[Start]])&List_T[[#Totals],[List symb]]&YEAR(Medel_T[[#This Row],[Slut]])&\" (\"&ROUND(Medel_T[[#This Row],[År]],1)&\" år)\"&IF(LEN(Medel_T[[#This Row],[AöA text]])>0,↓[↓],\"\")&Medel_T[[#This Row],[AöA text]]&IF(LEN(Medel_T[[#This Row],[15AM Text]])>0,↓[↓],\"\")&Medel_T[[#This Row],[15AM Text]],\"\"),\"\")","v":""},{"$f":"IFERROR(IF(Medel_T[[#This Row],[AöA T]]=0,\"\",List_T[List symb]&Exp_T[[#Headers],[Överarmsrörelser> 15/min: ]]&IF(VALUE(TEXT(Medel_T[[#This Row],[AöA T]],\"t\"))>0,VALUE(TEXT(Medel_T[[#This Row],[AöA T]],\"t\"))&\" h\",\"\")&IF(AND(VALUE(TEXT(Medel_T[[#This Row],[AöA T]],\"t\"))>0,VALUE(TEXT(Medel_T[[#This Row],[AöA T]],\"m\"))>2.4),\" \",\"\")&IF(VALUE(TEXT(Medel_T[[#This Row],[AöA T]],\"m\"))>2.4,TEXT(ROUND(Medel_T[[#This Row],[AöA T]]*(24*60/5),0)/(24*60/5),\"m\")&\" min\",\"\")&\"/dag x \"&ROUND(Medel_T[[#This Row],[Dag sum]:[Dag sum]]*DÅ[Arbetsdag/år],0)&\" dagar x \"&ROUND(Medel_T[[#This Row],[År]:[År]],1)&\" år = \"&TEXT(ROUND(Medel_T[[#This Row],[D AöA¤]]*24,1-(INT(LOG10(ABS(Medel_T[[#This Row],[D AöA¤]]*24))))),\"0\"&IF(1-(INT(LOG10(ABS(Medel_T[[#This Row],[D AöA¤]]*24))))>0,\",\"&REPT(\"0\",1-(INT(LOG10(ABS(Medel_T[[#This Row],[D AöA¤]]*24))))),\"\"))& \" h\"),\"\")","v":""},{"$f":"IFERROR(IF(Medel_T[[#This Row],[15AM T]]=0,\"\",List_T[List symb]&Exp_T[[#Headers],[Överarmslyft> 90°: ]]&IF(VALUE(TEXT(Medel_T[[#This Row],[15AM T]],\"t\"))>0,VALUE(TEXT(Medel_T[[#This Row],[15AM T]],\"t\"))&\" h\",\"\")&IF(AND(VALUE(TEXT(Medel_T[[#This Row],[15AM T]],\"t\"))>0,VALUE(TEXT(Medel_T[[#This Row],[15AM T]],\"m\"))>0),\" \",\"\")&IF(VALUE(TEXT(Medel_T[[#This Row],[15AM T]],\"m\"))>0,TEXT(ROUND(Medel_T[[#This Row],[15AM T]]*(24*60/5),0)/(24*60/5),\"m\")&\" min\",\"\")&\"/dag x \"&ROUND(Medel_T[[#This Row],[Dag sum]:[Dag sum]]*DÅ[Arbetsdag/år],0)&\" dagar x \"&ROUND(Medel_T[[#This Row],[År]:[År]],1)&\" år = \"&TEXT(ROUND(Medel_T[[#This Row],[D 15AM¤]]*24,1-(INT(LOG10(ABS(Medel_T[[#This Row],[D 15AM¤]]*24))))),\"0\"&IF(1-(INT(LOG10(ABS(Medel_T[[#This Row],[D 15AM¤]]*24))))>0,\",\"&REPT(\"0\",1-(INT(LOG10(ABS(Medel_T[[#This Row],[D 15AM¤]]*24))))),\"\"))& \" h\"),\"\")","v":""},{"$f":"IFERROR(IF(LEN(Medel_T[[#This Row],[SJDstart]])>0,Exp_T[Anställning]&↓[↓]&YEAR(Medel_T[[#This Row],[Start]])&List_T[[#Totals],[List symb]]&YEAR(Medel_T[[#This Row],[Slut]])&\" (\"&ROUND(Medel_T[[#This Row],[År]],1)&\" år)\"&IF(LEN(Medel_T[[#This Row],[AöA text Sjuk]])>0,↓[↓],\"\")&Medel_T[[#This Row],[AöA text Sjuk]]&IF(LEN(Medel_T[[#This Row],[15AM Text Sjuk]])>0,↓[↓],\"\")&Medel_T[[#This Row],[15AM Text Sjuk]],\"\"),\"\")","v":""},{"$f":"IFERROR(Medel_T[[#This Row],[Period ]]&Medel_T[[#This Row],[ArbMomText]]&Medel_T[[#This Row],[Text]],\"\")","v":""},{"$f":"IF(AND(DJ29>=MAX(Medel_T[NrX]),ISNUMBER(DJ29)),Medel_T[[#Totals],[NrX]]+ROW()-ROW(Medel_T[[#Headers],[Rad]])-Medel_T[[#Totals],[Ant]]-1,INDEX(Medel_T[NrX],MATCH(ROW()-ROW(Medel_T[[#Headers],[Rad]]),Medel_T[NrX],0)))","v":{"$error":"#N/A"}},{"$f":"IF(Medel_T[[#This Row],[Rad]]<=Medel_T[[#Totals],[Ant]],MATCH(Medel_T[[#This Row],[Rad]],Medel_T[NrX],0),IFERROR(INDEX(BD_TX[[#Data],[#Totals],[SJ]],MATCH(Medel_T[[#This Row],[Rad]],BD_TX[[#Data],[#Totals],[Nr]],0)),\"\"))","v":{"$error":"#N/A"}},{"$f":"LEN(Medel_T[[#This Row],[Yrke2]])-LEN(SUBSTITUTE(Medel_T[[#This Row],[Yrke2]],LEFT(Sep_T[Separator],1),\"\"))","v":0},{"$f":"INDEX(Medel_T[År],Medel_T[[#This Row],[Nr]])","v":{"$error":"#N/A"}},{"$f":"IFERROR(IF(LEN(Medel_T[[#This Row],[Nr]])>0,TEXT(IFERROR(INDEX(Medel_T[Start],Medel_T[[#This Row],[Nr]]),INDEX(BD_TX[[#Data],[#Totals],[Start]],MATCH(Medel_T[[#This Row],[Rad]],BD_TX[[#Data],[#Totals],[Nr]],0))),\"ÅÅÅÅ MMM\")&\"-\"&TEXT(IFERROR(INDEX(Medel_T[Slut],Medel_T[[#This Row],[Nr]]),INDEX(BD_TX[[#Data],[#Totals],[År]],MATCH(Medel_T[[#This Row],[Rad]],BD_TX[[#Data],[#Totals],[Nr]],0))),\"ÅÅÅÅ MMM\"),\"\"),\"\")","v":""},{"$f":"IFERROR(IF(LEN(Medel_T[[#This Row],[Nr]])>0,IF(Medel_T[[#This Row],[Rad]]>Medel_T[[#Totals],[Ant]],IFERROR(INDEX(BD_TX[[#Data],[#Totals],[Text]],MATCH(Medel_T[[#This Row],[Rad]],BD_TX[[#Data],[#Totals],[Nr]],0)),\"\"),INDEX(Medel_T[Yrke],Medel_T[[#This Row],[Nr]])),\"\"),\"\")","v":""},{"$f":"IFERROR(INDEX(Medel_T[Arbetsmoment],MATCH(ROW()-ROW(Medel_T[[#Headers],[Arbetsmoment2]]),Medel_T[[NrX]:[NrX]],0)),\"\")","v":""},{"$f":"IFERROR(INDEX(Medel_T[],Medel_T[[#This Row],[Nr]],Medel_T[[#Totals],[HöA_T]]),\"\")","v":""},{"$f":"IF(LEN(Medel_T[[#This Row],[Nr]:[Nr]])>0,IFERROR(TEXT(ROUND(24*IFERROR(INDEX(Medel_T[],Medel_T[[#This Row],[Nr]:[Nr]],Medel_T[[#Totals],[D HöA]]),INDEX(Sum_T[[#Data],[#Totals]],MATCH(Medel_T[[#This Row],[Nr]:[Nr]],Sum_T[[#Data],[#Totals],[Typ]:[Typ]],0),MATCH(Medel_T[[#Headers],[D HöA]],Sum_T[#Headers],0))),1-(INT(LOG10(ABS(24*IFERROR(INDEX(Medel_T[],Medel_T[[#This Row],[Nr]:[Nr]],Medel_T[[#Totals],[D HöA]]),INDEX(Sum_T[[#Data],[#Totals]],MATCH(Medel_T[[#This Row],[Nr]:[Nr]],Sum_T[[#Data],[#Totals],[Typ]:[Typ]],0),MATCH(Medel_T[[#Headers],[D HöA]],Sum_T[#Headers],0)))))))),\"0\"&IF(1-(INT(LOG10(ABS(24*IFERROR(INDEX(Medel_T[],Medel_T[[#This Row],[Nr]:[Nr]],Medel_T[[#Totals],[D HöA]]),INDEX(Sum_T[[#Data],[#Totals]],MATCH(Medel_T[[#This Row],[Nr]:[Nr]],Sum_T[[#Data],[#Totals],[Typ]:[Typ]],0),MATCH(Medel_T[[#Headers],[D HöA]],Sum_T[#Headers],0)))))))>0,\",\"&REPT(\"0\",1-(INT(LOG10(ABS(24*IFERROR(INDEX(Medel_T[],Medel_T[[#This Row],[Nr]:[Nr]],Medel_T[[#Totals],[D HöA]]),INDEX(Sum_T[[#Data],[#Totals]],MATCH(Medel_T[[#This Row],[Nr]:[Nr]],Sum_T[[#Data],[#Totals],[Typ]:[Typ]],0),MATCH(Medel_T[[#Headers],[D HöA]],Sum_T[#Headers],0)))))))),0)),0),\"\")","v":{"$error":"#N/A"}},{"$f":"IFERROR(INDEX(Medel_T[],Medel_T[[#This Row],[Nr]],Medel_T[[#Totals],[AÖA_T]]),\"\")","v":""},{"$f":"IFERROR(IF(LEN(Medel_T[[#This Row],[Nr]:[Nr]])>0,IFERROR(TEXT(ROUND(24*IFERROR(INDEX(Medel_T[],Medel_T[[#This Row],[Nr]:[Nr]],Medel_T[[#Totals],[D AöA]]),INDEX(Sum_T[[#Data],[#Totals]],MATCH(Medel_T[[#This Row],[Nr]:[Nr]],Sum_T[[#Data],[#Totals],[Typ]:[Typ]],0),MATCH(Medel_T[[#Headers],[D AöA]],Sum_T[#Headers],0))),1-(INT(LOG10(ABS(24*IFERROR(INDEX(Medel_T[],Medel_T[[#This Row],[Nr]:[Nr]],Medel_T[[#Totals],[D AöA]]),INDEX(Sum_T[[#Data],[#Totals]],MATCH(Medel_T[[#This Row],[Nr]:[Nr]],Sum_T[[#Data],[#Totals],[Typ]:[Typ]],0),MATCH(Medel_T[[#Headers],[D AöA]],Sum_T[#Headers],0)))))))),\"0\"&IF(1-(INT(LOG10(ABS(24*IFERROR(INDEX(Medel_T[],Medel_T[[#This Row],[Nr]:[Nr]],Medel_T[[#Totals],[D AöA]]),INDEX(Sum_T[[#Data],[#Totals]],MATCH(Medel_T[[#This Row],[Nr]:[Nr]],Sum_T[[#Data],[#Totals],[Typ]:[Typ]],0),MATCH(Medel_T[[#Headers],[D AöA]],Sum_T[#Headers],0)))))))>0,\",\"&REPT(\"0\",1-(INT(LOG10(ABS(24*IFERROR(INDEX(Medel_T[],Medel_T[[#This Row],[Nr]:[Nr]],Medel_T[[#Totals],[D AöA]]),INDEX(Sum_T[[#Data],[#Totals]],MATCH(Medel_T[[#This Row],[Nr]:[Nr]],Sum_T[[#Data],[#Totals],[Typ]:[Typ]],0),MATCH(Medel_T[[#Headers],[D AöA]],Sum_T[#Headers],0)))))))),0)),0),\"\"),\"\")","v":""},{"$f":"IFERROR(INDEX(Medel_T[],Medel_T[[#This Row],[Nr]],Medel_T[[#Totals],[4AM_T]]),\"\")","v":""},{"$f":"IF(LEN(Medel_T[[#This Row],[Nr]:[Nr]])>0,IFERROR(TEXT(ROUND(24*IFERROR(INDEX(Medel_T[],Medel_T[[#This Row],[Nr]:[Nr]],Medel_T[[#Totals],[D 4AM]]),INDEX(Sum_T[[#Data],[#Totals]],MATCH(Medel_T[[#This Row],[Nr]:[Nr]],Sum_T[[#Data],[#Totals],[Typ]:[Typ]],0),MATCH(Medel_T[[#Headers],[D 4AM]],Sum_T[#Headers],0))),1-(INT(LOG10(ABS(24*IFERROR(INDEX(Medel_T[],Medel_T[[#This Row],[Nr]:[Nr]],Medel_T[[#Totals],[D 4AM]]),INDEX(Sum_T[[#Data],[#Totals]],MATCH(Medel_T[[#This Row],[Nr]:[Nr]],Sum_T[[#Data],[#Totals],[Typ]:[Typ]],0),MATCH(Medel_T[[#Headers],[D 4AM]],Sum_T[#Headers],0)))))))),\"0\"&IF(1-(INT(LOG10(ABS(24*IFERROR(INDEX(Medel_T[],Medel_T[[#This Row],[Nr]:[Nr]],Medel_T[[#Totals],[D 4AM]]),INDEX(Sum_T[[#Data],[#Totals]],MATCH(Medel_T[[#This Row],[Nr]:[Nr]],Sum_T[[#Data],[#Totals],[Typ]:[Typ]],0),MATCH(Medel_T[[#Headers],[D 4AM]],Sum_T[#Headers],0)))))))>0,\",\"&REPT(\"0\",1-(INT(LOG10(ABS(24*IFERROR(INDEX(Medel_T[],Medel_T[[#This Row],[Nr]:[Nr]],Medel_T[[#Totals],[D 4AM]]),INDEX(Sum_T[[#Data],[#Totals]],MATCH(Medel_T[[#This Row],[Nr]:[Nr]],Sum_T[[#Data],[#Totals],[Typ]:[Typ]],0),MATCH(Medel_T[[#Headers],[D 4AM]],Sum_T[#Headers],0)))))))),0)),0),\"\")","v":{"$error":"#N/A"}},{"$f":"IFERROR(INDEX(Medel_T[],Medel_T[[#This Row],[Nr]],Medel_T[[#Totals],[15AM_T]]),\"\")","v":""},{"$f":"IFERROR(IF(LEN(Medel_T[[#This Row],[Nr]:[Nr]])>0,IFERROR(TEXT(ROUND(24*IFERROR(INDEX(Medel_T[],Medel_T[[#This Row],[Nr]:[Nr]],Medel_T[[#Totals],[D 15AM]]),INDEX(Sum_T[[#Data],[#Totals]],MATCH(Medel_T[[#This Row],[Nr]:[Nr]],Sum_T[[#Data],[#Totals],[Typ]:[Typ]],0),MATCH(Medel_T[[#Headers],[D 15AM]],Sum_T[#Headers],0))),1-(INT(LOG10(ABS(24*IFERROR(INDEX(Medel_T[],Medel_T[[#This Row],[Nr]:[Nr]],Medel_T[[#Totals],[D 15AM]]),INDEX(Sum_T[[#Data],[#Totals]],MATCH(Medel_T[[#This Row],[Nr]:[Nr]],Sum_T[[#Data],[#Totals],[Typ]:[Typ]],0),MATCH(Medel_T[[#Headers],[D 15AM]],Sum_T[#Headers],0)))))))),\"0\"&IF(1-(INT(LOG10(ABS(24*IFERROR(INDEX(Medel_T[],Medel_T[[#This Row],[Nr]:[Nr]],Medel_T[[#Totals],[D 15AM]]),INDEX(Sum_T[[#Data],[#Totals]],MATCH(Medel_T[[#This Row],[Nr]:[Nr]],Sum_T[[#Data],[#Totals],[Typ]:[Typ]],0),MATCH(Medel_T[[#Headers],[D 15AM]],Sum_T[#Headers],0)))))))>0,\",\"&REPT(\"0\",1-(INT(LOG10(ABS(24*IFERROR(INDEX(Medel_T[],Medel_T[[#This Row],[Nr]:[Nr]],Medel_T[[#Totals],[D 15AM]]),INDEX(Sum_T[[#Data],[#Totals]],MATCH(Medel_T[[#This Row],[Nr]:[Nr]],Sum_T[[#Data],[#Totals],[Typ]:[Typ]],0),MATCH(Medel_T[[#Headers],[D 15AM]],Sum_T[#Headers],0)))))))),0)),0),\"\"),\"\")","v":""},{"$f":"IFERROR(INDEX(Medel_T[],Medel_T[[#This Row],[Nr]],Medel_T[[#Totals],[20-10D_T]]),\"\")","v":""},{"$f":"IF(LEN(Medel_T[[#This Row],[Nr]:[Nr]])>0,IFERROR(TEXT(ROUND(24*IFERROR(INDEX(Medel_T[],Medel_T[[#This Row],[Nr]:[Nr]],Medel_T[[#Totals],[D 20-10D]]),INDEX(Sum_T[[#Data],[#Totals]],MATCH(Medel_T[[#This Row],[Nr]:[Nr]],Sum_T[[#Data],[#Totals],[Typ]:[Typ]],0),MATCH(Medel_T[[#Headers],[D 20-10D]],Sum_T[#Headers],0))),1-(INT(LOG10(ABS(24*IFERROR(INDEX(Medel_T[],Medel_T[[#This Row],[Nr]:[Nr]],Medel_T[[#Totals],[D 20-10D]]),INDEX(Sum_T[[#Data],[#Totals]],MATCH(Medel_T[[#This Row],[Nr]:[Nr]],Sum_T[[#Data],[#Totals],[Typ]:[Typ]],0),MATCH(Medel_T[[#Headers],[D 20-10D]],Sum_T[#Headers],0)))))))),\"0\"&IF(1-(INT(LOG10(ABS(24*IFERROR(INDEX(Medel_T[],Medel_T[[#This Row],[Nr]:[Nr]],Medel_T[[#Totals],[D 20-10D]]),INDEX(Sum_T[[#Data],[#Totals]],MATCH(Medel_T[[#This Row],[Nr]:[Nr]],Sum_T[[#Data],[#Totals],[Typ]:[Typ]],0),MATCH(Medel_T[[#Headers],[D 20-10D]],Sum_T[#Headers],0)))))))>0,\",\"&REPT(\"0\",1-(INT(LOG10(ABS(24*IFERROR(INDEX(Medel_T[],Medel_T[[#This Row],[Nr]:[Nr]],Medel_T[[#Totals],[D 20-10D]]),INDEX(Sum_T[[#Data],[#Totals]],MATCH(Medel_T[[#This Row],[Nr]:[Nr]],Sum_T[[#Data],[#Totals],[Typ]:[Typ]],0),MATCH(Medel_T[[#Headers],[D 20-10D]],Sum_T[#Headers],0)))))))),0)),0),\"\")","v":{"$error":"#N/A"}},null,{"$f":"IFERROR(INDEX(Hin_T[Nr],MATCH(SMALL(Hin_T[B-årX],ROW()-ROW(Hut_T[[#Headers],[Rad]])),Hin_T[B-årX],0)),IF(ROWS($EB$19:EB30)=1+COUNTIF(Hin_T[Start],\"*\"),Hin_T[[#Totals],[Dag]],IF(AND(ROWS($EB$19:EB30)=2+COUNTIF(Hin_T[Start],\"*\"),Hin_T[[#Totals],[Q%-]]>0),EB29+1,IF(AND(ROWS($EB$19:EB30)=3+COUNTIF(Hin_T[Start],\"*\"),Hin_T[[#Totals],[Q%-]]>1),EB29+1,IF(AND(ROWS($EB$19:EB30)=4+COUNTIF(Hin_T[Start],\"*\"),Hin_T[[#Totals],[Q%-]]>2),EB29+1,\"\")))))","v":""},{"$f":"IF(Hut_T[[#This Row],[Rad]]<Hin_T[[#Totals],[Dag]],ROWS($EB$19:EB30),IFERROR(INDEX(BD_TX[[#Data],[#Totals],[SJ]],MATCH(Hut_T[[#This Row],[Rad]],BD_TX[[#Data],[#Totals],[NrX]],0)),\"\"))","v":""},{"$f":"IF(ISNUMBER(Hut_T[[#This Row],[Datum-]]),TEXT(Hut_T[[#This Row],[Datum-]],\"ÅÅÅÅ MMM\")&\"-\"&TEXT(Hut_T[[#This Row],[Datum+]],\"ÅÅÅÅ MMM\"),\"\")","v":""},{"$f":"IF(ISNUMBER(Hut_T[[#This Row],[Nr]]),IF(INDEX(Hin_T[Yrke],Hut_T[[#This Row],[Rad]])>0,INDEX(Hin_T[Yrke],Hut_T[[#This Row],[Rad]]),\"\"),IFERROR(INDEX(BD_TX[[#Data],[#Totals],[Text]],MATCH(Hut_T[[#This Row],[Rad]],BD_TX[[#Data],[#Totals],[NrX]],0)),\"\"))","v":""},{"$f":"IF(ISNUMBER(Hut_T[[#This Row],[Nr]]),IF(INDEX(Hin_T[Arbetsmoment],Hut_T[[#This Row],[Rad]])>0,INDEX(Hin_T[Arbetsmoment],Hut_T[[#This Row],[Rad]]),\"\"),\"\")","v":""},{"$f":"IFERROR(IF(INDEX(Hin_T[Yrke],Hut_T[[#This Row],[Rad]])>0,INDEX(Hin_T[Företag],Hut_T[[#This Row],[Rad]]),\"\"),\"\")","v":""},{"$f":"IFERROR(IF(INDEX(Hin_T[Dag],Hut_T[[#This Row],[Rad]])>0,INDEX(Hin_T[Dag],Hut_T[[#This Row],[Rad]])*DÅ[Arbetsdag/år],\"\"),\"\")","v":""},{"$f":"IF(AND(ISNUMBER(_xlfn.SINGLE(Hut_T[[#This Row],[Rad]:[Rad]])),IFERROR(_xlfn.SINGLE(INDEX(Hin_T[[#Data],[#Totals]],_xlfn.SINGLE(Hut_T[[#This Row],[Rad]:[Rad]]),MATCH(Hut_T[[#Headers],[D HöA]],Hin_T[#Headers],0))),\"\")),IFERROR(ROUND(_xlfn.SINGLE(INDEX(Hin_T[[#Data],[#Totals]],_xlfn.SINGLE(Hut_T[[#This Row],[Rad]:[Rad]])-IF(_xlfn.SINGLE(Hut_T[[#This Row],[Nr]:[Nr]])=_xlfn.SINGLE(#REF!),COUNT(Besvär_T[[Sjukdomsdebut]:[Sjukdomsdebut]]),0),MATCH(_xlfn.SINGLE(IF(_xlfn.SINGLE(Hut_T[[#This Row],[Nr]:[Nr]])=_xlfn.SINGLE(#REF!),#REF!,\"\"))&Hut_T[[#Headers],[D HöA]],Hin_T[#Headers],0))),0),\"\"),\"\")","v":""},{"$f":"IF(AND(ISNUMBER(Hut_T[[#This Row],[Rad]:[Rad]]),ISNUMBER(Hut_T[[#This Row],[D HöA]]),ISNUMBER(Hut_T[[#This Row],[Nr]:[Nr]])),IFERROR(ROUND(INDEX(Hin_T[[#Data],[#Totals]],Hut_T[[#This Row],[Rad]:[Rad]],MATCH(Hut_T[[#Headers],[HöA-A]],Hin_T[#Headers],0)),1-(INT(LOG10(INDEX(Hin_T[[#Data],[#Totals]],Hut_T[[#This Row],[Rad]:[Rad]],MATCH(Hut_T[[#Headers],[HöA-A]],Hin_T[#Headers],0)))))),1),\"\")","v":""},{"$f":"IF(AND(ISNUMBER(Hut_T[[#This Row],[Rad]:[Rad]]),IFERROR(INDEX(Hin_T[[#Data],[#Totals]],Hut_T[[#This Row],[Rad]:[Rad]],MATCH(Hut_T[[#Headers],[D AöA]],Hin_T[#Headers],0)),\"\")),IFERROR(ROUND(INDEX(Hin_T[[#Data],[#Totals]],Hut_T[[#This Row],[Rad]:[Rad]]-IF(Hut_T[[#This Row],[Nr]:[Nr]]=BD_TX[[SJ]:[SJ]],COUNT(Besvär_T[[Sjukdomsdebut]:[Sjukdomsdebut]]),0),MATCH(IF(Hut_T[[#This Row],[Nr]:[Nr]]=BD_TX[[#Totals],[SJ]:[SJ]],BD_TX[[#Headers],[SJ]],\"\")&Hut_T[[#Headers],[D AöA]],Hin_T[#Headers],0)),0),\"\"),\"\")","v":""},{"$f":"IF(AND(ISNUMBER(Hut_T[[#This Row],[Rad]:[Rad]]),ISNUMBER(Hut_T[[#This Row],[D AöA]]),ISNUMBER(Hut_T[[#This Row],[Nr]:[Nr]])),IFERROR(ROUND(INDEX(Hin_T[[#Data],[#Totals]],Hut_T[[#This Row],[Rad]:[Rad]],MATCH(Hut_T[[#Headers],[AöA-A]],Hin_T[#Headers],0)),1-(INT(LOG10(INDEX(Hin_T[[#Data],[#Totals]],Hut_T[[#This Row],[Rad]:[Rad]],MATCH(Hut_T[[#Headers],[AöA-A]],Hin_T[#Headers],0)))))),1),\"\")","v":""},{"$f":"IF(AND(ISNUMBER(_xlfn.SINGLE(Hut_T[[#This Row],[Rad]:[Rad]])),IFERROR(_xlfn.SINGLE(INDEX(Hin_T[[#Data],[#Totals]],_xlfn.SINGLE(Hut_T[[#This Row],[Rad]:[Rad]]),MATCH(Hut_T[[#Headers],[D 4AM]],Hin_T[#Headers],0))),\"\")),IFERROR(ROUND(_xlfn.SINGLE(INDEX(Hin_T[[#Data],[#Totals]],_xlfn.SINGLE(Hut_T[[#This Row],[Rad]:[Rad]])-IF(_xlfn.SINGLE(Hut_T[[#This Row],[Nr]:[Nr]])=_xlfn.SINGLE(#REF!),COUNT(Besvär_T[[Sjukdomsdebut]:[Sjukdomsdebut]]),0),MATCH(_xlfn.SINGLE(IF(_xlfn.SINGLE(Hut_T[[#This Row],[Nr]:[Nr]])=_xlfn.SINGLE(#REF!),#REF!,\"\"))&Hut_T[[#Headers],[D 4AM]],Hin_T[#Headers],0))),0),\"\"),\"\")","v":""},{"$f":"IF(AND(ISNUMBER(Hut_T[[#This Row],[Rad]:[Rad]]),ISNUMBER(Hut_T[[#This Row],[D 4AM]]),ISNUMBER(Hut_T[[#This Row],[Nr]:[Nr]])),IFERROR(ROUND(INDEX(Hin_T[[#Data],[#Totals]],Hut_T[[#This Row],[Rad]:[Rad]],MATCH(Hut_T[[#Headers],[4AM-A]],Hin_T[#Headers],0)),1-(INT(LOG10(INDEX(Hin_T[[#Data],[#Totals]],Hut_T[[#This Row],[Rad]:[Rad]],MATCH(Hut_T[[#Headers],[4AM-A]],Hin_T[#Headers],0)))))),1),\"\")","v":""},{"$f":"IF(AND(ISNUMBER(Hut_T[[#This Row],[Rad]:[Rad]]),IFERROR(INDEX(Hin_T[[#Data],[#Totals]],Hut_T[[#This Row],[Rad]:[Rad]],MATCH(Hut_T[[#Headers],[D 15AM]],Hin_T[#Headers],0)),\"\")),IFERROR(ROUND(INDEX(Hin_T[[#Data],[#Totals]],Hut_T[[#This Row],[Rad]:[Rad]]-IF(Hut_T[[#This Row],[Nr]:[Nr]]=BD_TX[[SJ]:[SJ]],COUNT(Besvär_T[[Sjukdomsdebut]:[Sjukdomsdebut]]),0),MATCH(IF(Hut_T[[#This Row],[Nr]:[Nr]]=BD_TX[[#Totals],[SJ]:[SJ]],BD_TX[[#Headers],[SJ]],\"\")&Hut_T[[#Headers],[D 15AM]],Hin_T[#Headers],0)),0),\"\"),\"\")","v":""},{"$f":"IF(AND(ISNUMBER(Hut_T[[#This Row],[Rad]:[Rad]]),ISNUMBER(Hut_T[[#This Row],[D 15AM]]),ISNUMBER(Hut_T[[#This Row],[Nr]:[Nr]])),IFERROR(ROUND(INDEX(Hin_T[[#Data],[#Totals]],Hut_T[[#This Row],[Rad]:[Rad]],MATCH(Hut_T[[#Headers],[15AM-A]],Hin_T[#Headers],0)),1-(INT(LOG10(INDEX(Hin_T[[#Data],[#Totals]],Hut_T[[#This Row],[Rad]:[Rad]],MATCH(Hut_T[[#Headers],[15AM-A]],Hin_T[#Headers],0)))))),1),\"\")","v":""},{"$f":"IF(AND(ISNUMBER(Hut_T[[#This Row],[Rad]:[Rad]]),IFERROR(INDEX(Hin_T[[#Data],[#Totals]],Hut_T[[#This Row],[Rad]:[Rad]],MATCH(Hut_T[[#Headers],[D 20-10D]],Hin_T[#Headers],0)),\"\")),IFERROR(ROUND(INDEX(Hin_T[[#Data],[#Totals]],Hut_T[[#This Row],[Rad]:[Rad]]-IF(Hut_T[[#This Row],[Nr]:[Nr]]=BD_TX[[SJ]:[SJ]],COUNT(Besvär_T[[Sjukdomsdebut]:[Sjukdomsdebut]]),0),MATCH(IF(Hut_T[[#This Row],[Nr]:[Nr]]=BD_TX[[#Totals],[SJ]:[SJ]],BD_TX[[#Headers],[SJ]],\"\")&Hut_T[[#Headers],[D 20-10D]],Hin_T[#Headers],0)),0),\"\"),\"\")","v":""},{"$f":"IF(AND(ISNUMBER(Hut_T[[#This Row],[Rad]:[Rad]]),ISNUMBER(Hut_T[[#This Row],[D 20-10D]]),ISNUMBER(Hut_T[[#This Row],[Nr]:[Nr]])),IFERROR(ROUND(INDEX(Hin_T[[#Data],[#Totals]],Hut_T[[#This Row],[Rad]:[Rad]],MATCH(Hut_T[[#Headers],[20-10D-A]],Hin_T[#Headers],0)),1-(INT(LOG10(INDEX(Hin_T[[#Data],[#Totals]],Hut_T[[#This Row],[Rad]:[Rad]],MATCH(Hut_T[[#Headers],[20-10D-A]],Hin_T[#Headers],0)))))),1),\"\")","v":""},null,{"$f":"IFERROR(INDEX(Hin_T[[#Data],[#Totals],[B-år]],Hut_T[[#This Row],[Rad]]),IF(ISNUMBER(Hut_T[[#This Row],[Datum+]]),ET29,\"\"))","v":""},{"$f":"IFERROR(INDEX(Hin_T[S-år],Hut_T[[#This Row],[Rad]]),IFERROR(INDEX(BD_TX[[#Data],[#Totals],[År]],MATCH(Hut_T[[#This Row],[Rad]],BD_TX[[#Data],[#Totals],[NrX]],0)),\"\"))","v":""},null,{"$f":"ROWS($EW$20:EW30)","v":11},{"$f":"IFERROR(MATCH(Hist_Tab[[#This Row],[Ref]],Medel_T[NrX],0),1)","v":1},{"$f":"INT((ROW(Hist_Tab[[#This Row],[Ref]])-ROW(Hist_Tab[[#Headers],[Ref]])-1)/4)+1","v":3},{"$f":"COUNTIF($EY$19:EY30,Hist_Tab[[#This Row],[Ref]])","v":4},{"$f":"IFERROR(INDEX(Medel_T[Start],Hist_Tab[[#This Row],[Ref]]),_xlfn.AGGREGATE(4,6,Medel_T[Start]))","v":"00:00:00"},{"$f":"IFERROR(INDEX(Medel_T[Slut],Hist_Tab[[#This Row],[Ref]]),_xlfn.AGGREGATE(4,6,Medel_T[Slut]))","v":"00:00:00"},{"$f":"IF(EW29=0,Hist_Tab[[#This Row],[ÅrB]],IF(Hist_Tab[[#This Row],[per/p]]<2,Hist_Tab[[#This Row],[ÅrB]],Hist_Tab[[#This Row],[År S]]))","v":"00:00:00"},{"$f":"IF(Hist_Tab[[#This Row],[Rad]:[Rad]]=0,-1,IF($EY31>_xlfn.AGGREGATE(2,6,Medel_T[[Slut]:[Slut]]),0,INDEX(Medel_T[],Hist_Tab[[#This Row],[Ref]:[Ref]],MATCH(Hist_Tab[[#Headers],[HöA T]],Medel_T[#Headers],0))))","v":0},{"$f":"IF(Hist_Tab[[#This Row],[Rad]:[Rad]]=0,0,IF($EY31>_xlfn.AGGREGATE(2,6,Medel_T[[Slut]:[Slut]]),0,INDEX(Medel_T[],Hist_Tab[[#This Row],[Ref]:[Ref]],MATCH(Hist_Tab[[#Headers],[AöA T]],Medel_T[#Headers],0))))","v":0},{"$f":"IF(Hist_Tab[[#This Row],[Rad]:[Rad]]=0,0,IF($EY31>_xlfn.AGGREGATE(2,6,Medel_T[[Slut]:[Slut]]),0,INDEX(Medel_T[],Hist_Tab[[#This Row],[Ref]:[Ref]],MATCH(Hist_Tab[[#Headers],[4AM T]],Medel_T[#Headers],0))))","v":0},{"$f":"IF(Hist_Tab[[#This Row],[Rad]:[Rad]]=0,0,IF($EY31>_xlfn.AGGREGATE(2,6,Medel_T[[Slut]:[Slut]]),0,INDEX(Medel_T[],Hist_Tab[[#This Row],[Ref]:[Ref]],MATCH(Hist_Tab[[#Headers],[15AM T]],Medel_T[#Headers],0))))","v":0},{"$f":"IF(Hist_Tab[[#This Row],[Rad]:[Rad]]=0,0,IF($EY31>_xlfn.AGGREGATE(2,6,Medel_T[[Slut]:[Slut]]),0,INDEX(Medel_T[],Hist_Tab[[#This Row],[Ref]:[Ref]],MATCH(Hist_Tab[[#Headers],[20-10D T]],Medel_T[#Headers],0))))","v":0}]
[null,null,null,null,null,null,null,null,null,null,null,null,null,null,null,null,null,null,{"$f":"IF(LEN(Hin_T[[#This Row],[Start]])>0,ROWS($S$19:S31),\"\")","v":""},null,{"$f":"Hin_T[[#This Row],[Yrke]]&IF(ISBLANK(Hin_T[[#This Row],[Arbetsmoment]]),\"\",\"; \"&Hin_T[[#This Row],[Arbetsmoment]])","v":""},{"$f":"IFERROR(IF(LEN(Hin_T[[#This Row],[Start]])-LEN(SUBSTITUTE(Hin_T[[#This Row],[Start]],\"-\",\"\"))=2,DATEVALUE(Hin_T[[#This Row],[Start]]),IF(LEN(Hin_T[[#This Row],[Start]])<5,DATEVALUE(Hin_T[[#This Row],[Start]]&\"-01-01\"),DATEVALUE(LEFT(Hin_T[[#This Row],[Start]],IF(LEN(Hin_T[[#This Row],[Start]])>6,4,2))&\"-\"&MID(Hin_T[[#This Row],[Start]],IF(LEN(Hin_T[[#This Row],[Start]])>6,5,3),2)&\"-\"&RIGHT(Hin_T[[#This Row],[Start]],2)))),\"\")","v":""},{"$f":"IFERROR(IF(LEN(Hin_T[[#This Row],[Slut]])-LEN(SUBSTITUTE(Hin_T[[#This Row],[Slut]],\"-\",\"\"))=2,DATEVALUE(Hin_T[[#This Row],[Slut]]),IF(LEN(Hin_T[[#This Row],[Slut]])<5,DATEVALUE(Hin_T[[#This Row],[Slut]]&\"-12-31\"),DATEVALUE(LEFT(Hin_T[[#This Row],[Slut]],IF(LEN(Hin_T[[#This Row],[Slut]])>6,4,2))&\"-\"&MID(Hin_T[[#This Row],[Slut]],IF(LEN(Hin_T[[#This Row],[Slut]])>6,5,3),2)&\"-\"&RIGHT(Hin_T[[#This Row],[Slut]],2)))),\"\")","v":""},{"$f":"IF(COUNTIF(V$19:V31,Hin_T[[#This Row],[B-år]])=1,Hin_T[[#This Row],[B-år]],\"\")","v":""},{"$f":"IF(COUNTIF(W$19:W31,Hin_T[[#This Row],[S-år]])=1,Hin_T[[#This Row],[S-år]],\"\")","v":""},{"$f":"IFERROR(Hin_T[[#This Row],[B-år]]+IF(COUNTIF($V$19:V31,Hin_T[[#This Row],[B-år]])>1,COUNTIF($V$19:V31,Hin_T[[#This Row],[B-år]])/10,0),\"\")","v":""},{"$f":"IF(ISNUMBER(Hin_T[[#This Row],[Dagar]]),Hin_T[[#This Row],[Dagar]]/DÅ[Arbetsdag/år],1)","v":1},{"$f":"Hin_T[[#This Row],[Dag]]*DÅ[Arbetsdag/år]","v":220},{"$f":"IF(LEN(Hin_T[[#This Row],[Yrke]])=4,1,0)","v":0},{"$f":"_xlfn.DAYS(Hin_T[[#This Row],[B-år]],DATE(YEAR(Hin_T[[#This Row],[B-år]]),1,1))/(DATE(YEAR(Hin_T[[#This Row],[B-år]])+1,1,1)-DATE(YEAR(Hin_T[[#This Row],[B-år]]),1,1))","v":{"$error":"#VALUE!"}},{"$f":"_xlfn.DAYS(DATE(YEAR(Hin_T[[#This Row],[S-år]]),12,31),Hin_T[[#This Row],[S-år]])/(DATE(YEAR(Hin_T[[#This Row],[S-år]])+1,1,1)-DATE(YEAR(Hin_T[[#This Row],[S-år]]),1,1))","v":{"$error":"#VALUE!"}},{"$f":"YEARFRAC(Hin_T[[#This Row],[S-år]],Hin_T[[#This Row],[B-år]])*Hin_T[[#This Row],[Dag]]","v":{"$error":"#VALUE!"}},{"$f":"IFERROR(Hin_T[[#This Row],[År diff]]*IF(ISNUMBER(Hin_T[[#This Row],[HöA]]),1,0),0)","v":0},{"$f":"IFERROR(Hin_T[[#This Row],[År diff]]*IF(ISNUMBER(Hin_T[[#This Row],[AöA]]),1,0),0)","v":0},{"$f":"IF(Hin_T[[#This Row],[B-år]]<=Besvär_T[[#Totals],[Sjukdomsdebut]],Hin_T[[#This Row],[B-år]],\"\")","v":""},{"$f":"IF(Hin_T[[#This Row],[S-år]]<=Besvär_T[[#Totals],[Sjukdomsdebut]],Hin_T[[#This Row],[S-år]],\"\")","v":""},{"$f":"IFERROR(YEARFRAC(IF(AND(ISNUMBER(Hin_T[[#This Row],[B-år EA]]),LEN(Hin_T[[#This Row],[S-år EA]])=0),Hin_T[[#Totals],[15AM-A]],Hin_T[[#This Row],[S-år EA]]),Hin_T[[#This Row],[B-år EA]])*Hin_T[[#This Row],[Dag]]*IF(ISNUMBER(Hin_T[[#This Row],[HöA]]),1,0),0)","v":0},{"$f":"IFERROR(YEARFRAC(IF(AND(ISNUMBER(Hin_T[[#This Row],[B-år EA]]),LEN(Hin_T[[#This Row],[S-år EA]])=0),Hin_T[[#Totals],[15AM-A]],Hin_T[[#This Row],[S-år EA]]),Hin_T[[#This Row],[B-år EA]])*Hin_T[[#This Row],[Dag]]*IF(ISNUMBER(Hin_T[[#This Row],[AöA]]),1,0),0)","v":0},{"$f":"IFERROR(Hin_T[[#This Row],[År diff]]*IF(ISNUMBER(Hin_T[[#This Row],[4AM]]),1,0),0)","v":0},{"$f":"IFERROR(Hin_T[[#This Row],[År diff]]*IF(ISNUMBER(Hin_T[[#This Row],[15AM]]),1,0),0)","v":0},{"$f":"IF(Hin_T[[#This Row],[B-år]]<=Besvär_T[[#Totals],[Sjukdomsdebut]],Hin_T[[#This Row],[B-år]],\"\")","v":""},{"$f":"IF(Hin_T[[#This Row],[S-år]]<=Besvär_T[[#Totals],[Sjukdomsdebut]],Hin_T[[#This Row],[S-år]],\"\")","v":""},{"$f":"IFERROR(YEARFRAC(IF(AND(ISNUMBER(Hin_T[[#This Row],[B-år RA]]),LEN(Hin_T[[#This Row],[S-år RA]])=0),Hin_T[[#Totals],[15AM-A]],Hin_T[[#This Row],[S-år RA]]),Hin_T[[#This Row],[B-år RA]])*Hin_T[[#This Row],[Dag]]*IF(ISNUMBER(Hin_T[[#This Row],[4AM]]),1,0),0)","v":0},{"$f":"IFERROR(YEARFRAC(IF(AND(ISNUMBER(Hin_T[[#This Row],[B-år RA]]),LEN(Hin_T[[#This Row],[S-år RA]])=0),Hin_T[[#Totals],[15AM-A]],Hin_T[[#This Row],[S-år RA]]),Hin_T[[#This Row],[B-år RA]])*Hin_T[[#This Row],[Dag]]*IF(ISNUMBER(Hin_T[[#This Row],[15AM]]),1,0),0)","v":0},{"$f":"IFERROR(Hin_T[[#This Row],[År diff]]*IF(ISNUMBER(Hin_T[[#This Row],[20-10D]]),1,0),0)","v":0},{"$f":"IF(Hin_T[[#This Row],[B-år]]<=Besvär_T[[#Totals],[Sjukdomsdebut]],Hin_T[[#This Row],[B-år]],\"\")","v":""},{"$f":"IF(Hin_T[[#This Row],[S-år]]<=Besvär_T[[#Totals],[Sjukdomsdebut]],Hin_T[[#This Row],[S-år]],\"\")","v":""},{"$f":"IFERROR(YEARFRAC(IF(AND(ISNUMBER(Hin_T[[#This Row],[B-år TMH]]),LEN(Hin_T[[#This Row],[S-år TMH]])=0),Hin_T[[#Totals],[15AM-A]],Hin_T[[#This Row],[S-år TMH]]),Hin_T[[#This Row],[B-år TMH]])*Hin_T[[#This Row],[Dag]]*IF(ISNUMBER(Hin_T[[#This Row],[20-10D]]),1,0),0)","v":0},{"$f":"IF(Hin_T[[#This Row],[Vib]]=JN_T[JN],1,0)","v":0},{"$f":"IFERROR(Hin_T[[#This Row],[År diff]]*IF(Hin_T[[#This Row],[Vib2]]>0,1,0),0)","v":0},{"$f":"IF(Hin_T[[#This Row],[B-år]]<=Besvär_T[[#Totals],[Sjukdomsdebut]],Hin_T[[#This Row],[B-år]],\"\")","v":""},{"$f":"IF(Hin_T[[#This Row],[S-år]]<=Besvär_T[[#Totals],[Sjukdomsdebut]],Hin_T[[#This Row],[S-år]],\"\")","v":""},{"$f":"IFERROR(YEARFRAC(IF(AND(ISNUMBER(Hin_T[[#This Row],[B-år VIB]]),LEN(Hin_T[[#This Row],[S-år Vib]])=0),Hin_T[[#Totals],[15AM-A]],Hin_T[[#This Row],[S-år Vib]]),Hin_T[[#This Row],[B-år VIB]])*IF(Hin_T[[#This Row],[Vib2]]>0,1,0),0)","v":0},{"$f":"Hin_T[[#This Row],[HöA]]*Hin_T[[#This Row],[tot år HöA]]*DÅ[Arbetsdag/år]","v":0},{"$f":"Hin_T[[#This Row],[tot år AöA]]*Hin_T[[#This Row],[AöA]]*DÅ[Arbetsdag/år]","v":0},{"$f":"Hin_T[[#This Row],[tot år 4AM]]*Hin_T[[#This Row],[4AM]]*DÅ[Arbetsdag/år]","v":0},{"$f":"Hin_T[[#This Row],[tot år 15AM]]*Hin_T[[#This Row],[15AM]]*DÅ[Arbetsdag/år]","v":0},{"$f":"Hin_T[[#This Row],[tot år 20-10D]]*Hin_T[[#This Row],[20-10D]]*DÅ[Arbetsdag/år]","v":0},{"$f":"Hin_T[[#This Row],[BD år HöA]]*Hin_T[[#This Row],[HöA]]*DÅ[Arbetsdag/år]","v":0},{"$f":"Hin_T[[#This Row],[BD år AöA]]*Hin_T[[#This Row],[AöA]]*DÅ[Arbetsdag/år]","v":0},{"$f":"Hin_T[[#This Row],[BD år 4AM]]*Hin_T[[#This Row],[4AM]]*DÅ[Arbetsdag/år]","v":0},{"$f":"Hin_T[[#This Row],[BD år 15AM]]*Hin_T[[#This Row],[15AM]]*DÅ[Arbetsdag/år]","v":0},{"$f":"Hin_T[[#This Row],[BD år 20-10D]]*Hin_T[[#This Row],[20-10D]]*DÅ[Arbetsdag/år]","v":0},{"$f":"Hin_T[[#This Row],[Arbetsmoment]]&Hin_T[[#This Row],[Text AöA]]&Hin_T[[#This Row],[Text 15AM]]&IF(Hin_T[[#This Row],[Dagarna]]=DÅ[Arbetsdag/år],\"\",\". \"&Hin_T[[#This Row],[Dagarna]]&\" dagar/år\")&\". \"","v":". "},{"$f":"IF(ISBLANK(Hin_T[[#This Row],[AöA]]),\"\",Exp_T[Överarmslyft> 90°: ]&IF(VALUE(TEXT(Hin_T[[#This Row],[AöA]],\"t\"))>0,VALUE(TEXT(Hin_T[[#This Row],[AöA]],\"t\"))&\" h\",\"\")&IF(AND(VALUE(TEXT(Hin_T[[#This Row],[AöA]],\"t\"))>0,VALUE(TEXT(Hin_T[[#This Row],[AöA]],\"m\"))>2.4),\" \",\"\")&IF(VALUE(TEXT(Hin_T[[#This Row],[AöA]],\"m\"))>2.4,TEXT(ROUND(Hin_T[[#This Row],[AöA]]*(24*60/5),0)/(24*60/5),\"m\")&\" min\",\"\")&\"/dag\")","v":""},{"$f":"IF(ISBLANK(Hin_T[[#This Row],[15AM]]),\"\",Exp_T[Överarmsrörelser> 15/min: ]&IF(VALUE(TEXT(Hin_T[[#This Row],[15AM]],\"t\"))>0,VALUE(TEXT(Hin_T[[#This Row],[15AM]],\"t\"))&\" h\",\"\")&IF(AND(VALUE(TEXT(Hin_T[[#This Row],[15AM]],\"t\"))>0,VALUE(TEXT(Hin_T[[#This Row],[15AM]],\"m\"))>2.4),\" \",\"\")&IF(VALUE(TEXT(Hin_T[[#This Row],[15AM]],\"m\"))>2.4,TEXT(ROUND(Hin_T[[#This Row],[15AM]]*(24*60/5),0)/(24*60/5),\"m\")&\" min\",\"\")&\"/dag\")","v":""},null,null,null,null,{"$f":"SMALL(Hin_T[[StartÅR]:[SlutÅr]],ROW()-ROW(Medel_T[[#Headers],[Start]]))","v":{"$error":"#NUM!"}},{"$f":"SMALL(Hin_T[[StartÅR]:[SlutÅr]],ROW()-ROW(Medel_T[[#Headers],[Slut]])+1)","v":{"$error":"#NUM!"}},{"$f":"IF(Medel_T[[#This Row],[Start]]<=Besvär_T[[#Totals],[Sjukdomsdebut]],Medel_T[[#This Row],[Start]],\"\")","v":{"$error":"#NUM!"}},{"$f":"IF(Medel_T[[#This Row],[Slut]]<=Besvär_T[[#Totals],[Sjukdomsdebut]],Medel_T[[#This Row],[Slut]],IF(AND(LEN(Medel_T[[#This Row],[SJDstart]])>0,LEN(BU32)=0),Besvär_T[[#Totals],[Sjukdomsdebut]],\"\"))","v":{"$error":"#NUM!"}},{"$f":"IF(Medel_T[[#This Row],[Start]]>=Besvär_T[[#Totals],[Sjukdomsdebut]],Medel_T[[#This Row],[Start]],IF(AND(LEN(Medel_T[[#This Row],[EfterSlut]])>0,LEN(BX30)=0),Besvär_T[[#Totals],[Sjukdomsdebut]],\"\"))","v":{"$error":"#NUM!"}},{"$f":"IF(Medel_T[[#This Row],[Slut]]>=Besvär_T[[#Totals],[Sjukdomsdebut]],Medel_T[[#This Row],[Slut]],\"\")","v":{"$error":"#NUM!"}},{"$f":"COUNTIF($BZ$19:BZ31,\">0\")","v":0},{"$f":"COUNTIFS(Hin_T[B-år],\"<=\"&Medel_T[[#This Row],[Start]],Hin_T[S-år],\">=\"&Medel_T[[#This Row],[Slut]])","v":0},{"$f":"SUBSTITUTE(_xlfn.TEXTJOIN(Sep_T[Separator],TRUE,_xlfn._xlws.SORT(_xlfn.UNIQUE(IF((Hin_T[[B-år]:[B-år]]<=Medel_T[[#This Row],[Start]:[Start]])*(Hin_T[[S-år]:[S-år]]>=Medel_T[[#This Row],[Slut]:[Slut]]),Hin_T[Yrke],\"\")))),0&Sep_T[Separator],\"\")","v":{"$error":"#NUM!"}},{"$f":"SUBSTITUTE(_xlfn.TEXTJOIN(Sep_T[Separator],TRUE,_xlfn._xlws.SORT(_xlfn.UNIQUE(IF((Hin_T[[B-år]:[B-år]]<=Medel_T[[#This Row],[Start]:[Start]])*(Hin_T[[S-år]:[S-år]]>=Medel_T[[#This Row],[Slut]:[Slut]]),Hin_T[Arbetsmoment],\"\")))),0&Sep_T[Separator],\"\")","v":{"$error":"#NUM!"}},{"$f":"IF(LEN(Medel_T[[#This Row],[Yrke]])>0,Medel_T[[#Headers],[Period ]]&Medel_T[[#This Row],[NrX]]&\": \"&TEXT(Medel_T[[#This Row],[Start]],\"ÅÅÅÅ\")&List_T[[#Totals],[List symb]]&TEXT(Medel_T[[#This Row],[Slut]],\"ÅÅÅÅ\")&\" (\"&ROUND(Medel_T[[#This Row],[År]],1)&\" år) Anställd som \"&IFERROR(SUBSTITUTE(SUBSTITUTE(Medel_T[[#This Row],[Yrke]],Sep_T[Separator],\" och \",Medel_T[[#This Row],[Ant]]-1),Sep_T[Separator],\", \"),Medel_T[[#This Row],[Yrke]])&↓[↓],\"\")","v":{"$error":"#NUM!"}},{"$f":"IF(LEN(Medel_T[[#This Row],[Arbetsmoment]])>0,ROMAN(1)&\") \"&_xlfn.TEXTJOIN(Delim[Delimiters],TRUE,_xlfn._xlws.SORT(_xlfn.UNIQUE(IF((Hin_T[[B-år]:[B-år]]<=Medel_T[[#This Row],[Start]:[Start]])*(Hin_T[[S-år]:[S-år]]>=Medel_T[[#This Row],[Slut]:[Slut]]),Hin_T[Text],\"\"))))&↓[↓],\"\")","v":{"$error":"#NUM!"}},{"$f":"SUMPRODUCT((Hin_T[[B-år]:[B-år]]<=Medel_T[[#This Row],[Start]:[Start]])*(Hin_T[[S-år]:[S-år]]>=Medel_T[[#This Row],[Slut]:[Slut]])*Hin_T[Dag])","v":{"$error":"#NUM!"}},{"$f":"IF(Medel_T[[#This Row],[Proc dag]]<=1,Medel_T[[#This Row],[Proc dag]],1)","v":{"$error":"#NUM!"}},{"$f":"YEARFRAC(Medel_T[[#This Row],[Slut]],Medel_T[[#This Row],[Start]])","v":{"$error":"#NUM!"}},{"$f":"YEARFRAC(Medel_T[[#This Row],[SJDslut]],Medel_T[[#This Row],[SJDstart]])","v":{"$error":"#NUM!"}},{"$f":"IFERROR(SUMPRODUCT((Hin_T[[B-år]:[B-år]]<=Medel_T[[#This Row],[Start]:[Start]])*(Hin_T[[S-år]:[S-år]]>=Medel_T[[#This Row],[Slut]:[Slut]])*Hin_T[HöA]*Hin_T[[Dag]:[Dag]])/Medel_T[[#This Row],[Proc dag]],-1)","v":-1},{"$f":"IFERROR(SUMPRODUCT((Hin_T[[B-år]:[B-år]]<=Medel_T[[#This Row],[Start]:[Start]])*(Hin_T[[S-år]:[S-år]]>=Medel_T[[#This Row],[Slut]:[Slut]])*Hin_T[AöA]*Hin_T[[Dag]:[Dag]])/Medel_T[[#This Row],[Proc dag]],-1)","v":-1},{"$f":"IFERROR(SUMPRODUCT((Hin_T[[B-år]:[B-år]]<=Medel_T[[#This Row],[Start]:[Start]])*(Hin_T[[S-år]:[S-år]]>=Medel_T[[#This Row],[Slut]:[Slut]])*Hin_T[4AM]*Hin_T[[Dag]:[Dag]])/Medel_T[[#This Row],[Proc dag]],-1)","v":-1},{"$f":"IFERROR(SUMPRODUCT((Hin_T[[B-år]:[B-år]]<=Medel_T[[#This Row],[Start]:[Start]])*(Hin_T[[S-år]:[S-år]]>=Medel_T[[#This Row],[Slut]:[Slut]])*Hin_T[15AM]*Hin_T[[Dag]:[Dag]])/Medel_T[[#This Row],[Proc dag]],-1)","v":-1},{"$f":"IFERROR(SUMPRODUCT((Hin_T[[B-år]:[B-år]]<=Medel_T[[#This Row],[Start]:[Start]])*(Hin_T[[S-år]:[S-år]]>=Medel_T[[#This Row],[Slut]:[Slut]])*Hin_T[20-10D]*Hin_T[[Dag]:[Dag]])/Medel_T[[#This Row],[Proc dag]],-1)","v":-1},{"$f":"IFERROR(SUMPRODUCT((Hin_T[[B-år]:[B-år]]<=Medel_T[[#This Row],[Start]:[Start]])*(Hin_T[[S-år]:[S-år]]>=Medel_T[[#This Row],[Slut]:[Slut]])*Hin_T[[Dag]:[Dag]]*Hin_T[HöA])/Medel_T[[#This Row],[Dag sum]],-1)","v":-1},{"$f":"IFERROR(SUMPRODUCT((Hin_T[[B-år]:[B-år]]<=Medel_T[[#This Row],[Start]:[Start]])*(Hin_T[[S-år]:[S-år]]>=Medel_T[[#This Row],[Slut]:[Slut]])*Hin_T[[Dag]:[Dag]]*Hin_T[AöA])/Medel_T[[#This Row],[Dag sum]],-1)","v":-1},{"$f":"IFERROR(SUMPRODUCT((Hin_T[[B-år]:[B-år]]<=Medel_T[[#This Row],[Start]:[Start]])*(Hin_T[[S-år]:[S-år]]>=Medel_T[[#This Row],[Slut]:[Slut]])*Hin_T[[Dag]:[Dag]]*Hin_T[4AM])/Medel_T[[#This Row],[Dag sum]],-1)","v":-1},{"$f":"IFERROR(SUMPRODUCT((Hin_T[[B-år]:[B-år]]<=Medel_T[[#This Row],[Start]:[Start]])*(Hin_T[[S-år]:[S-år]]>=Medel_T[[#This Row],[Slut]:[Slut]])*Hin_T[15AM]*Hin_T[[Dag]:[Dag]])/Medel_T[[#This Row],[Dag sum]],-1)","v":-1},{"$f":"IFERROR(SUMPRODUCT((Hin_T[[B-år]:[B-år]]<=Medel_T[[#This Row],[Start]:[Start]])*(Hin_T[[S-år]:[S-år]]>=Medel_T[[#This Row],[Slut]:[Slut]])*Hin_T[[Dag]:[Dag]]*Hin_T[20-10D])/Medel_T[[#This Row],[Dag sum]],-1)","v":-1},{"$f":"IFERROR(Medel_T[[#This Row],[Dag sum]:[Dag sum]]*Medel_T[[#This Row],[År]:[År]]*Medel_T[[#This Row],[HöA T]]*DÅ[Arbetsdag/år],0)","v":0},{"$f":"IFERROR(Medel_T[[#This Row],[Dag sum]:[Dag sum]]*Medel_T[[#This Row],[År]:[År]]*Medel_T[[#This Row],[AöA T]]*DÅ[Arbetsdag/år],0)","v":0},{"$f":"IFERROR(Medel_T[[#This Row],[Dag sum]:[Dag sum]]*Medel_T[[#This Row],[År]:[År]]*Medel_T[[#This Row],[4AM T]]*DÅ[Arbetsdag/år],0)","v":0},{"$f":"IFERROR(Medel_T[[#This Row],[Dag sum]:[Dag sum]]*Medel_T[[#This Row],[År]:[År]]*Medel_T[[#This Row],[15AM T]]*DÅ[Arbetsdag/år],0)","v":0},{"$f":"IFERROR(Medel_T[[#This Row],[Dag sum]:[Dag sum]]*Medel_T[[#This Row],[År]:[År]]*Medel_T[[#This Row],[20-10D T]]*DÅ[Arbetsdag/år],0)","v":0},{"$f":"IFERROR(Medel_T[[#This Row],[Dag sum]:[Dag sum]]*Medel_T[[#This Row],[ÅrSjuk]:[ÅrSjuk]]*Medel_T[[#This Row],[HöA T]]*DÅ[Arbetsdag/år],0)","v":0},{"$f":"IFERROR(Medel_T[[#This Row],[Dag sum]:[Dag sum]]*Medel_T[[#This Row],[ÅrSjuk]:[ÅrSjuk]]*Medel_T[[#This Row],[AöA T]]*DÅ[Arbetsdag/år],0)","v":0},{"$f":"IFERROR(Medel_T[[#This Row],[Dag sum]:[Dag sum]]*Medel_T[[#This Row],[ÅrSjuk]:[ÅrSjuk]]*Medel_T[[#This Row],[4AM T]]*DÅ[Arbetsdag/år],0)","v":0},{"$f":"IFERROR(Medel_T[[#This Row],[Dag sum]:[Dag sum]]*Medel_T[[#This Row],[ÅrSjuk]:[ÅrSjuk]]*Medel_T[[#This Row],[15AM T]]*DÅ[Arbetsdag/år],0)","v":0},{"$f":"IFERROR(Medel_T[[#This Row],[Dag sum]:[Dag sum]]*Medel_T[[#This Row],[ÅrSjuk]:[ÅrSjuk]]*Medel_T[[#This Row],[20-10D T]]*DÅ[Arbetsdag/år],0)","v":0},{"$f":"IFERROR(IF(Medel_T[[#This Row],[AöA T]]=0,\"\",List_T[List symb]&Exp_T[[#Headers],[Överarmslyft> 90°: ]]&IF(VALUE(TEXT(Medel_T[[#This Row],[AöA T]],\"t\"))>0,VALUE(TEXT(Medel_T[[#This Row],[AöA T]],\"t\"))&\" h\",\"\")&IF(AND(VALUE(TEXT(Medel_T[[#This Row],[AöA T]],\"t\"))>0,VALUE(TEXT(Medel_T[[#This Row],[AöA T]],\"m\"))>2.4),\" \",\"\")&IF(VALUE(TEXT(Medel_T[[#This Row],[AöA T]],\"m\"))>2.4,TEXT(ROUND(Medel_T[[#This Row],[AöA T]]*(24*60/5),0)/(24*60/5),\"m\")&\" min\",\"\")&\"/dag x \"&ROUND(Medel_T[[#This Row],[Dag sum]:[Dag sum]]*DÅ[Arbetsdag/år],0)&\" dagar x \"&ROUND(Medel_T[[#This Row],[År]:[År]],1)&\" år = \"&TEXT(ROUND(Medel_T[[#This Row],[D AöA§]]*24,1-(INT(LOG10(ABS(Medel_T[[#This Row],[D AöA§]]*24))))),\"0\"&IF(1-(INT(LOG10(ABS(Medel_T[[#This Row],[D AöA§]]*24))))>0,\",\"&REPT(\"0\",1-(INT(LOG10(ABS(Medel_T[[#This Row],[D AöA§]]*24))))),\"\"))& \" h\"),\"\")","v":""},{"$f":"IFERROR(IF(Medel_T[[#This Row],[15AM T]]=0,\"\",List_T[List symb]&Exp_T[[#Headers],[Överarmsrörelser> 15/min: ]]&IF(VALUE(TEXT(Medel_T[[#This Row],[15AM T]],\"t\"))>0,VALUE(TEXT(Medel_T[[#This Row],[15AM T]],\"t\"))&\" h\",\"\")&IF(AND(VALUE(TEXT(Medel_T[[#This Row],[15AM T]],\"t\"))>0,VALUE(TEXT(Medel_T[[#This Row],[15AM T]],\"m\"))>2.4),\" \",\"\")&IF(VALUE(TEXT(Medel_T[[#This Row],[15AM T]],\"m\"))>2.4,TEXT(ROUND(Medel_T[[#This Row],[15AM T]]*(24*60/5),0)/(24*60/5),\"m\")&\" min\",\"\")&\"/dag x \"&ROUND(Medel_T[[#This Row],[Dag sum]:[Dag sum]]*DÅ[Arbetsdag/år],0)&\" dagar x \"&ROUND(Medel_T[[#This Row],[År]:[År]],1)&\" år = \"&TEXT(ROUND(Medel_T[[#This Row],[D 15AM§]]*24,1-(INT(LOG10(ABS(Medel_T[[#This Row],[D 15AM§]]*24))))),\"0\"&IF(1-(INT(LOG10(ABS(Medel_T[[#This Row],[D 15AM§]]*24))))>0,\",\"&REPT(\"0\",1-(INT(LOG10(ABS(Medel_T[[#This Row],[D 15AM§]]*24))))),\"\"))& \" h\"),\"\")","v":""},{"$f":"IFERROR(IF(OR(LEN(Medel_T[[#This Row],[AöA text]])>0,LEN(Medel_T[[#This Row],[15AM Text]])>0),Exp_T[Anställning]&YEAR(Medel_T[[#This Row],[Start]])&List_T[[#Totals],[List symb]]&YEAR(Medel_T[[#This Row],[Slut]])&\" (\"&ROUND(Medel_T[[#This Row],[År]],1)&\" år)\"&IF(LEN(Medel_T[[#This Row],[AöA text]])>0,↓[↓],\"\")&Medel_T[[#This Row],[AöA text]]&IF(LEN(Medel_T[[#This Row],[15AM Text]])>0,↓[↓],\"\")&Medel_T[[#This Row],[15AM Text]],\"\"),\"\")","v":""},{"$f":"IFERROR(IF(Medel_T[[#This Row],[AöA T]]=0,\"\",List_T[List symb]&Exp_T[[#Headers],[Överarmsrörelser> 15/min: ]]&IF(VALUE(TEXT(Medel_T[[#This Row],[AöA T]],\"t\"))>0,VALUE(TEXT(Medel_T[[#This Row],[AöA T]],\"t\"))&\" h\",\"\")&IF(AND(VALUE(TEXT(Medel_T[[#This Row],[AöA T]],\"t\"))>0,VALUE(TEXT(Medel_T[[#This Row],[AöA T]],\"m\"))>2.4),\" \",\"\")&IF(VALUE(TEXT(Medel_T[[#This Row],[AöA T]],\"m\"))>2.4,TEXT(ROUND(Medel_T[[#This Row],[AöA T]]*(24*60/5),0)/(24*60/5),\"m\")&\" min\",\"\")&\"/dag x \"&ROUND(Medel_T[[#This Row],[Dag sum]:[Dag sum]]*DÅ[Arbetsdag/år],0)&\" dagar x \"&ROUND(Medel_T[[#This Row],[År]:[År]],1)&\" år = \"&TEXT(ROUND(Medel_T[[#This Row],[D AöA¤]]*24,1-(INT(LOG10(ABS(Medel_T[[#This Row],[D AöA¤]]*24))))),\"0\"&IF(1-(INT(LOG10(ABS(Medel_T[[#This Row],[D AöA¤]]*24))))>0,\",\"&REPT(\"0\",1-(INT(LOG10(ABS(Medel_T[[#This Row],[D AöA¤]]*24))))),\"\"))& \" h\"),\"\")","v":""},{"$f":"IFERROR(IF(Medel_T[[#This Row],[15AM T]]=0,\"\",List_T[List symb]&Exp_T[[#Headers],[Överarmslyft> 90°: ]]&IF(VALUE(TEXT(Medel_T[[#This Row],[15AM T]],\"t\"))>0,VALUE(TEXT(Medel_T[[#This Row],[15AM T]],\"t\"))&\" h\",\"\")&IF(AND(VALUE(TEXT(Medel_T[[#This Row],[15AM T]],\"t\"))>0,VALUE(TEXT(Medel_T[[#This Row],[15AM T]],\"m\"))>0),\" \",\"\")&IF(VALUE(TEXT(Medel_T[[#This Row],[15AM T]],\"m\"))>0,TEXT(ROUND(Medel_T[[#This Row],[15AM T]]*(24*60/5),0)/(24*60/5),\"m\")&\" min\",\"\")&\"/dag x \"&ROUND(Medel_T[[#This Row],[Dag sum]:[Dag sum]]*DÅ[Arbetsdag/år],0)&\" dagar x \"&ROUND(Medel_T[[#This Row],[År]:[År]],1)&\" år = \"&TEXT(ROUND(Medel_T[[#This Row],[D 15AM¤]]*24,1-(INT(LOG10(ABS(Medel_T[[#This Row],[D 15AM¤]]*24))))),\"0\"&IF(1-(INT(LOG10(ABS(Medel_T[[#This Row],[D 15AM¤]]*24))))>0,\",\"&REPT(\"0\",1-(INT(LOG10(ABS(Medel_T[[#This Row],[D 15AM¤]]*24))))),\"\"))& \" h\"),\"\")","v":""},{"$f":"IFERROR(IF(LEN(Medel_T[[#This Row],[SJDstart]])>0,Exp_T[Anställning]&↓[↓]&YEAR(Medel_T[[#This Row],[Start]])&List_T[[#Totals],[List symb]]&YEAR(Medel_T[[#This Row],[Slut]])&\" (\"&ROUND(Medel_T[[#This Row],[År]],1)&\" år)\"&IF(LEN(Medel_T[[#This Row],[AöA text Sjuk]])>0,↓[↓],\"\")&Medel_T[[#This Row],[AöA text Sjuk]]&IF(LEN(Medel_T[[#This Row],[15AM Text Sjuk]])>0,↓[↓],\"\")&Medel_T[[#This Row],[15AM Text Sjuk]],\"\"),\"\")","v":""},{"$f":"IFERROR(Medel_T[[#This Row],[Period ]]&Medel_T[[#This Row],[ArbMomText]]&Medel_T[[#This Row],[Text]],\"\")","v":""},{"$f":"IF(AND(DJ30>=MAX(Medel_T[NrX]),ISNUMBER(DJ30)),Medel_T[[#Totals],[NrX]]+ROW()-ROW(Medel_T[[#Headers],[Rad]])-Medel_T[[#Totals],[Ant]]-1,INDEX(Medel_T[NrX],MATCH(ROW()-ROW(Medel_T[[#Headers],[Rad]]),Medel_T[NrX],0)))","v":{"$error":"#N/A"}},{"$f":"IF(Medel_T[[#This Row],[Rad]]<=Medel_T[[#Totals],[Ant]],MATCH(Medel_T[[#This Row],[Rad]],Medel_T[NrX],0),IFERROR(INDEX(BD_TX[[#Data],[#Totals],[SJ]],MATCH(Medel_T[[#This Row],[Rad]],BD_TX[[#Data],[#Totals],[Nr]],0)),\"\"))","v":{"$error":"#N/A"}},{"$f":"LEN(Medel_T[[#This Row],[Yrke2]])-LEN(SUBSTITUTE(Medel_T[[#This Row],[Yrke2]],LEFT(Sep_T[Separator],1),\"\"))","v":0},{"$f":"INDEX(Medel_T[År],Medel_T[[#This Row],[Nr]])","v":{"$error":"#N/A"}},{"$f":"IFERROR(IF(LEN(Medel_T[[#This Row],[Nr]])>0,TEXT(IFERROR(INDEX(Medel_T[Start],Medel_T[[#This Row],[Nr]]),INDEX(BD_TX[[#Data],[#Totals],[Start]],MATCH(Medel_T[[#This Row],[Rad]],BD_TX[[#Data],[#Totals],[Nr]],0))),\"ÅÅÅÅ MMM\")&\"-\"&TEXT(IFERROR(INDEX(Medel_T[Slut],Medel_T[[#This Row],[Nr]]),INDEX(BD_TX[[#Data],[#Totals],[År]],MATCH(Medel_T[[#This Row],[Rad]],BD_TX[[#Data],[#Totals],[Nr]],0))),\"ÅÅÅÅ MMM\"),\"\"),\"\")","v":""},{"$f":"IFERROR(IF(LEN(Medel_T[[#This Row],[Nr]])>0,IF(Medel_T[[#This Row],[Rad]]>Medel_T[[#Totals],[Ant]],IFERROR(INDEX(BD_TX[[#Data],[#Totals],[Text]],MATCH(Medel_T[[#This Row],[Rad]],BD_TX[[#Data],[#Totals],[Nr]],0)),\"\"),INDEX(Medel_T[Yrke],Medel_T[[#This Row],[Nr]])),\"\"),\"\")","v":""},{"$f":"IFERROR(INDEX(Medel_T[Arbetsmoment],MATCH(ROW()-ROW(Medel_T[[#Headers],[Arbetsmoment2]]),Medel_T[[NrX]:[NrX]],0)),\"\")","v":""},{"$f":"IFERROR(INDEX(Medel_T[],Medel_T[[#This Row],[Nr]],Medel_T[[#Totals],[HöA_T]]),\"\")","v":""},{"$f":"IF(LEN(Medel_T[[#This Row],[Nr]:[Nr]])>0,IFERROR(TEXT(ROUND(24*IFERROR(INDEX(Medel_T[],Medel_T[[#This Row],[Nr]:[Nr]],Medel_T[[#Totals],[D HöA]]),INDEX(Sum_T[[#Data],[#Totals]],MATCH(Medel_T[[#This Row],[Nr]:[Nr]],Sum_T[[#Data],[#Totals],[Typ]:[Typ]],0),MATCH(Medel_T[[#Headers],[D HöA]],Sum_T[#Headers],0))),1-(INT(LOG10(ABS(24*IFERROR(INDEX(Medel_T[],Medel_T[[#This Row],[Nr]:[Nr]],Medel_T[[#Totals],[D HöA]]),INDEX(Sum_T[[#Data],[#Totals]],MATCH(Medel_T[[#This Row],[Nr]:[Nr]],Sum_T[[#Data],[#Totals],[Typ]:[Typ]],0),MATCH(Medel_T[[#Headers],[D HöA]],Sum_T[#Headers],0)))))))),\"0\"&IF(1-(INT(LOG10(ABS(24*IFERROR(INDEX(Medel_T[],Medel_T[[#This Row],[Nr]:[Nr]],Medel_T[[#Totals],[D HöA]]),INDEX(Sum_T[[#Data],[#Totals]],MATCH(Medel_T[[#This Row],[Nr]:[Nr]],Sum_T[[#Data],[#Totals],[Typ]:[Typ]],0),MATCH(Medel_T[[#Headers],[D HöA]],Sum_T[#Headers],0)))))))>0,\",\"&REPT(\"0\",1-(INT(LOG10(ABS(24*IFERROR(INDEX(Medel_T[],Medel_T[[#This Row],[Nr]:[Nr]],Medel_T[[#Totals],[D HöA]]),INDEX(Sum_T[[#Data],[#Totals]],MATCH(Medel_T[[#This Row],[Nr]:[Nr]],Sum_T[[#Data],[#Totals],[Typ]:[Typ]],0),MATCH(Medel_T[[#Headers],[D HöA]],Sum_T[#Headers],0)))))))),0)),0),\"\")","v":{"$error":"#N/A"}},{"$f":"IFERROR(INDEX(Medel_T[],Medel_T[[#This Row],[Nr]],Medel_T[[#Totals],[AÖA_T]]),\"\")","v":""},{"$f":"IFERROR(IF(LEN(Medel_T[[#This Row],[Nr]:[Nr]])>0,IFERROR(TEXT(ROUND(24*IFERROR(INDEX(Medel_T[],Medel_T[[#This Row],[Nr]:[Nr]],Medel_T[[#Totals],[D AöA]]),INDEX(Sum_T[[#Data],[#Totals]],MATCH(Medel_T[[#This Row],[Nr]:[Nr]],Sum_T[[#Data],[#Totals],[Typ]:[Typ]],0),MATCH(Medel_T[[#Headers],[D AöA]],Sum_T[#Headers],0))),1-(INT(LOG10(ABS(24*IFERROR(INDEX(Medel_T[],Medel_T[[#This Row],[Nr]:[Nr]],Medel_T[[#Totals],[D AöA]]),INDEX(Sum_T[[#Data],[#Totals]],MATCH(Medel_T[[#This Row],[Nr]:[Nr]],Sum_T[[#Data],[#Totals],[Typ]:[Typ]],0),MATCH(Medel_T[[#Headers],[D AöA]],Sum_T[#Headers],0)))))))),\"0\"&IF(1-(INT(LOG10(ABS(24*IFERROR(INDEX(Medel_T[],Medel_T[[#This Row],[Nr]:[Nr]],Medel_T[[#Totals],[D AöA]]),INDEX(Sum_T[[#Data],[#Totals]],MATCH(Medel_T[[#This Row],[Nr]:[Nr]],Sum_T[[#Data],[#Totals],[Typ]:[Typ]],0),MATCH(Medel_T[[#Headers],[D AöA]],Sum_T[#Headers],0)))))))>0,\",\"&REPT(\"0\",1-(INT(LOG10(ABS(24*IFERROR(INDEX(Medel_T[],Medel_T[[#This Row],[Nr]:[Nr]],Medel_T[[#Totals],[D AöA]]),INDEX(Sum_T[[#Data],[#Totals]],MATCH(Medel_T[[#This Row],[Nr]:[Nr]],Sum_T[[#Data],[#Totals],[Typ]:[Typ]],0),MATCH(Medel_T[[#Headers],[D AöA]],Sum_T[#Headers],0)))))))),0)),0),\"\"),\"\")","v":""},{"$f":"IFERROR(INDEX(Medel_T[],Medel_T[[#This Row],[Nr]],Medel_T[[#Totals],[4AM_T]]),\"\")","v":""},{"$f":"IF(LEN(Medel_T[[#This Row],[Nr]:[Nr]])>0,IFERROR(TEXT(ROUND(24*IFERROR(INDEX(Medel_T[],Medel_T[[#This Row],[Nr]:[Nr]],Medel_T[[#Totals],[D 4AM]]),INDEX(Sum_T[[#Data],[#Totals]],MATCH(Medel_T[[#This Row],[Nr]:[Nr]],Sum_T[[#Data],[#Totals],[Typ]:[Typ]],0),MATCH(Medel_T[[#Headers],[D 4AM]],Sum_T[#Headers],0))),1-(INT(LOG10(ABS(24*IFERROR(INDEX(Medel_T[],Medel_T[[#This Row],[Nr]:[Nr]],Medel_T[[#Totals],[D 4AM]]),INDEX(Sum_T[[#Data],[#Totals]],MATCH(Medel_T[[#This Row],[Nr]:[Nr]],Sum_T[[#Data],[#Totals],[Typ]:[Typ]],0),MATCH(Medel_T[[#Headers],[D 4AM]],Sum_T[#Headers],0)))))))),\"0\"&IF(1-(INT(LOG10(ABS(24*IFERROR(INDEX(Medel_T[],Medel_T[[#This Row],[Nr]:[Nr]],Medel_T[[#Totals],[D 4AM]]),INDEX(Sum_T[[#Data],[#Totals]],MATCH(Medel_T[[#This Row],[Nr]:[Nr]],Sum_T[[#Data],[#Totals],[Typ]:[Typ]],0),MATCH(Medel_T[[#Headers],[D 4AM]],Sum_T[#Headers],0)))))))>0,\",\"&REPT(\"0\",1-(INT(LOG10(ABS(24*IFERROR(INDEX(Medel_T[],Medel_T[[#This Row],[Nr]:[Nr]],Medel_T[[#Totals],[D 4AM]]),INDEX(Sum_T[[#Data],[#Totals]],MATCH(Medel_T[[#This Row],[Nr]:[Nr]],Sum_T[[#Data],[#Totals],[Typ]:[Typ]],0),MATCH(Medel_T[[#Headers],[D 4AM]],Sum_T[#Headers],0)))))))),0)),0),\"\")","v":{"$error":"#N/A"}},{"$f":"IFERROR(INDEX(Medel_T[],Medel_T[[#This Row],[Nr]],Medel_T[[#Totals],[15AM_T]]),\"\")","v":""},{"$f":"IFERROR(IF(LEN(Medel_T[[#This Row],[Nr]:[Nr]])>0,IFERROR(TEXT(ROUND(24*IFERROR(INDEX(Medel_T[],Medel_T[[#This Row],[Nr]:[Nr]],Medel_T[[#Totals],[D 15AM]]),INDEX(Sum_T[[#Data],[#Totals]],MATCH(Medel_T[[#This Row],[Nr]:[Nr]],Sum_T[[#Data],[#Totals],[Typ]:[Typ]],0),MATCH(Medel_T[[#Headers],[D 15AM]],Sum_T[#Headers],0))),1-(INT(LOG10(ABS(24*IFERROR(INDEX(Medel_T[],Medel_T[[#This Row],[Nr]:[Nr]],Medel_T[[#Totals],[D 15AM]]),INDEX(Sum_T[[#Data],[#Totals]],MATCH(Medel_T[[#This Row],[Nr]:[Nr]],Sum_T[[#Data],[#Totals],[Typ]:[Typ]],0),MATCH(Medel_T[[#Headers],[D 15AM]],Sum_T[#Headers],0)))))))),\"0\"&IF(1-(INT(LOG10(ABS(24*IFERROR(INDEX(Medel_T[],Medel_T[[#This Row],[Nr]:[Nr]],Medel_T[[#Totals],[D 15AM]]),INDEX(Sum_T[[#Data],[#Totals]],MATCH(Medel_T[[#This Row],[Nr]:[Nr]],Sum_T[[#Data],[#Totals],[Typ]:[Typ]],0),MATCH(Medel_T[[#Headers],[D 15AM]],Sum_T[#Headers],0)))))))>0,\",\"&REPT(\"0\",1-(INT(LOG10(ABS(24*IFERROR(INDEX(Medel_T[],Medel_T[[#This Row],[Nr]:[Nr]],Medel_T[[#Totals],[D 15AM]]),INDEX(Sum_T[[#Data],[#Totals]],MATCH(Medel_T[[#This Row],[Nr]:[Nr]],Sum_T[[#Data],[#Totals],[Typ]:[Typ]],0),MATCH(Medel_T[[#Headers],[D 15AM]],Sum_T[#Headers],0)))))))),0)),0),\"\"),\"\")","v":""},{"$f":"IFERROR(INDEX(Medel_T[],Medel_T[[#This Row],[Nr]],Medel_T[[#Totals],[20-10D_T]]),\"\")","v":""},{"$f":"IF(LEN(Medel_T[[#This Row],[Nr]:[Nr]])>0,IFERROR(TEXT(ROUND(24*IFERROR(INDEX(Medel_T[],Medel_T[[#This Row],[Nr]:[Nr]],Medel_T[[#Totals],[D 20-10D]]),INDEX(Sum_T[[#Data],[#Totals]],MATCH(Medel_T[[#This Row],[Nr]:[Nr]],Sum_T[[#Data],[#Totals],[Typ]:[Typ]],0),MATCH(Medel_T[[#Headers],[D 20-10D]],Sum_T[#Headers],0))),1-(INT(LOG10(ABS(24*IFERROR(INDEX(Medel_T[],Medel_T[[#This Row],[Nr]:[Nr]],Medel_T[[#Totals],[D 20-10D]]),INDEX(Sum_T[[#Data],[#Totals]],MATCH(Medel_T[[#This Row],[Nr]:[Nr]],Sum_T[[#Data],[#Totals],[Typ]:[Typ]],0),MATCH(Medel_T[[#Headers],[D 20-10D]],Sum_T[#Headers],0)))))))),\"0\"&IF(1-(INT(LOG10(ABS(24*IFERROR(INDEX(Medel_T[],Medel_T[[#This Row],[Nr]:[Nr]],Medel_T[[#Totals],[D 20-10D]]),INDEX(Sum_T[[#Data],[#Totals]],MATCH(Medel_T[[#This Row],[Nr]:[Nr]],Sum_T[[#Data],[#Totals],[Typ]:[Typ]],0),MATCH(Medel_T[[#Headers],[D 20-10D]],Sum_T[#Headers],0)))))))>0,\",\"&REPT(\"0\",1-(INT(LOG10(ABS(24*IFERROR(INDEX(Medel_T[],Medel_T[[#This Row],[Nr]:[Nr]],Medel_T[[#Totals],[D 20-10D]]),INDEX(Sum_T[[#Data],[#Totals]],MATCH(Medel_T[[#This Row],[Nr]:[Nr]],Sum_T[[#Data],[#Totals],[Typ]:[Typ]],0),MATCH(Medel_T[[#Headers],[D 20-10D]],Sum_T[#Headers],0)))))))),0)),0),\"\")","v":{"$error":"#N/A"}},null,{"$f":"IFERROR(INDEX(Hin_T[Nr],MATCH(SMALL(Hin_T[B-årX],ROW()-ROW(Hut_T[[#Headers],[Rad]])),Hin_T[B-årX],0)),IF(ROWS($EB$19:EB31)=1+COUNTIF(Hin_T[Start],\"*\"),Hin_T[[#Totals],[Dag]],IF(AND(ROWS($EB$19:EB31)=2+COUNTIF(Hin_T[Start],\"*\"),Hin_T[[#Totals],[Q%-]]>0),EB30+1,IF(AND(ROWS($EB$19:EB31)=3+COUNTIF(Hin_T[Start],\"*\"),Hin_T[[#Totals],[Q%-]]>1),EB30+1,IF(AND(ROWS($EB$19:EB31)=4+COUNTIF(Hin_T[Start],\"*\"),Hin_T[[#Totals],[Q%-]]>2),EB30+1,\"\")))))","v":""},{"$f":"IF(Hut_T[[#This Row],[Rad]]<Hin_T[[#Totals],[Dag]],ROWS($EB$19:EB31),IFERROR(INDEX(BD_TX[[#Data],[#Totals],[SJ]],MATCH(Hut_T[[#This Row],[Rad]],BD_TX[[#Data],[#Totals],[NrX]],0)),\"\"))","v":""},{"$f":"IF(ISNUMBER(Hut_T[[#This Row],[Datum-]]),TEXT(Hut_T[[#This Row],[Datum-]],\"ÅÅÅÅ MMM\")&\"-\"&TEXT(Hut_T[[#This Row],[Datum+]],\"ÅÅÅÅ MMM\"),\"\")","v":""},{"$f":"IF(ISNUMBER(Hut_T[[#This Row],[Nr]]),IF(INDEX(Hin_T[Yrke],Hut_T[[#This Row],[Rad]])>0,INDEX(Hin_T[Yrke],Hut_T[[#This Row],[Rad]]),\"\"),IFERROR(INDEX(BD_TX[[#Data],[#Totals],[Text]],MATCH(Hut_T[[#This Row],[Rad]],BD_TX[[#Data],[#Totals],[NrX]],0)),\"\"))","v":""},{"$f":"IF(ISNUMBER(Hut_T[[#This Row],[Nr]]),IF(INDEX(Hin_T[Arbetsmoment],Hut_T[[#This Row],[Rad]])>0,INDEX(Hin_T[Arbetsmoment],Hut_T[[#This Row],[Rad]]),\"\"),\"\")","v":""},{"$f":"IFERROR(IF(INDEX(Hin_T[Yrke],Hut_T[[#This Row],[Rad]])>0,INDEX(Hin_T[Företag],Hut_T[[#This Row],[Rad]]),\"\"),\"\")","v":""},{"$f":"IFERROR(IF(INDEX(Hin_T[Dag],Hut_T[[#This Row],[Rad]])>0,INDEX(Hin_T[Dag],Hut_T[[#This Row],[Rad]])*DÅ[Arbetsdag/år],\"\"),\"\")","v":""},{"$f":"IF(AND(ISNUMBER(_xlfn.SINGLE(Hut_T[[#This Row],[Rad]:[Rad]])),IFERROR(_xlfn.SINGLE(INDEX(Hin_T[[#Data],[#Totals]],_xlfn.SINGLE(Hut_T[[#This Row],[Rad]:[Rad]]),MATCH(Hut_T[[#Headers],[D HöA]],Hin_T[#Headers],0))),\"\")),IFERROR(ROUND(_xlfn.SINGLE(INDEX(Hin_T[[#Data],[#Totals]],_xlfn.SINGLE(Hut_T[[#This Row],[Rad]:[Rad]])-IF(_xlfn.SINGLE(Hut_T[[#This Row],[Nr]:[Nr]])=_xlfn.SINGLE(#REF!),COUNT(Besvär_T[[Sjukdomsdebut]:[Sjukdomsdebut]]),0),MATCH(_xlfn.SINGLE(IF(_xlfn.SINGLE(Hut_T[[#This Row],[Nr]:[Nr]])=_xlfn.SINGLE(#REF!),#REF!,\"\"))&Hut_T[[#Headers],[D HöA]],Hin_T[#Headers],0))),0),\"\"),\"\")","v":""},{"$f":"IF(AND(ISNUMBER(Hut_T[[#This Row],[Rad]:[Rad]]),ISNUMBER(Hut_T[[#This Row],[D HöA]]),ISNUMBER(Hut_T[[#This Row],[Nr]:[Nr]])),IFERROR(ROUND(INDEX(Hin_T[[#Data],[#Totals]],Hut_T[[#This Row],[Rad]:[Rad]],MATCH(Hut_T[[#Headers],[HöA-A]],Hin_T[#Headers],0)),1-(INT(LOG10(INDEX(Hin_T[[#Data],[#Totals]],Hut_T[[#This Row],[Rad]:[Rad]],MATCH(Hut_T[[#Headers],[HöA-A]],Hin_T[#Headers],0)))))),1),\"\")","v":""},{"$f":"IF(AND(ISNUMBER(Hut_T[[#This Row],[Rad]:[Rad]]),IFERROR(INDEX(Hin_T[[#Data],[#Totals]],Hut_T[[#This Row],[Rad]:[Rad]],MATCH(Hut_T[[#Headers],[D AöA]],Hin_T[#Headers],0)),\"\")),IFERROR(ROUND(INDEX(Hin_T[[#Data],[#Totals]],Hut_T[[#This Row],[Rad]:[Rad]]-IF(Hut_T[[#This Row],[Nr]:[Nr]]=BD_TX[[SJ]:[SJ]],COUNT(Besvär_T[[Sjukdomsdebut]:[Sjukdomsdebut]]),0),MATCH(IF(Hut_T[[#This Row],[Nr]:[Nr]]=BD_TX[[#Totals],[SJ]:[SJ]],BD_TX[[#Headers],[SJ]],\"\")&Hut_T[[#Headers],[D AöA]],Hin_T[#Headers],0)),0),\"\"),\"\")","v":""},{"$f":"IF(AND(ISNUMBER(Hut_T[[#This Row],[Rad]:[Rad]]),ISNUMBER(Hut_T[[#This Row],[D AöA]]),ISNUMBER(Hut_T[[#This Row],[Nr]:[Nr]])),IFERROR(ROUND(INDEX(Hin_T[[#Data],[#Totals]],Hut_T[[#This Row],[Rad]:[Rad]],MATCH(Hut_T[[#Headers],[AöA-A]],Hin_T[#Headers],0)),1-(INT(LOG10(INDEX(Hin_T[[#Data],[#Totals]],Hut_T[[#This Row],[Rad]:[Rad]],MATCH(Hut_T[[#Headers],[AöA-A]],Hin_T[#Headers],0)))))),1),\"\")","v":""},{"$f":"IF(AND(ISNUMBER(_xlfn.SINGLE(Hut_T[[#This Row],[Rad]:[Rad]])),IFERROR(_xlfn.SINGLE(INDEX(Hin_T[[#Data],[#Totals]],_xlfn.SINGLE(Hut_T[[#This Row],[Rad]:[Rad]]),MATCH(Hut_T[[#Headers],[D 4AM]],Hin_T[#Headers],0))),\"\")),IFERROR(ROUND(_xlfn.SINGLE(INDEX(Hin_T[[#Data],[#Totals]],_xlfn.SINGLE(Hut_T[[#This Row],[Rad]:[Rad]])-IF(_xlfn.SINGLE(Hut_T[[#This Row],[Nr]:[Nr]])=_xlfn.SINGLE(#REF!),COUNT(Besvär_T[[Sjukdomsdebut]:[Sjukdomsdebut]]),0),MATCH(_xlfn.SINGLE(IF(_xlfn.SINGLE(Hut_T[[#This Row],[Nr]:[Nr]])=_xlfn.SINGLE(#REF!),#REF!,\"\"))&Hut_T[[#Headers],[D 4AM]],Hin_T[#Headers],0))),0),\"\"),\"\")","v":""},{"$f":"IF(AND(ISNUMBER(Hut_T[[#This Row],[Rad]:[Rad]]),ISNUMBER(Hut_T[[#This Row],[D 4AM]]),ISNUMBER(Hut_T[[#This Row],[Nr]:[Nr]])),IFERROR(ROUND(INDEX(Hin_T[[#Data],[#Totals]],Hut_T[[#This Row],[Rad]:[Rad]],MATCH(Hut_T[[#Headers],[4AM-A]],Hin_T[#Headers],0)),1-(INT(LOG10(INDEX(Hin_T[[#Data],[#Totals]],Hut_T[[#This Row],[Rad]:[Rad]],MATCH(Hut_T[[#Headers],[4AM-A]],Hin_T[#Headers],0)))))),1),\"\")","v":""},{"$f":"IF(AND(ISNUMBER(Hut_T[[#This Row],[Rad]:[Rad]]),IFERROR(INDEX(Hin_T[[#Data],[#Totals]],Hut_T[[#This Row],[Rad]:[Rad]],MATCH(Hut_T[[#Headers],[D 15AM]],Hin_T[#Headers],0)),\"\")),IFERROR(ROUND(INDEX(Hin_T[[#Data],[#Totals]],Hut_T[[#This Row],[Rad]:[Rad]]-IF(Hut_T[[#This Row],[Nr]:[Nr]]=BD_TX[[SJ]:[SJ]],COUNT(Besvär_T[[Sjukdomsdebut]:[Sjukdomsdebut]]),0),MATCH(IF(Hut_T[[#This Row],[Nr]:[Nr]]=BD_TX[[#Totals],[SJ]:[SJ]],BD_TX[[#Headers],[SJ]],\"\")&Hut_T[[#Headers],[D 15AM]],Hin_T[#Headers],0)),0),\"\"),\"\")","v":""},{"$f":"IF(AND(ISNUMBER(Hut_T[[#This Row],[Rad]:[Rad]]),ISNUMBER(Hut_T[[#This Row],[D 15AM]]),ISNUMBER(Hut_T[[#This Row],[Nr]:[Nr]])),IFERROR(ROUND(INDEX(Hin_T[[#Data],[#Totals]],Hut_T[[#This Row],[Rad]:[Rad]],MATCH(Hut_T[[#Headers],[15AM-A]],Hin_T[#Headers],0)),1-(INT(LOG10(INDEX(Hin_T[[#Data],[#Totals]],Hut_T[[#This Row],[Rad]:[Rad]],MATCH(Hut_T[[#Headers],[15AM-A]],Hin_T[#Headers],0)))))),1),\"\")","v":""},{"$f":"IF(AND(ISNUMBER(Hut_T[[#This Row],[Rad]:[Rad]]),IFERROR(INDEX(Hin_T[[#Data],[#Totals]],Hut_T[[#This Row],[Rad]:[Rad]],MATCH(Hut_T[[#Headers],[D 20-10D]],Hin_T[#Headers],0)),\"\")),IFERROR(ROUND(INDEX(Hin_T[[#Data],[#Totals]],Hut_T[[#This Row],[Rad]:[Rad]]-IF(Hut_T[[#This Row],[Nr]:[Nr]]=BD_TX[[SJ]:[SJ]],COUNT(Besvär_T[[Sjukdomsdebut]:[Sjukdomsdebut]]),0),MATCH(IF(Hut_T[[#This Row],[Nr]:[Nr]]=BD_TX[[#Totals],[SJ]:[SJ]],BD_TX[[#Headers],[SJ]],\"\")&Hut_T[[#Headers],[D 20-10D]],Hin_T[#Headers],0)),0),\"\"),\"\")","v":""},{"$f":"IF(AND(ISNUMBER(Hut_T[[#This Row],[Rad]:[Rad]]),ISNUMBER(Hut_T[[#This Row],[D 20-10D]]),ISNUMBER(Hut_T[[#This Row],[Nr]:[Nr]])),IFERROR(ROUND(INDEX(Hin_T[[#Data],[#Totals]],Hut_T[[#This Row],[Rad]:[Rad]],MATCH(Hut_T[[#Headers],[20-10D-A]],Hin_T[#Headers],0)),1-(INT(LOG10(INDEX(Hin_T[[#Data],[#Totals]],Hut_T[[#This Row],[Rad]:[Rad]],MATCH(Hut_T[[#Headers],[20-10D-A]],Hin_T[#Headers],0)))))),1),\"\")","v":""},null,{"$f":"IFERROR(INDEX(Hin_T[[#Data],[#Totals],[B-år]],Hut_T[[#This Row],[Rad]]),IF(ISNUMBER(Hut_T[[#This Row],[Datum+]]),ET30,\"\"))","v":""},{"$f":"IFERROR(INDEX(Hin_T[S-år],Hut_T[[#This Row],[Rad]]),IFERROR(INDEX(BD_TX[[#Data],[#Totals],[År]],MATCH(Hut_T[[#This Row],[Rad]],BD_TX[[#Data],[#Totals],[NrX]],0)),\"\"))","v":""},null,{"$f":"ROWS($EW$20:EW31)","v":12},{"$f":"IFERROR(MATCH(Hist_Tab[[#This Row],[Ref]],Medel_T[NrX],0),1)","v":1},{"$f":"INT((ROW(Hist_Tab[[#This Row],[Ref]])-ROW(Hist_Tab[[#Headers],[Ref]])-1)/4)+1","v":4},{"$f":"COUNTIF($EY$19:EY31,Hist_Tab[[#This Row],[Ref]])","v":1},{"$f":"IFERROR(INDEX(Medel_T[Start],Hist_Tab[[#This Row],[Ref]]),_xlfn.AGGREGATE(4,6,Medel_T[Start]))","v":"00:00:00"},{"$f":"IFERROR(INDEX(Medel_T[Slut],Hist_Tab[[#This Row],[Ref]]),_xlfn.AGGREGATE(4,6,Medel_T[Slut]))","v":"00:00:00"},{"$f":"IF(EW30=0,Hist_Tab[[#This Row],[ÅrB]],IF(Hist_Tab[[#This Row],[per/p]]<2,Hist_Tab[[#This Row],[ÅrB]],Hist_Tab[[#This Row],[År S]]))","v":"00:00:00"},{"$f":"IF(Hist_Tab[[#This Row],[Rad]:[Rad]]=0,-1,IF($EY32>_xlfn.AGGREGATE(2,6,Medel_T[[Slut]:[Slut]]),0,INDEX(Medel_T[],Hist_Tab[[#This Row],[Ref]:[Ref]],MATCH(Hist_Tab[[#Headers],[HöA T]],Medel_T[#Headers],0))))","v":0},{"$f":"IF(Hist_Tab[[#This Row],[Rad]:[Rad]]=0,0,IF($EY32>_xlfn.AGGREGATE(2,6,Medel_T[[Slut]:[Slut]]),0,INDEX(Medel_T[],Hist_Tab[[#This Row],[Ref]:[Ref]],MATCH(Hist_Tab[[#Headers],[AöA T]],Medel_T[#Headers],0))))","v":0},{"$f":"IF(Hist_Tab[[#This Row],[Rad]:[Rad]]=0,0,IF($EY32>_xlfn.AGGREGATE(2,6,Medel_T[[Slut]:[Slut]]),0,INDEX(Medel_T[],Hist_Tab[[#This Row],[Ref]:[Ref]],MATCH(Hist_Tab[[#Headers],[4AM T]],Medel_T[#Headers],0))))","v":0},{"$f":"IF(Hist_Tab[[#This Row],[Rad]:[Rad]]=0,0,IF($EY32>_xlfn.AGGREGATE(2,6,Medel_T[[Slut]:[Slut]]),0,INDEX(Medel_T[],Hist_Tab[[#This Row],[Ref]:[Ref]],MATCH(Hist_Tab[[#Headers],[15AM T]],Medel_T[#Headers],0))))","v":0},{"$f":"IF(Hist_Tab[[#This Row],[Rad]:[Rad]]=0,0,IF($EY32>_xlfn.AGGREGATE(2,6,Medel_T[[Slut]:[Slut]]),0,INDEX(Medel_T[],Hist_Tab[[#This Row],[Ref]:[Ref]],MATCH(Hist_Tab[[#Headers],[20-10D T]],Medel_T[#Headers],0))))","v":0}]
[null,null,null,null,null,null,null,null,null,null,null,null,null,null,null,null,null,null,{"$f":"IF(LEN(Hin_T[[#This Row],[Start]])>0,ROWS($S$19:S32),\"\")","v":""},null,{"$f":"Hin_T[[#This Row],[Yrke]]&IF(ISBLANK(Hin_T[[#This Row],[Arbetsmoment]]),\"\",\"; \"&Hin_T[[#This Row],[Arbetsmoment]])","v":""},{"$f":"IFERROR(IF(LEN(Hin_T[[#This Row],[Start]])-LEN(SUBSTITUTE(Hin_T[[#This Row],[Start]],\"-\",\"\"))=2,DATEVALUE(Hin_T[[#This Row],[Start]]),IF(LEN(Hin_T[[#This Row],[Start]])<5,DATEVALUE(Hin_T[[#This Row],[Start]]&\"-01-01\"),DATEVALUE(LEFT(Hin_T[[#This Row],[Start]],IF(LEN(Hin_T[[#This Row],[Start]])>6,4,2))&\"-\"&MID(Hin_T[[#This Row],[Start]],IF(LEN(Hin_T[[#This Row],[Start]])>6,5,3),2)&\"-\"&RIGHT(Hin_T[[#This Row],[Start]],2)))),\"\")","v":""},{"$f":"IFERROR(IF(LEN(Hin_T[[#This Row],[Slut]])-LEN(SUBSTITUTE(Hin_T[[#This Row],[Slut]],\"-\",\"\"))=2,DATEVALUE(Hin_T[[#This Row],[Slut]]),IF(LEN(Hin_T[[#This Row],[Slut]])<5,DATEVALUE(Hin_T[[#This Row],[Slut]]&\"-12-31\"),DATEVALUE(LEFT(Hin_T[[#This Row],[Slut]],IF(LEN(Hin_T[[#This Row],[Slut]])>6,4,2))&\"-\"&MID(Hin_T[[#This Row],[Slut]],IF(LEN(Hin_T[[#This Row],[Slut]])>6,5,3),2)&\"-\"&RIGHT(Hin_T[[#This Row],[Slut]],2)))),\"\")","v":""},{"$f":"IF(COUNTIF(V$19:V32,Hin_T[[#This Row],[B-år]])=1,Hin_T[[#This Row],[B-år]],\"\")","v":""},{"$f":"IF(COUNTIF(W$19:W32,Hin_T[[#This Row],[S-år]])=1,Hin_T[[#This Row],[S-år]],\"\")","v":""},{"$f":"IFERROR(Hin_T[[#This Row],[B-år]]+IF(COUNTIF($V$19:V32,Hin_T[[#This Row],[B-år]])>1,COUNTIF($V$19:V32,Hin_T[[#This Row],[B-år]])/10,0),\"\")","v":""},{"$f":"IF(ISNUMBER(Hin_T[[#This Row],[Dagar]]),Hin_T[[#This Row],[Dagar]]/DÅ[Arbetsdag/år],1)","v":1},{"$f":"Hin_T[[#This Row],[Dag]]*DÅ[Arbetsdag/år]","v":220},{"$f":"IF(LEN(Hin_T[[#This Row],[Yrke]])=4,1,0)","v":0},{"$f":"_xlfn.DAYS(Hin_T[[#This Row],[B-år]],DATE(YEAR(Hin_T[[#This Row],[B-år]]),1,1))/(DATE(YEAR(Hin_T[[#This Row],[B-år]])+1,1,1)-DATE(YEAR(Hin_T[[#This Row],[B-år]]),1,1))","v":{"$error":"#VALUE!"}},{"$f":"_xlfn.DAYS(DATE(YEAR(Hin_T[[#This Row],[S-år]]),12,31),Hin_T[[#This Row],[S-år]])/(DATE(YEAR(Hin_T[[#This Row],[S-år]])+1,1,1)-DATE(YEAR(Hin_T[[#This Row],[S-år]]),1,1))","v":{"$error":"#VALUE!"}},{"$f":"YEARFRAC(Hin_T[[#This Row],[S-år]],Hin_T[[#This Row],[B-år]])*Hin_T[[#This Row],[Dag]]","v":{"$error":"#VALUE!"}},{"$f":"IFERROR(Hin_T[[#This Row],[År diff]]*IF(ISNUMBER(Hin_T[[#This Row],[HöA]]),1,0),0)","v":0},{"$f":"IFERROR(Hin_T[[#This Row],[År diff]]*IF(ISNUMBER(Hin_T[[#This Row],[AöA]]),1,0),0)","v":0},{"$f":"IF(Hin_T[[#This Row],[B-år]]<=Besvär_T[[#Totals],[Sjukdomsdebut]],Hin_T[[#This Row],[B-år]],\"\")","v":""},{"$f":"IF(Hin_T[[#This Row],[S-år]]<=Besvär_T[[#Totals],[Sjukdomsdebut]],Hin_T[[#This Row],[S-år]],\"\")","v":""},{"$f":"IFERROR(YEARFRAC(IF(AND(ISNUMBER(Hin_T[[#This Row],[B-år EA]]),LEN(Hin_T[[#This Row],[S-år EA]])=0),Hin_T[[#Totals],[15AM-A]],Hin_T[[#This Row],[S-år EA]]),Hin_T[[#This Row],[B-år EA]])*Hin_T[[#This Row],[Dag]]*IF(ISNUMBER(Hin_T[[#This Row],[HöA]]),1,0),0)","v":0},{"$f":"IFERROR(YEARFRAC(IF(AND(ISNUMBER(Hin_T[[#This Row],[B-år EA]]),LEN(Hin_T[[#This Row],[S-år EA]])=0),Hin_T[[#Totals],[15AM-A]],Hin_T[[#This Row],[S-år EA]]),Hin_T[[#This Row],[B-år EA]])*Hin_T[[#This Row],[Dag]]*IF(ISNUMBER(Hin_T[[#This Row],[AöA]]),1,0),0)","v":0},{"$f":"IFERROR(Hin_T[[#This Row],[År diff]]*IF(ISNUMBER(Hin_T[[#This Row],[4AM]]),1,0),0)","v":0},{"$f":"IFERROR(Hin_T[[#This Row],[År diff]]*IF(ISNUMBER(Hin_T[[#This Row],[15AM]]),1,0),0)","v":0},{"$f":"IF(Hin_T[[#This Row],[B-år]]<=Besvär_T[[#Totals],[Sjukdomsdebut]],Hin_T[[#This Row],[B-år]],\"\")","v":""},{"$f":"IF(Hin_T[[#This Row],[S-år]]<=Besvär_T[[#Totals],[Sjukdomsdebut]],Hin_T[[#This Row],[S-år]],\"\")","v":""},{"$f":"IFERROR(YEARFRAC(IF(AND(ISNUMBER(Hin_T[[#This Row],[B-år RA]]),LEN(Hin_T[[#This Row],[S-år RA]])=0),Hin_T[[#Totals],[15AM-A]],Hin_T[[#This Row],[S-år RA]]),Hin_T[[#This Row],[B-år RA]])*Hin_T[[#This Row],[Dag]]*IF(ISNUMBER(Hin_T[[#This Row],[4AM]]),1,0),0)","v":0},{"$f":"IFERROR(YEARFRAC(IF(AND(ISNUMBER(Hin_T[[#This Row],[B-år RA]]),LEN(Hin_T[[#This Row],[S-år RA]])=0),Hin_T[[#Totals],[15AM-A]],Hin_T[[#This Row],[S-år RA]]),Hin_T[[#This Row],[B-år RA]])*Hin_T[[#This Row],[Dag]]*IF(ISNUMBER(Hin_T[[#This Row],[15AM]]),1,0),0)","v":0},{"$f":"IFERROR(Hin_T[[#This Row],[År diff]]*IF(ISNUMBER(Hin_T[[#This Row],[20-10D]]),1,0),0)","v":0},{"$f":"IF(Hin_T[[#This Row],[B-år]]<=Besvär_T[[#Totals],[Sjukdomsdebut]],Hin_T[[#This Row],[B-år]],\"\")","v":""},{"$f":"IF(Hin_T[[#This Row],[S-år]]<=Besvär_T[[#Totals],[Sjukdomsdebut]],Hin_T[[#This Row],[S-år]],\"\")","v":""},{"$f":"IFERROR(YEARFRAC(IF(AND(ISNUMBER(Hin_T[[#This Row],[B-år TMH]]),LEN(Hin_T[[#This Row],[S-år TMH]])=0),Hin_T[[#Totals],[15AM-A]],Hin_T[[#This Row],[S-år TMH]]),Hin_T[[#This Row],[B-år TMH]])*Hin_T[[#This Row],[Dag]]*IF(ISNUMBER(Hin_T[[#This Row],[20-10D]]),1,0),0)","v":0},{"$f":"IF(Hin_T[[#This Row],[Vib]]=JN_T[JN],1,0)","v":0},{"$f":"IFERROR(Hin_T[[#This Row],[År diff]]*IF(Hin_T[[#This Row],[Vib2]]>0,1,0),0)","v":0},{"$f":"IF(Hin_T[[#This Row],[B-år]]<=Besvär_T[[#Totals],[Sjukdomsdebut]],Hin_T[[#This Row],[B-år]],\"\")","v":""},{"$f":"IF(Hin_T[[#This Row],[S-år]]<=Besvär_T[[#Totals],[Sjukdomsdebut]],Hin_T[[#This Row],[S-år]],\"\")","v":""},{"$f":"IFERROR(YEARFRAC(IF(AND(ISNUMBER(Hin_T[[#This Row],[B-år VIB]]),LEN(Hin_T[[#This Row],[S-år Vib]])=0),Hin_T[[#Totals],[15AM-A]],Hin_T[[#This Row],[S-år Vib]]),Hin_T[[#This Row],[B-år VIB]])*IF(Hin_T[[#This Row],[Vib2]]>0,1,0),0)","v":0},{"$f":"Hin_T[[#This Row],[HöA]]*Hin_T[[#This Row],[tot år HöA]]*DÅ[Arbetsdag/år]","v":0},{"$f":"Hin_T[[#This Row],[tot år AöA]]*Hin_T[[#This Row],[AöA]]*DÅ[Arbetsdag/år]","v":0},{"$f":"Hin_T[[#This Row],[tot år 4AM]]*Hin_T[[#This Row],[4AM]]*DÅ[Arbetsdag/år]","v":0},{"$f":"Hin_T[[#This Row],[tot år 15AM]]*Hin_T[[#This Row],[15AM]]*DÅ[Arbetsdag/år]","v":0},{"$f":"Hin_T[[#This Row],[tot år 20-10D]]*Hin_T[[#This Row],[20-10D]]*DÅ[Arbetsdag/år]","v":0},{"$f":"Hin_T[[#This Row],[BD år HöA]]*Hin_T[[#This Row],[HöA]]*DÅ[Arbetsdag/år]","v":0},{"$f":"Hin_T[[#This Row],[BD år AöA]]*Hin_T[[#This Row],[AöA]]*DÅ[Arbetsdag/år]","v":0},{"$f":"Hin_T[[#This Row],[BD år 4AM]]*Hin_T[[#This Row],[4AM]]*DÅ[Arbetsdag/år]","v":0},{"$f":"Hin_T[[#This Row],[BD år 15AM]]*Hin_T[[#This Row],[15AM]]*DÅ[Arbetsdag/år]","v":0},{"$f":"Hin_T[[#This Row],[BD år 20-10D]]*Hin_T[[#This Row],[20-10D]]*DÅ[Arbetsdag/år]","v":0},{"$f":"Hin_T[[#This Row],[Arbetsmoment]]&Hin_T[[#This Row],[Text AöA]]&Hin_T[[#This Row],[Text 15AM]]&IF(Hin_T[[#This Row],[Dagarna]]=DÅ[Arbetsdag/år],\"\",\". \"&Hin_T[[#This Row],[Dagarna]]&\" dagar/år\")&\". \"","v":". "},{"$f":"IF(ISBLANK(Hin_T[[#This Row],[AöA]]),\"\",Exp_T[Överarmslyft> 90°: ]&IF(VALUE(TEXT(Hin_T[[#This Row],[AöA]],\"t\"))>0,VALUE(TEXT(Hin_T[[#This Row],[AöA]],\"t\"))&\" h\",\"\")&IF(AND(VALUE(TEXT(Hin_T[[#This Row],[AöA]],\"t\"))>0,VALUE(TEXT(Hin_T[[#This Row],[AöA]],\"m\"))>2.4),\" \",\"\")&IF(VALUE(TEXT(Hin_T[[#This Row],[AöA]],\"m\"))>2.4,TEXT(ROUND(Hin_T[[#This Row],[AöA]]*(24*60/5),0)/(24*60/5),\"m\")&\" min\",\"\")&\"/dag\")","v":""},{"$f":"IF(ISBLANK(Hin_T[[#This Row],[15AM]]),\"\",Exp_T[Överarmsrörelser> 15/min: ]&IF(VALUE(TEXT(Hin_T[[#This Row],[15AM]],\"t\"))>0,VALUE(TEXT(Hin_T[[#This Row],[15AM]],\"t\"))&\" h\",\"\")&IF(AND(VALUE(TEXT(Hin_T[[#This Row],[15AM]],\"t\"))>0,VALUE(TEXT(Hin_T[[#This Row],[15AM]],\"m\"))>2.4),\" \",\"\")&IF(VALUE(TEXT(Hin_T[[#This Row],[15AM]],\"m\"))>2.4,TEXT(ROUND(Hin_T[[#This Row],[15AM]]*(24*60/5),0)/(24*60/5),\"m\")&\" min\",\"\")&\"/dag\")","v":""},null,null,null,null,{"$f":"SMALL(Hin_T[[StartÅR]:[SlutÅr]],ROW()-ROW(Medel_T[[#Headers],[Start]]))","v":{"$error":"#NUM!"}},{"$f":"SMALL(Hin_T[[StartÅR]:[SlutÅr]],ROW()-ROW(Medel_T[[#Headers],[Slut]])+1)","v":{"$error":"#NUM!"}},{"$f":"IF(Medel_T[[#This Row],[Start]]<=Besvär_T[[#Totals],[Sjukdomsdebut]],Medel_T[[#This Row],[Start]],\"\")","v":{"$error":"#NUM!"}},{"$f":"IF(Medel_T[[#This Row],[Slut]]<=Besvär_T[[#Totals],[Sjukdomsdebut]],Medel_T[[#This Row],[Slut]],IF(AND(LEN(Medel_T[[#This Row],[SJDstart]])>0,LEN(BU33)=0),Besvär_T[[#Totals],[Sjukdomsdebut]],\"\"))","v":{"$error":"#NUM!"}},{"$f":"IF(Medel_T[[#This Row],[Start]]>=Besvär_T[[#Totals],[Sjukdomsdebut]],Medel_T[[#This Row],[Start]],IF(AND(LEN(Medel_T[[#This Row],[EfterSlut]])>0,LEN(BX31)=0),Besvär_T[[#Totals],[Sjukdomsdebut]],\"\"))","v":{"$error":"#NUM!"}},{"$f":"IF(Medel_T[[#This Row],[Slut]]>=Besvär_T[[#Totals],[Sjukdomsdebut]],Medel_T[[#This Row],[Slut]],\"\")","v":{"$error":"#NUM!"}},{"$f":"COUNTIF($BZ$19:BZ32,\">0\")","v":0},{"$f":"COUNTIFS(Hin_T[B-år],\"<=\"&Medel_T[[#This Row],[Start]],Hin_T[S-år],\">=\"&Medel_T[[#This Row],[Slut]])","v":0},{"$f":"SUBSTITUTE(_xlfn.TEXTJOIN(Sep_T[Separator],TRUE,_xlfn._xlws.SORT(_xlfn.UNIQUE(IF((Hin_T[[B-år]:[B-år]]<=Medel_T[[#This Row],[Start]:[Start]])*(Hin_T[[S-år]:[S-år]]>=Medel_T[[#This Row],[Slut]:[Slut]]),Hin_T[Yrke],\"\")))),0&Sep_T[Separator],\"\")","v":{"$error":"#NUM!"}},{"$f":"SUBSTITUTE(_xlfn.TEXTJOIN(Sep_T[Separator],TRUE,_xlfn._xlws.SORT(_xlfn.UNIQUE(IF((Hin_T[[B-år]:[B-år]]<=Medel_T[[#This Row],[Start]:[Start]])*(Hin_T[[S-år]:[S-år]]>=Medel_T[[#This Row],[Slut]:[Slut]]),Hin_T[Arbetsmoment],\"\")))),0&Sep_T[Separator],\"\")","v":{"$error":"#NUM!"}},{"$f":"IF(LEN(Medel_T[[#This Row],[Yrke]])>0,Medel_T[[#Headers],[Period ]]&Medel_T[[#This Row],[NrX]]&\": \"&TEXT(Medel_T[[#This Row],[Start]],\"ÅÅÅÅ\")&List_T[[#Totals],[List symb]]&TEXT(Medel_T[[#This Row],[Slut]],\"ÅÅÅÅ\")&\" (\"&ROUND(Medel_T[[#This Row],[År]],1)&\" år) Anställd som \"&IFERROR(SUBSTITUTE(SUBSTITUTE(Medel_T[[#This Row],[Yrke]],Sep_T[Separator],\" och \",Medel_T[[#This Row],[Ant]]-1),Sep_T[Separator],\", \"),Medel_T[[#This Row],[Yrke]])&↓[↓],\"\")","v":{"$error":"#NUM!"}},{"$f":"IF(LEN(Medel_T[[#This Row],[Arbetsmoment]])>0,ROMAN(1)&\") \"&_xlfn.TEXTJOIN(Delim[Delimiters],TRUE,_xlfn._xlws.SORT(_xlfn.UNIQUE(IF((Hin_T[[B-år]:[B-år]]<=Medel_T[[#This Row],[Start]:[Start]])*(Hin_T[[S-år]:[S-år]]>=Medel_T[[#This Row],[Slut]:[Slut]]),Hin_T[Text],\"\"))))&↓[↓],\"\")","v":{"$error":"#NUM!"}},{"$f":"SUMPRODUCT((Hin_T[[B-år]:[B-år]]<=Medel_T[[#This Row],[Start]:[Start]])*(Hin_T[[S-år]:[S-år]]>=Medel_T[[#This Row],[Slut]:[Slut]])*Hin_T[Dag])","v":{"$error":"#NUM!"}},{"$f":"IF(Medel_T[[#This Row],[Proc dag]]<=1,Medel_T[[#This Row],[Proc dag]],1)","v":{"$error":"#NUM!"}},{"$f":"YEARFRAC(Medel_T[[#This Row],[Slut]],Medel_T[[#This Row],[Start]])","v":{"$error":"#NUM!"}},{"$f":"YEARFRAC(Medel_T[[#This Row],[SJDslut]],Medel_T[[#This Row],[SJDstart]])","v":{"$error":"#NUM!"}},{"$f":"IFERROR(SUMPRODUCT((Hin_T[[B-år]:[B-år]]<=Medel_T[[#This Row],[Start]:[Start]])*(Hin_T[[S-år]:[S-år]]>=Medel_T[[#This Row],[Slut]:[Slut]])*Hin_T[HöA]*Hin_T[[Dag]:[Dag]])/Medel_T[[#This Row],[Proc dag]],-1)","v":-1},{"$f":"IFERROR(SUMPRODUCT((Hin_T[[B-år]:[B-år]]<=Medel_T[[#This Row],[Start]:[Start]])*(Hin_T[[S-år]:[S-år]]>=Medel_T[[#This Row],[Slut]:[Slut]])*Hin_T[AöA]*Hin_T[[Dag]:[Dag]])/Medel_T[[#This Row],[Proc dag]],-1)","v":-1},{"$f":"IFERROR(SUMPRODUCT((Hin_T[[B-år]:[B-år]]<=Medel_T[[#This Row],[Start]:[Start]])*(Hin_T[[S-år]:[S-år]]>=Medel_T[[#This Row],[Slut]:[Slut]])*Hin_T[4AM]*Hin_T[[Dag]:[Dag]])/Medel_T[[#This Row],[Proc dag]],-1)","v":-1},{"$f":"IFERROR(SUMPRODUCT((Hin_T[[B-år]:[B-år]]<=Medel_T[[#This Row],[Start]:[Start]])*(Hin_T[[S-år]:[S-år]]>=Medel_T[[#This Row],[Slut]:[Slut]])*Hin_T[15AM]*Hin_T[[Dag]:[Dag]])/Medel_T[[#This Row],[Proc dag]],-1)","v":-1},{"$f":"IFERROR(SUMPRODUCT((Hin_T[[B-år]:[B-år]]<=Medel_T[[#This Row],[Start]:[Start]])*(Hin_T[[S-år]:[S-år]]>=Medel_T[[#This Row],[Slut]:[Slut]])*Hin_T[20-10D]*Hin_T[[Dag]:[Dag]])/Medel_T[[#This Row],[Proc dag]],-1)","v":-1},{"$f":"IFERROR(SUMPRODUCT((Hin_T[[B-år]:[B-år]]<=Medel_T[[#This Row],[Start]:[Start]])*(Hin_T[[S-år]:[S-år]]>=Medel_T[[#This Row],[Slut]:[Slut]])*Hin_T[[Dag]:[Dag]]*Hin_T[HöA])/Medel_T[[#This Row],[Dag sum]],-1)","v":-1},{"$f":"IFERROR(SUMPRODUCT((Hin_T[[B-år]:[B-år]]<=Medel_T[[#This Row],[Start]:[Start]])*(Hin_T[[S-år]:[S-år]]>=Medel_T[[#This Row],[Slut]:[Slut]])*Hin_T[[Dag]:[Dag]]*Hin_T[AöA])/Medel_T[[#This Row],[Dag sum]],-1)","v":-1},{"$f":"IFERROR(SUMPRODUCT((Hin_T[[B-år]:[B-år]]<=Medel_T[[#This Row],[Start]:[Start]])*(Hin_T[[S-år]:[S-år]]>=Medel_T[[#This Row],[Slut]:[Slut]])*Hin_T[[Dag]:[Dag]]*Hin_T[4AM])/Medel_T[[#This Row],[Dag sum]],-1)","v":-1},{"$f":"IFERROR(SUMPRODUCT((Hin_T[[B-år]:[B-år]]<=Medel_T[[#This Row],[Start]:[Start]])*(Hin_T[[S-år]:[S-år]]>=Medel_T[[#This Row],[Slut]:[Slut]])*Hin_T[15AM]*Hin_T[[Dag]:[Dag]])/Medel_T[[#This Row],[Dag sum]],-1)","v":-1},{"$f":"IFERROR(SUMPRODUCT((Hin_T[[B-år]:[B-år]]<=Medel_T[[#This Row],[Start]:[Start]])*(Hin_T[[S-år]:[S-år]]>=Medel_T[[#This Row],[Slut]:[Slut]])*Hin_T[[Dag]:[Dag]]*Hin_T[20-10D])/Medel_T[[#This Row],[Dag sum]],-1)","v":-1},{"$f":"IFERROR(Medel_T[[#This Row],[Dag sum]:[Dag sum]]*Medel_T[[#This Row],[År]:[År]]*Medel_T[[#This Row],[HöA T]]*DÅ[Arbetsdag/år],0)","v":0},{"$f":"IFERROR(Medel_T[[#This Row],[Dag sum]:[Dag sum]]*Medel_T[[#This Row],[År]:[År]]*Medel_T[[#This Row],[AöA T]]*DÅ[Arbetsdag/år],0)","v":0},{"$f":"IFERROR(Medel_T[[#This Row],[Dag sum]:[Dag sum]]*Medel_T[[#This Row],[År]:[År]]*Medel_T[[#This Row],[4AM T]]*DÅ[Arbetsdag/år],0)","v":0},{"$f":"IFERROR(Medel_T[[#This Row],[Dag sum]:[Dag sum]]*Medel_T[[#This Row],[År]:[År]]*Medel_T[[#This Row],[15AM T]]*DÅ[Arbetsdag/år],0)","v":0},{"$f":"IFERROR(Medel_T[[#This Row],[Dag sum]:[Dag sum]]*Medel_T[[#This Row],[År]:[År]]*Medel_T[[#This Row],[20-10D T]]*DÅ[Arbetsdag/år],0)","v":0},{"$f":"IFERROR(Medel_T[[#This Row],[Dag sum]:[Dag sum]]*Medel_T[[#This Row],[ÅrSjuk]:[ÅrSjuk]]*Medel_T[[#This Row],[HöA T]]*DÅ[Arbetsdag/år],0)","v":0},{"$f":"IFERROR(Medel_T[[#This Row],[Dag sum]:[Dag sum]]*Medel_T[[#This Row],[ÅrSjuk]:[ÅrSjuk]]*Medel_T[[#This Row],[AöA T]]*DÅ[Arbetsdag/år],0)","v":0},{"$f":"IFERROR(Medel_T[[#This Row],[Dag sum]:[Dag sum]]*Medel_T[[#This Row],[ÅrSjuk]:[ÅrSjuk]]*Medel_T[[#This Row],[4AM T]]*DÅ[Arbetsdag/år],0)","v":0},{"$f":"IFERROR(Medel_T[[#This Row],[Dag sum]:[Dag sum]]*Medel_T[[#This Row],[ÅrSjuk]:[ÅrSjuk]]*Medel_T[[#This Row],[15AM T]]*DÅ[Arbetsdag/år],0)","v":0},{"$f":"IFERROR(Medel_T[[#This Row],[Dag sum]:[Dag sum]]*Medel_T[[#This Row],[ÅrSjuk]:[ÅrSjuk]]*Medel_T[[#This Row],[20-10D T]]*DÅ[Arbetsdag/år],0)","v":0},{"$f":"IFERROR(IF(Medel_T[[#This Row],[AöA T]]=0,\"\",List_T[List symb]&Exp_T[[#Headers],[Överarmslyft> 90°: ]]&IF(VALUE(TEXT(Medel_T[[#This Row],[AöA T]],\"t\"))>0,VALUE(TEXT(Medel_T[[#This Row],[AöA T]],\"t\"))&\" h\",\"\")&IF(AND(VALUE(TEXT(Medel_T[[#This Row],[AöA T]],\"t\"))>0,VALUE(TEXT(Medel_T[[#This Row],[AöA T]],\"m\"))>2.4),\" \",\"\")&IF(VALUE(TEXT(Medel_T[[#This Row],[AöA T]],\"m\"))>2.4,TEXT(ROUND(Medel_T[[#This Row],[AöA T]]*(24*60/5),0)/(24*60/5),\"m\")&\" min\",\"\")&\"/dag x \"&ROUND(Medel_T[[#This Row],[Dag sum]:[Dag sum]]*DÅ[Arbetsdag/år],0)&\" dagar x \"&ROUND(Medel_T[[#This Row],[År]:[År]],1)&\" år = \"&TEXT(ROUND(Medel_T[[#This Row],[D AöA§]]*24,1-(INT(LOG10(ABS(Medel_T[[#This Row],[D AöA§]]*24))))),\"0\"&IF(1-(INT(LOG10(ABS(Medel_T[[#This Row],[D AöA§]]*24))))>0,\",\"&REPT(\"0\",1-(INT(LOG10(ABS(Medel_T[[#This Row],[D AöA§]]*24))))),\"\"))& \" h\"),\"\")","v":""},{"$f":"IFERROR(IF(Medel_T[[#This Row],[15AM T]]=0,\"\",List_T[List symb]&Exp_T[[#Headers],[Överarmsrörelser> 15/min: ]]&IF(VALUE(TEXT(Medel_T[[#This Row],[15AM T]],\"t\"))>0,VALUE(TEXT(Medel_T[[#This Row],[15AM T]],\"t\"))&\" h\",\"\")&IF(AND(VALUE(TEXT(Medel_T[[#This Row],[15AM T]],\"t\"))>0,VALUE(TEXT(Medel_T[[#This Row],[15AM T]],\"m\"))>2.4),\" \",\"\")&IF(VALUE(TEXT(Medel_T[[#This Row],[15AM T]],\"m\"))>2.4,TEXT(ROUND(Medel_T[[#This Row],[15AM T]]*(24*60/5),0)/(24*60/5),\"m\")&\" min\",\"\")&\"/dag x \"&ROUND(Medel_T[[#This Row],[Dag sum]:[Dag sum]]*DÅ[Arbetsdag/år],0)&\" dagar x \"&ROUND(Medel_T[[#This Row],[År]:[År]],1)&\" år = \"&TEXT(ROUND(Medel_T[[#This Row],[D 15AM§]]*24,1-(INT(LOG10(ABS(Medel_T[[#This Row],[D 15AM§]]*24))))),\"0\"&IF(1-(INT(LOG10(ABS(Medel_T[[#This Row],[D 15AM§]]*24))))>0,\",\"&REPT(\"0\",1-(INT(LOG10(ABS(Medel_T[[#This Row],[D 15AM§]]*24))))),\"\"))& \" h\"),\"\")","v":""},{"$f":"IFERROR(IF(OR(LEN(Medel_T[[#This Row],[AöA text]])>0,LEN(Medel_T[[#This Row],[15AM Text]])>0),Exp_T[Anställning]&YEAR(Medel_T[[#This Row],[Start]])&List_T[[#Totals],[List symb]]&YEAR(Medel_T[[#This Row],[Slut]])&\" (\"&ROUND(Medel_T[[#This Row],[År]],1)&\" år)\"&IF(LEN(Medel_T[[#This Row],[AöA text]])>0,↓[↓],\"\")&Medel_T[[#This Row],[AöA text]]&IF(LEN(Medel_T[[#This Row],[15AM Text]])>0,↓[↓],\"\")&Medel_T[[#This Row],[15AM Text]],\"\"),\"\")","v":""},{"$f":"IFERROR(IF(Medel_T[[#This Row],[AöA T]]=0,\"\",List_T[List symb]&Exp_T[[#Headers],[Överarmsrörelser> 15/min: ]]&IF(VALUE(TEXT(Medel_T[[#This Row],[AöA T]],\"t\"))>0,VALUE(TEXT(Medel_T[[#This Row],[AöA T]],\"t\"))&\" h\",\"\")&IF(AND(VALUE(TEXT(Medel_T[[#This Row],[AöA T]],\"t\"))>0,VALUE(TEXT(Medel_T[[#This Row],[AöA T]],\"m\"))>2.4),\" \",\"\")&IF(VALUE(TEXT(Medel_T[[#This Row],[AöA T]],\"m\"))>2.4,TEXT(ROUND(Medel_T[[#This Row],[AöA T]]*(24*60/5),0)/(24*60/5),\"m\")&\" min\",\"\")&\"/dag x \"&ROUND(Medel_T[[#This Row],[Dag sum]:[Dag sum]]*DÅ[Arbetsdag/år],0)&\" dagar x \"&ROUND(Medel_T[[#This Row],[År]:[År]],1)&\" år = \"&TEXT(ROUND(Medel_T[[#This Row],[D AöA¤]]*24,1-(INT(LOG10(ABS(Medel_T[[#This Row],[D AöA¤]]*24))))),\"0\"&IF(1-(INT(LOG10(ABS(Medel_T[[#This Row],[D AöA¤]]*24))))>0,\",\"&REPT(\"0\",1-(INT(LOG10(ABS(Medel_T[[#This Row],[D AöA¤]]*24))))),\"\"))& \" h\"),\"\")","v":""},{"$f":"IFERROR(IF(Medel_T[[#This Row],[15AM T]]=0,\"\",List_T[List symb]&Exp_T[[#Headers],[Överarmslyft> 90°: ]]&IF(VALUE(TEXT(Medel_T[[#This Row],[15AM T]],\"t\"))>0,VALUE(TEXT(Medel_T[[#This Row],[15AM T]],\"t\"))&\" h\",\"\")&IF(AND(VALUE(TEXT(Medel_T[[#This Row],[15AM T]],\"t\"))>0,VALUE(TEXT(Medel_T[[#This Row],[15AM T]],\"m\"))>0),\" \",\"\")&IF(VALUE(TEXT(Medel_T[[#This Row],[15AM T]],\"m\"))>0,TEXT(ROUND(Medel_T[[#This Row],[15AM T]]*(24*60/5),0)/(24*60/5),\"m\")&\" min\",\"\")&\"/dag x \"&ROUND(Medel_T[[#This Row],[Dag sum]:[Dag sum]]*DÅ[Arbetsdag/år],0)&\" dagar x \"&ROUND(Medel_T[[#This Row],[År]:[År]],1)&\" år = \"&TEXT(ROUND(Medel_T[[#This Row],[D 15AM¤]]*24,1-(INT(LOG10(ABS(Medel_T[[#This Row],[D 15AM¤]]*24))))),\"0\"&IF(1-(INT(LOG10(ABS(Medel_T[[#This Row],[D 15AM¤]]*24))))>0,\",\"&REPT(\"0\",1-(INT(LOG10(ABS(Medel_T[[#This Row],[D 15AM¤]]*24))))),\"\"))& \" h\"),\"\")","v":""},{"$f":"IFERROR(IF(LEN(Medel_T[[#This Row],[SJDstart]])>0,Exp_T[Anställning]&↓[↓]&YEAR(Medel_T[[#This Row],[Start]])&List_T[[#Totals],[List symb]]&YEAR(Medel_T[[#This Row],[Slut]])&\" (\"&ROUND(Medel_T[[#This Row],[År]],1)&\" år)\"&IF(LEN(Medel_T[[#This Row],[AöA text Sjuk]])>0,↓[↓],\"\")&Medel_T[[#This Row],[AöA text Sjuk]]&IF(LEN(Medel_T[[#This Row],[15AM Text Sjuk]])>0,↓[↓],\"\")&Medel_T[[#This Row],[15AM Text Sjuk]],\"\"),\"\")","v":""},{"$f":"IFERROR(Medel_T[[#This Row],[Period ]]&Medel_T[[#This Row],[ArbMomText]]&Medel_T[[#This Row],[Text]],\"\")","v":""},{"$f":"IF(AND(DJ31>=MAX(Medel_T[NrX]),ISNUMBER(DJ31)),Medel_T[[#Totals],[NrX]]+ROW()-ROW(Medel_T[[#Headers],[Rad]])-Medel_T[[#Totals],[Ant]]-1,INDEX(Medel_T[NrX],MATCH(ROW()-ROW(Medel_T[[#Headers],[Rad]]),Medel_T[NrX],0)))","v":{"$error":"#N/A"}},{"$f":"IF(Medel_T[[#This Row],[Rad]]<=Medel_T[[#Totals],[Ant]],MATCH(Medel_T[[#This Row],[Rad]],Medel_T[NrX],0),IFERROR(INDEX(BD_TX[[#Data],[#Totals],[SJ]],MATCH(Medel_T[[#This Row],[Rad]],BD_TX[[#Data],[#Totals],[Nr]],0)),\"\"))","v":{"$error":"#N/A"}},{"$f":"LEN(Medel_T[[#This Row],[Yrke2]])-LEN(SUBSTITUTE(Medel_T[[#This Row],[Yrke2]],LEFT(Sep_T[Separator],1),\"\"))","v":0},{"$f":"INDEX(Medel_T[År],Medel_T[[#This Row],[Nr]])","v":{"$error":"#N/A"}},{"$f":"IFERROR(IF(LEN(Medel_T[[#This Row],[Nr]])>0,TEXT(IFERROR(INDEX(Medel_T[Start],Medel_T[[#This Row],[Nr]]),INDEX(BD_TX[[#Data],[#Totals],[Start]],MATCH(Medel_T[[#This Row],[Rad]],BD_TX[[#Data],[#Totals],[Nr]],0))),\"ÅÅÅÅ MMM\")&\"-\"&TEXT(IFERROR(INDEX(Medel_T[Slut],Medel_T[[#This Row],[Nr]]),INDEX(BD_TX[[#Data],[#Totals],[År]],MATCH(Medel_T[[#This Row],[Rad]],BD_TX[[#Data],[#Totals],[Nr]],0))),\"ÅÅÅÅ MMM\"),\"\"),\"\")","v":""},{"$f":"IFERROR(IF(LEN(Medel_T[[#This Row],[Nr]])>0,IF(Medel_T[[#This Row],[Rad]]>Medel_T[[#Totals],[Ant]],IFERROR(INDEX(BD_TX[[#Data],[#Totals],[Text]],MATCH(Medel_T[[#This Row],[Rad]],BD_TX[[#Data],[#Totals],[Nr]],0)),\"\"),INDEX(Medel_T[Yrke],Medel_T[[#This Row],[Nr]])),\"\"),\"\")","v":""},{"$f":"IFERROR(INDEX(Medel_T[Arbetsmoment],MATCH(ROW()-ROW(Medel_T[[#Headers],[Arbetsmoment2]]),Medel_T[[NrX]:[NrX]],0)),\"\")","v":""},{"$f":"IFERROR(INDEX(Medel_T[],Medel_T[[#This Row],[Nr]],Medel_T[[#Totals],[HöA_T]]),\"\")","v":""},{"$f":"IF(LEN(Medel_T[[#This Row],[Nr]:[Nr]])>0,IFERROR(TEXT(ROUND(24*IFERROR(INDEX(Medel_T[],Medel_T[[#This Row],[Nr]:[Nr]],Medel_T[[#Totals],[D HöA]]),INDEX(Sum_T[[#Data],[#Totals]],MATCH(Medel_T[[#This Row],[Nr]:[Nr]],Sum_T[[#Data],[#Totals],[Typ]:[Typ]],0),MATCH(Medel_T[[#Headers],[D HöA]],Sum_T[#Headers],0))),1-(INT(LOG10(ABS(24*IFERROR(INDEX(Medel_T[],Medel_T[[#This Row],[Nr]:[Nr]],Medel_T[[#Totals],[D HöA]]),INDEX(Sum_T[[#Data],[#Totals]],MATCH(Medel_T[[#This Row],[Nr]:[Nr]],Sum_T[[#Data],[#Totals],[Typ]:[Typ]],0),MATCH(Medel_T[[#Headers],[D HöA]],Sum_T[#Headers],0)))))))),\"0\"&IF(1-(INT(LOG10(ABS(24*IFERROR(INDEX(Medel_T[],Medel_T[[#This Row],[Nr]:[Nr]],Medel_T[[#Totals],[D HöA]]),INDEX(Sum_T[[#Data],[#Totals]],MATCH(Medel_T[[#This Row],[Nr]:[Nr]],Sum_T[[#Data],[#Totals],[Typ]:[Typ]],0),MATCH(Medel_T[[#Headers],[D HöA]],Sum_T[#Headers],0)))))))>0,\",\"&REPT(\"0\",1-(INT(LOG10(ABS(24*IFERROR(INDEX(Medel_T[],Medel_T[[#This Row],[Nr]:[Nr]],Medel_T[[#Totals],[D HöA]]),INDEX(Sum_T[[#Data],[#Totals]],MATCH(Medel_T[[#This Row],[Nr]:[Nr]],Sum_T[[#Data],[#Totals],[Typ]:[Typ]],0),MATCH(Medel_T[[#Headers],[D HöA]],Sum_T[#Headers],0)))))))),0)),0),\"\")","v":{"$error":"#N/A"}},{"$f":"IFERROR(INDEX(Medel_T[],Medel_T[[#This Row],[Nr]],Medel_T[[#Totals],[AÖA_T]]),\"\")","v":""},{"$f":"IFERROR(IF(LEN(Medel_T[[#This Row],[Nr]:[Nr]])>0,IFERROR(TEXT(ROUND(24*IFERROR(INDEX(Medel_T[],Medel_T[[#This Row],[Nr]:[Nr]],Medel_T[[#Totals],[D AöA]]),INDEX(Sum_T[[#Data],[#Totals]],MATCH(Medel_T[[#This Row],[Nr]:[Nr]],Sum_T[[#Data],[#Totals],[Typ]:[Typ]],0),MATCH(Medel_T[[#Headers],[D AöA]],Sum_T[#Headers],0))),1-(INT(LOG10(ABS(24*IFERROR(INDEX(Medel_T[],Medel_T[[#This Row],[Nr]:[Nr]],Medel_T[[#Totals],[D AöA]]),INDEX(Sum_T[[#Data],[#Totals]],MATCH(Medel_T[[#This Row],[Nr]:[Nr]],Sum_T[[#Data],[#Totals],[Typ]:[Typ]],0),MATCH(Medel_T[[#Headers],[D AöA]],Sum_T[#Headers],0)))))))),\"0\"&IF(1-(INT(LOG10(ABS(24*IFERROR(INDEX(Medel_T[],Medel_T[[#This Row],[Nr]:[Nr]],Medel_T[[#Totals],[D AöA]]),INDEX(Sum_T[[#Data],[#Totals]],MATCH(Medel_T[[#This Row],[Nr]:[Nr]],Sum_T[[#Data],[#Totals],[Typ]:[Typ]],0),MATCH(Medel_T[[#Headers],[D AöA]],Sum_T[#Headers],0)))))))>0,\",\"&REPT(\"0\",1-(INT(LOG10(ABS(24*IFERROR(INDEX(Medel_T[],Medel_T[[#This Row],[Nr]:[Nr]],Medel_T[[#Totals],[D AöA]]),INDEX(Sum_T[[#Data],[#Totals]],MATCH(Medel_T[[#This Row],[Nr]:[Nr]],Sum_T[[#Data],[#Totals],[Typ]:[Typ]],0),MATCH(Medel_T[[#Headers],[D AöA]],Sum_T[#Headers],0)))))))),0)),0),\"\"),\"\")","v":""},{"$f":"IFERROR(INDEX(Medel_T[],Medel_T[[#This Row],[Nr]],Medel_T[[#Totals],[4AM_T]]),\"\")","v":""},{"$f":"IF(LEN(Medel_T[[#This Row],[Nr]:[Nr]])>0,IFERROR(TEXT(ROUND(24*IFERROR(INDEX(Medel_T[],Medel_T[[#This Row],[Nr]:[Nr]],Medel_T[[#Totals],[D 4AM]]),INDEX(Sum_T[[#Data],[#Totals]],MATCH(Medel_T[[#This Row],[Nr]:[Nr]],Sum_T[[#Data],[#Totals],[Typ]:[Typ]],0),MATCH(Medel_T[[#Headers],[D 4AM]],Sum_T[#Headers],0))),1-(INT(LOG10(ABS(24*IFERROR(INDEX(Medel_T[],Medel_T[[#This Row],[Nr]:[Nr]],Medel_T[[#Totals],[D 4AM]]),INDEX(Sum_T[[#Data],[#Totals]],MATCH(Medel_T[[#This Row],[Nr]:[Nr]],Sum_T[[#Data],[#Totals],[Typ]:[Typ]],0),MATCH(Medel_T[[#Headers],[D 4AM]],Sum_T[#Headers],0)))))))),\"0\"&IF(1-(INT(LOG10(ABS(24*IFERROR(INDEX(Medel_T[],Medel_T[[#This Row],[Nr]:[Nr]],Medel_T[[#Totals],[D 4AM]]),INDEX(Sum_T[[#Data],[#Totals]],MATCH(Medel_T[[#This Row],[Nr]:[Nr]],Sum_T[[#Data],[#Totals],[Typ]:[Typ]],0),MATCH(Medel_T[[#Headers],[D 4AM]],Sum_T[#Headers],0)))))))>0,\",\"&REPT(\"0\",1-(INT(LOG10(ABS(24*IFERROR(INDEX(Medel_T[],Medel_T[[#This Row],[Nr]:[Nr]],Medel_T[[#Totals],[D 4AM]]),INDEX(Sum_T[[#Data],[#Totals]],MATCH(Medel_T[[#This Row],[Nr]:[Nr]],Sum_T[[#Data],[#Totals],[Typ]:[Typ]],0),MATCH(Medel_T[[#Headers],[D 4AM]],Sum_T[#Headers],0)))))))),0)),0),\"\")","v":{"$error":"#N/A"}},{"$f":"IFERROR(INDEX(Medel_T[],Medel_T[[#This Row],[Nr]],Medel_T[[#Totals],[15AM_T]]),\"\")","v":""},{"$f":"IFERROR(IF(LEN(Medel_T[[#This Row],[Nr]:[Nr]])>0,IFERROR(TEXT(ROUND(24*IFERROR(INDEX(Medel_T[],Medel_T[[#This Row],[Nr]:[Nr]],Medel_T[[#Totals],[D 15AM]]),INDEX(Sum_T[[#Data],[#Totals]],MATCH(Medel_T[[#This Row],[Nr]:[Nr]],Sum_T[[#Data],[#Totals],[Typ]:[Typ]],0),MATCH(Medel_T[[#Headers],[D 15AM]],Sum_T[#Headers],0))),1-(INT(LOG10(ABS(24*IFERROR(INDEX(Medel_T[],Medel_T[[#This Row],[Nr]:[Nr]],Medel_T[[#Totals],[D 15AM]]),INDEX(Sum_T[[#Data],[#Totals]],MATCH(Medel_T[[#This Row],[Nr]:[Nr]],Sum_T[[#Data],[#Totals],[Typ]:[Typ]],0),MATCH(Medel_T[[#Headers],[D 15AM]],Sum_T[#Headers],0)))))))),\"0\"&IF(1-(INT(LOG10(ABS(24*IFERROR(INDEX(Medel_T[],Medel_T[[#This Row],[Nr]:[Nr]],Medel_T[[#Totals],[D 15AM]]),INDEX(Sum_T[[#Data],[#Totals]],MATCH(Medel_T[[#This Row],[Nr]:[Nr]],Sum_T[[#Data],[#Totals],[Typ]:[Typ]],0),MATCH(Medel_T[[#Headers],[D 15AM]],Sum_T[#Headers],0)))))))>0,\",\"&REPT(\"0\",1-(INT(LOG10(ABS(24*IFERROR(INDEX(Medel_T[],Medel_T[[#This Row],[Nr]:[Nr]],Medel_T[[#Totals],[D 15AM]]),INDEX(Sum_T[[#Data],[#Totals]],MATCH(Medel_T[[#This Row],[Nr]:[Nr]],Sum_T[[#Data],[#Totals],[Typ]:[Typ]],0),MATCH(Medel_T[[#Headers],[D 15AM]],Sum_T[#Headers],0)))))))),0)),0),\"\"),\"\")","v":""},{"$f":"IFERROR(INDEX(Medel_T[],Medel_T[[#This Row],[Nr]],Medel_T[[#Totals],[20-10D_T]]),\"\")","v":""},{"$f":"IF(LEN(Medel_T[[#This Row],[Nr]:[Nr]])>0,IFERROR(TEXT(ROUND(24*IFERROR(INDEX(Medel_T[],Medel_T[[#This Row],[Nr]:[Nr]],Medel_T[[#Totals],[D 20-10D]]),INDEX(Sum_T[[#Data],[#Totals]],MATCH(Medel_T[[#This Row],[Nr]:[Nr]],Sum_T[[#Data],[#Totals],[Typ]:[Typ]],0),MATCH(Medel_T[[#Headers],[D 20-10D]],Sum_T[#Headers],0))),1-(INT(LOG10(ABS(24*IFERROR(INDEX(Medel_T[],Medel_T[[#This Row],[Nr]:[Nr]],Medel_T[[#Totals],[D 20-10D]]),INDEX(Sum_T[[#Data],[#Totals]],MATCH(Medel_T[[#This Row],[Nr]:[Nr]],Sum_T[[#Data],[#Totals],[Typ]:[Typ]],0),MATCH(Medel_T[[#Headers],[D 20-10D]],Sum_T[#Headers],0)))))))),\"0\"&IF(1-(INT(LOG10(ABS(24*IFERROR(INDEX(Medel_T[],Medel_T[[#This Row],[Nr]:[Nr]],Medel_T[[#Totals],[D 20-10D]]),INDEX(Sum_T[[#Data],[#Totals]],MATCH(Medel_T[[#This Row],[Nr]:[Nr]],Sum_T[[#Data],[#Totals],[Typ]:[Typ]],0),MATCH(Medel_T[[#Headers],[D 20-10D]],Sum_T[#Headers],0)))))))>0,\",\"&REPT(\"0\",1-(INT(LOG10(ABS(24*IFERROR(INDEX(Medel_T[],Medel_T[[#This Row],[Nr]:[Nr]],Medel_T[[#Totals],[D 20-10D]]),INDEX(Sum_T[[#Data],[#Totals]],MATCH(Medel_T[[#This Row],[Nr]:[Nr]],Sum_T[[#Data],[#Totals],[Typ]:[Typ]],0),MATCH(Medel_T[[#Headers],[D 20-10D]],Sum_T[#Headers],0)))))))),0)),0),\"\")","v":{"$error":"#N/A"}},null,{"$f":"IFERROR(INDEX(Hin_T[Nr],MATCH(SMALL(Hin_T[B-årX],ROW()-ROW(Hut_T[[#Headers],[Rad]])),Hin_T[B-årX],0)),IF(ROWS($EB$19:EB32)=1+COUNTIF(Hin_T[Start],\"*\"),Hin_T[[#Totals],[Dag]],IF(AND(ROWS($EB$19:EB32)=2+COUNTIF(Hin_T[Start],\"*\"),Hin_T[[#Totals],[Q%-]]>0),EB31+1,IF(AND(ROWS($EB$19:EB32)=3+COUNTIF(Hin_T[Start],\"*\"),Hin_T[[#Totals],[Q%-]]>1),EB31+1,IF(AND(ROWS($EB$19:EB32)=4+COUNTIF(Hin_T[Start],\"*\"),Hin_T[[#Totals],[Q%-]]>2),EB31+1,\"\")))))","v":""},{"$f":"IF(Hut_T[[#This Row],[Rad]]<Hin_T[[#Totals],[Dag]],ROWS($EB$19:EB32),IFERROR(INDEX(BD_TX[[#Data],[#Totals],[SJ]],MATCH(Hut_T[[#This Row],[Rad]],BD_TX[[#Data],[#Totals],[NrX]],0)),\"\"))","v":""},{"$f":"IF(ISNUMBER(Hut_T[[#This Row],[Datum-]]),TEXT(Hut_T[[#This Row],[Datum-]],\"ÅÅÅÅ MMM\")&\"-\"&TEXT(Hut_T[[#This Row],[Datum+]],\"ÅÅÅÅ MMM\"),\"\")","v":""},{"$f":"IF(ISNUMBER(Hut_T[[#This Row],[Nr]]),IF(INDEX(Hin_T[Yrke],Hut_T[[#This Row],[Rad]])>0,INDEX(Hin_T[Yrke],Hut_T[[#This Row],[Rad]]),\"\"),IFERROR(INDEX(BD_TX[[#Data],[#Totals],[Text]],MATCH(Hut_T[[#This Row],[Rad]],BD_TX[[#Data],[#Totals],[NrX]],0)),\"\"))","v":""},{"$f":"IF(ISNUMBER(Hut_T[[#This Row],[Nr]]),IF(INDEX(Hin_T[Arbetsmoment],Hut_T[[#This Row],[Rad]])>0,INDEX(Hin_T[Arbetsmoment],Hut_T[[#This Row],[Rad]]),\"\"),\"\")","v":""},{"$f":"IFERROR(IF(INDEX(Hin_T[Yrke],Hut_T[[#This Row],[Rad]])>0,INDEX(Hin_T[Företag],Hut_T[[#This Row],[Rad]]),\"\"),\"\")","v":""},{"$f":"IFERROR(IF(INDEX(Hin_T[Dag],Hut_T[[#This Row],[Rad]])>0,INDEX(Hin_T[Dag],Hut_T[[#This Row],[Rad]])*DÅ[Arbetsdag/år],\"\"),\"\")","v":""},{"$f":"IF(AND(ISNUMBER(_xlfn.SINGLE(Hut_T[[#This Row],[Rad]:[Rad]])),IFERROR(_xlfn.SINGLE(INDEX(Hin_T[[#Data],[#Totals]],_xlfn.SINGLE(Hut_T[[#This Row],[Rad]:[Rad]]),MATCH(Hut_T[[#Headers],[D HöA]],Hin_T[#Headers],0))),\"\")),IFERROR(ROUND(_xlfn.SINGLE(INDEX(Hin_T[[#Data],[#Totals]],_xlfn.SINGLE(Hut_T[[#This Row],[Rad]:[Rad]])-IF(_xlfn.SINGLE(Hut_T[[#This Row],[Nr]:[Nr]])=_xlfn.SINGLE(#REF!),COUNT(Besvär_T[[Sjukdomsdebut]:[Sjukdomsdebut]]),0),MATCH(_xlfn.SINGLE(IF(_xlfn.SINGLE(Hut_T[[#This Row],[Nr]:[Nr]])=_xlfn.SINGLE(#REF!),#REF!,\"\"))&Hut_T[[#Headers],[D HöA]],Hin_T[#Headers],0))),0),\"\"),\"\")","v":""},{"$f":"IF(AND(ISNUMBER(Hut_T[[#This Row],[Rad]:[Rad]]),ISNUMBER(Hut_T[[#This Row],[D HöA]]),ISNUMBER(Hut_T[[#This Row],[Nr]:[Nr]])),IFERROR(ROUND(INDEX(Hin_T[[#Data],[#Totals]],Hut_T[[#This Row],[Rad]:[Rad]],MATCH(Hut_T[[#Headers],[HöA-A]],Hin_T[#Headers],0)),1-(INT(LOG10(INDEX(Hin_T[[#Data],[#Totals]],Hut_T[[#This Row],[Rad]:[Rad]],MATCH(Hut_T[[#Headers],[HöA-A]],Hin_T[#Headers],0)))))),1),\"\")","v":""},{"$f":"IF(AND(ISNUMBER(Hut_T[[#This Row],[Rad]:[Rad]]),IFERROR(INDEX(Hin_T[[#Data],[#Totals]],Hut_T[[#This Row],[Rad]:[Rad]],MATCH(Hut_T[[#Headers],[D AöA]],Hin_T[#Headers],0)),\"\")),IFERROR(ROUND(INDEX(Hin_T[[#Data],[#Totals]],Hut_T[[#This Row],[Rad]:[Rad]]-IF(Hut_T[[#This Row],[Nr]:[Nr]]=BD_TX[[SJ]:[SJ]],COUNT(Besvär_T[[Sjukdomsdebut]:[Sjukdomsdebut]]),0),MATCH(IF(Hut_T[[#This Row],[Nr]:[Nr]]=BD_TX[[#Totals],[SJ]:[SJ]],BD_TX[[#Headers],[SJ]],\"\")&Hut_T[[#Headers],[D AöA]],Hin_T[#Headers],0)),0),\"\"),\"\")","v":""},{"$f":"IF(AND(ISNUMBER(Hut_T[[#This Row],[Rad]:[Rad]]),ISNUMBER(Hut_T[[#This Row],[D AöA]]),ISNUMBER(Hut_T[[#This Row],[Nr]:[Nr]])),IFERROR(ROUND(INDEX(Hin_T[[#Data],[#Totals]],Hut_T[[#This Row],[Rad]:[Rad]],MATCH(Hut_T[[#Headers],[AöA-A]],Hin_T[#Headers],0)),1-(INT(LOG10(INDEX(Hin_T[[#Data],[#Totals]],Hut_T[[#This Row],[Rad]:[Rad]],MATCH(Hut_T[[#Headers],[AöA-A]],Hin_T[#Headers],0)))))),1),\"\")","v":""},{"$f":"IF(AND(ISNUMBER(_xlfn.SINGLE(Hut_T[[#This Row],[Rad]:[Rad]])),IFERROR(_xlfn.SINGLE(INDEX(Hin_T[[#Data],[#Totals]],_xlfn.SINGLE(Hut_T[[#This Row],[Rad]:[Rad]]),MATCH(Hut_T[[#Headers],[D 4AM]],Hin_T[#Headers],0))),\"\")),IFERROR(ROUND(_xlfn.SINGLE(INDEX(Hin_T[[#Data],[#Totals]],_xlfn.SINGLE(Hut_T[[#This Row],[Rad]:[Rad]])-IF(_xlfn.SINGLE(Hut_T[[#This Row],[Nr]:[Nr]])=_xlfn.SINGLE(#REF!),COUNT(Besvär_T[[Sjukdomsdebut]:[Sjukdomsdebut]]),0),MATCH(_xlfn.SINGLE(IF(_xlfn.SINGLE(Hut_T[[#This Row],[Nr]:[Nr]])=_xlfn.SINGLE(#REF!),#REF!,\"\"))&Hut_T[[#Headers],[D 4AM]],Hin_T[#Headers],0))),0),\"\"),\"\")","v":""},{"$f":"IF(AND(ISNUMBER(Hut_T[[#This Row],[Rad]:[Rad]]),ISNUMBER(Hut_T[[#This Row],[D 4AM]]),ISNUMBER(Hut_T[[#This Row],[Nr]:[Nr]])),IFERROR(ROUND(INDEX(Hin_T[[#Data],[#Totals]],Hut_T[[#This Row],[Rad]:[Rad]],MATCH(Hut_T[[#Headers],[4AM-A]],Hin_T[#Headers],0)),1-(INT(LOG10(INDEX(Hin_T[[#Data],[#Totals]],Hut_T[[#This Row],[Rad]:[Rad]],MATCH(Hut_T[[#Headers],[4AM-A]],Hin_T[#Headers],0)))))),1),\"\")","v":""},{"$f":"IF(AND(ISNUMBER(Hut_T[[#This Row],[Rad]:[Rad]]),IFERROR(INDEX(Hin_T[[#Data],[#Totals]],Hut_T[[#This Row],[Rad]:[Rad]],MATCH(Hut_T[[#Headers],[D 15AM]],Hin_T[#Headers],0)),\"\")),IFERROR(ROUND(INDEX(Hin_T[[#Data],[#Totals]],Hut_T[[#This Row],[Rad]:[Rad]]-IF(Hut_T[[#This Row],[Nr]:[Nr]]=BD_TX[[SJ]:[SJ]],COUNT(Besvär_T[[Sjukdomsdebut]:[Sjukdomsdebut]]),0),MATCH(IF(Hut_T[[#This Row],[Nr]:[Nr]]=BD_TX[[#Totals],[SJ]:[SJ]],BD_TX[[#Headers],[SJ]],\"\")&Hut_T[[#Headers],[D 15AM]],Hin_T[#Headers],0)),0),\"\"),\"\")","v":""},{"$f":"IF(AND(ISNUMBER(Hut_T[[#This Row],[Rad]:[Rad]]),ISNUMBER(Hut_T[[#This Row],[D 15AM]]),ISNUMBER(Hut_T[[#This Row],[Nr]:[Nr]])),IFERROR(ROUND(INDEX(Hin_T[[#Data],[#Totals]],Hut_T[[#This Row],[Rad]:[Rad]],MATCH(Hut_T[[#Headers],[15AM-A]],Hin_T[#Headers],0)),1-(INT(LOG10(INDEX(Hin_T[[#Data],[#Totals]],Hut_T[[#This Row],[Rad]:[Rad]],MATCH(Hut_T[[#Headers],[15AM-A]],Hin_T[#Headers],0)))))),1),\"\")","v":""},{"$f":"IF(AND(ISNUMBER(Hut_T[[#This Row],[Rad]:[Rad]]),IFERROR(INDEX(Hin_T[[#Data],[#Totals]],Hut_T[[#This Row],[Rad]:[Rad]],MATCH(Hut_T[[#Headers],[D 20-10D]],Hin_T[#Headers],0)),\"\")),IFERROR(ROUND(INDEX(Hin_T[[#Data],[#Totals]],Hut_T[[#This Row],[Rad]:[Rad]]-IF(Hut_T[[#This Row],[Nr]:[Nr]]=BD_TX[[SJ]:[SJ]],COUNT(Besvär_T[[Sjukdomsdebut]:[Sjukdomsdebut]]),0),MATCH(IF(Hut_T[[#This Row],[Nr]:[Nr]]=BD_TX[[#Totals],[SJ]:[SJ]],BD_TX[[#Headers],[SJ]],\"\")&Hut_T[[#Headers],[D 20-10D]],Hin_T[#Headers],0)),0),\"\"),\"\")","v":""},{"$f":"IF(AND(ISNUMBER(Hut_T[[#This Row],[Rad]:[Rad]]),ISNUMBER(Hut_T[[#This Row],[D 20-10D]]),ISNUMBER(Hut_T[[#This Row],[Nr]:[Nr]])),IFERROR(ROUND(INDEX(Hin_T[[#Data],[#Totals]],Hut_T[[#This Row],[Rad]:[Rad]],MATCH(Hut_T[[#Headers],[20-10D-A]],Hin_T[#Headers],0)),1-(INT(LOG10(INDEX(Hin_T[[#Data],[#Totals]],Hut_T[[#This Row],[Rad]:[Rad]],MATCH(Hut_T[[#Headers],[20-10D-A]],Hin_T[#Headers],0)))))),1),\"\")","v":""},null,{"$f":"IFERROR(INDEX(Hin_T[[#Data],[#Totals],[B-år]],Hut_T[[#This Row],[Rad]]),IF(ISNUMBER(Hut_T[[#This Row],[Datum+]]),ET31,\"\"))","v":""},{"$f":"IFERROR(INDEX(Hin_T[S-år],Hut_T[[#This Row],[Rad]]),IFERROR(INDEX(BD_TX[[#Data],[#Totals],[År]],MATCH(Hut_T[[#This Row],[Rad]],BD_TX[[#Data],[#Totals],[NrX]],0)),\"\"))","v":""},null,{"$f":"ROWS($EW$20:EW32)","v":13},{"$f":"IFERROR(MATCH(Hist_Tab[[#This Row],[Ref]],Medel_T[NrX],0),1)","v":1},{"$f":"INT((ROW(Hist_Tab[[#This Row],[Ref]])-ROW(Hist_Tab[[#Headers],[Ref]])-1)/4)+1","v":4},{"$f":"COUNTIF($EY$19:EY32,Hist_Tab[[#This Row],[Ref]])","v":2},{"$f":"IFERROR(INDEX(Medel_T[Start],Hist_Tab[[#This Row],[Ref]]),_xlfn.AGGREGATE(4,6,Medel_T[Start]))","v":"00:00:00"},{"$f":"IFERROR(INDEX(Medel_T[Slut],Hist_Tab[[#This Row],[Ref]]),_xlfn.AGGREGATE(4,6,Medel_T[Slut]))","v":"00:00:00"},{"$f":"IF(EW31=0,Hist_Tab[[#This Row],[ÅrB]],IF(Hist_Tab[[#This Row],[per/p]]<2,Hist_Tab[[#This Row],[ÅrB]],Hist_Tab[[#This Row],[År S]]))","v":"00:00:00"},{"$f":"IF(Hist_Tab[[#This Row],[Rad]:[Rad]]=0,-1,IF($EY33>_xlfn.AGGREGATE(2,6,Medel_T[[Slut]:[Slut]]),0,INDEX(Medel_T[],Hist_Tab[[#This Row],[Ref]:[Ref]],MATCH(Hist_Tab[[#Headers],[HöA T]],Medel_T[#Headers],0))))","v":0},{"$f":"IF(Hist_Tab[[#This Row],[Rad]:[Rad]]=0,0,IF($EY33>_xlfn.AGGREGATE(2,6,Medel_T[[Slut]:[Slut]]),0,INDEX(Medel_T[],Hist_Tab[[#This Row],[Ref]:[Ref]],MATCH(Hist_Tab[[#Headers],[AöA T]],Medel_T[#Headers],0))))","v":0},{"$f":"IF(Hist_Tab[[#This Row],[Rad]:[Rad]]=0,0,IF($EY33>_xlfn.AGGREGATE(2,6,Medel_T[[Slut]:[Slut]]),0,INDEX(Medel_T[],Hist_Tab[[#This Row],[Ref]:[Ref]],MATCH(Hist_Tab[[#Headers],[4AM T]],Medel_T[#Headers],0))))","v":0},{"$f":"IF(Hist_Tab[[#This Row],[Rad]:[Rad]]=0,0,IF($EY33>_xlfn.AGGREGATE(2,6,Medel_T[[Slut]:[Slut]]),0,INDEX(Medel_T[],Hist_Tab[[#This Row],[Ref]:[Ref]],MATCH(Hist_Tab[[#Headers],[15AM T]],Medel_T[#Headers],0))))","v":0},{"$f":"IF(Hist_Tab[[#This Row],[Rad]:[Rad]]=0,0,IF($EY33>_xlfn.AGGREGATE(2,6,Medel_T[[Slut]:[Slut]]),0,INDEX(Medel_T[],Hist_Tab[[#This Row],[Ref]:[Ref]],MATCH(Hist_Tab[[#Headers],[20-10D T]],Medel_T[#Headers],0))))","v":0}]
[null,null,null,null,null,null,null,null,null,null,null,null,null,null,null,null,null,null,{"$f":"IF(LEN(Hin_T[[#This Row],[Start]])>0,ROWS($S$19:S33),\"\")","v":""},null,{"$f":"Hin_T[[#This Row],[Yrke]]&IF(ISBLANK(Hin_T[[#This Row],[Arbetsmoment]]),\"\",\"; \"&Hin_T[[#This Row],[Arbetsmoment]])","v":""},{"$f":"IFERROR(IF(LEN(Hin_T[[#This Row],[Start]])-LEN(SUBSTITUTE(Hin_T[[#This Row],[Start]],\"-\",\"\"))=2,DATEVALUE(Hin_T[[#This Row],[Start]]),IF(LEN(Hin_T[[#This Row],[Start]])<5,DATEVALUE(Hin_T[[#This Row],[Start]]&\"-01-01\"),DATEVALUE(LEFT(Hin_T[[#This Row],[Start]],IF(LEN(Hin_T[[#This Row],[Start]])>6,4,2))&\"-\"&MID(Hin_T[[#This Row],[Start]],IF(LEN(Hin_T[[#This Row],[Start]])>6,5,3),2)&\"-\"&RIGHT(Hin_T[[#This Row],[Start]],2)))),\"\")","v":""},{"$f":"IFERROR(IF(LEN(Hin_T[[#This Row],[Slut]])-LEN(SUBSTITUTE(Hin_T[[#This Row],[Slut]],\"-\",\"\"))=2,DATEVALUE(Hin_T[[#This Row],[Slut]]),IF(LEN(Hin_T[[#This Row],[Slut]])<5,DATEVALUE(Hin_T[[#This Row],[Slut]]&\"-12-31\"),DATEVALUE(LEFT(Hin_T[[#This Row],[Slut]],IF(LEN(Hin_T[[#This Row],[Slut]])>6,4,2))&\"-\"&MID(Hin_T[[#This Row],[Slut]],IF(LEN(Hin_T[[#This Row],[Slut]])>6,5,3),2)&\"-\"&RIGHT(Hin_T[[#This Row],[Slut]],2)))),\"\")","v":""},{"$f":"IF(COUNTIF(V$19:V33,Hin_T[[#This Row],[B-år]])=1,Hin_T[[#This Row],[B-år]],\"\")","v":""},{"$f":"IF(COUNTIF(W$19:W33,Hin_T[[#This Row],[S-år]])=1,Hin_T[[#This Row],[S-år]],\"\")","v":""},{"$f":"IFERROR(Hin_T[[#This Row],[B-år]]+IF(COUNTIF($V$19:V33,Hin_T[[#This Row],[B-år]])>1,COUNTIF($V$19:V33,Hin_T[[#This Row],[B-år]])/10,0),\"\")","v":""},{"$f":"IF(ISNUMBER(Hin_T[[#This Row],[Dagar]]),Hin_T[[#This Row],[Dagar]]/DÅ[Arbetsdag/år],1)","v":1},{"$f":"Hin_T[[#This Row],[Dag]]*DÅ[Arbetsdag/år]","v":220},{"$f":"IF(LEN(Hin_T[[#This Row],[Yrke]])=4,1,0)","v":0},{"$f":"_xlfn.DAYS(Hin_T[[#This Row],[B-år]],DATE(YEAR(Hin_T[[#This Row],[B-år]]),1,1))/(DATE(YEAR(Hin_T[[#This Row],[B-år]])+1,1,1)-DATE(YEAR(Hin_T[[#This Row],[B-år]]),1,1))","v":{"$error":"#VALUE!"}},{"$f":"_xlfn.DAYS(DATE(YEAR(Hin_T[[#This Row],[S-år]]),12,31),Hin_T[[#This Row],[S-år]])/(DATE(YEAR(Hin_T[[#This Row],[S-år]])+1,1,1)-DATE(YEAR(Hin_T[[#This Row],[S-år]]),1,1))","v":{"$error":"#VALUE!"}},{"$f":"YEARFRAC(Hin_T[[#This Row],[S-år]],Hin_T[[#This Row],[B-år]])*Hin_T[[#This Row],[Dag]]","v":{"$error":"#VALUE!"}},{"$f":"IFERROR(Hin_T[[#This Row],[År diff]]*IF(ISNUMBER(Hin_T[[#This Row],[HöA]]),1,0),0)","v":0},{"$f":"IFERROR(Hin_T[[#This Row],[År diff]]*IF(ISNUMBER(Hin_T[[#This Row],[AöA]]),1,0),0)","v":0},{"$f":"IF(Hin_T[[#This Row],[B-år]]<=Besvär_T[[#Totals],[Sjukdomsdebut]],Hin_T[[#This Row],[B-år]],\"\")","v":""},{"$f":"IF(Hin_T[[#This Row],[S-år]]<=Besvär_T[[#Totals],[Sjukdomsdebut]],Hin_T[[#This Row],[S-år]],\"\")","v":""},{"$f":"IFERROR(YEARFRAC(IF(AND(ISNUMBER(Hin_T[[#This Row],[B-år EA]]),LEN(Hin_T[[#This Row],[S-år EA]])=0),Hin_T[[#Totals],[15AM-A]],Hin_T[[#This Row],[S-år EA]]),Hin_T[[#This Row],[B-år EA]])*Hin_T[[#This Row],[Dag]]*IF(ISNUMBER(Hin_T[[#This Row],[HöA]]),1,0),0)","v":0},{"$f":"IFERROR(YEARFRAC(IF(AND(ISNUMBER(Hin_T[[#This Row],[B-år EA]]),LEN(Hin_T[[#This Row],[S-år EA]])=0),Hin_T[[#Totals],[15AM-A]],Hin_T[[#This Row],[S-år EA]]),Hin_T[[#This Row],[B-år EA]])*Hin_T[[#This Row],[Dag]]*IF(ISNUMBER(Hin_T[[#This Row],[AöA]]),1,0),0)","v":0},{"$f":"IFERROR(Hin_T[[#This Row],[År diff]]*IF(ISNUMBER(Hin_T[[#This Row],[4AM]]),1,0),0)","v":0},{"$f":"IFERROR(Hin_T[[#This Row],[År diff]]*IF(ISNUMBER(Hin_T[[#This Row],[15AM]]),1,0),0)","v":0},{"$f":"IF(Hin_T[[#This Row],[B-år]]<=Besvär_T[[#Totals],[Sjukdomsdebut]],Hin_T[[#This Row],[B-år]],\"\")","v":""},{"$f":"IF(Hin_T[[#This Row],[S-år]]<=Besvär_T[[#Totals],[Sjukdomsdebut]],Hin_T[[#This Row],[S-år]],\"\")","v":""},{"$f":"IFERROR(YEARFRAC(IF(AND(ISNUMBER(Hin_T[[#This Row],[B-år RA]]),LEN(Hin_T[[#This Row],[S-år RA]])=0),Hin_T[[#Totals],[15AM-A]],Hin_T[[#This Row],[S-år RA]]),Hin_T[[#This Row],[B-år RA]])*Hin_T[[#This Row],[Dag]]*IF(ISNUMBER(Hin_T[[#This Row],[4AM]]),1,0),0)","v":0},{"$f":"IFERROR(YEARFRAC(IF(AND(ISNUMBER(Hin_T[[#This Row],[B-år RA]]),LEN(Hin_T[[#This Row],[S-år RA]])=0),Hin_T[[#Totals],[15AM-A]],Hin_T[[#This Row],[S-år RA]]),Hin_T[[#This Row],[B-år RA]])*Hin_T[[#This Row],[Dag]]*IF(ISNUMBER(Hin_T[[#This Row],[15AM]]),1,0),0)","v":0},{"$f":"IFERROR(Hin_T[[#This Row],[År diff]]*IF(ISNUMBER(Hin_T[[#This Row],[20-10D]]),1,0),0)","v":0},{"$f":"IF(Hin_T[[#This Row],[B-år]]<=Besvär_T[[#Totals],[Sjukdomsdebut]],Hin_T[[#This Row],[B-år]],\"\")","v":""},{"$f":"IF(Hin_T[[#This Row],[S-år]]<=Besvär_T[[#Totals],[Sjukdomsdebut]],Hin_T[[#This Row],[S-år]],\"\")","v":""},{"$f":"IFERROR(YEARFRAC(IF(AND(ISNUMBER(Hin_T[[#This Row],[B-år TMH]]),LEN(Hin_T[[#This Row],[S-år TMH]])=0),Hin_T[[#Totals],[15AM-A]],Hin_T[[#This Row],[S-år TMH]]),Hin_T[[#This Row],[B-år TMH]])*Hin_T[[#This Row],[Dag]]*IF(ISNUMBER(Hin_T[[#This Row],[20-10D]]),1,0),0)","v":0},{"$f":"IF(Hin_T[[#This Row],[Vib]]=JN_T[JN],1,0)","v":0},{"$f":"IFERROR(Hin_T[[#This Row],[År diff]]*IF(Hin_T[[#This Row],[Vib2]]>0,1,0),0)","v":0},{"$f":"IF(Hin_T[[#This Row],[B-år]]<=Besvär_T[[#Totals],[Sjukdomsdebut]],Hin_T[[#This Row],[B-år]],\"\")","v":""},{"$f":"IF(Hin_T[[#This Row],[S-år]]<=Besvär_T[[#Totals],[Sjukdomsdebut]],Hin_T[[#This Row],[S-år]],\"\")","v":""},{"$f":"IFERROR(YEARFRAC(IF(AND(ISNUMBER(Hin_T[[#This Row],[B-år VIB]]),LEN(Hin_T[[#This Row],[S-år Vib]])=0),Hin_T[[#Totals],[15AM-A]],Hin_T[[#This Row],[S-år Vib]]),Hin_T[[#This Row],[B-år VIB]])*IF(Hin_T[[#This Row],[Vib2]]>0,1,0),0)","v":0},{"$f":"Hin_T[[#This Row],[HöA]]*Hin_T[[#This Row],[tot år HöA]]*DÅ[Arbetsdag/år]","v":0},{"$f":"Hin_T[[#This Row],[tot år AöA]]*Hin_T[[#This Row],[AöA]]*DÅ[Arbetsdag/år]","v":0},{"$f":"Hin_T[[#This Row],[tot år 4AM]]*Hin_T[[#This Row],[4AM]]*DÅ[Arbetsdag/år]","v":0},{"$f":"Hin_T[[#This Row],[tot år 15AM]]*Hin_T[[#This Row],[15AM]]*DÅ[Arbetsdag/år]","v":0},{"$f":"Hin_T[[#This Row],[tot år 20-10D]]*Hin_T[[#This Row],[20-10D]]*DÅ[Arbetsdag/år]","v":0},{"$f":"Hin_T[[#This Row],[BD år HöA]]*Hin_T[[#This Row],[HöA]]*DÅ[Arbetsdag/år]","v":0},{"$f":"Hin_T[[#This Row],[BD år AöA]]*Hin_T[[#This Row],[AöA]]*DÅ[Arbetsdag/år]","v":0},{"$f":"Hin_T[[#This Row],[BD år 4AM]]*Hin_T[[#This Row],[4AM]]*DÅ[Arbetsdag/år]","v":0},{"$f":"Hin_T[[#This Row],[BD år 15AM]]*Hin_T[[#This Row],[15AM]]*DÅ[Arbetsdag/år]","v":0},{"$f":"Hin_T[[#This Row],[BD år 20-10D]]*Hin_T[[#This Row],[20-10D]]*DÅ[Arbetsdag/år]","v":0},{"$f":"Hin_T[[#This Row],[Arbetsmoment]]&Hin_T[[#This Row],[Text AöA]]&Hin_T[[#This Row],[Text 15AM]]&IF(Hin_T[[#This Row],[Dagarna]]=DÅ[Arbetsdag/år],\"\",\". \"&Hin_T[[#This Row],[Dagarna]]&\" dagar/år\")&\". \"","v":". "},{"$f":"IF(ISBLANK(Hin_T[[#This Row],[AöA]]),\"\",Exp_T[Överarmslyft> 90°: ]&IF(VALUE(TEXT(Hin_T[[#This Row],[AöA]],\"t\"))>0,VALUE(TEXT(Hin_T[[#This Row],[AöA]],\"t\"))&\" h\",\"\")&IF(AND(VALUE(TEXT(Hin_T[[#This Row],[AöA]],\"t\"))>0,VALUE(TEXT(Hin_T[[#This Row],[AöA]],\"m\"))>2.4),\" \",\"\")&IF(VALUE(TEXT(Hin_T[[#This Row],[AöA]],\"m\"))>2.4,TEXT(ROUND(Hin_T[[#This Row],[AöA]]*(24*60/5),0)/(24*60/5),\"m\")&\" min\",\"\")&\"/dag\")","v":""},{"$f":"IF(ISBLANK(Hin_T[[#This Row],[15AM]]),\"\",Exp_T[Överarmsrörelser> 15/min: ]&IF(VALUE(TEXT(Hin_T[[#This Row],[15AM]],\"t\"))>0,VALUE(TEXT(Hin_T[[#This Row],[15AM]],\"t\"))&\" h\",\"\")&IF(AND(VALUE(TEXT(Hin_T[[#This Row],[15AM]],\"t\"))>0,VALUE(TEXT(Hin_T[[#This Row],[15AM]],\"m\"))>2.4),\" \",\"\")&IF(VALUE(TEXT(Hin_T[[#This Row],[15AM]],\"m\"))>2.4,TEXT(ROUND(Hin_T[[#This Row],[15AM]]*(24*60/5),0)/(24*60/5),\"m\")&\" min\",\"\")&\"/dag\")","v":""},null,null,null,null,{"$f":"SMALL(Hin_T[[StartÅR]:[SlutÅr]],ROW()-ROW(Medel_T[[#Headers],[Start]]))","v":{"$error":"#NUM!"}},{"$f":"SMALL(Hin_T[[StartÅR]:[SlutÅr]],ROW()-ROW(Medel_T[[#Headers],[Slut]])+1)","v":{"$error":"#NUM!"}},{"$f":"IF(Medel_T[[#This Row],[Start]]<=Besvär_T[[#Totals],[Sjukdomsdebut]],Medel_T[[#This Row],[Start]],\"\")","v":{"$error":"#NUM!"}},{"$f":"IF(Medel_T[[#This Row],[Slut]]<=Besvär_T[[#Totals],[Sjukdomsdebut]],Medel_T[[#This Row],[Slut]],IF(AND(LEN(Medel_T[[#This Row],[SJDstart]])>0,LEN(BU34)=0),Besvär_T[[#Totals],[Sjukdomsdebut]],\"\"))","v":{"$error":"#NUM!"}},{"$f":"IF(Medel_T[[#This Row],[Start]]>=Besvär_T[[#Totals],[Sjukdomsdebut]],Medel_T[[#This Row],[Start]],IF(AND(LEN(Medel_T[[#This Row],[EfterSlut]])>0,LEN(BX32)=0),Besvär_T[[#Totals],[Sjukdomsdebut]],\"\"))","v":{"$error":"#NUM!"}},{"$f":"IF(Medel_T[[#This Row],[Slut]]>=Besvär_T[[#Totals],[Sjukdomsdebut]],Medel_T[[#This Row],[Slut]],\"\")","v":{"$error":"#NUM!"}},{"$f":"COUNTIF($BZ$19:BZ33,\">0\")","v":0},{"$f":"COUNTIFS(Hin_T[B-år],\"<=\"&Medel_T[[#This Row],[Start]],Hin_T[S-år],\">=\"&Medel_T[[#This Row],[Slut]])","v":0},{"$f":"SUBSTITUTE(_xlfn.TEXTJOIN(Sep_T[Separator],TRUE,_xlfn._xlws.SORT(_xlfn.UNIQUE(IF((Hin_T[[B-år]:[B-år]]<=Medel_T[[#This Row],[Start]:[Start]])*(Hin_T[[S-år]:[S-år]]>=Medel_T[[#This Row],[Slut]:[Slut]]),Hin_T[Yrke],\"\")))),0&Sep_T[Separator],\"\")","v":{"$error":"#NUM!"}},{"$f":"SUBSTITUTE(_xlfn.TEXTJOIN(Sep_T[Separator],TRUE,_xlfn._xlws.SORT(_xlfn.UNIQUE(IF((Hin_T[[B-år]:[B-år]]<=Medel_T[[#This Row],[Start]:[Start]])*(Hin_T[[S-år]:[S-år]]>=Medel_T[[#This Row],[Slut]:[Slut]]),Hin_T[Arbetsmoment],\"\")))),0&Sep_T[Separator],\"\")","v":{"$error":"#NUM!"}},{"$f":"IF(LEN(Medel_T[[#This Row],[Yrke]])>0,Medel_T[[#Headers],[Period ]]&Medel_T[[#This Row],[NrX]]&\": \"&TEXT(Medel_T[[#This Row],[Start]],\"ÅÅÅÅ\")&List_T[[#Totals],[List symb]]&TEXT(Medel_T[[#This Row],[Slut]],\"ÅÅÅÅ\")&\" (\"&ROUND(Medel_T[[#This Row],[År]],1)&\" år) Anställd som \"&IFERROR(SUBSTITUTE(SUBSTITUTE(Medel_T[[#This Row],[Yrke]],Sep_T[Separator],\" och \",Medel_T[[#This Row],[Ant]]-1),Sep_T[Separator],\", \"),Medel_T[[#This Row],[Yrke]])&↓[↓],\"\")","v":{"$error":"#NUM!"}},{"$f":"IF(LEN(Medel_T[[#This Row],[Arbetsmoment]])>0,ROMAN(1)&\") \"&_xlfn.TEXTJOIN(Delim[Delimiters],TRUE,_xlfn._xlws.SORT(_xlfn.UNIQUE(IF((Hin_T[[B-år]:[B-år]]<=Medel_T[[#This Row],[Start]:[Start]])*(Hin_T[[S-år]:[S-år]]>=Medel_T[[#This Row],[Slut]:[Slut]]),Hin_T[Text],\"\"))))&↓[↓],\"\")","v":{"$error":"#NUM!"}},{"$f":"SUMPRODUCT((Hin_T[[B-år]:[B-år]]<=Medel_T[[#This Row],[Start]:[Start]])*(Hin_T[[S-år]:[S-år]]>=Medel_T[[#This Row],[Slut]:[Slut]])*Hin_T[Dag])","v":{"$error":"#NUM!"}},{"$f":"IF(Medel_T[[#This Row],[Proc dag]]<=1,Medel_T[[#This Row],[Proc dag]],1)","v":{"$error":"#NUM!"}},{"$f":"YEARFRAC(Medel_T[[#This Row],[Slut]],Medel_T[[#This Row],[Start]])","v":{"$error":"#NUM!"}},{"$f":"YEARFRAC(Medel_T[[#This Row],[SJDslut]],Medel_T[[#This Row],[SJDstart]])","v":{"$error":"#NUM!"}},{"$f":"IFERROR(SUMPRODUCT((Hin_T[[B-år]:[B-år]]<=Medel_T[[#This Row],[Start]:[Start]])*(Hin_T[[S-år]:[S-år]]>=Medel_T[[#This Row],[Slut]:[Slut]])*Hin_T[HöA]*Hin_T[[Dag]:[Dag]])/Medel_T[[#This Row],[Proc dag]],-1)","v":-1},{"$f":"IFERROR(SUMPRODUCT((Hin_T[[B-år]:[B-år]]<=Medel_T[[#This Row],[Start]:[Start]])*(Hin_T[[S-år]:[S-år]]>=Medel_T[[#This Row],[Slut]:[Slut]])*Hin_T[AöA]*Hin_T[[Dag]:[Dag]])/Medel_T[[#This Row],[Proc dag]],-1)","v":-1},{"$f":"IFERROR(SUMPRODUCT((Hin_T[[B-år]:[B-år]]<=Medel_T[[#This Row],[Start]:[Start]])*(Hin_T[[S-år]:[S-år]]>=Medel_T[[#This Row],[Slut]:[Slut]])*Hin_T[4AM]*Hin_T[[Dag]:[Dag]])/Medel_T[[#This Row],[Proc dag]],-1)","v":-1},{"$f":"IFERROR(SUMPRODUCT((Hin_T[[B-år]:[B-år]]<=Medel_T[[#This Row],[Start]:[Start]])*(Hin_T[[S-år]:[S-år]]>=Medel_T[[#This Row],[Slut]:[Slut]])*Hin_T[15AM]*Hin_T[[Dag]:[Dag]])/Medel_T[[#This Row],[Proc dag]],-1)","v":-1},{"$f":"IFERROR(SUMPRODUCT((Hin_T[[B-år]:[B-år]]<=Medel_T[[#This Row],[Start]:[Start]])*(Hin_T[[S-år]:[S-år]]>=Medel_T[[#This Row],[Slut]:[Slut]])*Hin_T[20-10D]*Hin_T[[Dag]:[Dag]])/Medel_T[[#This Row],[Proc dag]],-1)","v":-1},{"$f":"IFERROR(SUMPRODUCT((Hin_T[[B-år]:[B-år]]<=Medel_T[[#This Row],[Start]:[Start]])*(Hin_T[[S-år]:[S-år]]>=Medel_T[[#This Row],[Slut]:[Slut]])*Hin_T[[Dag]:[Dag]]*Hin_T[HöA])/Medel_T[[#This Row],[Dag sum]],-1)","v":-1},{"$f":"IFERROR(SUMPRODUCT((Hin_T[[B-år]:[B-år]]<=Medel_T[[#This Row],[Start]:[Start]])*(Hin_T[[S-år]:[S-år]]>=Medel_T[[#This Row],[Slut]:[Slut]])*Hin_T[[Dag]:[Dag]]*Hin_T[AöA])/Medel_T[[#This Row],[Dag sum]],-1)","v":-1},{"$f":"IFERROR(SUMPRODUCT((Hin_T[[B-år]:[B-år]]<=Medel_T[[#This Row],[Start]:[Start]])*(Hin_T[[S-år]:[S-år]]>=Medel_T[[#This Row],[Slut]:[Slut]])*Hin_T[[Dag]:[Dag]]*Hin_T[4AM])/Medel_T[[#This Row],[Dag sum]],-1)","v":-1},{"$f":"IFERROR(SUMPRODUCT((Hin_T[[B-år]:[B-år]]<=Medel_T[[#This Row],[Start]:[Start]])*(Hin_T[[S-år]:[S-år]]>=Medel_T[[#This Row],[Slut]:[Slut]])*Hin_T[15AM]*Hin_T[[Dag]:[Dag]])/Medel_T[[#This Row],[Dag sum]],-1)","v":-1},{"$f":"IFERROR(SUMPRODUCT((Hin_T[[B-år]:[B-år]]<=Medel_T[[#This Row],[Start]:[Start]])*(Hin_T[[S-år]:[S-år]]>=Medel_T[[#This Row],[Slut]:[Slut]])*Hin_T[[Dag]:[Dag]]*Hin_T[20-10D])/Medel_T[[#This Row],[Dag sum]],-1)","v":-1},{"$f":"IFERROR(Medel_T[[#This Row],[Dag sum]:[Dag sum]]*Medel_T[[#This Row],[År]:[År]]*Medel_T[[#This Row],[HöA T]]*DÅ[Arbetsdag/år],0)","v":0},{"$f":"IFERROR(Medel_T[[#This Row],[Dag sum]:[Dag sum]]*Medel_T[[#This Row],[År]:[År]]*Medel_T[[#This Row],[AöA T]]*DÅ[Arbetsdag/år],0)","v":0},{"$f":"IFERROR(Medel_T[[#This Row],[Dag sum]:[Dag sum]]*Medel_T[[#This Row],[År]:[År]]*Medel_T[[#This Row],[4AM T]]*DÅ[Arbetsdag/år],0)","v":0},{"$f":"IFERROR(Medel_T[[#This Row],[Dag sum]:[Dag sum]]*Medel_T[[#This Row],[År]:[År]]*Medel_T[[#This Row],[15AM T]]*DÅ[Arbetsdag/år],0)","v":0},{"$f":"IFERROR(Medel_T[[#This Row],[Dag sum]:[Dag sum]]*Medel_T[[#This Row],[År]:[År]]*Medel_T[[#This Row],[20-10D T]]*DÅ[Arbetsdag/år],0)","v":0},{"$f":"IFERROR(Medel_T[[#This Row],[Dag sum]:[Dag sum]]*Medel_T[[#This Row],[ÅrSjuk]:[ÅrSjuk]]*Medel_T[[#This Row],[HöA T]]*DÅ[Arbetsdag/år],0)","v":0},{"$f":"IFERROR(Medel_T[[#This Row],[Dag sum]:[Dag sum]]*Medel_T[[#This Row],[ÅrSjuk]:[ÅrSjuk]]*Medel_T[[#This Row],[AöA T]]*DÅ[Arbetsdag/år],0)","v":0},{"$f":"IFERROR(Medel_T[[#This Row],[Dag sum]:[Dag sum]]*Medel_T[[#This Row],[ÅrSjuk]:[ÅrSjuk]]*Medel_T[[#This Row],[4AM T]]*DÅ[Arbetsdag/år],0)","v":0},{"$f":"IFERROR(Medel_T[[#This Row],[Dag sum]:[Dag sum]]*Medel_T[[#This Row],[ÅrSjuk]:[ÅrSjuk]]*Medel_T[[#This Row],[15AM T]]*DÅ[Arbetsdag/år],0)","v":0},{"$f":"IFERROR(Medel_T[[#This Row],[Dag sum]:[Dag sum]]*Medel_T[[#This Row],[ÅrSjuk]:[ÅrSjuk]]*Medel_T[[#This Row],[20-10D T]]*DÅ[Arbetsdag/år],0)","v":0},{"$f":"IFERROR(IF(Medel_T[[#This Row],[AöA T]]=0,\"\",List_T[List symb]&Exp_T[[#Headers],[Överarmslyft> 90°: ]]&IF(VALUE(TEXT(Medel_T[[#This Row],[AöA T]],\"t\"))>0,VALUE(TEXT(Medel_T[[#This Row],[AöA T]],\"t\"))&\" h\",\"\")&IF(AND(VALUE(TEXT(Medel_T[[#This Row],[AöA T]],\"t\"))>0,VALUE(TEXT(Medel_T[[#This Row],[AöA T]],\"m\"))>2.4),\" \",\"\")&IF(VALUE(TEXT(Medel_T[[#This Row],[AöA T]],\"m\"))>2.4,TEXT(ROUND(Medel_T[[#This Row],[AöA T]]*(24*60/5),0)/(24*60/5),\"m\")&\" min\",\"\")&\"/dag x \"&ROUND(Medel_T[[#This Row],[Dag sum]:[Dag sum]]*DÅ[Arbetsdag/år],0)&\" dagar x \"&ROUND(Medel_T[[#This Row],[År]:[År]],1)&\" år = \"&TEXT(ROUND(Medel_T[[#This Row],[D AöA§]]*24,1-(INT(LOG10(ABS(Medel_T[[#This Row],[D AöA§]]*24))))),\"0\"&IF(1-(INT(LOG10(ABS(Medel_T[[#This Row],[D AöA§]]*24))))>0,\",\"&REPT(\"0\",1-(INT(LOG10(ABS(Medel_T[[#This Row],[D AöA§]]*24))))),\"\"))& \" h\"),\"\")","v":""},{"$f":"IFERROR(IF(Medel_T[[#This Row],[15AM T]]=0,\"\",List_T[List symb]&Exp_T[[#Headers],[Överarmsrörelser> 15/min: ]]&IF(VALUE(TEXT(Medel_T[[#This Row],[15AM T]],\"t\"))>0,VALUE(TEXT(Medel_T[[#This Row],[15AM T]],\"t\"))&\" h\",\"\")&IF(AND(VALUE(TEXT(Medel_T[[#This Row],[15AM T]],\"t\"))>0,VALUE(TEXT(Medel_T[[#This Row],[15AM T]],\"m\"))>2.4),\" \",\"\")&IF(VALUE(TEXT(Medel_T[[#This Row],[15AM T]],\"m\"))>2.4,TEXT(ROUND(Medel_T[[#This Row],[15AM T]]*(24*60/5),0)/(24*60/5),\"m\")&\" min\",\"\")&\"/dag x \"&ROUND(Medel_T[[#This Row],[Dag sum]:[Dag sum]]*DÅ[Arbetsdag/år],0)&\" dagar x \"&ROUND(Medel_T[[#This Row],[År]:[År]],1)&\" år = \"&TEXT(ROUND(Medel_T[[#This Row],[D 15AM§]]*24,1-(INT(LOG10(ABS(Medel_T[[#This Row],[D 15AM§]]*24))))),\"0\"&IF(1-(INT(LOG10(ABS(Medel_T[[#This Row],[D 15AM§]]*24))))>0,\",\"&REPT(\"0\",1-(INT(LOG10(ABS(Medel_T[[#This Row],[D 15AM§]]*24))))),\"\"))& \" h\"),\"\")","v":""},{"$f":"IFERROR(IF(OR(LEN(Medel_T[[#This Row],[AöA text]])>0,LEN(Medel_T[[#This Row],[15AM Text]])>0),Exp_T[Anställning]&YEAR(Medel_T[[#This Row],[Start]])&List_T[[#Totals],[List symb]]&YEAR(Medel_T[[#This Row],[Slut]])&\" (\"&ROUND(Medel_T[[#This Row],[År]],1)&\" år)\"&IF(LEN(Medel_T[[#This Row],[AöA text]])>0,↓[↓],\"\")&Medel_T[[#This Row],[AöA text]]&IF(LEN(Medel_T[[#This Row],[15AM Text]])>0,↓[↓],\"\")&Medel_T[[#This Row],[15AM Text]],\"\"),\"\")","v":""},{"$f":"IFERROR(IF(Medel_T[[#This Row],[AöA T]]=0,\"\",List_T[List symb]&Exp_T[[#Headers],[Överarmsrörelser> 15/min: ]]&IF(VALUE(TEXT(Medel_T[[#This Row],[AöA T]],\"t\"))>0,VALUE(TEXT(Medel_T[[#This Row],[AöA T]],\"t\"))&\" h\",\"\")&IF(AND(VALUE(TEXT(Medel_T[[#This Row],[AöA T]],\"t\"))>0,VALUE(TEXT(Medel_T[[#This Row],[AöA T]],\"m\"))>2.4),\" \",\"\")&IF(VALUE(TEXT(Medel_T[[#This Row],[AöA T]],\"m\"))>2.4,TEXT(ROUND(Medel_T[[#This Row],[AöA T]]*(24*60/5),0)/(24*60/5),\"m\")&\" min\",\"\")&\"/dag x \"&ROUND(Medel_T[[#This Row],[Dag sum]:[Dag sum]]*DÅ[Arbetsdag/år],0)&\" dagar x \"&ROUND(Medel_T[[#This Row],[År]:[År]],1)&\" år = \"&TEXT(ROUND(Medel_T[[#This Row],[D AöA¤]]*24,1-(INT(LOG10(ABS(Medel_T[[#This Row],[D AöA¤]]*24))))),\"0\"&IF(1-(INT(LOG10(ABS(Medel_T[[#This Row],[D AöA¤]]*24))))>0,\",\"&REPT(\"0\",1-(INT(LOG10(ABS(Medel_T[[#This Row],[D AöA¤]]*24))))),\"\"))& \" h\"),\"\")","v":""},{"$f":"IFERROR(IF(Medel_T[[#This Row],[15AM T]]=0,\"\",List_T[List symb]&Exp_T[[#Headers],[Överarmslyft> 90°: ]]&IF(VALUE(TEXT(Medel_T[[#This Row],[15AM T]],\"t\"))>0,VALUE(TEXT(Medel_T[[#This Row],[15AM T]],\"t\"))&\" h\",\"\")&IF(AND(VALUE(TEXT(Medel_T[[#This Row],[15AM T]],\"t\"))>0,VALUE(TEXT(Medel_T[[#This Row],[15AM T]],\"m\"))>0),\" \",\"\")&IF(VALUE(TEXT(Medel_T[[#This Row],[15AM T]],\"m\"))>0,TEXT(ROUND(Medel_T[[#This Row],[15AM T]]*(24*60/5),0)/(24*60/5),\"m\")&\" min\",\"\")&\"/dag x \"&ROUND(Medel_T[[#This Row],[Dag sum]:[Dag sum]]*DÅ[Arbetsdag/år],0)&\" dagar x \"&ROUND(Medel_T[[#This Row],[År]:[År]],1)&\" år = \"&TEXT(ROUND(Medel_T[[#This Row],[D 15AM¤]]*24,1-(INT(LOG10(ABS(Medel_T[[#This Row],[D 15AM¤]]*24))))),\"0\"&IF(1-(INT(LOG10(ABS(Medel_T[[#This Row],[D 15AM¤]]*24))))>0,\",\"&REPT(\"0\",1-(INT(LOG10(ABS(Medel_T[[#This Row],[D 15AM¤]]*24))))),\"\"))& \" h\"),\"\")","v":""},{"$f":"IFERROR(IF(LEN(Medel_T[[#This Row],[SJDstart]])>0,Exp_T[Anställning]&↓[↓]&YEAR(Medel_T[[#This Row],[Start]])&List_T[[#Totals],[List symb]]&YEAR(Medel_T[[#This Row],[Slut]])&\" (\"&ROUND(Medel_T[[#This Row],[År]],1)&\" år)\"&IF(LEN(Medel_T[[#This Row],[AöA text Sjuk]])>0,↓[↓],\"\")&Medel_T[[#This Row],[AöA text Sjuk]]&IF(LEN(Medel_T[[#This Row],[15AM Text Sjuk]])>0,↓[↓],\"\")&Medel_T[[#This Row],[15AM Text Sjuk]],\"\"),\"\")","v":""},{"$f":"IFERROR(Medel_T[[#This Row],[Period ]]&Medel_T[[#This Row],[ArbMomText]]&Medel_T[[#This Row],[Text]],\"\")","v":""},{"$f":"IF(AND(DJ32>=MAX(Medel_T[NrX]),ISNUMBER(DJ32)),Medel_T[[#Totals],[NrX]]+ROW()-ROW(Medel_T[[#Headers],[Rad]])-Medel_T[[#Totals],[Ant]]-1,INDEX(Medel_T[NrX],MATCH(ROW()-ROW(Medel_T[[#Headers],[Rad]]),Medel_T[NrX],0)))","v":{"$error":"#N/A"}},{"$f":"IF(Medel_T[[#This Row],[Rad]]<=Medel_T[[#Totals],[Ant]],MATCH(Medel_T[[#This Row],[Rad]],Medel_T[NrX],0),IFERROR(INDEX(BD_TX[[#Data],[#Totals],[SJ]],MATCH(Medel_T[[#This Row],[Rad]],BD_TX[[#Data],[#Totals],[Nr]],0)),\"\"))","v":{"$error":"#N/A"}},{"$f":"LEN(Medel_T[[#This Row],[Yrke2]])-LEN(SUBSTITUTE(Medel_T[[#This Row],[Yrke2]],LEFT(Sep_T[Separator],1),\"\"))","v":0},{"$f":"INDEX(Medel_T[År],Medel_T[[#This Row],[Nr]])","v":{"$error":"#N/A"}},{"$f":"IFERROR(IF(LEN(Medel_T[[#This Row],[Nr]])>0,TEXT(IFERROR(INDEX(Medel_T[Start],Medel_T[[#This Row],[Nr]]),INDEX(BD_TX[[#Data],[#Totals],[Start]],MATCH(Medel_T[[#This Row],[Rad]],BD_TX[[#Data],[#Totals],[Nr]],0))),\"ÅÅÅÅ MMM\")&\"-\"&TEXT(IFERROR(INDEX(Medel_T[Slut],Medel_T[[#This Row],[Nr]]),INDEX(BD_TX[[#Data],[#Totals],[År]],MATCH(Medel_T[[#This Row],[Rad]],BD_TX[[#Data],[#Totals],[Nr]],0))),\"ÅÅÅÅ MMM\"),\"\"),\"\")","v":""},{"$f":"IFERROR(IF(LEN(Medel_T[[#This Row],[Nr]])>0,IF(Medel_T[[#This Row],[Rad]]>Medel_T[[#Totals],[Ant]],IFERROR(INDEX(BD_TX[[#Data],[#Totals],[Text]],MATCH(Medel_T[[#This Row],[Rad]],BD_TX[[#Data],[#Totals],[Nr]],0)),\"\"),INDEX(Medel_T[Yrke],Medel_T[[#This Row],[Nr]])),\"\"),\"\")","v":""},{"$f":"IFERROR(INDEX(Medel_T[Arbetsmoment],MATCH(ROW()-ROW(Medel_T[[#Headers],[Arbetsmoment2]]),Medel_T[[NrX]:[NrX]],0)),\"\")","v":""},{"$f":"IFERROR(INDEX(Medel_T[],Medel_T[[#This Row],[Nr]],Medel_T[[#Totals],[HöA_T]]),\"\")","v":""},{"$f":"IF(LEN(Medel_T[[#This Row],[Nr]:[Nr]])>0,IFERROR(TEXT(ROUND(24*IFERROR(INDEX(Medel_T[],Medel_T[[#This Row],[Nr]:[Nr]],Medel_T[[#Totals],[D HöA]]),INDEX(Sum_T[[#Data],[#Totals]],MATCH(Medel_T[[#This Row],[Nr]:[Nr]],Sum_T[[#Data],[#Totals],[Typ]:[Typ]],0),MATCH(Medel_T[[#Headers],[D HöA]],Sum_T[#Headers],0))),1-(INT(LOG10(ABS(24*IFERROR(INDEX(Medel_T[],Medel_T[[#This Row],[Nr]:[Nr]],Medel_T[[#Totals],[D HöA]]),INDEX(Sum_T[[#Data],[#Totals]],MATCH(Medel_T[[#This Row],[Nr]:[Nr]],Sum_T[[#Data],[#Totals],[Typ]:[Typ]],0),MATCH(Medel_T[[#Headers],[D HöA]],Sum_T[#Headers],0)))))))),\"0\"&IF(1-(INT(LOG10(ABS(24*IFERROR(INDEX(Medel_T[],Medel_T[[#This Row],[Nr]:[Nr]],Medel_T[[#Totals],[D HöA]]),INDEX(Sum_T[[#Data],[#Totals]],MATCH(Medel_T[[#This Row],[Nr]:[Nr]],Sum_T[[#Data],[#Totals],[Typ]:[Typ]],0),MATCH(Medel_T[[#Headers],[D HöA]],Sum_T[#Headers],0)))))))>0,\",\"&REPT(\"0\",1-(INT(LOG10(ABS(24*IFERROR(INDEX(Medel_T[],Medel_T[[#This Row],[Nr]:[Nr]],Medel_T[[#Totals],[D HöA]]),INDEX(Sum_T[[#Data],[#Totals]],MATCH(Medel_T[[#This Row],[Nr]:[Nr]],Sum_T[[#Data],[#Totals],[Typ]:[Typ]],0),MATCH(Medel_T[[#Headers],[D HöA]],Sum_T[#Headers],0)))))))),0)),0),\"\")","v":{"$error":"#N/A"}},{"$f":"IFERROR(INDEX(Medel_T[],Medel_T[[#This Row],[Nr]],Medel_T[[#Totals],[AÖA_T]]),\"\")","v":""},{"$f":"IFERROR(IF(LEN(Medel_T[[#This Row],[Nr]:[Nr]])>0,IFERROR(TEXT(ROUND(24*IFERROR(INDEX(Medel_T[],Medel_T[[#This Row],[Nr]:[Nr]],Medel_T[[#Totals],[D AöA]]),INDEX(Sum_T[[#Data],[#Totals]],MATCH(Medel_T[[#This Row],[Nr]:[Nr]],Sum_T[[#Data],[#Totals],[Typ]:[Typ]],0),MATCH(Medel_T[[#Headers],[D AöA]],Sum_T[#Headers],0))),1-(INT(LOG10(ABS(24*IFERROR(INDEX(Medel_T[],Medel_T[[#This Row],[Nr]:[Nr]],Medel_T[[#Totals],[D AöA]]),INDEX(Sum_T[[#Data],[#Totals]],MATCH(Medel_T[[#This Row],[Nr]:[Nr]],Sum_T[[#Data],[#Totals],[Typ]:[Typ]],0),MATCH(Medel_T[[#Headers],[D AöA]],Sum_T[#Headers],0)))))))),\"0\"&IF(1-(INT(LOG10(ABS(24*IFERROR(INDEX(Medel_T[],Medel_T[[#This Row],[Nr]:[Nr]],Medel_T[[#Totals],[D AöA]]),INDEX(Sum_T[[#Data],[#Totals]],MATCH(Medel_T[[#This Row],[Nr]:[Nr]],Sum_T[[#Data],[#Totals],[Typ]:[Typ]],0),MATCH(Medel_T[[#Headers],[D AöA]],Sum_T[#Headers],0)))))))>0,\",\"&REPT(\"0\",1-(INT(LOG10(ABS(24*IFERROR(INDEX(Medel_T[],Medel_T[[#This Row],[Nr]:[Nr]],Medel_T[[#Totals],[D AöA]]),INDEX(Sum_T[[#Data],[#Totals]],MATCH(Medel_T[[#This Row],[Nr]:[Nr]],Sum_T[[#Data],[#Totals],[Typ]:[Typ]],0),MATCH(Medel_T[[#Headers],[D AöA]],Sum_T[#Headers],0)))))))),0)),0),\"\"),\"\")","v":""},{"$f":"IFERROR(INDEX(Medel_T[],Medel_T[[#This Row],[Nr]],Medel_T[[#Totals],[4AM_T]]),\"\")","v":""},{"$f":"IF(LEN(Medel_T[[#This Row],[Nr]:[Nr]])>0,IFERROR(TEXT(ROUND(24*IFERROR(INDEX(Medel_T[],Medel_T[[#This Row],[Nr]:[Nr]],Medel_T[[#Totals],[D 4AM]]),INDEX(Sum_T[[#Data],[#Totals]],MATCH(Medel_T[[#This Row],[Nr]:[Nr]],Sum_T[[#Data],[#Totals],[Typ]:[Typ]],0),MATCH(Medel_T[[#Headers],[D 4AM]],Sum_T[#Headers],0))),1-(INT(LOG10(ABS(24*IFERROR(INDEX(Medel_T[],Medel_T[[#This Row],[Nr]:[Nr]],Medel_T[[#Totals],[D 4AM]]),INDEX(Sum_T[[#Data],[#Totals]],MATCH(Medel_T[[#This Row],[Nr]:[Nr]],Sum_T[[#Data],[#Totals],[Typ]:[Typ]],0),MATCH(Medel_T[[#Headers],[D 4AM]],Sum_T[#Headers],0)))))))),\"0\"&IF(1-(INT(LOG10(ABS(24*IFERROR(INDEX(Medel_T[],Medel_T[[#This Row],[Nr]:[Nr]],Medel_T[[#Totals],[D 4AM]]),INDEX(Sum_T[[#Data],[#Totals]],MATCH(Medel_T[[#This Row],[Nr]:[Nr]],Sum_T[[#Data],[#Totals],[Typ]:[Typ]],0),MATCH(Medel_T[[#Headers],[D 4AM]],Sum_T[#Headers],0)))))))>0,\",\"&REPT(\"0\",1-(INT(LOG10(ABS(24*IFERROR(INDEX(Medel_T[],Medel_T[[#This Row],[Nr]:[Nr]],Medel_T[[#Totals],[D 4AM]]),INDEX(Sum_T[[#Data],[#Totals]],MATCH(Medel_T[[#This Row],[Nr]:[Nr]],Sum_T[[#Data],[#Totals],[Typ]:[Typ]],0),MATCH(Medel_T[[#Headers],[D 4AM]],Sum_T[#Headers],0)))))))),0)),0),\"\")","v":{"$error":"#N/A"}},{"$f":"IFERROR(INDEX(Medel_T[],Medel_T[[#This Row],[Nr]],Medel_T[[#Totals],[15AM_T]]),\"\")","v":""},{"$f":"IFERROR(IF(LEN(Medel_T[[#This Row],[Nr]:[Nr]])>0,IFERROR(TEXT(ROUND(24*IFERROR(INDEX(Medel_T[],Medel_T[[#This Row],[Nr]:[Nr]],Medel_T[[#Totals],[D 15AM]]),INDEX(Sum_T[[#Data],[#Totals]],MATCH(Medel_T[[#This Row],[Nr]:[Nr]],Sum_T[[#Data],[#Totals],[Typ]:[Typ]],0),MATCH(Medel_T[[#Headers],[D 15AM]],Sum_T[#Headers],0))),1-(INT(LOG10(ABS(24*IFERROR(INDEX(Medel_T[],Medel_T[[#This Row],[Nr]:[Nr]],Medel_T[[#Totals],[D 15AM]]),INDEX(Sum_T[[#Data],[#Totals]],MATCH(Medel_T[[#This Row],[Nr]:[Nr]],Sum_T[[#Data],[#Totals],[Typ]:[Typ]],0),MATCH(Medel_T[[#Headers],[D 15AM]],Sum_T[#Headers],0)))))))),\"0\"&IF(1-(INT(LOG10(ABS(24*IFERROR(INDEX(Medel_T[],Medel_T[[#This Row],[Nr]:[Nr]],Medel_T[[#Totals],[D 15AM]]),INDEX(Sum_T[[#Data],[#Totals]],MATCH(Medel_T[[#This Row],[Nr]:[Nr]],Sum_T[[#Data],[#Totals],[Typ]:[Typ]],0),MATCH(Medel_T[[#Headers],[D 15AM]],Sum_T[#Headers],0)))))))>0,\",\"&REPT(\"0\",1-(INT(LOG10(ABS(24*IFERROR(INDEX(Medel_T[],Medel_T[[#This Row],[Nr]:[Nr]],Medel_T[[#Totals],[D 15AM]]),INDEX(Sum_T[[#Data],[#Totals]],MATCH(Medel_T[[#This Row],[Nr]:[Nr]],Sum_T[[#Data],[#Totals],[Typ]:[Typ]],0),MATCH(Medel_T[[#Headers],[D 15AM]],Sum_T[#Headers],0)))))))),0)),0),\"\"),\"\")","v":""},{"$f":"IFERROR(INDEX(Medel_T[],Medel_T[[#This Row],[Nr]],Medel_T[[#Totals],[20-10D_T]]),\"\")","v":""},{"$f":"IF(LEN(Medel_T[[#This Row],[Nr]:[Nr]])>0,IFERROR(TEXT(ROUND(24*IFERROR(INDEX(Medel_T[],Medel_T[[#This Row],[Nr]:[Nr]],Medel_T[[#Totals],[D 20-10D]]),INDEX(Sum_T[[#Data],[#Totals]],MATCH(Medel_T[[#This Row],[Nr]:[Nr]],Sum_T[[#Data],[#Totals],[Typ]:[Typ]],0),MATCH(Medel_T[[#Headers],[D 20-10D]],Sum_T[#Headers],0))),1-(INT(LOG10(ABS(24*IFERROR(INDEX(Medel_T[],Medel_T[[#This Row],[Nr]:[Nr]],Medel_T[[#Totals],[D 20-10D]]),INDEX(Sum_T[[#Data],[#Totals]],MATCH(Medel_T[[#This Row],[Nr]:[Nr]],Sum_T[[#Data],[#Totals],[Typ]:[Typ]],0),MATCH(Medel_T[[#Headers],[D 20-10D]],Sum_T[#Headers],0)))))))),\"0\"&IF(1-(INT(LOG10(ABS(24*IFERROR(INDEX(Medel_T[],Medel_T[[#This Row],[Nr]:[Nr]],Medel_T[[#Totals],[D 20-10D]]),INDEX(Sum_T[[#Data],[#Totals]],MATCH(Medel_T[[#This Row],[Nr]:[Nr]],Sum_T[[#Data],[#Totals],[Typ]:[Typ]],0),MATCH(Medel_T[[#Headers],[D 20-10D]],Sum_T[#Headers],0)))))))>0,\",\"&REPT(\"0\",1-(INT(LOG10(ABS(24*IFERROR(INDEX(Medel_T[],Medel_T[[#This Row],[Nr]:[Nr]],Medel_T[[#Totals],[D 20-10D]]),INDEX(Sum_T[[#Data],[#Totals]],MATCH(Medel_T[[#This Row],[Nr]:[Nr]],Sum_T[[#Data],[#Totals],[Typ]:[Typ]],0),MATCH(Medel_T[[#Headers],[D 20-10D]],Sum_T[#Headers],0)))))))),0)),0),\"\")","v":{"$error":"#N/A"}},null,{"$f":"IFERROR(INDEX(Hin_T[Nr],MATCH(SMALL(Hin_T[B-årX],ROW()-ROW(Hut_T[[#Headers],[Rad]])),Hin_T[B-årX],0)),IF(ROWS($EB$19:EB33)=1+COUNTIF(Hin_T[Start],\"*\"),Hin_T[[#Totals],[Dag]],IF(AND(ROWS($EB$19:EB33)=2+COUNTIF(Hin_T[Start],\"*\"),Hin_T[[#Totals],[Q%-]]>0),EB32+1,IF(AND(ROWS($EB$19:EB33)=3+COUNTIF(Hin_T[Start],\"*\"),Hin_T[[#Totals],[Q%-]]>1),EB32+1,IF(AND(ROWS($EB$19:EB33)=4+COUNTIF(Hin_T[Start],\"*\"),Hin_T[[#Totals],[Q%-]]>2),EB32+1,\"\")))))","v":""},{"$f":"IF(Hut_T[[#This Row],[Rad]]<Hin_T[[#Totals],[Dag]],ROWS($EB$19:EB33),IFERROR(INDEX(BD_TX[[#Data],[#Totals],[SJ]],MATCH(Hut_T[[#This Row],[Rad]],BD_TX[[#Data],[#Totals],[NrX]],0)),\"\"))","v":""},{"$f":"IF(ISNUMBER(Hut_T[[#This Row],[Datum-]]),TEXT(Hut_T[[#This Row],[Datum-]],\"ÅÅÅÅ MMM\")&\"-\"&TEXT(Hut_T[[#This Row],[Datum+]],\"ÅÅÅÅ MMM\"),\"\")","v":""},{"$f":"IF(ISNUMBER(Hut_T[[#This Row],[Nr]]),IF(INDEX(Hin_T[Yrke],Hut_T[[#This Row],[Rad]])>0,INDEX(Hin_T[Yrke],Hut_T[[#This Row],[Rad]]),\"\"),IFERROR(INDEX(BD_TX[[#Data],[#Totals],[Text]],MATCH(Hut_T[[#This Row],[Rad]],BD_TX[[#Data],[#Totals],[NrX]],0)),\"\"))","v":""},{"$f":"IF(ISNUMBER(Hut_T[[#This Row],[Nr]]),IF(INDEX(Hin_T[Arbetsmoment],Hut_T[[#This Row],[Rad]])>0,INDEX(Hin_T[Arbetsmoment],Hut_T[[#This Row],[Rad]]),\"\"),\"\")","v":""},{"$f":"IFERROR(IF(INDEX(Hin_T[Yrke],Hut_T[[#This Row],[Rad]])>0,INDEX(Hin_T[Företag],Hut_T[[#This Row],[Rad]]),\"\"),\"\")","v":""},{"$f":"IFERROR(IF(INDEX(Hin_T[Dag],Hut_T[[#This Row],[Rad]])>0,INDEX(Hin_T[Dag],Hut_T[[#This Row],[Rad]])*DÅ[Arbetsdag/år],\"\"),\"\")","v":""},{"$f":"IF(AND(ISNUMBER(_xlfn.SINGLE(Hut_T[[#This Row],[Rad]:[Rad]])),IFERROR(_xlfn.SINGLE(INDEX(Hin_T[[#Data],[#Totals]],_xlfn.SINGLE(Hut_T[[#This Row],[Rad]:[Rad]]),MATCH(Hut_T[[#Headers],[D HöA]],Hin_T[#Headers],0))),\"\")),IFERROR(ROUND(_xlfn.SINGLE(INDEX(Hin_T[[#Data],[#Totals]],_xlfn.SINGLE(Hut_T[[#This Row],[Rad]:[Rad]])-IF(_xlfn.SINGLE(Hut_T[[#This Row],[Nr]:[Nr]])=_xlfn.SINGLE(#REF!),COUNT(Besvär_T[[Sjukdomsdebut]:[Sjukdomsdebut]]),0),MATCH(_xlfn.SINGLE(IF(_xlfn.SINGLE(Hut_T[[#This Row],[Nr]:[Nr]])=_xlfn.SINGLE(#REF!),#REF!,\"\"))&Hut_T[[#Headers],[D HöA]],Hin_T[#Headers],0))),0),\"\"),\"\")","v":""},{"$f":"IF(AND(ISNUMBER(Hut_T[[#This Row],[Rad]:[Rad]]),ISNUMBER(Hut_T[[#This Row],[D HöA]]),ISNUMBER(Hut_T[[#This Row],[Nr]:[Nr]])),IFERROR(ROUND(INDEX(Hin_T[[#Data],[#Totals]],Hut_T[[#This Row],[Rad]:[Rad]],MATCH(Hut_T[[#Headers],[HöA-A]],Hin_T[#Headers],0)),1-(INT(LOG10(INDEX(Hin_T[[#Data],[#Totals]],Hut_T[[#This Row],[Rad]:[Rad]],MATCH(Hut_T[[#Headers],[HöA-A]],Hin_T[#Headers],0)))))),1),\"\")","v":""},{"$f":"IF(AND(ISNUMBER(Hut_T[[#This Row],[Rad]:[Rad]]),IFERROR(INDEX(Hin_T[[#Data],[#Totals]],Hut_T[[#This Row],[Rad]:[Rad]],MATCH(Hut_T[[#Headers],[D AöA]],Hin_T[#Headers],0)),\"\")),IFERROR(ROUND(INDEX(Hin_T[[#Data],[#Totals]],Hut_T[[#This Row],[Rad]:[Rad]]-IF(Hut_T[[#This Row],[Nr]:[Nr]]=BD_TX[[SJ]:[SJ]],COUNT(Besvär_T[[Sjukdomsdebut]:[Sjukdomsdebut]]),0),MATCH(IF(Hut_T[[#This Row],[Nr]:[Nr]]=BD_TX[[#Totals],[SJ]:[SJ]],BD_TX[[#Headers],[SJ]],\"\")&Hut_T[[#Headers],[D AöA]],Hin_T[#Headers],0)),0),\"\"),\"\")","v":""},{"$f":"IF(AND(ISNUMBER(Hut_T[[#This Row],[Rad]:[Rad]]),ISNUMBER(Hut_T[[#This Row],[D AöA]]),ISNUMBER(Hut_T[[#This Row],[Nr]:[Nr]])),IFERROR(ROUND(INDEX(Hin_T[[#Data],[#Totals]],Hut_T[[#This Row],[Rad]:[Rad]],MATCH(Hut_T[[#Headers],[AöA-A]],Hin_T[#Headers],0)),1-(INT(LOG10(INDEX(Hin_T[[#Data],[#Totals]],Hut_T[[#This Row],[Rad]:[Rad]],MATCH(Hut_T[[#Headers],[AöA-A]],Hin_T[#Headers],0)))))),1),\"\")","v":""},{"$f":"IF(AND(ISNUMBER(_xlfn.SINGLE(Hut_T[[#This Row],[Rad]:[Rad]])),IFERROR(_xlfn.SINGLE(INDEX(Hin_T[[#Data],[#Totals]],_xlfn.SINGLE(Hut_T[[#This Row],[Rad]:[Rad]]),MATCH(Hut_T[[#Headers],[D 4AM]],Hin_T[#Headers],0))),\"\")),IFERROR(ROUND(_xlfn.SINGLE(INDEX(Hin_T[[#Data],[#Totals]],_xlfn.SINGLE(Hut_T[[#This Row],[Rad]:[Rad]])-IF(_xlfn.SINGLE(Hut_T[[#This Row],[Nr]:[Nr]])=_xlfn.SINGLE(#REF!),COUNT(Besvär_T[[Sjukdomsdebut]:[Sjukdomsdebut]]),0),MATCH(_xlfn.SINGLE(IF(_xlfn.SINGLE(Hut_T[[#This Row],[Nr]:[Nr]])=_xlfn.SINGLE(#REF!),#REF!,\"\"))&Hut_T[[#Headers],[D 4AM]],Hin_T[#Headers],0))),0),\"\"),\"\")","v":""},{"$f":"IF(AND(ISNUMBER(Hut_T[[#This Row],[Rad]:[Rad]]),ISNUMBER(Hut_T[[#This Row],[D 4AM]]),ISNUMBER(Hut_T[[#This Row],[Nr]:[Nr]])),IFERROR(ROUND(INDEX(Hin_T[[#Data],[#Totals]],Hut_T[[#This Row],[Rad]:[Rad]],MATCH(Hut_T[[#Headers],[4AM-A]],Hin_T[#Headers],0)),1-(INT(LOG10(INDEX(Hin_T[[#Data],[#Totals]],Hut_T[[#This Row],[Rad]:[Rad]],MATCH(Hut_T[[#Headers],[4AM-A]],Hin_T[#Headers],0)))))),1),\"\")","v":""},{"$f":"IF(AND(ISNUMBER(Hut_T[[#This Row],[Rad]:[Rad]]),IFERROR(INDEX(Hin_T[[#Data],[#Totals]],Hut_T[[#This Row],[Rad]:[Rad]],MATCH(Hut_T[[#Headers],[D 15AM]],Hin_T[#Headers],0)),\"\")),IFERROR(ROUND(INDEX(Hin_T[[#Data],[#Totals]],Hut_T[[#This Row],[Rad]:[Rad]]-IF(Hut_T[[#This Row],[Nr]:[Nr]]=BD_TX[[SJ]:[SJ]],COUNT(Besvär_T[[Sjukdomsdebut]:[Sjukdomsdebut]]),0),MATCH(IF(Hut_T[[#This Row],[Nr]:[Nr]]=BD_TX[[#Totals],[SJ]:[SJ]],BD_TX[[#Headers],[SJ]],\"\")&Hut_T[[#Headers],[D 15AM]],Hin_T[#Headers],0)),0),\"\"),\"\")","v":""},{"$f":"IF(AND(ISNUMBER(Hut_T[[#This Row],[Rad]:[Rad]]),ISNUMBER(Hut_T[[#This Row],[D 15AM]]),ISNUMBER(Hut_T[[#This Row],[Nr]:[Nr]])),IFERROR(ROUND(INDEX(Hin_T[[#Data],[#Totals]],Hut_T[[#This Row],[Rad]:[Rad]],MATCH(Hut_T[[#Headers],[15AM-A]],Hin_T[#Headers],0)),1-(INT(LOG10(INDEX(Hin_T[[#Data],[#Totals]],Hut_T[[#This Row],[Rad]:[Rad]],MATCH(Hut_T[[#Headers],[15AM-A]],Hin_T[#Headers],0)))))),1),\"\")","v":""},{"$f":"IF(AND(ISNUMBER(Hut_T[[#This Row],[Rad]:[Rad]]),IFERROR(INDEX(Hin_T[[#Data],[#Totals]],Hut_T[[#This Row],[Rad]:[Rad]],MATCH(Hut_T[[#Headers],[D 20-10D]],Hin_T[#Headers],0)),\"\")),IFERROR(ROUND(INDEX(Hin_T[[#Data],[#Totals]],Hut_T[[#This Row],[Rad]:[Rad]]-IF(Hut_T[[#This Row],[Nr]:[Nr]]=BD_TX[[SJ]:[SJ]],COUNT(Besvär_T[[Sjukdomsdebut]:[Sjukdomsdebut]]),0),MATCH(IF(Hut_T[[#This Row],[Nr]:[Nr]]=BD_TX[[#Totals],[SJ]:[SJ]],BD_TX[[#Headers],[SJ]],\"\")&Hut_T[[#Headers],[D 20-10D]],Hin_T[#Headers],0)),0),\"\"),\"\")","v":""},{"$f":"IF(AND(ISNUMBER(Hut_T[[#This Row],[Rad]:[Rad]]),ISNUMBER(Hut_T[[#This Row],[D 20-10D]]),ISNUMBER(Hut_T[[#This Row],[Nr]:[Nr]])),IFERROR(ROUND(INDEX(Hin_T[[#Data],[#Totals]],Hut_T[[#This Row],[Rad]:[Rad]],MATCH(Hut_T[[#Headers],[20-10D-A]],Hin_T[#Headers],0)),1-(INT(LOG10(INDEX(Hin_T[[#Data],[#Totals]],Hut_T[[#This Row],[Rad]:[Rad]],MATCH(Hut_T[[#Headers],[20-10D-A]],Hin_T[#Headers],0)))))),1),\"\")","v":""},null,{"$f":"IFERROR(INDEX(Hin_T[[#Data],[#Totals],[B-år]],Hut_T[[#This Row],[Rad]]),IF(ISNUMBER(Hut_T[[#This Row],[Datum+]]),ET32,\"\"))","v":""},{"$f":"IFERROR(INDEX(Hin_T[S-år],Hut_T[[#This Row],[Rad]]),IFERROR(INDEX(BD_TX[[#Data],[#Totals],[År]],MATCH(Hut_T[[#This Row],[Rad]],BD_TX[[#Data],[#Totals],[NrX]],0)),\"\"))","v":""},null,{"$f":"ROWS($EW$20:EW33)","v":14},{"$f":"IFERROR(MATCH(Hist_Tab[[#This Row],[Ref]],Medel_T[NrX],0),1)","v":1},{"$f":"INT((ROW(Hist_Tab[[#This Row],[Ref]])-ROW(Hist_Tab[[#Headers],[Ref]])-1)/4)+1","v":4},{"$f":"COUNTIF($EY$19:EY33,Hist_Tab[[#This Row],[Ref]])","v":3},{"$f":"IFERROR(INDEX(Medel_T[Start],Hist_Tab[[#This Row],[Ref]]),_xlfn.AGGREGATE(4,6,Medel_T[Start]))","v":"00:00:00"},{"$f":"IFERROR(INDEX(Medel_T[Slut],Hist_Tab[[#This Row],[Ref]]),_xlfn.AGGREGATE(4,6,Medel_T[Slut]))","v":"00:00:00"},{"$f":"IF(EW32=0,Hist_Tab[[#This Row],[ÅrB]],IF(Hist_Tab[[#This Row],[per/p]]<2,Hist_Tab[[#This Row],[ÅrB]],Hist_Tab[[#This Row],[År S]]))","v":"00:00:00"},{"$f":"IF(Hist_Tab[[#This Row],[Rad]:[Rad]]=0,-1,IF($EY34>_xlfn.AGGREGATE(2,6,Medel_T[[Slut]:[Slut]]),0,INDEX(Medel_T[],Hist_Tab[[#This Row],[Ref]:[Ref]],MATCH(Hist_Tab[[#Headers],[HöA T]],Medel_T[#Headers],0))))","v":0},{"$f":"IF(Hist_Tab[[#This Row],[Rad]:[Rad]]=0,0,IF($EY34>_xlfn.AGGREGATE(2,6,Medel_T[[Slut]:[Slut]]),0,INDEX(Medel_T[],Hist_Tab[[#This Row],[Ref]:[Ref]],MATCH(Hist_Tab[[#Headers],[AöA T]],Medel_T[#Headers],0))))","v":0},{"$f":"IF(Hist_Tab[[#This Row],[Rad]:[Rad]]=0,0,IF($EY34>_xlfn.AGGREGATE(2,6,Medel_T[[Slut]:[Slut]]),0,INDEX(Medel_T[],Hist_Tab[[#This Row],[Ref]:[Ref]],MATCH(Hist_Tab[[#Headers],[4AM T]],Medel_T[#Headers],0))))","v":0},{"$f":"IF(Hist_Tab[[#This Row],[Rad]:[Rad]]=0,0,IF($EY34>_xlfn.AGGREGATE(2,6,Medel_T[[Slut]:[Slut]]),0,INDEX(Medel_T[],Hist_Tab[[#This Row],[Ref]:[Ref]],MATCH(Hist_Tab[[#Headers],[15AM T]],Medel_T[#Headers],0))))","v":0},{"$f":"IF(Hist_Tab[[#This Row],[Rad]:[Rad]]=0,0,IF($EY34>_xlfn.AGGREGATE(2,6,Medel_T[[Slut]:[Slut]]),0,INDEX(Medel_T[],Hist_Tab[[#This Row],[Ref]:[Ref]],MATCH(Hist_Tab[[#Headers],[20-10D T]],Medel_T[#Headers],0))))","v":0}]
[null,null,null,null,null,null,null,null,null,null,null,null,null,null,null,null,null,null,{"$f":"IF(LEN(Hin_T[[#This Row],[Start]])>0,ROWS($S$19:S34),\"\")","v":""},null,{"$f":"Hin_T[[#This Row],[Yrke]]&IF(ISBLANK(Hin_T[[#This Row],[Arbetsmoment]]),\"\",\"; \"&Hin_T[[#This Row],[Arbetsmoment]])","v":""},{"$f":"IFERROR(IF(LEN(Hin_T[[#This Row],[Start]])-LEN(SUBSTITUTE(Hin_T[[#This Row],[Start]],\"-\",\"\"))=2,DATEVALUE(Hin_T[[#This Row],[Start]]),IF(LEN(Hin_T[[#This Row],[Start]])<5,DATEVALUE(Hin_T[[#This Row],[Start]]&\"-01-01\"),DATEVALUE(LEFT(Hin_T[[#This Row],[Start]],IF(LEN(Hin_T[[#This Row],[Start]])>6,4,2))&\"-\"&MID(Hin_T[[#This Row],[Start]],IF(LEN(Hin_T[[#This Row],[Start]])>6,5,3),2)&\"-\"&RIGHT(Hin_T[[#This Row],[Start]],2)))),\"\")","v":""},{"$f":"IFERROR(IF(LEN(Hin_T[[#This Row],[Slut]])-LEN(SUBSTITUTE(Hin_T[[#This Row],[Slut]],\"-\",\"\"))=2,DATEVALUE(Hin_T[[#This Row],[Slut]]),IF(LEN(Hin_T[[#This Row],[Slut]])<5,DATEVALUE(Hin_T[[#This Row],[Slut]]&\"-12-31\"),DATEVALUE(LEFT(Hin_T[[#This Row],[Slut]],IF(LEN(Hin_T[[#This Row],[Slut]])>6,4,2))&\"-\"&MID(Hin_T[[#This Row],[Slut]],IF(LEN(Hin_T[[#This Row],[Slut]])>6,5,3),2)&\"-\"&RIGHT(Hin_T[[#This Row],[Slut]],2)))),\"\")","v":""},{"$f":"IF(COUNTIF(V$19:V34,Hin_T[[#This Row],[B-år]])=1,Hin_T[[#This Row],[B-år]],\"\")","v":""},{"$f":"IF(COUNTIF(W$19:W34,Hin_T[[#This Row],[S-år]])=1,Hin_T[[#This Row],[S-år]],\"\")","v":""},{"$f":"IFERROR(Hin_T[[#This Row],[B-år]]+IF(COUNTIF($V$19:V34,Hin_T[[#This Row],[B-år]])>1,COUNTIF($V$19:V34,Hin_T[[#This Row],[B-år]])/10,0),\"\")","v":""},{"$f":"IF(ISNUMBER(Hin_T[[#This Row],[Dagar]]),Hin_T[[#This Row],[Dagar]]/DÅ[Arbetsdag/år],1)","v":1},{"$f":"Hin_T[[#This Row],[Dag]]*DÅ[Arbetsdag/år]","v":220},{"$f":"IF(LEN(Hin_T[[#This Row],[Yrke]])=4,1,0)","v":0},{"$f":"_xlfn.DAYS(Hin_T[[#This Row],[B-år]],DATE(YEAR(Hin_T[[#This Row],[B-år]]),1,1))/(DATE(YEAR(Hin_T[[#This Row],[B-år]])+1,1,1)-DATE(YEAR(Hin_T[[#This Row],[B-år]]),1,1))","v":{"$error":"#VALUE!"}},{"$f":"_xlfn.DAYS(DATE(YEAR(Hin_T[[#This Row],[S-år]]),12,31),Hin_T[[#This Row],[S-år]])/(DATE(YEAR(Hin_T[[#This Row],[S-år]])+1,1,1)-DATE(YEAR(Hin_T[[#This Row],[S-år]]),1,1))","v":{"$error":"#VALUE!"}},{"$f":"YEARFRAC(Hin_T[[#This Row],[S-år]],Hin_T[[#This Row],[B-år]])*Hin_T[[#This Row],[Dag]]","v":{"$error":"#VALUE!"}},{"$f":"IFERROR(Hin_T[[#This Row],[År diff]]*IF(ISNUMBER(Hin_T[[#This Row],[HöA]]),1,0),0)","v":0},{"$f":"IFERROR(Hin_T[[#This Row],[År diff]]*IF(ISNUMBER(Hin_T[[#This Row],[AöA]]),1,0),0)","v":0},{"$f":"IF(Hin_T[[#This Row],[B-år]]<=Besvär_T[[#Totals],[Sjukdomsdebut]],Hin_T[[#This Row],[B-år]],\"\")","v":""},{"$f":"IF(Hin_T[[#This Row],[S-år]]<=Besvär_T[[#Totals],[Sjukdomsdebut]],Hin_T[[#This Row],[S-år]],\"\")","v":""},{"$f":"IFERROR(YEARFRAC(IF(AND(ISNUMBER(Hin_T[[#This Row],[B-år EA]]),LEN(Hin_T[[#This Row],[S-år EA]])=0),Hin_T[[#Totals],[15AM-A]],Hin_T[[#This Row],[S-år EA]]),Hin_T[[#This Row],[B-år EA]])*Hin_T[[#This Row],[Dag]]*IF(ISNUMBER(Hin_T[[#This Row],[HöA]]),1,0),0)","v":0},{"$f":"IFERROR(YEARFRAC(IF(AND(ISNUMBER(Hin_T[[#This Row],[B-år EA]]),LEN(Hin_T[[#This Row],[S-år EA]])=0),Hin_T[[#Totals],[15AM-A]],Hin_T[[#This Row],[S-år EA]]),Hin_T[[#This Row],[B-år EA]])*Hin_T[[#This Row],[Dag]]*IF(ISNUMBER(Hin_T[[#This Row],[AöA]]),1,0),0)","v":0},{"$f":"IFERROR(Hin_T[[#This Row],[År diff]]*IF(ISNUMBER(Hin_T[[#This Row],[4AM]]),1,0),0)","v":0},{"$f":"IFERROR(Hin_T[[#This Row],[År diff]]*IF(ISNUMBER(Hin_T[[#This Row],[15AM]]),1,0),0)","v":0},{"$f":"IF(Hin_T[[#This Row],[B-år]]<=Besvär_T[[#Totals],[Sjukdomsdebut]],Hin_T[[#This Row],[B-år]],\"\")","v":""},{"$f":"IF(Hin_T[[#This Row],[S-år]]<=Besvär_T[[#Totals],[Sjukdomsdebut]],Hin_T[[#This Row],[S-år]],\"\")","v":""},{"$f":"IFERROR(YEARFRAC(IF(AND(ISNUMBER(Hin_T[[#This Row],[B-år RA]]),LEN(Hin_T[[#This Row],[S-år RA]])=0),Hin_T[[#Totals],[15AM-A]],Hin_T[[#This Row],[S-år RA]]),Hin_T[[#This Row],[B-år RA]])*Hin_T[[#This Row],[Dag]]*IF(ISNUMBER(Hin_T[[#This Row],[4AM]]),1,0),0)","v":0},{"$f":"IFERROR(YEARFRAC(IF(AND(ISNUMBER(Hin_T[[#This Row],[B-år RA]]),LEN(Hin_T[[#This Row],[S-år RA]])=0),Hin_T[[#Totals],[15AM-A]],Hin_T[[#This Row],[S-år RA]]),Hin_T[[#This Row],[B-år RA]])*Hin_T[[#This Row],[Dag]]*IF(ISNUMBER(Hin_T[[#This Row],[15AM]]),1,0),0)","v":0},{"$f":"IFERROR(Hin_T[[#This Row],[År diff]]*IF(ISNUMBER(Hin_T[[#This Row],[20-10D]]),1,0),0)","v":0},{"$f":"IF(Hin_T[[#This Row],[B-år]]<=Besvär_T[[#Totals],[Sjukdomsdebut]],Hin_T[[#This Row],[B-år]],\"\")","v":""},{"$f":"IF(Hin_T[[#This Row],[S-år]]<=Besvär_T[[#Totals],[Sjukdomsdebut]],Hin_T[[#This Row],[S-år]],\"\")","v":""},{"$f":"IFERROR(YEARFRAC(IF(AND(ISNUMBER(Hin_T[[#This Row],[B-år TMH]]),LEN(Hin_T[[#This Row],[S-år TMH]])=0),Hin_T[[#Totals],[15AM-A]],Hin_T[[#This Row],[S-år TMH]]),Hin_T[[#This Row],[B-år TMH]])*Hin_T[[#This Row],[Dag]]*IF(ISNUMBER(Hin_T[[#This Row],[20-10D]]),1,0),0)","v":0},{"$f":"IF(Hin_T[[#This Row],[Vib]]=JN_T[JN],1,0)","v":0},{"$f":"IFERROR(Hin_T[[#This Row],[År diff]]*IF(Hin_T[[#This Row],[Vib2]]>0,1,0),0)","v":0},{"$f":"IF(Hin_T[[#This Row],[B-år]]<=Besvär_T[[#Totals],[Sjukdomsdebut]],Hin_T[[#This Row],[B-år]],\"\")","v":""},{"$f":"IF(Hin_T[[#This Row],[S-år]]<=Besvär_T[[#Totals],[Sjukdomsdebut]],Hin_T[[#This Row],[S-år]],\"\")","v":""},{"$f":"IFERROR(YEARFRAC(IF(AND(ISNUMBER(Hin_T[[#This Row],[B-år VIB]]),LEN(Hin_T[[#This Row],[S-år Vib]])=0),Hin_T[[#Totals],[15AM-A]],Hin_T[[#This Row],[S-år Vib]]),Hin_T[[#This Row],[B-år VIB]])*IF(Hin_T[[#This Row],[Vib2]]>0,1,0),0)","v":0},{"$f":"Hin_T[[#This Row],[HöA]]*Hin_T[[#This Row],[tot år HöA]]*DÅ[Arbetsdag/år]","v":0},{"$f":"Hin_T[[#This Row],[tot år AöA]]*Hin_T[[#This Row],[AöA]]*DÅ[Arbetsdag/år]","v":0},{"$f":"Hin_T[[#This Row],[tot år 4AM]]*Hin_T[[#This Row],[4AM]]*DÅ[Arbetsdag/år]","v":0},{"$f":"Hin_T[[#This Row],[tot år 15AM]]*Hin_T[[#This Row],[15AM]]*DÅ[Arbetsdag/år]","v":0},{"$f":"Hin_T[[#This Row],[tot år 20-10D]]*Hin_T[[#This Row],[20-10D]]*DÅ[Arbetsdag/år]","v":0},{"$f":"Hin_T[[#This Row],[BD år HöA]]*Hin_T[[#This Row],[HöA]]*DÅ[Arbetsdag/år]","v":0},{"$f":"Hin_T[[#This Row],[BD år AöA]]*Hin_T[[#This Row],[AöA]]*DÅ[Arbetsdag/år]","v":0},{"$f":"Hin_T[[#This Row],[BD år 4AM]]*Hin_T[[#This Row],[4AM]]*DÅ[Arbetsdag/år]","v":0},{"$f":"Hin_T[[#This Row],[BD år 15AM]]*Hin_T[[#This Row],[15AM]]*DÅ[Arbetsdag/år]","v":0},{"$f":"Hin_T[[#This Row],[BD år 20-10D]]*Hin_T[[#This Row],[20-10D]]*DÅ[Arbetsdag/år]","v":0},{"$f":"Hin_T[[#This Row],[Arbetsmoment]]&Hin_T[[#This Row],[Text AöA]]&Hin_T[[#This Row],[Text 15AM]]&IF(Hin_T[[#This Row],[Dagarna]]=DÅ[Arbetsdag/år],\"\",\". \"&Hin_T[[#This Row],[Dagarna]]&\" dagar/år\")&\". \"","v":". "},{"$f":"IF(ISBLANK(Hin_T[[#This Row],[AöA]]),\"\",Exp_T[Överarmslyft> 90°: ]&IF(VALUE(TEXT(Hin_T[[#This Row],[AöA]],\"t\"))>0,VALUE(TEXT(Hin_T[[#This Row],[AöA]],\"t\"))&\" h\",\"\")&IF(AND(VALUE(TEXT(Hin_T[[#This Row],[AöA]],\"t\"))>0,VALUE(TEXT(Hin_T[[#This Row],[AöA]],\"m\"))>2.4),\" \",\"\")&IF(VALUE(TEXT(Hin_T[[#This Row],[AöA]],\"m\"))>2.4,TEXT(ROUND(Hin_T[[#This Row],[AöA]]*(24*60/5),0)/(24*60/5),\"m\")&\" min\",\"\")&\"/dag\")","v":""},{"$f":"IF(ISBLANK(Hin_T[[#This Row],[15AM]]),\"\",Exp_T[Överarmsrörelser> 15/min: ]&IF(VALUE(TEXT(Hin_T[[#This Row],[15AM]],\"t\"))>0,VALUE(TEXT(Hin_T[[#This Row],[15AM]],\"t\"))&\" h\",\"\")&IF(AND(VALUE(TEXT(Hin_T[[#This Row],[15AM]],\"t\"))>0,VALUE(TEXT(Hin_T[[#This Row],[15AM]],\"m\"))>2.4),\" \",\"\")&IF(VALUE(TEXT(Hin_T[[#This Row],[15AM]],\"m\"))>2.4,TEXT(ROUND(Hin_T[[#This Row],[15AM]]*(24*60/5),0)/(24*60/5),\"m\")&\" min\",\"\")&\"/dag\")","v":""},null,null,null,null,{"$f":"SMALL(Hin_T[[StartÅR]:[SlutÅr]],ROW()-ROW(Medel_T[[#Headers],[Start]]))","v":{"$error":"#NUM!"}},{"$f":"SMALL(Hin_T[[StartÅR]:[SlutÅr]],ROW()-ROW(Medel_T[[#Headers],[Slut]])+1)","v":{"$error":"#NUM!"}},{"$f":"IF(Medel_T[[#This Row],[Start]]<=Besvär_T[[#Totals],[Sjukdomsdebut]],Medel_T[[#This Row],[Start]],\"\")","v":{"$error":"#NUM!"}},{"$f":"IF(Medel_T[[#This Row],[Slut]]<=Besvär_T[[#Totals],[Sjukdomsdebut]],Medel_T[[#This Row],[Slut]],IF(AND(LEN(Medel_T[[#This Row],[SJDstart]])>0,LEN(BU35)=0),Besvär_T[[#Totals],[Sjukdomsdebut]],\"\"))","v":{"$error":"#NUM!"}},{"$f":"IF(Medel_T[[#This Row],[Start]]>=Besvär_T[[#Totals],[Sjukdomsdebut]],Medel_T[[#This Row],[Start]],IF(AND(LEN(Medel_T[[#This Row],[EfterSlut]])>0,LEN(BX33)=0),Besvär_T[[#Totals],[Sjukdomsdebut]],\"\"))","v":{"$error":"#NUM!"}},{"$f":"IF(Medel_T[[#This Row],[Slut]]>=Besvär_T[[#Totals],[Sjukdomsdebut]],Medel_T[[#This Row],[Slut]],\"\")","v":{"$error":"#NUM!"}},{"$f":"COUNTIF($BZ$19:BZ34,\">0\")","v":0},{"$f":"COUNTIFS(Hin_T[B-år],\"<=\"&Medel_T[[#This Row],[Start]],Hin_T[S-år],\">=\"&Medel_T[[#This Row],[Slut]])","v":0},{"$f":"SUBSTITUTE(_xlfn.TEXTJOIN(Sep_T[Separator],TRUE,_xlfn._xlws.SORT(_xlfn.UNIQUE(IF((Hin_T[[B-år]:[B-år]]<=Medel_T[[#This Row],[Start]:[Start]])*(Hin_T[[S-år]:[S-år]]>=Medel_T[[#This Row],[Slut]:[Slut]]),Hin_T[Yrke],\"\")))),0&Sep_T[Separator],\"\")","v":{"$error":"#NUM!"}},{"$f":"SUBSTITUTE(_xlfn.TEXTJOIN(Sep_T[Separator],TRUE,_xlfn._xlws.SORT(_xlfn.UNIQUE(IF((Hin_T[[B-år]:[B-år]]<=Medel_T[[#This Row],[Start]:[Start]])*(Hin_T[[S-år]:[S-år]]>=Medel_T[[#This Row],[Slut]:[Slut]]),Hin_T[Arbetsmoment],\"\")))),0&Sep_T[Separator],\"\")","v":{"$error":"#NUM!"}},{"$f":"IF(LEN(Medel_T[[#This Row],[Yrke]])>0,Medel_T[[#Headers],[Period ]]&Medel_T[[#This Row],[NrX]]&\": \"&TEXT(Medel_T[[#This Row],[Start]],\"ÅÅÅÅ\")&List_T[[#Totals],[List symb]]&TEXT(Medel_T[[#This Row],[Slut]],\"ÅÅÅÅ\")&\" (\"&ROUND(Medel_T[[#This Row],[År]],1)&\" år) Anställd som \"&IFERROR(SUBSTITUTE(SUBSTITUTE(Medel_T[[#This Row],[Yrke]],Sep_T[Separator],\" och \",Medel_T[[#This Row],[Ant]]-1),Sep_T[Separator],\", \"),Medel_T[[#This Row],[Yrke]])&↓[↓],\"\")","v":{"$error":"#NUM!"}},{"$f":"IF(LEN(Medel_T[[#This Row],[Arbetsmoment]])>0,ROMAN(1)&\") \"&_xlfn.TEXTJOIN(Delim[Delimiters],TRUE,_xlfn._xlws.SORT(_xlfn.UNIQUE(IF((Hin_T[[B-år]:[B-år]]<=Medel_T[[#This Row],[Start]:[Start]])*(Hin_T[[S-år]:[S-år]]>=Medel_T[[#This Row],[Slut]:[Slut]]),Hin_T[Text],\"\"))))&↓[↓],\"\")","v":{"$error":"#NUM!"}},{"$f":"SUMPRODUCT((Hin_T[[B-år]:[B-år]]<=Medel_T[[#This Row],[Start]:[Start]])*(Hin_T[[S-år]:[S-år]]>=Medel_T[[#This Row],[Slut]:[Slut]])*Hin_T[Dag])","v":{"$error":"#NUM!"}},{"$f":"IF(Medel_T[[#This Row],[Proc dag]]<=1,Medel_T[[#This Row],[Proc dag]],1)","v":{"$error":"#NUM!"}},{"$f":"YEARFRAC(Medel_T[[#This Row],[Slut]],Medel_T[[#This Row],[Start]])","v":{"$error":"#NUM!"}},{"$f":"YEARFRAC(Medel_T[[#This Row],[SJDslut]],Medel_T[[#This Row],[SJDstart]])","v":{"$error":"#NUM!"}},{"$f":"IFERROR(SUMPRODUCT((Hin_T[[B-år]:[B-år]]<=Medel_T[[#This Row],[Start]:[Start]])*(Hin_T[[S-år]:[S-år]]>=Medel_T[[#This Row],[Slut]:[Slut]])*Hin_T[HöA]*Hin_T[[Dag]:[Dag]])/Medel_T[[#This Row],[Proc dag]],-1)","v":-1},{"$f":"IFERROR(SUMPRODUCT((Hin_T[[B-år]:[B-år]]<=Medel_T[[#This Row],[Start]:[Start]])*(Hin_T[[S-år]:[S-år]]>=Medel_T[[#This Row],[Slut]:[Slut]])*Hin_T[AöA]*Hin_T[[Dag]:[Dag]])/Medel_T[[#This Row],[Proc dag]],-1)","v":-1},{"$f":"IFERROR(SUMPRODUCT((Hin_T[[B-år]:[B-år]]<=Medel_T[[#This Row],[Start]:[Start]])*(Hin_T[[S-år]:[S-år]]>=Medel_T[[#This Row],[Slut]:[Slut]])*Hin_T[4AM]*Hin_T[[Dag]:[Dag]])/Medel_T[[#This Row],[Proc dag]],-1)","v":-1},{"$f":"IFERROR(SUMPRODUCT((Hin_T[[B-år]:[B-år]]<=Medel_T[[#This Row],[Start]:[Start]])*(Hin_T[[S-år]:[S-år]]>=Medel_T[[#This Row],[Slut]:[Slut]])*Hin_T[15AM]*Hin_T[[Dag]:[Dag]])/Medel_T[[#This Row],[Proc dag]],-1)","v":-1},{"$f":"IFERROR(SUMPRODUCT((Hin_T[[B-år]:[B-år]]<=Medel_T[[#This Row],[Start]:[Start]])*(Hin_T[[S-år]:[S-år]]>=Medel_T[[#This Row],[Slut]:[Slut]])*Hin_T[20-10D]*Hin_T[[Dag]:[Dag]])/Medel_T[[#This Row],[Proc dag]],-1)","v":-1},{"$f":"IFERROR(SUMPRODUCT((Hin_T[[B-år]:[B-år]]<=Medel_T[[#This Row],[Start]:[Start]])*(Hin_T[[S-år]:[S-år]]>=Medel_T[[#This Row],[Slut]:[Slut]])*Hin_T[[Dag]:[Dag]]*Hin_T[HöA])/Medel_T[[#This Row],[Dag sum]],-1)","v":-1},{"$f":"IFERROR(SUMPRODUCT((Hin_T[[B-år]:[B-år]]<=Medel_T[[#This Row],[Start]:[Start]])*(Hin_T[[S-år]:[S-år]]>=Medel_T[[#This Row],[Slut]:[Slut]])*Hin_T[[Dag]:[Dag]]*Hin_T[AöA])/Medel_T[[#This Row],[Dag sum]],-1)","v":-1},{"$f":"IFERROR(SUMPRODUCT((Hin_T[[B-år]:[B-år]]<=Medel_T[[#This Row],[Start]:[Start]])*(Hin_T[[S-år]:[S-år]]>=Medel_T[[#This Row],[Slut]:[Slut]])*Hin_T[[Dag]:[Dag]]*Hin_T[4AM])/Medel_T[[#This Row],[Dag sum]],-1)","v":-1},{"$f":"IFERROR(SUMPRODUCT((Hin_T[[B-år]:[B-år]]<=Medel_T[[#This Row],[Start]:[Start]])*(Hin_T[[S-år]:[S-år]]>=Medel_T[[#This Row],[Slut]:[Slut]])*Hin_T[15AM]*Hin_T[[Dag]:[Dag]])/Medel_T[[#This Row],[Dag sum]],-1)","v":-1},{"$f":"IFERROR(SUMPRODUCT((Hin_T[[B-år]:[B-år]]<=Medel_T[[#This Row],[Start]:[Start]])*(Hin_T[[S-år]:[S-år]]>=Medel_T[[#This Row],[Slut]:[Slut]])*Hin_T[[Dag]:[Dag]]*Hin_T[20-10D])/Medel_T[[#This Row],[Dag sum]],-1)","v":-1},{"$f":"IFERROR(Medel_T[[#This Row],[Dag sum]:[Dag sum]]*Medel_T[[#This Row],[År]:[År]]*Medel_T[[#This Row],[HöA T]]*DÅ[Arbetsdag/år],0)","v":0},{"$f":"IFERROR(Medel_T[[#This Row],[Dag sum]:[Dag sum]]*Medel_T[[#This Row],[År]:[År]]*Medel_T[[#This Row],[AöA T]]*DÅ[Arbetsdag/år],0)","v":0},{"$f":"IFERROR(Medel_T[[#This Row],[Dag sum]:[Dag sum]]*Medel_T[[#This Row],[År]:[År]]*Medel_T[[#This Row],[4AM T]]*DÅ[Arbetsdag/år],0)","v":0},{"$f":"IFERROR(Medel_T[[#This Row],[Dag sum]:[Dag sum]]*Medel_T[[#This Row],[År]:[År]]*Medel_T[[#This Row],[15AM T]]*DÅ[Arbetsdag/år],0)","v":0},{"$f":"IFERROR(Medel_T[[#This Row],[Dag sum]:[Dag sum]]*Medel_T[[#This Row],[År]:[År]]*Medel_T[[#This Row],[20-10D T]]*DÅ[Arbetsdag/år],0)","v":0},{"$f":"IFERROR(Medel_T[[#This Row],[Dag sum]:[Dag sum]]*Medel_T[[#This Row],[ÅrSjuk]:[ÅrSjuk]]*Medel_T[[#This Row],[HöA T]]*DÅ[Arbetsdag/år],0)","v":0},{"$f":"IFERROR(Medel_T[[#This Row],[Dag sum]:[Dag sum]]*Medel_T[[#This Row],[ÅrSjuk]:[ÅrSjuk]]*Medel_T[[#This Row],[AöA T]]*DÅ[Arbetsdag/år],0)","v":0},{"$f":"IFERROR(Medel_T[[#This Row],[Dag sum]:[Dag sum]]*Medel_T[[#This Row],[ÅrSjuk]:[ÅrSjuk]]*Medel_T[[#This Row],[4AM T]]*DÅ[Arbetsdag/år],0)","v":0},{"$f":"IFERROR(Medel_T[[#This Row],[Dag sum]:[Dag sum]]*Medel_T[[#This Row],[ÅrSjuk]:[ÅrSjuk]]*Medel_T[[#This Row],[15AM T]]*DÅ[Arbetsdag/år],0)","v":0},{"$f":"IFERROR(Medel_T[[#This Row],[Dag sum]:[Dag sum]]*Medel_T[[#This Row],[ÅrSjuk]:[ÅrSjuk]]*Medel_T[[#This Row],[20-10D T]]*DÅ[Arbetsdag/år],0)","v":0},{"$f":"IFERROR(IF(Medel_T[[#This Row],[AöA T]]=0,\"\",List_T[List symb]&Exp_T[[#Headers],[Överarmslyft> 90°: ]]&IF(VALUE(TEXT(Medel_T[[#This Row],[AöA T]],\"t\"))>0,VALUE(TEXT(Medel_T[[#This Row],[AöA T]],\"t\"))&\" h\",\"\")&IF(AND(VALUE(TEXT(Medel_T[[#This Row],[AöA T]],\"t\"))>0,VALUE(TEXT(Medel_T[[#This Row],[AöA T]],\"m\"))>2.4),\" \",\"\")&IF(VALUE(TEXT(Medel_T[[#This Row],[AöA T]],\"m\"))>2.4,TEXT(ROUND(Medel_T[[#This Row],[AöA T]]*(24*60/5),0)/(24*60/5),\"m\")&\" min\",\"\")&\"/dag x \"&ROUND(Medel_T[[#This Row],[Dag sum]:[Dag sum]]*DÅ[Arbetsdag/år],0)&\" dagar x \"&ROUND(Medel_T[[#This Row],[År]:[År]],1)&\" år = \"&TEXT(ROUND(Medel_T[[#This Row],[D AöA§]]*24,1-(INT(LOG10(ABS(Medel_T[[#This Row],[D AöA§]]*24))))),\"0\"&IF(1-(INT(LOG10(ABS(Medel_T[[#This Row],[D AöA§]]*24))))>0,\",\"&REPT(\"0\",1-(INT(LOG10(ABS(Medel_T[[#This Row],[D AöA§]]*24))))),\"\"))& \" h\"),\"\")","v":""},{"$f":"IFERROR(IF(Medel_T[[#This Row],[15AM T]]=0,\"\",List_T[List symb]&Exp_T[[#Headers],[Överarmsrörelser> 15/min: ]]&IF(VALUE(TEXT(Medel_T[[#This Row],[15AM T]],\"t\"))>0,VALUE(TEXT(Medel_T[[#This Row],[15AM T]],\"t\"))&\" h\",\"\")&IF(AND(VALUE(TEXT(Medel_T[[#This Row],[15AM T]],\"t\"))>0,VALUE(TEXT(Medel_T[[#This Row],[15AM T]],\"m\"))>2.4),\" \",\"\")&IF(VALUE(TEXT(Medel_T[[#This Row],[15AM T]],\"m\"))>2.4,TEXT(ROUND(Medel_T[[#This Row],[15AM T]]*(24*60/5),0)/(24*60/5),\"m\")&\" min\",\"\")&\"/dag x \"&ROUND(Medel_T[[#This Row],[Dag sum]:[Dag sum]]*DÅ[Arbetsdag/år],0)&\" dagar x \"&ROUND(Medel_T[[#This Row],[År]:[År]],1)&\" år = \"&TEXT(ROUND(Medel_T[[#This Row],[D 15AM§]]*24,1-(INT(LOG10(ABS(Medel_T[[#This Row],[D 15AM§]]*24))))),\"0\"&IF(1-(INT(LOG10(ABS(Medel_T[[#This Row],[D 15AM§]]*24))))>0,\",\"&REPT(\"0\",1-(INT(LOG10(ABS(Medel_T[[#This Row],[D 15AM§]]*24))))),\"\"))& \" h\"),\"\")","v":""},{"$f":"IFERROR(IF(OR(LEN(Medel_T[[#This Row],[AöA text]])>0,LEN(Medel_T[[#This Row],[15AM Text]])>0),Exp_T[Anställning]&YEAR(Medel_T[[#This Row],[Start]])&List_T[[#Totals],[List symb]]&YEAR(Medel_T[[#This Row],[Slut]])&\" (\"&ROUND(Medel_T[[#This Row],[År]],1)&\" år)\"&IF(LEN(Medel_T[[#This Row],[AöA text]])>0,↓[↓],\"\")&Medel_T[[#This Row],[AöA text]]&IF(LEN(Medel_T[[#This Row],[15AM Text]])>0,↓[↓],\"\")&Medel_T[[#This Row],[15AM Text]],\"\"),\"\")","v":""},{"$f":"IFERROR(IF(Medel_T[[#This Row],[AöA T]]=0,\"\",List_T[List symb]&Exp_T[[#Headers],[Överarmsrörelser> 15/min: ]]&IF(VALUE(TEXT(Medel_T[[#This Row],[AöA T]],\"t\"))>0,VALUE(TEXT(Medel_T[[#This Row],[AöA T]],\"t\"))&\" h\",\"\")&IF(AND(VALUE(TEXT(Medel_T[[#This Row],[AöA T]],\"t\"))>0,VALUE(TEXT(Medel_T[[#This Row],[AöA T]],\"m\"))>2.4),\" \",\"\")&IF(VALUE(TEXT(Medel_T[[#This Row],[AöA T]],\"m\"))>2.4,TEXT(ROUND(Medel_T[[#This Row],[AöA T]]*(24*60/5),0)/(24*60/5),\"m\")&\" min\",\"\")&\"/dag x \"&ROUND(Medel_T[[#This Row],[Dag sum]:[Dag sum]]*DÅ[Arbetsdag/år],0)&\" dagar x \"&ROUND(Medel_T[[#This Row],[År]:[År]],1)&\" år = \"&TEXT(ROUND(Medel_T[[#This Row],[D AöA¤]]*24,1-(INT(LOG10(ABS(Medel_T[[#This Row],[D AöA¤]]*24))))),\"0\"&IF(1-(INT(LOG10(ABS(Medel_T[[#This Row],[D AöA¤]]*24))))>0,\",\"&REPT(\"0\",1-(INT(LOG10(ABS(Medel_T[[#This Row],[D AöA¤]]*24))))),\"\"))& \" h\"),\"\")","v":""},{"$f":"IFERROR(IF(Medel_T[[#This Row],[15AM T]]=0,\"\",List_T[List symb]&Exp_T[[#Headers],[Överarmslyft> 90°: ]]&IF(VALUE(TEXT(Medel_T[[#This Row],[15AM T]],\"t\"))>0,VALUE(TEXT(Medel_T[[#This Row],[15AM T]],\"t\"))&\" h\",\"\")&IF(AND(VALUE(TEXT(Medel_T[[#This Row],[15AM T]],\"t\"))>0,VALUE(TEXT(Medel_T[[#This Row],[15AM T]],\"m\"))>0),\" \",\"\")&IF(VALUE(TEXT(Medel_T[[#This Row],[15AM T]],\"m\"))>0,TEXT(ROUND(Medel_T[[#This Row],[15AM T]]*(24*60/5),0)/(24*60/5),\"m\")&\" min\",\"\")&\"/dag x \"&ROUND(Medel_T[[#This Row],[Dag sum]:[Dag sum]]*DÅ[Arbetsdag/år],0)&\" dagar x \"&ROUND(Medel_T[[#This Row],[År]:[År]],1)&\" år = \"&TEXT(ROUND(Medel_T[[#This Row],[D 15AM¤]]*24,1-(INT(LOG10(ABS(Medel_T[[#This Row],[D 15AM¤]]*24))))),\"0\"&IF(1-(INT(LOG10(ABS(Medel_T[[#This Row],[D 15AM¤]]*24))))>0,\",\"&REPT(\"0\",1-(INT(LOG10(ABS(Medel_T[[#This Row],[D 15AM¤]]*24))))),\"\"))& \" h\"),\"\")","v":""},{"$f":"IFERROR(IF(LEN(Medel_T[[#This Row],[SJDstart]])>0,Exp_T[Anställning]&↓[↓]&YEAR(Medel_T[[#This Row],[Start]])&List_T[[#Totals],[List symb]]&YEAR(Medel_T[[#This Row],[Slut]])&\" (\"&ROUND(Medel_T[[#This Row],[År]],1)&\" år)\"&IF(LEN(Medel_T[[#This Row],[AöA text Sjuk]])>0,↓[↓],\"\")&Medel_T[[#This Row],[AöA text Sjuk]]&IF(LEN(Medel_T[[#This Row],[15AM Text Sjuk]])>0,↓[↓],\"\")&Medel_T[[#This Row],[15AM Text Sjuk]],\"\"),\"\")","v":""},{"$f":"IFERROR(Medel_T[[#This Row],[Period ]]&Medel_T[[#This Row],[ArbMomText]]&Medel_T[[#This Row],[Text]],\"\")","v":""},{"$f":"IF(AND(DJ33>=MAX(Medel_T[NrX]),ISNUMBER(DJ33)),Medel_T[[#Totals],[NrX]]+ROW()-ROW(Medel_T[[#Headers],[Rad]])-Medel_T[[#Totals],[Ant]]-1,INDEX(Medel_T[NrX],MATCH(ROW()-ROW(Medel_T[[#Headers],[Rad]]),Medel_T[NrX],0)))","v":{"$error":"#N/A"}},{"$f":"IF(Medel_T[[#This Row],[Rad]]<=Medel_T[[#Totals],[Ant]],MATCH(Medel_T[[#This Row],[Rad]],Medel_T[NrX],0),IFERROR(INDEX(BD_TX[[#Data],[#Totals],[SJ]],MATCH(Medel_T[[#This Row],[Rad]],BD_TX[[#Data],[#Totals],[Nr]],0)),\"\"))","v":{"$error":"#N/A"}},{"$f":"LEN(Medel_T[[#This Row],[Yrke2]])-LEN(SUBSTITUTE(Medel_T[[#This Row],[Yrke2]],LEFT(Sep_T[Separator],1),\"\"))","v":0},{"$f":"INDEX(Medel_T[År],Medel_T[[#This Row],[Nr]])","v":{"$error":"#N/A"}},{"$f":"IFERROR(IF(LEN(Medel_T[[#This Row],[Nr]])>0,TEXT(IFERROR(INDEX(Medel_T[Start],Medel_T[[#This Row],[Nr]]),INDEX(BD_TX[[#Data],[#Totals],[Start]],MATCH(Medel_T[[#This Row],[Rad]],BD_TX[[#Data],[#Totals],[Nr]],0))),\"ÅÅÅÅ MMM\")&\"-\"&TEXT(IFERROR(INDEX(Medel_T[Slut],Medel_T[[#This Row],[Nr]]),INDEX(BD_TX[[#Data],[#Totals],[År]],MATCH(Medel_T[[#This Row],[Rad]],BD_TX[[#Data],[#Totals],[Nr]],0))),\"ÅÅÅÅ MMM\"),\"\"),\"\")","v":""},{"$f":"IFERROR(IF(LEN(Medel_T[[#This Row],[Nr]])>0,IF(Medel_T[[#This Row],[Rad]]>Medel_T[[#Totals],[Ant]],IFERROR(INDEX(BD_TX[[#Data],[#Totals],[Text]],MATCH(Medel_T[[#This Row],[Rad]],BD_TX[[#Data],[#Totals],[Nr]],0)),\"\"),INDEX(Medel_T[Yrke],Medel_T[[#This Row],[Nr]])),\"\"),\"\")","v":""},{"$f":"IFERROR(INDEX(Medel_T[Arbetsmoment],MATCH(ROW()-ROW(Medel_T[[#Headers],[Arbetsmoment2]]),Medel_T[[NrX]:[NrX]],0)),\"\")","v":""},{"$f":"IFERROR(INDEX(Medel_T[],Medel_T[[#This Row],[Nr]],Medel_T[[#Totals],[HöA_T]]),\"\")","v":""},{"$f":"IF(LEN(Medel_T[[#This Row],[Nr]:[Nr]])>0,IFERROR(TEXT(ROUND(24*IFERROR(INDEX(Medel_T[],Medel_T[[#This Row],[Nr]:[Nr]],Medel_T[[#Totals],[D HöA]]),INDEX(Sum_T[[#Data],[#Totals]],MATCH(Medel_T[[#This Row],[Nr]:[Nr]],Sum_T[[#Data],[#Totals],[Typ]:[Typ]],0),MATCH(Medel_T[[#Headers],[D HöA]],Sum_T[#Headers],0))),1-(INT(LOG10(ABS(24*IFERROR(INDEX(Medel_T[],Medel_T[[#This Row],[Nr]:[Nr]],Medel_T[[#Totals],[D HöA]]),INDEX(Sum_T[[#Data],[#Totals]],MATCH(Medel_T[[#This Row],[Nr]:[Nr]],Sum_T[[#Data],[#Totals],[Typ]:[Typ]],0),MATCH(Medel_T[[#Headers],[D HöA]],Sum_T[#Headers],0)))))))),\"0\"&IF(1-(INT(LOG10(ABS(24*IFERROR(INDEX(Medel_T[],Medel_T[[#This Row],[Nr]:[Nr]],Medel_T[[#Totals],[D HöA]]),INDEX(Sum_T[[#Data],[#Totals]],MATCH(Medel_T[[#This Row],[Nr]:[Nr]],Sum_T[[#Data],[#Totals],[Typ]:[Typ]],0),MATCH(Medel_T[[#Headers],[D HöA]],Sum_T[#Headers],0)))))))>0,\",\"&REPT(\"0\",1-(INT(LOG10(ABS(24*IFERROR(INDEX(Medel_T[],Medel_T[[#This Row],[Nr]:[Nr]],Medel_T[[#Totals],[D HöA]]),INDEX(Sum_T[[#Data],[#Totals]],MATCH(Medel_T[[#This Row],[Nr]:[Nr]],Sum_T[[#Data],[#Totals],[Typ]:[Typ]],0),MATCH(Medel_T[[#Headers],[D HöA]],Sum_T[#Headers],0)))))))),0)),0),\"\")","v":{"$error":"#N/A"}},{"$f":"IFERROR(INDEX(Medel_T[],Medel_T[[#This Row],[Nr]],Medel_T[[#Totals],[AÖA_T]]),\"\")","v":""},{"$f":"IFERROR(IF(LEN(Medel_T[[#This Row],[Nr]:[Nr]])>0,IFERROR(TEXT(ROUND(24*IFERROR(INDEX(Medel_T[],Medel_T[[#This Row],[Nr]:[Nr]],Medel_T[[#Totals],[D AöA]]),INDEX(Sum_T[[#Data],[#Totals]],MATCH(Medel_T[[#This Row],[Nr]:[Nr]],Sum_T[[#Data],[#Totals],[Typ]:[Typ]],0),MATCH(Medel_T[[#Headers],[D AöA]],Sum_T[#Headers],0))),1-(INT(LOG10(ABS(24*IFERROR(INDEX(Medel_T[],Medel_T[[#This Row],[Nr]:[Nr]],Medel_T[[#Totals],[D AöA]]),INDEX(Sum_T[[#Data],[#Totals]],MATCH(Medel_T[[#This Row],[Nr]:[Nr]],Sum_T[[#Data],[#Totals],[Typ]:[Typ]],0),MATCH(Medel_T[[#Headers],[D AöA]],Sum_T[#Headers],0)))))))),\"0\"&IF(1-(INT(LOG10(ABS(24*IFERROR(INDEX(Medel_T[],Medel_T[[#This Row],[Nr]:[Nr]],Medel_T[[#Totals],[D AöA]]),INDEX(Sum_T[[#Data],[#Totals]],MATCH(Medel_T[[#This Row],[Nr]:[Nr]],Sum_T[[#Data],[#Totals],[Typ]:[Typ]],0),MATCH(Medel_T[[#Headers],[D AöA]],Sum_T[#Headers],0)))))))>0,\",\"&REPT(\"0\",1-(INT(LOG10(ABS(24*IFERROR(INDEX(Medel_T[],Medel_T[[#This Row],[Nr]:[Nr]],Medel_T[[#Totals],[D AöA]]),INDEX(Sum_T[[#Data],[#Totals]],MATCH(Medel_T[[#This Row],[Nr]:[Nr]],Sum_T[[#Data],[#Totals],[Typ]:[Typ]],0),MATCH(Medel_T[[#Headers],[D AöA]],Sum_T[#Headers],0)))))))),0)),0),\"\"),\"\")","v":""},{"$f":"IFERROR(INDEX(Medel_T[],Medel_T[[#This Row],[Nr]],Medel_T[[#Totals],[4AM_T]]),\"\")","v":""},{"$f":"IF(LEN(Medel_T[[#This Row],[Nr]:[Nr]])>0,IFERROR(TEXT(ROUND(24*IFERROR(INDEX(Medel_T[],Medel_T[[#This Row],[Nr]:[Nr]],Medel_T[[#Totals],[D 4AM]]),INDEX(Sum_T[[#Data],[#Totals]],MATCH(Medel_T[[#This Row],[Nr]:[Nr]],Sum_T[[#Data],[#Totals],[Typ]:[Typ]],0),MATCH(Medel_T[[#Headers],[D 4AM]],Sum_T[#Headers],0))),1-(INT(LOG10(ABS(24*IFERROR(INDEX(Medel_T[],Medel_T[[#This Row],[Nr]:[Nr]],Medel_T[[#Totals],[D 4AM]]),INDEX(Sum_T[[#Data],[#Totals]],MATCH(Medel_T[[#This Row],[Nr]:[Nr]],Sum_T[[#Data],[#Totals],[Typ]:[Typ]],0),MATCH(Medel_T[[#Headers],[D 4AM]],Sum_T[#Headers],0)))))))),\"0\"&IF(1-(INT(LOG10(ABS(24*IFERROR(INDEX(Medel_T[],Medel_T[[#This Row],[Nr]:[Nr]],Medel_T[[#Totals],[D 4AM]]),INDEX(Sum_T[[#Data],[#Totals]],MATCH(Medel_T[[#This Row],[Nr]:[Nr]],Sum_T[[#Data],[#Totals],[Typ]:[Typ]],0),MATCH(Medel_T[[#Headers],[D 4AM]],Sum_T[#Headers],0)))))))>0,\",\"&REPT(\"0\",1-(INT(LOG10(ABS(24*IFERROR(INDEX(Medel_T[],Medel_T[[#This Row],[Nr]:[Nr]],Medel_T[[#Totals],[D 4AM]]),INDEX(Sum_T[[#Data],[#Totals]],MATCH(Medel_T[[#This Row],[Nr]:[Nr]],Sum_T[[#Data],[#Totals],[Typ]:[Typ]],0),MATCH(Medel_T[[#Headers],[D 4AM]],Sum_T[#Headers],0)))))))),0)),0),\"\")","v":{"$error":"#N/A"}},{"$f":"IFERROR(INDEX(Medel_T[],Medel_T[[#This Row],[Nr]],Medel_T[[#Totals],[15AM_T]]),\"\")","v":""},{"$f":"IFERROR(IF(LEN(Medel_T[[#This Row],[Nr]:[Nr]])>0,IFERROR(TEXT(ROUND(24*IFERROR(INDEX(Medel_T[],Medel_T[[#This Row],[Nr]:[Nr]],Medel_T[[#Totals],[D 15AM]]),INDEX(Sum_T[[#Data],[#Totals]],MATCH(Medel_T[[#This Row],[Nr]:[Nr]],Sum_T[[#Data],[#Totals],[Typ]:[Typ]],0),MATCH(Medel_T[[#Headers],[D 15AM]],Sum_T[#Headers],0))),1-(INT(LOG10(ABS(24*IFERROR(INDEX(Medel_T[],Medel_T[[#This Row],[Nr]:[Nr]],Medel_T[[#Totals],[D 15AM]]),INDEX(Sum_T[[#Data],[#Totals]],MATCH(Medel_T[[#This Row],[Nr]:[Nr]],Sum_T[[#Data],[#Totals],[Typ]:[Typ]],0),MATCH(Medel_T[[#Headers],[D 15AM]],Sum_T[#Headers],0)))))))),\"0\"&IF(1-(INT(LOG10(ABS(24*IFERROR(INDEX(Medel_T[],Medel_T[[#This Row],[Nr]:[Nr]],Medel_T[[#Totals],[D 15AM]]),INDEX(Sum_T[[#Data],[#Totals]],MATCH(Medel_T[[#This Row],[Nr]:[Nr]],Sum_T[[#Data],[#Totals],[Typ]:[Typ]],0),MATCH(Medel_T[[#Headers],[D 15AM]],Sum_T[#Headers],0)))))))>0,\",\"&REPT(\"0\",1-(INT(LOG10(ABS(24*IFERROR(INDEX(Medel_T[],Medel_T[[#This Row],[Nr]:[Nr]],Medel_T[[#Totals],[D 15AM]]),INDEX(Sum_T[[#Data],[#Totals]],MATCH(Medel_T[[#This Row],[Nr]:[Nr]],Sum_T[[#Data],[#Totals],[Typ]:[Typ]],0),MATCH(Medel_T[[#Headers],[D 15AM]],Sum_T[#Headers],0)))))))),0)),0),\"\"),\"\")","v":""},{"$f":"IFERROR(INDEX(Medel_T[],Medel_T[[#This Row],[Nr]],Medel_T[[#Totals],[20-10D_T]]),\"\")","v":""},{"$f":"IF(LEN(Medel_T[[#This Row],[Nr]:[Nr]])>0,IFERROR(TEXT(ROUND(24*IFERROR(INDEX(Medel_T[],Medel_T[[#This Row],[Nr]:[Nr]],Medel_T[[#Totals],[D 20-10D]]),INDEX(Sum_T[[#Data],[#Totals]],MATCH(Medel_T[[#This Row],[Nr]:[Nr]],Sum_T[[#Data],[#Totals],[Typ]:[Typ]],0),MATCH(Medel_T[[#Headers],[D 20-10D]],Sum_T[#Headers],0))),1-(INT(LOG10(ABS(24*IFERROR(INDEX(Medel_T[],Medel_T[[#This Row],[Nr]:[Nr]],Medel_T[[#Totals],[D 20-10D]]),INDEX(Sum_T[[#Data],[#Totals]],MATCH(Medel_T[[#This Row],[Nr]:[Nr]],Sum_T[[#Data],[#Totals],[Typ]:[Typ]],0),MATCH(Medel_T[[#Headers],[D 20-10D]],Sum_T[#Headers],0)))))))),\"0\"&IF(1-(INT(LOG10(ABS(24*IFERROR(INDEX(Medel_T[],Medel_T[[#This Row],[Nr]:[Nr]],Medel_T[[#Totals],[D 20-10D]]),INDEX(Sum_T[[#Data],[#Totals]],MATCH(Medel_T[[#This Row],[Nr]:[Nr]],Sum_T[[#Data],[#Totals],[Typ]:[Typ]],0),MATCH(Medel_T[[#Headers],[D 20-10D]],Sum_T[#Headers],0)))))))>0,\",\"&REPT(\"0\",1-(INT(LOG10(ABS(24*IFERROR(INDEX(Medel_T[],Medel_T[[#This Row],[Nr]:[Nr]],Medel_T[[#Totals],[D 20-10D]]),INDEX(Sum_T[[#Data],[#Totals]],MATCH(Medel_T[[#This Row],[Nr]:[Nr]],Sum_T[[#Data],[#Totals],[Typ]:[Typ]],0),MATCH(Medel_T[[#Headers],[D 20-10D]],Sum_T[#Headers],0)))))))),0)),0),\"\")","v":{"$error":"#N/A"}},null,{"$f":"IFERROR(INDEX(Hin_T[Nr],MATCH(SMALL(Hin_T[B-årX],ROW()-ROW(Hut_T[[#Headers],[Rad]])),Hin_T[B-årX],0)),IF(ROWS($EB$19:EB34)=1+COUNTIF(Hin_T[Start],\"*\"),Hin_T[[#Totals],[Dag]],IF(AND(ROWS($EB$19:EB34)=2+COUNTIF(Hin_T[Start],\"*\"),Hin_T[[#Totals],[Q%-]]>0),EB33+1,IF(AND(ROWS($EB$19:EB34)=3+COUNTIF(Hin_T[Start],\"*\"),Hin_T[[#Totals],[Q%-]]>1),EB33+1,IF(AND(ROWS($EB$19:EB34)=4+COUNTIF(Hin_T[Start],\"*\"),Hin_T[[#Totals],[Q%-]]>2),EB33+1,\"\")))))","v":""},{"$f":"IF(Hut_T[[#This Row],[Rad]]<Hin_T[[#Totals],[Dag]],ROWS($EB$19:EB34),IFERROR(INDEX(BD_TX[[#Data],[#Totals],[SJ]],MATCH(Hut_T[[#This Row],[Rad]],BD_TX[[#Data],[#Totals],[NrX]],0)),\"\"))","v":""},{"$f":"IF(ISNUMBER(Hut_T[[#This Row],[Datum-]]),TEXT(Hut_T[[#This Row],[Datum-]],\"ÅÅÅÅ MMM\")&\"-\"&TEXT(Hut_T[[#This Row],[Datum+]],\"ÅÅÅÅ MMM\"),\"\")","v":""},{"$f":"IF(ISNUMBER(Hut_T[[#This Row],[Nr]]),IF(INDEX(Hin_T[Yrke],Hut_T[[#This Row],[Rad]])>0,INDEX(Hin_T[Yrke],Hut_T[[#This Row],[Rad]]),\"\"),IFERROR(INDEX(BD_TX[[#Data],[#Totals],[Text]],MATCH(Hut_T[[#This Row],[Rad]],BD_TX[[#Data],[#Totals],[NrX]],0)),\"\"))","v":""},{"$f":"IF(ISNUMBER(Hut_T[[#This Row],[Nr]]),IF(INDEX(Hin_T[Arbetsmoment],Hut_T[[#This Row],[Rad]])>0,INDEX(Hin_T[Arbetsmoment],Hut_T[[#This Row],[Rad]]),\"\"),\"\")","v":""},{"$f":"IFERROR(IF(INDEX(Hin_T[Yrke],Hut_T[[#This Row],[Rad]])>0,INDEX(Hin_T[Företag],Hut_T[[#This Row],[Rad]]),\"\"),\"\")","v":""},{"$f":"IFERROR(IF(INDEX(Hin_T[Dag],Hut_T[[#This Row],[Rad]])>0,INDEX(Hin_T[Dag],Hut_T[[#This Row],[Rad]])*DÅ[Arbetsdag/år],\"\"),\"\")","v":""},{"$f":"IF(AND(ISNUMBER(_xlfn.SINGLE(Hut_T[[#This Row],[Rad]:[Rad]])),IFERROR(_xlfn.SINGLE(INDEX(Hin_T[[#Data],[#Totals]],_xlfn.SINGLE(Hut_T[[#This Row],[Rad]:[Rad]]),MATCH(Hut_T[[#Headers],[D HöA]],Hin_T[#Headers],0))),\"\")),IFERROR(ROUND(_xlfn.SINGLE(INDEX(Hin_T[[#Data],[#Totals]],_xlfn.SINGLE(Hut_T[[#This Row],[Rad]:[Rad]])-IF(_xlfn.SINGLE(Hut_T[[#This Row],[Nr]:[Nr]])=_xlfn.SINGLE(#REF!),COUNT(Besvär_T[[Sjukdomsdebut]:[Sjukdomsdebut]]),0),MATCH(_xlfn.SINGLE(IF(_xlfn.SINGLE(Hut_T[[#This Row],[Nr]:[Nr]])=_xlfn.SINGLE(#REF!),#REF!,\"\"))&Hut_T[[#Headers],[D HöA]],Hin_T[#Headers],0))),0),\"\"),\"\")","v":""},{"$f":"IF(AND(ISNUMBER(Hut_T[[#This Row],[Rad]:[Rad]]),ISNUMBER(Hut_T[[#This Row],[D HöA]]),ISNUMBER(Hut_T[[#This Row],[Nr]:[Nr]])),IFERROR(ROUND(INDEX(Hin_T[[#Data],[#Totals]],Hut_T[[#This Row],[Rad]:[Rad]],MATCH(Hut_T[[#Headers],[HöA-A]],Hin_T[#Headers],0)),1-(INT(LOG10(INDEX(Hin_T[[#Data],[#Totals]],Hut_T[[#This Row],[Rad]:[Rad]],MATCH(Hut_T[[#Headers],[HöA-A]],Hin_T[#Headers],0)))))),1),\"\")","v":""},{"$f":"IF(AND(ISNUMBER(Hut_T[[#This Row],[Rad]:[Rad]]),IFERROR(INDEX(Hin_T[[#Data],[#Totals]],Hut_T[[#This Row],[Rad]:[Rad]],MATCH(Hut_T[[#Headers],[D AöA]],Hin_T[#Headers],0)),\"\")),IFERROR(ROUND(INDEX(Hin_T[[#Data],[#Totals]],Hut_T[[#This Row],[Rad]:[Rad]]-IF(Hut_T[[#This Row],[Nr]:[Nr]]=BD_TX[[SJ]:[SJ]],COUNT(Besvär_T[[Sjukdomsdebut]:[Sjukdomsdebut]]),0),MATCH(IF(Hut_T[[#This Row],[Nr]:[Nr]]=BD_TX[[#Totals],[SJ]:[SJ]],BD_TX[[#Headers],[SJ]],\"\")&Hut_T[[#Headers],[D AöA]],Hin_T[#Headers],0)),0),\"\"),\"\")","v":""},{"$f":"IF(AND(ISNUMBER(Hut_T[[#This Row],[Rad]:[Rad]]),ISNUMBER(Hut_T[[#This Row],[D AöA]]),ISNUMBER(Hut_T[[#This Row],[Nr]:[Nr]])),IFERROR(ROUND(INDEX(Hin_T[[#Data],[#Totals]],Hut_T[[#This Row],[Rad]:[Rad]],MATCH(Hut_T[[#Headers],[AöA-A]],Hin_T[#Headers],0)),1-(INT(LOG10(INDEX(Hin_T[[#Data],[#Totals]],Hut_T[[#This Row],[Rad]:[Rad]],MATCH(Hut_T[[#Headers],[AöA-A]],Hin_T[#Headers],0)))))),1),\"\")","v":""},{"$f":"IF(AND(ISNUMBER(_xlfn.SINGLE(Hut_T[[#This Row],[Rad]:[Rad]])),IFERROR(_xlfn.SINGLE(INDEX(Hin_T[[#Data],[#Totals]],_xlfn.SINGLE(Hut_T[[#This Row],[Rad]:[Rad]]),MATCH(Hut_T[[#Headers],[D 4AM]],Hin_T[#Headers],0))),\"\")),IFERROR(ROUND(_xlfn.SINGLE(INDEX(Hin_T[[#Data],[#Totals]],_xlfn.SINGLE(Hut_T[[#This Row],[Rad]:[Rad]])-IF(_xlfn.SINGLE(Hut_T[[#This Row],[Nr]:[Nr]])=_xlfn.SINGLE(#REF!),COUNT(Besvär_T[[Sjukdomsdebut]:[Sjukdomsdebut]]),0),MATCH(_xlfn.SINGLE(IF(_xlfn.SINGLE(Hut_T[[#This Row],[Nr]:[Nr]])=_xlfn.SINGLE(#REF!),#REF!,\"\"))&Hut_T[[#Headers],[D 4AM]],Hin_T[#Headers],0))),0),\"\"),\"\")","v":""},{"$f":"IF(AND(ISNUMBER(Hut_T[[#This Row],[Rad]:[Rad]]),ISNUMBER(Hut_T[[#This Row],[D 4AM]]),ISNUMBER(Hut_T[[#This Row],[Nr]:[Nr]])),IFERROR(ROUND(INDEX(Hin_T[[#Data],[#Totals]],Hut_T[[#This Row],[Rad]:[Rad]],MATCH(Hut_T[[#Headers],[4AM-A]],Hin_T[#Headers],0)),1-(INT(LOG10(INDEX(Hin_T[[#Data],[#Totals]],Hut_T[[#This Row],[Rad]:[Rad]],MATCH(Hut_T[[#Headers],[4AM-A]],Hin_T[#Headers],0)))))),1),\"\")","v":""},{"$f":"IF(AND(ISNUMBER(Hut_T[[#This Row],[Rad]:[Rad]]),IFERROR(INDEX(Hin_T[[#Data],[#Totals]],Hut_T[[#This Row],[Rad]:[Rad]],MATCH(Hut_T[[#Headers],[D 15AM]],Hin_T[#Headers],0)),\"\")),IFERROR(ROUND(INDEX(Hin_T[[#Data],[#Totals]],Hut_T[[#This Row],[Rad]:[Rad]]-IF(Hut_T[[#This Row],[Nr]:[Nr]]=BD_TX[[SJ]:[SJ]],COUNT(Besvär_T[[Sjukdomsdebut]:[Sjukdomsdebut]]),0),MATCH(IF(Hut_T[[#This Row],[Nr]:[Nr]]=BD_TX[[#Totals],[SJ]:[SJ]],BD_TX[[#Headers],[SJ]],\"\")&Hut_T[[#Headers],[D 15AM]],Hin_T[#Headers],0)),0),\"\"),\"\")","v":""},{"$f":"IF(AND(ISNUMBER(Hut_T[[#This Row],[Rad]:[Rad]]),ISNUMBER(Hut_T[[#This Row],[D 15AM]]),ISNUMBER(Hut_T[[#This Row],[Nr]:[Nr]])),IFERROR(ROUND(INDEX(Hin_T[[#Data],[#Totals]],Hut_T[[#This Row],[Rad]:[Rad]],MATCH(Hut_T[[#Headers],[15AM-A]],Hin_T[#Headers],0)),1-(INT(LOG10(INDEX(Hin_T[[#Data],[#Totals]],Hut_T[[#This Row],[Rad]:[Rad]],MATCH(Hut_T[[#Headers],[15AM-A]],Hin_T[#Headers],0)))))),1),\"\")","v":""},{"$f":"IF(AND(ISNUMBER(Hut_T[[#This Row],[Rad]:[Rad]]),IFERROR(INDEX(Hin_T[[#Data],[#Totals]],Hut_T[[#This Row],[Rad]:[Rad]],MATCH(Hut_T[[#Headers],[D 20-10D]],Hin_T[#Headers],0)),\"\")),IFERROR(ROUND(INDEX(Hin_T[[#Data],[#Totals]],Hut_T[[#This Row],[Rad]:[Rad]]-IF(Hut_T[[#This Row],[Nr]:[Nr]]=BD_TX[[SJ]:[SJ]],COUNT(Besvär_T[[Sjukdomsdebut]:[Sjukdomsdebut]]),0),MATCH(IF(Hut_T[[#This Row],[Nr]:[Nr]]=BD_TX[[#Totals],[SJ]:[SJ]],BD_TX[[#Headers],[SJ]],\"\")&Hut_T[[#Headers],[D 20-10D]],Hin_T[#Headers],0)),0),\"\"),\"\")","v":""},{"$f":"IF(AND(ISNUMBER(Hut_T[[#This Row],[Rad]:[Rad]]),ISNUMBER(Hut_T[[#This Row],[D 20-10D]]),ISNUMBER(Hut_T[[#This Row],[Nr]:[Nr]])),IFERROR(ROUND(INDEX(Hin_T[[#Data],[#Totals]],Hut_T[[#This Row],[Rad]:[Rad]],MATCH(Hut_T[[#Headers],[20-10D-A]],Hin_T[#Headers],0)),1-(INT(LOG10(INDEX(Hin_T[[#Data],[#Totals]],Hut_T[[#This Row],[Rad]:[Rad]],MATCH(Hut_T[[#Headers],[20-10D-A]],Hin_T[#Headers],0)))))),1),\"\")","v":""},null,{"$f":"IFERROR(INDEX(Hin_T[[#Data],[#Totals],[B-år]],Hut_T[[#This Row],[Rad]]),IF(ISNUMBER(Hut_T[[#This Row],[Datum+]]),ET33,\"\"))","v":""},{"$f":"IFERROR(INDEX(Hin_T[S-år],Hut_T[[#This Row],[Rad]]),IFERROR(INDEX(BD_TX[[#Data],[#Totals],[År]],MATCH(Hut_T[[#This Row],[Rad]],BD_TX[[#Data],[#Totals],[NrX]],0)),\"\"))","v":""},null,{"$f":"ROWS($EW$20:EW34)","v":15},{"$f":"IFERROR(MATCH(Hist_Tab[[#This Row],[Ref]],Medel_T[NrX],0),1)","v":1},{"$f":"INT((ROW(Hist_Tab[[#This Row],[Ref]])-ROW(Hist_Tab[[#Headers],[Ref]])-1)/4)+1","v":4},{"$f":"COUNTIF($EY$19:EY34,Hist_Tab[[#This Row],[Ref]])","v":4},{"$f":"IFERROR(INDEX(Medel_T[Start],Hist_Tab[[#This Row],[Ref]]),_xlfn.AGGREGATE(4,6,Medel_T[Start]))","v":"00:00:00"},{"$f":"IFERROR(INDEX(Medel_T[Slut],Hist_Tab[[#This Row],[Ref]]),_xlfn.AGGREGATE(4,6,Medel_T[Slut]))","v":"00:00:00"},{"$f":"IF(EW33=0,Hist_Tab[[#This Row],[ÅrB]],IF(Hist_Tab[[#This Row],[per/p]]<2,Hist_Tab[[#This Row],[ÅrB]],Hist_Tab[[#This Row],[År S]]))","v":"00:00:00"},{"$f":"IF(Hist_Tab[[#This Row],[Rad]:[Rad]]=0,-1,IF($EY35>_xlfn.AGGREGATE(2,6,Medel_T[[Slut]:[Slut]]),0,INDEX(Medel_T[],Hist_Tab[[#This Row],[Ref]:[Ref]],MATCH(Hist_Tab[[#Headers],[HöA T]],Medel_T[#Headers],0))))","v":0},{"$f":"IF(Hist_Tab[[#This Row],[Rad]:[Rad]]=0,0,IF($EY35>_xlfn.AGGREGATE(2,6,Medel_T[[Slut]:[Slut]]),0,INDEX(Medel_T[],Hist_Tab[[#This Row],[Ref]:[Ref]],MATCH(Hist_Tab[[#Headers],[AöA T]],Medel_T[#Headers],0))))","v":0},{"$f":"IF(Hist_Tab[[#This Row],[Rad]:[Rad]]=0,0,IF($EY35>_xlfn.AGGREGATE(2,6,Medel_T[[Slut]:[Slut]]),0,INDEX(Medel_T[],Hist_Tab[[#This Row],[Ref]:[Ref]],MATCH(Hist_Tab[[#Headers],[4AM T]],Medel_T[#Headers],0))))","v":0},{"$f":"IF(Hist_Tab[[#This Row],[Rad]:[Rad]]=0,0,IF($EY35>_xlfn.AGGREGATE(2,6,Medel_T[[Slut]:[Slut]]),0,INDEX(Medel_T[],Hist_Tab[[#This Row],[Ref]:[Ref]],MATCH(Hist_Tab[[#Headers],[15AM T]],Medel_T[#Headers],0))))","v":0},{"$f":"IF(Hist_Tab[[#This Row],[Rad]:[Rad]]=0,0,IF($EY35>_xlfn.AGGREGATE(2,6,Medel_T[[Slut]:[Slut]]),0,INDEX(Medel_T[],Hist_Tab[[#This Row],[Ref]:[Ref]],MATCH(Hist_Tab[[#Headers],[20-10D T]],Medel_T[#Headers],0))))","v":0}]
[null,null,null,null,null,null,null,null,null,null,null,null,null,null,null,null,null,null,{"$f":"IF(LEN(Hin_T[[#This Row],[Start]])>0,ROWS($S$19:S35),\"\")","v":""},null,{"$f":"Hin_T[[#This Row],[Yrke]]&IF(ISBLANK(Hin_T[[#This Row],[Arbetsmoment]]),\"\",\"; \"&Hin_T[[#This Row],[Arbetsmoment]])","v":""},{"$f":"IFERROR(IF(LEN(Hin_T[[#This Row],[Start]])-LEN(SUBSTITUTE(Hin_T[[#This Row],[Start]],\"-\",\"\"))=2,DATEVALUE(Hin_T[[#This Row],[Start]]),IF(LEN(Hin_T[[#This Row],[Start]])<5,DATEVALUE(Hin_T[[#This Row],[Start]]&\"-01-01\"),DATEVALUE(LEFT(Hin_T[[#This Row],[Start]],IF(LEN(Hin_T[[#This Row],[Start]])>6,4,2))&\"-\"&MID(Hin_T[[#This Row],[Start]],IF(LEN(Hin_T[[#This Row],[Start]])>6,5,3),2)&\"-\"&RIGHT(Hin_T[[#This Row],[Start]],2)))),\"\")","v":""},{"$f":"IFERROR(IF(LEN(Hin_T[[#This Row],[Slut]])-LEN(SUBSTITUTE(Hin_T[[#This Row],[Slut]],\"-\",\"\"))=2,DATEVALUE(Hin_T[[#This Row],[Slut]]),IF(LEN(Hin_T[[#This Row],[Slut]])<5,DATEVALUE(Hin_T[[#This Row],[Slut]]&\"-12-31\"),DATEVALUE(LEFT(Hin_T[[#This Row],[Slut]],IF(LEN(Hin_T[[#This Row],[Slut]])>6,4,2))&\"-\"&MID(Hin_T[[#This Row],[Slut]],IF(LEN(Hin_T[[#This Row],[Slut]])>6,5,3),2)&\"-\"&RIGHT(Hin_T[[#This Row],[Slut]],2)))),\"\")","v":""},{"$f":"IF(COUNTIF(V$19:V35,Hin_T[[#This Row],[B-år]])=1,Hin_T[[#This Row],[B-år]],\"\")","v":""},{"$f":"IF(COUNTIF(W$19:W35,Hin_T[[#This Row],[S-år]])=1,Hin_T[[#This Row],[S-år]],\"\")","v":""},{"$f":"IFERROR(Hin_T[[#This Row],[B-år]]+IF(COUNTIF($V$19:V35,Hin_T[[#This Row],[B-år]])>1,COUNTIF($V$19:V35,Hin_T[[#This Row],[B-år]])/10,0),\"\")","v":""},{"$f":"IF(ISNUMBER(Hin_T[[#This Row],[Dagar]]),Hin_T[[#This Row],[Dagar]]/DÅ[Arbetsdag/år],1)","v":1},{"$f":"Hin_T[[#This Row],[Dag]]*DÅ[Arbetsdag/år]","v":220},{"$f":"IF(LEN(Hin_T[[#This Row],[Yrke]])=4,1,0)","v":0},{"$f":"_xlfn.DAYS(Hin_T[[#This Row],[B-år]],DATE(YEAR(Hin_T[[#This Row],[B-år]]),1,1))/(DATE(YEAR(Hin_T[[#This Row],[B-år]])+1,1,1)-DATE(YEAR(Hin_T[[#This Row],[B-år]]),1,1))","v":{"$error":"#VALUE!"}},{"$f":"_xlfn.DAYS(DATE(YEAR(Hin_T[[#This Row],[S-år]]),12,31),Hin_T[[#This Row],[S-år]])/(DATE(YEAR(Hin_T[[#This Row],[S-år]])+1,1,1)-DATE(YEAR(Hin_T[[#This Row],[S-år]]),1,1))","v":{"$error":"#VALUE!"}},{"$f":"YEARFRAC(Hin_T[[#This Row],[S-år]],Hin_T[[#This Row],[B-år]])*Hin_T[[#This Row],[Dag]]","v":{"$error":"#VALUE!"}},{"$f":"IFERROR(Hin_T[[#This Row],[År diff]]*IF(ISNUMBER(Hin_T[[#This Row],[HöA]]),1,0),0)","v":0},{"$f":"IFERROR(Hin_T[[#This Row],[År diff]]*IF(ISNUMBER(Hin_T[[#This Row],[AöA]]),1,0),0)","v":0},{"$f":"IF(Hin_T[[#This Row],[B-år]]<=Besvär_T[[#Totals],[Sjukdomsdebut]],Hin_T[[#This Row],[B-år]],\"\")","v":""},{"$f":"IF(Hin_T[[#This Row],[S-år]]<=Besvär_T[[#Totals],[Sjukdomsdebut]],Hin_T[[#This Row],[S-år]],\"\")","v":""},{"$f":"IFERROR(YEARFRAC(IF(AND(ISNUMBER(Hin_T[[#This Row],[B-år EA]]),LEN(Hin_T[[#This Row],[S-år EA]])=0),Hin_T[[#Totals],[15AM-A]],Hin_T[[#This Row],[S-år EA]]),Hin_T[[#This Row],[B-år EA]])*Hin_T[[#This Row],[Dag]]*IF(ISNUMBER(Hin_T[[#This Row],[HöA]]),1,0),0)","v":0},{"$f":"IFERROR(YEARFRAC(IF(AND(ISNUMBER(Hin_T[[#This Row],[B-år EA]]),LEN(Hin_T[[#This Row],[S-år EA]])=0),Hin_T[[#Totals],[15AM-A]],Hin_T[[#This Row],[S-år EA]]),Hin_T[[#This Row],[B-år EA]])*Hin_T[[#This Row],[Dag]]*IF(ISNUMBER(Hin_T[[#This Row],[AöA]]),1,0),0)","v":0},{"$f":"IFERROR(Hin_T[[#This Row],[År diff]]*IF(ISNUMBER(Hin_T[[#This Row],[4AM]]),1,0),0)","v":0},{"$f":"IFERROR(Hin_T[[#This Row],[År diff]]*IF(ISNUMBER(Hin_T[[#This Row],[15AM]]),1,0),0)","v":0},{"$f":"IF(Hin_T[[#This Row],[B-år]]<=Besvär_T[[#Totals],[Sjukdomsdebut]],Hin_T[[#This Row],[B-år]],\"\")","v":""},{"$f":"IF(Hin_T[[#This Row],[S-år]]<=Besvär_T[[#Totals],[Sjukdomsdebut]],Hin_T[[#This Row],[S-år]],\"\")","v":""},{"$f":"IFERROR(YEARFRAC(IF(AND(ISNUMBER(Hin_T[[#This Row],[B-år RA]]),LEN(Hin_T[[#This Row],[S-år RA]])=0),Hin_T[[#Totals],[15AM-A]],Hin_T[[#This Row],[S-år RA]]),Hin_T[[#This Row],[B-år RA]])*Hin_T[[#This Row],[Dag]]*IF(ISNUMBER(Hin_T[[#This Row],[4AM]]),1,0),0)","v":0},{"$f":"IFERROR(YEARFRAC(IF(AND(ISNUMBER(Hin_T[[#This Row],[B-år RA]]),LEN(Hin_T[[#This Row],[S-år RA]])=0),Hin_T[[#Totals],[15AM-A]],Hin_T[[#This Row],[S-år RA]]),Hin_T[[#This Row],[B-år RA]])*Hin_T[[#This Row],[Dag]]*IF(ISNUMBER(Hin_T[[#This Row],[15AM]]),1,0),0)","v":0},{"$f":"IFERROR(Hin_T[[#This Row],[År diff]]*IF(ISNUMBER(Hin_T[[#This Row],[20-10D]]),1,0),0)","v":0},{"$f":"IF(Hin_T[[#This Row],[B-år]]<=Besvär_T[[#Totals],[Sjukdomsdebut]],Hin_T[[#This Row],[B-år]],\"\")","v":""},{"$f":"IF(Hin_T[[#This Row],[S-år]]<=Besvär_T[[#Totals],[Sjukdomsdebut]],Hin_T[[#This Row],[S-år]],\"\")","v":""},{"$f":"IFERROR(YEARFRAC(IF(AND(ISNUMBER(Hin_T[[#This Row],[B-år TMH]]),LEN(Hin_T[[#This Row],[S-år TMH]])=0),Hin_T[[#Totals],[15AM-A]],Hin_T[[#This Row],[S-år TMH]]),Hin_T[[#This Row],[B-år TMH]])*Hin_T[[#This Row],[Dag]]*IF(ISNUMBER(Hin_T[[#This Row],[20-10D]]),1,0),0)","v":0},{"$f":"IF(Hin_T[[#This Row],[Vib]]=JN_T[JN],1,0)","v":0},{"$f":"IFERROR(Hin_T[[#This Row],[År diff]]*IF(Hin_T[[#This Row],[Vib2]]>0,1,0),0)","v":0},{"$f":"IF(Hin_T[[#This Row],[B-år]]<=Besvär_T[[#Totals],[Sjukdomsdebut]],Hin_T[[#This Row],[B-år]],\"\")","v":""},{"$f":"IF(Hin_T[[#This Row],[S-år]]<=Besvär_T[[#Totals],[Sjukdomsdebut]],Hin_T[[#This Row],[S-år]],\"\")","v":""},{"$f":"IFERROR(YEARFRAC(IF(AND(ISNUMBER(Hin_T[[#This Row],[B-år VIB]]),LEN(Hin_T[[#This Row],[S-år Vib]])=0),Hin_T[[#Totals],[15AM-A]],Hin_T[[#This Row],[S-år Vib]]),Hin_T[[#This Row],[B-år VIB]])*IF(Hin_T[[#This Row],[Vib2]]>0,1,0),0)","v":0},{"$f":"Hin_T[[#This Row],[HöA]]*Hin_T[[#This Row],[tot år HöA]]*DÅ[Arbetsdag/år]","v":0},{"$f":"Hin_T[[#This Row],[tot år AöA]]*Hin_T[[#This Row],[AöA]]*DÅ[Arbetsdag/år]","v":0},{"$f":"Hin_T[[#This Row],[tot år 4AM]]*Hin_T[[#This Row],[4AM]]*DÅ[Arbetsdag/år]","v":0},{"$f":"Hin_T[[#This Row],[tot år 15AM]]*Hin_T[[#This Row],[15AM]]*DÅ[Arbetsdag/år]","v":0},{"$f":"Hin_T[[#This Row],[tot år 20-10D]]*Hin_T[[#This Row],[20-10D]]*DÅ[Arbetsdag/år]","v":0},{"$f":"Hin_T[[#This Row],[BD år HöA]]*Hin_T[[#This Row],[HöA]]*DÅ[Arbetsdag/år]","v":0},{"$f":"Hin_T[[#This Row],[BD år AöA]]*Hin_T[[#This Row],[AöA]]*DÅ[Arbetsdag/år]","v":0},{"$f":"Hin_T[[#This Row],[BD år 4AM]]*Hin_T[[#This Row],[4AM]]*DÅ[Arbetsdag/år]","v":0},{"$f":"Hin_T[[#This Row],[BD år 15AM]]*Hin_T[[#This Row],[15AM]]*DÅ[Arbetsdag/år]","v":0},{"$f":"Hin_T[[#This Row],[BD år 20-10D]]*Hin_T[[#This Row],[20-10D]]*DÅ[Arbetsdag/år]","v":0},{"$f":"Hin_T[[#This Row],[Arbetsmoment]]&Hin_T[[#This Row],[Text AöA]]&Hin_T[[#This Row],[Text 15AM]]&IF(Hin_T[[#This Row],[Dagarna]]=DÅ[Arbetsdag/år],\"\",\". \"&Hin_T[[#This Row],[Dagarna]]&\" dagar/år\")&\". \"","v":". "},{"$f":"IF(ISBLANK(Hin_T[[#This Row],[AöA]]),\"\",Exp_T[Överarmslyft> 90°: ]&IF(VALUE(TEXT(Hin_T[[#This Row],[AöA]],\"t\"))>0,VALUE(TEXT(Hin_T[[#This Row],[AöA]],\"t\"))&\" h\",\"\")&IF(AND(VALUE(TEXT(Hin_T[[#This Row],[AöA]],\"t\"))>0,VALUE(TEXT(Hin_T[[#This Row],[AöA]],\"m\"))>2.4),\" \",\"\")&IF(VALUE(TEXT(Hin_T[[#This Row],[AöA]],\"m\"))>2.4,TEXT(ROUND(Hin_T[[#This Row],[AöA]]*(24*60/5),0)/(24*60/5),\"m\")&\" min\",\"\")&\"/dag\")","v":""},{"$f":"IF(ISBLANK(Hin_T[[#This Row],[15AM]]),\"\",Exp_T[Överarmsrörelser> 15/min: ]&IF(VALUE(TEXT(Hin_T[[#This Row],[15AM]],\"t\"))>0,VALUE(TEXT(Hin_T[[#This Row],[15AM]],\"t\"))&\" h\",\"\")&IF(AND(VALUE(TEXT(Hin_T[[#This Row],[15AM]],\"t\"))>0,VALUE(TEXT(Hin_T[[#This Row],[15AM]],\"m\"))>2.4),\" \",\"\")&IF(VALUE(TEXT(Hin_T[[#This Row],[15AM]],\"m\"))>2.4,TEXT(ROUND(Hin_T[[#This Row],[15AM]]*(24*60/5),0)/(24*60/5),\"m\")&\" min\",\"\")&\"/dag\")","v":""},null,null,null,null,{"$f":"SMALL(Hin_T[[StartÅR]:[SlutÅr]],ROW()-ROW(Medel_T[[#Headers],[Start]]))","v":{"$error":"#NUM!"}},{"$f":"SMALL(Hin_T[[StartÅR]:[SlutÅr]],ROW()-ROW(Medel_T[[#Headers],[Slut]])+1)","v":{"$error":"#NUM!"}},{"$f":"IF(Medel_T[[#This Row],[Start]]<=Besvär_T[[#Totals],[Sjukdomsdebut]],Medel_T[[#This Row],[Start]],\"\")","v":{"$error":"#NUM!"}},{"$f":"IF(Medel_T[[#This Row],[Slut]]<=Besvär_T[[#Totals],[Sjukdomsdebut]],Medel_T[[#This Row],[Slut]],IF(AND(LEN(Medel_T[[#This Row],[SJDstart]])>0,LEN(BU36)=0),Besvär_T[[#Totals],[Sjukdomsdebut]],\"\"))","v":{"$error":"#NUM!"}},{"$f":"IF(Medel_T[[#This Row],[Start]]>=Besvär_T[[#Totals],[Sjukdomsdebut]],Medel_T[[#This Row],[Start]],IF(AND(LEN(Medel_T[[#This Row],[EfterSlut]])>0,LEN(BX34)=0),Besvär_T[[#Totals],[Sjukdomsdebut]],\"\"))","v":{"$error":"#NUM!"}},{"$f":"IF(Medel_T[[#This Row],[Slut]]>=Besvär_T[[#Totals],[Sjukdomsdebut]],Medel_T[[#This Row],[Slut]],\"\")","v":{"$error":"#NUM!"}},{"$f":"COUNTIF($BZ$19:BZ35,\">0\")","v":0},{"$f":"COUNTIFS(Hin_T[B-år],\"<=\"&Medel_T[[#This Row],[Start]],Hin_T[S-år],\">=\"&Medel_T[[#This Row],[Slut]])","v":0},{"$f":"SUBSTITUTE(_xlfn.TEXTJOIN(Sep_T[Separator],TRUE,_xlfn._xlws.SORT(_xlfn.UNIQUE(IF((Hin_T[[B-år]:[B-år]]<=Medel_T[[#This Row],[Start]:[Start]])*(Hin_T[[S-år]:[S-år]]>=Medel_T[[#This Row],[Slut]:[Slut]]),Hin_T[Yrke],\"\")))),0&Sep_T[Separator],\"\")","v":{"$error":"#NUM!"}},{"$f":"SUBSTITUTE(_xlfn.TEXTJOIN(Sep_T[Separator],TRUE,_xlfn._xlws.SORT(_xlfn.UNIQUE(IF((Hin_T[[B-år]:[B-år]]<=Medel_T[[#This Row],[Start]:[Start]])*(Hin_T[[S-år]:[S-år]]>=Medel_T[[#This Row],[Slut]:[Slut]]),Hin_T[Arbetsmoment],\"\")))),0&Sep_T[Separator],\"\")","v":{"$error":"#NUM!"}},{"$f":"IF(LEN(Medel_T[[#This Row],[Yrke]])>0,Medel_T[[#Headers],[Period ]]&Medel_T[[#This Row],[NrX]]&\": \"&TEXT(Medel_T[[#This Row],[Start]],\"ÅÅÅÅ\")&List_T[[#Totals],[List symb]]&TEXT(Medel_T[[#This Row],[Slut]],\"ÅÅÅÅ\")&\" (\"&ROUND(Medel_T[[#This Row],[År]],1)&\" år) Anställd som \"&IFERROR(SUBSTITUTE(SUBSTITUTE(Medel_T[[#This Row],[Yrke]],Sep_T[Separator],\" och \",Medel_T[[#This Row],[Ant]]-1),Sep_T[Separator],\", \"),Medel_T[[#This Row],[Yrke]])&↓[↓],\"\")","v":{"$error":"#NUM!"}},{"$f":"IF(LEN(Medel_T[[#This Row],[Arbetsmoment]])>0,ROMAN(1)&\") \"&_xlfn.TEXTJOIN(Delim[Delimiters],TRUE,_xlfn._xlws.SORT(_xlfn.UNIQUE(IF((Hin_T[[B-år]:[B-år]]<=Medel_T[[#This Row],[Start]:[Start]])*(Hin_T[[S-år]:[S-år]]>=Medel_T[[#This Row],[Slut]:[Slut]]),Hin_T[Text],\"\"))))&↓[↓],\"\")","v":{"$error":"#NUM!"}},{"$f":"SUMPRODUCT((Hin_T[[B-år]:[B-år]]<=Medel_T[[#This Row],[Start]:[Start]])*(Hin_T[[S-år]:[S-år]]>=Medel_T[[#This Row],[Slut]:[Slut]])*Hin_T[Dag])","v":{"$error":"#NUM!"}},{"$f":"IF(Medel_T[[#This Row],[Proc dag]]<=1,Medel_T[[#This Row],[Proc dag]],1)","v":{"$error":"#NUM!"}},{"$f":"YEARFRAC(Medel_T[[#This Row],[Slut]],Medel_T[[#This Row],[Start]])","v":{"$error":"#NUM!"}},{"$f":"YEARFRAC(Medel_T[[#This Row],[SJDslut]],Medel_T[[#This Row],[SJDstart]])","v":{"$error":"#NUM!"}},{"$f":"IFERROR(SUMPRODUCT((Hin_T[[B-år]:[B-år]]<=Medel_T[[#This Row],[Start]:[Start]])*(Hin_T[[S-år]:[S-år]]>=Medel_T[[#This Row],[Slut]:[Slut]])*Hin_T[HöA]*Hin_T[[Dag]:[Dag]])/Medel_T[[#This Row],[Proc dag]],-1)","v":-1},{"$f":"IFERROR(SUMPRODUCT((Hin_T[[B-år]:[B-år]]<=Medel_T[[#This Row],[Start]:[Start]])*(Hin_T[[S-år]:[S-år]]>=Medel_T[[#This Row],[Slut]:[Slut]])*Hin_T[AöA]*Hin_T[[Dag]:[Dag]])/Medel_T[[#This Row],[Proc dag]],-1)","v":-1},{"$f":"IFERROR(SUMPRODUCT((Hin_T[[B-år]:[B-år]]<=Medel_T[[#This Row],[Start]:[Start]])*(Hin_T[[S-år]:[S-år]]>=Medel_T[[#This Row],[Slut]:[Slut]])*Hin_T[4AM]*Hin_T[[Dag]:[Dag]])/Medel_T[[#This Row],[Proc dag]],-1)","v":-1},{"$f":"IFERROR(SUMPRODUCT((Hin_T[[B-år]:[B-år]]<=Medel_T[[#This Row],[Start]:[Start]])*(Hin_T[[S-år]:[S-år]]>=Medel_T[[#This Row],[Slut]:[Slut]])*Hin_T[15AM]*Hin_T[[Dag]:[Dag]])/Medel_T[[#This Row],[Proc dag]],-1)","v":-1},{"$f":"IFERROR(SUMPRODUCT((Hin_T[[B-år]:[B-år]]<=Medel_T[[#This Row],[Start]:[Start]])*(Hin_T[[S-år]:[S-år]]>=Medel_T[[#This Row],[Slut]:[Slut]])*Hin_T[20-10D]*Hin_T[[Dag]:[Dag]])/Medel_T[[#This Row],[Proc dag]],-1)","v":-1},{"$f":"IFERROR(SUMPRODUCT((Hin_T[[B-år]:[B-år]]<=Medel_T[[#This Row],[Start]:[Start]])*(Hin_T[[S-år]:[S-år]]>=Medel_T[[#This Row],[Slut]:[Slut]])*Hin_T[[Dag]:[Dag]]*Hin_T[HöA])/Medel_T[[#This Row],[Dag sum]],-1)","v":-1},{"$f":"IFERROR(SUMPRODUCT((Hin_T[[B-år]:[B-år]]<=Medel_T[[#This Row],[Start]:[Start]])*(Hin_T[[S-år]:[S-år]]>=Medel_T[[#This Row],[Slut]:[Slut]])*Hin_T[[Dag]:[Dag]]*Hin_T[AöA])/Medel_T[[#This Row],[Dag sum]],-1)","v":-1},{"$f":"IFERROR(SUMPRODUCT((Hin_T[[B-år]:[B-år]]<=Medel_T[[#This Row],[Start]:[Start]])*(Hin_T[[S-år]:[S-år]]>=Medel_T[[#This Row],[Slut]:[Slut]])*Hin_T[[Dag]:[Dag]]*Hin_T[4AM])/Medel_T[[#This Row],[Dag sum]],-1)","v":-1},{"$f":"IFERROR(SUMPRODUCT((Hin_T[[B-år]:[B-år]]<=Medel_T[[#This Row],[Start]:[Start]])*(Hin_T[[S-år]:[S-år]]>=Medel_T[[#This Row],[Slut]:[Slut]])*Hin_T[15AM]*Hin_T[[Dag]:[Dag]])/Medel_T[[#This Row],[Dag sum]],-1)","v":-1},{"$f":"IFERROR(SUMPRODUCT((Hin_T[[B-år]:[B-år]]<=Medel_T[[#This Row],[Start]:[Start]])*(Hin_T[[S-år]:[S-år]]>=Medel_T[[#This Row],[Slut]:[Slut]])*Hin_T[[Dag]:[Dag]]*Hin_T[20-10D])/Medel_T[[#This Row],[Dag sum]],-1)","v":-1},{"$f":"IFERROR(Medel_T[[#This Row],[Dag sum]:[Dag sum]]*Medel_T[[#This Row],[År]:[År]]*Medel_T[[#This Row],[HöA T]]*DÅ[Arbetsdag/år],0)","v":0},{"$f":"IFERROR(Medel_T[[#This Row],[Dag sum]:[Dag sum]]*Medel_T[[#This Row],[År]:[År]]*Medel_T[[#This Row],[AöA T]]*DÅ[Arbetsdag/år],0)","v":0},{"$f":"IFERROR(Medel_T[[#This Row],[Dag sum]:[Dag sum]]*Medel_T[[#This Row],[År]:[År]]*Medel_T[[#This Row],[4AM T]]*DÅ[Arbetsdag/år],0)","v":0},{"$f":"IFERROR(Medel_T[[#This Row],[Dag sum]:[Dag sum]]*Medel_T[[#This Row],[År]:[År]]*Medel_T[[#This Row],[15AM T]]*DÅ[Arbetsdag/år],0)","v":0},{"$f":"IFERROR(Medel_T[[#This Row],[Dag sum]:[Dag sum]]*Medel_T[[#This Row],[År]:[År]]*Medel_T[[#This Row],[20-10D T]]*DÅ[Arbetsdag/år],0)","v":0},{"$f":"IFERROR(Medel_T[[#This Row],[Dag sum]:[Dag sum]]*Medel_T[[#This Row],[ÅrSjuk]:[ÅrSjuk]]*Medel_T[[#This Row],[HöA T]]*DÅ[Arbetsdag/år],0)","v":0},{"$f":"IFERROR(Medel_T[[#This Row],[Dag sum]:[Dag sum]]*Medel_T[[#This Row],[ÅrSjuk]:[ÅrSjuk]]*Medel_T[[#This Row],[AöA T]]*DÅ[Arbetsdag/år],0)","v":0},{"$f":"IFERROR(Medel_T[[#This Row],[Dag sum]:[Dag sum]]*Medel_T[[#This Row],[ÅrSjuk]:[ÅrSjuk]]*Medel_T[[#This Row],[4AM T]]*DÅ[Arbetsdag/år],0)","v":0},{"$f":"IFERROR(Medel_T[[#This Row],[Dag sum]:[Dag sum]]*Medel_T[[#This Row],[ÅrSjuk]:[ÅrSjuk]]*Medel_T[[#This Row],[15AM T]]*DÅ[Arbetsdag/år],0)","v":0},{"$f":"IFERROR(Medel_T[[#This Row],[Dag sum]:[Dag sum]]*Medel_T[[#This Row],[ÅrSjuk]:[ÅrSjuk]]*Medel_T[[#This Row],[20-10D T]]*DÅ[Arbetsdag/år],0)","v":0},{"$f":"IFERROR(IF(Medel_T[[#This Row],[AöA T]]=0,\"\",List_T[List symb]&Exp_T[[#Headers],[Överarmslyft> 90°: ]]&IF(VALUE(TEXT(Medel_T[[#This Row],[AöA T]],\"t\"))>0,VALUE(TEXT(Medel_T[[#This Row],[AöA T]],\"t\"))&\" h\",\"\")&IF(AND(VALUE(TEXT(Medel_T[[#This Row],[AöA T]],\"t\"))>0,VALUE(TEXT(Medel_T[[#This Row],[AöA T]],\"m\"))>2.4),\" \",\"\")&IF(VALUE(TEXT(Medel_T[[#This Row],[AöA T]],\"m\"))>2.4,TEXT(ROUND(Medel_T[[#This Row],[AöA T]]*(24*60/5),0)/(24*60/5),\"m\")&\" min\",\"\")&\"/dag x \"&ROUND(Medel_T[[#This Row],[Dag sum]:[Dag sum]]*DÅ[Arbetsdag/år],0)&\" dagar x \"&ROUND(Medel_T[[#This Row],[År]:[År]],1)&\" år = \"&TEXT(ROUND(Medel_T[[#This Row],[D AöA§]]*24,1-(INT(LOG10(ABS(Medel_T[[#This Row],[D AöA§]]*24))))),\"0\"&IF(1-(INT(LOG10(ABS(Medel_T[[#This Row],[D AöA§]]*24))))>0,\",\"&REPT(\"0\",1-(INT(LOG10(ABS(Medel_T[[#This Row],[D AöA§]]*24))))),\"\"))& \" h\"),\"\")","v":""},{"$f":"IFERROR(IF(Medel_T[[#This Row],[15AM T]]=0,\"\",List_T[List symb]&Exp_T[[#Headers],[Överarmsrörelser> 15/min: ]]&IF(VALUE(TEXT(Medel_T[[#This Row],[15AM T]],\"t\"))>0,VALUE(TEXT(Medel_T[[#This Row],[15AM T]],\"t\"))&\" h\",\"\")&IF(AND(VALUE(TEXT(Medel_T[[#This Row],[15AM T]],\"t\"))>0,VALUE(TEXT(Medel_T[[#This Row],[15AM T]],\"m\"))>2.4),\" \",\"\")&IF(VALUE(TEXT(Medel_T[[#This Row],[15AM T]],\"m\"))>2.4,TEXT(ROUND(Medel_T[[#This Row],[15AM T]]*(24*60/5),0)/(24*60/5),\"m\")&\" min\",\"\")&\"/dag x \"&ROUND(Medel_T[[#This Row],[Dag sum]:[Dag sum]]*DÅ[Arbetsdag/år],0)&\" dagar x \"&ROUND(Medel_T[[#This Row],[År]:[År]],1)&\" år = \"&TEXT(ROUND(Medel_T[[#This Row],[D 15AM§]]*24,1-(INT(LOG10(ABS(Medel_T[[#This Row],[D 15AM§]]*24))))),\"0\"&IF(1-(INT(LOG10(ABS(Medel_T[[#This Row],[D 15AM§]]*24))))>0,\",\"&REPT(\"0\",1-(INT(LOG10(ABS(Medel_T[[#This Row],[D 15AM§]]*24))))),\"\"))& \" h\"),\"\")","v":""},{"$f":"IFERROR(IF(OR(LEN(Medel_T[[#This Row],[AöA text]])>0,LEN(Medel_T[[#This Row],[15AM Text]])>0),Exp_T[Anställning]&YEAR(Medel_T[[#This Row],[Start]])&List_T[[#Totals],[List symb]]&YEAR(Medel_T[[#This Row],[Slut]])&\" (\"&ROUND(Medel_T[[#This Row],[År]],1)&\" år)\"&IF(LEN(Medel_T[[#This Row],[AöA text]])>0,↓[↓],\"\")&Medel_T[[#This Row],[AöA text]]&IF(LEN(Medel_T[[#This Row],[15AM Text]])>0,↓[↓],\"\")&Medel_T[[#This Row],[15AM Text]],\"\"),\"\")","v":""},{"$f":"IFERROR(IF(Medel_T[[#This Row],[AöA T]]=0,\"\",List_T[List symb]&Exp_T[[#Headers],[Överarmsrörelser> 15/min: ]]&IF(VALUE(TEXT(Medel_T[[#This Row],[AöA T]],\"t\"))>0,VALUE(TEXT(Medel_T[[#This Row],[AöA T]],\"t\"))&\" h\",\"\")&IF(AND(VALUE(TEXT(Medel_T[[#This Row],[AöA T]],\"t\"))>0,VALUE(TEXT(Medel_T[[#This Row],[AöA T]],\"m\"))>2.4),\" \",\"\")&IF(VALUE(TEXT(Medel_T[[#This Row],[AöA T]],\"m\"))>2.4,TEXT(ROUND(Medel_T[[#This Row],[AöA T]]*(24*60/5),0)/(24*60/5),\"m\")&\" min\",\"\")&\"/dag x \"&ROUND(Medel_T[[#This Row],[Dag sum]:[Dag sum]]*DÅ[Arbetsdag/år],0)&\" dagar x \"&ROUND(Medel_T[[#This Row],[År]:[År]],1)&\" år = \"&TEXT(ROUND(Medel_T[[#This Row],[D AöA¤]]*24,1-(INT(LOG10(ABS(Medel_T[[#This Row],[D AöA¤]]*24))))),\"0\"&IF(1-(INT(LOG10(ABS(Medel_T[[#This Row],[D AöA¤]]*24))))>0,\",\"&REPT(\"0\",1-(INT(LOG10(ABS(Medel_T[[#This Row],[D AöA¤]]*24))))),\"\"))& \" h\"),\"\")","v":""},{"$f":"IFERROR(IF(Medel_T[[#This Row],[15AM T]]=0,\"\",List_T[List symb]&Exp_T[[#Headers],[Överarmslyft> 90°: ]]&IF(VALUE(TEXT(Medel_T[[#This Row],[15AM T]],\"t\"))>0,VALUE(TEXT(Medel_T[[#This Row],[15AM T]],\"t\"))&\" h\",\"\")&IF(AND(VALUE(TEXT(Medel_T[[#This Row],[15AM T]],\"t\"))>0,VALUE(TEXT(Medel_T[[#This Row],[15AM T]],\"m\"))>0),\" \",\"\")&IF(VALUE(TEXT(Medel_T[[#This Row],[15AM T]],\"m\"))>0,TEXT(ROUND(Medel_T[[#This Row],[15AM T]]*(24*60/5),0)/(24*60/5),\"m\")&\" min\",\"\")&\"/dag x \"&ROUND(Medel_T[[#This Row],[Dag sum]:[Dag sum]]*DÅ[Arbetsdag/år],0)&\" dagar x \"&ROUND(Medel_T[[#This Row],[År]:[År]],1)&\" år = \"&TEXT(ROUND(Medel_T[[#This Row],[D 15AM¤]]*24,1-(INT(LOG10(ABS(Medel_T[[#This Row],[D 15AM¤]]*24))))),\"0\"&IF(1-(INT(LOG10(ABS(Medel_T[[#This Row],[D 15AM¤]]*24))))>0,\",\"&REPT(\"0\",1-(INT(LOG10(ABS(Medel_T[[#This Row],[D 15AM¤]]*24))))),\"\"))& \" h\"),\"\")","v":""},{"$f":"IFERROR(IF(LEN(Medel_T[[#This Row],[SJDstart]])>0,Exp_T[Anställning]&↓[↓]&YEAR(Medel_T[[#This Row],[Start]])&List_T[[#Totals],[List symb]]&YEAR(Medel_T[[#This Row],[Slut]])&\" (\"&ROUND(Medel_T[[#This Row],[År]],1)&\" år)\"&IF(LEN(Medel_T[[#This Row],[AöA text Sjuk]])>0,↓[↓],\"\")&Medel_T[[#This Row],[AöA text Sjuk]]&IF(LEN(Medel_T[[#This Row],[15AM Text Sjuk]])>0,↓[↓],\"\")&Medel_T[[#This Row],[15AM Text Sjuk]],\"\"),\"\")","v":""},{"$f":"IFERROR(Medel_T[[#This Row],[Period ]]&Medel_T[[#This Row],[ArbMomText]]&Medel_T[[#This Row],[Text]],\"\")","v":""},{"$f":"IF(AND(DJ34>=MAX(Medel_T[NrX]),ISNUMBER(DJ34)),Medel_T[[#Totals],[NrX]]+ROW()-ROW(Medel_T[[#Headers],[Rad]])-Medel_T[[#Totals],[Ant]]-1,INDEX(Medel_T[NrX],MATCH(ROW()-ROW(Medel_T[[#Headers],[Rad]]),Medel_T[NrX],0)))","v":{"$error":"#N/A"}},{"$f":"IF(Medel_T[[#This Row],[Rad]]<=Medel_T[[#Totals],[Ant]],MATCH(Medel_T[[#This Row],[Rad]],Medel_T[NrX],0),IFERROR(INDEX(BD_TX[[#Data],[#Totals],[SJ]],MATCH(Medel_T[[#This Row],[Rad]],BD_TX[[#Data],[#Totals],[Nr]],0)),\"\"))","v":{"$error":"#N/A"}},{"$f":"LEN(Medel_T[[#This Row],[Yrke2]])-LEN(SUBSTITUTE(Medel_T[[#This Row],[Yrke2]],LEFT(Sep_T[Separator],1),\"\"))","v":0},{"$f":"INDEX(Medel_T[År],Medel_T[[#This Row],[Nr]])","v":{"$error":"#N/A"}},{"$f":"IFERROR(IF(LEN(Medel_T[[#This Row],[Nr]])>0,TEXT(IFERROR(INDEX(Medel_T[Start],Medel_T[[#This Row],[Nr]]),INDEX(BD_TX[[#Data],[#Totals],[Start]],MATCH(Medel_T[[#This Row],[Rad]],BD_TX[[#Data],[#Totals],[Nr]],0))),\"ÅÅÅÅ MMM\")&\"-\"&TEXT(IFERROR(INDEX(Medel_T[Slut],Medel_T[[#This Row],[Nr]]),INDEX(BD_TX[[#Data],[#Totals],[År]],MATCH(Medel_T[[#This Row],[Rad]],BD_TX[[#Data],[#Totals],[Nr]],0))),\"ÅÅÅÅ MMM\"),\"\"),\"\")","v":""},{"$f":"IFERROR(IF(LEN(Medel_T[[#This Row],[Nr]])>0,IF(Medel_T[[#This Row],[Rad]]>Medel_T[[#Totals],[Ant]],IFERROR(INDEX(BD_TX[[#Data],[#Totals],[Text]],MATCH(Medel_T[[#This Row],[Rad]],BD_TX[[#Data],[#Totals],[Nr]],0)),\"\"),INDEX(Medel_T[Yrke],Medel_T[[#This Row],[Nr]])),\"\"),\"\")","v":""},{"$f":"IFERROR(INDEX(Medel_T[Arbetsmoment],MATCH(ROW()-ROW(Medel_T[[#Headers],[Arbetsmoment2]]),Medel_T[[NrX]:[NrX]],0)),\"\")","v":""},{"$f":"IFERROR(INDEX(Medel_T[],Medel_T[[#This Row],[Nr]],Medel_T[[#Totals],[HöA_T]]),\"\")","v":""},{"$f":"IF(LEN(Medel_T[[#This Row],[Nr]:[Nr]])>0,IFERROR(TEXT(ROUND(24*IFERROR(INDEX(Medel_T[],Medel_T[[#This Row],[Nr]:[Nr]],Medel_T[[#Totals],[D HöA]]),INDEX(Sum_T[[#Data],[#Totals]],MATCH(Medel_T[[#This Row],[Nr]:[Nr]],Sum_T[[#Data],[#Totals],[Typ]:[Typ]],0),MATCH(Medel_T[[#Headers],[D HöA]],Sum_T[#Headers],0))),1-(INT(LOG10(ABS(24*IFERROR(INDEX(Medel_T[],Medel_T[[#This Row],[Nr]:[Nr]],Medel_T[[#Totals],[D HöA]]),INDEX(Sum_T[[#Data],[#Totals]],MATCH(Medel_T[[#This Row],[Nr]:[Nr]],Sum_T[[#Data],[#Totals],[Typ]:[Typ]],0),MATCH(Medel_T[[#Headers],[D HöA]],Sum_T[#Headers],0)))))))),\"0\"&IF(1-(INT(LOG10(ABS(24*IFERROR(INDEX(Medel_T[],Medel_T[[#This Row],[Nr]:[Nr]],Medel_T[[#Totals],[D HöA]]),INDEX(Sum_T[[#Data],[#Totals]],MATCH(Medel_T[[#This Row],[Nr]:[Nr]],Sum_T[[#Data],[#Totals],[Typ]:[Typ]],0),MATCH(Medel_T[[#Headers],[D HöA]],Sum_T[#Headers],0)))))))>0,\",\"&REPT(\"0\",1-(INT(LOG10(ABS(24*IFERROR(INDEX(Medel_T[],Medel_T[[#This Row],[Nr]:[Nr]],Medel_T[[#Totals],[D HöA]]),INDEX(Sum_T[[#Data],[#Totals]],MATCH(Medel_T[[#This Row],[Nr]:[Nr]],Sum_T[[#Data],[#Totals],[Typ]:[Typ]],0),MATCH(Medel_T[[#Headers],[D HöA]],Sum_T[#Headers],0)))))))),0)),0),\"\")","v":{"$error":"#N/A"}},{"$f":"IFERROR(INDEX(Medel_T[],Medel_T[[#This Row],[Nr]],Medel_T[[#Totals],[AÖA_T]]),\"\")","v":""},{"$f":"IFERROR(IF(LEN(Medel_T[[#This Row],[Nr]:[Nr]])>0,IFERROR(TEXT(ROUND(24*IFERROR(INDEX(Medel_T[],Medel_T[[#This Row],[Nr]:[Nr]],Medel_T[[#Totals],[D AöA]]),INDEX(Sum_T[[#Data],[#Totals]],MATCH(Medel_T[[#This Row],[Nr]:[Nr]],Sum_T[[#Data],[#Totals],[Typ]:[Typ]],0),MATCH(Medel_T[[#Headers],[D AöA]],Sum_T[#Headers],0))),1-(INT(LOG10(ABS(24*IFERROR(INDEX(Medel_T[],Medel_T[[#This Row],[Nr]:[Nr]],Medel_T[[#Totals],[D AöA]]),INDEX(Sum_T[[#Data],[#Totals]],MATCH(Medel_T[[#This Row],[Nr]:[Nr]],Sum_T[[#Data],[#Totals],[Typ]:[Typ]],0),MATCH(Medel_T[[#Headers],[D AöA]],Sum_T[#Headers],0)))))))),\"0\"&IF(1-(INT(LOG10(ABS(24*IFERROR(INDEX(Medel_T[],Medel_T[[#This Row],[Nr]:[Nr]],Medel_T[[#Totals],[D AöA]]),INDEX(Sum_T[[#Data],[#Totals]],MATCH(Medel_T[[#This Row],[Nr]:[Nr]],Sum_T[[#Data],[#Totals],[Typ]:[Typ]],0),MATCH(Medel_T[[#Headers],[D AöA]],Sum_T[#Headers],0)))))))>0,\",\"&REPT(\"0\",1-(INT(LOG10(ABS(24*IFERROR(INDEX(Medel_T[],Medel_T[[#This Row],[Nr]:[Nr]],Medel_T[[#Totals],[D AöA]]),INDEX(Sum_T[[#Data],[#Totals]],MATCH(Medel_T[[#This Row],[Nr]:[Nr]],Sum_T[[#Data],[#Totals],[Typ]:[Typ]],0),MATCH(Medel_T[[#Headers],[D AöA]],Sum_T[#Headers],0)))))))),0)),0),\"\"),\"\")","v":""},{"$f":"IFERROR(INDEX(Medel_T[],Medel_T[[#This Row],[Nr]],Medel_T[[#Totals],[4AM_T]]),\"\")","v":""},{"$f":"IF(LEN(Medel_T[[#This Row],[Nr]:[Nr]])>0,IFERROR(TEXT(ROUND(24*IFERROR(INDEX(Medel_T[],Medel_T[[#This Row],[Nr]:[Nr]],Medel_T[[#Totals],[D 4AM]]),INDEX(Sum_T[[#Data],[#Totals]],MATCH(Medel_T[[#This Row],[Nr]:[Nr]],Sum_T[[#Data],[#Totals],[Typ]:[Typ]],0),MATCH(Medel_T[[#Headers],[D 4AM]],Sum_T[#Headers],0))),1-(INT(LOG10(ABS(24*IFERROR(INDEX(Medel_T[],Medel_T[[#This Row],[Nr]:[Nr]],Medel_T[[#Totals],[D 4AM]]),INDEX(Sum_T[[#Data],[#Totals]],MATCH(Medel_T[[#This Row],[Nr]:[Nr]],Sum_T[[#Data],[#Totals],[Typ]:[Typ]],0),MATCH(Medel_T[[#Headers],[D 4AM]],Sum_T[#Headers],0)))))))),\"0\"&IF(1-(INT(LOG10(ABS(24*IFERROR(INDEX(Medel_T[],Medel_T[[#This Row],[Nr]:[Nr]],Medel_T[[#Totals],[D 4AM]]),INDEX(Sum_T[[#Data],[#Totals]],MATCH(Medel_T[[#This Row],[Nr]:[Nr]],Sum_T[[#Data],[#Totals],[Typ]:[Typ]],0),MATCH(Medel_T[[#Headers],[D 4AM]],Sum_T[#Headers],0)))))))>0,\",\"&REPT(\"0\",1-(INT(LOG10(ABS(24*IFERROR(INDEX(Medel_T[],Medel_T[[#This Row],[Nr]:[Nr]],Medel_T[[#Totals],[D 4AM]]),INDEX(Sum_T[[#Data],[#Totals]],MATCH(Medel_T[[#This Row],[Nr]:[Nr]],Sum_T[[#Data],[#Totals],[Typ]:[Typ]],0),MATCH(Medel_T[[#Headers],[D 4AM]],Sum_T[#Headers],0)))))))),0)),0),\"\")","v":{"$error":"#N/A"}},{"$f":"IFERROR(INDEX(Medel_T[],Medel_T[[#This Row],[Nr]],Medel_T[[#Totals],[15AM_T]]),\"\")","v":""},{"$f":"IFERROR(IF(LEN(Medel_T[[#This Row],[Nr]:[Nr]])>0,IFERROR(TEXT(ROUND(24*IFERROR(INDEX(Medel_T[],Medel_T[[#This Row],[Nr]:[Nr]],Medel_T[[#Totals],[D 15AM]]),INDEX(Sum_T[[#Data],[#Totals]],MATCH(Medel_T[[#This Row],[Nr]:[Nr]],Sum_T[[#Data],[#Totals],[Typ]:[Typ]],0),MATCH(Medel_T[[#Headers],[D 15AM]],Sum_T[#Headers],0))),1-(INT(LOG10(ABS(24*IFERROR(INDEX(Medel_T[],Medel_T[[#This Row],[Nr]:[Nr]],Medel_T[[#Totals],[D 15AM]]),INDEX(Sum_T[[#Data],[#Totals]],MATCH(Medel_T[[#This Row],[Nr]:[Nr]],Sum_T[[#Data],[#Totals],[Typ]:[Typ]],0),MATCH(Medel_T[[#Headers],[D 15AM]],Sum_T[#Headers],0)))))))),\"0\"&IF(1-(INT(LOG10(ABS(24*IFERROR(INDEX(Medel_T[],Medel_T[[#This Row],[Nr]:[Nr]],Medel_T[[#Totals],[D 15AM]]),INDEX(Sum_T[[#Data],[#Totals]],MATCH(Medel_T[[#This Row],[Nr]:[Nr]],Sum_T[[#Data],[#Totals],[Typ]:[Typ]],0),MATCH(Medel_T[[#Headers],[D 15AM]],Sum_T[#Headers],0)))))))>0,\",\"&REPT(\"0\",1-(INT(LOG10(ABS(24*IFERROR(INDEX(Medel_T[],Medel_T[[#This Row],[Nr]:[Nr]],Medel_T[[#Totals],[D 15AM]]),INDEX(Sum_T[[#Data],[#Totals]],MATCH(Medel_T[[#This Row],[Nr]:[Nr]],Sum_T[[#Data],[#Totals],[Typ]:[Typ]],0),MATCH(Medel_T[[#Headers],[D 15AM]],Sum_T[#Headers],0)))))))),0)),0),\"\"),\"\")","v":""},{"$f":"IFERROR(INDEX(Medel_T[],Medel_T[[#This Row],[Nr]],Medel_T[[#Totals],[20-10D_T]]),\"\")","v":""},{"$f":"IF(LEN(Medel_T[[#This Row],[Nr]:[Nr]])>0,IFERROR(TEXT(ROUND(24*IFERROR(INDEX(Medel_T[],Medel_T[[#This Row],[Nr]:[Nr]],Medel_T[[#Totals],[D 20-10D]]),INDEX(Sum_T[[#Data],[#Totals]],MATCH(Medel_T[[#This Row],[Nr]:[Nr]],Sum_T[[#Data],[#Totals],[Typ]:[Typ]],0),MATCH(Medel_T[[#Headers],[D 20-10D]],Sum_T[#Headers],0))),1-(INT(LOG10(ABS(24*IFERROR(INDEX(Medel_T[],Medel_T[[#This Row],[Nr]:[Nr]],Medel_T[[#Totals],[D 20-10D]]),INDEX(Sum_T[[#Data],[#Totals]],MATCH(Medel_T[[#This Row],[Nr]:[Nr]],Sum_T[[#Data],[#Totals],[Typ]:[Typ]],0),MATCH(Medel_T[[#Headers],[D 20-10D]],Sum_T[#Headers],0)))))))),\"0\"&IF(1-(INT(LOG10(ABS(24*IFERROR(INDEX(Medel_T[],Medel_T[[#This Row],[Nr]:[Nr]],Medel_T[[#Totals],[D 20-10D]]),INDEX(Sum_T[[#Data],[#Totals]],MATCH(Medel_T[[#This Row],[Nr]:[Nr]],Sum_T[[#Data],[#Totals],[Typ]:[Typ]],0),MATCH(Medel_T[[#Headers],[D 20-10D]],Sum_T[#Headers],0)))))))>0,\",\"&REPT(\"0\",1-(INT(LOG10(ABS(24*IFERROR(INDEX(Medel_T[],Medel_T[[#This Row],[Nr]:[Nr]],Medel_T[[#Totals],[D 20-10D]]),INDEX(Sum_T[[#Data],[#Totals]],MATCH(Medel_T[[#This Row],[Nr]:[Nr]],Sum_T[[#Data],[#Totals],[Typ]:[Typ]],0),MATCH(Medel_T[[#Headers],[D 20-10D]],Sum_T[#Headers],0)))))))),0)),0),\"\")","v":{"$error":"#N/A"}},null,{"$f":"IFERROR(INDEX(Hin_T[Nr],MATCH(SMALL(Hin_T[B-årX],ROW()-ROW(Hut_T[[#Headers],[Rad]])),Hin_T[B-årX],0)),IF(ROWS($EB$19:EB35)=1+COUNTIF(Hin_T[Start],\"*\"),Hin_T[[#Totals],[Dag]],IF(AND(ROWS($EB$19:EB35)=2+COUNTIF(Hin_T[Start],\"*\"),Hin_T[[#Totals],[Q%-]]>0),EB34+1,IF(AND(ROWS($EB$19:EB35)=3+COUNTIF(Hin_T[Start],\"*\"),Hin_T[[#Totals],[Q%-]]>1),EB34+1,IF(AND(ROWS($EB$19:EB35)=4+COUNTIF(Hin_T[Start],\"*\"),Hin_T[[#Totals],[Q%-]]>2),EB34+1,\"\")))))","v":""},{"$f":"IF(Hut_T[[#This Row],[Rad]]<Hin_T[[#Totals],[Dag]],ROWS($EB$19:EB35),IFERROR(INDEX(BD_TX[[#Data],[#Totals],[SJ]],MATCH(Hut_T[[#This Row],[Rad]],BD_TX[[#Data],[#Totals],[NrX]],0)),\"\"))","v":""},{"$f":"IF(ISNUMBER(Hut_T[[#This Row],[Datum-]]),TEXT(Hut_T[[#This Row],[Datum-]],\"ÅÅÅÅ MMM\")&\"-\"&TEXT(Hut_T[[#This Row],[Datum+]],\"ÅÅÅÅ MMM\"),\"\")","v":""},{"$f":"IF(ISNUMBER(Hut_T[[#This Row],[Nr]]),IF(INDEX(Hin_T[Yrke],Hut_T[[#This Row],[Rad]])>0,INDEX(Hin_T[Yrke],Hut_T[[#This Row],[Rad]]),\"\"),IFERROR(INDEX(BD_TX[[#Data],[#Totals],[Text]],MATCH(Hut_T[[#This Row],[Rad]],BD_TX[[#Data],[#Totals],[NrX]],0)),\"\"))","v":""},{"$f":"IF(ISNUMBER(Hut_T[[#This Row],[Nr]]),IF(INDEX(Hin_T[Arbetsmoment],Hut_T[[#This Row],[Rad]])>0,INDEX(Hin_T[Arbetsmoment],Hut_T[[#This Row],[Rad]]),\"\"),\"\")","v":""},{"$f":"IFERROR(IF(INDEX(Hin_T[Yrke],Hut_T[[#This Row],[Rad]])>0,INDEX(Hin_T[Företag],Hut_T[[#This Row],[Rad]]),\"\"),\"\")","v":""},{"$f":"IFERROR(IF(INDEX(Hin_T[Dag],Hut_T[[#This Row],[Rad]])>0,INDEX(Hin_T[Dag],Hut_T[[#This Row],[Rad]])*DÅ[Arbetsdag/år],\"\"),\"\")","v":""},{"$f":"IF(AND(ISNUMBER(_xlfn.SINGLE(Hut_T[[#This Row],[Rad]:[Rad]])),IFERROR(_xlfn.SINGLE(INDEX(Hin_T[[#Data],[#Totals]],_xlfn.SINGLE(Hut_T[[#This Row],[Rad]:[Rad]]),MATCH(Hut_T[[#Headers],[D HöA]],Hin_T[#Headers],0))),\"\")),IFERROR(ROUND(_xlfn.SINGLE(INDEX(Hin_T[[#Data],[#Totals]],_xlfn.SINGLE(Hut_T[[#This Row],[Rad]:[Rad]])-IF(_xlfn.SINGLE(Hut_T[[#This Row],[Nr]:[Nr]])=_xlfn.SINGLE(#REF!),COUNT(Besvär_T[[Sjukdomsdebut]:[Sjukdomsdebut]]),0),MATCH(_xlfn.SINGLE(IF(_xlfn.SINGLE(Hut_T[[#This Row],[Nr]:[Nr]])=_xlfn.SINGLE(#REF!),#REF!,\"\"))&Hut_T[[#Headers],[D HöA]],Hin_T[#Headers],0))),0),\"\"),\"\")","v":""},{"$f":"IF(AND(ISNUMBER(Hut_T[[#This Row],[Rad]:[Rad]]),ISNUMBER(Hut_T[[#This Row],[D HöA]]),ISNUMBER(Hut_T[[#This Row],[Nr]:[Nr]])),IFERROR(ROUND(INDEX(Hin_T[[#Data],[#Totals]],Hut_T[[#This Row],[Rad]:[Rad]],MATCH(Hut_T[[#Headers],[HöA-A]],Hin_T[#Headers],0)),1-(INT(LOG10(INDEX(Hin_T[[#Data],[#Totals]],Hut_T[[#This Row],[Rad]:[Rad]],MATCH(Hut_T[[#Headers],[HöA-A]],Hin_T[#Headers],0)))))),1),\"\")","v":""},{"$f":"IF(AND(ISNUMBER(Hut_T[[#This Row],[Rad]:[Rad]]),IFERROR(INDEX(Hin_T[[#Data],[#Totals]],Hut_T[[#This Row],[Rad]:[Rad]],MATCH(Hut_T[[#Headers],[D AöA]],Hin_T[#Headers],0)),\"\")),IFERROR(ROUND(INDEX(Hin_T[[#Data],[#Totals]],Hut_T[[#This Row],[Rad]:[Rad]]-IF(Hut_T[[#This Row],[Nr]:[Nr]]=BD_TX[[SJ]:[SJ]],COUNT(Besvär_T[[Sjukdomsdebut]:[Sjukdomsdebut]]),0),MATCH(IF(Hut_T[[#This Row],[Nr]:[Nr]]=BD_TX[[#Totals],[SJ]:[SJ]],BD_TX[[#Headers],[SJ]],\"\")&Hut_T[[#Headers],[D AöA]],Hin_T[#Headers],0)),0),\"\"),\"\")","v":""},{"$f":"IF(AND(ISNUMBER(Hut_T[[#This Row],[Rad]:[Rad]]),ISNUMBER(Hut_T[[#This Row],[D AöA]]),ISNUMBER(Hut_T[[#This Row],[Nr]:[Nr]])),IFERROR(ROUND(INDEX(Hin_T[[#Data],[#Totals]],Hut_T[[#This Row],[Rad]:[Rad]],MATCH(Hut_T[[#Headers],[AöA-A]],Hin_T[#Headers],0)),1-(INT(LOG10(INDEX(Hin_T[[#Data],[#Totals]],Hut_T[[#This Row],[Rad]:[Rad]],MATCH(Hut_T[[#Headers],[AöA-A]],Hin_T[#Headers],0)))))),1),\"\")","v":""},{"$f":"IF(AND(ISNUMBER(_xlfn.SINGLE(Hut_T[[#This Row],[Rad]:[Rad]])),IFERROR(_xlfn.SINGLE(INDEX(Hin_T[[#Data],[#Totals]],_xlfn.SINGLE(Hut_T[[#This Row],[Rad]:[Rad]]),MATCH(Hut_T[[#Headers],[D 4AM]],Hin_T[#Headers],0))),\"\")),IFERROR(ROUND(_xlfn.SINGLE(INDEX(Hin_T[[#Data],[#Totals]],_xlfn.SINGLE(Hut_T[[#This Row],[Rad]:[Rad]])-IF(_xlfn.SINGLE(Hut_T[[#This Row],[Nr]:[Nr]])=_xlfn.SINGLE(#REF!),COUNT(Besvär_T[[Sjukdomsdebut]:[Sjukdomsdebut]]),0),MATCH(_xlfn.SINGLE(IF(_xlfn.SINGLE(Hut_T[[#This Row],[Nr]:[Nr]])=_xlfn.SINGLE(#REF!),#REF!,\"\"))&Hut_T[[#Headers],[D 4AM]],Hin_T[#Headers],0))),0),\"\"),\"\")","v":""},{"$f":"IF(AND(ISNUMBER(Hut_T[[#This Row],[Rad]:[Rad]]),ISNUMBER(Hut_T[[#This Row],[D 4AM]]),ISNUMBER(Hut_T[[#This Row],[Nr]:[Nr]])),IFERROR(ROUND(INDEX(Hin_T[[#Data],[#Totals]],Hut_T[[#This Row],[Rad]:[Rad]],MATCH(Hut_T[[#Headers],[4AM-A]],Hin_T[#Headers],0)),1-(INT(LOG10(INDEX(Hin_T[[#Data],[#Totals]],Hut_T[[#This Row],[Rad]:[Rad]],MATCH(Hut_T[[#Headers],[4AM-A]],Hin_T[#Headers],0)))))),1),\"\")","v":""},{"$f":"IF(AND(ISNUMBER(Hut_T[[#This Row],[Rad]:[Rad]]),IFERROR(INDEX(Hin_T[[#Data],[#Totals]],Hut_T[[#This Row],[Rad]:[Rad]],MATCH(Hut_T[[#Headers],[D 15AM]],Hin_T[#Headers],0)),\"\")),IFERROR(ROUND(INDEX(Hin_T[[#Data],[#Totals]],Hut_T[[#This Row],[Rad]:[Rad]]-IF(Hut_T[[#This Row],[Nr]:[Nr]]=BD_TX[[SJ]:[SJ]],COUNT(Besvär_T[[Sjukdomsdebut]:[Sjukdomsdebut]]),0),MATCH(IF(Hut_T[[#This Row],[Nr]:[Nr]]=BD_TX[[#Totals],[SJ]:[SJ]],BD_TX[[#Headers],[SJ]],\"\")&Hut_T[[#Headers],[D 15AM]],Hin_T[#Headers],0)),0),\"\"),\"\")","v":""},{"$f":"IF(AND(ISNUMBER(Hut_T[[#This Row],[Rad]:[Rad]]),ISNUMBER(Hut_T[[#This Row],[D 15AM]]),ISNUMBER(Hut_T[[#This Row],[Nr]:[Nr]])),IFERROR(ROUND(INDEX(Hin_T[[#Data],[#Totals]],Hut_T[[#This Row],[Rad]:[Rad]],MATCH(Hut_T[[#Headers],[15AM-A]],Hin_T[#Headers],0)),1-(INT(LOG10(INDEX(Hin_T[[#Data],[#Totals]],Hut_T[[#This Row],[Rad]:[Rad]],MATCH(Hut_T[[#Headers],[15AM-A]],Hin_T[#Headers],0)))))),1),\"\")","v":""},{"$f":"IF(AND(ISNUMBER(Hut_T[[#This Row],[Rad]:[Rad]]),IFERROR(INDEX(Hin_T[[#Data],[#Totals]],Hut_T[[#This Row],[Rad]:[Rad]],MATCH(Hut_T[[#Headers],[D 20-10D]],Hin_T[#Headers],0)),\"\")),IFERROR(ROUND(INDEX(Hin_T[[#Data],[#Totals]],Hut_T[[#This Row],[Rad]:[Rad]]-IF(Hut_T[[#This Row],[Nr]:[Nr]]=BD_TX[[SJ]:[SJ]],COUNT(Besvär_T[[Sjukdomsdebut]:[Sjukdomsdebut]]),0),MATCH(IF(Hut_T[[#This Row],[Nr]:[Nr]]=BD_TX[[#Totals],[SJ]:[SJ]],BD_TX[[#Headers],[SJ]],\"\")&Hut_T[[#Headers],[D 20-10D]],Hin_T[#Headers],0)),0),\"\"),\"\")","v":""},{"$f":"IF(AND(ISNUMBER(Hut_T[[#This Row],[Rad]:[Rad]]),ISNUMBER(Hut_T[[#This Row],[D 20-10D]]),ISNUMBER(Hut_T[[#This Row],[Nr]:[Nr]])),IFERROR(ROUND(INDEX(Hin_T[[#Data],[#Totals]],Hut_T[[#This Row],[Rad]:[Rad]],MATCH(Hut_T[[#Headers],[20-10D-A]],Hin_T[#Headers],0)),1-(INT(LOG10(INDEX(Hin_T[[#Data],[#Totals]],Hut_T[[#This Row],[Rad]:[Rad]],MATCH(Hut_T[[#Headers],[20-10D-A]],Hin_T[#Headers],0)))))),1),\"\")","v":""},null,{"$f":"IFERROR(INDEX(Hin_T[[#Data],[#Totals],[B-år]],Hut_T[[#This Row],[Rad]]),IF(ISNUMBER(Hut_T[[#This Row],[Datum+]]),ET34,\"\"))","v":""},{"$f":"IFERROR(INDEX(Hin_T[S-år],Hut_T[[#This Row],[Rad]]),IFERROR(INDEX(BD_TX[[#Data],[#Totals],[År]],MATCH(Hut_T[[#This Row],[Rad]],BD_TX[[#Data],[#Totals],[NrX]],0)),\"\"))","v":""},null,{"$f":"ROWS($EW$20:EW35)","v":16},{"$f":"IFERROR(MATCH(Hist_Tab[[#This Row],[Ref]],Medel_T[NrX],0),1)","v":1},{"$f":"INT((ROW(Hist_Tab[[#This Row],[Ref]])-ROW(Hist_Tab[[#Headers],[Ref]])-1)/4)+1","v":5},{"$f":"COUNTIF($EY$19:EY35,Hist_Tab[[#This Row],[Ref]])","v":1},{"$f":"IFERROR(INDEX(Medel_T[Start],Hist_Tab[[#This Row],[Ref]]),_xlfn.AGGREGATE(4,6,Medel_T[Start]))","v":"00:00:00"},{"$f":"IFERROR(INDEX(Medel_T[Slut],Hist_Tab[[#This Row],[Ref]]),_xlfn.AGGREGATE(4,6,Medel_T[Slut]))","v":"00:00:00"},{"$f":"IF(EW34=0,Hist_Tab[[#This Row],[ÅrB]],IF(Hist_Tab[[#This Row],[per/p]]<2,Hist_Tab[[#This Row],[ÅrB]],Hist_Tab[[#This Row],[År S]]))","v":"00:00:00"},{"$f":"IF(Hist_Tab[[#This Row],[Rad]:[Rad]]=0,-1,IF($EY36>_xlfn.AGGREGATE(2,6,Medel_T[[Slut]:[Slut]]),0,INDEX(Medel_T[],Hist_Tab[[#This Row],[Ref]:[Ref]],MATCH(Hist_Tab[[#Headers],[HöA T]],Medel_T[#Headers],0))))","v":0},{"$f":"IF(Hist_Tab[[#This Row],[Rad]:[Rad]]=0,0,IF($EY36>_xlfn.AGGREGATE(2,6,Medel_T[[Slut]:[Slut]]),0,INDEX(Medel_T[],Hist_Tab[[#This Row],[Ref]:[Ref]],MATCH(Hist_Tab[[#Headers],[AöA T]],Medel_T[#Headers],0))))","v":0},{"$f":"IF(Hist_Tab[[#This Row],[Rad]:[Rad]]=0,0,IF($EY36>_xlfn.AGGREGATE(2,6,Medel_T[[Slut]:[Slut]]),0,INDEX(Medel_T[],Hist_Tab[[#This Row],[Ref]:[Ref]],MATCH(Hist_Tab[[#Headers],[4AM T]],Medel_T[#Headers],0))))","v":0},{"$f":"IF(Hist_Tab[[#This Row],[Rad]:[Rad]]=0,0,IF($EY36>_xlfn.AGGREGATE(2,6,Medel_T[[Slut]:[Slut]]),0,INDEX(Medel_T[],Hist_Tab[[#This Row],[Ref]:[Ref]],MATCH(Hist_Tab[[#Headers],[15AM T]],Medel_T[#Headers],0))))","v":0},{"$f":"IF(Hist_Tab[[#This Row],[Rad]:[Rad]]=0,0,IF($EY36>_xlfn.AGGREGATE(2,6,Medel_T[[Slut]:[Slut]]),0,INDEX(Medel_T[],Hist_Tab[[#This Row],[Ref]:[Ref]],MATCH(Hist_Tab[[#Headers],[20-10D T]],Medel_T[#Headers],0))))","v":0}]
[null,null,null,null,null,null,null,null,null,null,null,null,null,null,null,null,null,null,{"$f":"IF(LEN(Hin_T[[#This Row],[Start]])>0,ROWS($S$19:S36),\"\")","v":""},null,{"$f":"Hin_T[[#This Row],[Yrke]]&IF(ISBLANK(Hin_T[[#This Row],[Arbetsmoment]]),\"\",\"; \"&Hin_T[[#This Row],[Arbetsmoment]])","v":""},{"$f":"IFERROR(IF(LEN(Hin_T[[#This Row],[Start]])-LEN(SUBSTITUTE(Hin_T[[#This Row],[Start]],\"-\",\"\"))=2,DATEVALUE(Hin_T[[#This Row],[Start]]),IF(LEN(Hin_T[[#This Row],[Start]])<5,DATEVALUE(Hin_T[[#This Row],[Start]]&\"-01-01\"),DATEVALUE(LEFT(Hin_T[[#This Row],[Start]],IF(LEN(Hin_T[[#This Row],[Start]])>6,4,2))&\"-\"&MID(Hin_T[[#This Row],[Start]],IF(LEN(Hin_T[[#This Row],[Start]])>6,5,3),2)&\"-\"&RIGHT(Hin_T[[#This Row],[Start]],2)))),\"\")","v":""},{"$f":"IFERROR(IF(LEN(Hin_T[[#This Row],[Slut]])-LEN(SUBSTITUTE(Hin_T[[#This Row],[Slut]],\"-\",\"\"))=2,DATEVALUE(Hin_T[[#This Row],[Slut]]),IF(LEN(Hin_T[[#This Row],[Slut]])<5,DATEVALUE(Hin_T[[#This Row],[Slut]]&\"-12-31\"),DATEVALUE(LEFT(Hin_T[[#This Row],[Slut]],IF(LEN(Hin_T[[#This Row],[Slut]])>6,4,2))&\"-\"&MID(Hin_T[[#This Row],[Slut]],IF(LEN(Hin_T[[#This Row],[Slut]])>6,5,3),2)&\"-\"&RIGHT(Hin_T[[#This Row],[Slut]],2)))),\"\")","v":""},{"$f":"IF(COUNTIF(V$19:V36,Hin_T[[#This Row],[B-år]])=1,Hin_T[[#This Row],[B-år]],\"\")","v":""},{"$f":"IF(COUNTIF(W$19:W36,Hin_T[[#This Row],[S-år]])=1,Hin_T[[#This Row],[S-år]],\"\")","v":""},{"$f":"IFERROR(Hin_T[[#This Row],[B-år]]+IF(COUNTIF($V$19:V36,Hin_T[[#This Row],[B-år]])>1,COUNTIF($V$19:V36,Hin_T[[#This Row],[B-år]])/10,0),\"\")","v":""},{"$f":"IF(ISNUMBER(Hin_T[[#This Row],[Dagar]]),Hin_T[[#This Row],[Dagar]]/DÅ[Arbetsdag/år],1)","v":1},{"$f":"Hin_T[[#This Row],[Dag]]*DÅ[Arbetsdag/år]","v":220},{"$f":"IF(LEN(Hin_T[[#This Row],[Yrke]])=4,1,0)","v":0},{"$f":"_xlfn.DAYS(Hin_T[[#This Row],[B-år]],DATE(YEAR(Hin_T[[#This Row],[B-år]]),1,1))/(DATE(YEAR(Hin_T[[#This Row],[B-år]])+1,1,1)-DATE(YEAR(Hin_T[[#This Row],[B-år]]),1,1))","v":{"$error":"#VALUE!"}},{"$f":"_xlfn.DAYS(DATE(YEAR(Hin_T[[#This Row],[S-år]]),12,31),Hin_T[[#This Row],[S-år]])/(DATE(YEAR(Hin_T[[#This Row],[S-år]])+1,1,1)-DATE(YEAR(Hin_T[[#This Row],[S-år]]),1,1))","v":{"$error":"#VALUE!"}},{"$f":"YEARFRAC(Hin_T[[#This Row],[S-år]],Hin_T[[#This Row],[B-år]])*Hin_T[[#This Row],[Dag]]","v":{"$error":"#VALUE!"}},{"$f":"IFERROR(Hin_T[[#This Row],[År diff]]*IF(ISNUMBER(Hin_T[[#This Row],[HöA]]),1,0),0)","v":0},{"$f":"IFERROR(Hin_T[[#This Row],[År diff]]*IF(ISNUMBER(Hin_T[[#This Row],[AöA]]),1,0),0)","v":0},{"$f":"IF(Hin_T[[#This Row],[B-år]]<=Besvär_T[[#Totals],[Sjukdomsdebut]],Hin_T[[#This Row],[B-år]],\"\")","v":""},{"$f":"IF(Hin_T[[#This Row],[S-år]]<=Besvär_T[[#Totals],[Sjukdomsdebut]],Hin_T[[#This Row],[S-år]],\"\")","v":""},{"$f":"IFERROR(YEARFRAC(IF(AND(ISNUMBER(Hin_T[[#This Row],[B-år EA]]),LEN(Hin_T[[#This Row],[S-år EA]])=0),Hin_T[[#Totals],[15AM-A]],Hin_T[[#This Row],[S-år EA]]),Hin_T[[#This Row],[B-år EA]])*Hin_T[[#This Row],[Dag]]*IF(ISNUMBER(Hin_T[[#This Row],[HöA]]),1,0),0)","v":0},{"$f":"IFERROR(YEARFRAC(IF(AND(ISNUMBER(Hin_T[[#This Row],[B-år EA]]),LEN(Hin_T[[#This Row],[S-år EA]])=0),Hin_T[[#Totals],[15AM-A]],Hin_T[[#This Row],[S-år EA]]),Hin_T[[#This Row],[B-år EA]])*Hin_T[[#This Row],[Dag]]*IF(ISNUMBER(Hin_T[[#This Row],[AöA]]),1,0),0)","v":0},{"$f":"IFERROR(Hin_T[[#This Row],[År diff]]*IF(ISNUMBER(Hin_T[[#This Row],[4AM]]),1,0),0)","v":0},{"$f":"IFERROR(Hin_T[[#This Row],[År diff]]*IF(ISNUMBER(Hin_T[[#This Row],[15AM]]),1,0),0)","v":0},{"$f":"IF(Hin_T[[#This Row],[B-år]]<=Besvär_T[[#Totals],[Sjukdomsdebut]],Hin_T[[#This Row],[B-år]],\"\")","v":""},{"$f":"IF(Hin_T[[#This Row],[S-år]]<=Besvär_T[[#Totals],[Sjukdomsdebut]],Hin_T[[#This Row],[S-år]],\"\")","v":""},{"$f":"IFERROR(YEARFRAC(IF(AND(ISNUMBER(Hin_T[[#This Row],[B-år RA]]),LEN(Hin_T[[#This Row],[S-år RA]])=0),Hin_T[[#Totals],[15AM-A]],Hin_T[[#This Row],[S-år RA]]),Hin_T[[#This Row],[B-år RA]])*Hin_T[[#This Row],[Dag]]*IF(ISNUMBER(Hin_T[[#This Row],[4AM]]),1,0),0)","v":0},{"$f":"IFERROR(YEARFRAC(IF(AND(ISNUMBER(Hin_T[[#This Row],[B-år RA]]),LEN(Hin_T[[#This Row],[S-år RA]])=0),Hin_T[[#Totals],[15AM-A]],Hin_T[[#This Row],[S-år RA]]),Hin_T[[#This Row],[B-år RA]])*Hin_T[[#This Row],[Dag]]*IF(ISNUMBER(Hin_T[[#This Row],[15AM]]),1,0),0)","v":0},{"$f":"IFERROR(Hin_T[[#This Row],[År diff]]*IF(ISNUMBER(Hin_T[[#This Row],[20-10D]]),1,0),0)","v":0},{"$f":"IF(Hin_T[[#This Row],[B-år]]<=Besvär_T[[#Totals],[Sjukdomsdebut]],Hin_T[[#This Row],[B-år]],\"\")","v":""},{"$f":"IF(Hin_T[[#This Row],[S-år]]<=Besvär_T[[#Totals],[Sjukdomsdebut]],Hin_T[[#This Row],[S-år]],\"\")","v":""},{"$f":"IFERROR(YEARFRAC(IF(AND(ISNUMBER(Hin_T[[#This Row],[B-år TMH]]),LEN(Hin_T[[#This Row],[S-år TMH]])=0),Hin_T[[#Totals],[15AM-A]],Hin_T[[#This Row],[S-år TMH]]),Hin_T[[#This Row],[B-år TMH]])*Hin_T[[#This Row],[Dag]]*IF(ISNUMBER(Hin_T[[#This Row],[20-10D]]),1,0),0)","v":0},{"$f":"IF(Hin_T[[#This Row],[Vib]]=JN_T[JN],1,0)","v":0},{"$f":"IFERROR(Hin_T[[#This Row],[År diff]]*IF(Hin_T[[#This Row],[Vib2]]>0,1,0),0)","v":0},{"$f":"IF(Hin_T[[#This Row],[B-år]]<=Besvär_T[[#Totals],[Sjukdomsdebut]],Hin_T[[#This Row],[B-år]],\"\")","v":""},{"$f":"IF(Hin_T[[#This Row],[S-år]]<=Besvär_T[[#Totals],[Sjukdomsdebut]],Hin_T[[#This Row],[S-år]],\"\")","v":""},{"$f":"IFERROR(YEARFRAC(IF(AND(ISNUMBER(Hin_T[[#This Row],[B-år VIB]]),LEN(Hin_T[[#This Row],[S-år Vib]])=0),Hin_T[[#Totals],[15AM-A]],Hin_T[[#This Row],[S-år Vib]]),Hin_T[[#This Row],[B-år VIB]])*IF(Hin_T[[#This Row],[Vib2]]>0,1,0),0)","v":0},{"$f":"Hin_T[[#This Row],[HöA]]*Hin_T[[#This Row],[tot år HöA]]*DÅ[Arbetsdag/år]","v":0},{"$f":"Hin_T[[#This Row],[tot år AöA]]*Hin_T[[#This Row],[AöA]]*DÅ[Arbetsdag/år]","v":0},{"$f":"Hin_T[[#This Row],[tot år 4AM]]*Hin_T[[#This Row],[4AM]]*DÅ[Arbetsdag/år]","v":0},{"$f":"Hin_T[[#This Row],[tot år 15AM]]*Hin_T[[#This Row],[15AM]]*DÅ[Arbetsdag/år]","v":0},{"$f":"Hin_T[[#This Row],[tot år 20-10D]]*Hin_T[[#This Row],[20-10D]]*DÅ[Arbetsdag/år]","v":0},{"$f":"Hin_T[[#This Row],[BD år HöA]]*Hin_T[[#This Row],[HöA]]*DÅ[Arbetsdag/år]","v":0},{"$f":"Hin_T[[#This Row],[BD år AöA]]*Hin_T[[#This Row],[AöA]]*DÅ[Arbetsdag/år]","v":0},{"$f":"Hin_T[[#This Row],[BD år 4AM]]*Hin_T[[#This Row],[4AM]]*DÅ[Arbetsdag/år]","v":0},{"$f":"Hin_T[[#This Row],[BD år 15AM]]*Hin_T[[#This Row],[15AM]]*DÅ[Arbetsdag/år]","v":0},{"$f":"Hin_T[[#This Row],[BD år 20-10D]]*Hin_T[[#This Row],[20-10D]]*DÅ[Arbetsdag/år]","v":0},{"$f":"Hin_T[[#This Row],[Arbetsmoment]]&Hin_T[[#This Row],[Text AöA]]&Hin_T[[#This Row],[Text 15AM]]&IF(Hin_T[[#This Row],[Dagarna]]=DÅ[Arbetsdag/år],\"\",\". \"&Hin_T[[#This Row],[Dagarna]]&\" dagar/år\")&\". \"","v":". "},{"$f":"IF(ISBLANK(Hin_T[[#This Row],[AöA]]),\"\",Exp_T[Överarmslyft> 90°: ]&IF(VALUE(TEXT(Hin_T[[#This Row],[AöA]],\"t\"))>0,VALUE(TEXT(Hin_T[[#This Row],[AöA]],\"t\"))&\" h\",\"\")&IF(AND(VALUE(TEXT(Hin_T[[#This Row],[AöA]],\"t\"))>0,VALUE(TEXT(Hin_T[[#This Row],[AöA]],\"m\"))>2.4),\" \",\"\")&IF(VALUE(TEXT(Hin_T[[#This Row],[AöA]],\"m\"))>2.4,TEXT(ROUND(Hin_T[[#This Row],[AöA]]*(24*60/5),0)/(24*60/5),\"m\")&\" min\",\"\")&\"/dag\")","v":""},{"$f":"IF(ISBLANK(Hin_T[[#This Row],[15AM]]),\"\",Exp_T[Överarmsrörelser> 15/min: ]&IF(VALUE(TEXT(Hin_T[[#This Row],[15AM]],\"t\"))>0,VALUE(TEXT(Hin_T[[#This Row],[15AM]],\"t\"))&\" h\",\"\")&IF(AND(VALUE(TEXT(Hin_T[[#This Row],[15AM]],\"t\"))>0,VALUE(TEXT(Hin_T[[#This Row],[15AM]],\"m\"))>2.4),\" \",\"\")&IF(VALUE(TEXT(Hin_T[[#This Row],[15AM]],\"m\"))>2.4,TEXT(ROUND(Hin_T[[#This Row],[15AM]]*(24*60/5),0)/(24*60/5),\"m\")&\" min\",\"\")&\"/dag\")","v":""},null,null,null,null,{"$f":"SMALL(Hin_T[[StartÅR]:[SlutÅr]],ROW()-ROW(Medel_T[[#Headers],[Start]]))","v":{"$error":"#NUM!"}},{"$f":"SMALL(Hin_T[[StartÅR]:[SlutÅr]],ROW()-ROW(Medel_T[[#Headers],[Slut]])+1)","v":{"$error":"#NUM!"}},{"$f":"IF(Medel_T[[#This Row],[Start]]<=Besvär_T[[#Totals],[Sjukdomsdebut]],Medel_T[[#This Row],[Start]],\"\")","v":{"$error":"#NUM!"}},{"$f":"IF(Medel_T[[#This Row],[Slut]]<=Besvär_T[[#Totals],[Sjukdomsdebut]],Medel_T[[#This Row],[Slut]],IF(AND(LEN(Medel_T[[#This Row],[SJDstart]])>0,LEN(BU37)=0),Besvär_T[[#Totals],[Sjukdomsdebut]],\"\"))","v":{"$error":"#NUM!"}},{"$f":"IF(Medel_T[[#This Row],[Start]]>=Besvär_T[[#Totals],[Sjukdomsdebut]],Medel_T[[#This Row],[Start]],IF(AND(LEN(Medel_T[[#This Row],[EfterSlut]])>0,LEN(BX35)=0),Besvär_T[[#Totals],[Sjukdomsdebut]],\"\"))","v":{"$error":"#NUM!"}},{"$f":"IF(Medel_T[[#This Row],[Slut]]>=Besvär_T[[#Totals],[Sjukdomsdebut]],Medel_T[[#This Row],[Slut]],\"\")","v":{"$error":"#NUM!"}},{"$f":"COUNTIF($BZ$19:BZ36,\">0\")","v":0},{"$f":"COUNTIFS(Hin_T[B-år],\"<=\"&Medel_T[[#This Row],[Start]],Hin_T[S-år],\">=\"&Medel_T[[#This Row],[Slut]])","v":0},{"$f":"SUBSTITUTE(_xlfn.TEXTJOIN(Sep_T[Separator],TRUE,_xlfn._xlws.SORT(_xlfn.UNIQUE(IF((Hin_T[[B-år]:[B-år]]<=Medel_T[[#This Row],[Start]:[Start]])*(Hin_T[[S-år]:[S-år]]>=Medel_T[[#This Row],[Slut]:[Slut]]),Hin_T[Yrke],\"\")))),0&Sep_T[Separator],\"\")","v":{"$error":"#NUM!"}},{"$f":"SUBSTITUTE(_xlfn.TEXTJOIN(Sep_T[Separator],TRUE,_xlfn._xlws.SORT(_xlfn.UNIQUE(IF((Hin_T[[B-år]:[B-år]]<=Medel_T[[#This Row],[Start]:[Start]])*(Hin_T[[S-år]:[S-år]]>=Medel_T[[#This Row],[Slut]:[Slut]]),Hin_T[Arbetsmoment],\"\")))),0&Sep_T[Separator],\"\")","v":{"$error":"#NUM!"}},{"$f":"IF(LEN(Medel_T[[#This Row],[Yrke]])>0,Medel_T[[#Headers],[Period ]]&Medel_T[[#This Row],[NrX]]&\": \"&TEXT(Medel_T[[#This Row],[Start]],\"ÅÅÅÅ\")&List_T[[#Totals],[List symb]]&TEXT(Medel_T[[#This Row],[Slut]],\"ÅÅÅÅ\")&\" (\"&ROUND(Medel_T[[#This Row],[År]],1)&\" år) Anställd som \"&IFERROR(SUBSTITUTE(SUBSTITUTE(Medel_T[[#This Row],[Yrke]],Sep_T[Separator],\" och \",Medel_T[[#This Row],[Ant]]-1),Sep_T[Separator],\", \"),Medel_T[[#This Row],[Yrke]])&↓[↓],\"\")","v":{"$error":"#NUM!"}},{"$f":"IF(LEN(Medel_T[[#This Row],[Arbetsmoment]])>0,ROMAN(1)&\") \"&_xlfn.TEXTJOIN(Delim[Delimiters],TRUE,_xlfn._xlws.SORT(_xlfn.UNIQUE(IF((Hin_T[[B-år]:[B-år]]<=Medel_T[[#This Row],[Start]:[Start]])*(Hin_T[[S-år]:[S-år]]>=Medel_T[[#This Row],[Slut]:[Slut]]),Hin_T[Text],\"\"))))&↓[↓],\"\")","v":{"$error":"#NUM!"}},{"$f":"SUMPRODUCT((Hin_T[[B-år]:[B-år]]<=Medel_T[[#This Row],[Start]:[Start]])*(Hin_T[[S-år]:[S-år]]>=Medel_T[[#This Row],[Slut]:[Slut]])*Hin_T[Dag])","v":{"$error":"#NUM!"}},{"$f":"IF(Medel_T[[#This Row],[Proc dag]]<=1,Medel_T[[#This Row],[Proc dag]],1)","v":{"$error":"#NUM!"}},{"$f":"YEARFRAC(Medel_T[[#This Row],[Slut]],Medel_T[[#This Row],[Start]])","v":{"$error":"#NUM!"}},{"$f":"YEARFRAC(Medel_T[[#This Row],[SJDslut]],Medel_T[[#This Row],[SJDstart]])","v":{"$error":"#NUM!"}},{"$f":"IFERROR(SUMPRODUCT((Hin_T[[B-år]:[B-år]]<=Medel_T[[#This Row],[Start]:[Start]])*(Hin_T[[S-år]:[S-år]]>=Medel_T[[#This Row],[Slut]:[Slut]])*Hin_T[HöA]*Hin_T[[Dag]:[Dag]])/Medel_T[[#This Row],[Proc dag]],-1)","v":-1},{"$f":"IFERROR(SUMPRODUCT((Hin_T[[B-år]:[B-år]]<=Medel_T[[#This Row],[Start]:[Start]])*(Hin_T[[S-år]:[S-år]]>=Medel_T[[#This Row],[Slut]:[Slut]])*Hin_T[AöA]*Hin_T[[Dag]:[Dag]])/Medel_T[[#This Row],[Proc dag]],-1)","v":-1},{"$f":"IFERROR(SUMPRODUCT((Hin_T[[B-år]:[B-år]]<=Medel_T[[#This Row],[Start]:[Start]])*(Hin_T[[S-år]:[S-år]]>=Medel_T[[#This Row],[Slut]:[Slut]])*Hin_T[4AM]*Hin_T[[Dag]:[Dag]])/Medel_T[[#This Row],[Proc dag]],-1)","v":-1},{"$f":"IFERROR(SUMPRODUCT((Hin_T[[B-år]:[B-år]]<=Medel_T[[#This Row],[Start]:[Start]])*(Hin_T[[S-år]:[S-år]]>=Medel_T[[#This Row],[Slut]:[Slut]])*Hin_T[15AM]*Hin_T[[Dag]:[Dag]])/Medel_T[[#This Row],[Proc dag]],-1)","v":-1},{"$f":"IFERROR(SUMPRODUCT((Hin_T[[B-år]:[B-år]]<=Medel_T[[#This Row],[Start]:[Start]])*(Hin_T[[S-år]:[S-år]]>=Medel_T[[#This Row],[Slut]:[Slut]])*Hin_T[20-10D]*Hin_T[[Dag]:[Dag]])/Medel_T[[#This Row],[Proc dag]],-1)","v":-1},{"$f":"IFERROR(SUMPRODUCT((Hin_T[[B-år]:[B-år]]<=Medel_T[[#This Row],[Start]:[Start]])*(Hin_T[[S-år]:[S-år]]>=Medel_T[[#This Row],[Slut]:[Slut]])*Hin_T[[Dag]:[Dag]]*Hin_T[HöA])/Medel_T[[#This Row],[Dag sum]],-1)","v":-1},{"$f":"IFERROR(SUMPRODUCT((Hin_T[[B-år]:[B-år]]<=Medel_T[[#This Row],[Start]:[Start]])*(Hin_T[[S-år]:[S-år]]>=Medel_T[[#This Row],[Slut]:[Slut]])*Hin_T[[Dag]:[Dag]]*Hin_T[AöA])/Medel_T[[#This Row],[Dag sum]],-1)","v":-1},{"$f":"IFERROR(SUMPRODUCT((Hin_T[[B-år]:[B-år]]<=Medel_T[[#This Row],[Start]:[Start]])*(Hin_T[[S-år]:[S-år]]>=Medel_T[[#This Row],[Slut]:[Slut]])*Hin_T[[Dag]:[Dag]]*Hin_T[4AM])/Medel_T[[#This Row],[Dag sum]],-1)","v":-1},{"$f":"IFERROR(SUMPRODUCT((Hin_T[[B-år]:[B-år]]<=Medel_T[[#This Row],[Start]:[Start]])*(Hin_T[[S-år]:[S-år]]>=Medel_T[[#This Row],[Slut]:[Slut]])*Hin_T[15AM]*Hin_T[[Dag]:[Dag]])/Medel_T[[#This Row],[Dag sum]],-1)","v":-1},{"$f":"IFERROR(SUMPRODUCT((Hin_T[[B-år]:[B-år]]<=Medel_T[[#This Row],[Start]:[Start]])*(Hin_T[[S-år]:[S-år]]>=Medel_T[[#This Row],[Slut]:[Slut]])*Hin_T[[Dag]:[Dag]]*Hin_T[20-10D])/Medel_T[[#This Row],[Dag sum]],-1)","v":-1},{"$f":"IFERROR(Medel_T[[#This Row],[Dag sum]:[Dag sum]]*Medel_T[[#This Row],[År]:[År]]*Medel_T[[#This Row],[HöA T]]*DÅ[Arbetsdag/år],0)","v":0},{"$f":"IFERROR(Medel_T[[#This Row],[Dag sum]:[Dag sum]]*Medel_T[[#This Row],[År]:[År]]*Medel_T[[#This Row],[AöA T]]*DÅ[Arbetsdag/år],0)","v":0},{"$f":"IFERROR(Medel_T[[#This Row],[Dag sum]:[Dag sum]]*Medel_T[[#This Row],[År]:[År]]*Medel_T[[#This Row],[4AM T]]*DÅ[Arbetsdag/år],0)","v":0},{"$f":"IFERROR(Medel_T[[#This Row],[Dag sum]:[Dag sum]]*Medel_T[[#This Row],[År]:[År]]*Medel_T[[#This Row],[15AM T]]*DÅ[Arbetsdag/år],0)","v":0},{"$f":"IFERROR(Medel_T[[#This Row],[Dag sum]:[Dag sum]]*Medel_T[[#This Row],[År]:[År]]*Medel_T[[#This Row],[20-10D T]]*DÅ[Arbetsdag/år],0)","v":0},{"$f":"IFERROR(Medel_T[[#This Row],[Dag sum]:[Dag sum]]*Medel_T[[#This Row],[ÅrSjuk]:[ÅrSjuk]]*Medel_T[[#This Row],[HöA T]]*DÅ[Arbetsdag/år],0)","v":0},{"$f":"IFERROR(Medel_T[[#This Row],[Dag sum]:[Dag sum]]*Medel_T[[#This Row],[ÅrSjuk]:[ÅrSjuk]]*Medel_T[[#This Row],[AöA T]]*DÅ[Arbetsdag/år],0)","v":0},{"$f":"IFERROR(Medel_T[[#This Row],[Dag sum]:[Dag sum]]*Medel_T[[#This Row],[ÅrSjuk]:[ÅrSjuk]]*Medel_T[[#This Row],[4AM T]]*DÅ[Arbetsdag/år],0)","v":0},{"$f":"IFERROR(Medel_T[[#This Row],[Dag sum]:[Dag sum]]*Medel_T[[#This Row],[ÅrSjuk]:[ÅrSjuk]]*Medel_T[[#This Row],[15AM T]]*DÅ[Arbetsdag/år],0)","v":0},{"$f":"IFERROR(Medel_T[[#This Row],[Dag sum]:[Dag sum]]*Medel_T[[#This Row],[ÅrSjuk]:[ÅrSjuk]]*Medel_T[[#This Row],[20-10D T]]*DÅ[Arbetsdag/år],0)","v":0},{"$f":"IFERROR(IF(Medel_T[[#This Row],[AöA T]]=0,\"\",List_T[List symb]&Exp_T[[#Headers],[Överarmslyft> 90°: ]]&IF(VALUE(TEXT(Medel_T[[#This Row],[AöA T]],\"t\"))>0,VALUE(TEXT(Medel_T[[#This Row],[AöA T]],\"t\"))&\" h\",\"\")&IF(AND(VALUE(TEXT(Medel_T[[#This Row],[AöA T]],\"t\"))>0,VALUE(TEXT(Medel_T[[#This Row],[AöA T]],\"m\"))>2.4),\" \",\"\")&IF(VALUE(TEXT(Medel_T[[#This Row],[AöA T]],\"m\"))>2.4,TEXT(ROUND(Medel_T[[#This Row],[AöA T]]*(24*60/5),0)/(24*60/5),\"m\")&\" min\",\"\")&\"/dag x \"&ROUND(Medel_T[[#This Row],[Dag sum]:[Dag sum]]*DÅ[Arbetsdag/år],0)&\" dagar x \"&ROUND(Medel_T[[#This Row],[År]:[År]],1)&\" år = \"&TEXT(ROUND(Medel_T[[#This Row],[D AöA§]]*24,1-(INT(LOG10(ABS(Medel_T[[#This Row],[D AöA§]]*24))))),\"0\"&IF(1-(INT(LOG10(ABS(Medel_T[[#This Row],[D AöA§]]*24))))>0,\",\"&REPT(\"0\",1-(INT(LOG10(ABS(Medel_T[[#This Row],[D AöA§]]*24))))),\"\"))& \" h\"),\"\")","v":""},{"$f":"IFERROR(IF(Medel_T[[#This Row],[15AM T]]=0,\"\",List_T[List symb]&Exp_T[[#Headers],[Överarmsrörelser> 15/min: ]]&IF(VALUE(TEXT(Medel_T[[#This Row],[15AM T]],\"t\"))>0,VALUE(TEXT(Medel_T[[#This Row],[15AM T]],\"t\"))&\" h\",\"\")&IF(AND(VALUE(TEXT(Medel_T[[#This Row],[15AM T]],\"t\"))>0,VALUE(TEXT(Medel_T[[#This Row],[15AM T]],\"m\"))>2.4),\" \",\"\")&IF(VALUE(TEXT(Medel_T[[#This Row],[15AM T]],\"m\"))>2.4,TEXT(ROUND(Medel_T[[#This Row],[15AM T]]*(24*60/5),0)/(24*60/5),\"m\")&\" min\",\"\")&\"/dag x \"&ROUND(Medel_T[[#This Row],[Dag sum]:[Dag sum]]*DÅ[Arbetsdag/år],0)&\" dagar x \"&ROUND(Medel_T[[#This Row],[År]:[År]],1)&\" år = \"&TEXT(ROUND(Medel_T[[#This Row],[D 15AM§]]*24,1-(INT(LOG10(ABS(Medel_T[[#This Row],[D 15AM§]]*24))))),\"0\"&IF(1-(INT(LOG10(ABS(Medel_T[[#This Row],[D 15AM§]]*24))))>0,\",\"&REPT(\"0\",1-(INT(LOG10(ABS(Medel_T[[#This Row],[D 15AM§]]*24))))),\"\"))& \" h\"),\"\")","v":""},{"$f":"IFERROR(IF(OR(LEN(Medel_T[[#This Row],[AöA text]])>0,LEN(Medel_T[[#This Row],[15AM Text]])>0),Exp_T[Anställning]&YEAR(Medel_T[[#This Row],[Start]])&List_T[[#Totals],[List symb]]&YEAR(Medel_T[[#This Row],[Slut]])&\" (\"&ROUND(Medel_T[[#This Row],[År]],1)&\" år)\"&IF(LEN(Medel_T[[#This Row],[AöA text]])>0,↓[↓],\"\")&Medel_T[[#This Row],[AöA text]]&IF(LEN(Medel_T[[#This Row],[15AM Text]])>0,↓[↓],\"\")&Medel_T[[#This Row],[15AM Text]],\"\"),\"\")","v":""},{"$f":"IFERROR(IF(Medel_T[[#This Row],[AöA T]]=0,\"\",List_T[List symb]&Exp_T[[#Headers],[Överarmsrörelser> 15/min: ]]&IF(VALUE(TEXT(Medel_T[[#This Row],[AöA T]],\"t\"))>0,VALUE(TEXT(Medel_T[[#This Row],[AöA T]],\"t\"))&\" h\",\"\")&IF(AND(VALUE(TEXT(Medel_T[[#This Row],[AöA T]],\"t\"))>0,VALUE(TEXT(Medel_T[[#This Row],[AöA T]],\"m\"))>2.4),\" \",\"\")&IF(VALUE(TEXT(Medel_T[[#This Row],[AöA T]],\"m\"))>2.4,TEXT(ROUND(Medel_T[[#This Row],[AöA T]]*(24*60/5),0)/(24*60/5),\"m\")&\" min\",\"\")&\"/dag x \"&ROUND(Medel_T[[#This Row],[Dag sum]:[Dag sum]]*DÅ[Arbetsdag/år],0)&\" dagar x \"&ROUND(Medel_T[[#This Row],[År]:[År]],1)&\" år = \"&TEXT(ROUND(Medel_T[[#This Row],[D AöA¤]]*24,1-(INT(LOG10(ABS(Medel_T[[#This Row],[D AöA¤]]*24))))),\"0\"&IF(1-(INT(LOG10(ABS(Medel_T[[#This Row],[D AöA¤]]*24))))>0,\",\"&REPT(\"0\",1-(INT(LOG10(ABS(Medel_T[[#This Row],[D AöA¤]]*24))))),\"\"))& \" h\"),\"\")","v":""},{"$f":"IFERROR(IF(Medel_T[[#This Row],[15AM T]]=0,\"\",List_T[List symb]&Exp_T[[#Headers],[Överarmslyft> 90°: ]]&IF(VALUE(TEXT(Medel_T[[#This Row],[15AM T]],\"t\"))>0,VALUE(TEXT(Medel_T[[#This Row],[15AM T]],\"t\"))&\" h\",\"\")&IF(AND(VALUE(TEXT(Medel_T[[#This Row],[15AM T]],\"t\"))>0,VALUE(TEXT(Medel_T[[#This Row],[15AM T]],\"m\"))>0),\" \",\"\")&IF(VALUE(TEXT(Medel_T[[#This Row],[15AM T]],\"m\"))>0,TEXT(ROUND(Medel_T[[#This Row],[15AM T]]*(24*60/5),0)/(24*60/5),\"m\")&\" min\",\"\")&\"/dag x \"&ROUND(Medel_T[[#This Row],[Dag sum]:[Dag sum]]*DÅ[Arbetsdag/år],0)&\" dagar x \"&ROUND(Medel_T[[#This Row],[År]:[År]],1)&\" år = \"&TEXT(ROUND(Medel_T[[#This Row],[D 15AM¤]]*24,1-(INT(LOG10(ABS(Medel_T[[#This Row],[D 15AM¤]]*24))))),\"0\"&IF(1-(INT(LOG10(ABS(Medel_T[[#This Row],[D 15AM¤]]*24))))>0,\",\"&REPT(\"0\",1-(INT(LOG10(ABS(Medel_T[[#This Row],[D 15AM¤]]*24))))),\"\"))& \" h\"),\"\")","v":""},{"$f":"IFERROR(IF(LEN(Medel_T[[#This Row],[SJDstart]])>0,Exp_T[Anställning]&↓[↓]&YEAR(Medel_T[[#This Row],[Start]])&List_T[[#Totals],[List symb]]&YEAR(Medel_T[[#This Row],[Slut]])&\" (\"&ROUND(Medel_T[[#This Row],[År]],1)&\" år)\"&IF(LEN(Medel_T[[#This Row],[AöA text Sjuk]])>0,↓[↓],\"\")&Medel_T[[#This Row],[AöA text Sjuk]]&IF(LEN(Medel_T[[#This Row],[15AM Text Sjuk]])>0,↓[↓],\"\")&Medel_T[[#This Row],[15AM Text Sjuk]],\"\"),\"\")","v":""},{"$f":"IFERROR(Medel_T[[#This Row],[Period ]]&Medel_T[[#This Row],[ArbMomText]]&Medel_T[[#This Row],[Text]],\"\")","v":""},{"$f":"IF(AND(DJ35>=MAX(Medel_T[NrX]),ISNUMBER(DJ35)),Medel_T[[#Totals],[NrX]]+ROW()-ROW(Medel_T[[#Headers],[Rad]])-Medel_T[[#Totals],[Ant]]-1,INDEX(Medel_T[NrX],MATCH(ROW()-ROW(Medel_T[[#Headers],[Rad]]),Medel_T[NrX],0)))","v":{"$error":"#N/A"}},{"$f":"IF(Medel_T[[#This Row],[Rad]]<=Medel_T[[#Totals],[Ant]],MATCH(Medel_T[[#This Row],[Rad]],Medel_T[NrX],0),IFERROR(INDEX(BD_TX[[#Data],[#Totals],[SJ]],MATCH(Medel_T[[#This Row],[Rad]],BD_TX[[#Data],[#Totals],[Nr]],0)),\"\"))","v":{"$error":"#N/A"}},{"$f":"LEN(Medel_T[[#This Row],[Yrke2]])-LEN(SUBSTITUTE(Medel_T[[#This Row],[Yrke2]],LEFT(Sep_T[Separator],1),\"\"))","v":0},{"$f":"INDEX(Medel_T[År],Medel_T[[#This Row],[Nr]])","v":{"$error":"#N/A"}},{"$f":"IFERROR(IF(LEN(Medel_T[[#This Row],[Nr]])>0,TEXT(IFERROR(INDEX(Medel_T[Start],Medel_T[[#This Row],[Nr]]),INDEX(BD_TX[[#Data],[#Totals],[Start]],MATCH(Medel_T[[#This Row],[Rad]],BD_TX[[#Data],[#Totals],[Nr]],0))),\"ÅÅÅÅ MMM\")&\"-\"&TEXT(IFERROR(INDEX(Medel_T[Slut],Medel_T[[#This Row],[Nr]]),INDEX(BD_TX[[#Data],[#Totals],[År]],MATCH(Medel_T[[#This Row],[Rad]],BD_TX[[#Data],[#Totals],[Nr]],0))),\"ÅÅÅÅ MMM\"),\"\"),\"\")","v":""},{"$f":"IFERROR(IF(LEN(Medel_T[[#This Row],[Nr]])>0,IF(Medel_T[[#This Row],[Rad]]>Medel_T[[#Totals],[Ant]],IFERROR(INDEX(BD_TX[[#Data],[#Totals],[Text]],MATCH(Medel_T[[#This Row],[Rad]],BD_TX[[#Data],[#Totals],[Nr]],0)),\"\"),INDEX(Medel_T[Yrke],Medel_T[[#This Row],[Nr]])),\"\"),\"\")","v":""},{"$f":"IFERROR(INDEX(Medel_T[Arbetsmoment],MATCH(ROW()-ROW(Medel_T[[#Headers],[Arbetsmoment2]]),Medel_T[[NrX]:[NrX]],0)),\"\")","v":""},{"$f":"IFERROR(INDEX(Medel_T[],Medel_T[[#This Row],[Nr]],Medel_T[[#Totals],[HöA_T]]),\"\")","v":""},{"$f":"IF(LEN(Medel_T[[#This Row],[Nr]:[Nr]])>0,IFERROR(TEXT(ROUND(24*IFERROR(INDEX(Medel_T[],Medel_T[[#This Row],[Nr]:[Nr]],Medel_T[[#Totals],[D HöA]]),INDEX(Sum_T[[#Data],[#Totals]],MATCH(Medel_T[[#This Row],[Nr]:[Nr]],Sum_T[[#Data],[#Totals],[Typ]:[Typ]],0),MATCH(Medel_T[[#Headers],[D HöA]],Sum_T[#Headers],0))),1-(INT(LOG10(ABS(24*IFERROR(INDEX(Medel_T[],Medel_T[[#This Row],[Nr]:[Nr]],Medel_T[[#Totals],[D HöA]]),INDEX(Sum_T[[#Data],[#Totals]],MATCH(Medel_T[[#This Row],[Nr]:[Nr]],Sum_T[[#Data],[#Totals],[Typ]:[Typ]],0),MATCH(Medel_T[[#Headers],[D HöA]],Sum_T[#Headers],0)))))))),\"0\"&IF(1-(INT(LOG10(ABS(24*IFERROR(INDEX(Medel_T[],Medel_T[[#This Row],[Nr]:[Nr]],Medel_T[[#Totals],[D HöA]]),INDEX(Sum_T[[#Data],[#Totals]],MATCH(Medel_T[[#This Row],[Nr]:[Nr]],Sum_T[[#Data],[#Totals],[Typ]:[Typ]],0),MATCH(Medel_T[[#Headers],[D HöA]],Sum_T[#Headers],0)))))))>0,\",\"&REPT(\"0\",1-(INT(LOG10(ABS(24*IFERROR(INDEX(Medel_T[],Medel_T[[#This Row],[Nr]:[Nr]],Medel_T[[#Totals],[D HöA]]),INDEX(Sum_T[[#Data],[#Totals]],MATCH(Medel_T[[#This Row],[Nr]:[Nr]],Sum_T[[#Data],[#Totals],[Typ]:[Typ]],0),MATCH(Medel_T[[#Headers],[D HöA]],Sum_T[#Headers],0)))))))),0)),0),\"\")","v":{"$error":"#N/A"}},{"$f":"IFERROR(INDEX(Medel_T[],Medel_T[[#This Row],[Nr]],Medel_T[[#Totals],[AÖA_T]]),\"\")","v":""},{"$f":"IFERROR(IF(LEN(Medel_T[[#This Row],[Nr]:[Nr]])>0,IFERROR(TEXT(ROUND(24*IFERROR(INDEX(Medel_T[],Medel_T[[#This Row],[Nr]:[Nr]],Medel_T[[#Totals],[D AöA]]),INDEX(Sum_T[[#Data],[#Totals]],MATCH(Medel_T[[#This Row],[Nr]:[Nr]],Sum_T[[#Data],[#Totals],[Typ]:[Typ]],0),MATCH(Medel_T[[#Headers],[D AöA]],Sum_T[#Headers],0))),1-(INT(LOG10(ABS(24*IFERROR(INDEX(Medel_T[],Medel_T[[#This Row],[Nr]:[Nr]],Medel_T[[#Totals],[D AöA]]),INDEX(Sum_T[[#Data],[#Totals]],MATCH(Medel_T[[#This Row],[Nr]:[Nr]],Sum_T[[#Data],[#Totals],[Typ]:[Typ]],0),MATCH(Medel_T[[#Headers],[D AöA]],Sum_T[#Headers],0)))))))),\"0\"&IF(1-(INT(LOG10(ABS(24*IFERROR(INDEX(Medel_T[],Medel_T[[#This Row],[Nr]:[Nr]],Medel_T[[#Totals],[D AöA]]),INDEX(Sum_T[[#Data],[#Totals]],MATCH(Medel_T[[#This Row],[Nr]:[Nr]],Sum_T[[#Data],[#Totals],[Typ]:[Typ]],0),MATCH(Medel_T[[#Headers],[D AöA]],Sum_T[#Headers],0)))))))>0,\",\"&REPT(\"0\",1-(INT(LOG10(ABS(24*IFERROR(INDEX(Medel_T[],Medel_T[[#This Row],[Nr]:[Nr]],Medel_T[[#Totals],[D AöA]]),INDEX(Sum_T[[#Data],[#Totals]],MATCH(Medel_T[[#This Row],[Nr]:[Nr]],Sum_T[[#Data],[#Totals],[Typ]:[Typ]],0),MATCH(Medel_T[[#Headers],[D AöA]],Sum_T[#Headers],0)))))))),0)),0),\"\"),\"\")","v":""},{"$f":"IFERROR(INDEX(Medel_T[],Medel_T[[#This Row],[Nr]],Medel_T[[#Totals],[4AM_T]]),\"\")","v":""},{"$f":"IF(LEN(Medel_T[[#This Row],[Nr]:[Nr]])>0,IFERROR(TEXT(ROUND(24*IFERROR(INDEX(Medel_T[],Medel_T[[#This Row],[Nr]:[Nr]],Medel_T[[#Totals],[D 4AM]]),INDEX(Sum_T[[#Data],[#Totals]],MATCH(Medel_T[[#This Row],[Nr]:[Nr]],Sum_T[[#Data],[#Totals],[Typ]:[Typ]],0),MATCH(Medel_T[[#Headers],[D 4AM]],Sum_T[#Headers],0))),1-(INT(LOG10(ABS(24*IFERROR(INDEX(Medel_T[],Medel_T[[#This Row],[Nr]:[Nr]],Medel_T[[#Totals],[D 4AM]]),INDEX(Sum_T[[#Data],[#Totals]],MATCH(Medel_T[[#This Row],[Nr]:[Nr]],Sum_T[[#Data],[#Totals],[Typ]:[Typ]],0),MATCH(Medel_T[[#Headers],[D 4AM]],Sum_T[#Headers],0)))))))),\"0\"&IF(1-(INT(LOG10(ABS(24*IFERROR(INDEX(Medel_T[],Medel_T[[#This Row],[Nr]:[Nr]],Medel_T[[#Totals],[D 4AM]]),INDEX(Sum_T[[#Data],[#Totals]],MATCH(Medel_T[[#This Row],[Nr]:[Nr]],Sum_T[[#Data],[#Totals],[Typ]:[Typ]],0),MATCH(Medel_T[[#Headers],[D 4AM]],Sum_T[#Headers],0)))))))>0,\",\"&REPT(\"0\",1-(INT(LOG10(ABS(24*IFERROR(INDEX(Medel_T[],Medel_T[[#This Row],[Nr]:[Nr]],Medel_T[[#Totals],[D 4AM]]),INDEX(Sum_T[[#Data],[#Totals]],MATCH(Medel_T[[#This Row],[Nr]:[Nr]],Sum_T[[#Data],[#Totals],[Typ]:[Typ]],0),MATCH(Medel_T[[#Headers],[D 4AM]],Sum_T[#Headers],0)))))))),0)),0),\"\")","v":{"$error":"#N/A"}},{"$f":"IFERROR(INDEX(Medel_T[],Medel_T[[#This Row],[Nr]],Medel_T[[#Totals],[15AM_T]]),\"\")","v":""},{"$f":"IFERROR(IF(LEN(Medel_T[[#This Row],[Nr]:[Nr]])>0,IFERROR(TEXT(ROUND(24*IFERROR(INDEX(Medel_T[],Medel_T[[#This Row],[Nr]:[Nr]],Medel_T[[#Totals],[D 15AM]]),INDEX(Sum_T[[#Data],[#Totals]],MATCH(Medel_T[[#This Row],[Nr]:[Nr]],Sum_T[[#Data],[#Totals],[Typ]:[Typ]],0),MATCH(Medel_T[[#Headers],[D 15AM]],Sum_T[#Headers],0))),1-(INT(LOG10(ABS(24*IFERROR(INDEX(Medel_T[],Medel_T[[#This Row],[Nr]:[Nr]],Medel_T[[#Totals],[D 15AM]]),INDEX(Sum_T[[#Data],[#Totals]],MATCH(Medel_T[[#This Row],[Nr]:[Nr]],Sum_T[[#Data],[#Totals],[Typ]:[Typ]],0),MATCH(Medel_T[[#Headers],[D 15AM]],Sum_T[#Headers],0)))))))),\"0\"&IF(1-(INT(LOG10(ABS(24*IFERROR(INDEX(Medel_T[],Medel_T[[#This Row],[Nr]:[Nr]],Medel_T[[#Totals],[D 15AM]]),INDEX(Sum_T[[#Data],[#Totals]],MATCH(Medel_T[[#This Row],[Nr]:[Nr]],Sum_T[[#Data],[#Totals],[Typ]:[Typ]],0),MATCH(Medel_T[[#Headers],[D 15AM]],Sum_T[#Headers],0)))))))>0,\",\"&REPT(\"0\",1-(INT(LOG10(ABS(24*IFERROR(INDEX(Medel_T[],Medel_T[[#This Row],[Nr]:[Nr]],Medel_T[[#Totals],[D 15AM]]),INDEX(Sum_T[[#Data],[#Totals]],MATCH(Medel_T[[#This Row],[Nr]:[Nr]],Sum_T[[#Data],[#Totals],[Typ]:[Typ]],0),MATCH(Medel_T[[#Headers],[D 15AM]],Sum_T[#Headers],0)))))))),0)),0),\"\"),\"\")","v":""},{"$f":"IFERROR(INDEX(Medel_T[],Medel_T[[#This Row],[Nr]],Medel_T[[#Totals],[20-10D_T]]),\"\")","v":""},{"$f":"IF(LEN(Medel_T[[#This Row],[Nr]:[Nr]])>0,IFERROR(TEXT(ROUND(24*IFERROR(INDEX(Medel_T[],Medel_T[[#This Row],[Nr]:[Nr]],Medel_T[[#Totals],[D 20-10D]]),INDEX(Sum_T[[#Data],[#Totals]],MATCH(Medel_T[[#This Row],[Nr]:[Nr]],Sum_T[[#Data],[#Totals],[Typ]:[Typ]],0),MATCH(Medel_T[[#Headers],[D 20-10D]],Sum_T[#Headers],0))),1-(INT(LOG10(ABS(24*IFERROR(INDEX(Medel_T[],Medel_T[[#This Row],[Nr]:[Nr]],Medel_T[[#Totals],[D 20-10D]]),INDEX(Sum_T[[#Data],[#Totals]],MATCH(Medel_T[[#This Row],[Nr]:[Nr]],Sum_T[[#Data],[#Totals],[Typ]:[Typ]],0),MATCH(Medel_T[[#Headers],[D 20-10D]],Sum_T[#Headers],0)))))))),\"0\"&IF(1-(INT(LOG10(ABS(24*IFERROR(INDEX(Medel_T[],Medel_T[[#This Row],[Nr]:[Nr]],Medel_T[[#Totals],[D 20-10D]]),INDEX(Sum_T[[#Data],[#Totals]],MATCH(Medel_T[[#This Row],[Nr]:[Nr]],Sum_T[[#Data],[#Totals],[Typ]:[Typ]],0),MATCH(Medel_T[[#Headers],[D 20-10D]],Sum_T[#Headers],0)))))))>0,\",\"&REPT(\"0\",1-(INT(LOG10(ABS(24*IFERROR(INDEX(Medel_T[],Medel_T[[#This Row],[Nr]:[Nr]],Medel_T[[#Totals],[D 20-10D]]),INDEX(Sum_T[[#Data],[#Totals]],MATCH(Medel_T[[#This Row],[Nr]:[Nr]],Sum_T[[#Data],[#Totals],[Typ]:[Typ]],0),MATCH(Medel_T[[#Headers],[D 20-10D]],Sum_T[#Headers],0)))))))),0)),0),\"\")","v":{"$error":"#N/A"}},null,{"$f":"IFERROR(INDEX(Hin_T[Nr],MATCH(SMALL(Hin_T[B-årX],ROW()-ROW(Hut_T[[#Headers],[Rad]])),Hin_T[B-årX],0)),IF(ROWS($EB$19:EB36)=1+COUNTIF(Hin_T[Start],\"*\"),Hin_T[[#Totals],[Dag]],IF(AND(ROWS($EB$19:EB36)=2+COUNTIF(Hin_T[Start],\"*\"),Hin_T[[#Totals],[Q%-]]>0),EB35+1,IF(AND(ROWS($EB$19:EB36)=3+COUNTIF(Hin_T[Start],\"*\"),Hin_T[[#Totals],[Q%-]]>1),EB35+1,IF(AND(ROWS($EB$19:EB36)=4+COUNTIF(Hin_T[Start],\"*\"),Hin_T[[#Totals],[Q%-]]>2),EB35+1,\"\")))))","v":""},{"$f":"IF(Hut_T[[#This Row],[Rad]]<Hin_T[[#Totals],[Dag]],ROWS($EB$19:EB36),IFERROR(INDEX(BD_TX[[#Data],[#Totals],[SJ]],MATCH(Hut_T[[#This Row],[Rad]],BD_TX[[#Data],[#Totals],[NrX]],0)),\"\"))","v":""},{"$f":"IF(ISNUMBER(Hut_T[[#This Row],[Datum-]]),TEXT(Hut_T[[#This Row],[Datum-]],\"ÅÅÅÅ MMM\")&\"-\"&TEXT(Hut_T[[#This Row],[Datum+]],\"ÅÅÅÅ MMM\"),\"\")","v":""},{"$f":"IF(ISNUMBER(Hut_T[[#This Row],[Nr]]),IF(INDEX(Hin_T[Yrke],Hut_T[[#This Row],[Rad]])>0,INDEX(Hin_T[Yrke],Hut_T[[#This Row],[Rad]]),\"\"),IFERROR(INDEX(BD_TX[[#Data],[#Totals],[Text]],MATCH(Hut_T[[#This Row],[Rad]],BD_TX[[#Data],[#Totals],[NrX]],0)),\"\"))","v":""},{"$f":"IF(ISNUMBER(Hut_T[[#This Row],[Nr]]),IF(INDEX(Hin_T[Arbetsmoment],Hut_T[[#This Row],[Rad]])>0,INDEX(Hin_T[Arbetsmoment],Hut_T[[#This Row],[Rad]]),\"\"),\"\")","v":""},{"$f":"IFERROR(IF(INDEX(Hin_T[Yrke],Hut_T[[#This Row],[Rad]])>0,INDEX(Hin_T[Företag],Hut_T[[#This Row],[Rad]]),\"\"),\"\")","v":""},{"$f":"IFERROR(IF(INDEX(Hin_T[Dag],Hut_T[[#This Row],[Rad]])>0,INDEX(Hin_T[Dag],Hut_T[[#This Row],[Rad]])*DÅ[Arbetsdag/år],\"\"),\"\")","v":""},{"$f":"IF(AND(ISNUMBER(_xlfn.SINGLE(Hut_T[[#This Row],[Rad]:[Rad]])),IFERROR(_xlfn.SINGLE(INDEX(Hin_T[[#Data],[#Totals]],_xlfn.SINGLE(Hut_T[[#This Row],[Rad]:[Rad]]),MATCH(Hut_T[[#Headers],[D HöA]],Hin_T[#Headers],0))),\"\")),IFERROR(ROUND(_xlfn.SINGLE(INDEX(Hin_T[[#Data],[#Totals]],_xlfn.SINGLE(Hut_T[[#This Row],[Rad]:[Rad]])-IF(_xlfn.SINGLE(Hut_T[[#This Row],[Nr]:[Nr]])=_xlfn.SINGLE(#REF!),COUNT(Besvär_T[[Sjukdomsdebut]:[Sjukdomsdebut]]),0),MATCH(_xlfn.SINGLE(IF(_xlfn.SINGLE(Hut_T[[#This Row],[Nr]:[Nr]])=_xlfn.SINGLE(#REF!),#REF!,\"\"))&Hut_T[[#Headers],[D HöA]],Hin_T[#Headers],0))),0),\"\"),\"\")","v":""},{"$f":"IF(AND(ISNUMBER(Hut_T[[#This Row],[Rad]:[Rad]]),ISNUMBER(Hut_T[[#This Row],[D HöA]]),ISNUMBER(Hut_T[[#This Row],[Nr]:[Nr]])),IFERROR(ROUND(INDEX(Hin_T[[#Data],[#Totals]],Hut_T[[#This Row],[Rad]:[Rad]],MATCH(Hut_T[[#Headers],[HöA-A]],Hin_T[#Headers],0)),1-(INT(LOG10(INDEX(Hin_T[[#Data],[#Totals]],Hut_T[[#This Row],[Rad]:[Rad]],MATCH(Hut_T[[#Headers],[HöA-A]],Hin_T[#Headers],0)))))),1),\"\")","v":""},{"$f":"IF(AND(ISNUMBER(Hut_T[[#This Row],[Rad]:[Rad]]),IFERROR(INDEX(Hin_T[[#Data],[#Totals]],Hut_T[[#This Row],[Rad]:[Rad]],MATCH(Hut_T[[#Headers],[D AöA]],Hin_T[#Headers],0)),\"\")),IFERROR(ROUND(INDEX(Hin_T[[#Data],[#Totals]],Hut_T[[#This Row],[Rad]:[Rad]]-IF(Hut_T[[#This Row],[Nr]:[Nr]]=BD_TX[[SJ]:[SJ]],COUNT(Besvär_T[[Sjukdomsdebut]:[Sjukdomsdebut]]),0),MATCH(IF(Hut_T[[#This Row],[Nr]:[Nr]]=BD_TX[[#Totals],[SJ]:[SJ]],BD_TX[[#Headers],[SJ]],\"\")&Hut_T[[#Headers],[D AöA]],Hin_T[#Headers],0)),0),\"\"),\"\")","v":""},{"$f":"IF(AND(ISNUMBER(Hut_T[[#This Row],[Rad]:[Rad]]),ISNUMBER(Hut_T[[#This Row],[D AöA]]),ISNUMBER(Hut_T[[#This Row],[Nr]:[Nr]])),IFERROR(ROUND(INDEX(Hin_T[[#Data],[#Totals]],Hut_T[[#This Row],[Rad]:[Rad]],MATCH(Hut_T[[#Headers],[AöA-A]],Hin_T[#Headers],0)),1-(INT(LOG10(INDEX(Hin_T[[#Data],[#Totals]],Hut_T[[#This Row],[Rad]:[Rad]],MATCH(Hut_T[[#Headers],[AöA-A]],Hin_T[#Headers],0)))))),1),\"\")","v":""},{"$f":"IF(AND(ISNUMBER(_xlfn.SINGLE(Hut_T[[#This Row],[Rad]:[Rad]])),IFERROR(_xlfn.SINGLE(INDEX(Hin_T[[#Data],[#Totals]],_xlfn.SINGLE(Hut_T[[#This Row],[Rad]:[Rad]]),MATCH(Hut_T[[#Headers],[D 4AM]],Hin_T[#Headers],0))),\"\")),IFERROR(ROUND(_xlfn.SINGLE(INDEX(Hin_T[[#Data],[#Totals]],_xlfn.SINGLE(Hut_T[[#This Row],[Rad]:[Rad]])-IF(_xlfn.SINGLE(Hut_T[[#This Row],[Nr]:[Nr]])=_xlfn.SINGLE(#REF!),COUNT(Besvär_T[[Sjukdomsdebut]:[Sjukdomsdebut]]),0),MATCH(_xlfn.SINGLE(IF(_xlfn.SINGLE(Hut_T[[#This Row],[Nr]:[Nr]])=_xlfn.SINGLE(#REF!),#REF!,\"\"))&Hut_T[[#Headers],[D 4AM]],Hin_T[#Headers],0))),0),\"\"),\"\")","v":""},{"$f":"IF(AND(ISNUMBER(Hut_T[[#This Row],[Rad]:[Rad]]),ISNUMBER(Hut_T[[#This Row],[D 4AM]]),ISNUMBER(Hut_T[[#This Row],[Nr]:[Nr]])),IFERROR(ROUND(INDEX(Hin_T[[#Data],[#Totals]],Hut_T[[#This Row],[Rad]:[Rad]],MATCH(Hut_T[[#Headers],[4AM-A]],Hin_T[#Headers],0)),1-(INT(LOG10(INDEX(Hin_T[[#Data],[#Totals]],Hut_T[[#This Row],[Rad]:[Rad]],MATCH(Hut_T[[#Headers],[4AM-A]],Hin_T[#Headers],0)))))),1),\"\")","v":""},{"$f":"IF(AND(ISNUMBER(Hut_T[[#This Row],[Rad]:[Rad]]),IFERROR(INDEX(Hin_T[[#Data],[#Totals]],Hut_T[[#This Row],[Rad]:[Rad]],MATCH(Hut_T[[#Headers],[D 15AM]],Hin_T[#Headers],0)),\"\")),IFERROR(ROUND(INDEX(Hin_T[[#Data],[#Totals]],Hut_T[[#This Row],[Rad]:[Rad]]-IF(Hut_T[[#This Row],[Nr]:[Nr]]=BD_TX[[SJ]:[SJ]],COUNT(Besvär_T[[Sjukdomsdebut]:[Sjukdomsdebut]]),0),MATCH(IF(Hut_T[[#This Row],[Nr]:[Nr]]=BD_TX[[#Totals],[SJ]:[SJ]],BD_TX[[#Headers],[SJ]],\"\")&Hut_T[[#Headers],[D 15AM]],Hin_T[#Headers],0)),0),\"\"),\"\")","v":""},{"$f":"IF(AND(ISNUMBER(Hut_T[[#This Row],[Rad]:[Rad]]),ISNUMBER(Hut_T[[#This Row],[D 15AM]]),ISNUMBER(Hut_T[[#This Row],[Nr]:[Nr]])),IFERROR(ROUND(INDEX(Hin_T[[#Data],[#Totals]],Hut_T[[#This Row],[Rad]:[Rad]],MATCH(Hut_T[[#Headers],[15AM-A]],Hin_T[#Headers],0)),1-(INT(LOG10(INDEX(Hin_T[[#Data],[#Totals]],Hut_T[[#This Row],[Rad]:[Rad]],MATCH(Hut_T[[#Headers],[15AM-A]],Hin_T[#Headers],0)))))),1),\"\")","v":""},{"$f":"IF(AND(ISNUMBER(Hut_T[[#This Row],[Rad]:[Rad]]),IFERROR(INDEX(Hin_T[[#Data],[#Totals]],Hut_T[[#This Row],[Rad]:[Rad]],MATCH(Hut_T[[#Headers],[D 20-10D]],Hin_T[#Headers],0)),\"\")),IFERROR(ROUND(INDEX(Hin_T[[#Data],[#Totals]],Hut_T[[#This Row],[Rad]:[Rad]]-IF(Hut_T[[#This Row],[Nr]:[Nr]]=BD_TX[[SJ]:[SJ]],COUNT(Besvär_T[[Sjukdomsdebut]:[Sjukdomsdebut]]),0),MATCH(IF(Hut_T[[#This Row],[Nr]:[Nr]]=BD_TX[[#Totals],[SJ]:[SJ]],BD_TX[[#Headers],[SJ]],\"\")&Hut_T[[#Headers],[D 20-10D]],Hin_T[#Headers],0)),0),\"\"),\"\")","v":""},{"$f":"IF(AND(ISNUMBER(Hut_T[[#This Row],[Rad]:[Rad]]),ISNUMBER(Hut_T[[#This Row],[D 20-10D]]),ISNUMBER(Hut_T[[#This Row],[Nr]:[Nr]])),IFERROR(ROUND(INDEX(Hin_T[[#Data],[#Totals]],Hut_T[[#This Row],[Rad]:[Rad]],MATCH(Hut_T[[#Headers],[20-10D-A]],Hin_T[#Headers],0)),1-(INT(LOG10(INDEX(Hin_T[[#Data],[#Totals]],Hut_T[[#This Row],[Rad]:[Rad]],MATCH(Hut_T[[#Headers],[20-10D-A]],Hin_T[#Headers],0)))))),1),\"\")","v":""},null,{"$f":"IFERROR(INDEX(Hin_T[[#Data],[#Totals],[B-år]],Hut_T[[#This Row],[Rad]]),IF(ISNUMBER(Hut_T[[#This Row],[Datum+]]),ET35,\"\"))","v":""},{"$f":"IFERROR(INDEX(Hin_T[S-år],Hut_T[[#This Row],[Rad]]),IFERROR(INDEX(BD_TX[[#Data],[#Totals],[År]],MATCH(Hut_T[[#This Row],[Rad]],BD_TX[[#Data],[#Totals],[NrX]],0)),\"\"))","v":""},null,{"$f":"ROWS($EW$20:EW36)","v":17},{"$f":"IFERROR(MATCH(Hist_Tab[[#This Row],[Ref]],Medel_T[NrX],0),1)","v":1},{"$f":"INT((ROW(Hist_Tab[[#This Row],[Ref]])-ROW(Hist_Tab[[#Headers],[Ref]])-1)/4)+1","v":5},{"$f":"COUNTIF($EY$19:EY36,Hist_Tab[[#This Row],[Ref]])","v":2},{"$f":"IFERROR(INDEX(Medel_T[Start],Hist_Tab[[#This Row],[Ref]]),_xlfn.AGGREGATE(4,6,Medel_T[Start]))","v":"00:00:00"},{"$f":"IFERROR(INDEX(Medel_T[Slut],Hist_Tab[[#This Row],[Ref]]),_xlfn.AGGREGATE(4,6,Medel_T[Slut]))","v":"00:00:00"},{"$f":"IF(EW35=0,Hist_Tab[[#This Row],[ÅrB]],IF(Hist_Tab[[#This Row],[per/p]]<2,Hist_Tab[[#This Row],[ÅrB]],Hist_Tab[[#This Row],[År S]]))","v":"00:00:00"},{"$f":"IF(Hist_Tab[[#This Row],[Rad]:[Rad]]=0,-1,IF($EY37>_xlfn.AGGREGATE(2,6,Medel_T[[Slut]:[Slut]]),0,INDEX(Medel_T[],Hist_Tab[[#This Row],[Ref]:[Ref]],MATCH(Hist_Tab[[#Headers],[HöA T]],Medel_T[#Headers],0))))","v":0},{"$f":"IF(Hist_Tab[[#This Row],[Rad]:[Rad]]=0,0,IF($EY37>_xlfn.AGGREGATE(2,6,Medel_T[[Slut]:[Slut]]),0,INDEX(Medel_T[],Hist_Tab[[#This Row],[Ref]:[Ref]],MATCH(Hist_Tab[[#Headers],[AöA T]],Medel_T[#Headers],0))))","v":0},{"$f":"IF(Hist_Tab[[#This Row],[Rad]:[Rad]]=0,0,IF($EY37>_xlfn.AGGREGATE(2,6,Medel_T[[Slut]:[Slut]]),0,INDEX(Medel_T[],Hist_Tab[[#This Row],[Ref]:[Ref]],MATCH(Hist_Tab[[#Headers],[4AM T]],Medel_T[#Headers],0))))","v":0},{"$f":"IF(Hist_Tab[[#This Row],[Rad]:[Rad]]=0,0,IF($EY37>_xlfn.AGGREGATE(2,6,Medel_T[[Slut]:[Slut]]),0,INDEX(Medel_T[],Hist_Tab[[#This Row],[Ref]:[Ref]],MATCH(Hist_Tab[[#Headers],[15AM T]],Medel_T[#Headers],0))))","v":0},{"$f":"IF(Hist_Tab[[#This Row],[Rad]:[Rad]]=0,0,IF($EY37>_xlfn.AGGREGATE(2,6,Medel_T[[Slut]:[Slut]]),0,INDEX(Medel_T[],Hist_Tab[[#This Row],[Ref]:[Ref]],MATCH(Hist_Tab[[#Headers],[20-10D T]],Medel_T[#Headers],0))))","v":0}]
[null,null,null,null,null,null,null,null,null,null,null,null,null,null,null,null,null,null,{"$f":"IF(LEN(Hin_T[[#This Row],[Start]])>0,ROWS($S$19:S37),\"\")","v":""},null,{"$f":"Hin_T[[#This Row],[Yrke]]&IF(ISBLANK(Hin_T[[#This Row],[Arbetsmoment]]),\"\",\"; \"&Hin_T[[#This Row],[Arbetsmoment]])","v":""},{"$f":"IFERROR(IF(LEN(Hin_T[[#This Row],[Start]])-LEN(SUBSTITUTE(Hin_T[[#This Row],[Start]],\"-\",\"\"))=2,DATEVALUE(Hin_T[[#This Row],[Start]]),IF(LEN(Hin_T[[#This Row],[Start]])<5,DATEVALUE(Hin_T[[#This Row],[Start]]&\"-01-01\"),DATEVALUE(LEFT(Hin_T[[#This Row],[Start]],IF(LEN(Hin_T[[#This Row],[Start]])>6,4,2))&\"-\"&MID(Hin_T[[#This Row],[Start]],IF(LEN(Hin_T[[#This Row],[Start]])>6,5,3),2)&\"-\"&RIGHT(Hin_T[[#This Row],[Start]],2)))),\"\")","v":""},{"$f":"IFERROR(IF(LEN(Hin_T[[#This Row],[Slut]])-LEN(SUBSTITUTE(Hin_T[[#This Row],[Slut]],\"-\",\"\"))=2,DATEVALUE(Hin_T[[#This Row],[Slut]]),IF(LEN(Hin_T[[#This Row],[Slut]])<5,DATEVALUE(Hin_T[[#This Row],[Slut]]&\"-12-31\"),DATEVALUE(LEFT(Hin_T[[#This Row],[Slut]],IF(LEN(Hin_T[[#This Row],[Slut]])>6,4,2))&\"-\"&MID(Hin_T[[#This Row],[Slut]],IF(LEN(Hin_T[[#This Row],[Slut]])>6,5,3),2)&\"-\"&RIGHT(Hin_T[[#This Row],[Slut]],2)))),\"\")","v":""},{"$f":"IF(COUNTIF(V$19:V37,Hin_T[[#This Row],[B-år]])=1,Hin_T[[#This Row],[B-år]],\"\")","v":""},{"$f":"IF(COUNTIF(W$19:W37,Hin_T[[#This Row],[S-år]])=1,Hin_T[[#This Row],[S-år]],\"\")","v":""},{"$f":"IFERROR(Hin_T[[#This Row],[B-år]]+IF(COUNTIF($V$19:V37,Hin_T[[#This Row],[B-år]])>1,COUNTIF($V$19:V37,Hin_T[[#This Row],[B-år]])/10,0),\"\")","v":""},{"$f":"IF(ISNUMBER(Hin_T[[#This Row],[Dagar]]),Hin_T[[#This Row],[Dagar]]/DÅ[Arbetsdag/år],1)","v":1},{"$f":"Hin_T[[#This Row],[Dag]]*DÅ[Arbetsdag/år]","v":220},{"$f":"IF(LEN(Hin_T[[#This Row],[Yrke]])=4,1,0)","v":0},{"$f":"_xlfn.DAYS(Hin_T[[#This Row],[B-år]],DATE(YEAR(Hin_T[[#This Row],[B-år]]),1,1))/(DATE(YEAR(Hin_T[[#This Row],[B-år]])+1,1,1)-DATE(YEAR(Hin_T[[#This Row],[B-år]]),1,1))","v":{"$error":"#VALUE!"}},{"$f":"_xlfn.DAYS(DATE(YEAR(Hin_T[[#This Row],[S-år]]),12,31),Hin_T[[#This Row],[S-år]])/(DATE(YEAR(Hin_T[[#This Row],[S-år]])+1,1,1)-DATE(YEAR(Hin_T[[#This Row],[S-år]]),1,1))","v":{"$error":"#VALUE!"}},{"$f":"YEARFRAC(Hin_T[[#This Row],[S-år]],Hin_T[[#This Row],[B-år]])*Hin_T[[#This Row],[Dag]]","v":{"$error":"#VALUE!"}},{"$f":"IFERROR(Hin_T[[#This Row],[År diff]]*IF(ISNUMBER(Hin_T[[#This Row],[HöA]]),1,0),0)","v":0},{"$f":"IFERROR(Hin_T[[#This Row],[År diff]]*IF(ISNUMBER(Hin_T[[#This Row],[AöA]]),1,0),0)","v":0},{"$f":"IF(Hin_T[[#This Row],[B-år]]<=Besvär_T[[#Totals],[Sjukdomsdebut]],Hin_T[[#This Row],[B-år]],\"\")","v":""},{"$f":"IF(Hin_T[[#This Row],[S-år]]<=Besvär_T[[#Totals],[Sjukdomsdebut]],Hin_T[[#This Row],[S-år]],\"\")","v":""},{"$f":"IFERROR(YEARFRAC(IF(AND(ISNUMBER(Hin_T[[#This Row],[B-år EA]]),LEN(Hin_T[[#This Row],[S-år EA]])=0),Hin_T[[#Totals],[15AM-A]],Hin_T[[#This Row],[S-år EA]]),Hin_T[[#This Row],[B-år EA]])*Hin_T[[#This Row],[Dag]]*IF(ISNUMBER(Hin_T[[#This Row],[HöA]]),1,0),0)","v":0},{"$f":"IFERROR(YEARFRAC(IF(AND(ISNUMBER(Hin_T[[#This Row],[B-år EA]]),LEN(Hin_T[[#This Row],[S-år EA]])=0),Hin_T[[#Totals],[15AM-A]],Hin_T[[#This Row],[S-år EA]]),Hin_T[[#This Row],[B-år EA]])*Hin_T[[#This Row],[Dag]]*IF(ISNUMBER(Hin_T[[#This Row],[AöA]]),1,0),0)","v":0},{"$f":"IFERROR(Hin_T[[#This Row],[År diff]]*IF(ISNUMBER(Hin_T[[#This Row],[4AM]]),1,0),0)","v":0},{"$f":"IFERROR(Hin_T[[#This Row],[År diff]]*IF(ISNUMBER(Hin_T[[#This Row],[15AM]]),1,0),0)","v":0},{"$f":"IF(Hin_T[[#This Row],[B-år]]<=Besvär_T[[#Totals],[Sjukdomsdebut]],Hin_T[[#This Row],[B-år]],\"\")","v":""},{"$f":"IF(Hin_T[[#This Row],[S-år]]<=Besvär_T[[#Totals],[Sjukdomsdebut]],Hin_T[[#This Row],[S-år]],\"\")","v":""},{"$f":"IFERROR(YEARFRAC(IF(AND(ISNUMBER(Hin_T[[#This Row],[B-år RA]]),LEN(Hin_T[[#This Row],[S-år RA]])=0),Hin_T[[#Totals],[15AM-A]],Hin_T[[#This Row],[S-år RA]]),Hin_T[[#This Row],[B-år RA]])*Hin_T[[#This Row],[Dag]]*IF(ISNUMBER(Hin_T[[#This Row],[4AM]]),1,0),0)","v":0},{"$f":"IFERROR(YEARFRAC(IF(AND(ISNUMBER(Hin_T[[#This Row],[B-år RA]]),LEN(Hin_T[[#This Row],[S-år RA]])=0),Hin_T[[#Totals],[15AM-A]],Hin_T[[#This Row],[S-år RA]]),Hin_T[[#This Row],[B-år RA]])*Hin_T[[#This Row],[Dag]]*IF(ISNUMBER(Hin_T[[#This Row],[15AM]]),1,0),0)","v":0},{"$f":"IFERROR(Hin_T[[#This Row],[År diff]]*IF(ISNUMBER(Hin_T[[#This Row],[20-10D]]),1,0),0)","v":0},{"$f":"IF(Hin_T[[#This Row],[B-år]]<=Besvär_T[[#Totals],[Sjukdomsdebut]],Hin_T[[#This Row],[B-år]],\"\")","v":""},{"$f":"IF(Hin_T[[#This Row],[S-år]]<=Besvär_T[[#Totals],[Sjukdomsdebut]],Hin_T[[#This Row],[S-år]],\"\")","v":""},{"$f":"IFERROR(YEARFRAC(IF(AND(ISNUMBER(Hin_T[[#This Row],[B-år TMH]]),LEN(Hin_T[[#This Row],[S-år TMH]])=0),Hin_T[[#Totals],[15AM-A]],Hin_T[[#This Row],[S-år TMH]]),Hin_T[[#This Row],[B-år TMH]])*Hin_T[[#This Row],[Dag]]*IF(ISNUMBER(Hin_T[[#This Row],[20-10D]]),1,0),0)","v":0},{"$f":"IF(Hin_T[[#This Row],[Vib]]=JN_T[JN],1,0)","v":0},{"$f":"IFERROR(Hin_T[[#This Row],[År diff]]*IF(Hin_T[[#This Row],[Vib2]]>0,1,0),0)","v":0},{"$f":"IF(Hin_T[[#This Row],[B-år]]<=Besvär_T[[#Totals],[Sjukdomsdebut]],Hin_T[[#This Row],[B-år]],\"\")","v":""},{"$f":"IF(Hin_T[[#This Row],[S-år]]<=Besvär_T[[#Totals],[Sjukdomsdebut]],Hin_T[[#This Row],[S-år]],\"\")","v":""},{"$f":"IFERROR(YEARFRAC(IF(AND(ISNUMBER(Hin_T[[#This Row],[B-år VIB]]),LEN(Hin_T[[#This Row],[S-år Vib]])=0),Hin_T[[#Totals],[15AM-A]],Hin_T[[#This Row],[S-år Vib]]),Hin_T[[#This Row],[B-år VIB]])*IF(Hin_T[[#This Row],[Vib2]]>0,1,0),0)","v":0},{"$f":"Hin_T[[#This Row],[HöA]]*Hin_T[[#This Row],[tot år HöA]]*DÅ[Arbetsdag/år]","v":0},{"$f":"Hin_T[[#This Row],[tot år AöA]]*Hin_T[[#This Row],[AöA]]*DÅ[Arbetsdag/år]","v":0},{"$f":"Hin_T[[#This Row],[tot år 4AM]]*Hin_T[[#This Row],[4AM]]*DÅ[Arbetsdag/år]","v":0},{"$f":"Hin_T[[#This Row],[tot år 15AM]]*Hin_T[[#This Row],[15AM]]*DÅ[Arbetsdag/år]","v":0},{"$f":"Hin_T[[#This Row],[tot år 20-10D]]*Hin_T[[#This Row],[20-10D]]*DÅ[Arbetsdag/år]","v":0},{"$f":"Hin_T[[#This Row],[BD år HöA]]*Hin_T[[#This Row],[HöA]]*DÅ[Arbetsdag/år]","v":0},{"$f":"Hin_T[[#This Row],[BD år AöA]]*Hin_T[[#This Row],[AöA]]*DÅ[Arbetsdag/år]","v":0},{"$f":"Hin_T[[#This Row],[BD år 4AM]]*Hin_T[[#This Row],[4AM]]*DÅ[Arbetsdag/år]","v":0},{"$f":"Hin_T[[#This Row],[BD år 15AM]]*Hin_T[[#This Row],[15AM]]*DÅ[Arbetsdag/år]","v":0},{"$f":"Hin_T[[#This Row],[BD år 20-10D]]*Hin_T[[#This Row],[20-10D]]*DÅ[Arbetsdag/år]","v":0},{"$f":"Hin_T[[#This Row],[Arbetsmoment]]&Hin_T[[#This Row],[Text AöA]]&Hin_T[[#This Row],[Text 15AM]]&IF(Hin_T[[#This Row],[Dagarna]]=DÅ[Arbetsdag/år],\"\",\". \"&Hin_T[[#This Row],[Dagarna]]&\" dagar/år\")&\". \"","v":". "},{"$f":"IF(ISBLANK(Hin_T[[#This Row],[AöA]]),\"\",Exp_T[Överarmslyft> 90°: ]&IF(VALUE(TEXT(Hin_T[[#This Row],[AöA]],\"t\"))>0,VALUE(TEXT(Hin_T[[#This Row],[AöA]],\"t\"))&\" h\",\"\")&IF(AND(VALUE(TEXT(Hin_T[[#This Row],[AöA]],\"t\"))>0,VALUE(TEXT(Hin_T[[#This Row],[AöA]],\"m\"))>2.4),\" \",\"\")&IF(VALUE(TEXT(Hin_T[[#This Row],[AöA]],\"m\"))>2.4,TEXT(ROUND(Hin_T[[#This Row],[AöA]]*(24*60/5),0)/(24*60/5),\"m\")&\" min\",\"\")&\"/dag\")","v":""},{"$f":"IF(ISBLANK(Hin_T[[#This Row],[15AM]]),\"\",Exp_T[Överarmsrörelser> 15/min: ]&IF(VALUE(TEXT(Hin_T[[#This Row],[15AM]],\"t\"))>0,VALUE(TEXT(Hin_T[[#This Row],[15AM]],\"t\"))&\" h\",\"\")&IF(AND(VALUE(TEXT(Hin_T[[#This Row],[15AM]],\"t\"))>0,VALUE(TEXT(Hin_T[[#This Row],[15AM]],\"m\"))>2.4),\" \",\"\")&IF(VALUE(TEXT(Hin_T[[#This Row],[15AM]],\"m\"))>2.4,TEXT(ROUND(Hin_T[[#This Row],[15AM]]*(24*60/5),0)/(24*60/5),\"m\")&\" min\",\"\")&\"/dag\")","v":""},null,null,null,null,{"$f":"SMALL(Hin_T[[StartÅR]:[SlutÅr]],ROW()-ROW(Medel_T[[#Headers],[Start]]))","v":{"$error":"#NUM!"}},{"$f":"SMALL(Hin_T[[StartÅR]:[SlutÅr]],ROW()-ROW(Medel_T[[#Headers],[Slut]])+1)","v":{"$error":"#NUM!"}},{"$f":"IF(Medel_T[[#This Row],[Start]]<=Besvär_T[[#Totals],[Sjukdomsdebut]],Medel_T[[#This Row],[Start]],\"\")","v":{"$error":"#NUM!"}},{"$f":"IF(Medel_T[[#This Row],[Slut]]<=Besvär_T[[#Totals],[Sjukdomsdebut]],Medel_T[[#This Row],[Slut]],IF(AND(LEN(Medel_T[[#This Row],[SJDstart]])>0,LEN(BU38)=0),Besvär_T[[#Totals],[Sjukdomsdebut]],\"\"))","v":{"$error":"#NUM!"}},{"$f":"IF(Medel_T[[#This Row],[Start]]>=Besvär_T[[#Totals],[Sjukdomsdebut]],Medel_T[[#This Row],[Start]],IF(AND(LEN(Medel_T[[#This Row],[EfterSlut]])>0,LEN(BX36)=0),Besvär_T[[#Totals],[Sjukdomsdebut]],\"\"))","v":{"$error":"#NUM!"}},{"$f":"IF(Medel_T[[#This Row],[Slut]]>=Besvär_T[[#Totals],[Sjukdomsdebut]],Medel_T[[#This Row],[Slut]],\"\")","v":{"$error":"#NUM!"}},{"$f":"COUNTIF($BZ$19:BZ37,\">0\")","v":0},{"$f":"COUNTIFS(Hin_T[B-år],\"<=\"&Medel_T[[#This Row],[Start]],Hin_T[S-år],\">=\"&Medel_T[[#This Row],[Slut]])","v":0},{"$f":"SUBSTITUTE(_xlfn.TEXTJOIN(Sep_T[Separator],TRUE,_xlfn._xlws.SORT(_xlfn.UNIQUE(IF((Hin_T[[B-år]:[B-år]]<=Medel_T[[#This Row],[Start]:[Start]])*(Hin_T[[S-år]:[S-år]]>=Medel_T[[#This Row],[Slut]:[Slut]]),Hin_T[Yrke],\"\")))),0&Sep_T[Separator],\"\")","v":{"$error":"#NUM!"}},{"$f":"SUBSTITUTE(_xlfn.TEXTJOIN(Sep_T[Separator],TRUE,_xlfn._xlws.SORT(_xlfn.UNIQUE(IF((Hin_T[[B-år]:[B-år]]<=Medel_T[[#This Row],[Start]:[Start]])*(Hin_T[[S-år]:[S-år]]>=Medel_T[[#This Row],[Slut]:[Slut]]),Hin_T[Arbetsmoment],\"\")))),0&Sep_T[Separator],\"\")","v":{"$error":"#NUM!"}},{"$f":"IF(LEN(Medel_T[[#This Row],[Yrke]])>0,Medel_T[[#Headers],[Period ]]&Medel_T[[#This Row],[NrX]]&\": \"&TEXT(Medel_T[[#This Row],[Start]],\"ÅÅÅÅ\")&List_T[[#Totals],[List symb]]&TEXT(Medel_T[[#This Row],[Slut]],\"ÅÅÅÅ\")&\" (\"&ROUND(Medel_T[[#This Row],[År]],1)&\" år) Anställd som \"&IFERROR(SUBSTITUTE(SUBSTITUTE(Medel_T[[#This Row],[Yrke]],Sep_T[Separator],\" och \",Medel_T[[#This Row],[Ant]]-1),Sep_T[Separator],\", \"),Medel_T[[#This Row],[Yrke]])&↓[↓],\"\")","v":{"$error":"#NUM!"}},{"$f":"IF(LEN(Medel_T[[#This Row],[Arbetsmoment]])>0,ROMAN(1)&\") \"&_xlfn.TEXTJOIN(Delim[Delimiters],TRUE,_xlfn._xlws.SORT(_xlfn.UNIQUE(IF((Hin_T[[B-år]:[B-år]]<=Medel_T[[#This Row],[Start]:[Start]])*(Hin_T[[S-år]:[S-år]]>=Medel_T[[#This Row],[Slut]:[Slut]]),Hin_T[Text],\"\"))))&↓[↓],\"\")","v":{"$error":"#NUM!"}},{"$f":"SUMPRODUCT((Hin_T[[B-år]:[B-år]]<=Medel_T[[#This Row],[Start]:[Start]])*(Hin_T[[S-år]:[S-år]]>=Medel_T[[#This Row],[Slut]:[Slut]])*Hin_T[Dag])","v":{"$error":"#NUM!"}},{"$f":"IF(Medel_T[[#This Row],[Proc dag]]<=1,Medel_T[[#This Row],[Proc dag]],1)","v":{"$error":"#NUM!"}},{"$f":"YEARFRAC(Medel_T[[#This Row],[Slut]],Medel_T[[#This Row],[Start]])","v":{"$error":"#NUM!"}},{"$f":"YEARFRAC(Medel_T[[#This Row],[SJDslut]],Medel_T[[#This Row],[SJDstart]])","v":{"$error":"#NUM!"}},{"$f":"IFERROR(SUMPRODUCT((Hin_T[[B-år]:[B-år]]<=Medel_T[[#This Row],[Start]:[Start]])*(Hin_T[[S-år]:[S-år]]>=Medel_T[[#This Row],[Slut]:[Slut]])*Hin_T[HöA]*Hin_T[[Dag]:[Dag]])/Medel_T[[#This Row],[Proc dag]],-1)","v":-1},{"$f":"IFERROR(SUMPRODUCT((Hin_T[[B-år]:[B-år]]<=Medel_T[[#This Row],[Start]:[Start]])*(Hin_T[[S-år]:[S-år]]>=Medel_T[[#This Row],[Slut]:[Slut]])*Hin_T[AöA]*Hin_T[[Dag]:[Dag]])/Medel_T[[#This Row],[Proc dag]],-1)","v":-1},{"$f":"IFERROR(SUMPRODUCT((Hin_T[[B-år]:[B-år]]<=Medel_T[[#This Row],[Start]:[Start]])*(Hin_T[[S-år]:[S-år]]>=Medel_T[[#This Row],[Slut]:[Slut]])*Hin_T[4AM]*Hin_T[[Dag]:[Dag]])/Medel_T[[#This Row],[Proc dag]],-1)","v":-1},{"$f":"IFERROR(SUMPRODUCT((Hin_T[[B-år]:[B-år]]<=Medel_T[[#This Row],[Start]:[Start]])*(Hin_T[[S-år]:[S-år]]>=Medel_T[[#This Row],[Slut]:[Slut]])*Hin_T[15AM]*Hin_T[[Dag]:[Dag]])/Medel_T[[#This Row],[Proc dag]],-1)","v":-1},{"$f":"IFERROR(SUMPRODUCT((Hin_T[[B-år]:[B-år]]<=Medel_T[[#This Row],[Start]:[Start]])*(Hin_T[[S-år]:[S-år]]>=Medel_T[[#This Row],[Slut]:[Slut]])*Hin_T[20-10D]*Hin_T[[Dag]:[Dag]])/Medel_T[[#This Row],[Proc dag]],-1)","v":-1},{"$f":"IFERROR(SUMPRODUCT((Hin_T[[B-år]:[B-år]]<=Medel_T[[#This Row],[Start]:[Start]])*(Hin_T[[S-år]:[S-år]]>=Medel_T[[#This Row],[Slut]:[Slut]])*Hin_T[[Dag]:[Dag]]*Hin_T[HöA])/Medel_T[[#This Row],[Dag sum]],-1)","v":-1},{"$f":"IFERROR(SUMPRODUCT((Hin_T[[B-år]:[B-år]]<=Medel_T[[#This Row],[Start]:[Start]])*(Hin_T[[S-år]:[S-år]]>=Medel_T[[#This Row],[Slut]:[Slut]])*Hin_T[[Dag]:[Dag]]*Hin_T[AöA])/Medel_T[[#This Row],[Dag sum]],-1)","v":-1},{"$f":"IFERROR(SUMPRODUCT((Hin_T[[B-år]:[B-år]]<=Medel_T[[#This Row],[Start]:[Start]])*(Hin_T[[S-år]:[S-år]]>=Medel_T[[#This Row],[Slut]:[Slut]])*Hin_T[[Dag]:[Dag]]*Hin_T[4AM])/Medel_T[[#This Row],[Dag sum]],-1)","v":-1},{"$f":"IFERROR(SUMPRODUCT((Hin_T[[B-år]:[B-år]]<=Medel_T[[#This Row],[Start]:[Start]])*(Hin_T[[S-år]:[S-år]]>=Medel_T[[#This Row],[Slut]:[Slut]])*Hin_T[15AM]*Hin_T[[Dag]:[Dag]])/Medel_T[[#This Row],[Dag sum]],-1)","v":-1},{"$f":"IFERROR(SUMPRODUCT((Hin_T[[B-år]:[B-år]]<=Medel_T[[#This Row],[Start]:[Start]])*(Hin_T[[S-år]:[S-år]]>=Medel_T[[#This Row],[Slut]:[Slut]])*Hin_T[[Dag]:[Dag]]*Hin_T[20-10D])/Medel_T[[#This Row],[Dag sum]],-1)","v":-1},{"$f":"IFERROR(Medel_T[[#This Row],[Dag sum]:[Dag sum]]*Medel_T[[#This Row],[År]:[År]]*Medel_T[[#This Row],[HöA T]]*DÅ[Arbetsdag/år],0)","v":0},{"$f":"IFERROR(Medel_T[[#This Row],[Dag sum]:[Dag sum]]*Medel_T[[#This Row],[År]:[År]]*Medel_T[[#This Row],[AöA T]]*DÅ[Arbetsdag/år],0)","v":0},{"$f":"IFERROR(Medel_T[[#This Row],[Dag sum]:[Dag sum]]*Medel_T[[#This Row],[År]:[År]]*Medel_T[[#This Row],[4AM T]]*DÅ[Arbetsdag/år],0)","v":0},{"$f":"IFERROR(Medel_T[[#This Row],[Dag sum]:[Dag sum]]*Medel_T[[#This Row],[År]:[År]]*Medel_T[[#This Row],[15AM T]]*DÅ[Arbetsdag/år],0)","v":0},{"$f":"IFERROR(Medel_T[[#This Row],[Dag sum]:[Dag sum]]*Medel_T[[#This Row],[År]:[År]]*Medel_T[[#This Row],[20-10D T]]*DÅ[Arbetsdag/år],0)","v":0},{"$f":"IFERROR(Medel_T[[#This Row],[Dag sum]:[Dag sum]]*Medel_T[[#This Row],[ÅrSjuk]:[ÅrSjuk]]*Medel_T[[#This Row],[HöA T]]*DÅ[Arbetsdag/år],0)","v":0},{"$f":"IFERROR(Medel_T[[#This Row],[Dag sum]:[Dag sum]]*Medel_T[[#This Row],[ÅrSjuk]:[ÅrSjuk]]*Medel_T[[#This Row],[AöA T]]*DÅ[Arbetsdag/år],0)","v":0},{"$f":"IFERROR(Medel_T[[#This Row],[Dag sum]:[Dag sum]]*Medel_T[[#This Row],[ÅrSjuk]:[ÅrSjuk]]*Medel_T[[#This Row],[4AM T]]*DÅ[Arbetsdag/år],0)","v":0},{"$f":"IFERROR(Medel_T[[#This Row],[Dag sum]:[Dag sum]]*Medel_T[[#This Row],[ÅrSjuk]:[ÅrSjuk]]*Medel_T[[#This Row],[15AM T]]*DÅ[Arbetsdag/år],0)","v":0},{"$f":"IFERROR(Medel_T[[#This Row],[Dag sum]:[Dag sum]]*Medel_T[[#This Row],[ÅrSjuk]:[ÅrSjuk]]*Medel_T[[#This Row],[20-10D T]]*DÅ[Arbetsdag/år],0)","v":0},{"$f":"IFERROR(IF(Medel_T[[#This Row],[AöA T]]=0,\"\",List_T[List symb]&Exp_T[[#Headers],[Överarmslyft> 90°: ]]&IF(VALUE(TEXT(Medel_T[[#This Row],[AöA T]],\"t\"))>0,VALUE(TEXT(Medel_T[[#This Row],[AöA T]],\"t\"))&\" h\",\"\")&IF(AND(VALUE(TEXT(Medel_T[[#This Row],[AöA T]],\"t\"))>0,VALUE(TEXT(Medel_T[[#This Row],[AöA T]],\"m\"))>2.4),\" \",\"\")&IF(VALUE(TEXT(Medel_T[[#This Row],[AöA T]],\"m\"))>2.4,TEXT(ROUND(Medel_T[[#This Row],[AöA T]]*(24*60/5),0)/(24*60/5),\"m\")&\" min\",\"\")&\"/dag x \"&ROUND(Medel_T[[#This Row],[Dag sum]:[Dag sum]]*DÅ[Arbetsdag/år],0)&\" dagar x \"&ROUND(Medel_T[[#This Row],[År]:[År]],1)&\" år = \"&TEXT(ROUND(Medel_T[[#This Row],[D AöA§]]*24,1-(INT(LOG10(ABS(Medel_T[[#This Row],[D AöA§]]*24))))),\"0\"&IF(1-(INT(LOG10(ABS(Medel_T[[#This Row],[D AöA§]]*24))))>0,\",\"&REPT(\"0\",1-(INT(LOG10(ABS(Medel_T[[#This Row],[D AöA§]]*24))))),\"\"))& \" h\"),\"\")","v":""},{"$f":"IFERROR(IF(Medel_T[[#This Row],[15AM T]]=0,\"\",List_T[List symb]&Exp_T[[#Headers],[Överarmsrörelser> 15/min: ]]&IF(VALUE(TEXT(Medel_T[[#This Row],[15AM T]],\"t\"))>0,VALUE(TEXT(Medel_T[[#This Row],[15AM T]],\"t\"))&\" h\",\"\")&IF(AND(VALUE(TEXT(Medel_T[[#This Row],[15AM T]],\"t\"))>0,VALUE(TEXT(Medel_T[[#This Row],[15AM T]],\"m\"))>2.4),\" \",\"\")&IF(VALUE(TEXT(Medel_T[[#This Row],[15AM T]],\"m\"))>2.4,TEXT(ROUND(Medel_T[[#This Row],[15AM T]]*(24*60/5),0)/(24*60/5),\"m\")&\" min\",\"\")&\"/dag x \"&ROUND(Medel_T[[#This Row],[Dag sum]:[Dag sum]]*DÅ[Arbetsdag/år],0)&\" dagar x \"&ROUND(Medel_T[[#This Row],[År]:[År]],1)&\" år = \"&TEXT(ROUND(Medel_T[[#This Row],[D 15AM§]]*24,1-(INT(LOG10(ABS(Medel_T[[#This Row],[D 15AM§]]*24))))),\"0\"&IF(1-(INT(LOG10(ABS(Medel_T[[#This Row],[D 15AM§]]*24))))>0,\",\"&REPT(\"0\",1-(INT(LOG10(ABS(Medel_T[[#This Row],[D 15AM§]]*24))))),\"\"))& \" h\"),\"\")","v":""},{"$f":"IFERROR(IF(OR(LEN(Medel_T[[#This Row],[AöA text]])>0,LEN(Medel_T[[#This Row],[15AM Text]])>0),Exp_T[Anställning]&YEAR(Medel_T[[#This Row],[Start]])&List_T[[#Totals],[List symb]]&YEAR(Medel_T[[#This Row],[Slut]])&\" (\"&ROUND(Medel_T[[#This Row],[År]],1)&\" år)\"&IF(LEN(Medel_T[[#This Row],[AöA text]])>0,↓[↓],\"\")&Medel_T[[#This Row],[AöA text]]&IF(LEN(Medel_T[[#This Row],[15AM Text]])>0,↓[↓],\"\")&Medel_T[[#This Row],[15AM Text]],\"\"),\"\")","v":""},{"$f":"IFERROR(IF(Medel_T[[#This Row],[AöA T]]=0,\"\",List_T[List symb]&Exp_T[[#Headers],[Överarmsrörelser> 15/min: ]]&IF(VALUE(TEXT(Medel_T[[#This Row],[AöA T]],\"t\"))>0,VALUE(TEXT(Medel_T[[#This Row],[AöA T]],\"t\"))&\" h\",\"\")&IF(AND(VALUE(TEXT(Medel_T[[#This Row],[AöA T]],\"t\"))>0,VALUE(TEXT(Medel_T[[#This Row],[AöA T]],\"m\"))>2.4),\" \",\"\")&IF(VALUE(TEXT(Medel_T[[#This Row],[AöA T]],\"m\"))>2.4,TEXT(ROUND(Medel_T[[#This Row],[AöA T]]*(24*60/5),0)/(24*60/5),\"m\")&\" min\",\"\")&\"/dag x \"&ROUND(Medel_T[[#This Row],[Dag sum]:[Dag sum]]*DÅ[Arbetsdag/år],0)&\" dagar x \"&ROUND(Medel_T[[#This Row],[År]:[År]],1)&\" år = \"&TEXT(ROUND(Medel_T[[#This Row],[D AöA¤]]*24,1-(INT(LOG10(ABS(Medel_T[[#This Row],[D AöA¤]]*24))))),\"0\"&IF(1-(INT(LOG10(ABS(Medel_T[[#This Row],[D AöA¤]]*24))))>0,\",\"&REPT(\"0\",1-(INT(LOG10(ABS(Medel_T[[#This Row],[D AöA¤]]*24))))),\"\"))& \" h\"),\"\")","v":""},{"$f":"IFERROR(IF(Medel_T[[#This Row],[15AM T]]=0,\"\",List_T[List symb]&Exp_T[[#Headers],[Överarmslyft> 90°: ]]&IF(VALUE(TEXT(Medel_T[[#This Row],[15AM T]],\"t\"))>0,VALUE(TEXT(Medel_T[[#This Row],[15AM T]],\"t\"))&\" h\",\"\")&IF(AND(VALUE(TEXT(Medel_T[[#This Row],[15AM T]],\"t\"))>0,VALUE(TEXT(Medel_T[[#This Row],[15AM T]],\"m\"))>0),\" \",\"\")&IF(VALUE(TEXT(Medel_T[[#This Row],[15AM T]],\"m\"))>0,TEXT(ROUND(Medel_T[[#This Row],[15AM T]]*(24*60/5),0)/(24*60/5),\"m\")&\" min\",\"\")&\"/dag x \"&ROUND(Medel_T[[#This Row],[Dag sum]:[Dag sum]]*DÅ[Arbetsdag/år],0)&\" dagar x \"&ROUND(Medel_T[[#This Row],[År]:[År]],1)&\" år = \"&TEXT(ROUND(Medel_T[[#This Row],[D 15AM¤]]*24,1-(INT(LOG10(ABS(Medel_T[[#This Row],[D 15AM¤]]*24))))),\"0\"&IF(1-(INT(LOG10(ABS(Medel_T[[#This Row],[D 15AM¤]]*24))))>0,\",\"&REPT(\"0\",1-(INT(LOG10(ABS(Medel_T[[#This Row],[D 15AM¤]]*24))))),\"\"))& \" h\"),\"\")","v":""},{"$f":"IFERROR(IF(LEN(Medel_T[[#This Row],[SJDstart]])>0,Exp_T[Anställning]&↓[↓]&YEAR(Medel_T[[#This Row],[Start]])&List_T[[#Totals],[List symb]]&YEAR(Medel_T[[#This Row],[Slut]])&\" (\"&ROUND(Medel_T[[#This Row],[År]],1)&\" år)\"&IF(LEN(Medel_T[[#This Row],[AöA text Sjuk]])>0,↓[↓],\"\")&Medel_T[[#This Row],[AöA text Sjuk]]&IF(LEN(Medel_T[[#This Row],[15AM Text Sjuk]])>0,↓[↓],\"\")&Medel_T[[#This Row],[15AM Text Sjuk]],\"\"),\"\")","v":""},{"$f":"IFERROR(Medel_T[[#This Row],[Period ]]&Medel_T[[#This Row],[ArbMomText]]&Medel_T[[#This Row],[Text]],\"\")","v":""},{"$f":"IF(AND(DJ36>=MAX(Medel_T[NrX]),ISNUMBER(DJ36)),Medel_T[[#Totals],[NrX]]+ROW()-ROW(Medel_T[[#Headers],[Rad]])-Medel_T[[#Totals],[Ant]]-1,INDEX(Medel_T[NrX],MATCH(ROW()-ROW(Medel_T[[#Headers],[Rad]]),Medel_T[NrX],0)))","v":{"$error":"#N/A"}},{"$f":"IF(Medel_T[[#This Row],[Rad]]<=Medel_T[[#Totals],[Ant]],MATCH(Medel_T[[#This Row],[Rad]],Medel_T[NrX],0),IFERROR(INDEX(BD_TX[[#Data],[#Totals],[SJ]],MATCH(Medel_T[[#This Row],[Rad]],BD_TX[[#Data],[#Totals],[Nr]],0)),\"\"))","v":{"$error":"#N/A"}},{"$f":"LEN(Medel_T[[#This Row],[Yrke2]])-LEN(SUBSTITUTE(Medel_T[[#This Row],[Yrke2]],LEFT(Sep_T[Separator],1),\"\"))","v":0},{"$f":"INDEX(Medel_T[År],Medel_T[[#This Row],[Nr]])","v":{"$error":"#N/A"}},{"$f":"IFERROR(IF(LEN(Medel_T[[#This Row],[Nr]])>0,TEXT(IFERROR(INDEX(Medel_T[Start],Medel_T[[#This Row],[Nr]]),INDEX(BD_TX[[#Data],[#Totals],[Start]],MATCH(Medel_T[[#This Row],[Rad]],BD_TX[[#Data],[#Totals],[Nr]],0))),\"ÅÅÅÅ MMM\")&\"-\"&TEXT(IFERROR(INDEX(Medel_T[Slut],Medel_T[[#This Row],[Nr]]),INDEX(BD_TX[[#Data],[#Totals],[År]],MATCH(Medel_T[[#This Row],[Rad]],BD_TX[[#Data],[#Totals],[Nr]],0))),\"ÅÅÅÅ MMM\"),\"\"),\"\")","v":""},{"$f":"IFERROR(IF(LEN(Medel_T[[#This Row],[Nr]])>0,IF(Medel_T[[#This Row],[Rad]]>Medel_T[[#Totals],[Ant]],IFERROR(INDEX(BD_TX[[#Data],[#Totals],[Text]],MATCH(Medel_T[[#This Row],[Rad]],BD_TX[[#Data],[#Totals],[Nr]],0)),\"\"),INDEX(Medel_T[Yrke],Medel_T[[#This Row],[Nr]])),\"\"),\"\")","v":""},{"$f":"IFERROR(INDEX(Medel_T[Arbetsmoment],MATCH(ROW()-ROW(Medel_T[[#Headers],[Arbetsmoment2]]),Medel_T[[NrX]:[NrX]],0)),\"\")","v":""},{"$f":"IFERROR(INDEX(Medel_T[],Medel_T[[#This Row],[Nr]],Medel_T[[#Totals],[HöA_T]]),\"\")","v":""},{"$f":"IF(LEN(Medel_T[[#This Row],[Nr]:[Nr]])>0,IFERROR(TEXT(ROUND(24*IFERROR(INDEX(Medel_T[],Medel_T[[#This Row],[Nr]:[Nr]],Medel_T[[#Totals],[D HöA]]),INDEX(Sum_T[[#Data],[#Totals]],MATCH(Medel_T[[#This Row],[Nr]:[Nr]],Sum_T[[#Data],[#Totals],[Typ]:[Typ]],0),MATCH(Medel_T[[#Headers],[D HöA]],Sum_T[#Headers],0))),1-(INT(LOG10(ABS(24*IFERROR(INDEX(Medel_T[],Medel_T[[#This Row],[Nr]:[Nr]],Medel_T[[#Totals],[D HöA]]),INDEX(Sum_T[[#Data],[#Totals]],MATCH(Medel_T[[#This Row],[Nr]:[Nr]],Sum_T[[#Data],[#Totals],[Typ]:[Typ]],0),MATCH(Medel_T[[#Headers],[D HöA]],Sum_T[#Headers],0)))))))),\"0\"&IF(1-(INT(LOG10(ABS(24*IFERROR(INDEX(Medel_T[],Medel_T[[#This Row],[Nr]:[Nr]],Medel_T[[#Totals],[D HöA]]),INDEX(Sum_T[[#Data],[#Totals]],MATCH(Medel_T[[#This Row],[Nr]:[Nr]],Sum_T[[#Data],[#Totals],[Typ]:[Typ]],0),MATCH(Medel_T[[#Headers],[D HöA]],Sum_T[#Headers],0)))))))>0,\",\"&REPT(\"0\",1-(INT(LOG10(ABS(24*IFERROR(INDEX(Medel_T[],Medel_T[[#This Row],[Nr]:[Nr]],Medel_T[[#Totals],[D HöA]]),INDEX(Sum_T[[#Data],[#Totals]],MATCH(Medel_T[[#This Row],[Nr]:[Nr]],Sum_T[[#Data],[#Totals],[Typ]:[Typ]],0),MATCH(Medel_T[[#Headers],[D HöA]],Sum_T[#Headers],0)))))))),0)),0),\"\")","v":{"$error":"#N/A"}},{"$f":"IFERROR(INDEX(Medel_T[],Medel_T[[#This Row],[Nr]],Medel_T[[#Totals],[AÖA_T]]),\"\")","v":""},{"$f":"IFERROR(IF(LEN(Medel_T[[#This Row],[Nr]:[Nr]])>0,IFERROR(TEXT(ROUND(24*IFERROR(INDEX(Medel_T[],Medel_T[[#This Row],[Nr]:[Nr]],Medel_T[[#Totals],[D AöA]]),INDEX(Sum_T[[#Data],[#Totals]],MATCH(Medel_T[[#This Row],[Nr]:[Nr]],Sum_T[[#Data],[#Totals],[Typ]:[Typ]],0),MATCH(Medel_T[[#Headers],[D AöA]],Sum_T[#Headers],0))),1-(INT(LOG10(ABS(24*IFERROR(INDEX(Medel_T[],Medel_T[[#This Row],[Nr]:[Nr]],Medel_T[[#Totals],[D AöA]]),INDEX(Sum_T[[#Data],[#Totals]],MATCH(Medel_T[[#This Row],[Nr]:[Nr]],Sum_T[[#Data],[#Totals],[Typ]:[Typ]],0),MATCH(Medel_T[[#Headers],[D AöA]],Sum_T[#Headers],0)))))))),\"0\"&IF(1-(INT(LOG10(ABS(24*IFERROR(INDEX(Medel_T[],Medel_T[[#This Row],[Nr]:[Nr]],Medel_T[[#Totals],[D AöA]]),INDEX(Sum_T[[#Data],[#Totals]],MATCH(Medel_T[[#This Row],[Nr]:[Nr]],Sum_T[[#Data],[#Totals],[Typ]:[Typ]],0),MATCH(Medel_T[[#Headers],[D AöA]],Sum_T[#Headers],0)))))))>0,\",\"&REPT(\"0\",1-(INT(LOG10(ABS(24*IFERROR(INDEX(Medel_T[],Medel_T[[#This Row],[Nr]:[Nr]],Medel_T[[#Totals],[D AöA]]),INDEX(Sum_T[[#Data],[#Totals]],MATCH(Medel_T[[#This Row],[Nr]:[Nr]],Sum_T[[#Data],[#Totals],[Typ]:[Typ]],0),MATCH(Medel_T[[#Headers],[D AöA]],Sum_T[#Headers],0)))))))),0)),0),\"\"),\"\")","v":""},{"$f":"IFERROR(INDEX(Medel_T[],Medel_T[[#This Row],[Nr]],Medel_T[[#Totals],[4AM_T]]),\"\")","v":""},{"$f":"IF(LEN(Medel_T[[#This Row],[Nr]:[Nr]])>0,IFERROR(TEXT(ROUND(24*IFERROR(INDEX(Medel_T[],Medel_T[[#This Row],[Nr]:[Nr]],Medel_T[[#Totals],[D 4AM]]),INDEX(Sum_T[[#Data],[#Totals]],MATCH(Medel_T[[#This Row],[Nr]:[Nr]],Sum_T[[#Data],[#Totals],[Typ]:[Typ]],0),MATCH(Medel_T[[#Headers],[D 4AM]],Sum_T[#Headers],0))),1-(INT(LOG10(ABS(24*IFERROR(INDEX(Medel_T[],Medel_T[[#This Row],[Nr]:[Nr]],Medel_T[[#Totals],[D 4AM]]),INDEX(Sum_T[[#Data],[#Totals]],MATCH(Medel_T[[#This Row],[Nr]:[Nr]],Sum_T[[#Data],[#Totals],[Typ]:[Typ]],0),MATCH(Medel_T[[#Headers],[D 4AM]],Sum_T[#Headers],0)))))))),\"0\"&IF(1-(INT(LOG10(ABS(24*IFERROR(INDEX(Medel_T[],Medel_T[[#This Row],[Nr]:[Nr]],Medel_T[[#Totals],[D 4AM]]),INDEX(Sum_T[[#Data],[#Totals]],MATCH(Medel_T[[#This Row],[Nr]:[Nr]],Sum_T[[#Data],[#Totals],[Typ]:[Typ]],0),MATCH(Medel_T[[#Headers],[D 4AM]],Sum_T[#Headers],0)))))))>0,\",\"&REPT(\"0\",1-(INT(LOG10(ABS(24*IFERROR(INDEX(Medel_T[],Medel_T[[#This Row],[Nr]:[Nr]],Medel_T[[#Totals],[D 4AM]]),INDEX(Sum_T[[#Data],[#Totals]],MATCH(Medel_T[[#This Row],[Nr]:[Nr]],Sum_T[[#Data],[#Totals],[Typ]:[Typ]],0),MATCH(Medel_T[[#Headers],[D 4AM]],Sum_T[#Headers],0)))))))),0)),0),\"\")","v":{"$error":"#N/A"}},{"$f":"IFERROR(INDEX(Medel_T[],Medel_T[[#This Row],[Nr]],Medel_T[[#Totals],[15AM_T]]),\"\")","v":""},{"$f":"IFERROR(IF(LEN(Medel_T[[#This Row],[Nr]:[Nr]])>0,IFERROR(TEXT(ROUND(24*IFERROR(INDEX(Medel_T[],Medel_T[[#This Row],[Nr]:[Nr]],Medel_T[[#Totals],[D 15AM]]),INDEX(Sum_T[[#Data],[#Totals]],MATCH(Medel_T[[#This Row],[Nr]:[Nr]],Sum_T[[#Data],[#Totals],[Typ]:[Typ]],0),MATCH(Medel_T[[#Headers],[D 15AM]],Sum_T[#Headers],0))),1-(INT(LOG10(ABS(24*IFERROR(INDEX(Medel_T[],Medel_T[[#This Row],[Nr]:[Nr]],Medel_T[[#Totals],[D 15AM]]),INDEX(Sum_T[[#Data],[#Totals]],MATCH(Medel_T[[#This Row],[Nr]:[Nr]],Sum_T[[#Data],[#Totals],[Typ]:[Typ]],0),MATCH(Medel_T[[#Headers],[D 15AM]],Sum_T[#Headers],0)))))))),\"0\"&IF(1-(INT(LOG10(ABS(24*IFERROR(INDEX(Medel_T[],Medel_T[[#This Row],[Nr]:[Nr]],Medel_T[[#Totals],[D 15AM]]),INDEX(Sum_T[[#Data],[#Totals]],MATCH(Medel_T[[#This Row],[Nr]:[Nr]],Sum_T[[#Data],[#Totals],[Typ]:[Typ]],0),MATCH(Medel_T[[#Headers],[D 15AM]],Sum_T[#Headers],0)))))))>0,\",\"&REPT(\"0\",1-(INT(LOG10(ABS(24*IFERROR(INDEX(Medel_T[],Medel_T[[#This Row],[Nr]:[Nr]],Medel_T[[#Totals],[D 15AM]]),INDEX(Sum_T[[#Data],[#Totals]],MATCH(Medel_T[[#This Row],[Nr]:[Nr]],Sum_T[[#Data],[#Totals],[Typ]:[Typ]],0),MATCH(Medel_T[[#Headers],[D 15AM]],Sum_T[#Headers],0)))))))),0)),0),\"\"),\"\")","v":""},{"$f":"IFERROR(INDEX(Medel_T[],Medel_T[[#This Row],[Nr]],Medel_T[[#Totals],[20-10D_T]]),\"\")","v":""},{"$f":"IF(LEN(Medel_T[[#This Row],[Nr]:[Nr]])>0,IFERROR(TEXT(ROUND(24*IFERROR(INDEX(Medel_T[],Medel_T[[#This Row],[Nr]:[Nr]],Medel_T[[#Totals],[D 20-10D]]),INDEX(Sum_T[[#Data],[#Totals]],MATCH(Medel_T[[#This Row],[Nr]:[Nr]],Sum_T[[#Data],[#Totals],[Typ]:[Typ]],0),MATCH(Medel_T[[#Headers],[D 20-10D]],Sum_T[#Headers],0))),1-(INT(LOG10(ABS(24*IFERROR(INDEX(Medel_T[],Medel_T[[#This Row],[Nr]:[Nr]],Medel_T[[#Totals],[D 20-10D]]),INDEX(Sum_T[[#Data],[#Totals]],MATCH(Medel_T[[#This Row],[Nr]:[Nr]],Sum_T[[#Data],[#Totals],[Typ]:[Typ]],0),MATCH(Medel_T[[#Headers],[D 20-10D]],Sum_T[#Headers],0)))))))),\"0\"&IF(1-(INT(LOG10(ABS(24*IFERROR(INDEX(Medel_T[],Medel_T[[#This Row],[Nr]:[Nr]],Medel_T[[#Totals],[D 20-10D]]),INDEX(Sum_T[[#Data],[#Totals]],MATCH(Medel_T[[#This Row],[Nr]:[Nr]],Sum_T[[#Data],[#Totals],[Typ]:[Typ]],0),MATCH(Medel_T[[#Headers],[D 20-10D]],Sum_T[#Headers],0)))))))>0,\",\"&REPT(\"0\",1-(INT(LOG10(ABS(24*IFERROR(INDEX(Medel_T[],Medel_T[[#This Row],[Nr]:[Nr]],Medel_T[[#Totals],[D 20-10D]]),INDEX(Sum_T[[#Data],[#Totals]],MATCH(Medel_T[[#This Row],[Nr]:[Nr]],Sum_T[[#Data],[#Totals],[Typ]:[Typ]],0),MATCH(Medel_T[[#Headers],[D 20-10D]],Sum_T[#Headers],0)))))))),0)),0),\"\")","v":{"$error":"#N/A"}},null,{"$f":"IFERROR(INDEX(Hin_T[Nr],MATCH(SMALL(Hin_T[B-årX],ROW()-ROW(Hut_T[[#Headers],[Rad]])),Hin_T[B-årX],0)),IF(ROWS($EB$19:EB37)=1+COUNTIF(Hin_T[Start],\"*\"),Hin_T[[#Totals],[Dag]],IF(AND(ROWS($EB$19:EB37)=2+COUNTIF(Hin_T[Start],\"*\"),Hin_T[[#Totals],[Q%-]]>0),EB36+1,IF(AND(ROWS($EB$19:EB37)=3+COUNTIF(Hin_T[Start],\"*\"),Hin_T[[#Totals],[Q%-]]>1),EB36+1,IF(AND(ROWS($EB$19:EB37)=4+COUNTIF(Hin_T[Start],\"*\"),Hin_T[[#Totals],[Q%-]]>2),EB36+1,\"\")))))","v":""},{"$f":"IF(Hut_T[[#This Row],[Rad]]<Hin_T[[#Totals],[Dag]],ROWS($EB$19:EB37),IFERROR(INDEX(BD_TX[[#Data],[#Totals],[SJ]],MATCH(Hut_T[[#This Row],[Rad]],BD_TX[[#Data],[#Totals],[NrX]],0)),\"\"))","v":""},{"$f":"IF(ISNUMBER(Hut_T[[#This Row],[Datum-]]),TEXT(Hut_T[[#This Row],[Datum-]],\"ÅÅÅÅ MMM\")&\"-\"&TEXT(Hut_T[[#This Row],[Datum+]],\"ÅÅÅÅ MMM\"),\"\")","v":""},{"$f":"IF(ISNUMBER(Hut_T[[#This Row],[Nr]]),IF(INDEX(Hin_T[Yrke],Hut_T[[#This Row],[Rad]])>0,INDEX(Hin_T[Yrke],Hut_T[[#This Row],[Rad]]),\"\"),IFERROR(INDEX(BD_TX[[#Data],[#Totals],[Text]],MATCH(Hut_T[[#This Row],[Rad]],BD_TX[[#Data],[#Totals],[NrX]],0)),\"\"))","v":""},{"$f":"IF(ISNUMBER(Hut_T[[#This Row],[Nr]]),IF(INDEX(Hin_T[Arbetsmoment],Hut_T[[#This Row],[Rad]])>0,INDEX(Hin_T[Arbetsmoment],Hut_T[[#This Row],[Rad]]),\"\"),\"\")","v":""},{"$f":"IFERROR(IF(INDEX(Hin_T[Yrke],Hut_T[[#This Row],[Rad]])>0,INDEX(Hin_T[Företag],Hut_T[[#This Row],[Rad]]),\"\"),\"\")","v":""},{"$f":"IFERROR(IF(INDEX(Hin_T[Dag],Hut_T[[#This Row],[Rad]])>0,INDEX(Hin_T[Dag],Hut_T[[#This Row],[Rad]])*DÅ[Arbetsdag/år],\"\"),\"\")","v":""},{"$f":"IF(AND(ISNUMBER(_xlfn.SINGLE(Hut_T[[#This Row],[Rad]:[Rad]])),IFERROR(_xlfn.SINGLE(INDEX(Hin_T[[#Data],[#Totals]],_xlfn.SINGLE(Hut_T[[#This Row],[Rad]:[Rad]]),MATCH(Hut_T[[#Headers],[D HöA]],Hin_T[#Headers],0))),\"\")),IFERROR(ROUND(_xlfn.SINGLE(INDEX(Hin_T[[#Data],[#Totals]],_xlfn.SINGLE(Hut_T[[#This Row],[Rad]:[Rad]])-IF(_xlfn.SINGLE(Hut_T[[#This Row],[Nr]:[Nr]])=_xlfn.SINGLE(#REF!),COUNT(Besvär_T[[Sjukdomsdebut]:[Sjukdomsdebut]]),0),MATCH(_xlfn.SINGLE(IF(_xlfn.SINGLE(Hut_T[[#This Row],[Nr]:[Nr]])=_xlfn.SINGLE(#REF!),#REF!,\"\"))&Hut_T[[#Headers],[D HöA]],Hin_T[#Headers],0))),0),\"\"),\"\")","v":""},{"$f":"IF(AND(ISNUMBER(Hut_T[[#This Row],[Rad]:[Rad]]),ISNUMBER(Hut_T[[#This Row],[D HöA]]),ISNUMBER(Hut_T[[#This Row],[Nr]:[Nr]])),IFERROR(ROUND(INDEX(Hin_T[[#Data],[#Totals]],Hut_T[[#This Row],[Rad]:[Rad]],MATCH(Hut_T[[#Headers],[HöA-A]],Hin_T[#Headers],0)),1-(INT(LOG10(INDEX(Hin_T[[#Data],[#Totals]],Hut_T[[#This Row],[Rad]:[Rad]],MATCH(Hut_T[[#Headers],[HöA-A]],Hin_T[#Headers],0)))))),1),\"\")","v":""},{"$f":"IF(AND(ISNUMBER(Hut_T[[#This Row],[Rad]:[Rad]]),IFERROR(INDEX(Hin_T[[#Data],[#Totals]],Hut_T[[#This Row],[Rad]:[Rad]],MATCH(Hut_T[[#Headers],[D AöA]],Hin_T[#Headers],0)),\"\")),IFERROR(ROUND(INDEX(Hin_T[[#Data],[#Totals]],Hut_T[[#This Row],[Rad]:[Rad]]-IF(Hut_T[[#This Row],[Nr]:[Nr]]=BD_TX[[SJ]:[SJ]],COUNT(Besvär_T[[Sjukdomsdebut]:[Sjukdomsdebut]]),0),MATCH(IF(Hut_T[[#This Row],[Nr]:[Nr]]=BD_TX[[#Totals],[SJ]:[SJ]],BD_TX[[#Headers],[SJ]],\"\")&Hut_T[[#Headers],[D AöA]],Hin_T[#Headers],0)),0),\"\"),\"\")","v":""},{"$f":"IF(AND(ISNUMBER(Hut_T[[#This Row],[Rad]:[Rad]]),ISNUMBER(Hut_T[[#This Row],[D AöA]]),ISNUMBER(Hut_T[[#This Row],[Nr]:[Nr]])),IFERROR(ROUND(INDEX(Hin_T[[#Data],[#Totals]],Hut_T[[#This Row],[Rad]:[Rad]],MATCH(Hut_T[[#Headers],[AöA-A]],Hin_T[#Headers],0)),1-(INT(LOG10(INDEX(Hin_T[[#Data],[#Totals]],Hut_T[[#This Row],[Rad]:[Rad]],MATCH(Hut_T[[#Headers],[AöA-A]],Hin_T[#Headers],0)))))),1),\"\")","v":""},{"$f":"IF(AND(ISNUMBER(_xlfn.SINGLE(Hut_T[[#This Row],[Rad]:[Rad]])),IFERROR(_xlfn.SINGLE(INDEX(Hin_T[[#Data],[#Totals]],_xlfn.SINGLE(Hut_T[[#This Row],[Rad]:[Rad]]),MATCH(Hut_T[[#Headers],[D 4AM]],Hin_T[#Headers],0))),\"\")),IFERROR(ROUND(_xlfn.SINGLE(INDEX(Hin_T[[#Data],[#Totals]],_xlfn.SINGLE(Hut_T[[#This Row],[Rad]:[Rad]])-IF(_xlfn.SINGLE(Hut_T[[#This Row],[Nr]:[Nr]])=_xlfn.SINGLE(#REF!),COUNT(Besvär_T[[Sjukdomsdebut]:[Sjukdomsdebut]]),0),MATCH(_xlfn.SINGLE(IF(_xlfn.SINGLE(Hut_T[[#This Row],[Nr]:[Nr]])=_xlfn.SINGLE(#REF!),#REF!,\"\"))&Hut_T[[#Headers],[D 4AM]],Hin_T[#Headers],0))),0),\"\"),\"\")","v":""},{"$f":"IF(AND(ISNUMBER(Hut_T[[#This Row],[Rad]:[Rad]]),ISNUMBER(Hut_T[[#This Row],[D 4AM]]),ISNUMBER(Hut_T[[#This Row],[Nr]:[Nr]])),IFERROR(ROUND(INDEX(Hin_T[[#Data],[#Totals]],Hut_T[[#This Row],[Rad]:[Rad]],MATCH(Hut_T[[#Headers],[4AM-A]],Hin_T[#Headers],0)),1-(INT(LOG10(INDEX(Hin_T[[#Data],[#Totals]],Hut_T[[#This Row],[Rad]:[Rad]],MATCH(Hut_T[[#Headers],[4AM-A]],Hin_T[#Headers],0)))))),1),\"\")","v":""},{"$f":"IF(AND(ISNUMBER(Hut_T[[#This Row],[Rad]:[Rad]]),IFERROR(INDEX(Hin_T[[#Data],[#Totals]],Hut_T[[#This Row],[Rad]:[Rad]],MATCH(Hut_T[[#Headers],[D 15AM]],Hin_T[#Headers],0)),\"\")),IFERROR(ROUND(INDEX(Hin_T[[#Data],[#Totals]],Hut_T[[#This Row],[Rad]:[Rad]]-IF(Hut_T[[#This Row],[Nr]:[Nr]]=BD_TX[[SJ]:[SJ]],COUNT(Besvär_T[[Sjukdomsdebut]:[Sjukdomsdebut]]),0),MATCH(IF(Hut_T[[#This Row],[Nr]:[Nr]]=BD_TX[[#Totals],[SJ]:[SJ]],BD_TX[[#Headers],[SJ]],\"\")&Hut_T[[#Headers],[D 15AM]],Hin_T[#Headers],0)),0),\"\"),\"\")","v":""},{"$f":"IF(AND(ISNUMBER(Hut_T[[#This Row],[Rad]:[Rad]]),ISNUMBER(Hut_T[[#This Row],[D 15AM]]),ISNUMBER(Hut_T[[#This Row],[Nr]:[Nr]])),IFERROR(ROUND(INDEX(Hin_T[[#Data],[#Totals]],Hut_T[[#This Row],[Rad]:[Rad]],MATCH(Hut_T[[#Headers],[15AM-A]],Hin_T[#Headers],0)),1-(INT(LOG10(INDEX(Hin_T[[#Data],[#Totals]],Hut_T[[#This Row],[Rad]:[Rad]],MATCH(Hut_T[[#Headers],[15AM-A]],Hin_T[#Headers],0)))))),1),\"\")","v":""},{"$f":"IF(AND(ISNUMBER(Hut_T[[#This Row],[Rad]:[Rad]]),IFERROR(INDEX(Hin_T[[#Data],[#Totals]],Hut_T[[#This Row],[Rad]:[Rad]],MATCH(Hut_T[[#Headers],[D 20-10D]],Hin_T[#Headers],0)),\"\")),IFERROR(ROUND(INDEX(Hin_T[[#Data],[#Totals]],Hut_T[[#This Row],[Rad]:[Rad]]-IF(Hut_T[[#This Row],[Nr]:[Nr]]=BD_TX[[SJ]:[SJ]],COUNT(Besvär_T[[Sjukdomsdebut]:[Sjukdomsdebut]]),0),MATCH(IF(Hut_T[[#This Row],[Nr]:[Nr]]=BD_TX[[#Totals],[SJ]:[SJ]],BD_TX[[#Headers],[SJ]],\"\")&Hut_T[[#Headers],[D 20-10D]],Hin_T[#Headers],0)),0),\"\"),\"\")","v":""},{"$f":"IF(AND(ISNUMBER(Hut_T[[#This Row],[Rad]:[Rad]]),ISNUMBER(Hut_T[[#This Row],[D 20-10D]]),ISNUMBER(Hut_T[[#This Row],[Nr]:[Nr]])),IFERROR(ROUND(INDEX(Hin_T[[#Data],[#Totals]],Hut_T[[#This Row],[Rad]:[Rad]],MATCH(Hut_T[[#Headers],[20-10D-A]],Hin_T[#Headers],0)),1-(INT(LOG10(INDEX(Hin_T[[#Data],[#Totals]],Hut_T[[#This Row],[Rad]:[Rad]],MATCH(Hut_T[[#Headers],[20-10D-A]],Hin_T[#Headers],0)))))),1),\"\")","v":""},null,{"$f":"IFERROR(INDEX(Hin_T[[#Data],[#Totals],[B-år]],Hut_T[[#This Row],[Rad]]),IF(ISNUMBER(Hut_T[[#This Row],[Datum+]]),ET36,\"\"))","v":""},{"$f":"IFERROR(INDEX(Hin_T[S-år],Hut_T[[#This Row],[Rad]]),IFERROR(INDEX(BD_TX[[#Data],[#Totals],[År]],MATCH(Hut_T[[#This Row],[Rad]],BD_TX[[#Data],[#Totals],[NrX]],0)),\"\"))","v":""},null,{"$f":"ROWS($EW$20:EW37)","v":18},{"$f":"IFERROR(MATCH(Hist_Tab[[#This Row],[Ref]],Medel_T[NrX],0),1)","v":1},{"$f":"INT((ROW(Hist_Tab[[#This Row],[Ref]])-ROW(Hist_Tab[[#Headers],[Ref]])-1)/4)+1","v":5},{"$f":"COUNTIF($EY$19:EY37,Hist_Tab[[#This Row],[Ref]])","v":3},{"$f":"IFERROR(INDEX(Medel_T[Start],Hist_Tab[[#This Row],[Ref]]),_xlfn.AGGREGATE(4,6,Medel_T[Start]))","v":"00:00:00"},{"$f":"IFERROR(INDEX(Medel_T[Slut],Hist_Tab[[#This Row],[Ref]]),_xlfn.AGGREGATE(4,6,Medel_T[Slut]))","v":"00:00:00"},{"$f":"IF(EW36=0,Hist_Tab[[#This Row],[ÅrB]],IF(Hist_Tab[[#This Row],[per/p]]<2,Hist_Tab[[#This Row],[ÅrB]],Hist_Tab[[#This Row],[År S]]))","v":"00:00:00"},{"$f":"IF(Hist_Tab[[#This Row],[Rad]:[Rad]]=0,-1,IF($EY38>_xlfn.AGGREGATE(2,6,Medel_T[[Slut]:[Slut]]),0,INDEX(Medel_T[],Hist_Tab[[#This Row],[Ref]:[Ref]],MATCH(Hist_Tab[[#Headers],[HöA T]],Medel_T[#Headers],0))))","v":0},{"$f":"IF(Hist_Tab[[#This Row],[Rad]:[Rad]]=0,0,IF($EY38>_xlfn.AGGREGATE(2,6,Medel_T[[Slut]:[Slut]]),0,INDEX(Medel_T[],Hist_Tab[[#This Row],[Ref]:[Ref]],MATCH(Hist_Tab[[#Headers],[AöA T]],Medel_T[#Headers],0))))","v":0},{"$f":"IF(Hist_Tab[[#This Row],[Rad]:[Rad]]=0,0,IF($EY38>_xlfn.AGGREGATE(2,6,Medel_T[[Slut]:[Slut]]),0,INDEX(Medel_T[],Hist_Tab[[#This Row],[Ref]:[Ref]],MATCH(Hist_Tab[[#Headers],[4AM T]],Medel_T[#Headers],0))))","v":0},{"$f":"IF(Hist_Tab[[#This Row],[Rad]:[Rad]]=0,0,IF($EY38>_xlfn.AGGREGATE(2,6,Medel_T[[Slut]:[Slut]]),0,INDEX(Medel_T[],Hist_Tab[[#This Row],[Ref]:[Ref]],MATCH(Hist_Tab[[#Headers],[15AM T]],Medel_T[#Headers],0))))","v":0},{"$f":"IF(Hist_Tab[[#This Row],[Rad]:[Rad]]=0,0,IF($EY38>_xlfn.AGGREGATE(2,6,Medel_T[[Slut]:[Slut]]),0,INDEX(Medel_T[],Hist_Tab[[#This Row],[Ref]:[Ref]],MATCH(Hist_Tab[[#Headers],[20-10D T]],Medel_T[#Headers],0))))","v":0}]
[null,null,null,null,null,null,null,null,null,null,null,null,null,null,null,null,null,null,{"$f":"IF(LEN(Hin_T[[#This Row],[Start]])>0,ROWS($S$19:S38),\"\")","v":""},null,{"$f":"Hin_T[[#This Row],[Yrke]]&IF(ISBLANK(Hin_T[[#This Row],[Arbetsmoment]]),\"\",\"; \"&Hin_T[[#This Row],[Arbetsmoment]])","v":""},{"$f":"IFERROR(IF(LEN(Hin_T[[#This Row],[Start]])-LEN(SUBSTITUTE(Hin_T[[#This Row],[Start]],\"-\",\"\"))=2,DATEVALUE(Hin_T[[#This Row],[Start]]),IF(LEN(Hin_T[[#This Row],[Start]])<5,DATEVALUE(Hin_T[[#This Row],[Start]]&\"-01-01\"),DATEVALUE(LEFT(Hin_T[[#This Row],[Start]],IF(LEN(Hin_T[[#This Row],[Start]])>6,4,2))&\"-\"&MID(Hin_T[[#This Row],[Start]],IF(LEN(Hin_T[[#This Row],[Start]])>6,5,3),2)&\"-\"&RIGHT(Hin_T[[#This Row],[Start]],2)))),\"\")","v":""},{"$f":"IFERROR(IF(LEN(Hin_T[[#This Row],[Slut]])-LEN(SUBSTITUTE(Hin_T[[#This Row],[Slut]],\"-\",\"\"))=2,DATEVALUE(Hin_T[[#This Row],[Slut]]),IF(LEN(Hin_T[[#This Row],[Slut]])<5,DATEVALUE(Hin_T[[#This Row],[Slut]]&\"-12-31\"),DATEVALUE(LEFT(Hin_T[[#This Row],[Slut]],IF(LEN(Hin_T[[#This Row],[Slut]])>6,4,2))&\"-\"&MID(Hin_T[[#This Row],[Slut]],IF(LEN(Hin_T[[#This Row],[Slut]])>6,5,3),2)&\"-\"&RIGHT(Hin_T[[#This Row],[Slut]],2)))),\"\")","v":""},{"$f":"IF(COUNTIF(V$19:V38,Hin_T[[#This Row],[B-år]])=1,Hin_T[[#This Row],[B-år]],\"\")","v":""},{"$f":"IF(COUNTIF(W$19:W38,Hin_T[[#This Row],[S-år]])=1,Hin_T[[#This Row],[S-år]],\"\")","v":""},{"$f":"IFERROR(Hin_T[[#This Row],[B-år]]+IF(COUNTIF($V$19:V38,Hin_T[[#This Row],[B-år]])>1,COUNTIF($V$19:V38,Hin_T[[#This Row],[B-år]])/10,0),\"\")","v":""},{"$f":"IF(ISNUMBER(Hin_T[[#This Row],[Dagar]]),Hin_T[[#This Row],[Dagar]]/DÅ[Arbetsdag/år],1)","v":1},{"$f":"Hin_T[[#This Row],[Dag]]*DÅ[Arbetsdag/år]","v":220},{"$f":"IF(LEN(Hin_T[[#This Row],[Yrke]])=4,1,0)","v":0},{"$f":"_xlfn.DAYS(Hin_T[[#This Row],[B-år]],DATE(YEAR(Hin_T[[#This Row],[B-år]]),1,1))/(DATE(YEAR(Hin_T[[#This Row],[B-år]])+1,1,1)-DATE(YEAR(Hin_T[[#This Row],[B-år]]),1,1))","v":{"$error":"#VALUE!"}},{"$f":"_xlfn.DAYS(DATE(YEAR(Hin_T[[#This Row],[S-år]]),12,31),Hin_T[[#This Row],[S-år]])/(DATE(YEAR(Hin_T[[#This Row],[S-år]])+1,1,1)-DATE(YEAR(Hin_T[[#This Row],[S-år]]),1,1))","v":{"$error":"#VALUE!"}},{"$f":"YEARFRAC(Hin_T[[#This Row],[S-år]],Hin_T[[#This Row],[B-år]])*Hin_T[[#This Row],[Dag]]","v":{"$error":"#VALUE!"}},{"$f":"IFERROR(Hin_T[[#This Row],[År diff]]*IF(ISNUMBER(Hin_T[[#This Row],[HöA]]),1,0),0)","v":0},{"$f":"IFERROR(Hin_T[[#This Row],[År diff]]*IF(ISNUMBER(Hin_T[[#This Row],[AöA]]),1,0),0)","v":0},{"$f":"IF(Hin_T[[#This Row],[B-år]]<=Besvär_T[[#Totals],[Sjukdomsdebut]],Hin_T[[#This Row],[B-år]],\"\")","v":""},{"$f":"IF(Hin_T[[#This Row],[S-år]]<=Besvär_T[[#Totals],[Sjukdomsdebut]],Hin_T[[#This Row],[S-år]],\"\")","v":""},{"$f":"IFERROR(YEARFRAC(IF(AND(ISNUMBER(Hin_T[[#This Row],[B-år EA]]),LEN(Hin_T[[#This Row],[S-år EA]])=0),Hin_T[[#Totals],[15AM-A]],Hin_T[[#This Row],[S-år EA]]),Hin_T[[#This Row],[B-år EA]])*Hin_T[[#This Row],[Dag]]*IF(ISNUMBER(Hin_T[[#This Row],[HöA]]),1,0),0)","v":0},{"$f":"IFERROR(YEARFRAC(IF(AND(ISNUMBER(Hin_T[[#This Row],[B-år EA]]),LEN(Hin_T[[#This Row],[S-år EA]])=0),Hin_T[[#Totals],[15AM-A]],Hin_T[[#This Row],[S-år EA]]),Hin_T[[#This Row],[B-år EA]])*Hin_T[[#This Row],[Dag]]*IF(ISNUMBER(Hin_T[[#This Row],[AöA]]),1,0),0)","v":0},{"$f":"IFERROR(Hin_T[[#This Row],[År diff]]*IF(ISNUMBER(Hin_T[[#This Row],[4AM]]),1,0),0)","v":0},{"$f":"IFERROR(Hin_T[[#This Row],[År diff]]*IF(ISNUMBER(Hin_T[[#This Row],[15AM]]),1,0),0)","v":0},{"$f":"IF(Hin_T[[#This Row],[B-år]]<=Besvär_T[[#Totals],[Sjukdomsdebut]],Hin_T[[#This Row],[B-år]],\"\")","v":""},{"$f":"IF(Hin_T[[#This Row],[S-år]]<=Besvär_T[[#Totals],[Sjukdomsdebut]],Hin_T[[#This Row],[S-år]],\"\")","v":""},{"$f":"IFERROR(YEARFRAC(IF(AND(ISNUMBER(Hin_T[[#This Row],[B-år RA]]),LEN(Hin_T[[#This Row],[S-år RA]])=0),Hin_T[[#Totals],[15AM-A]],Hin_T[[#This Row],[S-år RA]]),Hin_T[[#This Row],[B-år RA]])*Hin_T[[#This Row],[Dag]]*IF(ISNUMBER(Hin_T[[#This Row],[4AM]]),1,0),0)","v":0},{"$f":"IFERROR(YEARFRAC(IF(AND(ISNUMBER(Hin_T[[#This Row],[B-år RA]]),LEN(Hin_T[[#This Row],[S-år RA]])=0),Hin_T[[#Totals],[15AM-A]],Hin_T[[#This Row],[S-år RA]]),Hin_T[[#This Row],[B-år RA]])*Hin_T[[#This Row],[Dag]]*IF(ISNUMBER(Hin_T[[#This Row],[15AM]]),1,0),0)","v":0},{"$f":"IFERROR(Hin_T[[#This Row],[År diff]]*IF(ISNUMBER(Hin_T[[#This Row],[20-10D]]),1,0),0)","v":0},{"$f":"IF(Hin_T[[#This Row],[B-år]]<=Besvär_T[[#Totals],[Sjukdomsdebut]],Hin_T[[#This Row],[B-år]],\"\")","v":""},{"$f":"IF(Hin_T[[#This Row],[S-år]]<=Besvär_T[[#Totals],[Sjukdomsdebut]],Hin_T[[#This Row],[S-år]],\"\")","v":""},{"$f":"IFERROR(YEARFRAC(IF(AND(ISNUMBER(Hin_T[[#This Row],[B-år TMH]]),LEN(Hin_T[[#This Row],[S-år TMH]])=0),Hin_T[[#Totals],[15AM-A]],Hin_T[[#This Row],[S-år TMH]]),Hin_T[[#This Row],[B-år TMH]])*Hin_T[[#This Row],[Dag]]*IF(ISNUMBER(Hin_T[[#This Row],[20-10D]]),1,0),0)","v":0},{"$f":"IF(Hin_T[[#This Row],[Vib]]=JN_T[JN],1,0)","v":0},{"$f":"IFERROR(Hin_T[[#This Row],[År diff]]*IF(Hin_T[[#This Row],[Vib2]]>0,1,0),0)","v":0},{"$f":"IF(Hin_T[[#This Row],[B-år]]<=Besvär_T[[#Totals],[Sjukdomsdebut]],Hin_T[[#This Row],[B-år]],\"\")","v":""},{"$f":"IF(Hin_T[[#This Row],[S-år]]<=Besvär_T[[#Totals],[Sjukdomsdebut]],Hin_T[[#This Row],[S-år]],\"\")","v":""},{"$f":"IFERROR(YEARFRAC(IF(AND(ISNUMBER(Hin_T[[#This Row],[B-år VIB]]),LEN(Hin_T[[#This Row],[S-år Vib]])=0),Hin_T[[#Totals],[15AM-A]],Hin_T[[#This Row],[S-år Vib]]),Hin_T[[#This Row],[B-år VIB]])*IF(Hin_T[[#This Row],[Vib2]]>0,1,0),0)","v":0},{"$f":"Hin_T[[#This Row],[HöA]]*Hin_T[[#This Row],[tot år HöA]]*DÅ[Arbetsdag/år]","v":0},{"$f":"Hin_T[[#This Row],[tot år AöA]]*Hin_T[[#This Row],[AöA]]*DÅ[Arbetsdag/år]","v":0},{"$f":"Hin_T[[#This Row],[tot år 4AM]]*Hin_T[[#This Row],[4AM]]*DÅ[Arbetsdag/år]","v":0},{"$f":"Hin_T[[#This Row],[tot år 15AM]]*Hin_T[[#This Row],[15AM]]*DÅ[Arbetsdag/år]","v":0},{"$f":"Hin_T[[#This Row],[tot år 20-10D]]*Hin_T[[#This Row],[20-10D]]*DÅ[Arbetsdag/år]","v":0},{"$f":"Hin_T[[#This Row],[BD år HöA]]*Hin_T[[#This Row],[HöA]]*DÅ[Arbetsdag/år]","v":0},{"$f":"Hin_T[[#This Row],[BD år AöA]]*Hin_T[[#This Row],[AöA]]*DÅ[Arbetsdag/år]","v":0},{"$f":"Hin_T[[#This Row],[BD år 4AM]]*Hin_T[[#This Row],[4AM]]*DÅ[Arbetsdag/år]","v":0},{"$f":"Hin_T[[#This Row],[BD år 15AM]]*Hin_T[[#This Row],[15AM]]*DÅ[Arbetsdag/år]","v":0},{"$f":"Hin_T[[#This Row],[BD år 20-10D]]*Hin_T[[#This Row],[20-10D]]*DÅ[Arbetsdag/år]","v":0},{"$f":"Hin_T[[#This Row],[Arbetsmoment]]&Hin_T[[#This Row],[Text AöA]]&Hin_T[[#This Row],[Text 15AM]]&IF(Hin_T[[#This Row],[Dagarna]]=DÅ[Arbetsdag/år],\"\",\". \"&Hin_T[[#This Row],[Dagarna]]&\" dagar/år\")&\". \"","v":". "},{"$f":"IF(ISBLANK(Hin_T[[#This Row],[AöA]]),\"\",Exp_T[Överarmslyft> 90°: ]&IF(VALUE(TEXT(Hin_T[[#This Row],[AöA]],\"t\"))>0,VALUE(TEXT(Hin_T[[#This Row],[AöA]],\"t\"))&\" h\",\"\")&IF(AND(VALUE(TEXT(Hin_T[[#This Row],[AöA]],\"t\"))>0,VALUE(TEXT(Hin_T[[#This Row],[AöA]],\"m\"))>2.4),\" \",\"\")&IF(VALUE(TEXT(Hin_T[[#This Row],[AöA]],\"m\"))>2.4,TEXT(ROUND(Hin_T[[#This Row],[AöA]]*(24*60/5),0)/(24*60/5),\"m\")&\" min\",\"\")&\"/dag\")","v":""},{"$f":"IF(ISBLANK(Hin_T[[#This Row],[15AM]]),\"\",Exp_T[Överarmsrörelser> 15/min: ]&IF(VALUE(TEXT(Hin_T[[#This Row],[15AM]],\"t\"))>0,VALUE(TEXT(Hin_T[[#This Row],[15AM]],\"t\"))&\" h\",\"\")&IF(AND(VALUE(TEXT(Hin_T[[#This Row],[15AM]],\"t\"))>0,VALUE(TEXT(Hin_T[[#This Row],[15AM]],\"m\"))>2.4),\" \",\"\")&IF(VALUE(TEXT(Hin_T[[#This Row],[15AM]],\"m\"))>2.4,TEXT(ROUND(Hin_T[[#This Row],[15AM]]*(24*60/5),0)/(24*60/5),\"m\")&\" min\",\"\")&\"/dag\")","v":""},null,null,null,null,{"$f":"SMALL(Hin_T[[StartÅR]:[SlutÅr]],ROW()-ROW(Medel_T[[#Headers],[Start]]))","v":{"$error":"#NUM!"}},{"$f":"SMALL(Hin_T[[StartÅR]:[SlutÅr]],ROW()-ROW(Medel_T[[#Headers],[Slut]])+1)","v":{"$error":"#NUM!"}},{"$f":"IF(Medel_T[[#This Row],[Start]]<=Besvär_T[[#Totals],[Sjukdomsdebut]],Medel_T[[#This Row],[Start]],\"\")","v":{"$error":"#NUM!"}},{"$f":"IF(Medel_T[[#This Row],[Slut]]<=Besvär_T[[#Totals],[Sjukdomsdebut]],Medel_T[[#This Row],[Slut]],IF(AND(LEN(Medel_T[[#This Row],[SJDstart]])>0,LEN(BU39)=0),Besvär_T[[#Totals],[Sjukdomsdebut]],\"\"))","v":{"$error":"#NUM!"}},{"$f":"IF(Medel_T[[#This Row],[Start]]>=Besvär_T[[#Totals],[Sjukdomsdebut]],Medel_T[[#This Row],[Start]],IF(AND(LEN(Medel_T[[#This Row],[EfterSlut]])>0,LEN(BX37)=0),Besvär_T[[#Totals],[Sjukdomsdebut]],\"\"))","v":{"$error":"#NUM!"}},{"$f":"IF(Medel_T[[#This Row],[Slut]]>=Besvär_T[[#Totals],[Sjukdomsdebut]],Medel_T[[#This Row],[Slut]],\"\")","v":{"$error":"#NUM!"}},{"$f":"COUNTIF($BZ$19:BZ38,\">0\")","v":0},{"$f":"COUNTIFS(Hin_T[B-år],\"<=\"&Medel_T[[#This Row],[Start]],Hin_T[S-år],\">=\"&Medel_T[[#This Row],[Slut]])","v":0},{"$f":"SUBSTITUTE(_xlfn.TEXTJOIN(Sep_T[Separator],TRUE,_xlfn._xlws.SORT(_xlfn.UNIQUE(IF((Hin_T[[B-år]:[B-år]]<=Medel_T[[#This Row],[Start]:[Start]])*(Hin_T[[S-år]:[S-år]]>=Medel_T[[#This Row],[Slut]:[Slut]]),Hin_T[Yrke],\"\")))),0&Sep_T[Separator],\"\")","v":{"$error":"#NUM!"}},{"$f":"SUBSTITUTE(_xlfn.TEXTJOIN(Sep_T[Separator],TRUE,_xlfn._xlws.SORT(_xlfn.UNIQUE(IF((Hin_T[[B-år]:[B-år]]<=Medel_T[[#This Row],[Start]:[Start]])*(Hin_T[[S-år]:[S-år]]>=Medel_T[[#This Row],[Slut]:[Slut]]),Hin_T[Arbetsmoment],\"\")))),0&Sep_T[Separator],\"\")","v":{"$error":"#NUM!"}},{"$f":"IF(LEN(Medel_T[[#This Row],[Yrke]])>0,Medel_T[[#Headers],[Period ]]&Medel_T[[#This Row],[NrX]]&\": \"&TEXT(Medel_T[[#This Row],[Start]],\"ÅÅÅÅ\")&List_T[[#Totals],[List symb]]&TEXT(Medel_T[[#This Row],[Slut]],\"ÅÅÅÅ\")&\" (\"&ROUND(Medel_T[[#This Row],[År]],1)&\" år) Anställd som \"&IFERROR(SUBSTITUTE(SUBSTITUTE(Medel_T[[#This Row],[Yrke]],Sep_T[Separator],\" och \",Medel_T[[#This Row],[Ant]]-1),Sep_T[Separator],\", \"),Medel_T[[#This Row],[Yrke]])&↓[↓],\"\")","v":{"$error":"#NUM!"}},{"$f":"IF(LEN(Medel_T[[#This Row],[Arbetsmoment]])>0,ROMAN(1)&\") \"&_xlfn.TEXTJOIN(Delim[Delimiters],TRUE,_xlfn._xlws.SORT(_xlfn.UNIQUE(IF((Hin_T[[B-år]:[B-år]]<=Medel_T[[#This Row],[Start]:[Start]])*(Hin_T[[S-år]:[S-år]]>=Medel_T[[#This Row],[Slut]:[Slut]]),Hin_T[Text],\"\"))))&↓[↓],\"\")","v":{"$error":"#NUM!"}},{"$f":"SUMPRODUCT((Hin_T[[B-år]:[B-år]]<=Medel_T[[#This Row],[Start]:[Start]])*(Hin_T[[S-år]:[S-år]]>=Medel_T[[#This Row],[Slut]:[Slut]])*Hin_T[Dag])","v":{"$error":"#NUM!"}},{"$f":"IF(Medel_T[[#This Row],[Proc dag]]<=1,Medel_T[[#This Row],[Proc dag]],1)","v":{"$error":"#NUM!"}},{"$f":"YEARFRAC(Medel_T[[#This Row],[Slut]],Medel_T[[#This Row],[Start]])","v":{"$error":"#NUM!"}},{"$f":"YEARFRAC(Medel_T[[#This Row],[SJDslut]],Medel_T[[#This Row],[SJDstart]])","v":{"$error":"#NUM!"}},{"$f":"IFERROR(SUMPRODUCT((Hin_T[[B-år]:[B-år]]<=Medel_T[[#This Row],[Start]:[Start]])*(Hin_T[[S-år]:[S-år]]>=Medel_T[[#This Row],[Slut]:[Slut]])*Hin_T[HöA]*Hin_T[[Dag]:[Dag]])/Medel_T[[#This Row],[Proc dag]],-1)","v":-1},{"$f":"IFERROR(SUMPRODUCT((Hin_T[[B-år]:[B-år]]<=Medel_T[[#This Row],[Start]:[Start]])*(Hin_T[[S-år]:[S-år]]>=Medel_T[[#This Row],[Slut]:[Slut]])*Hin_T[AöA]*Hin_T[[Dag]:[Dag]])/Medel_T[[#This Row],[Proc dag]],-1)","v":-1},{"$f":"IFERROR(SUMPRODUCT((Hin_T[[B-år]:[B-år]]<=Medel_T[[#This Row],[Start]:[Start]])*(Hin_T[[S-år]:[S-år]]>=Medel_T[[#This Row],[Slut]:[Slut]])*Hin_T[4AM]*Hin_T[[Dag]:[Dag]])/Medel_T[[#This Row],[Proc dag]],-1)","v":-1},{"$f":"IFERROR(SUMPRODUCT((Hin_T[[B-år]:[B-år]]<=Medel_T[[#This Row],[Start]:[Start]])*(Hin_T[[S-år]:[S-år]]>=Medel_T[[#This Row],[Slut]:[Slut]])*Hin_T[15AM]*Hin_T[[Dag]:[Dag]])/Medel_T[[#This Row],[Proc dag]],-1)","v":-1},{"$f":"IFERROR(SUMPRODUCT((Hin_T[[B-år]:[B-år]]<=Medel_T[[#This Row],[Start]:[Start]])*(Hin_T[[S-år]:[S-år]]>=Medel_T[[#This Row],[Slut]:[Slut]])*Hin_T[20-10D]*Hin_T[[Dag]:[Dag]])/Medel_T[[#This Row],[Proc dag]],-1)","v":-1},{"$f":"IFERROR(SUMPRODUCT((Hin_T[[B-år]:[B-år]]<=Medel_T[[#This Row],[Start]:[Start]])*(Hin_T[[S-år]:[S-år]]>=Medel_T[[#This Row],[Slut]:[Slut]])*Hin_T[[Dag]:[Dag]]*Hin_T[HöA])/Medel_T[[#This Row],[Dag sum]],-1)","v":-1},{"$f":"IFERROR(SUMPRODUCT((Hin_T[[B-år]:[B-år]]<=Medel_T[[#This Row],[Start]:[Start]])*(Hin_T[[S-år]:[S-år]]>=Medel_T[[#This Row],[Slut]:[Slut]])*Hin_T[[Dag]:[Dag]]*Hin_T[AöA])/Medel_T[[#This Row],[Dag sum]],-1)","v":-1},{"$f":"IFERROR(SUMPRODUCT((Hin_T[[B-år]:[B-år]]<=Medel_T[[#This Row],[Start]:[Start]])*(Hin_T[[S-år]:[S-år]]>=Medel_T[[#This Row],[Slut]:[Slut]])*Hin_T[[Dag]:[Dag]]*Hin_T[4AM])/Medel_T[[#This Row],[Dag sum]],-1)","v":-1},{"$f":"IFERROR(SUMPRODUCT((Hin_T[[B-år]:[B-år]]<=Medel_T[[#This Row],[Start]:[Start]])*(Hin_T[[S-år]:[S-år]]>=Medel_T[[#This Row],[Slut]:[Slut]])*Hin_T[15AM]*Hin_T[[Dag]:[Dag]])/Medel_T[[#This Row],[Dag sum]],-1)","v":-1},{"$f":"IFERROR(SUMPRODUCT((Hin_T[[B-år]:[B-år]]<=Medel_T[[#This Row],[Start]:[Start]])*(Hin_T[[S-år]:[S-år]]>=Medel_T[[#This Row],[Slut]:[Slut]])*Hin_T[[Dag]:[Dag]]*Hin_T[20-10D])/Medel_T[[#This Row],[Dag sum]],-1)","v":-1},{"$f":"IFERROR(Medel_T[[#This Row],[Dag sum]:[Dag sum]]*Medel_T[[#This Row],[År]:[År]]*Medel_T[[#This Row],[HöA T]]*DÅ[Arbetsdag/år],0)","v":0},{"$f":"IFERROR(Medel_T[[#This Row],[Dag sum]:[Dag sum]]*Medel_T[[#This Row],[År]:[År]]*Medel_T[[#This Row],[AöA T]]*DÅ[Arbetsdag/år],0)","v":0},{"$f":"IFERROR(Medel_T[[#This Row],[Dag sum]:[Dag sum]]*Medel_T[[#This Row],[År]:[År]]*Medel_T[[#This Row],[4AM T]]*DÅ[Arbetsdag/år],0)","v":0},{"$f":"IFERROR(Medel_T[[#This Row],[Dag sum]:[Dag sum]]*Medel_T[[#This Row],[År]:[År]]*Medel_T[[#This Row],[15AM T]]*DÅ[Arbetsdag/år],0)","v":0},{"$f":"IFERROR(Medel_T[[#This Row],[Dag sum]:[Dag sum]]*Medel_T[[#This Row],[År]:[År]]*Medel_T[[#This Row],[20-10D T]]*DÅ[Arbetsdag/år],0)","v":0},{"$f":"IFERROR(Medel_T[[#This Row],[Dag sum]:[Dag sum]]*Medel_T[[#This Row],[ÅrSjuk]:[ÅrSjuk]]*Medel_T[[#This Row],[HöA T]]*DÅ[Arbetsdag/år],0)","v":0},{"$f":"IFERROR(Medel_T[[#This Row],[Dag sum]:[Dag sum]]*Medel_T[[#This Row],[ÅrSjuk]:[ÅrSjuk]]*Medel_T[[#This Row],[AöA T]]*DÅ[Arbetsdag/år],0)","v":0},{"$f":"IFERROR(Medel_T[[#This Row],[Dag sum]:[Dag sum]]*Medel_T[[#This Row],[ÅrSjuk]:[ÅrSjuk]]*Medel_T[[#This Row],[4AM T]]*DÅ[Arbetsdag/år],0)","v":0},{"$f":"IFERROR(Medel_T[[#This Row],[Dag sum]:[Dag sum]]*Medel_T[[#This Row],[ÅrSjuk]:[ÅrSjuk]]*Medel_T[[#This Row],[15AM T]]*DÅ[Arbetsdag/år],0)","v":0},{"$f":"IFERROR(Medel_T[[#This Row],[Dag sum]:[Dag sum]]*Medel_T[[#This Row],[ÅrSjuk]:[ÅrSjuk]]*Medel_T[[#This Row],[20-10D T]]*DÅ[Arbetsdag/år],0)","v":0},{"$f":"IFERROR(IF(Medel_T[[#This Row],[AöA T]]=0,\"\",List_T[List symb]&Exp_T[[#Headers],[Överarmslyft> 90°: ]]&IF(VALUE(TEXT(Medel_T[[#This Row],[AöA T]],\"t\"))>0,VALUE(TEXT(Medel_T[[#This Row],[AöA T]],\"t\"))&\" h\",\"\")&IF(AND(VALUE(TEXT(Medel_T[[#This Row],[AöA T]],\"t\"))>0,VALUE(TEXT(Medel_T[[#This Row],[AöA T]],\"m\"))>2.4),\" \",\"\")&IF(VALUE(TEXT(Medel_T[[#This Row],[AöA T]],\"m\"))>2.4,TEXT(ROUND(Medel_T[[#This Row],[AöA T]]*(24*60/5),0)/(24*60/5),\"m\")&\" min\",\"\")&\"/dag x \"&ROUND(Medel_T[[#This Row],[Dag sum]:[Dag sum]]*DÅ[Arbetsdag/år],0)&\" dagar x \"&ROUND(Medel_T[[#This Row],[År]:[År]],1)&\" år = \"&TEXT(ROUND(Medel_T[[#This Row],[D AöA§]]*24,1-(INT(LOG10(ABS(Medel_T[[#This Row],[D AöA§]]*24))))),\"0\"&IF(1-(INT(LOG10(ABS(Medel_T[[#This Row],[D AöA§]]*24))))>0,\",\"&REPT(\"0\",1-(INT(LOG10(ABS(Medel_T[[#This Row],[D AöA§]]*24))))),\"\"))& \" h\"),\"\")","v":""},{"$f":"IFERROR(IF(Medel_T[[#This Row],[15AM T]]=0,\"\",List_T[List symb]&Exp_T[[#Headers],[Överarmsrörelser> 15/min: ]]&IF(VALUE(TEXT(Medel_T[[#This Row],[15AM T]],\"t\"))>0,VALUE(TEXT(Medel_T[[#This Row],[15AM T]],\"t\"))&\" h\",\"\")&IF(AND(VALUE(TEXT(Medel_T[[#This Row],[15AM T]],\"t\"))>0,VALUE(TEXT(Medel_T[[#This Row],[15AM T]],\"m\"))>2.4),\" \",\"\")&IF(VALUE(TEXT(Medel_T[[#This Row],[15AM T]],\"m\"))>2.4,TEXT(ROUND(Medel_T[[#This Row],[15AM T]]*(24*60/5),0)/(24*60/5),\"m\")&\" min\",\"\")&\"/dag x \"&ROUND(Medel_T[[#This Row],[Dag sum]:[Dag sum]]*DÅ[Arbetsdag/år],0)&\" dagar x \"&ROUND(Medel_T[[#This Row],[År]:[År]],1)&\" år = \"&TEXT(ROUND(Medel_T[[#This Row],[D 15AM§]]*24,1-(INT(LOG10(ABS(Medel_T[[#This Row],[D 15AM§]]*24))))),\"0\"&IF(1-(INT(LOG10(ABS(Medel_T[[#This Row],[D 15AM§]]*24))))>0,\",\"&REPT(\"0\",1-(INT(LOG10(ABS(Medel_T[[#This Row],[D 15AM§]]*24))))),\"\"))& \" h\"),\"\")","v":""},{"$f":"IFERROR(IF(OR(LEN(Medel_T[[#This Row],[AöA text]])>0,LEN(Medel_T[[#This Row],[15AM Text]])>0),Exp_T[Anställning]&YEAR(Medel_T[[#This Row],[Start]])&List_T[[#Totals],[List symb]]&YEAR(Medel_T[[#This Row],[Slut]])&\" (\"&ROUND(Medel_T[[#This Row],[År]],1)&\" år)\"&IF(LEN(Medel_T[[#This Row],[AöA text]])>0,↓[↓],\"\")&Medel_T[[#This Row],[AöA text]]&IF(LEN(Medel_T[[#This Row],[15AM Text]])>0,↓[↓],\"\")&Medel_T[[#This Row],[15AM Text]],\"\"),\"\")","v":""},{"$f":"IFERROR(IF(Medel_T[[#This Row],[AöA T]]=0,\"\",List_T[List symb]&Exp_T[[#Headers],[Överarmsrörelser> 15/min: ]]&IF(VALUE(TEXT(Medel_T[[#This Row],[AöA T]],\"t\"))>0,VALUE(TEXT(Medel_T[[#This Row],[AöA T]],\"t\"))&\" h\",\"\")&IF(AND(VALUE(TEXT(Medel_T[[#This Row],[AöA T]],\"t\"))>0,VALUE(TEXT(Medel_T[[#This Row],[AöA T]],\"m\"))>2.4),\" \",\"\")&IF(VALUE(TEXT(Medel_T[[#This Row],[AöA T]],\"m\"))>2.4,TEXT(ROUND(Medel_T[[#This Row],[AöA T]]*(24*60/5),0)/(24*60/5),\"m\")&\" min\",\"\")&\"/dag x \"&ROUND(Medel_T[[#This Row],[Dag sum]:[Dag sum]]*DÅ[Arbetsdag/år],0)&\" dagar x \"&ROUND(Medel_T[[#This Row],[År]:[År]],1)&\" år = \"&TEXT(ROUND(Medel_T[[#This Row],[D AöA¤]]*24,1-(INT(LOG10(ABS(Medel_T[[#This Row],[D AöA¤]]*24))))),\"0\"&IF(1-(INT(LOG10(ABS(Medel_T[[#This Row],[D AöA¤]]*24))))>0,\",\"&REPT(\"0\",1-(INT(LOG10(ABS(Medel_T[[#This Row],[D AöA¤]]*24))))),\"\"))& \" h\"),\"\")","v":""},{"$f":"IFERROR(IF(Medel_T[[#This Row],[15AM T]]=0,\"\",List_T[List symb]&Exp_T[[#Headers],[Överarmslyft> 90°: ]]&IF(VALUE(TEXT(Medel_T[[#This Row],[15AM T]],\"t\"))>0,VALUE(TEXT(Medel_T[[#This Row],[15AM T]],\"t\"))&\" h\",\"\")&IF(AND(VALUE(TEXT(Medel_T[[#This Row],[15AM T]],\"t\"))>0,VALUE(TEXT(Medel_T[[#This Row],[15AM T]],\"m\"))>0),\" \",\"\")&IF(VALUE(TEXT(Medel_T[[#This Row],[15AM T]],\"m\"))>0,TEXT(ROUND(Medel_T[[#This Row],[15AM T]]*(24*60/5),0)/(24*60/5),\"m\")&\" min\",\"\")&\"/dag x \"&ROUND(Medel_T[[#This Row],[Dag sum]:[Dag sum]]*DÅ[Arbetsdag/år],0)&\" dagar x \"&ROUND(Medel_T[[#This Row],[År]:[År]],1)&\" år = \"&TEXT(ROUND(Medel_T[[#This Row],[D 15AM¤]]*24,1-(INT(LOG10(ABS(Medel_T[[#This Row],[D 15AM¤]]*24))))),\"0\"&IF(1-(INT(LOG10(ABS(Medel_T[[#This Row],[D 15AM¤]]*24))))>0,\",\"&REPT(\"0\",1-(INT(LOG10(ABS(Medel_T[[#This Row],[D 15AM¤]]*24))))),\"\"))& \" h\"),\"\")","v":""},{"$f":"IFERROR(IF(LEN(Medel_T[[#This Row],[SJDstart]])>0,Exp_T[Anställning]&↓[↓]&YEAR(Medel_T[[#This Row],[Start]])&List_T[[#Totals],[List symb]]&YEAR(Medel_T[[#This Row],[Slut]])&\" (\"&ROUND(Medel_T[[#This Row],[År]],1)&\" år)\"&IF(LEN(Medel_T[[#This Row],[AöA text Sjuk]])>0,↓[↓],\"\")&Medel_T[[#This Row],[AöA text Sjuk]]&IF(LEN(Medel_T[[#This Row],[15AM Text Sjuk]])>0,↓[↓],\"\")&Medel_T[[#This Row],[15AM Text Sjuk]],\"\"),\"\")","v":""},{"$f":"IFERROR(Medel_T[[#This Row],[Period ]]&Medel_T[[#This Row],[ArbMomText]]&Medel_T[[#This Row],[Text]],\"\")","v":""},{"$f":"IF(AND(DJ37>=MAX(Medel_T[NrX]),ISNUMBER(DJ37)),Medel_T[[#Totals],[NrX]]+ROW()-ROW(Medel_T[[#Headers],[Rad]])-Medel_T[[#Totals],[Ant]]-1,INDEX(Medel_T[NrX],MATCH(ROW()-ROW(Medel_T[[#Headers],[Rad]]),Medel_T[NrX],0)))","v":{"$error":"#N/A"}},{"$f":"IF(Medel_T[[#This Row],[Rad]]<=Medel_T[[#Totals],[Ant]],MATCH(Medel_T[[#This Row],[Rad]],Medel_T[NrX],0),IFERROR(INDEX(BD_TX[[#Data],[#Totals],[SJ]],MATCH(Medel_T[[#This Row],[Rad]],BD_TX[[#Data],[#Totals],[Nr]],0)),\"\"))","v":{"$error":"#N/A"}},{"$f":"LEN(Medel_T[[#This Row],[Yrke2]])-LEN(SUBSTITUTE(Medel_T[[#This Row],[Yrke2]],LEFT(Sep_T[Separator],1),\"\"))","v":0},{"$f":"INDEX(Medel_T[År],Medel_T[[#This Row],[Nr]])","v":{"$error":"#N/A"}},{"$f":"IFERROR(IF(LEN(Medel_T[[#This Row],[Nr]])>0,TEXT(IFERROR(INDEX(Medel_T[Start],Medel_T[[#This Row],[Nr]]),INDEX(BD_TX[[#Data],[#Totals],[Start]],MATCH(Medel_T[[#This Row],[Rad]],BD_TX[[#Data],[#Totals],[Nr]],0))),\"ÅÅÅÅ MMM\")&\"-\"&TEXT(IFERROR(INDEX(Medel_T[Slut],Medel_T[[#This Row],[Nr]]),INDEX(BD_TX[[#Data],[#Totals],[År]],MATCH(Medel_T[[#This Row],[Rad]],BD_TX[[#Data],[#Totals],[Nr]],0))),\"ÅÅÅÅ MMM\"),\"\"),\"\")","v":""},{"$f":"IFERROR(IF(LEN(Medel_T[[#This Row],[Nr]])>0,IF(Medel_T[[#This Row],[Rad]]>Medel_T[[#Totals],[Ant]],IFERROR(INDEX(BD_TX[[#Data],[#Totals],[Text]],MATCH(Medel_T[[#This Row],[Rad]],BD_TX[[#Data],[#Totals],[Nr]],0)),\"\"),INDEX(Medel_T[Yrke],Medel_T[[#This Row],[Nr]])),\"\"),\"\")","v":""},{"$f":"IFERROR(INDEX(Medel_T[Arbetsmoment],MATCH(ROW()-ROW(Medel_T[[#Headers],[Arbetsmoment2]]),Medel_T[[NrX]:[NrX]],0)),\"\")","v":""},{"$f":"IFERROR(INDEX(Medel_T[],Medel_T[[#This Row],[Nr]],Medel_T[[#Totals],[HöA_T]]),\"\")","v":""},{"$f":"IF(LEN(Medel_T[[#This Row],[Nr]:[Nr]])>0,IFERROR(TEXT(ROUND(24*IFERROR(INDEX(Medel_T[],Medel_T[[#This Row],[Nr]:[Nr]],Medel_T[[#Totals],[D HöA]]),INDEX(Sum_T[[#Data],[#Totals]],MATCH(Medel_T[[#This Row],[Nr]:[Nr]],Sum_T[[#Data],[#Totals],[Typ]:[Typ]],0),MATCH(Medel_T[[#Headers],[D HöA]],Sum_T[#Headers],0))),1-(INT(LOG10(ABS(24*IFERROR(INDEX(Medel_T[],Medel_T[[#This Row],[Nr]:[Nr]],Medel_T[[#Totals],[D HöA]]),INDEX(Sum_T[[#Data],[#Totals]],MATCH(Medel_T[[#This Row],[Nr]:[Nr]],Sum_T[[#Data],[#Totals],[Typ]:[Typ]],0),MATCH(Medel_T[[#Headers],[D HöA]],Sum_T[#Headers],0)))))))),\"0\"&IF(1-(INT(LOG10(ABS(24*IFERROR(INDEX(Medel_T[],Medel_T[[#This Row],[Nr]:[Nr]],Medel_T[[#Totals],[D HöA]]),INDEX(Sum_T[[#Data],[#Totals]],MATCH(Medel_T[[#This Row],[Nr]:[Nr]],Sum_T[[#Data],[#Totals],[Typ]:[Typ]],0),MATCH(Medel_T[[#Headers],[D HöA]],Sum_T[#Headers],0)))))))>0,\",\"&REPT(\"0\",1-(INT(LOG10(ABS(24*IFERROR(INDEX(Medel_T[],Medel_T[[#This Row],[Nr]:[Nr]],Medel_T[[#Totals],[D HöA]]),INDEX(Sum_T[[#Data],[#Totals]],MATCH(Medel_T[[#This Row],[Nr]:[Nr]],Sum_T[[#Data],[#Totals],[Typ]:[Typ]],0),MATCH(Medel_T[[#Headers],[D HöA]],Sum_T[#Headers],0)))))))),0)),0),\"\")","v":{"$error":"#N/A"}},{"$f":"IFERROR(INDEX(Medel_T[],Medel_T[[#This Row],[Nr]],Medel_T[[#Totals],[AÖA_T]]),\"\")","v":""},{"$f":"IFERROR(IF(LEN(Medel_T[[#This Row],[Nr]:[Nr]])>0,IFERROR(TEXT(ROUND(24*IFERROR(INDEX(Medel_T[],Medel_T[[#This Row],[Nr]:[Nr]],Medel_T[[#Totals],[D AöA]]),INDEX(Sum_T[[#Data],[#Totals]],MATCH(Medel_T[[#This Row],[Nr]:[Nr]],Sum_T[[#Data],[#Totals],[Typ]:[Typ]],0),MATCH(Medel_T[[#Headers],[D AöA]],Sum_T[#Headers],0))),1-(INT(LOG10(ABS(24*IFERROR(INDEX(Medel_T[],Medel_T[[#This Row],[Nr]:[Nr]],Medel_T[[#Totals],[D AöA]]),INDEX(Sum_T[[#Data],[#Totals]],MATCH(Medel_T[[#This Row],[Nr]:[Nr]],Sum_T[[#Data],[#Totals],[Typ]:[Typ]],0),MATCH(Medel_T[[#Headers],[D AöA]],Sum_T[#Headers],0)))))))),\"0\"&IF(1-(INT(LOG10(ABS(24*IFERROR(INDEX(Medel_T[],Medel_T[[#This Row],[Nr]:[Nr]],Medel_T[[#Totals],[D AöA]]),INDEX(Sum_T[[#Data],[#Totals]],MATCH(Medel_T[[#This Row],[Nr]:[Nr]],Sum_T[[#Data],[#Totals],[Typ]:[Typ]],0),MATCH(Medel_T[[#Headers],[D AöA]],Sum_T[#Headers],0)))))))>0,\",\"&REPT(\"0\",1-(INT(LOG10(ABS(24*IFERROR(INDEX(Medel_T[],Medel_T[[#This Row],[Nr]:[Nr]],Medel_T[[#Totals],[D AöA]]),INDEX(Sum_T[[#Data],[#Totals]],MATCH(Medel_T[[#This Row],[Nr]:[Nr]],Sum_T[[#Data],[#Totals],[Typ]:[Typ]],0),MATCH(Medel_T[[#Headers],[D AöA]],Sum_T[#Headers],0)))))))),0)),0),\"\"),\"\")","v":""},{"$f":"IFERROR(INDEX(Medel_T[],Medel_T[[#This Row],[Nr]],Medel_T[[#Totals],[4AM_T]]),\"\")","v":""},{"$f":"IF(LEN(Medel_T[[#This Row],[Nr]:[Nr]])>0,IFERROR(TEXT(ROUND(24*IFERROR(INDEX(Medel_T[],Medel_T[[#This Row],[Nr]:[Nr]],Medel_T[[#Totals],[D 4AM]]),INDEX(Sum_T[[#Data],[#Totals]],MATCH(Medel_T[[#This Row],[Nr]:[Nr]],Sum_T[[#Data],[#Totals],[Typ]:[Typ]],0),MATCH(Medel_T[[#Headers],[D 4AM]],Sum_T[#Headers],0))),1-(INT(LOG10(ABS(24*IFERROR(INDEX(Medel_T[],Medel_T[[#This Row],[Nr]:[Nr]],Medel_T[[#Totals],[D 4AM]]),INDEX(Sum_T[[#Data],[#Totals]],MATCH(Medel_T[[#This Row],[Nr]:[Nr]],Sum_T[[#Data],[#Totals],[Typ]:[Typ]],0),MATCH(Medel_T[[#Headers],[D 4AM]],Sum_T[#Headers],0)))))))),\"0\"&IF(1-(INT(LOG10(ABS(24*IFERROR(INDEX(Medel_T[],Medel_T[[#This Row],[Nr]:[Nr]],Medel_T[[#Totals],[D 4AM]]),INDEX(Sum_T[[#Data],[#Totals]],MATCH(Medel_T[[#This Row],[Nr]:[Nr]],Sum_T[[#Data],[#Totals],[Typ]:[Typ]],0),MATCH(Medel_T[[#Headers],[D 4AM]],Sum_T[#Headers],0)))))))>0,\",\"&REPT(\"0\",1-(INT(LOG10(ABS(24*IFERROR(INDEX(Medel_T[],Medel_T[[#This Row],[Nr]:[Nr]],Medel_T[[#Totals],[D 4AM]]),INDEX(Sum_T[[#Data],[#Totals]],MATCH(Medel_T[[#This Row],[Nr]:[Nr]],Sum_T[[#Data],[#Totals],[Typ]:[Typ]],0),MATCH(Medel_T[[#Headers],[D 4AM]],Sum_T[#Headers],0)))))))),0)),0),\"\")","v":{"$error":"#N/A"}},{"$f":"IFERROR(INDEX(Medel_T[],Medel_T[[#This Row],[Nr]],Medel_T[[#Totals],[15AM_T]]),\"\")","v":""},{"$f":"IFERROR(IF(LEN(Medel_T[[#This Row],[Nr]:[Nr]])>0,IFERROR(TEXT(ROUND(24*IFERROR(INDEX(Medel_T[],Medel_T[[#This Row],[Nr]:[Nr]],Medel_T[[#Totals],[D 15AM]]),INDEX(Sum_T[[#Data],[#Totals]],MATCH(Medel_T[[#This Row],[Nr]:[Nr]],Sum_T[[#Data],[#Totals],[Typ]:[Typ]],0),MATCH(Medel_T[[#Headers],[D 15AM]],Sum_T[#Headers],0))),1-(INT(LOG10(ABS(24*IFERROR(INDEX(Medel_T[],Medel_T[[#This Row],[Nr]:[Nr]],Medel_T[[#Totals],[D 15AM]]),INDEX(Sum_T[[#Data],[#Totals]],MATCH(Medel_T[[#This Row],[Nr]:[Nr]],Sum_T[[#Data],[#Totals],[Typ]:[Typ]],0),MATCH(Medel_T[[#Headers],[D 15AM]],Sum_T[#Headers],0)))))))),\"0\"&IF(1-(INT(LOG10(ABS(24*IFERROR(INDEX(Medel_T[],Medel_T[[#This Row],[Nr]:[Nr]],Medel_T[[#Totals],[D 15AM]]),INDEX(Sum_T[[#Data],[#Totals]],MATCH(Medel_T[[#This Row],[Nr]:[Nr]],Sum_T[[#Data],[#Totals],[Typ]:[Typ]],0),MATCH(Medel_T[[#Headers],[D 15AM]],Sum_T[#Headers],0)))))))>0,\",\"&REPT(\"0\",1-(INT(LOG10(ABS(24*IFERROR(INDEX(Medel_T[],Medel_T[[#This Row],[Nr]:[Nr]],Medel_T[[#Totals],[D 15AM]]),INDEX(Sum_T[[#Data],[#Totals]],MATCH(Medel_T[[#This Row],[Nr]:[Nr]],Sum_T[[#Data],[#Totals],[Typ]:[Typ]],0),MATCH(Medel_T[[#Headers],[D 15AM]],Sum_T[#Headers],0)))))))),0)),0),\"\"),\"\")","v":""},{"$f":"IFERROR(INDEX(Medel_T[],Medel_T[[#This Row],[Nr]],Medel_T[[#Totals],[20-10D_T]]),\"\")","v":""},{"$f":"IF(LEN(Medel_T[[#This Row],[Nr]:[Nr]])>0,IFERROR(TEXT(ROUND(24*IFERROR(INDEX(Medel_T[],Medel_T[[#This Row],[Nr]:[Nr]],Medel_T[[#Totals],[D 20-10D]]),INDEX(Sum_T[[#Data],[#Totals]],MATCH(Medel_T[[#This Row],[Nr]:[Nr]],Sum_T[[#Data],[#Totals],[Typ]:[Typ]],0),MATCH(Medel_T[[#Headers],[D 20-10D]],Sum_T[#Headers],0))),1-(INT(LOG10(ABS(24*IFERROR(INDEX(Medel_T[],Medel_T[[#This Row],[Nr]:[Nr]],Medel_T[[#Totals],[D 20-10D]]),INDEX(Sum_T[[#Data],[#Totals]],MATCH(Medel_T[[#This Row],[Nr]:[Nr]],Sum_T[[#Data],[#Totals],[Typ]:[Typ]],0),MATCH(Medel_T[[#Headers],[D 20-10D]],Sum_T[#Headers],0)))))))),\"0\"&IF(1-(INT(LOG10(ABS(24*IFERROR(INDEX(Medel_T[],Medel_T[[#This Row],[Nr]:[Nr]],Medel_T[[#Totals],[D 20-10D]]),INDEX(Sum_T[[#Data],[#Totals]],MATCH(Medel_T[[#This Row],[Nr]:[Nr]],Sum_T[[#Data],[#Totals],[Typ]:[Typ]],0),MATCH(Medel_T[[#Headers],[D 20-10D]],Sum_T[#Headers],0)))))))>0,\",\"&REPT(\"0\",1-(INT(LOG10(ABS(24*IFERROR(INDEX(Medel_T[],Medel_T[[#This Row],[Nr]:[Nr]],Medel_T[[#Totals],[D 20-10D]]),INDEX(Sum_T[[#Data],[#Totals]],MATCH(Medel_T[[#This Row],[Nr]:[Nr]],Sum_T[[#Data],[#Totals],[Typ]:[Typ]],0),MATCH(Medel_T[[#Headers],[D 20-10D]],Sum_T[#Headers],0)))))))),0)),0),\"\")","v":{"$error":"#N/A"}},null,{"$f":"IFERROR(INDEX(Hin_T[Nr],MATCH(SMALL(Hin_T[B-årX],ROW()-ROW(Hut_T[[#Headers],[Rad]])),Hin_T[B-årX],0)),IF(ROWS($EB$19:EB38)=1+COUNTIF(Hin_T[Start],\"*\"),Hin_T[[#Totals],[Dag]],IF(AND(ROWS($EB$19:EB38)=2+COUNTIF(Hin_T[Start],\"*\"),Hin_T[[#Totals],[Q%-]]>0),EB37+1,IF(AND(ROWS($EB$19:EB38)=3+COUNTIF(Hin_T[Start],\"*\"),Hin_T[[#Totals],[Q%-]]>1),EB37+1,IF(AND(ROWS($EB$19:EB38)=4+COUNTIF(Hin_T[Start],\"*\"),Hin_T[[#Totals],[Q%-]]>2),EB37+1,\"\")))))","v":""},{"$f":"IF(Hut_T[[#This Row],[Rad]]<Hin_T[[#Totals],[Dag]],ROWS($EB$19:EB38),IFERROR(INDEX(BD_TX[[#Data],[#Totals],[SJ]],MATCH(Hut_T[[#This Row],[Rad]],BD_TX[[#Data],[#Totals],[NrX]],0)),\"\"))","v":""},{"$f":"IF(ISNUMBER(Hut_T[[#This Row],[Datum-]]),TEXT(Hut_T[[#This Row],[Datum-]],\"ÅÅÅÅ MMM\")&\"-\"&TEXT(Hut_T[[#This Row],[Datum+]],\"ÅÅÅÅ MMM\"),\"\")","v":""},{"$f":"IF(ISNUMBER(Hut_T[[#This Row],[Nr]]),IF(INDEX(Hin_T[Yrke],Hut_T[[#This Row],[Rad]])>0,INDEX(Hin_T[Yrke],Hut_T[[#This Row],[Rad]]),\"\"),IFERROR(INDEX(BD_TX[[#Data],[#Totals],[Text]],MATCH(Hut_T[[#This Row],[Rad]],BD_TX[[#Data],[#Totals],[NrX]],0)),\"\"))","v":""},{"$f":"IF(ISNUMBER(Hut_T[[#This Row],[Nr]]),IF(INDEX(Hin_T[Arbetsmoment],Hut_T[[#This Row],[Rad]])>0,INDEX(Hin_T[Arbetsmoment],Hut_T[[#This Row],[Rad]]),\"\"),\"\")","v":""},{"$f":"IFERROR(IF(INDEX(Hin_T[Yrke],Hut_T[[#This Row],[Rad]])>0,INDEX(Hin_T[Företag],Hut_T[[#This Row],[Rad]]),\"\"),\"\")","v":""},{"$f":"IFERROR(IF(INDEX(Hin_T[Dag],Hut_T[[#This Row],[Rad]])>0,INDEX(Hin_T[Dag],Hut_T[[#This Row],[Rad]])*DÅ[Arbetsdag/år],\"\"),\"\")","v":""},{"$f":"IF(AND(ISNUMBER(_xlfn.SINGLE(Hut_T[[#This Row],[Rad]:[Rad]])),IFERROR(_xlfn.SINGLE(INDEX(Hin_T[[#Data],[#Totals]],_xlfn.SINGLE(Hut_T[[#This Row],[Rad]:[Rad]]),MATCH(Hut_T[[#Headers],[D HöA]],Hin_T[#Headers],0))),\"\")),IFERROR(ROUND(_xlfn.SINGLE(INDEX(Hin_T[[#Data],[#Totals]],_xlfn.SINGLE(Hut_T[[#This Row],[Rad]:[Rad]])-IF(_xlfn.SINGLE(Hut_T[[#This Row],[Nr]:[Nr]])=_xlfn.SINGLE(#REF!),COUNT(Besvär_T[[Sjukdomsdebut]:[Sjukdomsdebut]]),0),MATCH(_xlfn.SINGLE(IF(_xlfn.SINGLE(Hut_T[[#This Row],[Nr]:[Nr]])=_xlfn.SINGLE(#REF!),#REF!,\"\"))&Hut_T[[#Headers],[D HöA]],Hin_T[#Headers],0))),0),\"\"),\"\")","v":""},{"$f":"IF(AND(ISNUMBER(Hut_T[[#This Row],[Rad]:[Rad]]),ISNUMBER(Hut_T[[#This Row],[D HöA]]),ISNUMBER(Hut_T[[#This Row],[Nr]:[Nr]])),IFERROR(ROUND(INDEX(Hin_T[[#Data],[#Totals]],Hut_T[[#This Row],[Rad]:[Rad]],MATCH(Hut_T[[#Headers],[HöA-A]],Hin_T[#Headers],0)),1-(INT(LOG10(INDEX(Hin_T[[#Data],[#Totals]],Hut_T[[#This Row],[Rad]:[Rad]],MATCH(Hut_T[[#Headers],[HöA-A]],Hin_T[#Headers],0)))))),1),\"\")","v":""},{"$f":"IF(AND(ISNUMBER(Hut_T[[#This Row],[Rad]:[Rad]]),IFERROR(INDEX(Hin_T[[#Data],[#Totals]],Hut_T[[#This Row],[Rad]:[Rad]],MATCH(Hut_T[[#Headers],[D AöA]],Hin_T[#Headers],0)),\"\")),IFERROR(ROUND(INDEX(Hin_T[[#Data],[#Totals]],Hut_T[[#This Row],[Rad]:[Rad]]-IF(Hut_T[[#This Row],[Nr]:[Nr]]=BD_TX[[SJ]:[SJ]],COUNT(Besvär_T[[Sjukdomsdebut]:[Sjukdomsdebut]]),0),MATCH(IF(Hut_T[[#This Row],[Nr]:[Nr]]=BD_TX[[#Totals],[SJ]:[SJ]],BD_TX[[#Headers],[SJ]],\"\")&Hut_T[[#Headers],[D AöA]],Hin_T[#Headers],0)),0),\"\"),\"\")","v":""},{"$f":"IF(AND(ISNUMBER(Hut_T[[#This Row],[Rad]:[Rad]]),ISNUMBER(Hut_T[[#This Row],[D AöA]]),ISNUMBER(Hut_T[[#This Row],[Nr]:[Nr]])),IFERROR(ROUND(INDEX(Hin_T[[#Data],[#Totals]],Hut_T[[#This Row],[Rad]:[Rad]],MATCH(Hut_T[[#Headers],[AöA-A]],Hin_T[#Headers],0)),1-(INT(LOG10(INDEX(Hin_T[[#Data],[#Totals]],Hut_T[[#This Row],[Rad]:[Rad]],MATCH(Hut_T[[#Headers],[AöA-A]],Hin_T[#Headers],0)))))),1),\"\")","v":""},{"$f":"IF(AND(ISNUMBER(_xlfn.SINGLE(Hut_T[[#This Row],[Rad]:[Rad]])),IFERROR(_xlfn.SINGLE(INDEX(Hin_T[[#Data],[#Totals]],_xlfn.SINGLE(Hut_T[[#This Row],[Rad]:[Rad]]),MATCH(Hut_T[[#Headers],[D 4AM]],Hin_T[#Headers],0))),\"\")),IFERROR(ROUND(_xlfn.SINGLE(INDEX(Hin_T[[#Data],[#Totals]],_xlfn.SINGLE(Hut_T[[#This Row],[Rad]:[Rad]])-IF(_xlfn.SINGLE(Hut_T[[#This Row],[Nr]:[Nr]])=_xlfn.SINGLE(#REF!),COUNT(Besvär_T[[Sjukdomsdebut]:[Sjukdomsdebut]]),0),MATCH(_xlfn.SINGLE(IF(_xlfn.SINGLE(Hut_T[[#This Row],[Nr]:[Nr]])=_xlfn.SINGLE(#REF!),#REF!,\"\"))&Hut_T[[#Headers],[D 4AM]],Hin_T[#Headers],0))),0),\"\"),\"\")","v":""},{"$f":"IF(AND(ISNUMBER(Hut_T[[#This Row],[Rad]:[Rad]]),ISNUMBER(Hut_T[[#This Row],[D 4AM]]),ISNUMBER(Hut_T[[#This Row],[Nr]:[Nr]])),IFERROR(ROUND(INDEX(Hin_T[[#Data],[#Totals]],Hut_T[[#This Row],[Rad]:[Rad]],MATCH(Hut_T[[#Headers],[4AM-A]],Hin_T[#Headers],0)),1-(INT(LOG10(INDEX(Hin_T[[#Data],[#Totals]],Hut_T[[#This Row],[Rad]:[Rad]],MATCH(Hut_T[[#Headers],[4AM-A]],Hin_T[#Headers],0)))))),1),\"\")","v":""},{"$f":"IF(AND(ISNUMBER(Hut_T[[#This Row],[Rad]:[Rad]]),IFERROR(INDEX(Hin_T[[#Data],[#Totals]],Hut_T[[#This Row],[Rad]:[Rad]],MATCH(Hut_T[[#Headers],[D 15AM]],Hin_T[#Headers],0)),\"\")),IFERROR(ROUND(INDEX(Hin_T[[#Data],[#Totals]],Hut_T[[#This Row],[Rad]:[Rad]]-IF(Hut_T[[#This Row],[Nr]:[Nr]]=BD_TX[[SJ]:[SJ]],COUNT(Besvär_T[[Sjukdomsdebut]:[Sjukdomsdebut]]),0),MATCH(IF(Hut_T[[#This Row],[Nr]:[Nr]]=BD_TX[[#Totals],[SJ]:[SJ]],BD_TX[[#Headers],[SJ]],\"\")&Hut_T[[#Headers],[D 15AM]],Hin_T[#Headers],0)),0),\"\"),\"\")","v":""},{"$f":"IF(AND(ISNUMBER(Hut_T[[#This Row],[Rad]:[Rad]]),ISNUMBER(Hut_T[[#This Row],[D 15AM]]),ISNUMBER(Hut_T[[#This Row],[Nr]:[Nr]])),IFERROR(ROUND(INDEX(Hin_T[[#Data],[#Totals]],Hut_T[[#This Row],[Rad]:[Rad]],MATCH(Hut_T[[#Headers],[15AM-A]],Hin_T[#Headers],0)),1-(INT(LOG10(INDEX(Hin_T[[#Data],[#Totals]],Hut_T[[#This Row],[Rad]:[Rad]],MATCH(Hut_T[[#Headers],[15AM-A]],Hin_T[#Headers],0)))))),1),\"\")","v":""},{"$f":"IF(AND(ISNUMBER(Hut_T[[#This Row],[Rad]:[Rad]]),IFERROR(INDEX(Hin_T[[#Data],[#Totals]],Hut_T[[#This Row],[Rad]:[Rad]],MATCH(Hut_T[[#Headers],[D 20-10D]],Hin_T[#Headers],0)),\"\")),IFERROR(ROUND(INDEX(Hin_T[[#Data],[#Totals]],Hut_T[[#This Row],[Rad]:[Rad]]-IF(Hut_T[[#This Row],[Nr]:[Nr]]=BD_TX[[SJ]:[SJ]],COUNT(Besvär_T[[Sjukdomsdebut]:[Sjukdomsdebut]]),0),MATCH(IF(Hut_T[[#This Row],[Nr]:[Nr]]=BD_TX[[#Totals],[SJ]:[SJ]],BD_TX[[#Headers],[SJ]],\"\")&Hut_T[[#Headers],[D 20-10D]],Hin_T[#Headers],0)),0),\"\"),\"\")","v":""},{"$f":"IF(AND(ISNUMBER(Hut_T[[#This Row],[Rad]:[Rad]]),ISNUMBER(Hut_T[[#This Row],[D 20-10D]]),ISNUMBER(Hut_T[[#This Row],[Nr]:[Nr]])),IFERROR(ROUND(INDEX(Hin_T[[#Data],[#Totals]],Hut_T[[#This Row],[Rad]:[Rad]],MATCH(Hut_T[[#Headers],[20-10D-A]],Hin_T[#Headers],0)),1-(INT(LOG10(INDEX(Hin_T[[#Data],[#Totals]],Hut_T[[#This Row],[Rad]:[Rad]],MATCH(Hut_T[[#Headers],[20-10D-A]],Hin_T[#Headers],0)))))),1),\"\")","v":""},null,{"$f":"IFERROR(INDEX(Hin_T[[#Data],[#Totals],[B-år]],Hut_T[[#This Row],[Rad]]),IF(ISNUMBER(Hut_T[[#This Row],[Datum+]]),ET37,\"\"))","v":""},{"$f":"IFERROR(INDEX(Hin_T[S-år],Hut_T[[#This Row],[Rad]]),IFERROR(INDEX(BD_TX[[#Data],[#Totals],[År]],MATCH(Hut_T[[#This Row],[Rad]],BD_TX[[#Data],[#Totals],[NrX]],0)),\"\"))","v":""},null,{"$f":"ROWS($EW$20:EW38)","v":19},{"$f":"IFERROR(MATCH(Hist_Tab[[#This Row],[Ref]],Medel_T[NrX],0),1)","v":1},{"$f":"INT((ROW(Hist_Tab[[#This Row],[Ref]])-ROW(Hist_Tab[[#Headers],[Ref]])-1)/4)+1","v":5},{"$f":"COUNTIF($EY$19:EY38,Hist_Tab[[#This Row],[Ref]])","v":4},{"$f":"IFERROR(INDEX(Medel_T[Start],Hist_Tab[[#This Row],[Ref]]),_xlfn.AGGREGATE(4,6,Medel_T[Start]))","v":"00:00:00"},{"$f":"IFERROR(INDEX(Medel_T[Slut],Hist_Tab[[#This Row],[Ref]]),_xlfn.AGGREGATE(4,6,Medel_T[Slut]))","v":"00:00:00"},{"$f":"IF(EW37=0,Hist_Tab[[#This Row],[ÅrB]],IF(Hist_Tab[[#This Row],[per/p]]<2,Hist_Tab[[#This Row],[ÅrB]],Hist_Tab[[#This Row],[År S]]))","v":"00:00:00"},{"$f":"IF(Hist_Tab[[#This Row],[Rad]:[Rad]]=0,-1,IF($EY39>_xlfn.AGGREGATE(2,6,Medel_T[[Slut]:[Slut]]),0,INDEX(Medel_T[],Hist_Tab[[#This Row],[Ref]:[Ref]],MATCH(Hist_Tab[[#Headers],[HöA T]],Medel_T[#Headers],0))))","v":0},{"$f":"IF(Hist_Tab[[#This Row],[Rad]:[Rad]]=0,0,IF($EY39>_xlfn.AGGREGATE(2,6,Medel_T[[Slut]:[Slut]]),0,INDEX(Medel_T[],Hist_Tab[[#This Row],[Ref]:[Ref]],MATCH(Hist_Tab[[#Headers],[AöA T]],Medel_T[#Headers],0))))","v":0},{"$f":"IF(Hist_Tab[[#This Row],[Rad]:[Rad]]=0,0,IF($EY39>_xlfn.AGGREGATE(2,6,Medel_T[[Slut]:[Slut]]),0,INDEX(Medel_T[],Hist_Tab[[#This Row],[Ref]:[Ref]],MATCH(Hist_Tab[[#Headers],[4AM T]],Medel_T[#Headers],0))))","v":0},{"$f":"IF(Hist_Tab[[#This Row],[Rad]:[Rad]]=0,0,IF($EY39>_xlfn.AGGREGATE(2,6,Medel_T[[Slut]:[Slut]]),0,INDEX(Medel_T[],Hist_Tab[[#This Row],[Ref]:[Ref]],MATCH(Hist_Tab[[#Headers],[15AM T]],Medel_T[#Headers],0))))","v":0},{"$f":"IF(Hist_Tab[[#This Row],[Rad]:[Rad]]=0,0,IF($EY39>_xlfn.AGGREGATE(2,6,Medel_T[[Slut]:[Slut]]),0,INDEX(Medel_T[],Hist_Tab[[#This Row],[Ref]:[Ref]],MATCH(Hist_Tab[[#Headers],[20-10D T]],Medel_T[#Headers],0))))","v":0}]
[null,null,null,null,null,null,null,null,null,null,null,null,null,null,null,null,null,null,{"$f":"IF(LEN(Hin_T[[#This Row],[Start]])>0,ROWS($S$19:S39),\"\")","v":""},null,{"$f":"Hin_T[[#This Row],[Yrke]]&IF(ISBLANK(Hin_T[[#This Row],[Arbetsmoment]]),\"\",\"; \"&Hin_T[[#This Row],[Arbetsmoment]])","v":""},{"$f":"IFERROR(IF(LEN(Hin_T[[#This Row],[Start]])-LEN(SUBSTITUTE(Hin_T[[#This Row],[Start]],\"-\",\"\"))=2,DATEVALUE(Hin_T[[#This Row],[Start]]),IF(LEN(Hin_T[[#This Row],[Start]])<5,DATEVALUE(Hin_T[[#This Row],[Start]]&\"-01-01\"),DATEVALUE(LEFT(Hin_T[[#This Row],[Start]],IF(LEN(Hin_T[[#This Row],[Start]])>6,4,2))&\"-\"&MID(Hin_T[[#This Row],[Start]],IF(LEN(Hin_T[[#This Row],[Start]])>6,5,3),2)&\"-\"&RIGHT(Hin_T[[#This Row],[Start]],2)))),\"\")","v":""},{"$f":"IFERROR(IF(LEN(Hin_T[[#This Row],[Slut]])-LEN(SUBSTITUTE(Hin_T[[#This Row],[Slut]],\"-\",\"\"))=2,DATEVALUE(Hin_T[[#This Row],[Slut]]),IF(LEN(Hin_T[[#This Row],[Slut]])<5,DATEVALUE(Hin_T[[#This Row],[Slut]]&\"-12-31\"),DATEVALUE(LEFT(Hin_T[[#This Row],[Slut]],IF(LEN(Hin_T[[#This Row],[Slut]])>6,4,2))&\"-\"&MID(Hin_T[[#This Row],[Slut]],IF(LEN(Hin_T[[#This Row],[Slut]])>6,5,3),2)&\"-\"&RIGHT(Hin_T[[#This Row],[Slut]],2)))),\"\")","v":""},{"$f":"IF(COUNTIF(V$19:V39,Hin_T[[#This Row],[B-år]])=1,Hin_T[[#This Row],[B-år]],\"\")","v":""},{"$f":"IF(COUNTIF(W$19:W39,Hin_T[[#This Row],[S-år]])=1,Hin_T[[#This Row],[S-år]],\"\")","v":""},{"$f":"IFERROR(Hin_T[[#This Row],[B-år]]+IF(COUNTIF($V$19:V39,Hin_T[[#This Row],[B-år]])>1,COUNTIF($V$19:V39,Hin_T[[#This Row],[B-år]])/10,0),\"\")","v":""},{"$f":"IF(ISNUMBER(Hin_T[[#This Row],[Dagar]]),Hin_T[[#This Row],[Dagar]]/DÅ[Arbetsdag/år],1)","v":1},{"$f":"Hin_T[[#This Row],[Dag]]*DÅ[Arbetsdag/år]","v":220},{"$f":"IF(LEN(Hin_T[[#This Row],[Yrke]])=4,1,0)","v":0},{"$f":"_xlfn.DAYS(Hin_T[[#This Row],[B-år]],DATE(YEAR(Hin_T[[#This Row],[B-år]]),1,1))/(DATE(YEAR(Hin_T[[#This Row],[B-år]])+1,1,1)-DATE(YEAR(Hin_T[[#This Row],[B-år]]),1,1))","v":{"$error":"#VALUE!"}},{"$f":"_xlfn.DAYS(DATE(YEAR(Hin_T[[#This Row],[S-år]]),12,31),Hin_T[[#This Row],[S-år]])/(DATE(YEAR(Hin_T[[#This Row],[S-år]])+1,1,1)-DATE(YEAR(Hin_T[[#This Row],[S-år]]),1,1))","v":{"$error":"#VALUE!"}},{"$f":"YEARFRAC(Hin_T[[#This Row],[S-år]],Hin_T[[#This Row],[B-år]])*Hin_T[[#This Row],[Dag]]","v":{"$error":"#VALUE!"}},{"$f":"IFERROR(Hin_T[[#This Row],[År diff]]*IF(ISNUMBER(Hin_T[[#This Row],[HöA]]),1,0),0)","v":0},{"$f":"IFERROR(Hin_T[[#This Row],[År diff]]*IF(ISNUMBER(Hin_T[[#This Row],[AöA]]),1,0),0)","v":0},{"$f":"IF(Hin_T[[#This Row],[B-år]]<=Besvär_T[[#Totals],[Sjukdomsdebut]],Hin_T[[#This Row],[B-år]],\"\")","v":""},{"$f":"IF(Hin_T[[#This Row],[S-år]]<=Besvär_T[[#Totals],[Sjukdomsdebut]],Hin_T[[#This Row],[S-år]],\"\")","v":""},{"$f":"IFERROR(YEARFRAC(IF(AND(ISNUMBER(Hin_T[[#This Row],[B-år EA]]),LEN(Hin_T[[#This Row],[S-år EA]])=0),Hin_T[[#Totals],[15AM-A]],Hin_T[[#This Row],[S-år EA]]),Hin_T[[#This Row],[B-år EA]])*Hin_T[[#This Row],[Dag]]*IF(ISNUMBER(Hin_T[[#This Row],[HöA]]),1,0),0)","v":0},{"$f":"IFERROR(YEARFRAC(IF(AND(ISNUMBER(Hin_T[[#This Row],[B-år EA]]),LEN(Hin_T[[#This Row],[S-år EA]])=0),Hin_T[[#Totals],[15AM-A]],Hin_T[[#This Row],[S-år EA]]),Hin_T[[#This Row],[B-år EA]])*Hin_T[[#This Row],[Dag]]*IF(ISNUMBER(Hin_T[[#This Row],[AöA]]),1,0),0)","v":0},{"$f":"IFERROR(Hin_T[[#This Row],[År diff]]*IF(ISNUMBER(Hin_T[[#This Row],[4AM]]),1,0),0)","v":0},{"$f":"IFERROR(Hin_T[[#This Row],[År diff]]*IF(ISNUMBER(Hin_T[[#This Row],[15AM]]),1,0),0)","v":0},{"$f":"IF(Hin_T[[#This Row],[B-år]]<=Besvär_T[[#Totals],[Sjukdomsdebut]],Hin_T[[#This Row],[B-år]],\"\")","v":""},{"$f":"IF(Hin_T[[#This Row],[S-år]]<=Besvär_T[[#Totals],[Sjukdomsdebut]],Hin_T[[#This Row],[S-år]],\"\")","v":""},{"$f":"IFERROR(YEARFRAC(IF(AND(ISNUMBER(Hin_T[[#This Row],[B-år RA]]),LEN(Hin_T[[#This Row],[S-år RA]])=0),Hin_T[[#Totals],[15AM-A]],Hin_T[[#This Row],[S-år RA]]),Hin_T[[#This Row],[B-år RA]])*Hin_T[[#This Row],[Dag]]*IF(ISNUMBER(Hin_T[[#This Row],[4AM]]),1,0),0)","v":0},{"$f":"IFERROR(YEARFRAC(IF(AND(ISNUMBER(Hin_T[[#This Row],[B-år RA]]),LEN(Hin_T[[#This Row],[S-år RA]])=0),Hin_T[[#Totals],[15AM-A]],Hin_T[[#This Row],[S-år RA]]),Hin_T[[#This Row],[B-år RA]])*Hin_T[[#This Row],[Dag]]*IF(ISNUMBER(Hin_T[[#This Row],[15AM]]),1,0),0)","v":0},{"$f":"IFERROR(Hin_T[[#This Row],[År diff]]*IF(ISNUMBER(Hin_T[[#This Row],[20-10D]]),1,0),0)","v":0},{"$f":"IF(Hin_T[[#This Row],[B-år]]<=Besvär_T[[#Totals],[Sjukdomsdebut]],Hin_T[[#This Row],[B-år]],\"\")","v":""},{"$f":"IF(Hin_T[[#This Row],[S-år]]<=Besvär_T[[#Totals],[Sjukdomsdebut]],Hin_T[[#This Row],[S-år]],\"\")","v":""},{"$f":"IFERROR(YEARFRAC(IF(AND(ISNUMBER(Hin_T[[#This Row],[B-år TMH]]),LEN(Hin_T[[#This Row],[S-år TMH]])=0),Hin_T[[#Totals],[15AM-A]],Hin_T[[#This Row],[S-år TMH]]),Hin_T[[#This Row],[B-år TMH]])*Hin_T[[#This Row],[Dag]]*IF(ISNUMBER(Hin_T[[#This Row],[20-10D]]),1,0),0)","v":0},{"$f":"IF(Hin_T[[#This Row],[Vib]]=JN_T[JN],1,0)","v":0},{"$f":"IFERROR(Hin_T[[#This Row],[År diff]]*IF(Hin_T[[#This Row],[Vib2]]>0,1,0),0)","v":0},{"$f":"IF(Hin_T[[#This Row],[B-år]]<=Besvär_T[[#Totals],[Sjukdomsdebut]],Hin_T[[#This Row],[B-år]],\"\")","v":""},{"$f":"IF(Hin_T[[#This Row],[S-år]]<=Besvär_T[[#Totals],[Sjukdomsdebut]],Hin_T[[#This Row],[S-år]],\"\")","v":""},{"$f":"IFERROR(YEARFRAC(IF(AND(ISNUMBER(Hin_T[[#This Row],[B-år VIB]]),LEN(Hin_T[[#This Row],[S-år Vib]])=0),Hin_T[[#Totals],[15AM-A]],Hin_T[[#This Row],[S-år Vib]]),Hin_T[[#This Row],[B-år VIB]])*IF(Hin_T[[#This Row],[Vib2]]>0,1,0),0)","v":0},{"$f":"Hin_T[[#This Row],[HöA]]*Hin_T[[#This Row],[tot år HöA]]*DÅ[Arbetsdag/år]","v":0},{"$f":"Hin_T[[#This Row],[tot år AöA]]*Hin_T[[#This Row],[AöA]]*DÅ[Arbetsdag/år]","v":0},{"$f":"Hin_T[[#This Row],[tot år 4AM]]*Hin_T[[#This Row],[4AM]]*DÅ[Arbetsdag/år]","v":0},{"$f":"Hin_T[[#This Row],[tot år 15AM]]*Hin_T[[#This Row],[15AM]]*DÅ[Arbetsdag/år]","v":0},{"$f":"Hin_T[[#This Row],[tot år 20-10D]]*Hin_T[[#This Row],[20-10D]]*DÅ[Arbetsdag/år]","v":0},{"$f":"Hin_T[[#This Row],[BD år HöA]]*Hin_T[[#This Row],[HöA]]*DÅ[Arbetsdag/år]","v":0},{"$f":"Hin_T[[#This Row],[BD år AöA]]*Hin_T[[#This Row],[AöA]]*DÅ[Arbetsdag/år]","v":0},{"$f":"Hin_T[[#This Row],[BD år 4AM]]*Hin_T[[#This Row],[4AM]]*DÅ[Arbetsdag/år]","v":0},{"$f":"Hin_T[[#This Row],[BD år 15AM]]*Hin_T[[#This Row],[15AM]]*DÅ[Arbetsdag/år]","v":0},{"$f":"Hin_T[[#This Row],[BD år 20-10D]]*Hin_T[[#This Row],[20-10D]]*DÅ[Arbetsdag/år]","v":0},{"$f":"Hin_T[[#This Row],[Arbetsmoment]]&Hin_T[[#This Row],[Text AöA]]&Hin_T[[#This Row],[Text 15AM]]&IF(Hin_T[[#This Row],[Dagarna]]=DÅ[Arbetsdag/år],\"\",\". \"&Hin_T[[#This Row],[Dagarna]]&\" dagar/år\")&\". \"","v":". "},{"$f":"IF(ISBLANK(Hin_T[[#This Row],[AöA]]),\"\",Exp_T[Överarmslyft> 90°: ]&IF(VALUE(TEXT(Hin_T[[#This Row],[AöA]],\"t\"))>0,VALUE(TEXT(Hin_T[[#This Row],[AöA]],\"t\"))&\" h\",\"\")&IF(AND(VALUE(TEXT(Hin_T[[#This Row],[AöA]],\"t\"))>0,VALUE(TEXT(Hin_T[[#This Row],[AöA]],\"m\"))>2.4),\" \",\"\")&IF(VALUE(TEXT(Hin_T[[#This Row],[AöA]],\"m\"))>2.4,TEXT(ROUND(Hin_T[[#This Row],[AöA]]*(24*60/5),0)/(24*60/5),\"m\")&\" min\",\"\")&\"/dag\")","v":""},{"$f":"IF(ISBLANK(Hin_T[[#This Row],[15AM]]),\"\",Exp_T[Överarmsrörelser> 15/min: ]&IF(VALUE(TEXT(Hin_T[[#This Row],[15AM]],\"t\"))>0,VALUE(TEXT(Hin_T[[#This Row],[15AM]],\"t\"))&\" h\",\"\")&IF(AND(VALUE(TEXT(Hin_T[[#This Row],[15AM]],\"t\"))>0,VALUE(TEXT(Hin_T[[#This Row],[15AM]],\"m\"))>2.4),\" \",\"\")&IF(VALUE(TEXT(Hin_T[[#This Row],[15AM]],\"m\"))>2.4,TEXT(ROUND(Hin_T[[#This Row],[15AM]]*(24*60/5),0)/(24*60/5),\"m\")&\" min\",\"\")&\"/dag\")","v":""},null,null,null,null,{"$f":"SMALL(Hin_T[[StartÅR]:[SlutÅr]],ROW()-ROW(Medel_T[[#Headers],[Start]]))","v":{"$error":"#NUM!"}},{"$f":"SMALL(Hin_T[[StartÅR]:[SlutÅr]],ROW()-ROW(Medel_T[[#Headers],[Slut]])+1)","v":{"$error":"#NUM!"}},{"$f":"IF(Medel_T[[#This Row],[Start]]<=Besvär_T[[#Totals],[Sjukdomsdebut]],Medel_T[[#This Row],[Start]],\"\")","v":{"$error":"#NUM!"}},{"$f":"IF(Medel_T[[#This Row],[Slut]]<=Besvär_T[[#Totals],[Sjukdomsdebut]],Medel_T[[#This Row],[Slut]],IF(AND(LEN(Medel_T[[#This Row],[SJDstart]])>0,LEN(BU40)=0),Besvär_T[[#Totals],[Sjukdomsdebut]],\"\"))","v":{"$error":"#NUM!"}},{"$f":"IF(Medel_T[[#This Row],[Start]]>=Besvär_T[[#Totals],[Sjukdomsdebut]],Medel_T[[#This Row],[Start]],IF(AND(LEN(Medel_T[[#This Row],[EfterSlut]])>0,LEN(BX38)=0),Besvär_T[[#Totals],[Sjukdomsdebut]],\"\"))","v":{"$error":"#NUM!"}},{"$f":"IF(Medel_T[[#This Row],[Slut]]>=Besvär_T[[#Totals],[Sjukdomsdebut]],Medel_T[[#This Row],[Slut]],\"\")","v":{"$error":"#NUM!"}},{"$f":"COUNTIF($BZ$19:BZ39,\">0\")","v":0},{"$f":"COUNTIFS(Hin_T[B-år],\"<=\"&Medel_T[[#This Row],[Start]],Hin_T[S-år],\">=\"&Medel_T[[#This Row],[Slut]])","v":0},{"$f":"SUBSTITUTE(_xlfn.TEXTJOIN(Sep_T[Separator],TRUE,_xlfn._xlws.SORT(_xlfn.UNIQUE(IF((Hin_T[[B-år]:[B-år]]<=Medel_T[[#This Row],[Start]:[Start]])*(Hin_T[[S-år]:[S-år]]>=Medel_T[[#This Row],[Slut]:[Slut]]),Hin_T[Yrke],\"\")))),0&Sep_T[Separator],\"\")","v":{"$error":"#NUM!"}},{"$f":"SUBSTITUTE(_xlfn.TEXTJOIN(Sep_T[Separator],TRUE,_xlfn._xlws.SORT(_xlfn.UNIQUE(IF((Hin_T[[B-år]:[B-år]]<=Medel_T[[#This Row],[Start]:[Start]])*(Hin_T[[S-år]:[S-år]]>=Medel_T[[#This Row],[Slut]:[Slut]]),Hin_T[Arbetsmoment],\"\")))),0&Sep_T[Separator],\"\")","v":{"$error":"#NUM!"}},{"$f":"IF(LEN(Medel_T[[#This Row],[Yrke]])>0,Medel_T[[#Headers],[Period ]]&Medel_T[[#This Row],[NrX]]&\": \"&TEXT(Medel_T[[#This Row],[Start]],\"ÅÅÅÅ\")&List_T[[#Totals],[List symb]]&TEXT(Medel_T[[#This Row],[Slut]],\"ÅÅÅÅ\")&\" (\"&ROUND(Medel_T[[#This Row],[År]],1)&\" år) Anställd som \"&IFERROR(SUBSTITUTE(SUBSTITUTE(Medel_T[[#This Row],[Yrke]],Sep_T[Separator],\" och \",Medel_T[[#This Row],[Ant]]-1),Sep_T[Separator],\", \"),Medel_T[[#This Row],[Yrke]])&↓[↓],\"\")","v":{"$error":"#NUM!"}},{"$f":"IF(LEN(Medel_T[[#This Row],[Arbetsmoment]])>0,ROMAN(1)&\") \"&_xlfn.TEXTJOIN(Delim[Delimiters],TRUE,_xlfn._xlws.SORT(_xlfn.UNIQUE(IF((Hin_T[[B-år]:[B-år]]<=Medel_T[[#This Row],[Start]:[Start]])*(Hin_T[[S-år]:[S-år]]>=Medel_T[[#This Row],[Slut]:[Slut]]),Hin_T[Text],\"\"))))&↓[↓],\"\")","v":{"$error":"#NUM!"}},{"$f":"SUMPRODUCT((Hin_T[[B-år]:[B-år]]<=Medel_T[[#This Row],[Start]:[Start]])*(Hin_T[[S-år]:[S-år]]>=Medel_T[[#This Row],[Slut]:[Slut]])*Hin_T[Dag])","v":{"$error":"#NUM!"}},{"$f":"IF(Medel_T[[#This Row],[Proc dag]]<=1,Medel_T[[#This Row],[Proc dag]],1)","v":{"$error":"#NUM!"}},{"$f":"YEARFRAC(Medel_T[[#This Row],[Slut]],Medel_T[[#This Row],[Start]])","v":{"$error":"#NUM!"}},{"$f":"YEARFRAC(Medel_T[[#This Row],[SJDslut]],Medel_T[[#This Row],[SJDstart]])","v":{"$error":"#NUM!"}},{"$f":"IFERROR(SUMPRODUCT((Hin_T[[B-år]:[B-år]]<=Medel_T[[#This Row],[Start]:[Start]])*(Hin_T[[S-år]:[S-år]]>=Medel_T[[#This Row],[Slut]:[Slut]])*Hin_T[HöA]*Hin_T[[Dag]:[Dag]])/Medel_T[[#This Row],[Proc dag]],-1)","v":-1},{"$f":"IFERROR(SUMPRODUCT((Hin_T[[B-år]:[B-år]]<=Medel_T[[#This Row],[Start]:[Start]])*(Hin_T[[S-år]:[S-år]]>=Medel_T[[#This Row],[Slut]:[Slut]])*Hin_T[AöA]*Hin_T[[Dag]:[Dag]])/Medel_T[[#This Row],[Proc dag]],-1)","v":-1},{"$f":"IFERROR(SUMPRODUCT((Hin_T[[B-år]:[B-år]]<=Medel_T[[#This Row],[Start]:[Start]])*(Hin_T[[S-år]:[S-år]]>=Medel_T[[#This Row],[Slut]:[Slut]])*Hin_T[4AM]*Hin_T[[Dag]:[Dag]])/Medel_T[[#This Row],[Proc dag]],-1)","v":-1},{"$f":"IFERROR(SUMPRODUCT((Hin_T[[B-år]:[B-år]]<=Medel_T[[#This Row],[Start]:[Start]])*(Hin_T[[S-år]:[S-år]]>=Medel_T[[#This Row],[Slut]:[Slut]])*Hin_T[15AM]*Hin_T[[Dag]:[Dag]])/Medel_T[[#This Row],[Proc dag]],-1)","v":-1},{"$f":"IFERROR(SUMPRODUCT((Hin_T[[B-år]:[B-år]]<=Medel_T[[#This Row],[Start]:[Start]])*(Hin_T[[S-år]:[S-år]]>=Medel_T[[#This Row],[Slut]:[Slut]])*Hin_T[20-10D]*Hin_T[[Dag]:[Dag]])/Medel_T[[#This Row],[Proc dag]],-1)","v":-1},{"$f":"IFERROR(SUMPRODUCT((Hin_T[[B-år]:[B-år]]<=Medel_T[[#This Row],[Start]:[Start]])*(Hin_T[[S-år]:[S-år]]>=Medel_T[[#This Row],[Slut]:[Slut]])*Hin_T[[Dag]:[Dag]]*Hin_T[HöA])/Medel_T[[#This Row],[Dag sum]],-1)","v":-1},{"$f":"IFERROR(SUMPRODUCT((Hin_T[[B-år]:[B-år]]<=Medel_T[[#This Row],[Start]:[Start]])*(Hin_T[[S-år]:[S-år]]>=Medel_T[[#This Row],[Slut]:[Slut]])*Hin_T[[Dag]:[Dag]]*Hin_T[AöA])/Medel_T[[#This Row],[Dag sum]],-1)","v":-1},{"$f":"IFERROR(SUMPRODUCT((Hin_T[[B-år]:[B-år]]<=Medel_T[[#This Row],[Start]:[Start]])*(Hin_T[[S-år]:[S-år]]>=Medel_T[[#This Row],[Slut]:[Slut]])*Hin_T[[Dag]:[Dag]]*Hin_T[4AM])/Medel_T[[#This Row],[Dag sum]],-1)","v":-1},{"$f":"IFERROR(SUMPRODUCT((Hin_T[[B-år]:[B-år]]<=Medel_T[[#This Row],[Start]:[Start]])*(Hin_T[[S-år]:[S-år]]>=Medel_T[[#This Row],[Slut]:[Slut]])*Hin_T[15AM]*Hin_T[[Dag]:[Dag]])/Medel_T[[#This Row],[Dag sum]],-1)","v":-1},{"$f":"IFERROR(SUMPRODUCT((Hin_T[[B-år]:[B-år]]<=Medel_T[[#This Row],[Start]:[Start]])*(Hin_T[[S-år]:[S-år]]>=Medel_T[[#This Row],[Slut]:[Slut]])*Hin_T[[Dag]:[Dag]]*Hin_T[20-10D])/Medel_T[[#This Row],[Dag sum]],-1)","v":-1},{"$f":"IFERROR(Medel_T[[#This Row],[Dag sum]:[Dag sum]]*Medel_T[[#This Row],[År]:[År]]*Medel_T[[#This Row],[HöA T]]*DÅ[Arbetsdag/år],0)","v":0},{"$f":"IFERROR(Medel_T[[#This Row],[Dag sum]:[Dag sum]]*Medel_T[[#This Row],[År]:[År]]*Medel_T[[#This Row],[AöA T]]*DÅ[Arbetsdag/år],0)","v":0},{"$f":"IFERROR(Medel_T[[#This Row],[Dag sum]:[Dag sum]]*Medel_T[[#This Row],[År]:[År]]*Medel_T[[#This Row],[4AM T]]*DÅ[Arbetsdag/år],0)","v":0},{"$f":"IFERROR(Medel_T[[#This Row],[Dag sum]:[Dag sum]]*Medel_T[[#This Row],[År]:[År]]*Medel_T[[#This Row],[15AM T]]*DÅ[Arbetsdag/år],0)","v":0},{"$f":"IFERROR(Medel_T[[#This Row],[Dag sum]:[Dag sum]]*Medel_T[[#This Row],[År]:[År]]*Medel_T[[#This Row],[20-10D T]]*DÅ[Arbetsdag/år],0)","v":0},{"$f":"IFERROR(Medel_T[[#This Row],[Dag sum]:[Dag sum]]*Medel_T[[#This Row],[ÅrSjuk]:[ÅrSjuk]]*Medel_T[[#This Row],[HöA T]]*DÅ[Arbetsdag/år],0)","v":0},{"$f":"IFERROR(Medel_T[[#This Row],[Dag sum]:[Dag sum]]*Medel_T[[#This Row],[ÅrSjuk]:[ÅrSjuk]]*Medel_T[[#This Row],[AöA T]]*DÅ[Arbetsdag/år],0)","v":0},{"$f":"IFERROR(Medel_T[[#This Row],[Dag sum]:[Dag sum]]*Medel_T[[#This Row],[ÅrSjuk]:[ÅrSjuk]]*Medel_T[[#This Row],[4AM T]]*DÅ[Arbetsdag/år],0)","v":0},{"$f":"IFERROR(Medel_T[[#This Row],[Dag sum]:[Dag sum]]*Medel_T[[#This Row],[ÅrSjuk]:[ÅrSjuk]]*Medel_T[[#This Row],[15AM T]]*DÅ[Arbetsdag/år],0)","v":0},{"$f":"IFERROR(Medel_T[[#This Row],[Dag sum]:[Dag sum]]*Medel_T[[#This Row],[ÅrSjuk]:[ÅrSjuk]]*Medel_T[[#This Row],[20-10D T]]*DÅ[Arbetsdag/år],0)","v":0},{"$f":"IFERROR(IF(Medel_T[[#This Row],[AöA T]]=0,\"\",List_T[List symb]&Exp_T[[#Headers],[Överarmslyft> 90°: ]]&IF(VALUE(TEXT(Medel_T[[#This Row],[AöA T]],\"t\"))>0,VALUE(TEXT(Medel_T[[#This Row],[AöA T]],\"t\"))&\" h\",\"\")&IF(AND(VALUE(TEXT(Medel_T[[#This Row],[AöA T]],\"t\"))>0,VALUE(TEXT(Medel_T[[#This Row],[AöA T]],\"m\"))>2.4),\" \",\"\")&IF(VALUE(TEXT(Medel_T[[#This Row],[AöA T]],\"m\"))>2.4,TEXT(ROUND(Medel_T[[#This Row],[AöA T]]*(24*60/5),0)/(24*60/5),\"m\")&\" min\",\"\")&\"/dag x \"&ROUND(Medel_T[[#This Row],[Dag sum]:[Dag sum]]*DÅ[Arbetsdag/år],0)&\" dagar x \"&ROUND(Medel_T[[#This Row],[År]:[År]],1)&\" år = \"&TEXT(ROUND(Medel_T[[#This Row],[D AöA§]]*24,1-(INT(LOG10(ABS(Medel_T[[#This Row],[D AöA§]]*24))))),\"0\"&IF(1-(INT(LOG10(ABS(Medel_T[[#This Row],[D AöA§]]*24))))>0,\",\"&REPT(\"0\",1-(INT(LOG10(ABS(Medel_T[[#This Row],[D AöA§]]*24))))),\"\"))& \" h\"),\"\")","v":""},{"$f":"IFERROR(IF(Medel_T[[#This Row],[15AM T]]=0,\"\",List_T[List symb]&Exp_T[[#Headers],[Överarmsrörelser> 15/min: ]]&IF(VALUE(TEXT(Medel_T[[#This Row],[15AM T]],\"t\"))>0,VALUE(TEXT(Medel_T[[#This Row],[15AM T]],\"t\"))&\" h\",\"\")&IF(AND(VALUE(TEXT(Medel_T[[#This Row],[15AM T]],\"t\"))>0,VALUE(TEXT(Medel_T[[#This Row],[15AM T]],\"m\"))>2.4),\" \",\"\")&IF(VALUE(TEXT(Medel_T[[#This Row],[15AM T]],\"m\"))>2.4,TEXT(ROUND(Medel_T[[#This Row],[15AM T]]*(24*60/5),0)/(24*60/5),\"m\")&\" min\",\"\")&\"/dag x \"&ROUND(Medel_T[[#This Row],[Dag sum]:[Dag sum]]*DÅ[Arbetsdag/år],0)&\" dagar x \"&ROUND(Medel_T[[#This Row],[År]:[År]],1)&\" år = \"&TEXT(ROUND(Medel_T[[#This Row],[D 15AM§]]*24,1-(INT(LOG10(ABS(Medel_T[[#This Row],[D 15AM§]]*24))))),\"0\"&IF(1-(INT(LOG10(ABS(Medel_T[[#This Row],[D 15AM§]]*24))))>0,\",\"&REPT(\"0\",1-(INT(LOG10(ABS(Medel_T[[#This Row],[D 15AM§]]*24))))),\"\"))& \" h\"),\"\")","v":""},{"$f":"IFERROR(IF(OR(LEN(Medel_T[[#This Row],[AöA text]])>0,LEN(Medel_T[[#This Row],[15AM Text]])>0),Exp_T[Anställning]&YEAR(Medel_T[[#This Row],[Start]])&List_T[[#Totals],[List symb]]&YEAR(Medel_T[[#This Row],[Slut]])&\" (\"&ROUND(Medel_T[[#This Row],[År]],1)&\" år)\"&IF(LEN(Medel_T[[#This Row],[AöA text]])>0,↓[↓],\"\")&Medel_T[[#This Row],[AöA text]]&IF(LEN(Medel_T[[#This Row],[15AM Text]])>0,↓[↓],\"\")&Medel_T[[#This Row],[15AM Text]],\"\"),\"\")","v":""},{"$f":"IFERROR(IF(Medel_T[[#This Row],[AöA T]]=0,\"\",List_T[List symb]&Exp_T[[#Headers],[Överarmsrörelser> 15/min: ]]&IF(VALUE(TEXT(Medel_T[[#This Row],[AöA T]],\"t\"))>0,VALUE(TEXT(Medel_T[[#This Row],[AöA T]],\"t\"))&\" h\",\"\")&IF(AND(VALUE(TEXT(Medel_T[[#This Row],[AöA T]],\"t\"))>0,VALUE(TEXT(Medel_T[[#This Row],[AöA T]],\"m\"))>2.4),\" \",\"\")&IF(VALUE(TEXT(Medel_T[[#This Row],[AöA T]],\"m\"))>2.4,TEXT(ROUND(Medel_T[[#This Row],[AöA T]]*(24*60/5),0)/(24*60/5),\"m\")&\" min\",\"\")&\"/dag x \"&ROUND(Medel_T[[#This Row],[Dag sum]:[Dag sum]]*DÅ[Arbetsdag/år],0)&\" dagar x \"&ROUND(Medel_T[[#This Row],[År]:[År]],1)&\" år = \"&TEXT(ROUND(Medel_T[[#This Row],[D AöA¤]]*24,1-(INT(LOG10(ABS(Medel_T[[#This Row],[D AöA¤]]*24))))),\"0\"&IF(1-(INT(LOG10(ABS(Medel_T[[#This Row],[D AöA¤]]*24))))>0,\",\"&REPT(\"0\",1-(INT(LOG10(ABS(Medel_T[[#This Row],[D AöA¤]]*24))))),\"\"))& \" h\"),\"\")","v":""},{"$f":"IFERROR(IF(Medel_T[[#This Row],[15AM T]]=0,\"\",List_T[List symb]&Exp_T[[#Headers],[Överarmslyft> 90°: ]]&IF(VALUE(TEXT(Medel_T[[#This Row],[15AM T]],\"t\"))>0,VALUE(TEXT(Medel_T[[#This Row],[15AM T]],\"t\"))&\" h\",\"\")&IF(AND(VALUE(TEXT(Medel_T[[#This Row],[15AM T]],\"t\"))>0,VALUE(TEXT(Medel_T[[#This Row],[15AM T]],\"m\"))>0),\" \",\"\")&IF(VALUE(TEXT(Medel_T[[#This Row],[15AM T]],\"m\"))>0,TEXT(ROUND(Medel_T[[#This Row],[15AM T]]*(24*60/5),0)/(24*60/5),\"m\")&\" min\",\"\")&\"/dag x \"&ROUND(Medel_T[[#This Row],[Dag sum]:[Dag sum]]*DÅ[Arbetsdag/år],0)&\" dagar x \"&ROUND(Medel_T[[#This Row],[År]:[År]],1)&\" år = \"&TEXT(ROUND(Medel_T[[#This Row],[D 15AM¤]]*24,1-(INT(LOG10(ABS(Medel_T[[#This Row],[D 15AM¤]]*24))))),\"0\"&IF(1-(INT(LOG10(ABS(Medel_T[[#This Row],[D 15AM¤]]*24))))>0,\",\"&REPT(\"0\",1-(INT(LOG10(ABS(Medel_T[[#This Row],[D 15AM¤]]*24))))),\"\"))& \" h\"),\"\")","v":""},{"$f":"IFERROR(IF(LEN(Medel_T[[#This Row],[SJDstart]])>0,Exp_T[Anställning]&↓[↓]&YEAR(Medel_T[[#This Row],[Start]])&List_T[[#Totals],[List symb]]&YEAR(Medel_T[[#This Row],[Slut]])&\" (\"&ROUND(Medel_T[[#This Row],[År]],1)&\" år)\"&IF(LEN(Medel_T[[#This Row],[AöA text Sjuk]])>0,↓[↓],\"\")&Medel_T[[#This Row],[AöA text Sjuk]]&IF(LEN(Medel_T[[#This Row],[15AM Text Sjuk]])>0,↓[↓],\"\")&Medel_T[[#This Row],[15AM Text Sjuk]],\"\"),\"\")","v":""},{"$f":"IFERROR(Medel_T[[#This Row],[Period ]]&Medel_T[[#This Row],[ArbMomText]]&Medel_T[[#This Row],[Text]],\"\")","v":""},{"$f":"IF(AND(DJ38>=MAX(Medel_T[NrX]),ISNUMBER(DJ38)),Medel_T[[#Totals],[NrX]]+ROW()-ROW(Medel_T[[#Headers],[Rad]])-Medel_T[[#Totals],[Ant]]-1,INDEX(Medel_T[NrX],MATCH(ROW()-ROW(Medel_T[[#Headers],[Rad]]),Medel_T[NrX],0)))","v":{"$error":"#N/A"}},{"$f":"IF(Medel_T[[#This Row],[Rad]]<=Medel_T[[#Totals],[Ant]],MATCH(Medel_T[[#This Row],[Rad]],Medel_T[NrX],0),IFERROR(INDEX(BD_TX[[#Data],[#Totals],[SJ]],MATCH(Medel_T[[#This Row],[Rad]],BD_TX[[#Data],[#Totals],[Nr]],0)),\"\"))","v":{"$error":"#N/A"}},{"$f":"LEN(Medel_T[[#This Row],[Yrke2]])-LEN(SUBSTITUTE(Medel_T[[#This Row],[Yrke2]],LEFT(Sep_T[Separator],1),\"\"))","v":0},{"$f":"INDEX(Medel_T[År],Medel_T[[#This Row],[Nr]])","v":{"$error":"#N/A"}},{"$f":"IFERROR(IF(LEN(Medel_T[[#This Row],[Nr]])>0,TEXT(IFERROR(INDEX(Medel_T[Start],Medel_T[[#This Row],[Nr]]),INDEX(BD_TX[[#Data],[#Totals],[Start]],MATCH(Medel_T[[#This Row],[Rad]],BD_TX[[#Data],[#Totals],[Nr]],0))),\"ÅÅÅÅ MMM\")&\"-\"&TEXT(IFERROR(INDEX(Medel_T[Slut],Medel_T[[#This Row],[Nr]]),INDEX(BD_TX[[#Data],[#Totals],[År]],MATCH(Medel_T[[#This Row],[Rad]],BD_TX[[#Data],[#Totals],[Nr]],0))),\"ÅÅÅÅ MMM\"),\"\"),\"\")","v":""},{"$f":"IFERROR(IF(LEN(Medel_T[[#This Row],[Nr]])>0,IF(Medel_T[[#This Row],[Rad]]>Medel_T[[#Totals],[Ant]],IFERROR(INDEX(BD_TX[[#Data],[#Totals],[Text]],MATCH(Medel_T[[#This Row],[Rad]],BD_TX[[#Data],[#Totals],[Nr]],0)),\"\"),INDEX(Medel_T[Yrke],Medel_T[[#This Row],[Nr]])),\"\"),\"\")","v":""},{"$f":"IFERROR(INDEX(Medel_T[Arbetsmoment],MATCH(ROW()-ROW(Medel_T[[#Headers],[Arbetsmoment2]]),Medel_T[[NrX]:[NrX]],0)),\"\")","v":""},{"$f":"IFERROR(INDEX(Medel_T[],Medel_T[[#This Row],[Nr]],Medel_T[[#Totals],[HöA_T]]),\"\")","v":""},{"$f":"IF(LEN(Medel_T[[#This Row],[Nr]:[Nr]])>0,IFERROR(TEXT(ROUND(24*IFERROR(INDEX(Medel_T[],Medel_T[[#This Row],[Nr]:[Nr]],Medel_T[[#Totals],[D HöA]]),INDEX(Sum_T[[#Data],[#Totals]],MATCH(Medel_T[[#This Row],[Nr]:[Nr]],Sum_T[[#Data],[#Totals],[Typ]:[Typ]],0),MATCH(Medel_T[[#Headers],[D HöA]],Sum_T[#Headers],0))),1-(INT(LOG10(ABS(24*IFERROR(INDEX(Medel_T[],Medel_T[[#This Row],[Nr]:[Nr]],Medel_T[[#Totals],[D HöA]]),INDEX(Sum_T[[#Data],[#Totals]],MATCH(Medel_T[[#This Row],[Nr]:[Nr]],Sum_T[[#Data],[#Totals],[Typ]:[Typ]],0),MATCH(Medel_T[[#Headers],[D HöA]],Sum_T[#Headers],0)))))))),\"0\"&IF(1-(INT(LOG10(ABS(24*IFERROR(INDEX(Medel_T[],Medel_T[[#This Row],[Nr]:[Nr]],Medel_T[[#Totals],[D HöA]]),INDEX(Sum_T[[#Data],[#Totals]],MATCH(Medel_T[[#This Row],[Nr]:[Nr]],Sum_T[[#Data],[#Totals],[Typ]:[Typ]],0),MATCH(Medel_T[[#Headers],[D HöA]],Sum_T[#Headers],0)))))))>0,\",\"&REPT(\"0\",1-(INT(LOG10(ABS(24*IFERROR(INDEX(Medel_T[],Medel_T[[#This Row],[Nr]:[Nr]],Medel_T[[#Totals],[D HöA]]),INDEX(Sum_T[[#Data],[#Totals]],MATCH(Medel_T[[#This Row],[Nr]:[Nr]],Sum_T[[#Data],[#Totals],[Typ]:[Typ]],0),MATCH(Medel_T[[#Headers],[D HöA]],Sum_T[#Headers],0)))))))),0)),0),\"\")","v":{"$error":"#N/A"}},{"$f":"IFERROR(INDEX(Medel_T[],Medel_T[[#This Row],[Nr]],Medel_T[[#Totals],[AÖA_T]]),\"\")","v":""},{"$f":"IFERROR(IF(LEN(Medel_T[[#This Row],[Nr]:[Nr]])>0,IFERROR(TEXT(ROUND(24*IFERROR(INDEX(Medel_T[],Medel_T[[#This Row],[Nr]:[Nr]],Medel_T[[#Totals],[D AöA]]),INDEX(Sum_T[[#Data],[#Totals]],MATCH(Medel_T[[#This Row],[Nr]:[Nr]],Sum_T[[#Data],[#Totals],[Typ]:[Typ]],0),MATCH(Medel_T[[#Headers],[D AöA]],Sum_T[#Headers],0))),1-(INT(LOG10(ABS(24*IFERROR(INDEX(Medel_T[],Medel_T[[#This Row],[Nr]:[Nr]],Medel_T[[#Totals],[D AöA]]),INDEX(Sum_T[[#Data],[#Totals]],MATCH(Medel_T[[#This Row],[Nr]:[Nr]],Sum_T[[#Data],[#Totals],[Typ]:[Typ]],0),MATCH(Medel_T[[#Headers],[D AöA]],Sum_T[#Headers],0)))))))),\"0\"&IF(1-(INT(LOG10(ABS(24*IFERROR(INDEX(Medel_T[],Medel_T[[#This Row],[Nr]:[Nr]],Medel_T[[#Totals],[D AöA]]),INDEX(Sum_T[[#Data],[#Totals]],MATCH(Medel_T[[#This Row],[Nr]:[Nr]],Sum_T[[#Data],[#Totals],[Typ]:[Typ]],0),MATCH(Medel_T[[#Headers],[D AöA]],Sum_T[#Headers],0)))))))>0,\",\"&REPT(\"0\",1-(INT(LOG10(ABS(24*IFERROR(INDEX(Medel_T[],Medel_T[[#This Row],[Nr]:[Nr]],Medel_T[[#Totals],[D AöA]]),INDEX(Sum_T[[#Data],[#Totals]],MATCH(Medel_T[[#This Row],[Nr]:[Nr]],Sum_T[[#Data],[#Totals],[Typ]:[Typ]],0),MATCH(Medel_T[[#Headers],[D AöA]],Sum_T[#Headers],0)))))))),0)),0),\"\"),\"\")","v":""},{"$f":"IFERROR(INDEX(Medel_T[],Medel_T[[#This Row],[Nr]],Medel_T[[#Totals],[4AM_T]]),\"\")","v":""},{"$f":"IF(LEN(Medel_T[[#This Row],[Nr]:[Nr]])>0,IFERROR(TEXT(ROUND(24*IFERROR(INDEX(Medel_T[],Medel_T[[#This Row],[Nr]:[Nr]],Medel_T[[#Totals],[D 4AM]]),INDEX(Sum_T[[#Data],[#Totals]],MATCH(Medel_T[[#This Row],[Nr]:[Nr]],Sum_T[[#Data],[#Totals],[Typ]:[Typ]],0),MATCH(Medel_T[[#Headers],[D 4AM]],Sum_T[#Headers],0))),1-(INT(LOG10(ABS(24*IFERROR(INDEX(Medel_T[],Medel_T[[#This Row],[Nr]:[Nr]],Medel_T[[#Totals],[D 4AM]]),INDEX(Sum_T[[#Data],[#Totals]],MATCH(Medel_T[[#This Row],[Nr]:[Nr]],Sum_T[[#Data],[#Totals],[Typ]:[Typ]],0),MATCH(Medel_T[[#Headers],[D 4AM]],Sum_T[#Headers],0)))))))),\"0\"&IF(1-(INT(LOG10(ABS(24*IFERROR(INDEX(Medel_T[],Medel_T[[#This Row],[Nr]:[Nr]],Medel_T[[#Totals],[D 4AM]]),INDEX(Sum_T[[#Data],[#Totals]],MATCH(Medel_T[[#This Row],[Nr]:[Nr]],Sum_T[[#Data],[#Totals],[Typ]:[Typ]],0),MATCH(Medel_T[[#Headers],[D 4AM]],Sum_T[#Headers],0)))))))>0,\",\"&REPT(\"0\",1-(INT(LOG10(ABS(24*IFERROR(INDEX(Medel_T[],Medel_T[[#This Row],[Nr]:[Nr]],Medel_T[[#Totals],[D 4AM]]),INDEX(Sum_T[[#Data],[#Totals]],MATCH(Medel_T[[#This Row],[Nr]:[Nr]],Sum_T[[#Data],[#Totals],[Typ]:[Typ]],0),MATCH(Medel_T[[#Headers],[D 4AM]],Sum_T[#Headers],0)))))))),0)),0),\"\")","v":{"$error":"#N/A"}},{"$f":"IFERROR(INDEX(Medel_T[],Medel_T[[#This Row],[Nr]],Medel_T[[#Totals],[15AM_T]]),\"\")","v":""},{"$f":"IFERROR(IF(LEN(Medel_T[[#This Row],[Nr]:[Nr]])>0,IFERROR(TEXT(ROUND(24*IFERROR(INDEX(Medel_T[],Medel_T[[#This Row],[Nr]:[Nr]],Medel_T[[#Totals],[D 15AM]]),INDEX(Sum_T[[#Data],[#Totals]],MATCH(Medel_T[[#This Row],[Nr]:[Nr]],Sum_T[[#Data],[#Totals],[Typ]:[Typ]],0),MATCH(Medel_T[[#Headers],[D 15AM]],Sum_T[#Headers],0))),1-(INT(LOG10(ABS(24*IFERROR(INDEX(Medel_T[],Medel_T[[#This Row],[Nr]:[Nr]],Medel_T[[#Totals],[D 15AM]]),INDEX(Sum_T[[#Data],[#Totals]],MATCH(Medel_T[[#This Row],[Nr]:[Nr]],Sum_T[[#Data],[#Totals],[Typ]:[Typ]],0),MATCH(Medel_T[[#Headers],[D 15AM]],Sum_T[#Headers],0)))))))),\"0\"&IF(1-(INT(LOG10(ABS(24*IFERROR(INDEX(Medel_T[],Medel_T[[#This Row],[Nr]:[Nr]],Medel_T[[#Totals],[D 15AM]]),INDEX(Sum_T[[#Data],[#Totals]],MATCH(Medel_T[[#This Row],[Nr]:[Nr]],Sum_T[[#Data],[#Totals],[Typ]:[Typ]],0),MATCH(Medel_T[[#Headers],[D 15AM]],Sum_T[#Headers],0)))))))>0,\",\"&REPT(\"0\",1-(INT(LOG10(ABS(24*IFERROR(INDEX(Medel_T[],Medel_T[[#This Row],[Nr]:[Nr]],Medel_T[[#Totals],[D 15AM]]),INDEX(Sum_T[[#Data],[#Totals]],MATCH(Medel_T[[#This Row],[Nr]:[Nr]],Sum_T[[#Data],[#Totals],[Typ]:[Typ]],0),MATCH(Medel_T[[#Headers],[D 15AM]],Sum_T[#Headers],0)))))))),0)),0),\"\"),\"\")","v":""},{"$f":"IFERROR(INDEX(Medel_T[],Medel_T[[#This Row],[Nr]],Medel_T[[#Totals],[20-10D_T]]),\"\")","v":""},{"$f":"IF(LEN(Medel_T[[#This Row],[Nr]:[Nr]])>0,IFERROR(TEXT(ROUND(24*IFERROR(INDEX(Medel_T[],Medel_T[[#This Row],[Nr]:[Nr]],Medel_T[[#Totals],[D 20-10D]]),INDEX(Sum_T[[#Data],[#Totals]],MATCH(Medel_T[[#This Row],[Nr]:[Nr]],Sum_T[[#Data],[#Totals],[Typ]:[Typ]],0),MATCH(Medel_T[[#Headers],[D 20-10D]],Sum_T[#Headers],0))),1-(INT(LOG10(ABS(24*IFERROR(INDEX(Medel_T[],Medel_T[[#This Row],[Nr]:[Nr]],Medel_T[[#Totals],[D 20-10D]]),INDEX(Sum_T[[#Data],[#Totals]],MATCH(Medel_T[[#This Row],[Nr]:[Nr]],Sum_T[[#Data],[#Totals],[Typ]:[Typ]],0),MATCH(Medel_T[[#Headers],[D 20-10D]],Sum_T[#Headers],0)))))))),\"0\"&IF(1-(INT(LOG10(ABS(24*IFERROR(INDEX(Medel_T[],Medel_T[[#This Row],[Nr]:[Nr]],Medel_T[[#Totals],[D 20-10D]]),INDEX(Sum_T[[#Data],[#Totals]],MATCH(Medel_T[[#This Row],[Nr]:[Nr]],Sum_T[[#Data],[#Totals],[Typ]:[Typ]],0),MATCH(Medel_T[[#Headers],[D 20-10D]],Sum_T[#Headers],0)))))))>0,\",\"&REPT(\"0\",1-(INT(LOG10(ABS(24*IFERROR(INDEX(Medel_T[],Medel_T[[#This Row],[Nr]:[Nr]],Medel_T[[#Totals],[D 20-10D]]),INDEX(Sum_T[[#Data],[#Totals]],MATCH(Medel_T[[#This Row],[Nr]:[Nr]],Sum_T[[#Data],[#Totals],[Typ]:[Typ]],0),MATCH(Medel_T[[#Headers],[D 20-10D]],Sum_T[#Headers],0)))))))),0)),0),\"\")","v":{"$error":"#N/A"}},null,{"$f":"IFERROR(INDEX(Hin_T[Nr],MATCH(SMALL(Hin_T[B-årX],ROW()-ROW(Hut_T[[#Headers],[Rad]])),Hin_T[B-årX],0)),IF(ROWS($EB$19:EB39)=1+COUNTIF(Hin_T[Start],\"*\"),Hin_T[[#Totals],[Dag]],IF(AND(ROWS($EB$19:EB39)=2+COUNTIF(Hin_T[Start],\"*\"),Hin_T[[#Totals],[Q%-]]>0),EB38+1,IF(AND(ROWS($EB$19:EB39)=3+COUNTIF(Hin_T[Start],\"*\"),Hin_T[[#Totals],[Q%-]]>1),EB38+1,IF(AND(ROWS($EB$19:EB39)=4+COUNTIF(Hin_T[Start],\"*\"),Hin_T[[#Totals],[Q%-]]>2),EB38+1,\"\")))))","v":""},{"$f":"IF(Hut_T[[#This Row],[Rad]]<Hin_T[[#Totals],[Dag]],ROWS($EB$19:EB39),IFERROR(INDEX(BD_TX[[#Data],[#Totals],[SJ]],MATCH(Hut_T[[#This Row],[Rad]],BD_TX[[#Data],[#Totals],[NrX]],0)),\"\"))","v":""},{"$f":"IF(ISNUMBER(Hut_T[[#This Row],[Datum-]]),TEXT(Hut_T[[#This Row],[Datum-]],\"ÅÅÅÅ MMM\")&\"-\"&TEXT(Hut_T[[#This Row],[Datum+]],\"ÅÅÅÅ MMM\"),\"\")","v":""},{"$f":"IF(ISNUMBER(Hut_T[[#This Row],[Nr]]),IF(INDEX(Hin_T[Yrke],Hut_T[[#This Row],[Rad]])>0,INDEX(Hin_T[Yrke],Hut_T[[#This Row],[Rad]]),\"\"),IFERROR(INDEX(BD_TX[[#Data],[#Totals],[Text]],MATCH(Hut_T[[#This Row],[Rad]],BD_TX[[#Data],[#Totals],[NrX]],0)),\"\"))","v":""},{"$f":"IF(ISNUMBER(Hut_T[[#This Row],[Nr]]),IF(INDEX(Hin_T[Arbetsmoment],Hut_T[[#This Row],[Rad]])>0,INDEX(Hin_T[Arbetsmoment],Hut_T[[#This Row],[Rad]]),\"\"),\"\")","v":""},{"$f":"IFERROR(IF(INDEX(Hin_T[Yrke],Hut_T[[#This Row],[Rad]])>0,INDEX(Hin_T[Företag],Hut_T[[#This Row],[Rad]]),\"\"),\"\")","v":""},{"$f":"IFERROR(IF(INDEX(Hin_T[Dag],Hut_T[[#This Row],[Rad]])>0,INDEX(Hin_T[Dag],Hut_T[[#This Row],[Rad]])*DÅ[Arbetsdag/år],\"\"),\"\")","v":""},{"$f":"IF(AND(ISNUMBER(_xlfn.SINGLE(Hut_T[[#This Row],[Rad]:[Rad]])),IFERROR(_xlfn.SINGLE(INDEX(Hin_T[[#Data],[#Totals]],_xlfn.SINGLE(Hut_T[[#This Row],[Rad]:[Rad]]),MATCH(Hut_T[[#Headers],[D HöA]],Hin_T[#Headers],0))),\"\")),IFERROR(ROUND(_xlfn.SINGLE(INDEX(Hin_T[[#Data],[#Totals]],_xlfn.SINGLE(Hut_T[[#This Row],[Rad]:[Rad]])-IF(_xlfn.SINGLE(Hut_T[[#This Row],[Nr]:[Nr]])=_xlfn.SINGLE(#REF!),COUNT(Besvär_T[[Sjukdomsdebut]:[Sjukdomsdebut]]),0),MATCH(_xlfn.SINGLE(IF(_xlfn.SINGLE(Hut_T[[#This Row],[Nr]:[Nr]])=_xlfn.SINGLE(#REF!),#REF!,\"\"))&Hut_T[[#Headers],[D HöA]],Hin_T[#Headers],0))),0),\"\"),\"\")","v":""},{"$f":"IF(AND(ISNUMBER(Hut_T[[#This Row],[Rad]:[Rad]]),ISNUMBER(Hut_T[[#This Row],[D HöA]]),ISNUMBER(Hut_T[[#This Row],[Nr]:[Nr]])),IFERROR(ROUND(INDEX(Hin_T[[#Data],[#Totals]],Hut_T[[#This Row],[Rad]:[Rad]],MATCH(Hut_T[[#Headers],[HöA-A]],Hin_T[#Headers],0)),1-(INT(LOG10(INDEX(Hin_T[[#Data],[#Totals]],Hut_T[[#This Row],[Rad]:[Rad]],MATCH(Hut_T[[#Headers],[HöA-A]],Hin_T[#Headers],0)))))),1),\"\")","v":""},{"$f":"IF(AND(ISNUMBER(Hut_T[[#This Row],[Rad]:[Rad]]),IFERROR(INDEX(Hin_T[[#Data],[#Totals]],Hut_T[[#This Row],[Rad]:[Rad]],MATCH(Hut_T[[#Headers],[D AöA]],Hin_T[#Headers],0)),\"\")),IFERROR(ROUND(INDEX(Hin_T[[#Data],[#Totals]],Hut_T[[#This Row],[Rad]:[Rad]]-IF(Hut_T[[#This Row],[Nr]:[Nr]]=BD_TX[[SJ]:[SJ]],COUNT(Besvär_T[[Sjukdomsdebut]:[Sjukdomsdebut]]),0),MATCH(IF(Hut_T[[#This Row],[Nr]:[Nr]]=BD_TX[[#Totals],[SJ]:[SJ]],BD_TX[[#Headers],[SJ]],\"\")&Hut_T[[#Headers],[D AöA]],Hin_T[#Headers],0)),0),\"\"),\"\")","v":""},{"$f":"IF(AND(ISNUMBER(Hut_T[[#This Row],[Rad]:[Rad]]),ISNUMBER(Hut_T[[#This Row],[D AöA]]),ISNUMBER(Hut_T[[#This Row],[Nr]:[Nr]])),IFERROR(ROUND(INDEX(Hin_T[[#Data],[#Totals]],Hut_T[[#This Row],[Rad]:[Rad]],MATCH(Hut_T[[#Headers],[AöA-A]],Hin_T[#Headers],0)),1-(INT(LOG10(INDEX(Hin_T[[#Data],[#Totals]],Hut_T[[#This Row],[Rad]:[Rad]],MATCH(Hut_T[[#Headers],[AöA-A]],Hin_T[#Headers],0)))))),1),\"\")","v":""},{"$f":"IF(AND(ISNUMBER(_xlfn.SINGLE(Hut_T[[#This Row],[Rad]:[Rad]])),IFERROR(_xlfn.SINGLE(INDEX(Hin_T[[#Data],[#Totals]],_xlfn.SINGLE(Hut_T[[#This Row],[Rad]:[Rad]]),MATCH(Hut_T[[#Headers],[D 4AM]],Hin_T[#Headers],0))),\"\")),IFERROR(ROUND(_xlfn.SINGLE(INDEX(Hin_T[[#Data],[#Totals]],_xlfn.SINGLE(Hut_T[[#This Row],[Rad]:[Rad]])-IF(_xlfn.SINGLE(Hut_T[[#This Row],[Nr]:[Nr]])=_xlfn.SINGLE(#REF!),COUNT(Besvär_T[[Sjukdomsdebut]:[Sjukdomsdebut]]),0),MATCH(_xlfn.SINGLE(IF(_xlfn.SINGLE(Hut_T[[#This Row],[Nr]:[Nr]])=_xlfn.SINGLE(#REF!),#REF!,\"\"))&Hut_T[[#Headers],[D 4AM]],Hin_T[#Headers],0))),0),\"\"),\"\")","v":""},{"$f":"IF(AND(ISNUMBER(Hut_T[[#This Row],[Rad]:[Rad]]),ISNUMBER(Hut_T[[#This Row],[D 4AM]]),ISNUMBER(Hut_T[[#This Row],[Nr]:[Nr]])),IFERROR(ROUND(INDEX(Hin_T[[#Data],[#Totals]],Hut_T[[#This Row],[Rad]:[Rad]],MATCH(Hut_T[[#Headers],[4AM-A]],Hin_T[#Headers],0)),1-(INT(LOG10(INDEX(Hin_T[[#Data],[#Totals]],Hut_T[[#This Row],[Rad]:[Rad]],MATCH(Hut_T[[#Headers],[4AM-A]],Hin_T[#Headers],0)))))),1),\"\")","v":""},{"$f":"IF(AND(ISNUMBER(Hut_T[[#This Row],[Rad]:[Rad]]),IFERROR(INDEX(Hin_T[[#Data],[#Totals]],Hut_T[[#This Row],[Rad]:[Rad]],MATCH(Hut_T[[#Headers],[D 15AM]],Hin_T[#Headers],0)),\"\")),IFERROR(ROUND(INDEX(Hin_T[[#Data],[#Totals]],Hut_T[[#This Row],[Rad]:[Rad]]-IF(Hut_T[[#This Row],[Nr]:[Nr]]=BD_TX[[SJ]:[SJ]],COUNT(Besvär_T[[Sjukdomsdebut]:[Sjukdomsdebut]]),0),MATCH(IF(Hut_T[[#This Row],[Nr]:[Nr]]=BD_TX[[#Totals],[SJ]:[SJ]],BD_TX[[#Headers],[SJ]],\"\")&Hut_T[[#Headers],[D 15AM]],Hin_T[#Headers],0)),0),\"\"),\"\")","v":""},{"$f":"IF(AND(ISNUMBER(Hut_T[[#This Row],[Rad]:[Rad]]),ISNUMBER(Hut_T[[#This Row],[D 15AM]]),ISNUMBER(Hut_T[[#This Row],[Nr]:[Nr]])),IFERROR(ROUND(INDEX(Hin_T[[#Data],[#Totals]],Hut_T[[#This Row],[Rad]:[Rad]],MATCH(Hut_T[[#Headers],[15AM-A]],Hin_T[#Headers],0)),1-(INT(LOG10(INDEX(Hin_T[[#Data],[#Totals]],Hut_T[[#This Row],[Rad]:[Rad]],MATCH(Hut_T[[#Headers],[15AM-A]],Hin_T[#Headers],0)))))),1),\"\")","v":""},{"$f":"IF(AND(ISNUMBER(Hut_T[[#This Row],[Rad]:[Rad]]),IFERROR(INDEX(Hin_T[[#Data],[#Totals]],Hut_T[[#This Row],[Rad]:[Rad]],MATCH(Hut_T[[#Headers],[D 20-10D]],Hin_T[#Headers],0)),\"\")),IFERROR(ROUND(INDEX(Hin_T[[#Data],[#Totals]],Hut_T[[#This Row],[Rad]:[Rad]]-IF(Hut_T[[#This Row],[Nr]:[Nr]]=BD_TX[[SJ]:[SJ]],COUNT(Besvär_T[[Sjukdomsdebut]:[Sjukdomsdebut]]),0),MATCH(IF(Hut_T[[#This Row],[Nr]:[Nr]]=BD_TX[[#Totals],[SJ]:[SJ]],BD_TX[[#Headers],[SJ]],\"\")&Hut_T[[#Headers],[D 20-10D]],Hin_T[#Headers],0)),0),\"\"),\"\")","v":""},{"$f":"IF(AND(ISNUMBER(Hut_T[[#This Row],[Rad]:[Rad]]),ISNUMBER(Hut_T[[#This Row],[D 20-10D]]),ISNUMBER(Hut_T[[#This Row],[Nr]:[Nr]])),IFERROR(ROUND(INDEX(Hin_T[[#Data],[#Totals]],Hut_T[[#This Row],[Rad]:[Rad]],MATCH(Hut_T[[#Headers],[20-10D-A]],Hin_T[#Headers],0)),1-(INT(LOG10(INDEX(Hin_T[[#Data],[#Totals]],Hut_T[[#This Row],[Rad]:[Rad]],MATCH(Hut_T[[#Headers],[20-10D-A]],Hin_T[#Headers],0)))))),1),\"\")","v":""},null,{"$f":"IFERROR(INDEX(Hin_T[[#Data],[#Totals],[B-år]],Hut_T[[#This Row],[Rad]]),IF(ISNUMBER(Hut_T[[#This Row],[Datum+]]),ET38,\"\"))","v":""},{"$f":"IFERROR(INDEX(Hin_T[S-år],Hut_T[[#This Row],[Rad]]),IFERROR(INDEX(BD_TX[[#Data],[#Totals],[År]],MATCH(Hut_T[[#This Row],[Rad]],BD_TX[[#Data],[#Totals],[NrX]],0)),\"\"))","v":""},null,{"$f":"ROWS($EW$20:EW39)","v":20},{"$f":"IFERROR(MATCH(Hist_Tab[[#This Row],[Ref]],Medel_T[NrX],0),1)","v":1},{"$f":"INT((ROW(Hist_Tab[[#This Row],[Ref]])-ROW(Hist_Tab[[#Headers],[Ref]])-1)/4)+1","v":6},{"$f":"COUNTIF($EY$19:EY39,Hist_Tab[[#This Row],[Ref]])","v":1},{"$f":"IFERROR(INDEX(Medel_T[Start],Hist_Tab[[#This Row],[Ref]]),_xlfn.AGGREGATE(4,6,Medel_T[Start]))","v":"00:00:00"},{"$f":"IFERROR(INDEX(Medel_T[Slut],Hist_Tab[[#This Row],[Ref]]),_xlfn.AGGREGATE(4,6,Medel_T[Slut]))","v":"00:00:00"},{"$f":"IF(EW38=0,Hist_Tab[[#This Row],[ÅrB]],IF(Hist_Tab[[#This Row],[per/p]]<2,Hist_Tab[[#This Row],[ÅrB]],Hist_Tab[[#This Row],[År S]]))","v":"00:00:00"},{"$f":"IF(Hist_Tab[[#This Row],[Rad]:[Rad]]=0,-1,IF($EY40>_xlfn.AGGREGATE(2,6,Medel_T[[Slut]:[Slut]]),0,INDEX(Medel_T[],Hist_Tab[[#This Row],[Ref]:[Ref]],MATCH(Hist_Tab[[#Headers],[HöA T]],Medel_T[#Headers],0))))","v":0},{"$f":"IF(Hist_Tab[[#This Row],[Rad]:[Rad]]=0,0,IF($EY40>_xlfn.AGGREGATE(2,6,Medel_T[[Slut]:[Slut]]),0,INDEX(Medel_T[],Hist_Tab[[#This Row],[Ref]:[Ref]],MATCH(Hist_Tab[[#Headers],[AöA T]],Medel_T[#Headers],0))))","v":0},{"$f":"IF(Hist_Tab[[#This Row],[Rad]:[Rad]]=0,0,IF($EY40>_xlfn.AGGREGATE(2,6,Medel_T[[Slut]:[Slut]]),0,INDEX(Medel_T[],Hist_Tab[[#This Row],[Ref]:[Ref]],MATCH(Hist_Tab[[#Headers],[4AM T]],Medel_T[#Headers],0))))","v":0},{"$f":"IF(Hist_Tab[[#This Row],[Rad]:[Rad]]=0,0,IF($EY40>_xlfn.AGGREGATE(2,6,Medel_T[[Slut]:[Slut]]),0,INDEX(Medel_T[],Hist_Tab[[#This Row],[Ref]:[Ref]],MATCH(Hist_Tab[[#Headers],[15AM T]],Medel_T[#Headers],0))))","v":0},{"$f":"IF(Hist_Tab[[#This Row],[Rad]:[Rad]]=0,0,IF($EY40>_xlfn.AGGREGATE(2,6,Medel_T[[Slut]:[Slut]]),0,INDEX(Medel_T[],Hist_Tab[[#This Row],[Ref]:[Ref]],MATCH(Hist_Tab[[#Headers],[20-10D T]],Medel_T[#Headers],0))))","v":0}]
[null,null,null,null,null,null,null,null,null,null,null,null,null,null,null,null,null,null,{"$f":"IF(LEN(Hin_T[[#This Row],[Start]])>0,ROWS($S$19:S40),\"\")","v":""},null,{"$f":"Hin_T[[#This Row],[Yrke]]&IF(ISBLANK(Hin_T[[#This Row],[Arbetsmoment]]),\"\",\"; \"&Hin_T[[#This Row],[Arbetsmoment]])","v":""},{"$f":"IFERROR(IF(LEN(Hin_T[[#This Row],[Start]])-LEN(SUBSTITUTE(Hin_T[[#This Row],[Start]],\"-\",\"\"))=2,DATEVALUE(Hin_T[[#This Row],[Start]]),IF(LEN(Hin_T[[#This Row],[Start]])<5,DATEVALUE(Hin_T[[#This Row],[Start]]&\"-01-01\"),DATEVALUE(LEFT(Hin_T[[#This Row],[Start]],IF(LEN(Hin_T[[#This Row],[Start]])>6,4,2))&\"-\"&MID(Hin_T[[#This Row],[Start]],IF(LEN(Hin_T[[#This Row],[Start]])>6,5,3),2)&\"-\"&RIGHT(Hin_T[[#This Row],[Start]],2)))),\"\")","v":""},{"$f":"IFERROR(IF(LEN(Hin_T[[#This Row],[Slut]])-LEN(SUBSTITUTE(Hin_T[[#This Row],[Slut]],\"-\",\"\"))=2,DATEVALUE(Hin_T[[#This Row],[Slut]]),IF(LEN(Hin_T[[#This Row],[Slut]])<5,DATEVALUE(Hin_T[[#This Row],[Slut]]&\"-12-31\"),DATEVALUE(LEFT(Hin_T[[#This Row],[Slut]],IF(LEN(Hin_T[[#This Row],[Slut]])>6,4,2))&\"-\"&MID(Hin_T[[#This Row],[Slut]],IF(LEN(Hin_T[[#This Row],[Slut]])>6,5,3),2)&\"-\"&RIGHT(Hin_T[[#This Row],[Slut]],2)))),\"\")","v":""},{"$f":"IF(COUNTIF(V$19:V40,Hin_T[[#This Row],[B-år]])=1,Hin_T[[#This Row],[B-år]],\"\")","v":""},{"$f":"IF(COUNTIF(W$19:W40,Hin_T[[#This Row],[S-år]])=1,Hin_T[[#This Row],[S-år]],\"\")","v":""},{"$f":"IFERROR(Hin_T[[#This Row],[B-år]]+IF(COUNTIF($V$19:V40,Hin_T[[#This Row],[B-år]])>1,COUNTIF($V$19:V40,Hin_T[[#This Row],[B-år]])/10,0),\"\")","v":""},{"$f":"IF(ISNUMBER(Hin_T[[#This Row],[Dagar]]),Hin_T[[#This Row],[Dagar]]/DÅ[Arbetsdag/år],1)","v":1},{"$f":"Hin_T[[#This Row],[Dag]]*DÅ[Arbetsdag/år]","v":220},{"$f":"IF(LEN(Hin_T[[#This Row],[Yrke]])=4,1,0)","v":0},{"$f":"_xlfn.DAYS(Hin_T[[#This Row],[B-år]],DATE(YEAR(Hin_T[[#This Row],[B-år]]),1,1))/(DATE(YEAR(Hin_T[[#This Row],[B-år]])+1,1,1)-DATE(YEAR(Hin_T[[#This Row],[B-år]]),1,1))","v":{"$error":"#VALUE!"}},{"$f":"_xlfn.DAYS(DATE(YEAR(Hin_T[[#This Row],[S-år]]),12,31),Hin_T[[#This Row],[S-år]])/(DATE(YEAR(Hin_T[[#This Row],[S-år]])+1,1,1)-DATE(YEAR(Hin_T[[#This Row],[S-år]]),1,1))","v":{"$error":"#VALUE!"}},{"$f":"YEARFRAC(Hin_T[[#This Row],[S-år]],Hin_T[[#This Row],[B-år]])*Hin_T[[#This Row],[Dag]]","v":{"$error":"#VALUE!"}},{"$f":"IFERROR(Hin_T[[#This Row],[År diff]]*IF(ISNUMBER(Hin_T[[#This Row],[HöA]]),1,0),0)","v":0},{"$f":"IFERROR(Hin_T[[#This Row],[År diff]]*IF(ISNUMBER(Hin_T[[#This Row],[AöA]]),1,0),0)","v":0},{"$f":"IF(Hin_T[[#This Row],[B-år]]<=Besvär_T[[#Totals],[Sjukdomsdebut]],Hin_T[[#This Row],[B-år]],\"\")","v":""},{"$f":"IF(Hin_T[[#This Row],[S-år]]<=Besvär_T[[#Totals],[Sjukdomsdebut]],Hin_T[[#This Row],[S-år]],\"\")","v":""},{"$f":"IFERROR(YEARFRAC(IF(AND(ISNUMBER(Hin_T[[#This Row],[B-år EA]]),LEN(Hin_T[[#This Row],[S-år EA]])=0),Hin_T[[#Totals],[15AM-A]],Hin_T[[#This Row],[S-år EA]]),Hin_T[[#This Row],[B-år EA]])*Hin_T[[#This Row],[Dag]]*IF(ISNUMBER(Hin_T[[#This Row],[HöA]]),1,0),0)","v":0},{"$f":"IFERROR(YEARFRAC(IF(AND(ISNUMBER(Hin_T[[#This Row],[B-år EA]]),LEN(Hin_T[[#This Row],[S-år EA]])=0),Hin_T[[#Totals],[15AM-A]],Hin_T[[#This Row],[S-år EA]]),Hin_T[[#This Row],[B-år EA]])*Hin_T[[#This Row],[Dag]]*IF(ISNUMBER(Hin_T[[#This Row],[AöA]]),1,0),0)","v":0},{"$f":"IFERROR(Hin_T[[#This Row],[År diff]]*IF(ISNUMBER(Hin_T[[#This Row],[4AM]]),1,0),0)","v":0},{"$f":"IFERROR(Hin_T[[#This Row],[År diff]]*IF(ISNUMBER(Hin_T[[#This Row],[15AM]]),1,0),0)","v":0},{"$f":"IF(Hin_T[[#This Row],[B-år]]<=Besvär_T[[#Totals],[Sjukdomsdebut]],Hin_T[[#This Row],[B-år]],\"\")","v":""},{"$f":"IF(Hin_T[[#This Row],[S-år]]<=Besvär_T[[#Totals],[Sjukdomsdebut]],Hin_T[[#This Row],[S-år]],\"\")","v":""},{"$f":"IFERROR(YEARFRAC(IF(AND(ISNUMBER(Hin_T[[#This Row],[B-år RA]]),LEN(Hin_T[[#This Row],[S-år RA]])=0),Hin_T[[#Totals],[15AM-A]],Hin_T[[#This Row],[S-år RA]]),Hin_T[[#This Row],[B-år RA]])*Hin_T[[#This Row],[Dag]]*IF(ISNUMBER(Hin_T[[#This Row],[4AM]]),1,0),0)","v":0},{"$f":"IFERROR(YEARFRAC(IF(AND(ISNUMBER(Hin_T[[#This Row],[B-år RA]]),LEN(Hin_T[[#This Row],[S-år RA]])=0),Hin_T[[#Totals],[15AM-A]],Hin_T[[#This Row],[S-år RA]]),Hin_T[[#This Row],[B-år RA]])*Hin_T[[#This Row],[Dag]]*IF(ISNUMBER(Hin_T[[#This Row],[15AM]]),1,0),0)","v":0},{"$f":"IFERROR(Hin_T[[#This Row],[År diff]]*IF(ISNUMBER(Hin_T[[#This Row],[20-10D]]),1,0),0)","v":0},{"$f":"IF(Hin_T[[#This Row],[B-år]]<=Besvär_T[[#Totals],[Sjukdomsdebut]],Hin_T[[#This Row],[B-år]],\"\")","v":""},{"$f":"IF(Hin_T[[#This Row],[S-år]]<=Besvär_T[[#Totals],[Sjukdomsdebut]],Hin_T[[#This Row],[S-år]],\"\")","v":""},{"$f":"IFERROR(YEARFRAC(IF(AND(ISNUMBER(Hin_T[[#This Row],[B-år TMH]]),LEN(Hin_T[[#This Row],[S-år TMH]])=0),Hin_T[[#Totals],[15AM-A]],Hin_T[[#This Row],[S-år TMH]]),Hin_T[[#This Row],[B-år TMH]])*Hin_T[[#This Row],[Dag]]*IF(ISNUMBER(Hin_T[[#This Row],[20-10D]]),1,0),0)","v":0},{"$f":"IF(Hin_T[[#This Row],[Vib]]=JN_T[JN],1,0)","v":0},{"$f":"IFERROR(Hin_T[[#This Row],[År diff]]*IF(Hin_T[[#This Row],[Vib2]]>0,1,0),0)","v":0},{"$f":"IF(Hin_T[[#This Row],[B-år]]<=Besvär_T[[#Totals],[Sjukdomsdebut]],Hin_T[[#This Row],[B-år]],\"\")","v":""},{"$f":"IF(Hin_T[[#This Row],[S-år]]<=Besvär_T[[#Totals],[Sjukdomsdebut]],Hin_T[[#This Row],[S-år]],\"\")","v":""},{"$f":"IFERROR(YEARFRAC(IF(AND(ISNUMBER(Hin_T[[#This Row],[B-år VIB]]),LEN(Hin_T[[#This Row],[S-år Vib]])=0),Hin_T[[#Totals],[15AM-A]],Hin_T[[#This Row],[S-år Vib]]),Hin_T[[#This Row],[B-år VIB]])*IF(Hin_T[[#This Row],[Vib2]]>0,1,0),0)","v":0},{"$f":"Hin_T[[#This Row],[HöA]]*Hin_T[[#This Row],[tot år HöA]]*DÅ[Arbetsdag/år]","v":0},{"$f":"Hin_T[[#This Row],[tot år AöA]]*Hin_T[[#This Row],[AöA]]*DÅ[Arbetsdag/år]","v":0},{"$f":"Hin_T[[#This Row],[tot år 4AM]]*Hin_T[[#This Row],[4AM]]*DÅ[Arbetsdag/år]","v":0},{"$f":"Hin_T[[#This Row],[tot år 15AM]]*Hin_T[[#This Row],[15AM]]*DÅ[Arbetsdag/år]","v":0},{"$f":"Hin_T[[#This Row],[tot år 20-10D]]*Hin_T[[#This Row],[20-10D]]*DÅ[Arbetsdag/år]","v":0},{"$f":"Hin_T[[#This Row],[BD år HöA]]*Hin_T[[#This Row],[HöA]]*DÅ[Arbetsdag/år]","v":0},{"$f":"Hin_T[[#This Row],[BD år AöA]]*Hin_T[[#This Row],[AöA]]*DÅ[Arbetsdag/år]","v":0},{"$f":"Hin_T[[#This Row],[BD år 4AM]]*Hin_T[[#This Row],[4AM]]*DÅ[Arbetsdag/år]","v":0},{"$f":"Hin_T[[#This Row],[BD år 15AM]]*Hin_T[[#This Row],[15AM]]*DÅ[Arbetsdag/år]","v":0},{"$f":"Hin_T[[#This Row],[BD år 20-10D]]*Hin_T[[#This Row],[20-10D]]*DÅ[Arbetsdag/år]","v":0},{"$f":"Hin_T[[#This Row],[Arbetsmoment]]&Hin_T[[#This Row],[Text AöA]]&Hin_T[[#This Row],[Text 15AM]]&IF(Hin_T[[#This Row],[Dagarna]]=DÅ[Arbetsdag/år],\"\",\". \"&Hin_T[[#This Row],[Dagarna]]&\" dagar/år\")&\". \"","v":". "},{"$f":"IF(ISBLANK(Hin_T[[#This Row],[AöA]]),\"\",Exp_T[Överarmslyft> 90°: ]&IF(VALUE(TEXT(Hin_T[[#This Row],[AöA]],\"t\"))>0,VALUE(TEXT(Hin_T[[#This Row],[AöA]],\"t\"))&\" h\",\"\")&IF(AND(VALUE(TEXT(Hin_T[[#This Row],[AöA]],\"t\"))>0,VALUE(TEXT(Hin_T[[#This Row],[AöA]],\"m\"))>2.4),\" \",\"\")&IF(VALUE(TEXT(Hin_T[[#This Row],[AöA]],\"m\"))>2.4,TEXT(ROUND(Hin_T[[#This Row],[AöA]]*(24*60/5),0)/(24*60/5),\"m\")&\" min\",\"\")&\"/dag\")","v":""},{"$f":"IF(ISBLANK(Hin_T[[#This Row],[15AM]]),\"\",Exp_T[Överarmsrörelser> 15/min: ]&IF(VALUE(TEXT(Hin_T[[#This Row],[15AM]],\"t\"))>0,VALUE(TEXT(Hin_T[[#This Row],[15AM]],\"t\"))&\" h\",\"\")&IF(AND(VALUE(TEXT(Hin_T[[#This Row],[15AM]],\"t\"))>0,VALUE(TEXT(Hin_T[[#This Row],[15AM]],\"m\"))>2.4),\" \",\"\")&IF(VALUE(TEXT(Hin_T[[#This Row],[15AM]],\"m\"))>2.4,TEXT(ROUND(Hin_T[[#This Row],[15AM]]*(24*60/5),0)/(24*60/5),\"m\")&\" min\",\"\")&\"/dag\")","v":""},null,null,null,null,{"$f":"SMALL(Hin_T[[StartÅR]:[SlutÅr]],ROW()-ROW(Medel_T[[#Headers],[Start]]))","v":{"$error":"#NUM!"}},{"$f":"SMALL(Hin_T[[StartÅR]:[SlutÅr]],ROW()-ROW(Medel_T[[#Headers],[Slut]])+1)","v":{"$error":"#NUM!"}},{"$f":"IF(Medel_T[[#This Row],[Start]]<=Besvär_T[[#Totals],[Sjukdomsdebut]],Medel_T[[#This Row],[Start]],\"\")","v":{"$error":"#NUM!"}},{"$f":"IF(Medel_T[[#This Row],[Slut]]<=Besvär_T[[#Totals],[Sjukdomsdebut]],Medel_T[[#This Row],[Slut]],IF(AND(LEN(Medel_T[[#This Row],[SJDstart]])>0,LEN(BU41)=0),Besvär_T[[#Totals],[Sjukdomsdebut]],\"\"))","v":{"$error":"#NUM!"}},{"$f":"IF(Medel_T[[#This Row],[Start]]>=Besvär_T[[#Totals],[Sjukdomsdebut]],Medel_T[[#This Row],[Start]],IF(AND(LEN(Medel_T[[#This Row],[EfterSlut]])>0,LEN(BX39)=0),Besvär_T[[#Totals],[Sjukdomsdebut]],\"\"))","v":{"$error":"#NUM!"}},{"$f":"IF(Medel_T[[#This Row],[Slut]]>=Besvär_T[[#Totals],[Sjukdomsdebut]],Medel_T[[#This Row],[Slut]],\"\")","v":{"$error":"#NUM!"}},{"$f":"COUNTIF($BZ$19:BZ40,\">0\")","v":0},{"$f":"COUNTIFS(Hin_T[B-år],\"<=\"&Medel_T[[#This Row],[Start]],Hin_T[S-år],\">=\"&Medel_T[[#This Row],[Slut]])","v":0},{"$f":"SUBSTITUTE(_xlfn.TEXTJOIN(Sep_T[Separator],TRUE,_xlfn._xlws.SORT(_xlfn.UNIQUE(IF((Hin_T[[B-år]:[B-år]]<=Medel_T[[#This Row],[Start]:[Start]])*(Hin_T[[S-år]:[S-år]]>=Medel_T[[#This Row],[Slut]:[Slut]]),Hin_T[Yrke],\"\")))),0&Sep_T[Separator],\"\")","v":{"$error":"#NUM!"}},{"$f":"SUBSTITUTE(_xlfn.TEXTJOIN(Sep_T[Separator],TRUE,_xlfn._xlws.SORT(_xlfn.UNIQUE(IF((Hin_T[[B-år]:[B-år]]<=Medel_T[[#This Row],[Start]:[Start]])*(Hin_T[[S-år]:[S-år]]>=Medel_T[[#This Row],[Slut]:[Slut]]),Hin_T[Arbetsmoment],\"\")))),0&Sep_T[Separator],\"\")","v":{"$error":"#NUM!"}},{"$f":"IF(LEN(Medel_T[[#This Row],[Yrke]])>0,Medel_T[[#Headers],[Period ]]&Medel_T[[#This Row],[NrX]]&\": \"&TEXT(Medel_T[[#This Row],[Start]],\"ÅÅÅÅ\")&List_T[[#Totals],[List symb]]&TEXT(Medel_T[[#This Row],[Slut]],\"ÅÅÅÅ\")&\" (\"&ROUND(Medel_T[[#This Row],[År]],1)&\" år) Anställd som \"&IFERROR(SUBSTITUTE(SUBSTITUTE(Medel_T[[#This Row],[Yrke]],Sep_T[Separator],\" och \",Medel_T[[#This Row],[Ant]]-1),Sep_T[Separator],\", \"),Medel_T[[#This Row],[Yrke]])&↓[↓],\"\")","v":{"$error":"#NUM!"}},{"$f":"IF(LEN(Medel_T[[#This Row],[Arbetsmoment]])>0,ROMAN(1)&\") \"&_xlfn.TEXTJOIN(Delim[Delimiters],TRUE,_xlfn._xlws.SORT(_xlfn.UNIQUE(IF((Hin_T[[B-år]:[B-år]]<=Medel_T[[#This Row],[Start]:[Start]])*(Hin_T[[S-år]:[S-år]]>=Medel_T[[#This Row],[Slut]:[Slut]]),Hin_T[Text],\"\"))))&↓[↓],\"\")","v":{"$error":"#NUM!"}},{"$f":"SUMPRODUCT((Hin_T[[B-år]:[B-år]]<=Medel_T[[#This Row],[Start]:[Start]])*(Hin_T[[S-år]:[S-år]]>=Medel_T[[#This Row],[Slut]:[Slut]])*Hin_T[Dag])","v":{"$error":"#NUM!"}},{"$f":"IF(Medel_T[[#This Row],[Proc dag]]<=1,Medel_T[[#This Row],[Proc dag]],1)","v":{"$error":"#NUM!"}},{"$f":"YEARFRAC(Medel_T[[#This Row],[Slut]],Medel_T[[#This Row],[Start]])","v":{"$error":"#NUM!"}},{"$f":"YEARFRAC(Medel_T[[#This Row],[SJDslut]],Medel_T[[#This Row],[SJDstart]])","v":{"$error":"#NUM!"}},{"$f":"IFERROR(SUMPRODUCT((Hin_T[[B-år]:[B-år]]<=Medel_T[[#This Row],[Start]:[Start]])*(Hin_T[[S-år]:[S-år]]>=Medel_T[[#This Row],[Slut]:[Slut]])*Hin_T[HöA]*Hin_T[[Dag]:[Dag]])/Medel_T[[#This Row],[Proc dag]],-1)","v":-1},{"$f":"IFERROR(SUMPRODUCT((Hin_T[[B-år]:[B-år]]<=Medel_T[[#This Row],[Start]:[Start]])*(Hin_T[[S-år]:[S-år]]>=Medel_T[[#This Row],[Slut]:[Slut]])*Hin_T[AöA]*Hin_T[[Dag]:[Dag]])/Medel_T[[#This Row],[Proc dag]],-1)","v":-1},{"$f":"IFERROR(SUMPRODUCT((Hin_T[[B-år]:[B-år]]<=Medel_T[[#This Row],[Start]:[Start]])*(Hin_T[[S-år]:[S-år]]>=Medel_T[[#This Row],[Slut]:[Slut]])*Hin_T[4AM]*Hin_T[[Dag]:[Dag]])/Medel_T[[#This Row],[Proc dag]],-1)","v":-1},{"$f":"IFERROR(SUMPRODUCT((Hin_T[[B-år]:[B-år]]<=Medel_T[[#This Row],[Start]:[Start]])*(Hin_T[[S-år]:[S-år]]>=Medel_T[[#This Row],[Slut]:[Slut]])*Hin_T[15AM]*Hin_T[[Dag]:[Dag]])/Medel_T[[#This Row],[Proc dag]],-1)","v":-1},{"$f":"IFERROR(SUMPRODUCT((Hin_T[[B-år]:[B-år]]<=Medel_T[[#This Row],[Start]:[Start]])*(Hin_T[[S-år]:[S-år]]>=Medel_T[[#This Row],[Slut]:[Slut]])*Hin_T[20-10D]*Hin_T[[Dag]:[Dag]])/Medel_T[[#This Row],[Proc dag]],-1)","v":-1},{"$f":"IFERROR(SUMPRODUCT((Hin_T[[B-år]:[B-år]]<=Medel_T[[#This Row],[Start]:[Start]])*(Hin_T[[S-år]:[S-år]]>=Medel_T[[#This Row],[Slut]:[Slut]])*Hin_T[[Dag]:[Dag]]*Hin_T[HöA])/Medel_T[[#This Row],[Dag sum]],-1)","v":-1},{"$f":"IFERROR(SUMPRODUCT((Hin_T[[B-år]:[B-år]]<=Medel_T[[#This Row],[Start]:[Start]])*(Hin_T[[S-år]:[S-år]]>=Medel_T[[#This Row],[Slut]:[Slut]])*Hin_T[[Dag]:[Dag]]*Hin_T[AöA])/Medel_T[[#This Row],[Dag sum]],-1)","v":-1},{"$f":"IFERROR(SUMPRODUCT((Hin_T[[B-år]:[B-år]]<=Medel_T[[#This Row],[Start]:[Start]])*(Hin_T[[S-år]:[S-år]]>=Medel_T[[#This Row],[Slut]:[Slut]])*Hin_T[[Dag]:[Dag]]*Hin_T[4AM])/Medel_T[[#This Row],[Dag sum]],-1)","v":-1},{"$f":"IFERROR(SUMPRODUCT((Hin_T[[B-år]:[B-år]]<=Medel_T[[#This Row],[Start]:[Start]])*(Hin_T[[S-år]:[S-år]]>=Medel_T[[#This Row],[Slut]:[Slut]])*Hin_T[15AM]*Hin_T[[Dag]:[Dag]])/Medel_T[[#This Row],[Dag sum]],-1)","v":-1},{"$f":"IFERROR(SUMPRODUCT((Hin_T[[B-år]:[B-år]]<=Medel_T[[#This Row],[Start]:[Start]])*(Hin_T[[S-år]:[S-år]]>=Medel_T[[#This Row],[Slut]:[Slut]])*Hin_T[[Dag]:[Dag]]*Hin_T[20-10D])/Medel_T[[#This Row],[Dag sum]],-1)","v":-1},{"$f":"IFERROR(Medel_T[[#This Row],[Dag sum]:[Dag sum]]*Medel_T[[#This Row],[År]:[År]]*Medel_T[[#This Row],[HöA T]]*DÅ[Arbetsdag/år],0)","v":0},{"$f":"IFERROR(Medel_T[[#This Row],[Dag sum]:[Dag sum]]*Medel_T[[#This Row],[År]:[År]]*Medel_T[[#This Row],[AöA T]]*DÅ[Arbetsdag/år],0)","v":0},{"$f":"IFERROR(Medel_T[[#This Row],[Dag sum]:[Dag sum]]*Medel_T[[#This Row],[År]:[År]]*Medel_T[[#This Row],[4AM T]]*DÅ[Arbetsdag/år],0)","v":0},{"$f":"IFERROR(Medel_T[[#This Row],[Dag sum]:[Dag sum]]*Medel_T[[#This Row],[År]:[År]]*Medel_T[[#This Row],[15AM T]]*DÅ[Arbetsdag/år],0)","v":0},{"$f":"IFERROR(Medel_T[[#This Row],[Dag sum]:[Dag sum]]*Medel_T[[#This Row],[År]:[År]]*Medel_T[[#This Row],[20-10D T]]*DÅ[Arbetsdag/år],0)","v":0},{"$f":"IFERROR(Medel_T[[#This Row],[Dag sum]:[Dag sum]]*Medel_T[[#This Row],[ÅrSjuk]:[ÅrSjuk]]*Medel_T[[#This Row],[HöA T]]*DÅ[Arbetsdag/år],0)","v":0},{"$f":"IFERROR(Medel_T[[#This Row],[Dag sum]:[Dag sum]]*Medel_T[[#This Row],[ÅrSjuk]:[ÅrSjuk]]*Medel_T[[#This Row],[AöA T]]*DÅ[Arbetsdag/år],0)","v":0},{"$f":"IFERROR(Medel_T[[#This Row],[Dag sum]:[Dag sum]]*Medel_T[[#This Row],[ÅrSjuk]:[ÅrSjuk]]*Medel_T[[#This Row],[4AM T]]*DÅ[Arbetsdag/år],0)","v":0},{"$f":"IFERROR(Medel_T[[#This Row],[Dag sum]:[Dag sum]]*Medel_T[[#This Row],[ÅrSjuk]:[ÅrSjuk]]*Medel_T[[#This Row],[15AM T]]*DÅ[Arbetsdag/år],0)","v":0},{"$f":"IFERROR(Medel_T[[#This Row],[Dag sum]:[Dag sum]]*Medel_T[[#This Row],[ÅrSjuk]:[ÅrSjuk]]*Medel_T[[#This Row],[20-10D T]]*DÅ[Arbetsdag/år],0)","v":0},{"$f":"IFERROR(IF(Medel_T[[#This Row],[AöA T]]=0,\"\",List_T[List symb]&Exp_T[[#Headers],[Överarmslyft> 90°: ]]&IF(VALUE(TEXT(Medel_T[[#This Row],[AöA T]],\"t\"))>0,VALUE(TEXT(Medel_T[[#This Row],[AöA T]],\"t\"))&\" h\",\"\")&IF(AND(VALUE(TEXT(Medel_T[[#This Row],[AöA T]],\"t\"))>0,VALUE(TEXT(Medel_T[[#This Row],[AöA T]],\"m\"))>2.4),\" \",\"\")&IF(VALUE(TEXT(Medel_T[[#This Row],[AöA T]],\"m\"))>2.4,TEXT(ROUND(Medel_T[[#This Row],[AöA T]]*(24*60/5),0)/(24*60/5),\"m\")&\" min\",\"\")&\"/dag x \"&ROUND(Medel_T[[#This Row],[Dag sum]:[Dag sum]]*DÅ[Arbetsdag/år],0)&\" dagar x \"&ROUND(Medel_T[[#This Row],[År]:[År]],1)&\" år = \"&TEXT(ROUND(Medel_T[[#This Row],[D AöA§]]*24,1-(INT(LOG10(ABS(Medel_T[[#This Row],[D AöA§]]*24))))),\"0\"&IF(1-(INT(LOG10(ABS(Medel_T[[#This Row],[D AöA§]]*24))))>0,\",\"&REPT(\"0\",1-(INT(LOG10(ABS(Medel_T[[#This Row],[D AöA§]]*24))))),\"\"))& \" h\"),\"\")","v":""},{"$f":"IFERROR(IF(Medel_T[[#This Row],[15AM T]]=0,\"\",List_T[List symb]&Exp_T[[#Headers],[Överarmsrörelser> 15/min: ]]&IF(VALUE(TEXT(Medel_T[[#This Row],[15AM T]],\"t\"))>0,VALUE(TEXT(Medel_T[[#This Row],[15AM T]],\"t\"))&\" h\",\"\")&IF(AND(VALUE(TEXT(Medel_T[[#This Row],[15AM T]],\"t\"))>0,VALUE(TEXT(Medel_T[[#This Row],[15AM T]],\"m\"))>2.4),\" \",\"\")&IF(VALUE(TEXT(Medel_T[[#This Row],[15AM T]],\"m\"))>2.4,TEXT(ROUND(Medel_T[[#This Row],[15AM T]]*(24*60/5),0)/(24*60/5),\"m\")&\" min\",\"\")&\"/dag x \"&ROUND(Medel_T[[#This Row],[Dag sum]:[Dag sum]]*DÅ[Arbetsdag/år],0)&\" dagar x \"&ROUND(Medel_T[[#This Row],[År]:[År]],1)&\" år = \"&TEXT(ROUND(Medel_T[[#This Row],[D 15AM§]]*24,1-(INT(LOG10(ABS(Medel_T[[#This Row],[D 15AM§]]*24))))),\"0\"&IF(1-(INT(LOG10(ABS(Medel_T[[#This Row],[D 15AM§]]*24))))>0,\",\"&REPT(\"0\",1-(INT(LOG10(ABS(Medel_T[[#This Row],[D 15AM§]]*24))))),\"\"))& \" h\"),\"\")","v":""},{"$f":"IFERROR(IF(OR(LEN(Medel_T[[#This Row],[AöA text]])>0,LEN(Medel_T[[#This Row],[15AM Text]])>0),Exp_T[Anställning]&YEAR(Medel_T[[#This Row],[Start]])&List_T[[#Totals],[List symb]]&YEAR(Medel_T[[#This Row],[Slut]])&\" (\"&ROUND(Medel_T[[#This Row],[År]],1)&\" år)\"&IF(LEN(Medel_T[[#This Row],[AöA text]])>0,↓[↓],\"\")&Medel_T[[#This Row],[AöA text]]&IF(LEN(Medel_T[[#This Row],[15AM Text]])>0,↓[↓],\"\")&Medel_T[[#This Row],[15AM Text]],\"\"),\"\")","v":""},{"$f":"IFERROR(IF(Medel_T[[#This Row],[AöA T]]=0,\"\",List_T[List symb]&Exp_T[[#Headers],[Överarmsrörelser> 15/min: ]]&IF(VALUE(TEXT(Medel_T[[#This Row],[AöA T]],\"t\"))>0,VALUE(TEXT(Medel_T[[#This Row],[AöA T]],\"t\"))&\" h\",\"\")&IF(AND(VALUE(TEXT(Medel_T[[#This Row],[AöA T]],\"t\"))>0,VALUE(TEXT(Medel_T[[#This Row],[AöA T]],\"m\"))>2.4),\" \",\"\")&IF(VALUE(TEXT(Medel_T[[#This Row],[AöA T]],\"m\"))>2.4,TEXT(ROUND(Medel_T[[#This Row],[AöA T]]*(24*60/5),0)/(24*60/5),\"m\")&\" min\",\"\")&\"/dag x \"&ROUND(Medel_T[[#This Row],[Dag sum]:[Dag sum]]*DÅ[Arbetsdag/år],0)&\" dagar x \"&ROUND(Medel_T[[#This Row],[År]:[År]],1)&\" år = \"&TEXT(ROUND(Medel_T[[#This Row],[D AöA¤]]*24,1-(INT(LOG10(ABS(Medel_T[[#This Row],[D AöA¤]]*24))))),\"0\"&IF(1-(INT(LOG10(ABS(Medel_T[[#This Row],[D AöA¤]]*24))))>0,\",\"&REPT(\"0\",1-(INT(LOG10(ABS(Medel_T[[#This Row],[D AöA¤]]*24))))),\"\"))& \" h\"),\"\")","v":""},{"$f":"IFERROR(IF(Medel_T[[#This Row],[15AM T]]=0,\"\",List_T[List symb]&Exp_T[[#Headers],[Överarmslyft> 90°: ]]&IF(VALUE(TEXT(Medel_T[[#This Row],[15AM T]],\"t\"))>0,VALUE(TEXT(Medel_T[[#This Row],[15AM T]],\"t\"))&\" h\",\"\")&IF(AND(VALUE(TEXT(Medel_T[[#This Row],[15AM T]],\"t\"))>0,VALUE(TEXT(Medel_T[[#This Row],[15AM T]],\"m\"))>0),\" \",\"\")&IF(VALUE(TEXT(Medel_T[[#This Row],[15AM T]],\"m\"))>0,TEXT(ROUND(Medel_T[[#This Row],[15AM T]]*(24*60/5),0)/(24*60/5),\"m\")&\" min\",\"\")&\"/dag x \"&ROUND(Medel_T[[#This Row],[Dag sum]:[Dag sum]]*DÅ[Arbetsdag/år],0)&\" dagar x \"&ROUND(Medel_T[[#This Row],[År]:[År]],1)&\" år = \"&TEXT(ROUND(Medel_T[[#This Row],[D 15AM¤]]*24,1-(INT(LOG10(ABS(Medel_T[[#This Row],[D 15AM¤]]*24))))),\"0\"&IF(1-(INT(LOG10(ABS(Medel_T[[#This Row],[D 15AM¤]]*24))))>0,\",\"&REPT(\"0\",1-(INT(LOG10(ABS(Medel_T[[#This Row],[D 15AM¤]]*24))))),\"\"))& \" h\"),\"\")","v":""},{"$f":"IFERROR(IF(LEN(Medel_T[[#This Row],[SJDstart]])>0,Exp_T[Anställning]&↓[↓]&YEAR(Medel_T[[#This Row],[Start]])&List_T[[#Totals],[List symb]]&YEAR(Medel_T[[#This Row],[Slut]])&\" (\"&ROUND(Medel_T[[#This Row],[År]],1)&\" år)\"&IF(LEN(Medel_T[[#This Row],[AöA text Sjuk]])>0,↓[↓],\"\")&Medel_T[[#This Row],[AöA text Sjuk]]&IF(LEN(Medel_T[[#This Row],[15AM Text Sjuk]])>0,↓[↓],\"\")&Medel_T[[#This Row],[15AM Text Sjuk]],\"\"),\"\")","v":""},{"$f":"IFERROR(Medel_T[[#This Row],[Period ]]&Medel_T[[#This Row],[ArbMomText]]&Medel_T[[#This Row],[Text]],\"\")","v":""},{"$f":"IF(AND(DJ39>=MAX(Medel_T[NrX]),ISNUMBER(DJ39)),Medel_T[[#Totals],[NrX]]+ROW()-ROW(Medel_T[[#Headers],[Rad]])-Medel_T[[#Totals],[Ant]]-1,INDEX(Medel_T[NrX],MATCH(ROW()-ROW(Medel_T[[#Headers],[Rad]]),Medel_T[NrX],0)))","v":{"$error":"#N/A"}},{"$f":"IF(Medel_T[[#This Row],[Rad]]<=Medel_T[[#Totals],[Ant]],MATCH(Medel_T[[#This Row],[Rad]],Medel_T[NrX],0),IFERROR(INDEX(BD_TX[[#Data],[#Totals],[SJ]],MATCH(Medel_T[[#This Row],[Rad]],BD_TX[[#Data],[#Totals],[Nr]],0)),\"\"))","v":{"$error":"#N/A"}},{"$f":"LEN(Medel_T[[#This Row],[Yrke2]])-LEN(SUBSTITUTE(Medel_T[[#This Row],[Yrke2]],LEFT(Sep_T[Separator],1),\"\"))","v":0},{"$f":"INDEX(Medel_T[År],Medel_T[[#This Row],[Nr]])","v":{"$error":"#N/A"}},{"$f":"IFERROR(IF(LEN(Medel_T[[#This Row],[Nr]])>0,TEXT(IFERROR(INDEX(Medel_T[Start],Medel_T[[#This Row],[Nr]]),INDEX(BD_TX[[#Data],[#Totals],[Start]],MATCH(Medel_T[[#This Row],[Rad]],BD_TX[[#Data],[#Totals],[Nr]],0))),\"ÅÅÅÅ MMM\")&\"-\"&TEXT(IFERROR(INDEX(Medel_T[Slut],Medel_T[[#This Row],[Nr]]),INDEX(BD_TX[[#Data],[#Totals],[År]],MATCH(Medel_T[[#This Row],[Rad]],BD_TX[[#Data],[#Totals],[Nr]],0))),\"ÅÅÅÅ MMM\"),\"\"),\"\")","v":""},{"$f":"IFERROR(IF(LEN(Medel_T[[#This Row],[Nr]])>0,IF(Medel_T[[#This Row],[Rad]]>Medel_T[[#Totals],[Ant]],IFERROR(INDEX(BD_TX[[#Data],[#Totals],[Text]],MATCH(Medel_T[[#This Row],[Rad]],BD_TX[[#Data],[#Totals],[Nr]],0)),\"\"),INDEX(Medel_T[Yrke],Medel_T[[#This Row],[Nr]])),\"\"),\"\")","v":""},{"$f":"IFERROR(INDEX(Medel_T[Arbetsmoment],MATCH(ROW()-ROW(Medel_T[[#Headers],[Arbetsmoment2]]),Medel_T[[NrX]:[NrX]],0)),\"\")","v":""},{"$f":"IFERROR(INDEX(Medel_T[],Medel_T[[#This Row],[Nr]],Medel_T[[#Totals],[HöA_T]]),\"\")","v":""},{"$f":"IF(LEN(Medel_T[[#This Row],[Nr]:[Nr]])>0,IFERROR(TEXT(ROUND(24*IFERROR(INDEX(Medel_T[],Medel_T[[#This Row],[Nr]:[Nr]],Medel_T[[#Totals],[D HöA]]),INDEX(Sum_T[[#Data],[#Totals]],MATCH(Medel_T[[#This Row],[Nr]:[Nr]],Sum_T[[#Data],[#Totals],[Typ]:[Typ]],0),MATCH(Medel_T[[#Headers],[D HöA]],Sum_T[#Headers],0))),1-(INT(LOG10(ABS(24*IFERROR(INDEX(Medel_T[],Medel_T[[#This Row],[Nr]:[Nr]],Medel_T[[#Totals],[D HöA]]),INDEX(Sum_T[[#Data],[#Totals]],MATCH(Medel_T[[#This Row],[Nr]:[Nr]],Sum_T[[#Data],[#Totals],[Typ]:[Typ]],0),MATCH(Medel_T[[#Headers],[D HöA]],Sum_T[#Headers],0)))))))),\"0\"&IF(1-(INT(LOG10(ABS(24*IFERROR(INDEX(Medel_T[],Medel_T[[#This Row],[Nr]:[Nr]],Medel_T[[#Totals],[D HöA]]),INDEX(Sum_T[[#Data],[#Totals]],MATCH(Medel_T[[#This Row],[Nr]:[Nr]],Sum_T[[#Data],[#Totals],[Typ]:[Typ]],0),MATCH(Medel_T[[#Headers],[D HöA]],Sum_T[#Headers],0)))))))>0,\",\"&REPT(\"0\",1-(INT(LOG10(ABS(24*IFERROR(INDEX(Medel_T[],Medel_T[[#This Row],[Nr]:[Nr]],Medel_T[[#Totals],[D HöA]]),INDEX(Sum_T[[#Data],[#Totals]],MATCH(Medel_T[[#This Row],[Nr]:[Nr]],Sum_T[[#Data],[#Totals],[Typ]:[Typ]],0),MATCH(Medel_T[[#Headers],[D HöA]],Sum_T[#Headers],0)))))))),0)),0),\"\")","v":{"$error":"#N/A"}},{"$f":"IFERROR(INDEX(Medel_T[],Medel_T[[#This Row],[Nr]],Medel_T[[#Totals],[AÖA_T]]),\"\")","v":""},{"$f":"IFERROR(IF(LEN(Medel_T[[#This Row],[Nr]:[Nr]])>0,IFERROR(TEXT(ROUND(24*IFERROR(INDEX(Medel_T[],Medel_T[[#This Row],[Nr]:[Nr]],Medel_T[[#Totals],[D AöA]]),INDEX(Sum_T[[#Data],[#Totals]],MATCH(Medel_T[[#This Row],[Nr]:[Nr]],Sum_T[[#Data],[#Totals],[Typ]:[Typ]],0),MATCH(Medel_T[[#Headers],[D AöA]],Sum_T[#Headers],0))),1-(INT(LOG10(ABS(24*IFERROR(INDEX(Medel_T[],Medel_T[[#This Row],[Nr]:[Nr]],Medel_T[[#Totals],[D AöA]]),INDEX(Sum_T[[#Data],[#Totals]],MATCH(Medel_T[[#This Row],[Nr]:[Nr]],Sum_T[[#Data],[#Totals],[Typ]:[Typ]],0),MATCH(Medel_T[[#Headers],[D AöA]],Sum_T[#Headers],0)))))))),\"0\"&IF(1-(INT(LOG10(ABS(24*IFERROR(INDEX(Medel_T[],Medel_T[[#This Row],[Nr]:[Nr]],Medel_T[[#Totals],[D AöA]]),INDEX(Sum_T[[#Data],[#Totals]],MATCH(Medel_T[[#This Row],[Nr]:[Nr]],Sum_T[[#Data],[#Totals],[Typ]:[Typ]],0),MATCH(Medel_T[[#Headers],[D AöA]],Sum_T[#Headers],0)))))))>0,\",\"&REPT(\"0\",1-(INT(LOG10(ABS(24*IFERROR(INDEX(Medel_T[],Medel_T[[#This Row],[Nr]:[Nr]],Medel_T[[#Totals],[D AöA]]),INDEX(Sum_T[[#Data],[#Totals]],MATCH(Medel_T[[#This Row],[Nr]:[Nr]],Sum_T[[#Data],[#Totals],[Typ]:[Typ]],0),MATCH(Medel_T[[#Headers],[D AöA]],Sum_T[#Headers],0)))))))),0)),0),\"\"),\"\")","v":""},{"$f":"IFERROR(INDEX(Medel_T[],Medel_T[[#This Row],[Nr]],Medel_T[[#Totals],[4AM_T]]),\"\")","v":""},{"$f":"IF(LEN(Medel_T[[#This Row],[Nr]:[Nr]])>0,IFERROR(TEXT(ROUND(24*IFERROR(INDEX(Medel_T[],Medel_T[[#This Row],[Nr]:[Nr]],Medel_T[[#Totals],[D 4AM]]),INDEX(Sum_T[[#Data],[#Totals]],MATCH(Medel_T[[#This Row],[Nr]:[Nr]],Sum_T[[#Data],[#Totals],[Typ]:[Typ]],0),MATCH(Medel_T[[#Headers],[D 4AM]],Sum_T[#Headers],0))),1-(INT(LOG10(ABS(24*IFERROR(INDEX(Medel_T[],Medel_T[[#This Row],[Nr]:[Nr]],Medel_T[[#Totals],[D 4AM]]),INDEX(Sum_T[[#Data],[#Totals]],MATCH(Medel_T[[#This Row],[Nr]:[Nr]],Sum_T[[#Data],[#Totals],[Typ]:[Typ]],0),MATCH(Medel_T[[#Headers],[D 4AM]],Sum_T[#Headers],0)))))))),\"0\"&IF(1-(INT(LOG10(ABS(24*IFERROR(INDEX(Medel_T[],Medel_T[[#This Row],[Nr]:[Nr]],Medel_T[[#Totals],[D 4AM]]),INDEX(Sum_T[[#Data],[#Totals]],MATCH(Medel_T[[#This Row],[Nr]:[Nr]],Sum_T[[#Data],[#Totals],[Typ]:[Typ]],0),MATCH(Medel_T[[#Headers],[D 4AM]],Sum_T[#Headers],0)))))))>0,\",\"&REPT(\"0\",1-(INT(LOG10(ABS(24*IFERROR(INDEX(Medel_T[],Medel_T[[#This Row],[Nr]:[Nr]],Medel_T[[#Totals],[D 4AM]]),INDEX(Sum_T[[#Data],[#Totals]],MATCH(Medel_T[[#This Row],[Nr]:[Nr]],Sum_T[[#Data],[#Totals],[Typ]:[Typ]],0),MATCH(Medel_T[[#Headers],[D 4AM]],Sum_T[#Headers],0)))))))),0)),0),\"\")","v":{"$error":"#N/A"}},{"$f":"IFERROR(INDEX(Medel_T[],Medel_T[[#This Row],[Nr]],Medel_T[[#Totals],[15AM_T]]),\"\")","v":""},{"$f":"IFERROR(IF(LEN(Medel_T[[#This Row],[Nr]:[Nr]])>0,IFERROR(TEXT(ROUND(24*IFERROR(INDEX(Medel_T[],Medel_T[[#This Row],[Nr]:[Nr]],Medel_T[[#Totals],[D 15AM]]),INDEX(Sum_T[[#Data],[#Totals]],MATCH(Medel_T[[#This Row],[Nr]:[Nr]],Sum_T[[#Data],[#Totals],[Typ]:[Typ]],0),MATCH(Medel_T[[#Headers],[D 15AM]],Sum_T[#Headers],0))),1-(INT(LOG10(ABS(24*IFERROR(INDEX(Medel_T[],Medel_T[[#This Row],[Nr]:[Nr]],Medel_T[[#Totals],[D 15AM]]),INDEX(Sum_T[[#Data],[#Totals]],MATCH(Medel_T[[#This Row],[Nr]:[Nr]],Sum_T[[#Data],[#Totals],[Typ]:[Typ]],0),MATCH(Medel_T[[#Headers],[D 15AM]],Sum_T[#Headers],0)))))))),\"0\"&IF(1-(INT(LOG10(ABS(24*IFERROR(INDEX(Medel_T[],Medel_T[[#This Row],[Nr]:[Nr]],Medel_T[[#Totals],[D 15AM]]),INDEX(Sum_T[[#Data],[#Totals]],MATCH(Medel_T[[#This Row],[Nr]:[Nr]],Sum_T[[#Data],[#Totals],[Typ]:[Typ]],0),MATCH(Medel_T[[#Headers],[D 15AM]],Sum_T[#Headers],0)))))))>0,\",\"&REPT(\"0\",1-(INT(LOG10(ABS(24*IFERROR(INDEX(Medel_T[],Medel_T[[#This Row],[Nr]:[Nr]],Medel_T[[#Totals],[D 15AM]]),INDEX(Sum_T[[#Data],[#Totals]],MATCH(Medel_T[[#This Row],[Nr]:[Nr]],Sum_T[[#Data],[#Totals],[Typ]:[Typ]],0),MATCH(Medel_T[[#Headers],[D 15AM]],Sum_T[#Headers],0)))))))),0)),0),\"\"),\"\")","v":""},{"$f":"IFERROR(INDEX(Medel_T[],Medel_T[[#This Row],[Nr]],Medel_T[[#Totals],[20-10D_T]]),\"\")","v":""},{"$f":"IF(LEN(Medel_T[[#This Row],[Nr]:[Nr]])>0,IFERROR(TEXT(ROUND(24*IFERROR(INDEX(Medel_T[],Medel_T[[#This Row],[Nr]:[Nr]],Medel_T[[#Totals],[D 20-10D]]),INDEX(Sum_T[[#Data],[#Totals]],MATCH(Medel_T[[#This Row],[Nr]:[Nr]],Sum_T[[#Data],[#Totals],[Typ]:[Typ]],0),MATCH(Medel_T[[#Headers],[D 20-10D]],Sum_T[#Headers],0))),1-(INT(LOG10(ABS(24*IFERROR(INDEX(Medel_T[],Medel_T[[#This Row],[Nr]:[Nr]],Medel_T[[#Totals],[D 20-10D]]),INDEX(Sum_T[[#Data],[#Totals]],MATCH(Medel_T[[#This Row],[Nr]:[Nr]],Sum_T[[#Data],[#Totals],[Typ]:[Typ]],0),MATCH(Medel_T[[#Headers],[D 20-10D]],Sum_T[#Headers],0)))))))),\"0\"&IF(1-(INT(LOG10(ABS(24*IFERROR(INDEX(Medel_T[],Medel_T[[#This Row],[Nr]:[Nr]],Medel_T[[#Totals],[D 20-10D]]),INDEX(Sum_T[[#Data],[#Totals]],MATCH(Medel_T[[#This Row],[Nr]:[Nr]],Sum_T[[#Data],[#Totals],[Typ]:[Typ]],0),MATCH(Medel_T[[#Headers],[D 20-10D]],Sum_T[#Headers],0)))))))>0,\",\"&REPT(\"0\",1-(INT(LOG10(ABS(24*IFERROR(INDEX(Medel_T[],Medel_T[[#This Row],[Nr]:[Nr]],Medel_T[[#Totals],[D 20-10D]]),INDEX(Sum_T[[#Data],[#Totals]],MATCH(Medel_T[[#This Row],[Nr]:[Nr]],Sum_T[[#Data],[#Totals],[Typ]:[Typ]],0),MATCH(Medel_T[[#Headers],[D 20-10D]],Sum_T[#Headers],0)))))))),0)),0),\"\")","v":{"$error":"#N/A"}},null,{"$f":"IFERROR(INDEX(Hin_T[Nr],MATCH(SMALL(Hin_T[B-årX],ROW()-ROW(Hut_T[[#Headers],[Rad]])),Hin_T[B-årX],0)),IF(ROWS($EB$19:EB40)=1+COUNTIF(Hin_T[Start],\"*\"),Hin_T[[#Totals],[Dag]],IF(AND(ROWS($EB$19:EB40)=2+COUNTIF(Hin_T[Start],\"*\"),Hin_T[[#Totals],[Q%-]]>0),EB39+1,IF(AND(ROWS($EB$19:EB40)=3+COUNTIF(Hin_T[Start],\"*\"),Hin_T[[#Totals],[Q%-]]>1),EB39+1,IF(AND(ROWS($EB$19:EB40)=4+COUNTIF(Hin_T[Start],\"*\"),Hin_T[[#Totals],[Q%-]]>2),EB39+1,\"\")))))","v":""},{"$f":"IF(Hut_T[[#This Row],[Rad]]<Hin_T[[#Totals],[Dag]],ROWS($EB$19:EB40),IFERROR(INDEX(BD_TX[[#Data],[#Totals],[SJ]],MATCH(Hut_T[[#This Row],[Rad]],BD_TX[[#Data],[#Totals],[NrX]],0)),\"\"))","v":""},{"$f":"IF(ISNUMBER(Hut_T[[#This Row],[Datum-]]),TEXT(Hut_T[[#This Row],[Datum-]],\"ÅÅÅÅ MMM\")&\"-\"&TEXT(Hut_T[[#This Row],[Datum+]],\"ÅÅÅÅ MMM\"),\"\")","v":""},{"$f":"IF(ISNUMBER(Hut_T[[#This Row],[Nr]]),IF(INDEX(Hin_T[Yrke],Hut_T[[#This Row],[Rad]])>0,INDEX(Hin_T[Yrke],Hut_T[[#This Row],[Rad]]),\"\"),IFERROR(INDEX(BD_TX[[#Data],[#Totals],[Text]],MATCH(Hut_T[[#This Row],[Rad]],BD_TX[[#Data],[#Totals],[NrX]],0)),\"\"))","v":""},{"$f":"IF(ISNUMBER(Hut_T[[#This Row],[Nr]]),IF(INDEX(Hin_T[Arbetsmoment],Hut_T[[#This Row],[Rad]])>0,INDEX(Hin_T[Arbetsmoment],Hut_T[[#This Row],[Rad]]),\"\"),\"\")","v":""},{"$f":"IFERROR(IF(INDEX(Hin_T[Yrke],Hut_T[[#This Row],[Rad]])>0,INDEX(Hin_T[Företag],Hut_T[[#This Row],[Rad]]),\"\"),\"\")","v":""},{"$f":"IFERROR(IF(INDEX(Hin_T[Dag],Hut_T[[#This Row],[Rad]])>0,INDEX(Hin_T[Dag],Hut_T[[#This Row],[Rad]])*DÅ[Arbetsdag/år],\"\"),\"\")","v":""},{"$f":"IF(AND(ISNUMBER(_xlfn.SINGLE(Hut_T[[#This Row],[Rad]:[Rad]])),IFERROR(_xlfn.SINGLE(INDEX(Hin_T[[#Data],[#Totals]],_xlfn.SINGLE(Hut_T[[#This Row],[Rad]:[Rad]]),MATCH(Hut_T[[#Headers],[D HöA]],Hin_T[#Headers],0))),\"\")),IFERROR(ROUND(_xlfn.SINGLE(INDEX(Hin_T[[#Data],[#Totals]],_xlfn.SINGLE(Hut_T[[#This Row],[Rad]:[Rad]])-IF(_xlfn.SINGLE(Hut_T[[#This Row],[Nr]:[Nr]])=_xlfn.SINGLE(#REF!),COUNT(Besvär_T[[Sjukdomsdebut]:[Sjukdomsdebut]]),0),MATCH(_xlfn.SINGLE(IF(_xlfn.SINGLE(Hut_T[[#This Row],[Nr]:[Nr]])=_xlfn.SINGLE(#REF!),#REF!,\"\"))&Hut_T[[#Headers],[D HöA]],Hin_T[#Headers],0))),0),\"\"),\"\")","v":""},{"$f":"IF(AND(ISNUMBER(Hut_T[[#This Row],[Rad]:[Rad]]),ISNUMBER(Hut_T[[#This Row],[D HöA]]),ISNUMBER(Hut_T[[#This Row],[Nr]:[Nr]])),IFERROR(ROUND(INDEX(Hin_T[[#Data],[#Totals]],Hut_T[[#This Row],[Rad]:[Rad]],MATCH(Hut_T[[#Headers],[HöA-A]],Hin_T[#Headers],0)),1-(INT(LOG10(INDEX(Hin_T[[#Data],[#Totals]],Hut_T[[#This Row],[Rad]:[Rad]],MATCH(Hut_T[[#Headers],[HöA-A]],Hin_T[#Headers],0)))))),1),\"\")","v":""},{"$f":"IF(AND(ISNUMBER(Hut_T[[#This Row],[Rad]:[Rad]]),IFERROR(INDEX(Hin_T[[#Data],[#Totals]],Hut_T[[#This Row],[Rad]:[Rad]],MATCH(Hut_T[[#Headers],[D AöA]],Hin_T[#Headers],0)),\"\")),IFERROR(ROUND(INDEX(Hin_T[[#Data],[#Totals]],Hut_T[[#This Row],[Rad]:[Rad]]-IF(Hut_T[[#This Row],[Nr]:[Nr]]=BD_TX[[SJ]:[SJ]],COUNT(Besvär_T[[Sjukdomsdebut]:[Sjukdomsdebut]]),0),MATCH(IF(Hut_T[[#This Row],[Nr]:[Nr]]=BD_TX[[#Totals],[SJ]:[SJ]],BD_TX[[#Headers],[SJ]],\"\")&Hut_T[[#Headers],[D AöA]],Hin_T[#Headers],0)),0),\"\"),\"\")","v":""},{"$f":"IF(AND(ISNUMBER(Hut_T[[#This Row],[Rad]:[Rad]]),ISNUMBER(Hut_T[[#This Row],[D AöA]]),ISNUMBER(Hut_T[[#This Row],[Nr]:[Nr]])),IFERROR(ROUND(INDEX(Hin_T[[#Data],[#Totals]],Hut_T[[#This Row],[Rad]:[Rad]],MATCH(Hut_T[[#Headers],[AöA-A]],Hin_T[#Headers],0)),1-(INT(LOG10(INDEX(Hin_T[[#Data],[#Totals]],Hut_T[[#This Row],[Rad]:[Rad]],MATCH(Hut_T[[#Headers],[AöA-A]],Hin_T[#Headers],0)))))),1),\"\")","v":""},{"$f":"IF(AND(ISNUMBER(_xlfn.SINGLE(Hut_T[[#This Row],[Rad]:[Rad]])),IFERROR(_xlfn.SINGLE(INDEX(Hin_T[[#Data],[#Totals]],_xlfn.SINGLE(Hut_T[[#This Row],[Rad]:[Rad]]),MATCH(Hut_T[[#Headers],[D 4AM]],Hin_T[#Headers],0))),\"\")),IFERROR(ROUND(_xlfn.SINGLE(INDEX(Hin_T[[#Data],[#Totals]],_xlfn.SINGLE(Hut_T[[#This Row],[Rad]:[Rad]])-IF(_xlfn.SINGLE(Hut_T[[#This Row],[Nr]:[Nr]])=_xlfn.SINGLE(#REF!),COUNT(Besvär_T[[Sjukdomsdebut]:[Sjukdomsdebut]]),0),MATCH(_xlfn.SINGLE(IF(_xlfn.SINGLE(Hut_T[[#This Row],[Nr]:[Nr]])=_xlfn.SINGLE(#REF!),#REF!,\"\"))&Hut_T[[#Headers],[D 4AM]],Hin_T[#Headers],0))),0),\"\"),\"\")","v":""},{"$f":"IF(AND(ISNUMBER(Hut_T[[#This Row],[Rad]:[Rad]]),ISNUMBER(Hut_T[[#This Row],[D 4AM]]),ISNUMBER(Hut_T[[#This Row],[Nr]:[Nr]])),IFERROR(ROUND(INDEX(Hin_T[[#Data],[#Totals]],Hut_T[[#This Row],[Rad]:[Rad]],MATCH(Hut_T[[#Headers],[4AM-A]],Hin_T[#Headers],0)),1-(INT(LOG10(INDEX(Hin_T[[#Data],[#Totals]],Hut_T[[#This Row],[Rad]:[Rad]],MATCH(Hut_T[[#Headers],[4AM-A]],Hin_T[#Headers],0)))))),1),\"\")","v":""},{"$f":"IF(AND(ISNUMBER(Hut_T[[#This Row],[Rad]:[Rad]]),IFERROR(INDEX(Hin_T[[#Data],[#Totals]],Hut_T[[#This Row],[Rad]:[Rad]],MATCH(Hut_T[[#Headers],[D 15AM]],Hin_T[#Headers],0)),\"\")),IFERROR(ROUND(INDEX(Hin_T[[#Data],[#Totals]],Hut_T[[#This Row],[Rad]:[Rad]]-IF(Hut_T[[#This Row],[Nr]:[Nr]]=BD_TX[[SJ]:[SJ]],COUNT(Besvär_T[[Sjukdomsdebut]:[Sjukdomsdebut]]),0),MATCH(IF(Hut_T[[#This Row],[Nr]:[Nr]]=BD_TX[[#Totals],[SJ]:[SJ]],BD_TX[[#Headers],[SJ]],\"\")&Hut_T[[#Headers],[D 15AM]],Hin_T[#Headers],0)),0),\"\"),\"\")","v":""},{"$f":"IF(AND(ISNUMBER(Hut_T[[#This Row],[Rad]:[Rad]]),ISNUMBER(Hut_T[[#This Row],[D 15AM]]),ISNUMBER(Hut_T[[#This Row],[Nr]:[Nr]])),IFERROR(ROUND(INDEX(Hin_T[[#Data],[#Totals]],Hut_T[[#This Row],[Rad]:[Rad]],MATCH(Hut_T[[#Headers],[15AM-A]],Hin_T[#Headers],0)),1-(INT(LOG10(INDEX(Hin_T[[#Data],[#Totals]],Hut_T[[#This Row],[Rad]:[Rad]],MATCH(Hut_T[[#Headers],[15AM-A]],Hin_T[#Headers],0)))))),1),\"\")","v":""},{"$f":"IF(AND(ISNUMBER(Hut_T[[#This Row],[Rad]:[Rad]]),IFERROR(INDEX(Hin_T[[#Data],[#Totals]],Hut_T[[#This Row],[Rad]:[Rad]],MATCH(Hut_T[[#Headers],[D 20-10D]],Hin_T[#Headers],0)),\"\")),IFERROR(ROUND(INDEX(Hin_T[[#Data],[#Totals]],Hut_T[[#This Row],[Rad]:[Rad]]-IF(Hut_T[[#This Row],[Nr]:[Nr]]=BD_TX[[SJ]:[SJ]],COUNT(Besvär_T[[Sjukdomsdebut]:[Sjukdomsdebut]]),0),MATCH(IF(Hut_T[[#This Row],[Nr]:[Nr]]=BD_TX[[#Totals],[SJ]:[SJ]],BD_TX[[#Headers],[SJ]],\"\")&Hut_T[[#Headers],[D 20-10D]],Hin_T[#Headers],0)),0),\"\"),\"\")","v":""},{"$f":"IF(AND(ISNUMBER(Hut_T[[#This Row],[Rad]:[Rad]]),ISNUMBER(Hut_T[[#This Row],[D 20-10D]]),ISNUMBER(Hut_T[[#This Row],[Nr]:[Nr]])),IFERROR(ROUND(INDEX(Hin_T[[#Data],[#Totals]],Hut_T[[#This Row],[Rad]:[Rad]],MATCH(Hut_T[[#Headers],[20-10D-A]],Hin_T[#Headers],0)),1-(INT(LOG10(INDEX(Hin_T[[#Data],[#Totals]],Hut_T[[#This Row],[Rad]:[Rad]],MATCH(Hut_T[[#Headers],[20-10D-A]],Hin_T[#Headers],0)))))),1),\"\")","v":""},null,{"$f":"IFERROR(INDEX(Hin_T[[#Data],[#Totals],[B-år]],Hut_T[[#This Row],[Rad]]),IF(ISNUMBER(Hut_T[[#This Row],[Datum+]]),ET39,\"\"))","v":""},{"$f":"IFERROR(INDEX(Hin_T[S-år],Hut_T[[#This Row],[Rad]]),IFERROR(INDEX(BD_TX[[#Data],[#Totals],[År]],MATCH(Hut_T[[#This Row],[Rad]],BD_TX[[#Data],[#Totals],[NrX]],0)),\"\"))","v":""},null,{"$f":"ROWS($EW$20:EW40)","v":21},{"$f":"IFERROR(MATCH(Hist_Tab[[#This Row],[Ref]],Medel_T[NrX],0),1)","v":1},{"$f":"INT((ROW(Hist_Tab[[#This Row],[Ref]])-ROW(Hist_Tab[[#Headers],[Ref]])-1)/4)+1","v":6},{"$f":"COUNTIF($EY$19:EY40,Hist_Tab[[#This Row],[Ref]])","v":2},{"$f":"IFERROR(INDEX(Medel_T[Start],Hist_Tab[[#This Row],[Ref]]),_xlfn.AGGREGATE(4,6,Medel_T[Start]))","v":"00:00:00"},{"$f":"IFERROR(INDEX(Medel_T[Slut],Hist_Tab[[#This Row],[Ref]]),_xlfn.AGGREGATE(4,6,Medel_T[Slut]))","v":"00:00:00"},{"$f":"IF(EW39=0,Hist_Tab[[#This Row],[ÅrB]],IF(Hist_Tab[[#This Row],[per/p]]<2,Hist_Tab[[#This Row],[ÅrB]],Hist_Tab[[#This Row],[År S]]))","v":"00:00:00"},{"$f":"IF(Hist_Tab[[#This Row],[Rad]:[Rad]]=0,-1,IF($EY41>_xlfn.AGGREGATE(2,6,Medel_T[[Slut]:[Slut]]),0,INDEX(Medel_T[],Hist_Tab[[#This Row],[Ref]:[Ref]],MATCH(Hist_Tab[[#Headers],[HöA T]],Medel_T[#Headers],0))))","v":0},{"$f":"IF(Hist_Tab[[#This Row],[Rad]:[Rad]]=0,0,IF($EY41>_xlfn.AGGREGATE(2,6,Medel_T[[Slut]:[Slut]]),0,INDEX(Medel_T[],Hist_Tab[[#This Row],[Ref]:[Ref]],MATCH(Hist_Tab[[#Headers],[AöA T]],Medel_T[#Headers],0))))","v":0},{"$f":"IF(Hist_Tab[[#This Row],[Rad]:[Rad]]=0,0,IF($EY41>_xlfn.AGGREGATE(2,6,Medel_T[[Slut]:[Slut]]),0,INDEX(Medel_T[],Hist_Tab[[#This Row],[Ref]:[Ref]],MATCH(Hist_Tab[[#Headers],[4AM T]],Medel_T[#Headers],0))))","v":0},{"$f":"IF(Hist_Tab[[#This Row],[Rad]:[Rad]]=0,0,IF($EY41>_xlfn.AGGREGATE(2,6,Medel_T[[Slut]:[Slut]]),0,INDEX(Medel_T[],Hist_Tab[[#This Row],[Ref]:[Ref]],MATCH(Hist_Tab[[#Headers],[15AM T]],Medel_T[#Headers],0))))","v":0},{"$f":"IF(Hist_Tab[[#This Row],[Rad]:[Rad]]=0,0,IF($EY41>_xlfn.AGGREGATE(2,6,Medel_T[[Slut]:[Slut]]),0,INDEX(Medel_T[],Hist_Tab[[#This Row],[Ref]:[Ref]],MATCH(Hist_Tab[[#Headers],[20-10D T]],Medel_T[#Headers],0))))","v":0}]
[null,{"$f":"_xlfn.TEXTJOIN(\", \",TRUE,LOWER(_xlfn.UNIQUE(_xlfn.SORTBY(Hin_T[Yrke],Hin_T[B-år],1))))","v":""},{"$f":"SUBSTITUTE(_xlfn.TEXTJOIN(I[,],TRUE,LOWER(_xlfn.UNIQUE(IF(Hin_T[S-år]>=Besvär_T[[#Totals],[Sjukdomsdebut]],Hin_T[Yrke],\"\")))),\"0, \",\"\")","v":"0"},null,null,null,null,{"$f":"Besvär_T[Besvärsdebut Eleverade armar]","v":0},null,{"$f":"Besvär_T[Sjukdomsdebut]","v":0},null,{"$f":"Besvär_T[Besvärsdebut Repetitivt arbete]","v":0},null,{"$f":"IFERROR(IF(LEN(Hin_T[[#Totals],[AöA]])-LEN(SUBSTITUTE(Hin_T[[#Totals],[AöA]],\"-\",\"\"))=2,DATEVALUE(Hin_T[[#Totals],[AöA]]),IF(LEN(Hin_T[[#Totals],[AöA]])<5,DATEVALUE(Hin_T[[#Totals],[AöA]]&\"-06-06\"),DATEVALUE(LEFT(Hin_T[[#Totals],[AöA]],IF(LEN(Hin_T[[#Totals],[AöA]])>6,4,2))&\"-\"&MID(Hin_T[[#Totals],[AöA]],IF(LEN(Hin_T[[#Totals],[AöA]])>6,5,3),2)&\"-\"&RIGHT(Hin_T[[#Totals],[AöA]],2)))),Hin_T[[#Totals],[AöA]])","v":36683},{"$f":"IF(Hin_T[[#Totals],[15AM]]>=Hin_T[[#Totals],[B-år]],Hin_T[[#Totals],[15AM]],\"\")","v":36683},{"$f":"Besvär_T[Besvärsdebut Tung manuell hantering]","v":0},null,null,{"$f":"Hin_T[[#Totals],[Dag]]+IF(LEN(Besvär_T[Sjukdomsdebut])>0,1,0)","v":23},null,null,{"$f":"MIN(ISNUMBER(Hin_T[Start]),Hin_T[B-år])","v":"00:00:00"},{"$f":"MAX(Hin_T[S-år])","v":"00:00:00"},null,null,{"$f":"IF(ISNUMBER(Besvär_T[Besvärsdebut Eleverade armar]),1,0)+IF(ISNUMBER(Besvär_T[Besvärsdebut Repetitivt arbete]),2,0)+IF(ISNUMBER(Besvär_T[Besvärsdebut Tung manuell hantering]),4,0)","v":0},{"$f":"ROW()-ROW(Hin_T[[#Headers],[Dag]])","v":23},null,null,{"$f":"IF(ISNUMBER(Hin_T[[#Totals],[B-år EA]]),1,0)+IF(ISNUMBER(Hin_T[[#Totals],[B-år RA]]),1,0)+IF(ISNUMBER(Hin_T[[#Totals],[B-år TMH]]),1,0)","v":3},{"$f":"365.2425","v":365.24250000000001},{"$f":"SUMIF(Hin_T[År diff],\">0\",Hin_T[År diff])","v":0},{"$f":"SUMIF(Hin_T[tot år HöA],\">0\",Hin_T[tot år HöA])","v":0},{"$f":"SUMIF(Hin_T[tot år AöA],\">0\",Hin_T[tot år AöA])","v":0},{"$f":"IF(Hin_T[[#Totals],[S-år EA]]>=Hin_T[[#Totals],[B-år]],Hin_T[[#Totals],[S-år EA]],\"\")","v":"2000-06-06"},{"$f":"IFERROR(IF(LEN(Hin_T[[#Totals],[HöA]])-LEN(SUBSTITUTE(Hin_T[[#Totals],[HöA]],\"-\",\"\"))=2,DATEVALUE(Hin_T[[#Totals],[HöA]]),IF(LEN(Hin_T[[#Totals],[HöA]])<5,DATEVALUE(Hin_T[[#Totals],[HöA]]&\"-06-06\"),DATEVALUE(LEFT(Hin_T[[#Totals],[HöA]],IF(LEN(Hin_T[[#Totals],[HöA]])>6,4,2))&\"-\"&MID(Hin_T[[#Totals],[HöA]],IF(LEN(Hin_T[[#Totals],[HöA]])>6,5,3),2)&\"-\"&RIGHT(Hin_T[[#Totals],[HöA]],2)))),\"\")","v":"2000-06-06"},{"$f":"SUM(Hin_T[BD år HöA])","v":0},{"$f":"SUM(Hin_T[BD år AöA])","v":0},{"$f":"SUM(Hin_T[tot år 4AM])","v":0},{"$f":"SUM(Hin_T[tot år 15AM])","v":0},{"$f":"IF(Hin_T[[#Totals],[S-år RA]]>=Hin_T[[#Totals],[B-år]],Hin_T[[#Totals],[S-år RA]],\"\")","v":"2000-06-06"},{"$f":"IFERROR(IF(LEN(Hin_T[[#Totals],[4AM]])-LEN(SUBSTITUTE(Hin_T[[#Totals],[4AM]],\"-\",\"\"))=2,DATEVALUE(Hin_T[[#Totals],[4AM]]),IF(LEN(Hin_T[[#Totals],[4AM]])<5,DATEVALUE(Hin_T[[#Totals],[4AM]]&\"-06-06\"),DATEVALUE(LEFT(Hin_T[[#Totals],[4AM]],IF(LEN(Hin_T[[#Totals],[4AM]])>6,4,2))&\"-\"&MID(Hin_T[[#Totals],[4AM]],IF(LEN(Hin_T[[#Totals],[4AM]])>6,5,3),2)&\"-\"&RIGHT(Hin_T[[#Totals],[4AM]],2)))),\"\")","v":"2000-06-06"},{"$f":"SUM(Hin_T[BD år 4AM])","v":0},{"$f":"SUM(Hin_T[BD år 15AM])","v":0},{"$f":"SUM(Hin_T[tot år 20-10D])","v":0},{"$f":"IF(Hin_T[[#Totals],[S-år TMH]]>=Hin_T[[#Totals],[B-år]],Hin_T[[#Totals],[S-år TMH]],\"\")","v":"2000-06-06"},{"$f":"IFERROR(IF(LEN(Hin_T[[#Totals],[20-10D]])-LEN(SUBSTITUTE(Hin_T[[#Totals],[20-10D]],\"-\",\"\"))=2,DATEVALUE(Hin_T[[#Totals],[20-10D]]),IF(LEN(Hin_T[[#Totals],[20-10D]])<5,DATEVALUE(Hin_T[[#Totals],[20-10D]]&\"-06-06\"),DATEVALUE(LEFT(Hin_T[[#Totals],[20-10D]],IF(LEN(Hin_T[[#Totals],[20-10D]])>6,4,2))&\"-\"&MID(Hin_T[[#Totals],[20-10D]],IF(LEN(Hin_T[[#Totals],[20-10D]])>6,5,3),2)&\"-\"&RIGHT(Hin_T[[#Totals],[20-10D]],2)))),\"\")","v":"2000-06-06"},{"$f":"SUM(Hin_T[BD år 20-10D])","v":0},null,{"$f":"MAX(IF(Hin_T[tot år Vib]>0,Hin_T[S-år]))","v":"00:00:00"},null,null,null,{"$f":"SUM(Hin_T[D HöA])","v":0},{"$f":"SUM(Hin_T[D AöA])","v":0},{"$f":"SUM(Hin_T[D 4AM])","v":0},{"$f":"SUM(Hin_T[D 15AM])","v":0},{"$f":"SUM(Hin_T[D 20-10D])","v":0},{"$f":"SUM(Hin_T[SJD HöA])","v":0},{"$f":"SUM(Hin_T[SJD AöA])","v":0},{"$f":"SUM(Hin_T[SJD 4AM])","v":0},{"$f":"SUM(Hin_T[SJD 15AM])","v":0},{"$f":"SUM(Hin_T[SJD 20-10D])","v":0},null,null,null,null,null,null,null,{"$f":"SMALL(Hin_T[[StartÅR]:[SlutÅr]],ROW()-ROW(Medel_T[[#Headers],[Start]]))","v":{"$error":"#NUM!"}},{"$f":"SMALL(Hin_T[[StartÅR]:[SlutÅr]],ROW()-ROW(Medel_T[[#Headers],[Slut]])+1)","v":{"$error":"#NUM!"}},{"$f":"IF(Medel_T[[#This Row],[Start]]<=Besvär_T[[#Totals],[Sjukdomsdebut]],Medel_T[[#This Row],[Start]],\"\")","v":{"$error":"#NUM!"}},{"$f":"IF(Medel_T[[#This Row],[Slut]]<=Besvär_T[[#Totals],[Sjukdomsdebut]],Medel_T[[#This Row],[Slut]],IF(AND(LEN(Medel_T[[#This Row],[SJDstart]])>0,LEN(BU42)=0),Besvär_T[[#Totals],[Sjukdomsdebut]],\"\"))","v":{"$error":"#NUM!"}},{"$f":"IF(Medel_T[[#This Row],[Start]]>=Besvär_T[[#Totals],[Sjukdomsdebut]],Medel_T[[#This Row],[Start]],IF(AND(LEN(Medel_T[[#This Row],[EfterSlut]])>0,LEN(BX40)=0),Besvär_T[[#Totals],[Sjukdomsdebut]],\"\"))","v":{"$error":"#NUM!"}},{"$f":"IF(Medel_T[[#This Row],[Slut]]>=Besvär_T[[#Totals],[Sjukdomsdebut]],Medel_T[[#This Row],[Slut]],\"\")","v":{"$error":"#NUM!"}},{"$f":"COUNTIF($BZ$19:BZ41,\">0\")","v":0},{"$f":"COUNTIFS(Hin_T[B-år],\"<=\"&Medel_T[[#This Row],[Start]],Hin_T[S-år],\">=\"&Medel_T[[#This Row],[Slut]])","v":0},{"$f":"SUBSTITUTE(_xlfn.TEXTJOIN(Sep_T[Separator],TRUE,_xlfn._xlws.SORT(_xlfn.UNIQUE(IF((Hin_T[[B-år]:[B-år]]<=Medel_T[[#This Row],[Start]:[Start]])*(Hin_T[[S-år]:[S-år]]>=Medel_T[[#This Row],[Slut]:[Slut]]),Hin_T[Yrke],\"\")))),0&Sep_T[Separator],\"\")","v":{"$error":"#NUM!"}},{"$f":"SUBSTITUTE(_xlfn.TEXTJOIN(Sep_T[Separator],TRUE,_xlfn._xlws.SORT(_xlfn.UNIQUE(IF((Hin_T[[B-år]:[B-år]]<=Medel_T[[#This Row],[Start]:[Start]])*(Hin_T[[S-år]:[S-år]]>=Medel_T[[#This Row],[Slut]:[Slut]]),Hin_T[Arbetsmoment],\"\")))),0&Sep_T[Separator],\"\")","v":{"$error":"#NUM!"}},{"$f":"IF(LEN(Medel_T[[#This Row],[Yrke]])>0,Medel_T[[#Headers],[Period ]]&Medel_T[[#This Row],[NrX]]&\": \"&TEXT(Medel_T[[#This Row],[Start]],\"ÅÅÅÅ\")&List_T[[#Totals],[List symb]]&TEXT(Medel_T[[#This Row],[Slut]],\"ÅÅÅÅ\")&\" (\"&ROUND(Medel_T[[#This Row],[År]],1)&\" år) Anställd som \"&IFERROR(SUBSTITUTE(SUBSTITUTE(Medel_T[[#This Row],[Yrke]],Sep_T[Separator],\" och \",Medel_T[[#This Row],[Ant]]-1),Sep_T[Separator],\", \"),Medel_T[[#This Row],[Yrke]])&↓[↓],\"\")","v":{"$error":"#NUM!"}},{"$f":"IF(LEN(Medel_T[[#This Row],[Arbetsmoment]])>0,ROMAN(1)&\") \"&_xlfn.TEXTJOIN(Delim[Delimiters],TRUE,_xlfn._xlws.SORT(_xlfn.UNIQUE(IF((Hin_T[[B-år]:[B-år]]<=Medel_T[[#This Row],[Start]:[Start]])*(Hin_T[[S-år]:[S-år]]>=Medel_T[[#This Row],[Slut]:[Slut]]),Hin_T[Text],\"\"))))&↓[↓],\"\")","v":{"$error":"#NUM!"}},{"$f":"SUMPRODUCT((Hin_T[[B-år]:[B-år]]<=Medel_T[[#This Row],[Start]:[Start]])*(Hin_T[[S-år]:[S-år]]>=Medel_T[[#This Row],[Slut]:[Slut]])*Hin_T[Dag])","v":{"$error":"#NUM!"}},{"$f":"IF(Medel_T[[#This Row],[Proc dag]]<=1,Medel_T[[#This Row],[Proc dag]],1)","v":{"$error":"#NUM!"}},{"$f":"YEARFRAC(Medel_T[[#This Row],[Slut]],Medel_T[[#This Row],[Start]])","v":{"$error":"#NUM!"}},{"$f":"YEARFRAC(Medel_T[[#This Row],[SJDslut]],Medel_T[[#This Row],[SJDstart]])","v":{"$error":"#NUM!"}},{"$f":"IFERROR(SUMPRODUCT((Hin_T[[B-år]:[B-år]]<=Medel_T[[#This Row],[Start]:[Start]])*(Hin_T[[S-år]:[S-år]]>=Medel_T[[#This Row],[Slut]:[Slut]])*Hin_T[HöA]*Hin_T[[Dag]:[Dag]])/Medel_T[[#This Row],[Proc dag]],-1)","v":-1},{"$f":"IFERROR(SUMPRODUCT((Hin_T[[B-år]:[B-år]]<=Medel_T[[#This Row],[Start]:[Start]])*(Hin_T[[S-år]:[S-år]]>=Medel_T[[#This Row],[Slut]:[Slut]])*Hin_T[AöA]*Hin_T[[Dag]:[Dag]])/Medel_T[[#This Row],[Proc dag]],-1)","v":-1},{"$f":"IFERROR(SUMPRODUCT((Hin_T[[B-år]:[B-år]]<=Medel_T[[#This Row],[Start]:[Start]])*(Hin_T[[S-år]:[S-år]]>=Medel_T[[#This Row],[Slut]:[Slut]])*Hin_T[4AM]*Hin_T[[Dag]:[Dag]])/Medel_T[[#This Row],[Proc dag]],-1)","v":-1},{"$f":"IFERROR(SUMPRODUCT((Hin_T[[B-år]:[B-år]]<=Medel_T[[#This Row],[Start]:[Start]])*(Hin_T[[S-år]:[S-år]]>=Medel_T[[#This Row],[Slut]:[Slut]])*Hin_T[15AM]*Hin_T[[Dag]:[Dag]])/Medel_T[[#This Row],[Proc dag]],-1)","v":-1},{"$f":"IFERROR(SUMPRODUCT((Hin_T[[B-år]:[B-år]]<=Medel_T[[#This Row],[Start]:[Start]])*(Hin_T[[S-år]:[S-år]]>=Medel_T[[#This Row],[Slut]:[Slut]])*Hin_T[20-10D]*Hin_T[[Dag]:[Dag]])/Medel_T[[#This Row],[Proc dag]],-1)","v":-1},{"$f":"IFERROR(SUMPRODUCT((Hin_T[[B-år]:[B-år]]<=Medel_T[[#This Row],[Start]:[Start]])*(Hin_T[[S-år]:[S-år]]>=Medel_T[[#This Row],[Slut]:[Slut]])*Hin_T[[Dag]:[Dag]]*Hin_T[HöA])/Medel_T[[#This Row],[Dag sum]],-1)","v":-1},{"$f":"IFERROR(SUMPRODUCT((Hin_T[[B-år]:[B-år]]<=Medel_T[[#This Row],[Start]:[Start]])*(Hin_T[[S-år]:[S-år]]>=Medel_T[[#This Row],[Slut]:[Slut]])*Hin_T[[Dag]:[Dag]]*Hin_T[AöA])/Medel_T[[#This Row],[Dag sum]],-1)","v":-1},{"$f":"IFERROR(SUMPRODUCT((Hin_T[[B-år]:[B-år]]<=Medel_T[[#This Row],[Start]:[Start]])*(Hin_T[[S-år]:[S-år]]>=Medel_T[[#This Row],[Slut]:[Slut]])*Hin_T[[Dag]:[Dag]]*Hin_T[4AM])/Medel_T[[#This Row],[Dag sum]],-1)","v":-1},{"$f":"IFERROR(SUMPRODUCT((Hin_T[[B-år]:[B-år]]<=Medel_T[[#This Row],[Start]:[Start]])*(Hin_T[[S-år]:[S-år]]>=Medel_T[[#This Row],[Slut]:[Slut]])*Hin_T[15AM]*Hin_T[[Dag]:[Dag]])/Medel_T[[#This Row],[Dag sum]],-1)","v":-1},{"$f":"IFERROR(SUMPRODUCT((Hin_T[[B-år]:[B-år]]<=Medel_T[[#This Row],[Start]:[Start]])*(Hin_T[[S-år]:[S-år]]>=Medel_T[[#This Row],[Slut]:[Slut]])*Hin_T[[Dag]:[Dag]]*Hin_T[20-10D])/Medel_T[[#This Row],[Dag sum]],-1)","v":-1},{"$f":"IFERROR(Medel_T[[#This Row],[Dag sum]:[Dag sum]]*Medel_T[[#This Row],[År]:[År]]*Medel_T[[#This Row],[HöA T]]*DÅ[Arbetsdag/år],0)","v":0},{"$f":"IFERROR(Medel_T[[#This Row],[Dag sum]:[Dag sum]]*Medel_T[[#This Row],[År]:[År]]*Medel_T[[#This Row],[AöA T]]*DÅ[Arbetsdag/år],0)","v":0},{"$f":"IFERROR(Medel_T[[#This Row],[Dag sum]:[Dag sum]]*Medel_T[[#This Row],[År]:[År]]*Medel_T[[#This Row],[4AM T]]*DÅ[Arbetsdag/år],0)","v":0},{"$f":"IFERROR(Medel_T[[#This Row],[Dag sum]:[Dag sum]]*Medel_T[[#This Row],[År]:[År]]*Medel_T[[#This Row],[15AM T]]*DÅ[Arbetsdag/år],0)","v":0},{"$f":"IFERROR(Medel_T[[#This Row],[Dag sum]:[Dag sum]]*Medel_T[[#This Row],[År]:[År]]*Medel_T[[#This Row],[20-10D T]]*DÅ[Arbetsdag/år],0)","v":0},{"$f":"IFERROR(Medel_T[[#This Row],[Dag sum]:[Dag sum]]*Medel_T[[#This Row],[ÅrSjuk]:[ÅrSjuk]]*Medel_T[[#This Row],[HöA T]]*DÅ[Arbetsdag/år],0)","v":0},{"$f":"IFERROR(Medel_T[[#This Row],[Dag sum]:[Dag sum]]*Medel_T[[#This Row],[ÅrSjuk]:[ÅrSjuk]]*Medel_T[[#This Row],[AöA T]]*DÅ[Arbetsdag/år],0)","v":0},{"$f":"IFERROR(Medel_T[[#This Row],[Dag sum]:[Dag sum]]*Medel_T[[#This Row],[ÅrSjuk]:[ÅrSjuk]]*Medel_T[[#This Row],[4AM T]]*DÅ[Arbetsdag/år],0)","v":0},{"$f":"IFERROR(Medel_T[[#This Row],[Dag sum]:[Dag sum]]*Medel_T[[#This Row],[ÅrSjuk]:[ÅrSjuk]]*Medel_T[[#This Row],[15AM T]]*DÅ[Arbetsdag/år],0)","v":0},{"$f":"IFERROR(Medel_T[[#This Row],[Dag sum]:[Dag sum]]*Medel_T[[#This Row],[ÅrSjuk]:[ÅrSjuk]]*Medel_T[[#This Row],[20-10D T]]*DÅ[Arbetsdag/år],0)","v":0},{"$f":"IFERROR(IF(Medel_T[[#This Row],[AöA T]]=0,\"\",List_T[List symb]&Exp_T[[#Headers],[Överarmslyft> 90°: ]]&IF(VALUE(TEXT(Medel_T[[#This Row],[AöA T]],\"t\"))>0,VALUE(TEXT(Medel_T[[#This Row],[AöA T]],\"t\"))&\" h\",\"\")&IF(AND(VALUE(TEXT(Medel_T[[#This Row],[AöA T]],\"t\"))>0,VALUE(TEXT(Medel_T[[#This Row],[AöA T]],\"m\"))>2.4),\" \",\"\")&IF(VALUE(TEXT(Medel_T[[#This Row],[AöA T]],\"m\"))>2.4,TEXT(ROUND(Medel_T[[#This Row],[AöA T]]*(24*60/5),0)/(24*60/5),\"m\")&\" min\",\"\")&\"/dag x \"&ROUND(Medel_T[[#This Row],[Dag sum]:[Dag sum]]*DÅ[Arbetsdag/år],0)&\" dagar x \"&ROUND(Medel_T[[#This Row],[År]:[År]],1)&\" år = \"&TEXT(ROUND(Medel_T[[#This Row],[D AöA§]]*24,1-(INT(LOG10(ABS(Medel_T[[#This Row],[D AöA§]]*24))))),\"0\"&IF(1-(INT(LOG10(ABS(Medel_T[[#This Row],[D AöA§]]*24))))>0,\",\"&REPT(\"0\",1-(INT(LOG10(ABS(Medel_T[[#This Row],[D AöA§]]*24))))),\"\"))& \" h\"),\"\")","v":""},{"$f":"IFERROR(IF(Medel_T[[#This Row],[15AM T]]=0,\"\",List_T[List symb]&Exp_T[[#Headers],[Överarmsrörelser> 15/min: ]]&IF(VALUE(TEXT(Medel_T[[#This Row],[15AM T]],\"t\"))>0,VALUE(TEXT(Medel_T[[#This Row],[15AM T]],\"t\"))&\" h\",\"\")&IF(AND(VALUE(TEXT(Medel_T[[#This Row],[15AM T]],\"t\"))>0,VALUE(TEXT(Medel_T[[#This Row],[15AM T]],\"m\"))>2.4),\" \",\"\")&IF(VALUE(TEXT(Medel_T[[#This Row],[15AM T]],\"m\"))>2.4,TEXT(ROUND(Medel_T[[#This Row],[15AM T]]*(24*60/5),0)/(24*60/5),\"m\")&\" min\",\"\")&\"/dag x \"&ROUND(Medel_T[[#This Row],[Dag sum]:[Dag sum]]*DÅ[Arbetsdag/år],0)&\" dagar x \"&ROUND(Medel_T[[#This Row],[År]:[År]],1)&\" år = \"&TEXT(ROUND(Medel_T[[#This Row],[D 15AM§]]*24,1-(INT(LOG10(ABS(Medel_T[[#This Row],[D 15AM§]]*24))))),\"0\"&IF(1-(INT(LOG10(ABS(Medel_T[[#This Row],[D 15AM§]]*24))))>0,\",\"&REPT(\"0\",1-(INT(LOG10(ABS(Medel_T[[#This Row],[D 15AM§]]*24))))),\"\"))& \" h\"),\"\")","v":""},{"$f":"IFERROR(IF(OR(LEN(Medel_T[[#This Row],[AöA text]])>0,LEN(Medel_T[[#This Row],[15AM Text]])>0),Exp_T[Anställning]&YEAR(Medel_T[[#This Row],[Start]])&List_T[[#Totals],[List symb]]&YEAR(Medel_T[[#This Row],[Slut]])&\" (\"&ROUND(Medel_T[[#This Row],[År]],1)&\" år)\"&IF(LEN(Medel_T[[#This Row],[AöA text]])>0,↓[↓],\"\")&Medel_T[[#This Row],[AöA text]]&IF(LEN(Medel_T[[#This Row],[15AM Text]])>0,↓[↓],\"\")&Medel_T[[#This Row],[15AM Text]],\"\"),\"\")","v":""},{"$f":"IFERROR(IF(Medel_T[[#This Row],[AöA T]]=0,\"\",List_T[List symb]&Exp_T[[#Headers],[Överarmsrörelser> 15/min: ]]&IF(VALUE(TEXT(Medel_T[[#This Row],[AöA T]],\"t\"))>0,VALUE(TEXT(Medel_T[[#This Row],[AöA T]],\"t\"))&\" h\",\"\")&IF(AND(VALUE(TEXT(Medel_T[[#This Row],[AöA T]],\"t\"))>0,VALUE(TEXT(Medel_T[[#This Row],[AöA T]],\"m\"))>2.4),\" \",\"\")&IF(VALUE(TEXT(Medel_T[[#This Row],[AöA T]],\"m\"))>2.4,TEXT(ROUND(Medel_T[[#This Row],[AöA T]]*(24*60/5),0)/(24*60/5),\"m\")&\" min\",\"\")&\"/dag x \"&ROUND(Medel_T[[#This Row],[Dag sum]:[Dag sum]]*DÅ[Arbetsdag/år],0)&\" dagar x \"&ROUND(Medel_T[[#This Row],[År]:[År]],1)&\" år = \"&TEXT(ROUND(Medel_T[[#This Row],[D AöA¤]]*24,1-(INT(LOG10(ABS(Medel_T[[#This Row],[D AöA¤]]*24))))),\"0\"&IF(1-(INT(LOG10(ABS(Medel_T[[#This Row],[D AöA¤]]*24))))>0,\",\"&REPT(\"0\",1-(INT(LOG10(ABS(Medel_T[[#This Row],[D AöA¤]]*24))))),\"\"))& \" h\"),\"\")","v":""},{"$f":"IFERROR(IF(Medel_T[[#This Row],[15AM T]]=0,\"\",List_T[List symb]&Exp_T[[#Headers],[Överarmslyft> 90°: ]]&IF(VALUE(TEXT(Medel_T[[#This Row],[15AM T]],\"t\"))>0,VALUE(TEXT(Medel_T[[#This Row],[15AM T]],\"t\"))&\" h\",\"\")&IF(AND(VALUE(TEXT(Medel_T[[#This Row],[15AM T]],\"t\"))>0,VALUE(TEXT(Medel_T[[#This Row],[15AM T]],\"m\"))>0),\" \",\"\")&IF(VALUE(TEXT(Medel_T[[#This Row],[15AM T]],\"m\"))>0,TEXT(ROUND(Medel_T[[#This Row],[15AM T]]*(24*60/5),0)/(24*60/5),\"m\")&\" min\",\"\")&\"/dag x \"&ROUND(Medel_T[[#This Row],[Dag sum]:[Dag sum]]*DÅ[Arbetsdag/år],0)&\" dagar x \"&ROUND(Medel_T[[#This Row],[År]:[År]],1)&\" år = \"&TEXT(ROUND(Medel_T[[#This Row],[D 15AM¤]]*24,1-(INT(LOG10(ABS(Medel_T[[#This Row],[D 15AM¤]]*24))))),\"0\"&IF(1-(INT(LOG10(ABS(Medel_T[[#This Row],[D 15AM¤]]*24))))>0,\",\"&REPT(\"0\",1-(INT(LOG10(ABS(Medel_T[[#This Row],[D 15AM¤]]*24))))),\"\"))& \" h\"),\"\")","v":""},{"$f":"IFERROR(IF(LEN(Medel_T[[#This Row],[SJDstart]])>0,Exp_T[Anställning]&↓[↓]&YEAR(Medel_T[[#This Row],[Start]])&List_T[[#Totals],[List symb]]&YEAR(Medel_T[[#This Row],[Slut]])&\" (\"&ROUND(Medel_T[[#This Row],[År]],1)&\" år)\"&IF(LEN(Medel_T[[#This Row],[AöA text Sjuk]])>0,↓[↓],\"\")&Medel_T[[#This Row],[AöA text Sjuk]]&IF(LEN(Medel_T[[#This Row],[15AM Text Sjuk]])>0,↓[↓],\"\")&Medel_T[[#This Row],[15AM Text Sjuk]],\"\"),\"\")","v":""},{"$f":"IFERROR(Medel_T[[#This Row],[Period ]]&Medel_T[[#This Row],[ArbMomText]]&Medel_T[[#This Row],[Text]],\"\")","v":""},{"$f":"IF(AND(DJ40>=MAX(Medel_T[NrX]),ISNUMBER(DJ40)),Medel_T[[#Totals],[NrX]]+ROW()-ROW(Medel_T[[#Headers],[Rad]])-Medel_T[[#Totals],[Ant]]-1,INDEX(Medel_T[NrX],MATCH(ROW()-ROW(Medel_T[[#Headers],[Rad]]),Medel_T[NrX],0)))","v":{"$error":"#N/A"}},{"$f":"IF(Medel_T[[#This Row],[Rad]]<=Medel_T[[#Totals],[Ant]],MATCH(Medel_T[[#This Row],[Rad]],Medel_T[NrX],0),IFERROR(INDEX(BD_TX[[#Data],[#Totals],[SJ]],MATCH(Medel_T[[#This Row],[Rad]],BD_TX[[#Data],[#Totals],[Nr]],0)),\"\"))","v":{"$error":"#N/A"}},{"$f":"LEN(Medel_T[[#This Row],[Yrke2]])-LEN(SUBSTITUTE(Medel_T[[#This Row],[Yrke2]],LEFT(Sep_T[Separator],1),\"\"))","v":0},{"$f":"INDEX(Medel_T[År],Medel_T[[#This Row],[Nr]])","v":{"$error":"#N/A"}},{"$f":"IFERROR(IF(LEN(Medel_T[[#This Row],[Nr]])>0,TEXT(IFERROR(INDEX(Medel_T[Start],Medel_T[[#This Row],[Nr]]),INDEX(BD_TX[[#Data],[#Totals],[Start]],MATCH(Medel_T[[#This Row],[Rad]],BD_TX[[#Data],[#Totals],[Nr]],0))),\"ÅÅÅÅ MMM\")&\"-\"&TEXT(IFERROR(INDEX(Medel_T[Slut],Medel_T[[#This Row],[Nr]]),INDEX(BD_TX[[#Data],[#Totals],[År]],MATCH(Medel_T[[#This Row],[Rad]],BD_TX[[#Data],[#Totals],[Nr]],0))),\"ÅÅÅÅ MMM\"),\"\"),\"\")","v":""},{"$f":"IFERROR(IF(LEN(Medel_T[[#This Row],[Nr]])>0,IF(Medel_T[[#This Row],[Rad]]>Medel_T[[#Totals],[Ant]],IFERROR(INDEX(BD_TX[[#Data],[#Totals],[Text]],MATCH(Medel_T[[#This Row],[Rad]],BD_TX[[#Data],[#Totals],[Nr]],0)),\"\"),INDEX(Medel_T[Yrke],Medel_T[[#This Row],[Nr]])),\"\"),\"\")","v":""},{"$f":"IFERROR(INDEX(Medel_T[Arbetsmoment],MATCH(ROW()-ROW(Medel_T[[#Headers],[Arbetsmoment2]]),Medel_T[[NrX]:[NrX]],0)),\"\")","v":""},{"$f":"IFERROR(INDEX(Medel_T[],Medel_T[[#This Row],[Nr]],Medel_T[[#Totals],[HöA_T]]),\"\")","v":""},{"$f":"IF(LEN(Medel_T[[#This Row],[Nr]:[Nr]])>0,IFERROR(TEXT(ROUND(24*IFERROR(INDEX(Medel_T[],Medel_T[[#This Row],[Nr]:[Nr]],Medel_T[[#Totals],[D HöA]]),INDEX(Sum_T[[#Data],[#Totals]],MATCH(Medel_T[[#This Row],[Nr]:[Nr]],Sum_T[[#Data],[#Totals],[Typ]:[Typ]],0),MATCH(Medel_T[[#Headers],[D HöA]],Sum_T[#Headers],0))),1-(INT(LOG10(ABS(24*IFERROR(INDEX(Medel_T[],Medel_T[[#This Row],[Nr]:[Nr]],Medel_T[[#Totals],[D HöA]]),INDEX(Sum_T[[#Data],[#Totals]],MATCH(Medel_T[[#This Row],[Nr]:[Nr]],Sum_T[[#Data],[#Totals],[Typ]:[Typ]],0),MATCH(Medel_T[[#Headers],[D HöA]],Sum_T[#Headers],0)))))))),\"0\"&IF(1-(INT(LOG10(ABS(24*IFERROR(INDEX(Medel_T[],Medel_T[[#This Row],[Nr]:[Nr]],Medel_T[[#Totals],[D HöA]]),INDEX(Sum_T[[#Data],[#Totals]],MATCH(Medel_T[[#This Row],[Nr]:[Nr]],Sum_T[[#Data],[#Totals],[Typ]:[Typ]],0),MATCH(Medel_T[[#Headers],[D HöA]],Sum_T[#Headers],0)))))))>0,\",\"&REPT(\"0\",1-(INT(LOG10(ABS(24*IFERROR(INDEX(Medel_T[],Medel_T[[#This Row],[Nr]:[Nr]],Medel_T[[#Totals],[D HöA]]),INDEX(Sum_T[[#Data],[#Totals]],MATCH(Medel_T[[#This Row],[Nr]:[Nr]],Sum_T[[#Data],[#Totals],[Typ]:[Typ]],0),MATCH(Medel_T[[#Headers],[D HöA]],Sum_T[#Headers],0)))))))),0)),0),\"\")","v":{"$error":"#N/A"}},{"$f":"IFERROR(INDEX(Medel_T[],Medel_T[[#This Row],[Nr]],Medel_T[[#Totals],[AÖA_T]]),\"\")","v":""},{"$f":"IFERROR(IF(LEN(Medel_T[[#This Row],[Nr]:[Nr]])>0,IFERROR(TEXT(ROUND(24*IFERROR(INDEX(Medel_T[],Medel_T[[#This Row],[Nr]:[Nr]],Medel_T[[#Totals],[D AöA]]),INDEX(Sum_T[[#Data],[#Totals]],MATCH(Medel_T[[#This Row],[Nr]:[Nr]],Sum_T[[#Data],[#Totals],[Typ]:[Typ]],0),MATCH(Medel_T[[#Headers],[D AöA]],Sum_T[#Headers],0))),1-(INT(LOG10(ABS(24*IFERROR(INDEX(Medel_T[],Medel_T[[#This Row],[Nr]:[Nr]],Medel_T[[#Totals],[D AöA]]),INDEX(Sum_T[[#Data],[#Totals]],MATCH(Medel_T[[#This Row],[Nr]:[Nr]],Sum_T[[#Data],[#Totals],[Typ]:[Typ]],0),MATCH(Medel_T[[#Headers],[D AöA]],Sum_T[#Headers],0)))))))),\"0\"&IF(1-(INT(LOG10(ABS(24*IFERROR(INDEX(Medel_T[],Medel_T[[#This Row],[Nr]:[Nr]],Medel_T[[#Totals],[D AöA]]),INDEX(Sum_T[[#Data],[#Totals]],MATCH(Medel_T[[#This Row],[Nr]:[Nr]],Sum_T[[#Data],[#Totals],[Typ]:[Typ]],0),MATCH(Medel_T[[#Headers],[D AöA]],Sum_T[#Headers],0)))))))>0,\",\"&REPT(\"0\",1-(INT(LOG10(ABS(24*IFERROR(INDEX(Medel_T[],Medel_T[[#This Row],[Nr]:[Nr]],Medel_T[[#Totals],[D AöA]]),INDEX(Sum_T[[#Data],[#Totals]],MATCH(Medel_T[[#This Row],[Nr]:[Nr]],Sum_T[[#Data],[#Totals],[Typ]:[Typ]],0),MATCH(Medel_T[[#Headers],[D AöA]],Sum_T[#Headers],0)))))))),0)),0),\"\"),\"\")","v":""},{"$f":"IFERROR(INDEX(Medel_T[],Medel_T[[#This Row],[Nr]],Medel_T[[#Totals],[4AM_T]]),\"\")","v":""},{"$f":"IF(LEN(Medel_T[[#This Row],[Nr]:[Nr]])>0,IFERROR(TEXT(ROUND(24*IFERROR(INDEX(Medel_T[],Medel_T[[#This Row],[Nr]:[Nr]],Medel_T[[#Totals],[D 4AM]]),INDEX(Sum_T[[#Data],[#Totals]],MATCH(Medel_T[[#This Row],[Nr]:[Nr]],Sum_T[[#Data],[#Totals],[Typ]:[Typ]],0),MATCH(Medel_T[[#Headers],[D 4AM]],Sum_T[#Headers],0))),1-(INT(LOG10(ABS(24*IFERROR(INDEX(Medel_T[],Medel_T[[#This Row],[Nr]:[Nr]],Medel_T[[#Totals],[D 4AM]]),INDEX(Sum_T[[#Data],[#Totals]],MATCH(Medel_T[[#This Row],[Nr]:[Nr]],Sum_T[[#Data],[#Totals],[Typ]:[Typ]],0),MATCH(Medel_T[[#Headers],[D 4AM]],Sum_T[#Headers],0)))))))),\"0\"&IF(1-(INT(LOG10(ABS(24*IFERROR(INDEX(Medel_T[],Medel_T[[#This Row],[Nr]:[Nr]],Medel_T[[#Totals],[D 4AM]]),INDEX(Sum_T[[#Data],[#Totals]],MATCH(Medel_T[[#This Row],[Nr]:[Nr]],Sum_T[[#Data],[#Totals],[Typ]:[Typ]],0),MATCH(Medel_T[[#Headers],[D 4AM]],Sum_T[#Headers],0)))))))>0,\",\"&REPT(\"0\",1-(INT(LOG10(ABS(24*IFERROR(INDEX(Medel_T[],Medel_T[[#This Row],[Nr]:[Nr]],Medel_T[[#Totals],[D 4AM]]),INDEX(Sum_T[[#Data],[#Totals]],MATCH(Medel_T[[#This Row],[Nr]:[Nr]],Sum_T[[#Data],[#Totals],[Typ]:[Typ]],0),MATCH(Medel_T[[#Headers],[D 4AM]],Sum_T[#Headers],0)))))))),0)),0),\"\")","v":{"$error":"#N/A"}},{"$f":"IFERROR(INDEX(Medel_T[],Medel_T[[#This Row],[Nr]],Medel_T[[#Totals],[15AM_T]]),\"\")","v":""},{"$f":"IFERROR(IF(LEN(Medel_T[[#This Row],[Nr]:[Nr]])>0,IFERROR(TEXT(ROUND(24*IFERROR(INDEX(Medel_T[],Medel_T[[#This Row],[Nr]:[Nr]],Medel_T[[#Totals],[D 15AM]]),INDEX(Sum_T[[#Data],[#Totals]],MATCH(Medel_T[[#This Row],[Nr]:[Nr]],Sum_T[[#Data],[#Totals],[Typ]:[Typ]],0),MATCH(Medel_T[[#Headers],[D 15AM]],Sum_T[#Headers],0))),1-(INT(LOG10(ABS(24*IFERROR(INDEX(Medel_T[],Medel_T[[#This Row],[Nr]:[Nr]],Medel_T[[#Totals],[D 15AM]]),INDEX(Sum_T[[#Data],[#Totals]],MATCH(Medel_T[[#This Row],[Nr]:[Nr]],Sum_T[[#Data],[#Totals],[Typ]:[Typ]],0),MATCH(Medel_T[[#Headers],[D 15AM]],Sum_T[#Headers],0)))))))),\"0\"&IF(1-(INT(LOG10(ABS(24*IFERROR(INDEX(Medel_T[],Medel_T[[#This Row],[Nr]:[Nr]],Medel_T[[#Totals],[D 15AM]]),INDEX(Sum_T[[#Data],[#Totals]],MATCH(Medel_T[[#This Row],[Nr]:[Nr]],Sum_T[[#Data],[#Totals],[Typ]:[Typ]],0),MATCH(Medel_T[[#Headers],[D 15AM]],Sum_T[#Headers],0)))))))>0,\",\"&REPT(\"0\",1-(INT(LOG10(ABS(24*IFERROR(INDEX(Medel_T[],Medel_T[[#This Row],[Nr]:[Nr]],Medel_T[[#Totals],[D 15AM]]),INDEX(Sum_T[[#Data],[#Totals]],MATCH(Medel_T[[#This Row],[Nr]:[Nr]],Sum_T[[#Data],[#Totals],[Typ]:[Typ]],0),MATCH(Medel_T[[#Headers],[D 15AM]],Sum_T[#Headers],0)))))))),0)),0),\"\"),\"\")","v":""},{"$f":"IFERROR(INDEX(Medel_T[],Medel_T[[#This Row],[Nr]],Medel_T[[#Totals],[20-10D_T]]),\"\")","v":""},{"$f":"IF(LEN(Medel_T[[#This Row],[Nr]:[Nr]])>0,IFERROR(TEXT(ROUND(24*IFERROR(INDEX(Medel_T[],Medel_T[[#This Row],[Nr]:[Nr]],Medel_T[[#Totals],[D 20-10D]]),INDEX(Sum_T[[#Data],[#Totals]],MATCH(Medel_T[[#This Row],[Nr]:[Nr]],Sum_T[[#Data],[#Totals],[Typ]:[Typ]],0),MATCH(Medel_T[[#Headers],[D 20-10D]],Sum_T[#Headers],0))),1-(INT(LOG10(ABS(24*IFERROR(INDEX(Medel_T[],Medel_T[[#This Row],[Nr]:[Nr]],Medel_T[[#Totals],[D 20-10D]]),INDEX(Sum_T[[#Data],[#Totals]],MATCH(Medel_T[[#This Row],[Nr]:[Nr]],Sum_T[[#Data],[#Totals],[Typ]:[Typ]],0),MATCH(Medel_T[[#Headers],[D 20-10D]],Sum_T[#Headers],0)))))))),\"0\"&IF(1-(INT(LOG10(ABS(24*IFERROR(INDEX(Medel_T[],Medel_T[[#This Row],[Nr]:[Nr]],Medel_T[[#Totals],[D 20-10D]]),INDEX(Sum_T[[#Data],[#Totals]],MATCH(Medel_T[[#This Row],[Nr]:[Nr]],Sum_T[[#Data],[#Totals],[Typ]:[Typ]],0),MATCH(Medel_T[[#Headers],[D 20-10D]],Sum_T[#Headers],0)))))))>0,\",\"&REPT(\"0\",1-(INT(LOG10(ABS(24*IFERROR(INDEX(Medel_T[],Medel_T[[#This Row],[Nr]:[Nr]],Medel_T[[#Totals],[D 20-10D]]),INDEX(Sum_T[[#Data],[#Totals]],MATCH(Medel_T[[#This Row],[Nr]:[Nr]],Sum_T[[#Data],[#Totals],[Typ]:[Typ]],0),MATCH(Medel_T[[#Headers],[D 20-10D]],Sum_T[#Headers],0)))))))),0)),0),\"\")","v":{"$error":"#N/A"}},null,{"$f":"IFERROR(INDEX(Hin_T[Nr],MATCH(SMALL(Hin_T[B-årX],ROW()-ROW(Hut_T[[#Headers],[Rad]])),Hin_T[B-årX],0)),IF(ROWS($EB$19:EB41)=1+COUNTIF(Hin_T[Start],\"*\"),Hin_T[[#Totals],[Dag]],IF(AND(ROWS($EB$19:EB41)=2+COUNTIF(Hin_T[Start],\"*\"),Hin_T[[#Totals],[Q%-]]>0),EB40+1,IF(AND(ROWS($EB$19:EB41)=3+COUNTIF(Hin_T[Start],\"*\"),Hin_T[[#Totals],[Q%-]]>1),EB40+1,IF(AND(ROWS($EB$19:EB41)=4+COUNTIF(Hin_T[Start],\"*\"),Hin_T[[#Totals],[Q%-]]>2),EB40+1,\"\")))))","v":""},{"$f":"IF(Hut_T[[#This Row],[Rad]]<Hin_T[[#Totals],[Dag]],ROWS($EB$19:EB41),IFERROR(INDEX(BD_TX[[#Data],[#Totals],[SJ]],MATCH(Hut_T[[#This Row],[Rad]],BD_TX[[#Data],[#Totals],[NrX]],0)),\"\"))","v":""},{"$f":"IF(ISNUMBER(Hut_T[[#This Row],[Datum-]]),TEXT(Hut_T[[#This Row],[Datum-]],\"ÅÅÅÅ MMM\")&\"-\"&TEXT(Hut_T[[#This Row],[Datum+]],\"ÅÅÅÅ MMM\"),\"\")","v":""},{"$f":"IF(ISNUMBER(Hut_T[[#This Row],[Nr]]),IF(INDEX(Hin_T[Yrke],Hut_T[[#This Row],[Rad]])>0,INDEX(Hin_T[Yrke],Hut_T[[#This Row],[Rad]]),\"\"),IFERROR(INDEX(BD_TX[[#Data],[#Totals],[Text]],MATCH(Hut_T[[#This Row],[Rad]],BD_TX[[#Data],[#Totals],[NrX]],0)),\"\"))","v":""},{"$f":"IF(ISNUMBER(Hut_T[[#This Row],[Nr]]),IF(INDEX(Hin_T[Arbetsmoment],Hut_T[[#This Row],[Rad]])>0,INDEX(Hin_T[Arbetsmoment],Hut_T[[#This Row],[Rad]]),\"\"),\"\")","v":""},{"$f":"IFERROR(IF(INDEX(Hin_T[Yrke],Hut_T[[#This Row],[Rad]])>0,INDEX(Hin_T[Företag],Hut_T[[#This Row],[Rad]]),\"\"),\"\")","v":""},{"$f":"IFERROR(IF(INDEX(Hin_T[Dag],Hut_T[[#This Row],[Rad]])>0,INDEX(Hin_T[Dag],Hut_T[[#This Row],[Rad]])*DÅ[Arbetsdag/år],\"\"),\"\")","v":""},{"$f":"IF(AND(ISNUMBER(_xlfn.SINGLE(Hut_T[[#This Row],[Rad]:[Rad]])),IFERROR(_xlfn.SINGLE(INDEX(Hin_T[[#Data],[#Totals]],_xlfn.SINGLE(Hut_T[[#This Row],[Rad]:[Rad]]),MATCH(Hut_T[[#Headers],[D HöA]],Hin_T[#Headers],0))),\"\")),IFERROR(ROUND(_xlfn.SINGLE(INDEX(Hin_T[[#Data],[#Totals]],_xlfn.SINGLE(Hut_T[[#This Row],[Rad]:[Rad]])-IF(_xlfn.SINGLE(Hut_T[[#This Row],[Nr]:[Nr]])=_xlfn.SINGLE(#REF!),COUNT(Besvär_T[[Sjukdomsdebut]:[Sjukdomsdebut]]),0),MATCH(_xlfn.SINGLE(IF(_xlfn.SINGLE(Hut_T[[#This Row],[Nr]:[Nr]])=_xlfn.SINGLE(#REF!),#REF!,\"\"))&Hut_T[[#Headers],[D HöA]],Hin_T[#Headers],0))),0),\"\"),\"\")","v":""},{"$f":"IF(AND(ISNUMBER(Hut_T[[#This Row],[Rad]:[Rad]]),ISNUMBER(Hut_T[[#This Row],[D HöA]]),ISNUMBER(Hut_T[[#This Row],[Nr]:[Nr]])),IFERROR(ROUND(INDEX(Hin_T[[#Data],[#Totals]],Hut_T[[#This Row],[Rad]:[Rad]],MATCH(Hut_T[[#Headers],[HöA-A]],Hin_T[#Headers],0)),1-(INT(LOG10(INDEX(Hin_T[[#Data],[#Totals]],Hut_T[[#This Row],[Rad]:[Rad]],MATCH(Hut_T[[#Headers],[HöA-A]],Hin_T[#Headers],0)))))),1),\"\")","v":""},{"$f":"IF(AND(ISNUMBER(Hut_T[[#This Row],[Rad]:[Rad]]),IFERROR(INDEX(Hin_T[[#Data],[#Totals]],Hut_T[[#This Row],[Rad]:[Rad]],MATCH(Hut_T[[#Headers],[D AöA]],Hin_T[#Headers],0)),\"\")),IFERROR(ROUND(INDEX(Hin_T[[#Data],[#Totals]],Hut_T[[#This Row],[Rad]:[Rad]]-IF(Hut_T[[#This Row],[Nr]:[Nr]]=BD_TX[[SJ]:[SJ]],COUNT(Besvär_T[[Sjukdomsdebut]:[Sjukdomsdebut]]),0),MATCH(IF(Hut_T[[#This Row],[Nr]:[Nr]]=BD_TX[[#Totals],[SJ]:[SJ]],BD_TX[[#Headers],[SJ]],\"\")&Hut_T[[#Headers],[D AöA]],Hin_T[#Headers],0)),0),\"\"),\"\")","v":""},{"$f":"IF(AND(ISNUMBER(Hut_T[[#This Row],[Rad]:[Rad]]),ISNUMBER(Hut_T[[#This Row],[D AöA]]),ISNUMBER(Hut_T[[#This Row],[Nr]:[Nr]])),IFERROR(ROUND(INDEX(Hin_T[[#Data],[#Totals]],Hut_T[[#This Row],[Rad]:[Rad]],MATCH(Hut_T[[#Headers],[AöA-A]],Hin_T[#Headers],0)),1-(INT(LOG10(INDEX(Hin_T[[#Data],[#Totals]],Hut_T[[#This Row],[Rad]:[Rad]],MATCH(Hut_T[[#Headers],[AöA-A]],Hin_T[#Headers],0)))))),1),\"\")","v":""},{"$f":"IF(AND(ISNUMBER(_xlfn.SINGLE(Hut_T[[#This Row],[Rad]:[Rad]])),IFERROR(_xlfn.SINGLE(INDEX(Hin_T[[#Data],[#Totals]],_xlfn.SINGLE(Hut_T[[#This Row],[Rad]:[Rad]]),MATCH(Hut_T[[#Headers],[D 4AM]],Hin_T[#Headers],0))),\"\")),IFERROR(ROUND(_xlfn.SINGLE(INDEX(Hin_T[[#Data],[#Totals]],_xlfn.SINGLE(Hut_T[[#This Row],[Rad]:[Rad]])-IF(_xlfn.SINGLE(Hut_T[[#This Row],[Nr]:[Nr]])=_xlfn.SINGLE(#REF!),COUNT(Besvär_T[[Sjukdomsdebut]:[Sjukdomsdebut]]),0),MATCH(_xlfn.SINGLE(IF(_xlfn.SINGLE(Hut_T[[#This Row],[Nr]:[Nr]])=_xlfn.SINGLE(#REF!),#REF!,\"\"))&Hut_T[[#Headers],[D 4AM]],Hin_T[#Headers],0))),0),\"\"),\"\")","v":""},{"$f":"IF(AND(ISNUMBER(Hut_T[[#This Row],[Rad]:[Rad]]),ISNUMBER(Hut_T[[#This Row],[D 4AM]]),ISNUMBER(Hut_T[[#This Row],[Nr]:[Nr]])),IFERROR(ROUND(INDEX(Hin_T[[#Data],[#Totals]],Hut_T[[#This Row],[Rad]:[Rad]],MATCH(Hut_T[[#Headers],[4AM-A]],Hin_T[#Headers],0)),1-(INT(LOG10(INDEX(Hin_T[[#Data],[#Totals]],Hut_T[[#This Row],[Rad]:[Rad]],MATCH(Hut_T[[#Headers],[4AM-A]],Hin_T[#Headers],0)))))),1),\"\")","v":""},{"$f":"IF(AND(ISNUMBER(Hut_T[[#This Row],[Rad]:[Rad]]),IFERROR(INDEX(Hin_T[[#Data],[#Totals]],Hut_T[[#This Row],[Rad]:[Rad]],MATCH(Hut_T[[#Headers],[D 15AM]],Hin_T[#Headers],0)),\"\")),IFERROR(ROUND(INDEX(Hin_T[[#Data],[#Totals]],Hut_T[[#This Row],[Rad]:[Rad]]-IF(Hut_T[[#This Row],[Nr]:[Nr]]=BD_TX[[SJ]:[SJ]],COUNT(Besvär_T[[Sjukdomsdebut]:[Sjukdomsdebut]]),0),MATCH(IF(Hut_T[[#This Row],[Nr]:[Nr]]=BD_TX[[#Totals],[SJ]:[SJ]],BD_TX[[#Headers],[SJ]],\"\")&Hut_T[[#Headers],[D 15AM]],Hin_T[#Headers],0)),0),\"\"),\"\")","v":""},{"$f":"IF(AND(ISNUMBER(Hut_T[[#This Row],[Rad]:[Rad]]),ISNUMBER(Hut_T[[#This Row],[D 15AM]]),ISNUMBER(Hut_T[[#This Row],[Nr]:[Nr]])),IFERROR(ROUND(INDEX(Hin_T[[#Data],[#Totals]],Hut_T[[#This Row],[Rad]:[Rad]],MATCH(Hut_T[[#Headers],[15AM-A]],Hin_T[#Headers],0)),1-(INT(LOG10(INDEX(Hin_T[[#Data],[#Totals]],Hut_T[[#This Row],[Rad]:[Rad]],MATCH(Hut_T[[#Headers],[15AM-A]],Hin_T[#Headers],0)))))),1),\"\")","v":""},{"$f":"IF(AND(ISNUMBER(Hut_T[[#This Row],[Rad]:[Rad]]),IFERROR(INDEX(Hin_T[[#Data],[#Totals]],Hut_T[[#This Row],[Rad]:[Rad]],MATCH(Hut_T[[#Headers],[D 20-10D]],Hin_T[#Headers],0)),\"\")),IFERROR(ROUND(INDEX(Hin_T[[#Data],[#Totals]],Hut_T[[#This Row],[Rad]:[Rad]]-IF(Hut_T[[#This Row],[Nr]:[Nr]]=BD_TX[[SJ]:[SJ]],COUNT(Besvär_T[[Sjukdomsdebut]:[Sjukdomsdebut]]),0),MATCH(IF(Hut_T[[#This Row],[Nr]:[Nr]]=BD_TX[[#Totals],[SJ]:[SJ]],BD_TX[[#Headers],[SJ]],\"\")&Hut_T[[#Headers],[D 20-10D]],Hin_T[#Headers],0)),0),\"\"),\"\")","v":""},{"$f":"IF(AND(ISNUMBER(Hut_T[[#This Row],[Rad]:[Rad]]),ISNUMBER(Hut_T[[#This Row],[D 20-10D]]),ISNUMBER(Hut_T[[#This Row],[Nr]:[Nr]])),IFERROR(ROUND(INDEX(Hin_T[[#Data],[#Totals]],Hut_T[[#This Row],[Rad]:[Rad]],MATCH(Hut_T[[#Headers],[20-10D-A]],Hin_T[#Headers],0)),1-(INT(LOG10(INDEX(Hin_T[[#Data],[#Totals]],Hut_T[[#This Row],[Rad]:[Rad]],MATCH(Hut_T[[#Headers],[20-10D-A]],Hin_T[#Headers],0)))))),1),\"\")","v":""},null,{"$f":"IFERROR(INDEX(Hin_T[[#Data],[#Totals],[B-år]],Hut_T[[#This Row],[Rad]]),IF(ISNUMBER(Hut_T[[#This Row],[Datum+]]),ET40,\"\"))","v":""},{"$f":"IFERROR(INDEX(Hin_T[S-år],Hut_T[[#This Row],[Rad]]),IFERROR(INDEX(BD_TX[[#Data],[#Totals],[År]],MATCH(Hut_T[[#This Row],[Rad]],BD_TX[[#Data],[#Totals],[NrX]],0)),\"\"))","v":""},null,{"$f":"ROWS($EW$20:EW41)","v":22},{"$f":"IFERROR(MATCH(Hist_Tab[[#This Row],[Ref]],Medel_T[NrX],0),1)","v":1},{"$f":"INT((ROW(Hist_Tab[[#This Row],[Ref]])-ROW(Hist_Tab[[#Headers],[Ref]])-1)/4)+1","v":6},{"$f":"COUNTIF($EY$19:EY41,Hist_Tab[[#This Row],[Ref]])","v":3},{"$f":"IFERROR(INDEX(Medel_T[Start],Hist_Tab[[#This Row],[Ref]]),_xlfn.AGGREGATE(4,6,Medel_T[Start]))","v":"00:00:00"},{"$f":"IFERROR(INDEX(Medel_T[Slut],Hist_Tab[[#This Row],[Ref]]),_xlfn.AGGREGATE(4,6,Medel_T[Slut]))","v":"00:00:00"},{"$f":"IF(EW40=0,Hist_Tab[[#This Row],[ÅrB]],IF(Hist_Tab[[#This Row],[per/p]]<2,Hist_Tab[[#This Row],[ÅrB]],Hist_Tab[[#This Row],[År S]]))","v":"00:00:00"},{"$f":"IF(Hist_Tab[[#This Row],[Rad]:[Rad]]=0,-1,IF($EY42>_xlfn.AGGREGATE(2,6,Medel_T[[Slut]:[Slut]]),0,INDEX(Medel_T[],Hist_Tab[[#This Row],[Ref]:[Ref]],MATCH(Hist_Tab[[#Headers],[HöA T]],Medel_T[#Headers],0))))","v":0},{"$f":"IF(Hist_Tab[[#This Row],[Rad]:[Rad]]=0,0,IF($EY42>_xlfn.AGGREGATE(2,6,Medel_T[[Slut]:[Slut]]),0,INDEX(Medel_T[],Hist_Tab[[#This Row],[Ref]:[Ref]],MATCH(Hist_Tab[[#Headers],[AöA T]],Medel_T[#Headers],0))))","v":0},{"$f":"IF(Hist_Tab[[#This Row],[Rad]:[Rad]]=0,0,IF($EY42>_xlfn.AGGREGATE(2,6,Medel_T[[Slut]:[Slut]]),0,INDEX(Medel_T[],Hist_Tab[[#This Row],[Ref]:[Ref]],MATCH(Hist_Tab[[#Headers],[4AM T]],Medel_T[#Headers],0))))","v":0},{"$f":"IF(Hist_Tab[[#This Row],[Rad]:[Rad]]=0,0,IF($EY42>_xlfn.AGGREGATE(2,6,Medel_T[[Slut]:[Slut]]),0,INDEX(Medel_T[],Hist_Tab[[#This Row],[Ref]:[Ref]],MATCH(Hist_Tab[[#Headers],[15AM T]],Medel_T[#Headers],0))))","v":0},{"$f":"IF(Hist_Tab[[#This Row],[Rad]:[Rad]]=0,0,IF($EY42>_xlfn.AGGREGATE(2,6,Medel_T[[Slut]:[Slut]]),0,INDEX(Medel_T[],Hist_Tab[[#This Row],[Ref]:[Ref]],MATCH(Hist_Tab[[#Headers],[20-10D T]],Medel_T[#Headers],0))))","v":0}]
[null,null,null,null,null,null,null,null,null,null,null,null,null,null,null,null,null,null,null,null,null,null,null,null,null,null,null,null,null,null,null,null,null,null,null,null,null,null,null,null,null,null,null,null,null,null,null,null,null,null,null,null,null,null,null,null,null,null,null,null,null,null,null,null,null,null,null,null,null,null,{"$f":"SMALL(Hin_T[[StartÅR]:[SlutÅr]],ROW()-ROW(Medel_T[[#Headers],[Start]]))","v":{"$error":"#NUM!"}},{"$f":"SMALL(Hin_T[[StartÅR]:[SlutÅr]],ROW()-ROW(Medel_T[[#Headers],[Slut]])+1)","v":{"$error":"#NUM!"}},{"$f":"IF(Medel_T[[#This Row],[Start]]<=Besvär_T[[#Totals],[Sjukdomsdebut]],Medel_T[[#This Row],[Start]],\"\")","v":{"$error":"#NUM!"}},{"$f":"IF(Medel_T[[#This Row],[Slut]]<=Besvär_T[[#Totals],[Sjukdomsdebut]],Medel_T[[#This Row],[Slut]],IF(AND(LEN(Medel_T[[#This Row],[SJDstart]])>0,LEN(BU43)=0),Besvär_T[[#Totals],[Sjukdomsdebut]],\"\"))","v":{"$error":"#NUM!"}},{"$f":"IF(Medel_T[[#This Row],[Start]]>=Besvär_T[[#Totals],[Sjukdomsdebut]],Medel_T[[#This Row],[Start]],IF(AND(LEN(Medel_T[[#This Row],[EfterSlut]])>0,LEN(BX41)=0),Besvär_T[[#Totals],[Sjukdomsdebut]],\"\"))","v":{"$error":"#NUM!"}},{"$f":"IF(Medel_T[[#This Row],[Slut]]>=Besvär_T[[#Totals],[Sjukdomsdebut]],Medel_T[[#This Row],[Slut]],\"\")","v":{"$error":"#NUM!"}},{"$f":"COUNTIF($BZ$19:BZ42,\">0\")","v":0},{"$f":"COUNTIFS(Hin_T[B-år],\"<=\"&Medel_T[[#This Row],[Start]],Hin_T[S-år],\">=\"&Medel_T[[#This Row],[Slut]])","v":0},{"$f":"SUBSTITUTE(_xlfn.TEXTJOIN(Sep_T[Separator],TRUE,_xlfn._xlws.SORT(_xlfn.UNIQUE(IF((Hin_T[[B-år]:[B-år]]<=Medel_T[[#This Row],[Start]:[Start]])*(Hin_T[[S-år]:[S-år]]>=Medel_T[[#This Row],[Slut]:[Slut]]),Hin_T[Yrke],\"\")))),0&Sep_T[Separator],\"\")","v":{"$error":"#NUM!"}},{"$f":"SUBSTITUTE(_xlfn.TEXTJOIN(Sep_T[Separator],TRUE,_xlfn._xlws.SORT(_xlfn.UNIQUE(IF((Hin_T[[B-år]:[B-år]]<=Medel_T[[#This Row],[Start]:[Start]])*(Hin_T[[S-år]:[S-år]]>=Medel_T[[#This Row],[Slut]:[Slut]]),Hin_T[Arbetsmoment],\"\")))),0&Sep_T[Separator],\"\")","v":{"$error":"#NUM!"}},{"$f":"IF(LEN(Medel_T[[#This Row],[Yrke]])>0,Medel_T[[#Headers],[Period ]]&Medel_T[[#This Row],[NrX]]&\": \"&TEXT(Medel_T[[#This Row],[Start]],\"ÅÅÅÅ\")&List_T[[#Totals],[List symb]]&TEXT(Medel_T[[#This Row],[Slut]],\"ÅÅÅÅ\")&\" (\"&ROUND(Medel_T[[#This Row],[År]],1)&\" år) Anställd som \"&IFERROR(SUBSTITUTE(SUBSTITUTE(Medel_T[[#This Row],[Yrke]],Sep_T[Separator],\" och \",Medel_T[[#This Row],[Ant]]-1),Sep_T[Separator],\", \"),Medel_T[[#This Row],[Yrke]])&↓[↓],\"\")","v":{"$error":"#NUM!"}},{"$f":"IF(LEN(Medel_T[[#This Row],[Arbetsmoment]])>0,ROMAN(1)&\") \"&_xlfn.TEXTJOIN(Delim[Delimiters],TRUE,_xlfn._xlws.SORT(_xlfn.UNIQUE(IF((Hin_T[[B-år]:[B-år]]<=Medel_T[[#This Row],[Start]:[Start]])*(Hin_T[[S-år]:[S-år]]>=Medel_T[[#This Row],[Slut]:[Slut]]),Hin_T[Text],\"\"))))&↓[↓],\"\")","v":{"$error":"#NUM!"}},{"$f":"SUMPRODUCT((Hin_T[[B-år]:[B-år]]<=Medel_T[[#This Row],[Start]:[Start]])*(Hin_T[[S-år]:[S-år]]>=Medel_T[[#This Row],[Slut]:[Slut]])*Hin_T[Dag])","v":{"$error":"#NUM!"}},{"$f":"IF(Medel_T[[#This Row],[Proc dag]]<=1,Medel_T[[#This Row],[Proc dag]],1)","v":{"$error":"#NUM!"}},{"$f":"YEARFRAC(Medel_T[[#This Row],[Slut]],Medel_T[[#This Row],[Start]])","v":{"$error":"#NUM!"}},{"$f":"YEARFRAC(Medel_T[[#This Row],[SJDslut]],Medel_T[[#This Row],[SJDstart]])","v":{"$error":"#NUM!"}},{"$f":"IFERROR(SUMPRODUCT((Hin_T[[B-år]:[B-år]]<=Medel_T[[#This Row],[Start]:[Start]])*(Hin_T[[S-år]:[S-år]]>=Medel_T[[#This Row],[Slut]:[Slut]])*Hin_T[HöA]*Hin_T[[Dag]:[Dag]])/Medel_T[[#This Row],[Proc dag]],-1)","v":-1},{"$f":"IFERROR(SUMPRODUCT((Hin_T[[B-år]:[B-år]]<=Medel_T[[#This Row],[Start]:[Start]])*(Hin_T[[S-år]:[S-år]]>=Medel_T[[#This Row],[Slut]:[Slut]])*Hin_T[AöA]*Hin_T[[Dag]:[Dag]])/Medel_T[[#This Row],[Proc dag]],-1)","v":-1},{"$f":"IFERROR(SUMPRODUCT((Hin_T[[B-år]:[B-år]]<=Medel_T[[#This Row],[Start]:[Start]])*(Hin_T[[S-år]:[S-år]]>=Medel_T[[#This Row],[Slut]:[Slut]])*Hin_T[4AM]*Hin_T[[Dag]:[Dag]])/Medel_T[[#This Row],[Proc dag]],-1)","v":-1},{"$f":"IFERROR(SUMPRODUCT((Hin_T[[B-år]:[B-år]]<=Medel_T[[#This Row],[Start]:[Start]])*(Hin_T[[S-år]:[S-år]]>=Medel_T[[#This Row],[Slut]:[Slut]])*Hin_T[15AM]*Hin_T[[Dag]:[Dag]])/Medel_T[[#This Row],[Proc dag]],-1)","v":-1},{"$f":"IFERROR(SUMPRODUCT((Hin_T[[B-år]:[B-år]]<=Medel_T[[#This Row],[Start]:[Start]])*(Hin_T[[S-år]:[S-år]]>=Medel_T[[#This Row],[Slut]:[Slut]])*Hin_T[20-10D]*Hin_T[[Dag]:[Dag]])/Medel_T[[#This Row],[Proc dag]],-1)","v":-1},{"$f":"IFERROR(SUMPRODUCT((Hin_T[[B-år]:[B-år]]<=Medel_T[[#This Row],[Start]:[Start]])*(Hin_T[[S-år]:[S-år]]>=Medel_T[[#This Row],[Slut]:[Slut]])*Hin_T[[Dag]:[Dag]]*Hin_T[HöA])/Medel_T[[#This Row],[Dag sum]],-1)","v":-1},{"$f":"IFERROR(SUMPRODUCT((Hin_T[[B-år]:[B-år]]<=Medel_T[[#This Row],[Start]:[Start]])*(Hin_T[[S-år]:[S-år]]>=Medel_T[[#This Row],[Slut]:[Slut]])*Hin_T[[Dag]:[Dag]]*Hin_T[AöA])/Medel_T[[#This Row],[Dag sum]],-1)","v":-1},{"$f":"IFERROR(SUMPRODUCT((Hin_T[[B-år]:[B-år]]<=Medel_T[[#This Row],[Start]:[Start]])*(Hin_T[[S-år]:[S-år]]>=Medel_T[[#This Row],[Slut]:[Slut]])*Hin_T[[Dag]:[Dag]]*Hin_T[4AM])/Medel_T[[#This Row],[Dag sum]],-1)","v":-1},{"$f":"IFERROR(SUMPRODUCT((Hin_T[[B-år]:[B-år]]<=Medel_T[[#This Row],[Start]:[Start]])*(Hin_T[[S-år]:[S-år]]>=Medel_T[[#This Row],[Slut]:[Slut]])*Hin_T[15AM]*Hin_T[[Dag]:[Dag]])/Medel_T[[#This Row],[Dag sum]],-1)","v":-1},{"$f":"IFERROR(SUMPRODUCT((Hin_T[[B-år]:[B-år]]<=Medel_T[[#This Row],[Start]:[Start]])*(Hin_T[[S-år]:[S-år]]>=Medel_T[[#This Row],[Slut]:[Slut]])*Hin_T[[Dag]:[Dag]]*Hin_T[20-10D])/Medel_T[[#This Row],[Dag sum]],-1)","v":-1},{"$f":"IFERROR(Medel_T[[#This Row],[Dag sum]:[Dag sum]]*Medel_T[[#This Row],[År]:[År]]*Medel_T[[#This Row],[HöA T]]*DÅ[Arbetsdag/år],0)","v":0},{"$f":"IFERROR(Medel_T[[#This Row],[Dag sum]:[Dag sum]]*Medel_T[[#This Row],[År]:[År]]*Medel_T[[#This Row],[AöA T]]*DÅ[Arbetsdag/år],0)","v":0},{"$f":"IFERROR(Medel_T[[#This Row],[Dag sum]:[Dag sum]]*Medel_T[[#This Row],[År]:[År]]*Medel_T[[#This Row],[4AM T]]*DÅ[Arbetsdag/år],0)","v":0},{"$f":"IFERROR(Medel_T[[#This Row],[Dag sum]:[Dag sum]]*Medel_T[[#This Row],[År]:[År]]*Medel_T[[#This Row],[15AM T]]*DÅ[Arbetsdag/år],0)","v":0},{"$f":"IFERROR(Medel_T[[#This Row],[Dag sum]:[Dag sum]]*Medel_T[[#This Row],[År]:[År]]*Medel_T[[#This Row],[20-10D T]]*DÅ[Arbetsdag/år],0)","v":0},{"$f":"IFERROR(Medel_T[[#This Row],[Dag sum]:[Dag sum]]*Medel_T[[#This Row],[ÅrSjuk]:[ÅrSjuk]]*Medel_T[[#This Row],[HöA T]]*DÅ[Arbetsdag/år],0)","v":0},{"$f":"IFERROR(Medel_T[[#This Row],[Dag sum]:[Dag sum]]*Medel_T[[#This Row],[ÅrSjuk]:[ÅrSjuk]]*Medel_T[[#This Row],[AöA T]]*DÅ[Arbetsdag/år],0)","v":0},{"$f":"IFERROR(Medel_T[[#This Row],[Dag sum]:[Dag sum]]*Medel_T[[#This Row],[ÅrSjuk]:[ÅrSjuk]]*Medel_T[[#This Row],[4AM T]]*DÅ[Arbetsdag/år],0)","v":0},{"$f":"IFERROR(Medel_T[[#This Row],[Dag sum]:[Dag sum]]*Medel_T[[#This Row],[ÅrSjuk]:[ÅrSjuk]]*Medel_T[[#This Row],[15AM T]]*DÅ[Arbetsdag/år],0)","v":0},{"$f":"IFERROR(Medel_T[[#This Row],[Dag sum]:[Dag sum]]*Medel_T[[#This Row],[ÅrSjuk]:[ÅrSjuk]]*Medel_T[[#This Row],[20-10D T]]*DÅ[Arbetsdag/år],0)","v":0},{"$f":"IFERROR(IF(Medel_T[[#This Row],[AöA T]]=0,\"\",List_T[List symb]&Exp_T[[#Headers],[Överarmslyft> 90°: ]]&IF(VALUE(TEXT(Medel_T[[#This Row],[AöA T]],\"t\"))>0,VALUE(TEXT(Medel_T[[#This Row],[AöA T]],\"t\"))&\" h\",\"\")&IF(AND(VALUE(TEXT(Medel_T[[#This Row],[AöA T]],\"t\"))>0,VALUE(TEXT(Medel_T[[#This Row],[AöA T]],\"m\"))>2.4),\" \",\"\")&IF(VALUE(TEXT(Medel_T[[#This Row],[AöA T]],\"m\"))>2.4,TEXT(ROUND(Medel_T[[#This Row],[AöA T]]*(24*60/5),0)/(24*60/5),\"m\")&\" min\",\"\")&\"/dag x \"&ROUND(Medel_T[[#This Row],[Dag sum]:[Dag sum]]*DÅ[Arbetsdag/år],0)&\" dagar x \"&ROUND(Medel_T[[#This Row],[År]:[År]],1)&\" år = \"&TEXT(ROUND(Medel_T[[#This Row],[D AöA§]]*24,1-(INT(LOG10(ABS(Medel_T[[#This Row],[D AöA§]]*24))))),\"0\"&IF(1-(INT(LOG10(ABS(Medel_T[[#This Row],[D AöA§]]*24))))>0,\",\"&REPT(\"0\",1-(INT(LOG10(ABS(Medel_T[[#This Row],[D AöA§]]*24))))),\"\"))& \" h\"),\"\")","v":""},{"$f":"IFERROR(IF(Medel_T[[#This Row],[15AM T]]=0,\"\",List_T[List symb]&Exp_T[[#Headers],[Överarmsrörelser> 15/min: ]]&IF(VALUE(TEXT(Medel_T[[#This Row],[15AM T]],\"t\"))>0,VALUE(TEXT(Medel_T[[#This Row],[15AM T]],\"t\"))&\" h\",\"\")&IF(AND(VALUE(TEXT(Medel_T[[#This Row],[15AM T]],\"t\"))>0,VALUE(TEXT(Medel_T[[#This Row],[15AM T]],\"m\"))>2.4),\" \",\"\")&IF(VALUE(TEXT(Medel_T[[#This Row],[15AM T]],\"m\"))>2.4,TEXT(ROUND(Medel_T[[#This Row],[15AM T]]*(24*60/5),0)/(24*60/5),\"m\")&\" min\",\"\")&\"/dag x \"&ROUND(Medel_T[[#This Row],[Dag sum]:[Dag sum]]*DÅ[Arbetsdag/år],0)&\" dagar x \"&ROUND(Medel_T[[#This Row],[År]:[År]],1)&\" år = \"&TEXT(ROUND(Medel_T[[#This Row],[D 15AM§]]*24,1-(INT(LOG10(ABS(Medel_T[[#This Row],[D 15AM§]]*24))))),\"0\"&IF(1-(INT(LOG10(ABS(Medel_T[[#This Row],[D 15AM§]]*24))))>0,\",\"&REPT(\"0\",1-(INT(LOG10(ABS(Medel_T[[#This Row],[D 15AM§]]*24))))),\"\"))& \" h\"),\"\")","v":""},{"$f":"IFERROR(IF(OR(LEN(Medel_T[[#This Row],[AöA text]])>0,LEN(Medel_T[[#This Row],[15AM Text]])>0),Exp_T[Anställning]&YEAR(Medel_T[[#This Row],[Start]])&List_T[[#Totals],[List symb]]&YEAR(Medel_T[[#This Row],[Slut]])&\" (\"&ROUND(Medel_T[[#This Row],[År]],1)&\" år)\"&IF(LEN(Medel_T[[#This Row],[AöA text]])>0,↓[↓],\"\")&Medel_T[[#This Row],[AöA text]]&IF(LEN(Medel_T[[#This Row],[15AM Text]])>0,↓[↓],\"\")&Medel_T[[#This Row],[15AM Text]],\"\"),\"\")","v":""},{"$f":"IFERROR(IF(Medel_T[[#This Row],[AöA T]]=0,\"\",List_T[List symb]&Exp_T[[#Headers],[Överarmsrörelser> 15/min: ]]&IF(VALUE(TEXT(Medel_T[[#This Row],[AöA T]],\"t\"))>0,VALUE(TEXT(Medel_T[[#This Row],[AöA T]],\"t\"))&\" h\",\"\")&IF(AND(VALUE(TEXT(Medel_T[[#This Row],[AöA T]],\"t\"))>0,VALUE(TEXT(Medel_T[[#This Row],[AöA T]],\"m\"))>2.4),\" \",\"\")&IF(VALUE(TEXT(Medel_T[[#This Row],[AöA T]],\"m\"))>2.4,TEXT(ROUND(Medel_T[[#This Row],[AöA T]]*(24*60/5),0)/(24*60/5),\"m\")&\" min\",\"\")&\"/dag x \"&ROUND(Medel_T[[#This Row],[Dag sum]:[Dag sum]]*DÅ[Arbetsdag/år],0)&\" dagar x \"&ROUND(Medel_T[[#This Row],[År]:[År]],1)&\" år = \"&TEXT(ROUND(Medel_T[[#This Row],[D AöA¤]]*24,1-(INT(LOG10(ABS(Medel_T[[#This Row],[D AöA¤]]*24))))),\"0\"&IF(1-(INT(LOG10(ABS(Medel_T[[#This Row],[D AöA¤]]*24))))>0,\",\"&REPT(\"0\",1-(INT(LOG10(ABS(Medel_T[[#This Row],[D AöA¤]]*24))))),\"\"))& \" h\"),\"\")","v":""},{"$f":"IFERROR(IF(Medel_T[[#This Row],[15AM T]]=0,\"\",List_T[List symb]&Exp_T[[#Headers],[Överarmslyft> 90°: ]]&IF(VALUE(TEXT(Medel_T[[#This Row],[15AM T]],\"t\"))>0,VALUE(TEXT(Medel_T[[#This Row],[15AM T]],\"t\"))&\" h\",\"\")&IF(AND(VALUE(TEXT(Medel_T[[#This Row],[15AM T]],\"t\"))>0,VALUE(TEXT(Medel_T[[#This Row],[15AM T]],\"m\"))>0),\" \",\"\")&IF(VALUE(TEXT(Medel_T[[#This Row],[15AM T]],\"m\"))>0,TEXT(ROUND(Medel_T[[#This Row],[15AM T]]*(24*60/5),0)/(24*60/5),\"m\")&\" min\",\"\")&\"/dag x \"&ROUND(Medel_T[[#This Row],[Dag sum]:[Dag sum]]*DÅ[Arbetsdag/år],0)&\" dagar x \"&ROUND(Medel_T[[#This Row],[År]:[År]],1)&\" år = \"&TEXT(ROUND(Medel_T[[#This Row],[D 15AM¤]]*24,1-(INT(LOG10(ABS(Medel_T[[#This Row],[D 15AM¤]]*24))))),\"0\"&IF(1-(INT(LOG10(ABS(Medel_T[[#This Row],[D 15AM¤]]*24))))>0,\",\"&REPT(\"0\",1-(INT(LOG10(ABS(Medel_T[[#This Row],[D 15AM¤]]*24))))),\"\"))& \" h\"),\"\")","v":""},{"$f":"IFERROR(IF(LEN(Medel_T[[#This Row],[SJDstart]])>0,Exp_T[Anställning]&↓[↓]&YEAR(Medel_T[[#This Row],[Start]])&List_T[[#Totals],[List symb]]&YEAR(Medel_T[[#This Row],[Slut]])&\" (\"&ROUND(Medel_T[[#This Row],[År]],1)&\" år)\"&IF(LEN(Medel_T[[#This Row],[AöA text Sjuk]])>0,↓[↓],\"\")&Medel_T[[#This Row],[AöA text Sjuk]]&IF(LEN(Medel_T[[#This Row],[15AM Text Sjuk]])>0,↓[↓],\"\")&Medel_T[[#This Row],[15AM Text Sjuk]],\"\"),\"\")","v":""},{"$f":"IFERROR(Medel_T[[#This Row],[Period ]]&Medel_T[[#This Row],[ArbMomText]]&Medel_T[[#This Row],[Text]],\"\")","v":""},{"$f":"IF(AND(DJ41>=MAX(Medel_T[NrX]),ISNUMBER(DJ41)),Medel_T[[#Totals],[NrX]]+ROW()-ROW(Medel_T[[#Headers],[Rad]])-Medel_T[[#Totals],[Ant]]-1,INDEX(Medel_T[NrX],MATCH(ROW()-ROW(Medel_T[[#Headers],[Rad]]),Medel_T[NrX],0)))","v":{"$error":"#N/A"}},{"$f":"IF(Medel_T[[#This Row],[Rad]]<=Medel_T[[#Totals],[Ant]],MATCH(Medel_T[[#This Row],[Rad]],Medel_T[NrX],0),IFERROR(INDEX(BD_TX[[#Data],[#Totals],[SJ]],MATCH(Medel_T[[#This Row],[Rad]],BD_TX[[#Data],[#Totals],[Nr]],0)),\"\"))","v":{"$error":"#N/A"}},{"$f":"LEN(Medel_T[[#This Row],[Yrke2]])-LEN(SUBSTITUTE(Medel_T[[#This Row],[Yrke2]],LEFT(Sep_T[Separator],1),\"\"))","v":0},{"$f":"INDEX(Medel_T[År],Medel_T[[#This Row],[Nr]])","v":{"$error":"#N/A"}},{"$f":"IFERROR(IF(LEN(Medel_T[[#This Row],[Nr]])>0,TEXT(IFERROR(INDEX(Medel_T[Start],Medel_T[[#This Row],[Nr]]),INDEX(BD_TX[[#Data],[#Totals],[Start]],MATCH(Medel_T[[#This Row],[Rad]],BD_TX[[#Data],[#Totals],[Nr]],0))),\"ÅÅÅÅ MMM\")&\"-\"&TEXT(IFERROR(INDEX(Medel_T[Slut],Medel_T[[#This Row],[Nr]]),INDEX(BD_TX[[#Data],[#Totals],[År]],MATCH(Medel_T[[#This Row],[Rad]],BD_TX[[#Data],[#Totals],[Nr]],0))),\"ÅÅÅÅ MMM\"),\"\"),\"\")","v":""},{"$f":"IFERROR(IF(LEN(Medel_T[[#This Row],[Nr]])>0,IF(Medel_T[[#This Row],[Rad]]>Medel_T[[#Totals],[Ant]],IFERROR(INDEX(BD_TX[[#Data],[#Totals],[Text]],MATCH(Medel_T[[#This Row],[Rad]],BD_TX[[#Data],[#Totals],[Nr]],0)),\"\"),INDEX(Medel_T[Yrke],Medel_T[[#This Row],[Nr]])),\"\"),\"\")","v":""},{"$f":"IFERROR(INDEX(Medel_T[Arbetsmoment],MATCH(ROW()-ROW(Medel_T[[#Headers],[Arbetsmoment2]]),Medel_T[[NrX]:[NrX]],0)),\"\")","v":""},{"$f":"IFERROR(INDEX(Medel_T[],Medel_T[[#This Row],[Nr]],Medel_T[[#Totals],[HöA_T]]),\"\")","v":""},{"$f":"IF(LEN(Medel_T[[#This Row],[Nr]:[Nr]])>0,IFERROR(TEXT(ROUND(24*IFERROR(INDEX(Medel_T[],Medel_T[[#This Row],[Nr]:[Nr]],Medel_T[[#Totals],[D HöA]]),INDEX(Sum_T[[#Data],[#Totals]],MATCH(Medel_T[[#This Row],[Nr]:[Nr]],Sum_T[[#Data],[#Totals],[Typ]:[Typ]],0),MATCH(Medel_T[[#Headers],[D HöA]],Sum_T[#Headers],0))),1-(INT(LOG10(ABS(24*IFERROR(INDEX(Medel_T[],Medel_T[[#This Row],[Nr]:[Nr]],Medel_T[[#Totals],[D HöA]]),INDEX(Sum_T[[#Data],[#Totals]],MATCH(Medel_T[[#This Row],[Nr]:[Nr]],Sum_T[[#Data],[#Totals],[Typ]:[Typ]],0),MATCH(Medel_T[[#Headers],[D HöA]],Sum_T[#Headers],0)))))))),\"0\"&IF(1-(INT(LOG10(ABS(24*IFERROR(INDEX(Medel_T[],Medel_T[[#This Row],[Nr]:[Nr]],Medel_T[[#Totals],[D HöA]]),INDEX(Sum_T[[#Data],[#Totals]],MATCH(Medel_T[[#This Row],[Nr]:[Nr]],Sum_T[[#Data],[#Totals],[Typ]:[Typ]],0),MATCH(Medel_T[[#Headers],[D HöA]],Sum_T[#Headers],0)))))))>0,\",\"&REPT(\"0\",1-(INT(LOG10(ABS(24*IFERROR(INDEX(Medel_T[],Medel_T[[#This Row],[Nr]:[Nr]],Medel_T[[#Totals],[D HöA]]),INDEX(Sum_T[[#Data],[#Totals]],MATCH(Medel_T[[#This Row],[Nr]:[Nr]],Sum_T[[#Data],[#Totals],[Typ]:[Typ]],0),MATCH(Medel_T[[#Headers],[D HöA]],Sum_T[#Headers],0)))))))),0)),0),\"\")","v":{"$error":"#N/A"}},{"$f":"IFERROR(INDEX(Medel_T[],Medel_T[[#This Row],[Nr]],Medel_T[[#Totals],[AÖA_T]]),\"\")","v":""},{"$f":"IFERROR(IF(LEN(Medel_T[[#This Row],[Nr]:[Nr]])>0,IFERROR(TEXT(ROUND(24*IFERROR(INDEX(Medel_T[],Medel_T[[#This Row],[Nr]:[Nr]],Medel_T[[#Totals],[D AöA]]),INDEX(Sum_T[[#Data],[#Totals]],MATCH(Medel_T[[#This Row],[Nr]:[Nr]],Sum_T[[#Data],[#Totals],[Typ]:[Typ]],0),MATCH(Medel_T[[#Headers],[D AöA]],Sum_T[#Headers],0))),1-(INT(LOG10(ABS(24*IFERROR(INDEX(Medel_T[],Medel_T[[#This Row],[Nr]:[Nr]],Medel_T[[#Totals],[D AöA]]),INDEX(Sum_T[[#Data],[#Totals]],MATCH(Medel_T[[#This Row],[Nr]:[Nr]],Sum_T[[#Data],[#Totals],[Typ]:[Typ]],0),MATCH(Medel_T[[#Headers],[D AöA]],Sum_T[#Headers],0)))))))),\"0\"&IF(1-(INT(LOG10(ABS(24*IFERROR(INDEX(Medel_T[],Medel_T[[#This Row],[Nr]:[Nr]],Medel_T[[#Totals],[D AöA]]),INDEX(Sum_T[[#Data],[#Totals]],MATCH(Medel_T[[#This Row],[Nr]:[Nr]],Sum_T[[#Data],[#Totals],[Typ]:[Typ]],0),MATCH(Medel_T[[#Headers],[D AöA]],Sum_T[#Headers],0)))))))>0,\",\"&REPT(\"0\",1-(INT(LOG10(ABS(24*IFERROR(INDEX(Medel_T[],Medel_T[[#This Row],[Nr]:[Nr]],Medel_T[[#Totals],[D AöA]]),INDEX(Sum_T[[#Data],[#Totals]],MATCH(Medel_T[[#This Row],[Nr]:[Nr]],Sum_T[[#Data],[#Totals],[Typ]:[Typ]],0),MATCH(Medel_T[[#Headers],[D AöA]],Sum_T[#Headers],0)))))))),0)),0),\"\"),\"\")","v":""},{"$f":"IFERROR(INDEX(Medel_T[],Medel_T[[#This Row],[Nr]],Medel_T[[#Totals],[4AM_T]]),\"\")","v":""},{"$f":"IF(LEN(Medel_T[[#This Row],[Nr]:[Nr]])>0,IFERROR(TEXT(ROUND(24*IFERROR(INDEX(Medel_T[],Medel_T[[#This Row],[Nr]:[Nr]],Medel_T[[#Totals],[D 4AM]]),INDEX(Sum_T[[#Data],[#Totals]],MATCH(Medel_T[[#This Row],[Nr]:[Nr]],Sum_T[[#Data],[#Totals],[Typ]:[Typ]],0),MATCH(Medel_T[[#Headers],[D 4AM]],Sum_T[#Headers],0))),1-(INT(LOG10(ABS(24*IFERROR(INDEX(Medel_T[],Medel_T[[#This Row],[Nr]:[Nr]],Medel_T[[#Totals],[D 4AM]]),INDEX(Sum_T[[#Data],[#Totals]],MATCH(Medel_T[[#This Row],[Nr]:[Nr]],Sum_T[[#Data],[#Totals],[Typ]:[Typ]],0),MATCH(Medel_T[[#Headers],[D 4AM]],Sum_T[#Headers],0)))))))),\"0\"&IF(1-(INT(LOG10(ABS(24*IFERROR(INDEX(Medel_T[],Medel_T[[#This Row],[Nr]:[Nr]],Medel_T[[#Totals],[D 4AM]]),INDEX(Sum_T[[#Data],[#Totals]],MATCH(Medel_T[[#This Row],[Nr]:[Nr]],Sum_T[[#Data],[#Totals],[Typ]:[Typ]],0),MATCH(Medel_T[[#Headers],[D 4AM]],Sum_T[#Headers],0)))))))>0,\",\"&REPT(\"0\",1-(INT(LOG10(ABS(24*IFERROR(INDEX(Medel_T[],Medel_T[[#This Row],[Nr]:[Nr]],Medel_T[[#Totals],[D 4AM]]),INDEX(Sum_T[[#Data],[#Totals]],MATCH(Medel_T[[#This Row],[Nr]:[Nr]],Sum_T[[#Data],[#Totals],[Typ]:[Typ]],0),MATCH(Medel_T[[#Headers],[D 4AM]],Sum_T[#Headers],0)))))))),0)),0),\"\")","v":{"$error":"#N/A"}},{"$f":"IFERROR(INDEX(Medel_T[],Medel_T[[#This Row],[Nr]],Medel_T[[#Totals],[15AM_T]]),\"\")","v":""},{"$f":"IFERROR(IF(LEN(Medel_T[[#This Row],[Nr]:[Nr]])>0,IFERROR(TEXT(ROUND(24*IFERROR(INDEX(Medel_T[],Medel_T[[#This Row],[Nr]:[Nr]],Medel_T[[#Totals],[D 15AM]]),INDEX(Sum_T[[#Data],[#Totals]],MATCH(Medel_T[[#This Row],[Nr]:[Nr]],Sum_T[[#Data],[#Totals],[Typ]:[Typ]],0),MATCH(Medel_T[[#Headers],[D 15AM]],Sum_T[#Headers],0))),1-(INT(LOG10(ABS(24*IFERROR(INDEX(Medel_T[],Medel_T[[#This Row],[Nr]:[Nr]],Medel_T[[#Totals],[D 15AM]]),INDEX(Sum_T[[#Data],[#Totals]],MATCH(Medel_T[[#This Row],[Nr]:[Nr]],Sum_T[[#Data],[#Totals],[Typ]:[Typ]],0),MATCH(Medel_T[[#Headers],[D 15AM]],Sum_T[#Headers],0)))))))),\"0\"&IF(1-(INT(LOG10(ABS(24*IFERROR(INDEX(Medel_T[],Medel_T[[#This Row],[Nr]:[Nr]],Medel_T[[#Totals],[D 15AM]]),INDEX(Sum_T[[#Data],[#Totals]],MATCH(Medel_T[[#This Row],[Nr]:[Nr]],Sum_T[[#Data],[#Totals],[Typ]:[Typ]],0),MATCH(Medel_T[[#Headers],[D 15AM]],Sum_T[#Headers],0)))))))>0,\",\"&REPT(\"0\",1-(INT(LOG10(ABS(24*IFERROR(INDEX(Medel_T[],Medel_T[[#This Row],[Nr]:[Nr]],Medel_T[[#Totals],[D 15AM]]),INDEX(Sum_T[[#Data],[#Totals]],MATCH(Medel_T[[#This Row],[Nr]:[Nr]],Sum_T[[#Data],[#Totals],[Typ]:[Typ]],0),MATCH(Medel_T[[#Headers],[D 15AM]],Sum_T[#Headers],0)))))))),0)),0),\"\"),\"\")","v":""},{"$f":"IFERROR(INDEX(Medel_T[],Medel_T[[#This Row],[Nr]],Medel_T[[#Totals],[20-10D_T]]),\"\")","v":""},{"$f":"IF(LEN(Medel_T[[#This Row],[Nr]:[Nr]])>0,IFERROR(TEXT(ROUND(24*IFERROR(INDEX(Medel_T[],Medel_T[[#This Row],[Nr]:[Nr]],Medel_T[[#Totals],[D 20-10D]]),INDEX(Sum_T[[#Data],[#Totals]],MATCH(Medel_T[[#This Row],[Nr]:[Nr]],Sum_T[[#Data],[#Totals],[Typ]:[Typ]],0),MATCH(Medel_T[[#Headers],[D 20-10D]],Sum_T[#Headers],0))),1-(INT(LOG10(ABS(24*IFERROR(INDEX(Medel_T[],Medel_T[[#This Row],[Nr]:[Nr]],Medel_T[[#Totals],[D 20-10D]]),INDEX(Sum_T[[#Data],[#Totals]],MATCH(Medel_T[[#This Row],[Nr]:[Nr]],Sum_T[[#Data],[#Totals],[Typ]:[Typ]],0),MATCH(Medel_T[[#Headers],[D 20-10D]],Sum_T[#Headers],0)))))))),\"0\"&IF(1-(INT(LOG10(ABS(24*IFERROR(INDEX(Medel_T[],Medel_T[[#This Row],[Nr]:[Nr]],Medel_T[[#Totals],[D 20-10D]]),INDEX(Sum_T[[#Data],[#Totals]],MATCH(Medel_T[[#This Row],[Nr]:[Nr]],Sum_T[[#Data],[#Totals],[Typ]:[Typ]],0),MATCH(Medel_T[[#Headers],[D 20-10D]],Sum_T[#Headers],0)))))))>0,\",\"&REPT(\"0\",1-(INT(LOG10(ABS(24*IFERROR(INDEX(Medel_T[],Medel_T[[#This Row],[Nr]:[Nr]],Medel_T[[#Totals],[D 20-10D]]),INDEX(Sum_T[[#Data],[#Totals]],MATCH(Medel_T[[#This Row],[Nr]:[Nr]],Sum_T[[#Data],[#Totals],[Typ]:[Typ]],0),MATCH(Medel_T[[#Headers],[D 20-10D]],Sum_T[#Headers],0)))))))),0)),0),\"\")","v":{"$error":"#N/A"}},null,{"$f":"IFERROR(INDEX(Hin_T[Nr],MATCH(SMALL(Hin_T[B-årX],ROW()-ROW(Hut_T[[#Headers],[Rad]])),Hin_T[B-årX],0)),IF(ROWS($EB$19:EB42)=1+COUNTIF(Hin_T[Start],\"*\"),Hin_T[[#Totals],[Dag]],IF(AND(ROWS($EB$19:EB42)=2+COUNTIF(Hin_T[Start],\"*\"),Hin_T[[#Totals],[Q%-]]>0),EB41+1,IF(AND(ROWS($EB$19:EB42)=3+COUNTIF(Hin_T[Start],\"*\"),Hin_T[[#Totals],[Q%-]]>1),EB41+1,IF(AND(ROWS($EB$19:EB42)=4+COUNTIF(Hin_T[Start],\"*\"),Hin_T[[#Totals],[Q%-]]>2),EB41+1,\"\")))))","v":""},{"$f":"IF(Hut_T[[#This Row],[Rad]]<Hin_T[[#Totals],[Dag]],ROWS($EB$19:EB42),IFERROR(INDEX(BD_TX[[#Data],[#Totals],[SJ]],MATCH(Hut_T[[#This Row],[Rad]],BD_TX[[#Data],[#Totals],[NrX]],0)),\"\"))","v":""},{"$f":"IF(ISNUMBER(Hut_T[[#This Row],[Datum-]]),TEXT(Hut_T[[#This Row],[Datum-]],\"ÅÅÅÅ MMM\")&\"-\"&TEXT(Hut_T[[#This Row],[Datum+]],\"ÅÅÅÅ MMM\"),\"\")","v":""},{"$f":"IF(ISNUMBER(Hut_T[[#This Row],[Nr]]),IF(INDEX(Hin_T[Yrke],Hut_T[[#This Row],[Rad]])>0,INDEX(Hin_T[Yrke],Hut_T[[#This Row],[Rad]]),\"\"),IFERROR(INDEX(BD_TX[[#Data],[#Totals],[Text]],MATCH(Hut_T[[#This Row],[Rad]],BD_TX[[#Data],[#Totals],[NrX]],0)),\"\"))","v":""},{"$f":"IF(ISNUMBER(Hut_T[[#This Row],[Nr]]),IF(INDEX(Hin_T[Arbetsmoment],Hut_T[[#This Row],[Rad]])>0,INDEX(Hin_T[Arbetsmoment],Hut_T[[#This Row],[Rad]]),\"\"),\"\")","v":""},{"$f":"IFERROR(IF(INDEX(Hin_T[Yrke],Hut_T[[#This Row],[Rad]])>0,INDEX(Hin_T[Företag],Hut_T[[#This Row],[Rad]]),\"\"),\"\")","v":""},{"$f":"IFERROR(IF(INDEX(Hin_T[Dag],Hut_T[[#This Row],[Rad]])>0,INDEX(Hin_T[Dag],Hut_T[[#This Row],[Rad]])*DÅ[Arbetsdag/år],\"\"),\"\")","v":""},{"$f":"IF(AND(ISNUMBER(_xlfn.SINGLE(Hut_T[[#This Row],[Rad]:[Rad]])),IFERROR(_xlfn.SINGLE(INDEX(Hin_T[[#Data],[#Totals]],_xlfn.SINGLE(Hut_T[[#This Row],[Rad]:[Rad]]),MATCH(Hut_T[[#Headers],[D HöA]],Hin_T[#Headers],0))),\"\")),IFERROR(ROUND(_xlfn.SINGLE(INDEX(Hin_T[[#Data],[#Totals]],_xlfn.SINGLE(Hut_T[[#This Row],[Rad]:[Rad]])-IF(_xlfn.SINGLE(Hut_T[[#This Row],[Nr]:[Nr]])=_xlfn.SINGLE(#REF!),COUNT(Besvär_T[[Sjukdomsdebut]:[Sjukdomsdebut]]),0),MATCH(_xlfn.SINGLE(IF(_xlfn.SINGLE(Hut_T[[#This Row],[Nr]:[Nr]])=_xlfn.SINGLE(#REF!),#REF!,\"\"))&Hut_T[[#Headers],[D HöA]],Hin_T[#Headers],0))),0),\"\"),\"\")","v":""},{"$f":"IF(AND(ISNUMBER(Hut_T[[#This Row],[Rad]:[Rad]]),ISNUMBER(Hut_T[[#This Row],[D HöA]]),ISNUMBER(Hut_T[[#This Row],[Nr]:[Nr]])),IFERROR(ROUND(INDEX(Hin_T[[#Data],[#Totals]],Hut_T[[#This Row],[Rad]:[Rad]],MATCH(Hut_T[[#Headers],[HöA-A]],Hin_T[#Headers],0)),1-(INT(LOG10(INDEX(Hin_T[[#Data],[#Totals]],Hut_T[[#This Row],[Rad]:[Rad]],MATCH(Hut_T[[#Headers],[HöA-A]],Hin_T[#Headers],0)))))),1),\"\")","v":""},{"$f":"IF(AND(ISNUMBER(Hut_T[[#This Row],[Rad]:[Rad]]),IFERROR(INDEX(Hin_T[[#Data],[#Totals]],Hut_T[[#This Row],[Rad]:[Rad]],MATCH(Hut_T[[#Headers],[D AöA]],Hin_T[#Headers],0)),\"\")),IFERROR(ROUND(INDEX(Hin_T[[#Data],[#Totals]],Hut_T[[#This Row],[Rad]:[Rad]]-IF(Hut_T[[#This Row],[Nr]:[Nr]]=BD_TX[[SJ]:[SJ]],COUNT(Besvär_T[[Sjukdomsdebut]:[Sjukdomsdebut]]),0),MATCH(IF(Hut_T[[#This Row],[Nr]:[Nr]]=BD_TX[[#Totals],[SJ]:[SJ]],BD_TX[[#Headers],[SJ]],\"\")&Hut_T[[#Headers],[D AöA]],Hin_T[#Headers],0)),0),\"\"),\"\")","v":""},{"$f":"IF(AND(ISNUMBER(Hut_T[[#This Row],[Rad]:[Rad]]),ISNUMBER(Hut_T[[#This Row],[D AöA]]),ISNUMBER(Hut_T[[#This Row],[Nr]:[Nr]])),IFERROR(ROUND(INDEX(Hin_T[[#Data],[#Totals]],Hut_T[[#This Row],[Rad]:[Rad]],MATCH(Hut_T[[#Headers],[AöA-A]],Hin_T[#Headers],0)),1-(INT(LOG10(INDEX(Hin_T[[#Data],[#Totals]],Hut_T[[#This Row],[Rad]:[Rad]],MATCH(Hut_T[[#Headers],[AöA-A]],Hin_T[#Headers],0)))))),1),\"\")","v":""},{"$f":"IF(AND(ISNUMBER(_xlfn.SINGLE(Hut_T[[#This Row],[Rad]:[Rad]])),IFERROR(_xlfn.SINGLE(INDEX(Hin_T[[#Data],[#Totals]],_xlfn.SINGLE(Hut_T[[#This Row],[Rad]:[Rad]]),MATCH(Hut_T[[#Headers],[D 4AM]],Hin_T[#Headers],0))),\"\")),IFERROR(ROUND(_xlfn.SINGLE(INDEX(Hin_T[[#Data],[#Totals]],_xlfn.SINGLE(Hut_T[[#This Row],[Rad]:[Rad]])-IF(_xlfn.SINGLE(Hut_T[[#This Row],[Nr]:[Nr]])=_xlfn.SINGLE(#REF!),COUNT(Besvär_T[[Sjukdomsdebut]:[Sjukdomsdebut]]),0),MATCH(_xlfn.SINGLE(IF(_xlfn.SINGLE(Hut_T[[#This Row],[Nr]:[Nr]])=_xlfn.SINGLE(#REF!),#REF!,\"\"))&Hut_T[[#Headers],[D 4AM]],Hin_T[#Headers],0))),0),\"\"),\"\")","v":""},{"$f":"IF(AND(ISNUMBER(Hut_T[[#This Row],[Rad]:[Rad]]),ISNUMBER(Hut_T[[#This Row],[D 4AM]]),ISNUMBER(Hut_T[[#This Row],[Nr]:[Nr]])),IFERROR(ROUND(INDEX(Hin_T[[#Data],[#Totals]],Hut_T[[#This Row],[Rad]:[Rad]],MATCH(Hut_T[[#Headers],[4AM-A]],Hin_T[#Headers],0)),1-(INT(LOG10(INDEX(Hin_T[[#Data],[#Totals]],Hut_T[[#This Row],[Rad]:[Rad]],MATCH(Hut_T[[#Headers],[4AM-A]],Hin_T[#Headers],0)))))),1),\"\")","v":""},{"$f":"IF(AND(ISNUMBER(Hut_T[[#This Row],[Rad]:[Rad]]),IFERROR(INDEX(Hin_T[[#Data],[#Totals]],Hut_T[[#This Row],[Rad]:[Rad]],MATCH(Hut_T[[#Headers],[D 15AM]],Hin_T[#Headers],0)),\"\")),IFERROR(ROUND(INDEX(Hin_T[[#Data],[#Totals]],Hut_T[[#This Row],[Rad]:[Rad]]-IF(Hut_T[[#This Row],[Nr]:[Nr]]=BD_TX[[SJ]:[SJ]],COUNT(Besvär_T[[Sjukdomsdebut]:[Sjukdomsdebut]]),0),MATCH(IF(Hut_T[[#This Row],[Nr]:[Nr]]=BD_TX[[#Totals],[SJ]:[SJ]],BD_TX[[#Headers],[SJ]],\"\")&Hut_T[[#Headers],[D 15AM]],Hin_T[#Headers],0)),0),\"\"),\"\")","v":""},{"$f":"IF(AND(ISNUMBER(Hut_T[[#This Row],[Rad]:[Rad]]),ISNUMBER(Hut_T[[#This Row],[D 15AM]]),ISNUMBER(Hut_T[[#This Row],[Nr]:[Nr]])),IFERROR(ROUND(INDEX(Hin_T[[#Data],[#Totals]],Hut_T[[#This Row],[Rad]:[Rad]],MATCH(Hut_T[[#Headers],[15AM-A]],Hin_T[#Headers],0)),1-(INT(LOG10(INDEX(Hin_T[[#Data],[#Totals]],Hut_T[[#This Row],[Rad]:[Rad]],MATCH(Hut_T[[#Headers],[15AM-A]],Hin_T[#Headers],0)))))),1),\"\")","v":""},{"$f":"IF(AND(ISNUMBER(Hut_T[[#This Row],[Rad]:[Rad]]),IFERROR(INDEX(Hin_T[[#Data],[#Totals]],Hut_T[[#This Row],[Rad]:[Rad]],MATCH(Hut_T[[#Headers],[D 20-10D]],Hin_T[#Headers],0)),\"\")),IFERROR(ROUND(INDEX(Hin_T[[#Data],[#Totals]],Hut_T[[#This Row],[Rad]:[Rad]]-IF(Hut_T[[#This Row],[Nr]:[Nr]]=BD_TX[[SJ]:[SJ]],COUNT(Besvär_T[[Sjukdomsdebut]:[Sjukdomsdebut]]),0),MATCH(IF(Hut_T[[#This Row],[Nr]:[Nr]]=BD_TX[[#Totals],[SJ]:[SJ]],BD_TX[[#Headers],[SJ]],\"\")&Hut_T[[#Headers],[D 20-10D]],Hin_T[#Headers],0)),0),\"\"),\"\")","v":""},{"$f":"IF(AND(ISNUMBER(Hut_T[[#This Row],[Rad]:[Rad]]),ISNUMBER(Hut_T[[#This Row],[D 20-10D]]),ISNUMBER(Hut_T[[#This Row],[Nr]:[Nr]])),IFERROR(ROUND(INDEX(Hin_T[[#Data],[#Totals]],Hut_T[[#This Row],[Rad]:[Rad]],MATCH(Hut_T[[#Headers],[20-10D-A]],Hin_T[#Headers],0)),1-(INT(LOG10(INDEX(Hin_T[[#Data],[#Totals]],Hut_T[[#This Row],[Rad]:[Rad]],MATCH(Hut_T[[#Headers],[20-10D-A]],Hin_T[#Headers],0)))))),1),\"\")","v":""},null,{"$f":"IFERROR(INDEX(Hin_T[[#Data],[#Totals],[B-år]],Hut_T[[#This Row],[Rad]]),IF(ISNUMBER(Hut_T[[#This Row],[Datum+]]),ET41,\"\"))","v":""},{"$f":"IFERROR(INDEX(Hin_T[S-år],Hut_T[[#This Row],[Rad]]),IFERROR(INDEX(BD_TX[[#Data],[#Totals],[År]],MATCH(Hut_T[[#This Row],[Rad]],BD_TX[[#Data],[#Totals],[NrX]],0)),\"\"))","v":""},null,{"$f":"ROWS($EW$20:EW42)","v":23},{"$f":"IFERROR(MATCH(Hist_Tab[[#This Row],[Ref]],Medel_T[NrX],0),1)","v":1},{"$f":"INT((ROW(Hist_Tab[[#This Row],[Ref]])-ROW(Hist_Tab[[#Headers],[Ref]])-1)/4)+1","v":6},{"$f":"COUNTIF($EY$19:EY42,Hist_Tab[[#This Row],[Ref]])","v":4},{"$f":"IFERROR(INDEX(Medel_T[Start],Hist_Tab[[#This Row],[Ref]]),_xlfn.AGGREGATE(4,6,Medel_T[Start]))","v":"00:00:00"},{"$f":"IFERROR(INDEX(Medel_T[Slut],Hist_Tab[[#This Row],[Ref]]),_xlfn.AGGREGATE(4,6,Medel_T[Slut]))","v":"00:00:00"},{"$f":"IF(EW41=0,Hist_Tab[[#This Row],[ÅrB]],IF(Hist_Tab[[#This Row],[per/p]]<2,Hist_Tab[[#This Row],[ÅrB]],Hist_Tab[[#This Row],[År S]]))","v":"00:00:00"},{"$f":"IF(Hist_Tab[[#This Row],[Rad]:[Rad]]=0,-1,IF($EY43>_xlfn.AGGREGATE(2,6,Medel_T[[Slut]:[Slut]]),0,INDEX(Medel_T[],Hist_Tab[[#This Row],[Ref]:[Ref]],MATCH(Hist_Tab[[#Headers],[HöA T]],Medel_T[#Headers],0))))","v":0},{"$f":"IF(Hist_Tab[[#This Row],[Rad]:[Rad]]=0,0,IF($EY43>_xlfn.AGGREGATE(2,6,Medel_T[[Slut]:[Slut]]),0,INDEX(Medel_T[],Hist_Tab[[#This Row],[Ref]:[Ref]],MATCH(Hist_Tab[[#Headers],[AöA T]],Medel_T[#Headers],0))))","v":0},{"$f":"IF(Hist_Tab[[#This Row],[Rad]:[Rad]]=0,0,IF($EY43>_xlfn.AGGREGATE(2,6,Medel_T[[Slut]:[Slut]]),0,INDEX(Medel_T[],Hist_Tab[[#This Row],[Ref]:[Ref]],MATCH(Hist_Tab[[#Headers],[4AM T]],Medel_T[#Headers],0))))","v":0},{"$f":"IF(Hist_Tab[[#This Row],[Rad]:[Rad]]=0,0,IF($EY43>_xlfn.AGGREGATE(2,6,Medel_T[[Slut]:[Slut]]),0,INDEX(Medel_T[],Hist_Tab[[#This Row],[Ref]:[Ref]],MATCH(Hist_Tab[[#Headers],[15AM T]],Medel_T[#Headers],0))))","v":0},{"$f":"IF(Hist_Tab[[#This Row],[Rad]:[Rad]]=0,0,IF($EY43>_xlfn.AGGREGATE(2,6,Medel_T[[Slut]:[Slut]]),0,INDEX(Medel_T[],Hist_Tab[[#This Row],[Ref]:[Ref]],MATCH(Hist_Tab[[#Headers],[20-10D T]],Medel_T[#Headers],0))))","v":0}]
[null,null,null,null,null,null,null,null,null,null,null,null,null,null,null,null,null,null,null,null,null,null,null,null,null,null,null,null,null,null,null,null,null,null,null,null,null,null,null,null,null,null,null,null,null,null,null,null,null,null,null,null,null,null,null,null,null,null,null,null,null,null,null,null,null,null,null,null,null,null,{"$f":"SMALL(Hin_T[[StartÅR]:[SlutÅr]],ROW()-ROW(Medel_T[[#Headers],[Start]]))","v":{"$error":"#NUM!"}},{"$f":"SMALL(Hin_T[[StartÅR]:[SlutÅr]],ROW()-ROW(Medel_T[[#Headers],[Slut]])+1)","v":{"$error":"#NUM!"}},{"$f":"IF(Medel_T[[#This Row],[Start]]<=Besvär_T[[#Totals],[Sjukdomsdebut]],Medel_T[[#This Row],[Start]],\"\")","v":{"$error":"#NUM!"}},{"$f":"IF(Medel_T[[#This Row],[Slut]]<=Besvär_T[[#Totals],[Sjukdomsdebut]],Medel_T[[#This Row],[Slut]],IF(AND(LEN(Medel_T[[#This Row],[SJDstart]])>0,LEN(BU44)=0),Besvär_T[[#Totals],[Sjukdomsdebut]],\"\"))","v":{"$error":"#NUM!"}},{"$f":"IF(Medel_T[[#This Row],[Start]]>=Besvär_T[[#Totals],[Sjukdomsdebut]],Medel_T[[#This Row],[Start]],IF(AND(LEN(Medel_T[[#This Row],[EfterSlut]])>0,LEN(BX42)=0),Besvär_T[[#Totals],[Sjukdomsdebut]],\"\"))","v":{"$error":"#NUM!"}},{"$f":"IF(Medel_T[[#This Row],[Slut]]>=Besvär_T[[#Totals],[Sjukdomsdebut]],Medel_T[[#This Row],[Slut]],\"\")","v":{"$error":"#NUM!"}},{"$f":"COUNTIF($BZ$19:BZ43,\">0\")","v":0},{"$f":"COUNTIFS(Hin_T[B-år],\"<=\"&Medel_T[[#This Row],[Start]],Hin_T[S-år],\">=\"&Medel_T[[#This Row],[Slut]])","v":0},{"$f":"SUBSTITUTE(_xlfn.TEXTJOIN(Sep_T[Separator],TRUE,_xlfn._xlws.SORT(_xlfn.UNIQUE(IF((Hin_T[[B-år]:[B-år]]<=Medel_T[[#This Row],[Start]:[Start]])*(Hin_T[[S-år]:[S-år]]>=Medel_T[[#This Row],[Slut]:[Slut]]),Hin_T[Yrke],\"\")))),0&Sep_T[Separator],\"\")","v":{"$error":"#NUM!"}},{"$f":"SUBSTITUTE(_xlfn.TEXTJOIN(Sep_T[Separator],TRUE,_xlfn._xlws.SORT(_xlfn.UNIQUE(IF((Hin_T[[B-år]:[B-år]]<=Medel_T[[#This Row],[Start]:[Start]])*(Hin_T[[S-år]:[S-år]]>=Medel_T[[#This Row],[Slut]:[Slut]]),Hin_T[Arbetsmoment],\"\")))),0&Sep_T[Separator],\"\")","v":{"$error":"#NUM!"}},{"$f":"IF(LEN(Medel_T[[#This Row],[Yrke]])>0,Medel_T[[#Headers],[Period ]]&Medel_T[[#This Row],[NrX]]&\": \"&TEXT(Medel_T[[#This Row],[Start]],\"ÅÅÅÅ\")&List_T[[#Totals],[List symb]]&TEXT(Medel_T[[#This Row],[Slut]],\"ÅÅÅÅ\")&\" (\"&ROUND(Medel_T[[#This Row],[År]],1)&\" år) Anställd som \"&IFERROR(SUBSTITUTE(SUBSTITUTE(Medel_T[[#This Row],[Yrke]],Sep_T[Separator],\" och \",Medel_T[[#This Row],[Ant]]-1),Sep_T[Separator],\", \"),Medel_T[[#This Row],[Yrke]])&↓[↓],\"\")","v":{"$error":"#NUM!"}},{"$f":"IF(LEN(Medel_T[[#This Row],[Arbetsmoment]])>0,ROMAN(1)&\") \"&_xlfn.TEXTJOIN(Delim[Delimiters],TRUE,_xlfn._xlws.SORT(_xlfn.UNIQUE(IF((Hin_T[[B-år]:[B-år]]<=Medel_T[[#This Row],[Start]:[Start]])*(Hin_T[[S-år]:[S-år]]>=Medel_T[[#This Row],[Slut]:[Slut]]),Hin_T[Text],\"\"))))&↓[↓],\"\")","v":{"$error":"#NUM!"}},{"$f":"SUMPRODUCT((Hin_T[[B-år]:[B-år]]<=Medel_T[[#This Row],[Start]:[Start]])*(Hin_T[[S-år]:[S-år]]>=Medel_T[[#This Row],[Slut]:[Slut]])*Hin_T[Dag])","v":{"$error":"#NUM!"}},{"$f":"IF(Medel_T[[#This Row],[Proc dag]]<=1,Medel_T[[#This Row],[Proc dag]],1)","v":{"$error":"#NUM!"}},{"$f":"YEARFRAC(Medel_T[[#This Row],[Slut]],Medel_T[[#This Row],[Start]])","v":{"$error":"#NUM!"}},{"$f":"YEARFRAC(Medel_T[[#This Row],[SJDslut]],Medel_T[[#This Row],[SJDstart]])","v":{"$error":"#NUM!"}},{"$f":"IFERROR(SUMPRODUCT((Hin_T[[B-år]:[B-år]]<=Medel_T[[#This Row],[Start]:[Start]])*(Hin_T[[S-år]:[S-år]]>=Medel_T[[#This Row],[Slut]:[Slut]])*Hin_T[HöA]*Hin_T[[Dag]:[Dag]])/Medel_T[[#This Row],[Proc dag]],-1)","v":-1},{"$f":"IFERROR(SUMPRODUCT((Hin_T[[B-år]:[B-år]]<=Medel_T[[#This Row],[Start]:[Start]])*(Hin_T[[S-år]:[S-år]]>=Medel_T[[#This Row],[Slut]:[Slut]])*Hin_T[AöA]*Hin_T[[Dag]:[Dag]])/Medel_T[[#This Row],[Proc dag]],-1)","v":-1},{"$f":"IFERROR(SUMPRODUCT((Hin_T[[B-år]:[B-år]]<=Medel_T[[#This Row],[Start]:[Start]])*(Hin_T[[S-år]:[S-år]]>=Medel_T[[#This Row],[Slut]:[Slut]])*Hin_T[4AM]*Hin_T[[Dag]:[Dag]])/Medel_T[[#This Row],[Proc dag]],-1)","v":-1},{"$f":"IFERROR(SUMPRODUCT((Hin_T[[B-år]:[B-år]]<=Medel_T[[#This Row],[Start]:[Start]])*(Hin_T[[S-år]:[S-år]]>=Medel_T[[#This Row],[Slut]:[Slut]])*Hin_T[15AM]*Hin_T[[Dag]:[Dag]])/Medel_T[[#This Row],[Proc dag]],-1)","v":-1},{"$f":"IFERROR(SUMPRODUCT((Hin_T[[B-år]:[B-år]]<=Medel_T[[#This Row],[Start]:[Start]])*(Hin_T[[S-år]:[S-år]]>=Medel_T[[#This Row],[Slut]:[Slut]])*Hin_T[20-10D]*Hin_T[[Dag]:[Dag]])/Medel_T[[#This Row],[Proc dag]],-1)","v":-1},{"$f":"IFERROR(SUMPRODUCT((Hin_T[[B-år]:[B-år]]<=Medel_T[[#This Row],[Start]:[Start]])*(Hin_T[[S-år]:[S-år]]>=Medel_T[[#This Row],[Slut]:[Slut]])*Hin_T[[Dag]:[Dag]]*Hin_T[HöA])/Medel_T[[#This Row],[Dag sum]],-1)","v":-1},{"$f":"IFERROR(SUMPRODUCT((Hin_T[[B-år]:[B-år]]<=Medel_T[[#This Row],[Start]:[Start]])*(Hin_T[[S-år]:[S-år]]>=Medel_T[[#This Row],[Slut]:[Slut]])*Hin_T[[Dag]:[Dag]]*Hin_T[AöA])/Medel_T[[#This Row],[Dag sum]],-1)","v":-1},{"$f":"IFERROR(SUMPRODUCT((Hin_T[[B-år]:[B-år]]<=Medel_T[[#This Row],[Start]:[Start]])*(Hin_T[[S-år]:[S-år]]>=Medel_T[[#This Row],[Slut]:[Slut]])*Hin_T[[Dag]:[Dag]]*Hin_T[4AM])/Medel_T[[#This Row],[Dag sum]],-1)","v":-1},{"$f":"IFERROR(SUMPRODUCT((Hin_T[[B-år]:[B-år]]<=Medel_T[[#This Row],[Start]:[Start]])*(Hin_T[[S-år]:[S-år]]>=Medel_T[[#This Row],[Slut]:[Slut]])*Hin_T[15AM]*Hin_T[[Dag]:[Dag]])/Medel_T[[#This Row],[Dag sum]],-1)","v":-1},{"$f":"IFERROR(SUMPRODUCT((Hin_T[[B-år]:[B-år]]<=Medel_T[[#This Row],[Start]:[Start]])*(Hin_T[[S-år]:[S-år]]>=Medel_T[[#This Row],[Slut]:[Slut]])*Hin_T[[Dag]:[Dag]]*Hin_T[20-10D])/Medel_T[[#This Row],[Dag sum]],-1)","v":-1},{"$f":"IFERROR(Medel_T[[#This Row],[Dag sum]:[Dag sum]]*Medel_T[[#This Row],[År]:[År]]*Medel_T[[#This Row],[HöA T]]*DÅ[Arbetsdag/år],0)","v":0},{"$f":"IFERROR(Medel_T[[#This Row],[Dag sum]:[Dag sum]]*Medel_T[[#This Row],[År]:[År]]*Medel_T[[#This Row],[AöA T]]*DÅ[Arbetsdag/år],0)","v":0},{"$f":"IFERROR(Medel_T[[#This Row],[Dag sum]:[Dag sum]]*Medel_T[[#This Row],[År]:[År]]*Medel_T[[#This Row],[4AM T]]*DÅ[Arbetsdag/år],0)","v":0},{"$f":"IFERROR(Medel_T[[#This Row],[Dag sum]:[Dag sum]]*Medel_T[[#This Row],[År]:[År]]*Medel_T[[#This Row],[15AM T]]*DÅ[Arbetsdag/år],0)","v":0},{"$f":"IFERROR(Medel_T[[#This Row],[Dag sum]:[Dag sum]]*Medel_T[[#This Row],[År]:[År]]*Medel_T[[#This Row],[20-10D T]]*DÅ[Arbetsdag/år],0)","v":0},{"$f":"IFERROR(Medel_T[[#This Row],[Dag sum]:[Dag sum]]*Medel_T[[#This Row],[ÅrSjuk]:[ÅrSjuk]]*Medel_T[[#This Row],[HöA T]]*DÅ[Arbetsdag/år],0)","v":0},{"$f":"IFERROR(Medel_T[[#This Row],[Dag sum]:[Dag sum]]*Medel_T[[#This Row],[ÅrSjuk]:[ÅrSjuk]]*Medel_T[[#This Row],[AöA T]]*DÅ[Arbetsdag/år],0)","v":0},{"$f":"IFERROR(Medel_T[[#This Row],[Dag sum]:[Dag sum]]*Medel_T[[#This Row],[ÅrSjuk]:[ÅrSjuk]]*Medel_T[[#This Row],[4AM T]]*DÅ[Arbetsdag/år],0)","v":0},{"$f":"IFERROR(Medel_T[[#This Row],[Dag sum]:[Dag sum]]*Medel_T[[#This Row],[ÅrSjuk]:[ÅrSjuk]]*Medel_T[[#This Row],[15AM T]]*DÅ[Arbetsdag/år],0)","v":0},{"$f":"IFERROR(Medel_T[[#This Row],[Dag sum]:[Dag sum]]*Medel_T[[#This Row],[ÅrSjuk]:[ÅrSjuk]]*Medel_T[[#This Row],[20-10D T]]*DÅ[Arbetsdag/år],0)","v":0},{"$f":"IFERROR(IF(Medel_T[[#This Row],[AöA T]]=0,\"\",List_T[List symb]&Exp_T[[#Headers],[Överarmslyft> 90°: ]]&IF(VALUE(TEXT(Medel_T[[#This Row],[AöA T]],\"t\"))>0,VALUE(TEXT(Medel_T[[#This Row],[AöA T]],\"t\"))&\" h\",\"\")&IF(AND(VALUE(TEXT(Medel_T[[#This Row],[AöA T]],\"t\"))>0,VALUE(TEXT(Medel_T[[#This Row],[AöA T]],\"m\"))>2.4),\" \",\"\")&IF(VALUE(TEXT(Medel_T[[#This Row],[AöA T]],\"m\"))>2.4,TEXT(ROUND(Medel_T[[#This Row],[AöA T]]*(24*60/5),0)/(24*60/5),\"m\")&\" min\",\"\")&\"/dag x \"&ROUND(Medel_T[[#This Row],[Dag sum]:[Dag sum]]*DÅ[Arbetsdag/år],0)&\" dagar x \"&ROUND(Medel_T[[#This Row],[År]:[År]],1)&\" år = \"&TEXT(ROUND(Medel_T[[#This Row],[D AöA§]]*24,1-(INT(LOG10(ABS(Medel_T[[#This Row],[D AöA§]]*24))))),\"0\"&IF(1-(INT(LOG10(ABS(Medel_T[[#This Row],[D AöA§]]*24))))>0,\",\"&REPT(\"0\",1-(INT(LOG10(ABS(Medel_T[[#This Row],[D AöA§]]*24))))),\"\"))& \" h\"),\"\")","v":""},{"$f":"IFERROR(IF(Medel_T[[#This Row],[15AM T]]=0,\"\",List_T[List symb]&Exp_T[[#Headers],[Överarmsrörelser> 15/min: ]]&IF(VALUE(TEXT(Medel_T[[#This Row],[15AM T]],\"t\"))>0,VALUE(TEXT(Medel_T[[#This Row],[15AM T]],\"t\"))&\" h\",\"\")&IF(AND(VALUE(TEXT(Medel_T[[#This Row],[15AM T]],\"t\"))>0,VALUE(TEXT(Medel_T[[#This Row],[15AM T]],\"m\"))>2.4),\" \",\"\")&IF(VALUE(TEXT(Medel_T[[#This Row],[15AM T]],\"m\"))>2.4,TEXT(ROUND(Medel_T[[#This Row],[15AM T]]*(24*60/5),0)/(24*60/5),\"m\")&\" min\",\"\")&\"/dag x \"&ROUND(Medel_T[[#This Row],[Dag sum]:[Dag sum]]*DÅ[Arbetsdag/år],0)&\" dagar x \"&ROUND(Medel_T[[#This Row],[År]:[År]],1)&\" år = \"&TEXT(ROUND(Medel_T[[#This Row],[D 15AM§]]*24,1-(INT(LOG10(ABS(Medel_T[[#This Row],[D 15AM§]]*24))))),\"0\"&IF(1-(INT(LOG10(ABS(Medel_T[[#This Row],[D 15AM§]]*24))))>0,\",\"&REPT(\"0\",1-(INT(LOG10(ABS(Medel_T[[#This Row],[D 15AM§]]*24))))),\"\"))& \" h\"),\"\")","v":""},{"$f":"IFERROR(IF(OR(LEN(Medel_T[[#This Row],[AöA text]])>0,LEN(Medel_T[[#This Row],[15AM Text]])>0),Exp_T[Anställning]&YEAR(Medel_T[[#This Row],[Start]])&List_T[[#Totals],[List symb]]&YEAR(Medel_T[[#This Row],[Slut]])&\" (\"&ROUND(Medel_T[[#This Row],[År]],1)&\" år)\"&IF(LEN(Medel_T[[#This Row],[AöA text]])>0,↓[↓],\"\")&Medel_T[[#This Row],[AöA text]]&IF(LEN(Medel_T[[#This Row],[15AM Text]])>0,↓[↓],\"\")&Medel_T[[#This Row],[15AM Text]],\"\"),\"\")","v":""},{"$f":"IFERROR(IF(Medel_T[[#This Row],[AöA T]]=0,\"\",List_T[List symb]&Exp_T[[#Headers],[Överarmsrörelser> 15/min: ]]&IF(VALUE(TEXT(Medel_T[[#This Row],[AöA T]],\"t\"))>0,VALUE(TEXT(Medel_T[[#This Row],[AöA T]],\"t\"))&\" h\",\"\")&IF(AND(VALUE(TEXT(Medel_T[[#This Row],[AöA T]],\"t\"))>0,VALUE(TEXT(Medel_T[[#This Row],[AöA T]],\"m\"))>2.4),\" \",\"\")&IF(VALUE(TEXT(Medel_T[[#This Row],[AöA T]],\"m\"))>2.4,TEXT(ROUND(Medel_T[[#This Row],[AöA T]]*(24*60/5),0)/(24*60/5),\"m\")&\" min\",\"\")&\"/dag x \"&ROUND(Medel_T[[#This Row],[Dag sum]:[Dag sum]]*DÅ[Arbetsdag/år],0)&\" dagar x \"&ROUND(Medel_T[[#This Row],[År]:[År]],1)&\" år = \"&TEXT(ROUND(Medel_T[[#This Row],[D AöA¤]]*24,1-(INT(LOG10(ABS(Medel_T[[#This Row],[D AöA¤]]*24))))),\"0\"&IF(1-(INT(LOG10(ABS(Medel_T[[#This Row],[D AöA¤]]*24))))>0,\",\"&REPT(\"0\",1-(INT(LOG10(ABS(Medel_T[[#This Row],[D AöA¤]]*24))))),\"\"))& \" h\"),\"\")","v":""},{"$f":"IFERROR(IF(Medel_T[[#This Row],[15AM T]]=0,\"\",List_T[List symb]&Exp_T[[#Headers],[Överarmslyft> 90°: ]]&IF(VALUE(TEXT(Medel_T[[#This Row],[15AM T]],\"t\"))>0,VALUE(TEXT(Medel_T[[#This Row],[15AM T]],\"t\"))&\" h\",\"\")&IF(AND(VALUE(TEXT(Medel_T[[#This Row],[15AM T]],\"t\"))>0,VALUE(TEXT(Medel_T[[#This Row],[15AM T]],\"m\"))>0),\" \",\"\")&IF(VALUE(TEXT(Medel_T[[#This Row],[15AM T]],\"m\"))>0,TEXT(ROUND(Medel_T[[#This Row],[15AM T]]*(24*60/5),0)/(24*60/5),\"m\")&\" min\",\"\")&\"/dag x \"&ROUND(Medel_T[[#This Row],[Dag sum]:[Dag sum]]*DÅ[Arbetsdag/år],0)&\" dagar x \"&ROUND(Medel_T[[#This Row],[År]:[År]],1)&\" år = \"&TEXT(ROUND(Medel_T[[#This Row],[D 15AM¤]]*24,1-(INT(LOG10(ABS(Medel_T[[#This Row],[D 15AM¤]]*24))))),\"0\"&IF(1-(INT(LOG10(ABS(Medel_T[[#This Row],[D 15AM¤]]*24))))>0,\",\"&REPT(\"0\",1-(INT(LOG10(ABS(Medel_T[[#This Row],[D 15AM¤]]*24))))),\"\"))& \" h\"),\"\")","v":""},{"$f":"IFERROR(IF(LEN(Medel_T[[#This Row],[SJDstart]])>0,Exp_T[Anställning]&↓[↓]&YEAR(Medel_T[[#This Row],[Start]])&List_T[[#Totals],[List symb]]&YEAR(Medel_T[[#This Row],[Slut]])&\" (\"&ROUND(Medel_T[[#This Row],[År]],1)&\" år)\"&IF(LEN(Medel_T[[#This Row],[AöA text Sjuk]])>0,↓[↓],\"\")&Medel_T[[#This Row],[AöA text Sjuk]]&IF(LEN(Medel_T[[#This Row],[15AM Text Sjuk]])>0,↓[↓],\"\")&Medel_T[[#This Row],[15AM Text Sjuk]],\"\"),\"\")","v":""},{"$f":"IFERROR(Medel_T[[#This Row],[Period ]]&Medel_T[[#This Row],[ArbMomText]]&Medel_T[[#This Row],[Text]],\"\")","v":""},{"$f":"IF(AND(DJ42>=MAX(Medel_T[NrX]),ISNUMBER(DJ42)),Medel_T[[#Totals],[NrX]]+ROW()-ROW(Medel_T[[#Headers],[Rad]])-Medel_T[[#Totals],[Ant]]-1,INDEX(Medel_T[NrX],MATCH(ROW()-ROW(Medel_T[[#Headers],[Rad]]),Medel_T[NrX],0)))","v":{"$error":"#N/A"}},{"$f":"IF(Medel_T[[#This Row],[Rad]]<=Medel_T[[#Totals],[Ant]],MATCH(Medel_T[[#This Row],[Rad]],Medel_T[NrX],0),IFERROR(INDEX(BD_TX[[#Data],[#Totals],[SJ]],MATCH(Medel_T[[#This Row],[Rad]],BD_TX[[#Data],[#Totals],[Nr]],0)),\"\"))","v":{"$error":"#N/A"}},{"$f":"LEN(Medel_T[[#This Row],[Yrke2]])-LEN(SUBSTITUTE(Medel_T[[#This Row],[Yrke2]],LEFT(Sep_T[Separator],1),\"\"))","v":0},{"$f":"INDEX(Medel_T[År],Medel_T[[#This Row],[Nr]])","v":{"$error":"#N/A"}},{"$f":"IFERROR(IF(LEN(Medel_T[[#This Row],[Nr]])>0,TEXT(IFERROR(INDEX(Medel_T[Start],Medel_T[[#This Row],[Nr]]),INDEX(BD_TX[[#Data],[#Totals],[Start]],MATCH(Medel_T[[#This Row],[Rad]],BD_TX[[#Data],[#Totals],[Nr]],0))),\"ÅÅÅÅ MMM\")&\"-\"&TEXT(IFERROR(INDEX(Medel_T[Slut],Medel_T[[#This Row],[Nr]]),INDEX(BD_TX[[#Data],[#Totals],[År]],MATCH(Medel_T[[#This Row],[Rad]],BD_TX[[#Data],[#Totals],[Nr]],0))),\"ÅÅÅÅ MMM\"),\"\"),\"\")","v":""},{"$f":"IFERROR(IF(LEN(Medel_T[[#This Row],[Nr]])>0,IF(Medel_T[[#This Row],[Rad]]>Medel_T[[#Totals],[Ant]],IFERROR(INDEX(BD_TX[[#Data],[#Totals],[Text]],MATCH(Medel_T[[#This Row],[Rad]],BD_TX[[#Data],[#Totals],[Nr]],0)),\"\"),INDEX(Medel_T[Yrke],Medel_T[[#This Row],[Nr]])),\"\"),\"\")","v":""},{"$f":"IFERROR(INDEX(Medel_T[Arbetsmoment],MATCH(ROW()-ROW(Medel_T[[#Headers],[Arbetsmoment2]]),Medel_T[[NrX]:[NrX]],0)),\"\")","v":""},{"$f":"IFERROR(INDEX(Medel_T[],Medel_T[[#This Row],[Nr]],Medel_T[[#Totals],[HöA_T]]),\"\")","v":""},{"$f":"IF(LEN(Medel_T[[#This Row],[Nr]:[Nr]])>0,IFERROR(TEXT(ROUND(24*IFERROR(INDEX(Medel_T[],Medel_T[[#This Row],[Nr]:[Nr]],Medel_T[[#Totals],[D HöA]]),INDEX(Sum_T[[#Data],[#Totals]],MATCH(Medel_T[[#This Row],[Nr]:[Nr]],Sum_T[[#Data],[#Totals],[Typ]:[Typ]],0),MATCH(Medel_T[[#Headers],[D HöA]],Sum_T[#Headers],0))),1-(INT(LOG10(ABS(24*IFERROR(INDEX(Medel_T[],Medel_T[[#This Row],[Nr]:[Nr]],Medel_T[[#Totals],[D HöA]]),INDEX(Sum_T[[#Data],[#Totals]],MATCH(Medel_T[[#This Row],[Nr]:[Nr]],Sum_T[[#Data],[#Totals],[Typ]:[Typ]],0),MATCH(Medel_T[[#Headers],[D HöA]],Sum_T[#Headers],0)))))))),\"0\"&IF(1-(INT(LOG10(ABS(24*IFERROR(INDEX(Medel_T[],Medel_T[[#This Row],[Nr]:[Nr]],Medel_T[[#Totals],[D HöA]]),INDEX(Sum_T[[#Data],[#Totals]],MATCH(Medel_T[[#This Row],[Nr]:[Nr]],Sum_T[[#Data],[#Totals],[Typ]:[Typ]],0),MATCH(Medel_T[[#Headers],[D HöA]],Sum_T[#Headers],0)))))))>0,\",\"&REPT(\"0\",1-(INT(LOG10(ABS(24*IFERROR(INDEX(Medel_T[],Medel_T[[#This Row],[Nr]:[Nr]],Medel_T[[#Totals],[D HöA]]),INDEX(Sum_T[[#Data],[#Totals]],MATCH(Medel_T[[#This Row],[Nr]:[Nr]],Sum_T[[#Data],[#Totals],[Typ]:[Typ]],0),MATCH(Medel_T[[#Headers],[D HöA]],Sum_T[#Headers],0)))))))),0)),0),\"\")","v":{"$error":"#N/A"}},{"$f":"IFERROR(INDEX(Medel_T[],Medel_T[[#This Row],[Nr]],Medel_T[[#Totals],[AÖA_T]]),\"\")","v":""},{"$f":"IFERROR(IF(LEN(Medel_T[[#This Row],[Nr]:[Nr]])>0,IFERROR(TEXT(ROUND(24*IFERROR(INDEX(Medel_T[],Medel_T[[#This Row],[Nr]:[Nr]],Medel_T[[#Totals],[D AöA]]),INDEX(Sum_T[[#Data],[#Totals]],MATCH(Medel_T[[#This Row],[Nr]:[Nr]],Sum_T[[#Data],[#Totals],[Typ]:[Typ]],0),MATCH(Medel_T[[#Headers],[D AöA]],Sum_T[#Headers],0))),1-(INT(LOG10(ABS(24*IFERROR(INDEX(Medel_T[],Medel_T[[#This Row],[Nr]:[Nr]],Medel_T[[#Totals],[D AöA]]),INDEX(Sum_T[[#Data],[#Totals]],MATCH(Medel_T[[#This Row],[Nr]:[Nr]],Sum_T[[#Data],[#Totals],[Typ]:[Typ]],0),MATCH(Medel_T[[#Headers],[D AöA]],Sum_T[#Headers],0)))))))),\"0\"&IF(1-(INT(LOG10(ABS(24*IFERROR(INDEX(Medel_T[],Medel_T[[#This Row],[Nr]:[Nr]],Medel_T[[#Totals],[D AöA]]),INDEX(Sum_T[[#Data],[#Totals]],MATCH(Medel_T[[#This Row],[Nr]:[Nr]],Sum_T[[#Data],[#Totals],[Typ]:[Typ]],0),MATCH(Medel_T[[#Headers],[D AöA]],Sum_T[#Headers],0)))))))>0,\",\"&REPT(\"0\",1-(INT(LOG10(ABS(24*IFERROR(INDEX(Medel_T[],Medel_T[[#This Row],[Nr]:[Nr]],Medel_T[[#Totals],[D AöA]]),INDEX(Sum_T[[#Data],[#Totals]],MATCH(Medel_T[[#This Row],[Nr]:[Nr]],Sum_T[[#Data],[#Totals],[Typ]:[Typ]],0),MATCH(Medel_T[[#Headers],[D AöA]],Sum_T[#Headers],0)))))))),0)),0),\"\"),\"\")","v":""},{"$f":"IFERROR(INDEX(Medel_T[],Medel_T[[#This Row],[Nr]],Medel_T[[#Totals],[4AM_T]]),\"\")","v":""},{"$f":"IF(LEN(Medel_T[[#This Row],[Nr]:[Nr]])>0,IFERROR(TEXT(ROUND(24*IFERROR(INDEX(Medel_T[],Medel_T[[#This Row],[Nr]:[Nr]],Medel_T[[#Totals],[D 4AM]]),INDEX(Sum_T[[#Data],[#Totals]],MATCH(Medel_T[[#This Row],[Nr]:[Nr]],Sum_T[[#Data],[#Totals],[Typ]:[Typ]],0),MATCH(Medel_T[[#Headers],[D 4AM]],Sum_T[#Headers],0))),1-(INT(LOG10(ABS(24*IFERROR(INDEX(Medel_T[],Medel_T[[#This Row],[Nr]:[Nr]],Medel_T[[#Totals],[D 4AM]]),INDEX(Sum_T[[#Data],[#Totals]],MATCH(Medel_T[[#This Row],[Nr]:[Nr]],Sum_T[[#Data],[#Totals],[Typ]:[Typ]],0),MATCH(Medel_T[[#Headers],[D 4AM]],Sum_T[#Headers],0)))))))),\"0\"&IF(1-(INT(LOG10(ABS(24*IFERROR(INDEX(Medel_T[],Medel_T[[#This Row],[Nr]:[Nr]],Medel_T[[#Totals],[D 4AM]]),INDEX(Sum_T[[#Data],[#Totals]],MATCH(Medel_T[[#This Row],[Nr]:[Nr]],Sum_T[[#Data],[#Totals],[Typ]:[Typ]],0),MATCH(Medel_T[[#Headers],[D 4AM]],Sum_T[#Headers],0)))))))>0,\",\"&REPT(\"0\",1-(INT(LOG10(ABS(24*IFERROR(INDEX(Medel_T[],Medel_T[[#This Row],[Nr]:[Nr]],Medel_T[[#Totals],[D 4AM]]),INDEX(Sum_T[[#Data],[#Totals]],MATCH(Medel_T[[#This Row],[Nr]:[Nr]],Sum_T[[#Data],[#Totals],[Typ]:[Typ]],0),MATCH(Medel_T[[#Headers],[D 4AM]],Sum_T[#Headers],0)))))))),0)),0),\"\")","v":{"$error":"#N/A"}},{"$f":"IFERROR(INDEX(Medel_T[],Medel_T[[#This Row],[Nr]],Medel_T[[#Totals],[15AM_T]]),\"\")","v":""},{"$f":"IFERROR(IF(LEN(Medel_T[[#This Row],[Nr]:[Nr]])>0,IFERROR(TEXT(ROUND(24*IFERROR(INDEX(Medel_T[],Medel_T[[#This Row],[Nr]:[Nr]],Medel_T[[#Totals],[D 15AM]]),INDEX(Sum_T[[#Data],[#Totals]],MATCH(Medel_T[[#This Row],[Nr]:[Nr]],Sum_T[[#Data],[#Totals],[Typ]:[Typ]],0),MATCH(Medel_T[[#Headers],[D 15AM]],Sum_T[#Headers],0))),1-(INT(LOG10(ABS(24*IFERROR(INDEX(Medel_T[],Medel_T[[#This Row],[Nr]:[Nr]],Medel_T[[#Totals],[D 15AM]]),INDEX(Sum_T[[#Data],[#Totals]],MATCH(Medel_T[[#This Row],[Nr]:[Nr]],Sum_T[[#Data],[#Totals],[Typ]:[Typ]],0),MATCH(Medel_T[[#Headers],[D 15AM]],Sum_T[#Headers],0)))))))),\"0\"&IF(1-(INT(LOG10(ABS(24*IFERROR(INDEX(Medel_T[],Medel_T[[#This Row],[Nr]:[Nr]],Medel_T[[#Totals],[D 15AM]]),INDEX(Sum_T[[#Data],[#Totals]],MATCH(Medel_T[[#This Row],[Nr]:[Nr]],Sum_T[[#Data],[#Totals],[Typ]:[Typ]],0),MATCH(Medel_T[[#Headers],[D 15AM]],Sum_T[#Headers],0)))))))>0,\",\"&REPT(\"0\",1-(INT(LOG10(ABS(24*IFERROR(INDEX(Medel_T[],Medel_T[[#This Row],[Nr]:[Nr]],Medel_T[[#Totals],[D 15AM]]),INDEX(Sum_T[[#Data],[#Totals]],MATCH(Medel_T[[#This Row],[Nr]:[Nr]],Sum_T[[#Data],[#Totals],[Typ]:[Typ]],0),MATCH(Medel_T[[#Headers],[D 15AM]],Sum_T[#Headers],0)))))))),0)),0),\"\"),\"\")","v":""},{"$f":"IFERROR(INDEX(Medel_T[],Medel_T[[#This Row],[Nr]],Medel_T[[#Totals],[20-10D_T]]),\"\")","v":""},{"$f":"IF(LEN(Medel_T[[#This Row],[Nr]:[Nr]])>0,IFERROR(TEXT(ROUND(24*IFERROR(INDEX(Medel_T[],Medel_T[[#This Row],[Nr]:[Nr]],Medel_T[[#Totals],[D 20-10D]]),INDEX(Sum_T[[#Data],[#Totals]],MATCH(Medel_T[[#This Row],[Nr]:[Nr]],Sum_T[[#Data],[#Totals],[Typ]:[Typ]],0),MATCH(Medel_T[[#Headers],[D 20-10D]],Sum_T[#Headers],0))),1-(INT(LOG10(ABS(24*IFERROR(INDEX(Medel_T[],Medel_T[[#This Row],[Nr]:[Nr]],Medel_T[[#Totals],[D 20-10D]]),INDEX(Sum_T[[#Data],[#Totals]],MATCH(Medel_T[[#This Row],[Nr]:[Nr]],Sum_T[[#Data],[#Totals],[Typ]:[Typ]],0),MATCH(Medel_T[[#Headers],[D 20-10D]],Sum_T[#Headers],0)))))))),\"0\"&IF(1-(INT(LOG10(ABS(24*IFERROR(INDEX(Medel_T[],Medel_T[[#This Row],[Nr]:[Nr]],Medel_T[[#Totals],[D 20-10D]]),INDEX(Sum_T[[#Data],[#Totals]],MATCH(Medel_T[[#This Row],[Nr]:[Nr]],Sum_T[[#Data],[#Totals],[Typ]:[Typ]],0),MATCH(Medel_T[[#Headers],[D 20-10D]],Sum_T[#Headers],0)))))))>0,\",\"&REPT(\"0\",1-(INT(LOG10(ABS(24*IFERROR(INDEX(Medel_T[],Medel_T[[#This Row],[Nr]:[Nr]],Medel_T[[#Totals],[D 20-10D]]),INDEX(Sum_T[[#Data],[#Totals]],MATCH(Medel_T[[#This Row],[Nr]:[Nr]],Sum_T[[#Data],[#Totals],[Typ]:[Typ]],0),MATCH(Medel_T[[#Headers],[D 20-10D]],Sum_T[#Headers],0)))))))),0)),0),\"\")","v":{"$error":"#N/A"}},null,{"$f":"IFERROR(INDEX(Hin_T[Nr],MATCH(SMALL(Hin_T[B-årX],ROW()-ROW(Hut_T[[#Headers],[Rad]])),Hin_T[B-årX],0)),IF(ROWS($EB$19:EB43)=1+COUNTIF(Hin_T[Start],\"*\"),Hin_T[[#Totals],[Dag]],IF(AND(ROWS($EB$19:EB43)=2+COUNTIF(Hin_T[Start],\"*\"),Hin_T[[#Totals],[Q%-]]>0),EB42+1,IF(AND(ROWS($EB$19:EB43)=3+COUNTIF(Hin_T[Start],\"*\"),Hin_T[[#Totals],[Q%-]]>1),EB42+1,IF(AND(ROWS($EB$19:EB43)=4+COUNTIF(Hin_T[Start],\"*\"),Hin_T[[#Totals],[Q%-]]>2),EB42+1,\"\")))))","v":""},{"$f":"IF(Hut_T[[#This Row],[Rad]]<Hin_T[[#Totals],[Dag]],ROWS($EB$19:EB43),IFERROR(INDEX(BD_TX[[#Data],[#Totals],[SJ]],MATCH(Hut_T[[#This Row],[Rad]],BD_TX[[#Data],[#Totals],[NrX]],0)),\"\"))","v":""},{"$f":"IF(ISNUMBER(Hut_T[[#This Row],[Datum-]]),TEXT(Hut_T[[#This Row],[Datum-]],\"ÅÅÅÅ MMM\")&\"-\"&TEXT(Hut_T[[#This Row],[Datum+]],\"ÅÅÅÅ MMM\"),\"\")","v":""},{"$f":"IF(ISNUMBER(Hut_T[[#This Row],[Nr]]),IF(INDEX(Hin_T[Yrke],Hut_T[[#This Row],[Rad]])>0,INDEX(Hin_T[Yrke],Hut_T[[#This Row],[Rad]]),\"\"),IFERROR(INDEX(BD_TX[[#Data],[#Totals],[Text]],MATCH(Hut_T[[#This Row],[Rad]],BD_TX[[#Data],[#Totals],[NrX]],0)),\"\"))","v":""},{"$f":"IF(ISNUMBER(Hut_T[[#This Row],[Nr]]),IF(INDEX(Hin_T[Arbetsmoment],Hut_T[[#This Row],[Rad]])>0,INDEX(Hin_T[Arbetsmoment],Hut_T[[#This Row],[Rad]]),\"\"),\"\")","v":""},{"$f":"IFERROR(IF(INDEX(Hin_T[Yrke],Hut_T[[#This Row],[Rad]])>0,INDEX(Hin_T[Företag],Hut_T[[#This Row],[Rad]]),\"\"),\"\")","v":""},{"$f":"IFERROR(IF(INDEX(Hin_T[Dag],Hut_T[[#This Row],[Rad]])>0,INDEX(Hin_T[Dag],Hut_T[[#This Row],[Rad]])*DÅ[Arbetsdag/år],\"\"),\"\")","v":""},{"$f":"IF(AND(ISNUMBER(_xlfn.SINGLE(Hut_T[[#This Row],[Rad]:[Rad]])),IFERROR(_xlfn.SINGLE(INDEX(Hin_T[[#Data],[#Totals]],_xlfn.SINGLE(Hut_T[[#This Row],[Rad]:[Rad]]),MATCH(Hut_T[[#Headers],[D HöA]],Hin_T[#Headers],0))),\"\")),IFERROR(ROUND(_xlfn.SINGLE(INDEX(Hin_T[[#Data],[#Totals]],_xlfn.SINGLE(Hut_T[[#This Row],[Rad]:[Rad]])-IF(_xlfn.SINGLE(Hut_T[[#This Row],[Nr]:[Nr]])=_xlfn.SINGLE(#REF!),COUNT(Besvär_T[[Sjukdomsdebut]:[Sjukdomsdebut]]),0),MATCH(_xlfn.SINGLE(IF(_xlfn.SINGLE(Hut_T[[#This Row],[Nr]:[Nr]])=_xlfn.SINGLE(#REF!),#REF!,\"\"))&Hut_T[[#Headers],[D HöA]],Hin_T[#Headers],0))),0),\"\"),\"\")","v":""},{"$f":"IF(AND(ISNUMBER(Hut_T[[#This Row],[Rad]:[Rad]]),ISNUMBER(Hut_T[[#This Row],[D HöA]]),ISNUMBER(Hut_T[[#This Row],[Nr]:[Nr]])),IFERROR(ROUND(INDEX(Hin_T[[#Data],[#Totals]],Hut_T[[#This Row],[Rad]:[Rad]],MATCH(Hut_T[[#Headers],[HöA-A]],Hin_T[#Headers],0)),1-(INT(LOG10(INDEX(Hin_T[[#Data],[#Totals]],Hut_T[[#This Row],[Rad]:[Rad]],MATCH(Hut_T[[#Headers],[HöA-A]],Hin_T[#Headers],0)))))),1),\"\")","v":""},{"$f":"IF(AND(ISNUMBER(Hut_T[[#This Row],[Rad]:[Rad]]),IFERROR(INDEX(Hin_T[[#Data],[#Totals]],Hut_T[[#This Row],[Rad]:[Rad]],MATCH(Hut_T[[#Headers],[D AöA]],Hin_T[#Headers],0)),\"\")),IFERROR(ROUND(INDEX(Hin_T[[#Data],[#Totals]],Hut_T[[#This Row],[Rad]:[Rad]]-IF(Hut_T[[#This Row],[Nr]:[Nr]]=BD_TX[[SJ]:[SJ]],COUNT(Besvär_T[[Sjukdomsdebut]:[Sjukdomsdebut]]),0),MATCH(IF(Hut_T[[#This Row],[Nr]:[Nr]]=BD_TX[[#Totals],[SJ]:[SJ]],BD_TX[[#Headers],[SJ]],\"\")&Hut_T[[#Headers],[D AöA]],Hin_T[#Headers],0)),0),\"\"),\"\")","v":""},{"$f":"IF(AND(ISNUMBER(Hut_T[[#This Row],[Rad]:[Rad]]),ISNUMBER(Hut_T[[#This Row],[D AöA]]),ISNUMBER(Hut_T[[#This Row],[Nr]:[Nr]])),IFERROR(ROUND(INDEX(Hin_T[[#Data],[#Totals]],Hut_T[[#This Row],[Rad]:[Rad]],MATCH(Hut_T[[#Headers],[AöA-A]],Hin_T[#Headers],0)),1-(INT(LOG10(INDEX(Hin_T[[#Data],[#Totals]],Hut_T[[#This Row],[Rad]:[Rad]],MATCH(Hut_T[[#Headers],[AöA-A]],Hin_T[#Headers],0)))))),1),\"\")","v":""},{"$f":"IF(AND(ISNUMBER(_xlfn.SINGLE(Hut_T[[#This Row],[Rad]:[Rad]])),IFERROR(_xlfn.SINGLE(INDEX(Hin_T[[#Data],[#Totals]],_xlfn.SINGLE(Hut_T[[#This Row],[Rad]:[Rad]]),MATCH(Hut_T[[#Headers],[D 4AM]],Hin_T[#Headers],0))),\"\")),IFERROR(ROUND(_xlfn.SINGLE(INDEX(Hin_T[[#Data],[#Totals]],_xlfn.SINGLE(Hut_T[[#This Row],[Rad]:[Rad]])-IF(_xlfn.SINGLE(Hut_T[[#This Row],[Nr]:[Nr]])=_xlfn.SINGLE(#REF!),COUNT(Besvär_T[[Sjukdomsdebut]:[Sjukdomsdebut]]),0),MATCH(_xlfn.SINGLE(IF(_xlfn.SINGLE(Hut_T[[#This Row],[Nr]:[Nr]])=_xlfn.SINGLE(#REF!),#REF!,\"\"))&Hut_T[[#Headers],[D 4AM]],Hin_T[#Headers],0))),0),\"\"),\"\")","v":""},{"$f":"IF(AND(ISNUMBER(Hut_T[[#This Row],[Rad]:[Rad]]),ISNUMBER(Hut_T[[#This Row],[D 4AM]]),ISNUMBER(Hut_T[[#This Row],[Nr]:[Nr]])),IFERROR(ROUND(INDEX(Hin_T[[#Data],[#Totals]],Hut_T[[#This Row],[Rad]:[Rad]],MATCH(Hut_T[[#Headers],[4AM-A]],Hin_T[#Headers],0)),1-(INT(LOG10(INDEX(Hin_T[[#Data],[#Totals]],Hut_T[[#This Row],[Rad]:[Rad]],MATCH(Hut_T[[#Headers],[4AM-A]],Hin_T[#Headers],0)))))),1),\"\")","v":""},{"$f":"IF(AND(ISNUMBER(Hut_T[[#This Row],[Rad]:[Rad]]),IFERROR(INDEX(Hin_T[[#Data],[#Totals]],Hut_T[[#This Row],[Rad]:[Rad]],MATCH(Hut_T[[#Headers],[D 15AM]],Hin_T[#Headers],0)),\"\")),IFERROR(ROUND(INDEX(Hin_T[[#Data],[#Totals]],Hut_T[[#This Row],[Rad]:[Rad]]-IF(Hut_T[[#This Row],[Nr]:[Nr]]=BD_TX[[SJ]:[SJ]],COUNT(Besvär_T[[Sjukdomsdebut]:[Sjukdomsdebut]]),0),MATCH(IF(Hut_T[[#This Row],[Nr]:[Nr]]=BD_TX[[#Totals],[SJ]:[SJ]],BD_TX[[#Headers],[SJ]],\"\")&Hut_T[[#Headers],[D 15AM]],Hin_T[#Headers],0)),0),\"\"),\"\")","v":""},{"$f":"IF(AND(ISNUMBER(Hut_T[[#This Row],[Rad]:[Rad]]),ISNUMBER(Hut_T[[#This Row],[D 15AM]]),ISNUMBER(Hut_T[[#This Row],[Nr]:[Nr]])),IFERROR(ROUND(INDEX(Hin_T[[#Data],[#Totals]],Hut_T[[#This Row],[Rad]:[Rad]],MATCH(Hut_T[[#Headers],[15AM-A]],Hin_T[#Headers],0)),1-(INT(LOG10(INDEX(Hin_T[[#Data],[#Totals]],Hut_T[[#This Row],[Rad]:[Rad]],MATCH(Hut_T[[#Headers],[15AM-A]],Hin_T[#Headers],0)))))),1),\"\")","v":""},{"$f":"IF(AND(ISNUMBER(Hut_T[[#This Row],[Rad]:[Rad]]),IFERROR(INDEX(Hin_T[[#Data],[#Totals]],Hut_T[[#This Row],[Rad]:[Rad]],MATCH(Hut_T[[#Headers],[D 20-10D]],Hin_T[#Headers],0)),\"\")),IFERROR(ROUND(INDEX(Hin_T[[#Data],[#Totals]],Hut_T[[#This Row],[Rad]:[Rad]]-IF(Hut_T[[#This Row],[Nr]:[Nr]]=BD_TX[[SJ]:[SJ]],COUNT(Besvär_T[[Sjukdomsdebut]:[Sjukdomsdebut]]),0),MATCH(IF(Hut_T[[#This Row],[Nr]:[Nr]]=BD_TX[[#Totals],[SJ]:[SJ]],BD_TX[[#Headers],[SJ]],\"\")&Hut_T[[#Headers],[D 20-10D]],Hin_T[#Headers],0)),0),\"\"),\"\")","v":""},{"$f":"IF(AND(ISNUMBER(Hut_T[[#This Row],[Rad]:[Rad]]),ISNUMBER(Hut_T[[#This Row],[D 20-10D]]),ISNUMBER(Hut_T[[#This Row],[Nr]:[Nr]])),IFERROR(ROUND(INDEX(Hin_T[[#Data],[#Totals]],Hut_T[[#This Row],[Rad]:[Rad]],MATCH(Hut_T[[#Headers],[20-10D-A]],Hin_T[#Headers],0)),1-(INT(LOG10(INDEX(Hin_T[[#Data],[#Totals]],Hut_T[[#This Row],[Rad]:[Rad]],MATCH(Hut_T[[#Headers],[20-10D-A]],Hin_T[#Headers],0)))))),1),\"\")","v":""},null,{"$f":"IFERROR(INDEX(Hin_T[[#Data],[#Totals],[B-år]],Hut_T[[#This Row],[Rad]]),IF(ISNUMBER(Hut_T[[#This Row],[Datum+]]),ET42,\"\"))","v":""},{"$f":"IFERROR(INDEX(Hin_T[S-år],Hut_T[[#This Row],[Rad]]),IFERROR(INDEX(BD_TX[[#Data],[#Totals],[År]],MATCH(Hut_T[[#This Row],[Rad]],BD_TX[[#Data],[#Totals],[NrX]],0)),\"\"))","v":""},null,{"$f":"ROWS($EW$20:EW43)","v":24},{"$f":"IFERROR(MATCH(Hist_Tab[[#This Row],[Ref]],Medel_T[NrX],0),1)","v":1},{"$f":"INT((ROW(Hist_Tab[[#This Row],[Ref]])-ROW(Hist_Tab[[#Headers],[Ref]])-1)/4)+1","v":7},{"$f":"COUNTIF($EY$19:EY43,Hist_Tab[[#This Row],[Ref]])","v":1},{"$f":"IFERROR(INDEX(Medel_T[Start],Hist_Tab[[#This Row],[Ref]]),_xlfn.AGGREGATE(4,6,Medel_T[Start]))","v":"00:00:00"},{"$f":"IFERROR(INDEX(Medel_T[Slut],Hist_Tab[[#This Row],[Ref]]),_xlfn.AGGREGATE(4,6,Medel_T[Slut]))","v":"00:00:00"},{"$f":"IF(EW42=0,Hist_Tab[[#This Row],[ÅrB]],IF(Hist_Tab[[#This Row],[per/p]]<2,Hist_Tab[[#This Row],[ÅrB]],Hist_Tab[[#This Row],[År S]]))","v":"00:00:00"},{"$f":"IF(Hist_Tab[[#This Row],[Rad]:[Rad]]=0,-1,IF($EY44>_xlfn.AGGREGATE(2,6,Medel_T[[Slut]:[Slut]]),0,INDEX(Medel_T[],Hist_Tab[[#This Row],[Ref]:[Ref]],MATCH(Hist_Tab[[#Headers],[HöA T]],Medel_T[#Headers],0))))","v":0},{"$f":"IF(Hist_Tab[[#This Row],[Rad]:[Rad]]=0,0,IF($EY44>_xlfn.AGGREGATE(2,6,Medel_T[[Slut]:[Slut]]),0,INDEX(Medel_T[],Hist_Tab[[#This Row],[Ref]:[Ref]],MATCH(Hist_Tab[[#Headers],[AöA T]],Medel_T[#Headers],0))))","v":0},{"$f":"IF(Hist_Tab[[#This Row],[Rad]:[Rad]]=0,0,IF($EY44>_xlfn.AGGREGATE(2,6,Medel_T[[Slut]:[Slut]]),0,INDEX(Medel_T[],Hist_Tab[[#This Row],[Ref]:[Ref]],MATCH(Hist_Tab[[#Headers],[4AM T]],Medel_T[#Headers],0))))","v":0},{"$f":"IF(Hist_Tab[[#This Row],[Rad]:[Rad]]=0,0,IF($EY44>_xlfn.AGGREGATE(2,6,Medel_T[[Slut]:[Slut]]),0,INDEX(Medel_T[],Hist_Tab[[#This Row],[Ref]:[Ref]],MATCH(Hist_Tab[[#Headers],[15AM T]],Medel_T[#Headers],0))))","v":0},{"$f":"IF(Hist_Tab[[#This Row],[Rad]:[Rad]]=0,0,IF($EY44>_xlfn.AGGREGATE(2,6,Medel_T[[Slut]:[Slut]]),0,INDEX(Medel_T[],Hist_Tab[[#This Row],[Ref]:[Ref]],MATCH(Hist_Tab[[#Headers],[20-10D T]],Medel_T[#Headers],0))))","v":0}]
[null,null,null,null,null,null,null,null,null,null,null,null,null,null,null,null,null,null,null,null,null,null,null,null,null,null,null,null,null,null,null,null,null,null,null,null,null,null,null,null,null,null,null,null,null,null,null,null,null,null,null,null,null,null,null,null,null,null,null,null,null,null,null,null,null,null,null,null,null,null,{"$f":"SMALL(Hin_T[[StartÅR]:[SlutÅr]],ROW()-ROW(Medel_T[[#Headers],[Start]]))","v":{"$error":"#NUM!"}},{"$f":"SMALL(Hin_T[[StartÅR]:[SlutÅr]],ROW()-ROW(Medel_T[[#Headers],[Slut]])+1)","v":{"$error":"#NUM!"}},{"$f":"IF(Medel_T[[#This Row],[Start]]<=Besvär_T[[#Totals],[Sjukdomsdebut]],Medel_T[[#This Row],[Start]],\"\")","v":{"$error":"#NUM!"}},{"$f":"IF(Medel_T[[#This Row],[Slut]]<=Besvär_T[[#Totals],[Sjukdomsdebut]],Medel_T[[#This Row],[Slut]],IF(AND(LEN(Medel_T[[#This Row],[SJDstart]])>0,LEN(BU45)=0),Besvär_T[[#Totals],[Sjukdomsdebut]],\"\"))","v":{"$error":"#NUM!"}},{"$f":"IF(Medel_T[[#This Row],[Start]]>=Besvär_T[[#Totals],[Sjukdomsdebut]],Medel_T[[#This Row],[Start]],IF(AND(LEN(Medel_T[[#This Row],[EfterSlut]])>0,LEN(BX43)=0),Besvär_T[[#Totals],[Sjukdomsdebut]],\"\"))","v":{"$error":"#NUM!"}},{"$f":"IF(Medel_T[[#This Row],[Slut]]>=Besvär_T[[#Totals],[Sjukdomsdebut]],Medel_T[[#This Row],[Slut]],\"\")","v":{"$error":"#NUM!"}},{"$f":"COUNTIF($BZ$19:BZ44,\">0\")","v":0},{"$f":"COUNTIFS(Hin_T[B-år],\"<=\"&Medel_T[[#This Row],[Start]],Hin_T[S-år],\">=\"&Medel_T[[#This Row],[Slut]])","v":0},{"$f":"SUBSTITUTE(_xlfn.TEXTJOIN(Sep_T[Separator],TRUE,_xlfn._xlws.SORT(_xlfn.UNIQUE(IF((Hin_T[[B-år]:[B-år]]<=Medel_T[[#This Row],[Start]:[Start]])*(Hin_T[[S-år]:[S-år]]>=Medel_T[[#This Row],[Slut]:[Slut]]),Hin_T[Yrke],\"\")))),0&Sep_T[Separator],\"\")","v":{"$error":"#NUM!"}},{"$f":"SUBSTITUTE(_xlfn.TEXTJOIN(Sep_T[Separator],TRUE,_xlfn._xlws.SORT(_xlfn.UNIQUE(IF((Hin_T[[B-år]:[B-år]]<=Medel_T[[#This Row],[Start]:[Start]])*(Hin_T[[S-år]:[S-år]]>=Medel_T[[#This Row],[Slut]:[Slut]]),Hin_T[Arbetsmoment],\"\")))),0&Sep_T[Separator],\"\")","v":{"$error":"#NUM!"}},{"$f":"IF(LEN(Medel_T[[#This Row],[Yrke]])>0,Medel_T[[#Headers],[Period ]]&Medel_T[[#This Row],[NrX]]&\": \"&TEXT(Medel_T[[#This Row],[Start]],\"ÅÅÅÅ\")&List_T[[#Totals],[List symb]]&TEXT(Medel_T[[#This Row],[Slut]],\"ÅÅÅÅ\")&\" (\"&ROUND(Medel_T[[#This Row],[År]],1)&\" år) Anställd som \"&IFERROR(SUBSTITUTE(SUBSTITUTE(Medel_T[[#This Row],[Yrke]],Sep_T[Separator],\" och \",Medel_T[[#This Row],[Ant]]-1),Sep_T[Separator],\", \"),Medel_T[[#This Row],[Yrke]])&↓[↓],\"\")","v":{"$error":"#NUM!"}},{"$f":"IF(LEN(Medel_T[[#This Row],[Arbetsmoment]])>0,ROMAN(1)&\") \"&_xlfn.TEXTJOIN(Delim[Delimiters],TRUE,_xlfn._xlws.SORT(_xlfn.UNIQUE(IF((Hin_T[[B-år]:[B-år]]<=Medel_T[[#This Row],[Start]:[Start]])*(Hin_T[[S-år]:[S-år]]>=Medel_T[[#This Row],[Slut]:[Slut]]),Hin_T[Text],\"\"))))&↓[↓],\"\")","v":{"$error":"#NUM!"}},{"$f":"SUMPRODUCT((Hin_T[[B-år]:[B-år]]<=Medel_T[[#This Row],[Start]:[Start]])*(Hin_T[[S-år]:[S-år]]>=Medel_T[[#This Row],[Slut]:[Slut]])*Hin_T[Dag])","v":{"$error":"#NUM!"}},{"$f":"IF(Medel_T[[#This Row],[Proc dag]]<=1,Medel_T[[#This Row],[Proc dag]],1)","v":{"$error":"#NUM!"}},{"$f":"YEARFRAC(Medel_T[[#This Row],[Slut]],Medel_T[[#This Row],[Start]])","v":{"$error":"#NUM!"}},{"$f":"YEARFRAC(Medel_T[[#This Row],[SJDslut]],Medel_T[[#This Row],[SJDstart]])","v":{"$error":"#NUM!"}},{"$f":"IFERROR(SUMPRODUCT((Hin_T[[B-år]:[B-år]]<=Medel_T[[#This Row],[Start]:[Start]])*(Hin_T[[S-år]:[S-år]]>=Medel_T[[#This Row],[Slut]:[Slut]])*Hin_T[HöA]*Hin_T[[Dag]:[Dag]])/Medel_T[[#This Row],[Proc dag]],-1)","v":-1},{"$f":"IFERROR(SUMPRODUCT((Hin_T[[B-år]:[B-år]]<=Medel_T[[#This Row],[Start]:[Start]])*(Hin_T[[S-år]:[S-år]]>=Medel_T[[#This Row],[Slut]:[Slut]])*Hin_T[AöA]*Hin_T[[Dag]:[Dag]])/Medel_T[[#This Row],[Proc dag]],-1)","v":-1},{"$f":"IFERROR(SUMPRODUCT((Hin_T[[B-år]:[B-år]]<=Medel_T[[#This Row],[Start]:[Start]])*(Hin_T[[S-år]:[S-år]]>=Medel_T[[#This Row],[Slut]:[Slut]])*Hin_T[4AM]*Hin_T[[Dag]:[Dag]])/Medel_T[[#This Row],[Proc dag]],-1)","v":-1},{"$f":"IFERROR(SUMPRODUCT((Hin_T[[B-år]:[B-år]]<=Medel_T[[#This Row],[Start]:[Start]])*(Hin_T[[S-år]:[S-år]]>=Medel_T[[#This Row],[Slut]:[Slut]])*Hin_T[15AM]*Hin_T[[Dag]:[Dag]])/Medel_T[[#This Row],[Proc dag]],-1)","v":-1},{"$f":"IFERROR(SUMPRODUCT((Hin_T[[B-år]:[B-år]]<=Medel_T[[#This Row],[Start]:[Start]])*(Hin_T[[S-år]:[S-år]]>=Medel_T[[#This Row],[Slut]:[Slut]])*Hin_T[20-10D]*Hin_T[[Dag]:[Dag]])/Medel_T[[#This Row],[Proc dag]],-1)","v":-1},{"$f":"IFERROR(SUMPRODUCT((Hin_T[[B-år]:[B-år]]<=Medel_T[[#This Row],[Start]:[Start]])*(Hin_T[[S-år]:[S-år]]>=Medel_T[[#This Row],[Slut]:[Slut]])*Hin_T[[Dag]:[Dag]]*Hin_T[HöA])/Medel_T[[#This Row],[Dag sum]],-1)","v":-1},{"$f":"IFERROR(SUMPRODUCT((Hin_T[[B-år]:[B-år]]<=Medel_T[[#This Row],[Start]:[Start]])*(Hin_T[[S-år]:[S-år]]>=Medel_T[[#This Row],[Slut]:[Slut]])*Hin_T[[Dag]:[Dag]]*Hin_T[AöA])/Medel_T[[#This Row],[Dag sum]],-1)","v":-1},{"$f":"IFERROR(SUMPRODUCT((Hin_T[[B-år]:[B-år]]<=Medel_T[[#This Row],[Start]:[Start]])*(Hin_T[[S-år]:[S-år]]>=Medel_T[[#This Row],[Slut]:[Slut]])*Hin_T[[Dag]:[Dag]]*Hin_T[4AM])/Medel_T[[#This Row],[Dag sum]],-1)","v":-1},{"$f":"IFERROR(SUMPRODUCT((Hin_T[[B-år]:[B-år]]<=Medel_T[[#This Row],[Start]:[Start]])*(Hin_T[[S-år]:[S-år]]>=Medel_T[[#This Row],[Slut]:[Slut]])*Hin_T[15AM]*Hin_T[[Dag]:[Dag]])/Medel_T[[#This Row],[Dag sum]],-1)","v":-1},{"$f":"IFERROR(SUMPRODUCT((Hin_T[[B-år]:[B-år]]<=Medel_T[[#This Row],[Start]:[Start]])*(Hin_T[[S-år]:[S-år]]>=Medel_T[[#This Row],[Slut]:[Slut]])*Hin_T[[Dag]:[Dag]]*Hin_T[20-10D])/Medel_T[[#This Row],[Dag sum]],-1)","v":-1},{"$f":"IFERROR(Medel_T[[#This Row],[Dag sum]:[Dag sum]]*Medel_T[[#This Row],[År]:[År]]*Medel_T[[#This Row],[HöA T]]*DÅ[Arbetsdag/år],0)","v":0},{"$f":"IFERROR(Medel_T[[#This Row],[Dag sum]:[Dag sum]]*Medel_T[[#This Row],[År]:[År]]*Medel_T[[#This Row],[AöA T]]*DÅ[Arbetsdag/år],0)","v":0},{"$f":"IFERROR(Medel_T[[#This Row],[Dag sum]:[Dag sum]]*Medel_T[[#This Row],[År]:[År]]*Medel_T[[#This Row],[4AM T]]*DÅ[Arbetsdag/år],0)","v":0},{"$f":"IFERROR(Medel_T[[#This Row],[Dag sum]:[Dag sum]]*Medel_T[[#This Row],[År]:[År]]*Medel_T[[#This Row],[15AM T]]*DÅ[Arbetsdag/år],0)","v":0},{"$f":"IFERROR(Medel_T[[#This Row],[Dag sum]:[Dag sum]]*Medel_T[[#This Row],[År]:[År]]*Medel_T[[#This Row],[20-10D T]]*DÅ[Arbetsdag/år],0)","v":0},{"$f":"IFERROR(Medel_T[[#This Row],[Dag sum]:[Dag sum]]*Medel_T[[#This Row],[ÅrSjuk]:[ÅrSjuk]]*Medel_T[[#This Row],[HöA T]]*DÅ[Arbetsdag/år],0)","v":0},{"$f":"IFERROR(Medel_T[[#This Row],[Dag sum]:[Dag sum]]*Medel_T[[#This Row],[ÅrSjuk]:[ÅrSjuk]]*Medel_T[[#This Row],[AöA T]]*DÅ[Arbetsdag/år],0)","v":0},{"$f":"IFERROR(Medel_T[[#This Row],[Dag sum]:[Dag sum]]*Medel_T[[#This Row],[ÅrSjuk]:[ÅrSjuk]]*Medel_T[[#This Row],[4AM T]]*DÅ[Arbetsdag/år],0)","v":0},{"$f":"IFERROR(Medel_T[[#This Row],[Dag sum]:[Dag sum]]*Medel_T[[#This Row],[ÅrSjuk]:[ÅrSjuk]]*Medel_T[[#This Row],[15AM T]]*DÅ[Arbetsdag/år],0)","v":0},{"$f":"IFERROR(Medel_T[[#This Row],[Dag sum]:[Dag sum]]*Medel_T[[#This Row],[ÅrSjuk]:[ÅrSjuk]]*Medel_T[[#This Row],[20-10D T]]*DÅ[Arbetsdag/år],0)","v":0},{"$f":"IFERROR(IF(Medel_T[[#This Row],[AöA T]]=0,\"\",List_T[List symb]&Exp_T[[#Headers],[Överarmslyft> 90°: ]]&IF(VALUE(TEXT(Medel_T[[#This Row],[AöA T]],\"t\"))>0,VALUE(TEXT(Medel_T[[#This Row],[AöA T]],\"t\"))&\" h\",\"\")&IF(AND(VALUE(TEXT(Medel_T[[#This Row],[AöA T]],\"t\"))>0,VALUE(TEXT(Medel_T[[#This Row],[AöA T]],\"m\"))>2.4),\" \",\"\")&IF(VALUE(TEXT(Medel_T[[#This Row],[AöA T]],\"m\"))>2.4,TEXT(ROUND(Medel_T[[#This Row],[AöA T]]*(24*60/5),0)/(24*60/5),\"m\")&\" min\",\"\")&\"/dag x \"&ROUND(Medel_T[[#This Row],[Dag sum]:[Dag sum]]*DÅ[Arbetsdag/år],0)&\" dagar x \"&ROUND(Medel_T[[#This Row],[År]:[År]],1)&\" år = \"&TEXT(ROUND(Medel_T[[#This Row],[D AöA§]]*24,1-(INT(LOG10(ABS(Medel_T[[#This Row],[D AöA§]]*24))))),\"0\"&IF(1-(INT(LOG10(ABS(Medel_T[[#This Row],[D AöA§]]*24))))>0,\",\"&REPT(\"0\",1-(INT(LOG10(ABS(Medel_T[[#This Row],[D AöA§]]*24))))),\"\"))& \" h\"),\"\")","v":""},{"$f":"IFERROR(IF(Medel_T[[#This Row],[15AM T]]=0,\"\",List_T[List symb]&Exp_T[[#Headers],[Överarmsrörelser> 15/min: ]]&IF(VALUE(TEXT(Medel_T[[#This Row],[15AM T]],\"t\"))>0,VALUE(TEXT(Medel_T[[#This Row],[15AM T]],\"t\"))&\" h\",\"\")&IF(AND(VALUE(TEXT(Medel_T[[#This Row],[15AM T]],\"t\"))>0,VALUE(TEXT(Medel_T[[#This Row],[15AM T]],\"m\"))>2.4),\" \",\"\")&IF(VALUE(TEXT(Medel_T[[#This Row],[15AM T]],\"m\"))>2.4,TEXT(ROUND(Medel_T[[#This Row],[15AM T]]*(24*60/5),0)/(24*60/5),\"m\")&\" min\",\"\")&\"/dag x \"&ROUND(Medel_T[[#This Row],[Dag sum]:[Dag sum]]*DÅ[Arbetsdag/år],0)&\" dagar x \"&ROUND(Medel_T[[#This Row],[År]:[År]],1)&\" år = \"&TEXT(ROUND(Medel_T[[#This Row],[D 15AM§]]*24,1-(INT(LOG10(ABS(Medel_T[[#This Row],[D 15AM§]]*24))))),\"0\"&IF(1-(INT(LOG10(ABS(Medel_T[[#This Row],[D 15AM§]]*24))))>0,\",\"&REPT(\"0\",1-(INT(LOG10(ABS(Medel_T[[#This Row],[D 15AM§]]*24))))),\"\"))& \" h\"),\"\")","v":""},{"$f":"IFERROR(IF(OR(LEN(Medel_T[[#This Row],[AöA text]])>0,LEN(Medel_T[[#This Row],[15AM Text]])>0),Exp_T[Anställning]&YEAR(Medel_T[[#This Row],[Start]])&List_T[[#Totals],[List symb]]&YEAR(Medel_T[[#This Row],[Slut]])&\" (\"&ROUND(Medel_T[[#This Row],[År]],1)&\" år)\"&IF(LEN(Medel_T[[#This Row],[AöA text]])>0,↓[↓],\"\")&Medel_T[[#This Row],[AöA text]]&IF(LEN(Medel_T[[#This Row],[15AM Text]])>0,↓[↓],\"\")&Medel_T[[#This Row],[15AM Text]],\"\"),\"\")","v":""},{"$f":"IFERROR(IF(Medel_T[[#This Row],[AöA T]]=0,\"\",List_T[List symb]&Exp_T[[#Headers],[Överarmsrörelser> 15/min: ]]&IF(VALUE(TEXT(Medel_T[[#This Row],[AöA T]],\"t\"))>0,VALUE(TEXT(Medel_T[[#This Row],[AöA T]],\"t\"))&\" h\",\"\")&IF(AND(VALUE(TEXT(Medel_T[[#This Row],[AöA T]],\"t\"))>0,VALUE(TEXT(Medel_T[[#This Row],[AöA T]],\"m\"))>2.4),\" \",\"\")&IF(VALUE(TEXT(Medel_T[[#This Row],[AöA T]],\"m\"))>2.4,TEXT(ROUND(Medel_T[[#This Row],[AöA T]]*(24*60/5),0)/(24*60/5),\"m\")&\" min\",\"\")&\"/dag x \"&ROUND(Medel_T[[#This Row],[Dag sum]:[Dag sum]]*DÅ[Arbetsdag/år],0)&\" dagar x \"&ROUND(Medel_T[[#This Row],[År]:[År]],1)&\" år = \"&TEXT(ROUND(Medel_T[[#This Row],[D AöA¤]]*24,1-(INT(LOG10(ABS(Medel_T[[#This Row],[D AöA¤]]*24))))),\"0\"&IF(1-(INT(LOG10(ABS(Medel_T[[#This Row],[D AöA¤]]*24))))>0,\",\"&REPT(\"0\",1-(INT(LOG10(ABS(Medel_T[[#This Row],[D AöA¤]]*24))))),\"\"))& \" h\"),\"\")","v":""},{"$f":"IFERROR(IF(Medel_T[[#This Row],[15AM T]]=0,\"\",List_T[List symb]&Exp_T[[#Headers],[Överarmslyft> 90°: ]]&IF(VALUE(TEXT(Medel_T[[#This Row],[15AM T]],\"t\"))>0,VALUE(TEXT(Medel_T[[#This Row],[15AM T]],\"t\"))&\" h\",\"\")&IF(AND(VALUE(TEXT(Medel_T[[#This Row],[15AM T]],\"t\"))>0,VALUE(TEXT(Medel_T[[#This Row],[15AM T]],\"m\"))>0),\" \",\"\")&IF(VALUE(TEXT(Medel_T[[#This Row],[15AM T]],\"m\"))>0,TEXT(ROUND(Medel_T[[#This Row],[15AM T]]*(24*60/5),0)/(24*60/5),\"m\")&\" min\",\"\")&\"/dag x \"&ROUND(Medel_T[[#This Row],[Dag sum]:[Dag sum]]*DÅ[Arbetsdag/år],0)&\" dagar x \"&ROUND(Medel_T[[#This Row],[År]:[År]],1)&\" år = \"&TEXT(ROUND(Medel_T[[#This Row],[D 15AM¤]]*24,1-(INT(LOG10(ABS(Medel_T[[#This Row],[D 15AM¤]]*24))))),\"0\"&IF(1-(INT(LOG10(ABS(Medel_T[[#This Row],[D 15AM¤]]*24))))>0,\",\"&REPT(\"0\",1-(INT(LOG10(ABS(Medel_T[[#This Row],[D 15AM¤]]*24))))),\"\"))& \" h\"),\"\")","v":""},{"$f":"IFERROR(IF(LEN(Medel_T[[#This Row],[SJDstart]])>0,Exp_T[Anställning]&↓[↓]&YEAR(Medel_T[[#This Row],[Start]])&List_T[[#Totals],[List symb]]&YEAR(Medel_T[[#This Row],[Slut]])&\" (\"&ROUND(Medel_T[[#This Row],[År]],1)&\" år)\"&IF(LEN(Medel_T[[#This Row],[AöA text Sjuk]])>0,↓[↓],\"\")&Medel_T[[#This Row],[AöA text Sjuk]]&IF(LEN(Medel_T[[#This Row],[15AM Text Sjuk]])>0,↓[↓],\"\")&Medel_T[[#This Row],[15AM Text Sjuk]],\"\"),\"\")","v":""},{"$f":"IFERROR(Medel_T[[#This Row],[Period ]]&Medel_T[[#This Row],[ArbMomText]]&Medel_T[[#This Row],[Text]],\"\")","v":""},{"$f":"IF(AND(DJ43>=MAX(Medel_T[NrX]),ISNUMBER(DJ43)),Medel_T[[#Totals],[NrX]]+ROW()-ROW(Medel_T[[#Headers],[Rad]])-Medel_T[[#Totals],[Ant]]-1,INDEX(Medel_T[NrX],MATCH(ROW()-ROW(Medel_T[[#Headers],[Rad]]),Medel_T[NrX],0)))","v":{"$error":"#N/A"}},{"$f":"IF(Medel_T[[#This Row],[Rad]]<=Medel_T[[#Totals],[Ant]],MATCH(Medel_T[[#This Row],[Rad]],Medel_T[NrX],0),IFERROR(INDEX(BD_TX[[#Data],[#Totals],[SJ]],MATCH(Medel_T[[#This Row],[Rad]],BD_TX[[#Data],[#Totals],[Nr]],0)),\"\"))","v":{"$error":"#N/A"}},{"$f":"LEN(Medel_T[[#This Row],[Yrke2]])-LEN(SUBSTITUTE(Medel_T[[#This Row],[Yrke2]],LEFT(Sep_T[Separator],1),\"\"))","v":0},{"$f":"INDEX(Medel_T[År],Medel_T[[#This Row],[Nr]])","v":{"$error":"#N/A"}},{"$f":"IFERROR(IF(LEN(Medel_T[[#This Row],[Nr]])>0,TEXT(IFERROR(INDEX(Medel_T[Start],Medel_T[[#This Row],[Nr]]),INDEX(BD_TX[[#Data],[#Totals],[Start]],MATCH(Medel_T[[#This Row],[Rad]],BD_TX[[#Data],[#Totals],[Nr]],0))),\"ÅÅÅÅ MMM\")&\"-\"&TEXT(IFERROR(INDEX(Medel_T[Slut],Medel_T[[#This Row],[Nr]]),INDEX(BD_TX[[#Data],[#Totals],[År]],MATCH(Medel_T[[#This Row],[Rad]],BD_TX[[#Data],[#Totals],[Nr]],0))),\"ÅÅÅÅ MMM\"),\"\"),\"\")","v":""},{"$f":"IFERROR(IF(LEN(Medel_T[[#This Row],[Nr]])>0,IF(Medel_T[[#This Row],[Rad]]>Medel_T[[#Totals],[Ant]],IFERROR(INDEX(BD_TX[[#Data],[#Totals],[Text]],MATCH(Medel_T[[#This Row],[Rad]],BD_TX[[#Data],[#Totals],[Nr]],0)),\"\"),INDEX(Medel_T[Yrke],Medel_T[[#This Row],[Nr]])),\"\"),\"\")","v":""},{"$f":"IFERROR(INDEX(Medel_T[Arbetsmoment],MATCH(ROW()-ROW(Medel_T[[#Headers],[Arbetsmoment2]]),Medel_T[[NrX]:[NrX]],0)),\"\")","v":""},{"$f":"IFERROR(INDEX(Medel_T[],Medel_T[[#This Row],[Nr]],Medel_T[[#Totals],[HöA_T]]),\"\")","v":""},{"$f":"IF(LEN(Medel_T[[#This Row],[Nr]:[Nr]])>0,IFERROR(TEXT(ROUND(24*IFERROR(INDEX(Medel_T[],Medel_T[[#This Row],[Nr]:[Nr]],Medel_T[[#Totals],[D HöA]]),INDEX(Sum_T[[#Data],[#Totals]],MATCH(Medel_T[[#This Row],[Nr]:[Nr]],Sum_T[[#Data],[#Totals],[Typ]:[Typ]],0),MATCH(Medel_T[[#Headers],[D HöA]],Sum_T[#Headers],0))),1-(INT(LOG10(ABS(24*IFERROR(INDEX(Medel_T[],Medel_T[[#This Row],[Nr]:[Nr]],Medel_T[[#Totals],[D HöA]]),INDEX(Sum_T[[#Data],[#Totals]],MATCH(Medel_T[[#This Row],[Nr]:[Nr]],Sum_T[[#Data],[#Totals],[Typ]:[Typ]],0),MATCH(Medel_T[[#Headers],[D HöA]],Sum_T[#Headers],0)))))))),\"0\"&IF(1-(INT(LOG10(ABS(24*IFERROR(INDEX(Medel_T[],Medel_T[[#This Row],[Nr]:[Nr]],Medel_T[[#Totals],[D HöA]]),INDEX(Sum_T[[#Data],[#Totals]],MATCH(Medel_T[[#This Row],[Nr]:[Nr]],Sum_T[[#Data],[#Totals],[Typ]:[Typ]],0),MATCH(Medel_T[[#Headers],[D HöA]],Sum_T[#Headers],0)))))))>0,\",\"&REPT(\"0\",1-(INT(LOG10(ABS(24*IFERROR(INDEX(Medel_T[],Medel_T[[#This Row],[Nr]:[Nr]],Medel_T[[#Totals],[D HöA]]),INDEX(Sum_T[[#Data],[#Totals]],MATCH(Medel_T[[#This Row],[Nr]:[Nr]],Sum_T[[#Data],[#Totals],[Typ]:[Typ]],0),MATCH(Medel_T[[#Headers],[D HöA]],Sum_T[#Headers],0)))))))),0)),0),\"\")","v":{"$error":"#N/A"}},{"$f":"IFERROR(INDEX(Medel_T[],Medel_T[[#This Row],[Nr]],Medel_T[[#Totals],[AÖA_T]]),\"\")","v":""},{"$f":"IFERROR(IF(LEN(Medel_T[[#This Row],[Nr]:[Nr]])>0,IFERROR(TEXT(ROUND(24*IFERROR(INDEX(Medel_T[],Medel_T[[#This Row],[Nr]:[Nr]],Medel_T[[#Totals],[D AöA]]),INDEX(Sum_T[[#Data],[#Totals]],MATCH(Medel_T[[#This Row],[Nr]:[Nr]],Sum_T[[#Data],[#Totals],[Typ]:[Typ]],0),MATCH(Medel_T[[#Headers],[D AöA]],Sum_T[#Headers],0))),1-(INT(LOG10(ABS(24*IFERROR(INDEX(Medel_T[],Medel_T[[#This Row],[Nr]:[Nr]],Medel_T[[#Totals],[D AöA]]),INDEX(Sum_T[[#Data],[#Totals]],MATCH(Medel_T[[#This Row],[Nr]:[Nr]],Sum_T[[#Data],[#Totals],[Typ]:[Typ]],0),MATCH(Medel_T[[#Headers],[D AöA]],Sum_T[#Headers],0)))))))),\"0\"&IF(1-(INT(LOG10(ABS(24*IFERROR(INDEX(Medel_T[],Medel_T[[#This Row],[Nr]:[Nr]],Medel_T[[#Totals],[D AöA]]),INDEX(Sum_T[[#Data],[#Totals]],MATCH(Medel_T[[#This Row],[Nr]:[Nr]],Sum_T[[#Data],[#Totals],[Typ]:[Typ]],0),MATCH(Medel_T[[#Headers],[D AöA]],Sum_T[#Headers],0)))))))>0,\",\"&REPT(\"0\",1-(INT(LOG10(ABS(24*IFERROR(INDEX(Medel_T[],Medel_T[[#This Row],[Nr]:[Nr]],Medel_T[[#Totals],[D AöA]]),INDEX(Sum_T[[#Data],[#Totals]],MATCH(Medel_T[[#This Row],[Nr]:[Nr]],Sum_T[[#Data],[#Totals],[Typ]:[Typ]],0),MATCH(Medel_T[[#Headers],[D AöA]],Sum_T[#Headers],0)))))))),0)),0),\"\"),\"\")","v":""},{"$f":"IFERROR(INDEX(Medel_T[],Medel_T[[#This Row],[Nr]],Medel_T[[#Totals],[4AM_T]]),\"\")","v":""},{"$f":"IF(LEN(Medel_T[[#This Row],[Nr]:[Nr]])>0,IFERROR(TEXT(ROUND(24*IFERROR(INDEX(Medel_T[],Medel_T[[#This Row],[Nr]:[Nr]],Medel_T[[#Totals],[D 4AM]]),INDEX(Sum_T[[#Data],[#Totals]],MATCH(Medel_T[[#This Row],[Nr]:[Nr]],Sum_T[[#Data],[#Totals],[Typ]:[Typ]],0),MATCH(Medel_T[[#Headers],[D 4AM]],Sum_T[#Headers],0))),1-(INT(LOG10(ABS(24*IFERROR(INDEX(Medel_T[],Medel_T[[#This Row],[Nr]:[Nr]],Medel_T[[#Totals],[D 4AM]]),INDEX(Sum_T[[#Data],[#Totals]],MATCH(Medel_T[[#This Row],[Nr]:[Nr]],Sum_T[[#Data],[#Totals],[Typ]:[Typ]],0),MATCH(Medel_T[[#Headers],[D 4AM]],Sum_T[#Headers],0)))))))),\"0\"&IF(1-(INT(LOG10(ABS(24*IFERROR(INDEX(Medel_T[],Medel_T[[#This Row],[Nr]:[Nr]],Medel_T[[#Totals],[D 4AM]]),INDEX(Sum_T[[#Data],[#Totals]],MATCH(Medel_T[[#This Row],[Nr]:[Nr]],Sum_T[[#Data],[#Totals],[Typ]:[Typ]],0),MATCH(Medel_T[[#Headers],[D 4AM]],Sum_T[#Headers],0)))))))>0,\",\"&REPT(\"0\",1-(INT(LOG10(ABS(24*IFERROR(INDEX(Medel_T[],Medel_T[[#This Row],[Nr]:[Nr]],Medel_T[[#Totals],[D 4AM]]),INDEX(Sum_T[[#Data],[#Totals]],MATCH(Medel_T[[#This Row],[Nr]:[Nr]],Sum_T[[#Data],[#Totals],[Typ]:[Typ]],0),MATCH(Medel_T[[#Headers],[D 4AM]],Sum_T[#Headers],0)))))))),0)),0),\"\")","v":{"$error":"#N/A"}},{"$f":"IFERROR(INDEX(Medel_T[],Medel_T[[#This Row],[Nr]],Medel_T[[#Totals],[15AM_T]]),\"\")","v":""},{"$f":"IFERROR(IF(LEN(Medel_T[[#This Row],[Nr]:[Nr]])>0,IFERROR(TEXT(ROUND(24*IFERROR(INDEX(Medel_T[],Medel_T[[#This Row],[Nr]:[Nr]],Medel_T[[#Totals],[D 15AM]]),INDEX(Sum_T[[#Data],[#Totals]],MATCH(Medel_T[[#This Row],[Nr]:[Nr]],Sum_T[[#Data],[#Totals],[Typ]:[Typ]],0),MATCH(Medel_T[[#Headers],[D 15AM]],Sum_T[#Headers],0))),1-(INT(LOG10(ABS(24*IFERROR(INDEX(Medel_T[],Medel_T[[#This Row],[Nr]:[Nr]],Medel_T[[#Totals],[D 15AM]]),INDEX(Sum_T[[#Data],[#Totals]],MATCH(Medel_T[[#This Row],[Nr]:[Nr]],Sum_T[[#Data],[#Totals],[Typ]:[Typ]],0),MATCH(Medel_T[[#Headers],[D 15AM]],Sum_T[#Headers],0)))))))),\"0\"&IF(1-(INT(LOG10(ABS(24*IFERROR(INDEX(Medel_T[],Medel_T[[#This Row],[Nr]:[Nr]],Medel_T[[#Totals],[D 15AM]]),INDEX(Sum_T[[#Data],[#Totals]],MATCH(Medel_T[[#This Row],[Nr]:[Nr]],Sum_T[[#Data],[#Totals],[Typ]:[Typ]],0),MATCH(Medel_T[[#Headers],[D 15AM]],Sum_T[#Headers],0)))))))>0,\",\"&REPT(\"0\",1-(INT(LOG10(ABS(24*IFERROR(INDEX(Medel_T[],Medel_T[[#This Row],[Nr]:[Nr]],Medel_T[[#Totals],[D 15AM]]),INDEX(Sum_T[[#Data],[#Totals]],MATCH(Medel_T[[#This Row],[Nr]:[Nr]],Sum_T[[#Data],[#Totals],[Typ]:[Typ]],0),MATCH(Medel_T[[#Headers],[D 15AM]],Sum_T[#Headers],0)))))))),0)),0),\"\"),\"\")","v":""},{"$f":"IFERROR(INDEX(Medel_T[],Medel_T[[#This Row],[Nr]],Medel_T[[#Totals],[20-10D_T]]),\"\")","v":""},{"$f":"IF(LEN(Medel_T[[#This Row],[Nr]:[Nr]])>0,IFERROR(TEXT(ROUND(24*IFERROR(INDEX(Medel_T[],Medel_T[[#This Row],[Nr]:[Nr]],Medel_T[[#Totals],[D 20-10D]]),INDEX(Sum_T[[#Data],[#Totals]],MATCH(Medel_T[[#This Row],[Nr]:[Nr]],Sum_T[[#Data],[#Totals],[Typ]:[Typ]],0),MATCH(Medel_T[[#Headers],[D 20-10D]],Sum_T[#Headers],0))),1-(INT(LOG10(ABS(24*IFERROR(INDEX(Medel_T[],Medel_T[[#This Row],[Nr]:[Nr]],Medel_T[[#Totals],[D 20-10D]]),INDEX(Sum_T[[#Data],[#Totals]],MATCH(Medel_T[[#This Row],[Nr]:[Nr]],Sum_T[[#Data],[#Totals],[Typ]:[Typ]],0),MATCH(Medel_T[[#Headers],[D 20-10D]],Sum_T[#Headers],0)))))))),\"0\"&IF(1-(INT(LOG10(ABS(24*IFERROR(INDEX(Medel_T[],Medel_T[[#This Row],[Nr]:[Nr]],Medel_T[[#Totals],[D 20-10D]]),INDEX(Sum_T[[#Data],[#Totals]],MATCH(Medel_T[[#This Row],[Nr]:[Nr]],Sum_T[[#Data],[#Totals],[Typ]:[Typ]],0),MATCH(Medel_T[[#Headers],[D 20-10D]],Sum_T[#Headers],0)))))))>0,\",\"&REPT(\"0\",1-(INT(LOG10(ABS(24*IFERROR(INDEX(Medel_T[],Medel_T[[#This Row],[Nr]:[Nr]],Medel_T[[#Totals],[D 20-10D]]),INDEX(Sum_T[[#Data],[#Totals]],MATCH(Medel_T[[#This Row],[Nr]:[Nr]],Sum_T[[#Data],[#Totals],[Typ]:[Typ]],0),MATCH(Medel_T[[#Headers],[D 20-10D]],Sum_T[#Headers],0)))))))),0)),0),\"\")","v":{"$error":"#N/A"}},null,{"$f":"COLUMNS($EB$44:EB44)","v":1},{"$f":"COLUMNS($EB$44:EC44)","v":2},{"$f":"COLUMNS($EB$44:ED44)","v":3},null,null,null,null,null,null,null,null,null,null,{"$f":"COLUMNS($EB$44:EO44)","v":14},null,null,null,null,null,null,null,{"$f":"ROWS($EW$20:EW44)","v":25},{"$f":"IFERROR(MATCH(Hist_Tab[[#This Row],[Ref]],Medel_T[NrX],0),1)","v":1},{"$f":"INT((ROW(Hist_Tab[[#This Row],[Ref]])-ROW(Hist_Tab[[#Headers],[Ref]])-1)/4)+1","v":7},{"$f":"COUNTIF($EY$19:EY44,Hist_Tab[[#This Row],[Ref]])","v":2},{"$f":"IFERROR(INDEX(Medel_T[Start],Hist_Tab[[#This Row],[Ref]]),_xlfn.AGGREGATE(4,6,Medel_T[Start]))","v":"00:00:00"},{"$f":"IFERROR(INDEX(Medel_T[Slut],Hist_Tab[[#This Row],[Ref]]),_xlfn.AGGREGATE(4,6,Medel_T[Slut]))","v":"00:00:00"},{"$f":"IF(EW43=0,Hist_Tab[[#This Row],[ÅrB]],IF(Hist_Tab[[#This Row],[per/p]]<2,Hist_Tab[[#This Row],[ÅrB]],Hist_Tab[[#This Row],[År S]]))","v":"00:00:00"},{"$f":"IF(Hist_Tab[[#This Row],[Rad]:[Rad]]=0,-1,IF($EY45>_xlfn.AGGREGATE(2,6,Medel_T[[Slut]:[Slut]]),0,INDEX(Medel_T[],Hist_Tab[[#This Row],[Ref]:[Ref]],MATCH(Hist_Tab[[#Headers],[HöA T]],Medel_T[#Headers],0))))","v":0},{"$f":"IF(Hist_Tab[[#This Row],[Rad]:[Rad]]=0,0,IF($EY45>_xlfn.AGGREGATE(2,6,Medel_T[[Slut]:[Slut]]),0,INDEX(Medel_T[],Hist_Tab[[#This Row],[Ref]:[Ref]],MATCH(Hist_Tab[[#Headers],[AöA T]],Medel_T[#Headers],0))))","v":0},{"$f":"IF(Hist_Tab[[#This Row],[Rad]:[Rad]]=0,0,IF($EY45>_xlfn.AGGREGATE(2,6,Medel_T[[Slut]:[Slut]]),0,INDEX(Medel_T[],Hist_Tab[[#This Row],[Ref]:[Ref]],MATCH(Hist_Tab[[#Headers],[4AM T]],Medel_T[#Headers],0))))","v":0},{"$f":"IF(Hist_Tab[[#This Row],[Rad]:[Rad]]=0,0,IF($EY45>_xlfn.AGGREGATE(2,6,Medel_T[[Slut]:[Slut]]),0,INDEX(Medel_T[],Hist_Tab[[#This Row],[Ref]:[Ref]],MATCH(Hist_Tab[[#Headers],[15AM T]],Medel_T[#Headers],0))))","v":0},{"$f":"IF(Hist_Tab[[#This Row],[Rad]:[Rad]]=0,0,IF($EY45>_xlfn.AGGREGATE(2,6,Medel_T[[Slut]:[Slut]]),0,INDEX(Medel_T[],Hist_Tab[[#This Row],[Ref]:[Ref]],MATCH(Hist_Tab[[#Headers],[20-10D T]],Medel_T[#Headers],0))))","v":0}]
[null,null,null,null,null,null,null,null,null,null,null,null,null,null,null,null,null,null,null,null,null,null,null,null,null,null,null,null,null,null,null,null,null,null,null,null,null,null,null,null,null,null,null,null,null,null,null,null,null,null,null,null,null,null,null,null,null,null,null,null,null,null,null,null,null,null,null,null,null,null,{"$f":"SMALL(Hin_T[[StartÅR]:[SlutÅr]],ROW()-ROW(Medel_T[[#Headers],[Start]]))","v":{"$error":"#NUM!"}},{"$f":"SMALL(Hin_T[[StartÅR]:[SlutÅr]],ROW()-ROW(Medel_T[[#Headers],[Slut]])+1)","v":{"$error":"#NUM!"}},{"$f":"IF(Medel_T[[#This Row],[Start]]<=Besvär_T[[#Totals],[Sjukdomsdebut]],Medel_T[[#This Row],[Start]],\"\")","v":{"$error":"#NUM!"}},{"$f":"IF(Medel_T[[#This Row],[Slut]]<=Besvär_T[[#Totals],[Sjukdomsdebut]],Medel_T[[#This Row],[Slut]],IF(AND(LEN(Medel_T[[#This Row],[SJDstart]])>0,LEN(BU46)=0),Besvär_T[[#Totals],[Sjukdomsdebut]],\"\"))","v":{"$error":"#NUM!"}},{"$f":"IF(Medel_T[[#This Row],[Start]]>=Besvär_T[[#Totals],[Sjukdomsdebut]],Medel_T[[#This Row],[Start]],IF(AND(LEN(Medel_T[[#This Row],[EfterSlut]])>0,LEN(BX44)=0),Besvär_T[[#Totals],[Sjukdomsdebut]],\"\"))","v":{"$error":"#NUM!"}},{"$f":"IF(Medel_T[[#This Row],[Slut]]>=Besvär_T[[#Totals],[Sjukdomsdebut]],Medel_T[[#This Row],[Slut]],\"\")","v":{"$error":"#NUM!"}},{"$f":"COUNTIF($BZ$19:BZ45,\">0\")","v":0},{"$f":"COUNTIFS(Hin_T[B-år],\"<=\"&Medel_T[[#This Row],[Start]],Hin_T[S-år],\">=\"&Medel_T[[#This Row],[Slut]])","v":0},{"$f":"SUBSTITUTE(_xlfn.TEXTJOIN(Sep_T[Separator],TRUE,_xlfn._xlws.SORT(_xlfn.UNIQUE(IF((Hin_T[[B-år]:[B-år]]<=Medel_T[[#This Row],[Start]:[Start]])*(Hin_T[[S-år]:[S-år]]>=Medel_T[[#This Row],[Slut]:[Slut]]),Hin_T[Yrke],\"\")))),0&Sep_T[Separator],\"\")","v":{"$error":"#NUM!"}},{"$f":"SUBSTITUTE(_xlfn.TEXTJOIN(Sep_T[Separator],TRUE,_xlfn._xlws.SORT(_xlfn.UNIQUE(IF((Hin_T[[B-år]:[B-år]]<=Medel_T[[#This Row],[Start]:[Start]])*(Hin_T[[S-år]:[S-år]]>=Medel_T[[#This Row],[Slut]:[Slut]]),Hin_T[Arbetsmoment],\"\")))),0&Sep_T[Separator],\"\")","v":{"$error":"#NUM!"}},{"$f":"IF(LEN(Medel_T[[#This Row],[Yrke]])>0,Medel_T[[#Headers],[Period ]]&Medel_T[[#This Row],[NrX]]&\": \"&TEXT(Medel_T[[#This Row],[Start]],\"ÅÅÅÅ\")&List_T[[#Totals],[List symb]]&TEXT(Medel_T[[#This Row],[Slut]],\"ÅÅÅÅ\")&\" (\"&ROUND(Medel_T[[#This Row],[År]],1)&\" år) Anställd som \"&IFERROR(SUBSTITUTE(SUBSTITUTE(Medel_T[[#This Row],[Yrke]],Sep_T[Separator],\" och \",Medel_T[[#This Row],[Ant]]-1),Sep_T[Separator],\", \"),Medel_T[[#This Row],[Yrke]])&↓[↓],\"\")","v":{"$error":"#NUM!"}},{"$f":"IF(LEN(Medel_T[[#This Row],[Arbetsmoment]])>0,ROMAN(1)&\") \"&_xlfn.TEXTJOIN(Delim[Delimiters],TRUE,_xlfn._xlws.SORT(_xlfn.UNIQUE(IF((Hin_T[[B-år]:[B-år]]<=Medel_T[[#This Row],[Start]:[Start]])*(Hin_T[[S-år]:[S-år]]>=Medel_T[[#This Row],[Slut]:[Slut]]),Hin_T[Text],\"\"))))&↓[↓],\"\")","v":{"$error":"#NUM!"}},{"$f":"SUMPRODUCT((Hin_T[[B-år]:[B-år]]<=Medel_T[[#This Row],[Start]:[Start]])*(Hin_T[[S-år]:[S-år]]>=Medel_T[[#This Row],[Slut]:[Slut]])*Hin_T[Dag])","v":{"$error":"#NUM!"}},{"$f":"IF(Medel_T[[#This Row],[Proc dag]]<=1,Medel_T[[#This Row],[Proc dag]],1)","v":{"$error":"#NUM!"}},{"$f":"YEARFRAC(Medel_T[[#This Row],[Slut]],Medel_T[[#This Row],[Start]])","v":{"$error":"#NUM!"}},{"$f":"YEARFRAC(Medel_T[[#This Row],[SJDslut]],Medel_T[[#This Row],[SJDstart]])","v":{"$error":"#NUM!"}},{"$f":"IFERROR(SUMPRODUCT((Hin_T[[B-år]:[B-år]]<=Medel_T[[#This Row],[Start]:[Start]])*(Hin_T[[S-år]:[S-år]]>=Medel_T[[#This Row],[Slut]:[Slut]])*Hin_T[HöA]*Hin_T[[Dag]:[Dag]])/Medel_T[[#This Row],[Proc dag]],-1)","v":-1},{"$f":"IFERROR(SUMPRODUCT((Hin_T[[B-år]:[B-år]]<=Medel_T[[#This Row],[Start]:[Start]])*(Hin_T[[S-år]:[S-år]]>=Medel_T[[#This Row],[Slut]:[Slut]])*Hin_T[AöA]*Hin_T[[Dag]:[Dag]])/Medel_T[[#This Row],[Proc dag]],-1)","v":-1},{"$f":"IFERROR(SUMPRODUCT((Hin_T[[B-år]:[B-år]]<=Medel_T[[#This Row],[Start]:[Start]])*(Hin_T[[S-år]:[S-år]]>=Medel_T[[#This Row],[Slut]:[Slut]])*Hin_T[4AM]*Hin_T[[Dag]:[Dag]])/Medel_T[[#This Row],[Proc dag]],-1)","v":-1},{"$f":"IFERROR(SUMPRODUCT((Hin_T[[B-år]:[B-år]]<=Medel_T[[#This Row],[Start]:[Start]])*(Hin_T[[S-år]:[S-år]]>=Medel_T[[#This Row],[Slut]:[Slut]])*Hin_T[15AM]*Hin_T[[Dag]:[Dag]])/Medel_T[[#This Row],[Proc dag]],-1)","v":-1},{"$f":"IFERROR(SUMPRODUCT((Hin_T[[B-år]:[B-år]]<=Medel_T[[#This Row],[Start]:[Start]])*(Hin_T[[S-år]:[S-år]]>=Medel_T[[#This Row],[Slut]:[Slut]])*Hin_T[20-10D]*Hin_T[[Dag]:[Dag]])/Medel_T[[#This Row],[Proc dag]],-1)","v":-1},{"$f":"IFERROR(SUMPRODUCT((Hin_T[[B-år]:[B-år]]<=Medel_T[[#This Row],[Start]:[Start]])*(Hin_T[[S-år]:[S-år]]>=Medel_T[[#This Row],[Slut]:[Slut]])*Hin_T[[Dag]:[Dag]]*Hin_T[HöA])/Medel_T[[#This Row],[Dag sum]],-1)","v":-1},{"$f":"IFERROR(SUMPRODUCT((Hin_T[[B-år]:[B-år]]<=Medel_T[[#This Row],[Start]:[Start]])*(Hin_T[[S-år]:[S-år]]>=Medel_T[[#This Row],[Slut]:[Slut]])*Hin_T[[Dag]:[Dag]]*Hin_T[AöA])/Medel_T[[#This Row],[Dag sum]],-1)","v":-1},{"$f":"IFERROR(SUMPRODUCT((Hin_T[[B-år]:[B-år]]<=Medel_T[[#This Row],[Start]:[Start]])*(Hin_T[[S-år]:[S-år]]>=Medel_T[[#This Row],[Slut]:[Slut]])*Hin_T[[Dag]:[Dag]]*Hin_T[4AM])/Medel_T[[#This Row],[Dag sum]],-1)","v":-1},{"$f":"IFERROR(SUMPRODUCT((Hin_T[[B-år]:[B-år]]<=Medel_T[[#This Row],[Start]:[Start]])*(Hin_T[[S-år]:[S-år]]>=Medel_T[[#This Row],[Slut]:[Slut]])*Hin_T[15AM]*Hin_T[[Dag]:[Dag]])/Medel_T[[#This Row],[Dag sum]],-1)","v":-1},{"$f":"IFERROR(SUMPRODUCT((Hin_T[[B-år]:[B-år]]<=Medel_T[[#This Row],[Start]:[Start]])*(Hin_T[[S-år]:[S-år]]>=Medel_T[[#This Row],[Slut]:[Slut]])*Hin_T[[Dag]:[Dag]]*Hin_T[20-10D])/Medel_T[[#This Row],[Dag sum]],-1)","v":-1},{"$f":"IFERROR(Medel_T[[#This Row],[Dag sum]:[Dag sum]]*Medel_T[[#This Row],[År]:[År]]*Medel_T[[#This Row],[HöA T]]*DÅ[Arbetsdag/år],0)","v":0},{"$f":"IFERROR(Medel_T[[#This Row],[Dag sum]:[Dag sum]]*Medel_T[[#This Row],[År]:[År]]*Medel_T[[#This Row],[AöA T]]*DÅ[Arbetsdag/år],0)","v":0},{"$f":"IFERROR(Medel_T[[#This Row],[Dag sum]:[Dag sum]]*Medel_T[[#This Row],[År]:[År]]*Medel_T[[#This Row],[4AM T]]*DÅ[Arbetsdag/år],0)","v":0},{"$f":"IFERROR(Medel_T[[#This Row],[Dag sum]:[Dag sum]]*Medel_T[[#This Row],[År]:[År]]*Medel_T[[#This Row],[15AM T]]*DÅ[Arbetsdag/år],0)","v":0},{"$f":"IFERROR(Medel_T[[#This Row],[Dag sum]:[Dag sum]]*Medel_T[[#This Row],[År]:[År]]*Medel_T[[#This Row],[20-10D T]]*DÅ[Arbetsdag/år],0)","v":0},{"$f":"IFERROR(Medel_T[[#This Row],[Dag sum]:[Dag sum]]*Medel_T[[#This Row],[ÅrSjuk]:[ÅrSjuk]]*Medel_T[[#This Row],[HöA T]]*DÅ[Arbetsdag/år],0)","v":0},{"$f":"IFERROR(Medel_T[[#This Row],[Dag sum]:[Dag sum]]*Medel_T[[#This Row],[ÅrSjuk]:[ÅrSjuk]]*Medel_T[[#This Row],[AöA T]]*DÅ[Arbetsdag/år],0)","v":0},{"$f":"IFERROR(Medel_T[[#This Row],[Dag sum]:[Dag sum]]*Medel_T[[#This Row],[ÅrSjuk]:[ÅrSjuk]]*Medel_T[[#This Row],[4AM T]]*DÅ[Arbetsdag/år],0)","v":0},{"$f":"IFERROR(Medel_T[[#This Row],[Dag sum]:[Dag sum]]*Medel_T[[#This Row],[ÅrSjuk]:[ÅrSjuk]]*Medel_T[[#This Row],[15AM T]]*DÅ[Arbetsdag/år],0)","v":0},{"$f":"IFERROR(Medel_T[[#This Row],[Dag sum]:[Dag sum]]*Medel_T[[#This Row],[ÅrSjuk]:[ÅrSjuk]]*Medel_T[[#This Row],[20-10D T]]*DÅ[Arbetsdag/år],0)","v":0},{"$f":"IFERROR(IF(Medel_T[[#This Row],[AöA T]]=0,\"\",List_T[List symb]&Exp_T[[#Headers],[Överarmslyft> 90°: ]]&IF(VALUE(TEXT(Medel_T[[#This Row],[AöA T]],\"t\"))>0,VALUE(TEXT(Medel_T[[#This Row],[AöA T]],\"t\"))&\" h\",\"\")&IF(AND(VALUE(TEXT(Medel_T[[#This Row],[AöA T]],\"t\"))>0,VALUE(TEXT(Medel_T[[#This Row],[AöA T]],\"m\"))>2.4),\" \",\"\")&IF(VALUE(TEXT(Medel_T[[#This Row],[AöA T]],\"m\"))>2.4,TEXT(ROUND(Medel_T[[#This Row],[AöA T]]*(24*60/5),0)/(24*60/5),\"m\")&\" min\",\"\")&\"/dag x \"&ROUND(Medel_T[[#This Row],[Dag sum]:[Dag sum]]*DÅ[Arbetsdag/år],0)&\" dagar x \"&ROUND(Medel_T[[#This Row],[År]:[År]],1)&\" år = \"&TEXT(ROUND(Medel_T[[#This Row],[D AöA§]]*24,1-(INT(LOG10(ABS(Medel_T[[#This Row],[D AöA§]]*24))))),\"0\"&IF(1-(INT(LOG10(ABS(Medel_T[[#This Row],[D AöA§]]*24))))>0,\",\"&REPT(\"0\",1-(INT(LOG10(ABS(Medel_T[[#This Row],[D AöA§]]*24))))),\"\"))& \" h\"),\"\")","v":""},{"$f":"IFERROR(IF(Medel_T[[#This Row],[15AM T]]=0,\"\",List_T[List symb]&Exp_T[[#Headers],[Överarmsrörelser> 15/min: ]]&IF(VALUE(TEXT(Medel_T[[#This Row],[15AM T]],\"t\"))>0,VALUE(TEXT(Medel_T[[#This Row],[15AM T]],\"t\"))&\" h\",\"\")&IF(AND(VALUE(TEXT(Medel_T[[#This Row],[15AM T]],\"t\"))>0,VALUE(TEXT(Medel_T[[#This Row],[15AM T]],\"m\"))>2.4),\" \",\"\")&IF(VALUE(TEXT(Medel_T[[#This Row],[15AM T]],\"m\"))>2.4,TEXT(ROUND(Medel_T[[#This Row],[15AM T]]*(24*60/5),0)/(24*60/5),\"m\")&\" min\",\"\")&\"/dag x \"&ROUND(Medel_T[[#This Row],[Dag sum]:[Dag sum]]*DÅ[Arbetsdag/år],0)&\" dagar x \"&ROUND(Medel_T[[#This Row],[År]:[År]],1)&\" år = \"&TEXT(ROUND(Medel_T[[#This Row],[D 15AM§]]*24,1-(INT(LOG10(ABS(Medel_T[[#This Row],[D 15AM§]]*24))))),\"0\"&IF(1-(INT(LOG10(ABS(Medel_T[[#This Row],[D 15AM§]]*24))))>0,\",\"&REPT(\"0\",1-(INT(LOG10(ABS(Medel_T[[#This Row],[D 15AM§]]*24))))),\"\"))& \" h\"),\"\")","v":""},{"$f":"IFERROR(IF(OR(LEN(Medel_T[[#This Row],[AöA text]])>0,LEN(Medel_T[[#This Row],[15AM Text]])>0),Exp_T[Anställning]&YEAR(Medel_T[[#This Row],[Start]])&List_T[[#Totals],[List symb]]&YEAR(Medel_T[[#This Row],[Slut]])&\" (\"&ROUND(Medel_T[[#This Row],[År]],1)&\" år)\"&IF(LEN(Medel_T[[#This Row],[AöA text]])>0,↓[↓],\"\")&Medel_T[[#This Row],[AöA text]]&IF(LEN(Medel_T[[#This Row],[15AM Text]])>0,↓[↓],\"\")&Medel_T[[#This Row],[15AM Text]],\"\"),\"\")","v":""},{"$f":"IFERROR(IF(Medel_T[[#This Row],[AöA T]]=0,\"\",List_T[List symb]&Exp_T[[#Headers],[Överarmsrörelser> 15/min: ]]&IF(VALUE(TEXT(Medel_T[[#This Row],[AöA T]],\"t\"))>0,VALUE(TEXT(Medel_T[[#This Row],[AöA T]],\"t\"))&\" h\",\"\")&IF(AND(VALUE(TEXT(Medel_T[[#This Row],[AöA T]],\"t\"))>0,VALUE(TEXT(Medel_T[[#This Row],[AöA T]],\"m\"))>2.4),\" \",\"\")&IF(VALUE(TEXT(Medel_T[[#This Row],[AöA T]],\"m\"))>2.4,TEXT(ROUND(Medel_T[[#This Row],[AöA T]]*(24*60/5),0)/(24*60/5),\"m\")&\" min\",\"\")&\"/dag x \"&ROUND(Medel_T[[#This Row],[Dag sum]:[Dag sum]]*DÅ[Arbetsdag/år],0)&\" dagar x \"&ROUND(Medel_T[[#This Row],[År]:[År]],1)&\" år = \"&TEXT(ROUND(Medel_T[[#This Row],[D AöA¤]]*24,1-(INT(LOG10(ABS(Medel_T[[#This Row],[D AöA¤]]*24))))),\"0\"&IF(1-(INT(LOG10(ABS(Medel_T[[#This Row],[D AöA¤]]*24))))>0,\",\"&REPT(\"0\",1-(INT(LOG10(ABS(Medel_T[[#This Row],[D AöA¤]]*24))))),\"\"))& \" h\"),\"\")","v":""},{"$f":"IFERROR(IF(Medel_T[[#This Row],[15AM T]]=0,\"\",List_T[List symb]&Exp_T[[#Headers],[Överarmslyft> 90°: ]]&IF(VALUE(TEXT(Medel_T[[#This Row],[15AM T]],\"t\"))>0,VALUE(TEXT(Medel_T[[#This Row],[15AM T]],\"t\"))&\" h\",\"\")&IF(AND(VALUE(TEXT(Medel_T[[#This Row],[15AM T]],\"t\"))>0,VALUE(TEXT(Medel_T[[#This Row],[15AM T]],\"m\"))>0),\" \",\"\")&IF(VALUE(TEXT(Medel_T[[#This Row],[15AM T]],\"m\"))>0,TEXT(ROUND(Medel_T[[#This Row],[15AM T]]*(24*60/5),0)/(24*60/5),\"m\")&\" min\",\"\")&\"/dag x \"&ROUND(Medel_T[[#This Row],[Dag sum]:[Dag sum]]*DÅ[Arbetsdag/år],0)&\" dagar x \"&ROUND(Medel_T[[#This Row],[År]:[År]],1)&\" år = \"&TEXT(ROUND(Medel_T[[#This Row],[D 15AM¤]]*24,1-(INT(LOG10(ABS(Medel_T[[#This Row],[D 15AM¤]]*24))))),\"0\"&IF(1-(INT(LOG10(ABS(Medel_T[[#This Row],[D 15AM¤]]*24))))>0,\",\"&REPT(\"0\",1-(INT(LOG10(ABS(Medel_T[[#This Row],[D 15AM¤]]*24))))),\"\"))& \" h\"),\"\")","v":""},{"$f":"IFERROR(IF(LEN(Medel_T[[#This Row],[SJDstart]])>0,Exp_T[Anställning]&↓[↓]&YEAR(Medel_T[[#This Row],[Start]])&List_T[[#Totals],[List symb]]&YEAR(Medel_T[[#This Row],[Slut]])&\" (\"&ROUND(Medel_T[[#This Row],[År]],1)&\" år)\"&IF(LEN(Medel_T[[#This Row],[AöA text Sjuk]])>0,↓[↓],\"\")&Medel_T[[#This Row],[AöA text Sjuk]]&IF(LEN(Medel_T[[#This Row],[15AM Text Sjuk]])>0,↓[↓],\"\")&Medel_T[[#This Row],[15AM Text Sjuk]],\"\"),\"\")","v":""},{"$f":"IFERROR(Medel_T[[#This Row],[Period ]]&Medel_T[[#This Row],[ArbMomText]]&Medel_T[[#This Row],[Text]],\"\")","v":""},{"$f":"IF(AND(DJ44>=MAX(Medel_T[NrX]),ISNUMBER(DJ44)),Medel_T[[#Totals],[NrX]]+ROW()-ROW(Medel_T[[#Headers],[Rad]])-Medel_T[[#Totals],[Ant]]-1,INDEX(Medel_T[NrX],MATCH(ROW()-ROW(Medel_T[[#Headers],[Rad]]),Medel_T[NrX],0)))","v":{"$error":"#N/A"}},{"$f":"IF(Medel_T[[#This Row],[Rad]]<=Medel_T[[#Totals],[Ant]],MATCH(Medel_T[[#This Row],[Rad]],Medel_T[NrX],0),IFERROR(INDEX(BD_TX[[#Data],[#Totals],[SJ]],MATCH(Medel_T[[#This Row],[Rad]],BD_TX[[#Data],[#Totals],[Nr]],0)),\"\"))","v":{"$error":"#N/A"}},{"$f":"LEN(Medel_T[[#This Row],[Yrke2]])-LEN(SUBSTITUTE(Medel_T[[#This Row],[Yrke2]],LEFT(Sep_T[Separator],1),\"\"))","v":0},{"$f":"INDEX(Medel_T[År],Medel_T[[#This Row],[Nr]])","v":{"$error":"#N/A"}},{"$f":"IFERROR(IF(LEN(Medel_T[[#This Row],[Nr]])>0,TEXT(IFERROR(INDEX(Medel_T[Start],Medel_T[[#This Row],[Nr]]),INDEX(BD_TX[[#Data],[#Totals],[Start]],MATCH(Medel_T[[#This Row],[Rad]],BD_TX[[#Data],[#Totals],[Nr]],0))),\"ÅÅÅÅ MMM\")&\"-\"&TEXT(IFERROR(INDEX(Medel_T[Slut],Medel_T[[#This Row],[Nr]]),INDEX(BD_TX[[#Data],[#Totals],[År]],MATCH(Medel_T[[#This Row],[Rad]],BD_TX[[#Data],[#Totals],[Nr]],0))),\"ÅÅÅÅ MMM\"),\"\"),\"\")","v":""},{"$f":"IFERROR(IF(LEN(Medel_T[[#This Row],[Nr]])>0,IF(Medel_T[[#This Row],[Rad]]>Medel_T[[#Totals],[Ant]],IFERROR(INDEX(BD_TX[[#Data],[#Totals],[Text]],MATCH(Medel_T[[#This Row],[Rad]],BD_TX[[#Data],[#Totals],[Nr]],0)),\"\"),INDEX(Medel_T[Yrke],Medel_T[[#This Row],[Nr]])),\"\"),\"\")","v":""},{"$f":"IFERROR(INDEX(Medel_T[Arbetsmoment],MATCH(ROW()-ROW(Medel_T[[#Headers],[Arbetsmoment2]]),Medel_T[[NrX]:[NrX]],0)),\"\")","v":""},{"$f":"IFERROR(INDEX(Medel_T[],Medel_T[[#This Row],[Nr]],Medel_T[[#Totals],[HöA_T]]),\"\")","v":""},{"$f":"IF(LEN(Medel_T[[#This Row],[Nr]:[Nr]])>0,IFERROR(TEXT(ROUND(24*IFERROR(INDEX(Medel_T[],Medel_T[[#This Row],[Nr]:[Nr]],Medel_T[[#Totals],[D HöA]]),INDEX(Sum_T[[#Data],[#Totals]],MATCH(Medel_T[[#This Row],[Nr]:[Nr]],Sum_T[[#Data],[#Totals],[Typ]:[Typ]],0),MATCH(Medel_T[[#Headers],[D HöA]],Sum_T[#Headers],0))),1-(INT(LOG10(ABS(24*IFERROR(INDEX(Medel_T[],Medel_T[[#This Row],[Nr]:[Nr]],Medel_T[[#Totals],[D HöA]]),INDEX(Sum_T[[#Data],[#Totals]],MATCH(Medel_T[[#This Row],[Nr]:[Nr]],Sum_T[[#Data],[#Totals],[Typ]:[Typ]],0),MATCH(Medel_T[[#Headers],[D HöA]],Sum_T[#Headers],0)))))))),\"0\"&IF(1-(INT(LOG10(ABS(24*IFERROR(INDEX(Medel_T[],Medel_T[[#This Row],[Nr]:[Nr]],Medel_T[[#Totals],[D HöA]]),INDEX(Sum_T[[#Data],[#Totals]],MATCH(Medel_T[[#This Row],[Nr]:[Nr]],Sum_T[[#Data],[#Totals],[Typ]:[Typ]],0),MATCH(Medel_T[[#Headers],[D HöA]],Sum_T[#Headers],0)))))))>0,\",\"&REPT(\"0\",1-(INT(LOG10(ABS(24*IFERROR(INDEX(Medel_T[],Medel_T[[#This Row],[Nr]:[Nr]],Medel_T[[#Totals],[D HöA]]),INDEX(Sum_T[[#Data],[#Totals]],MATCH(Medel_T[[#This Row],[Nr]:[Nr]],Sum_T[[#Data],[#Totals],[Typ]:[Typ]],0),MATCH(Medel_T[[#Headers],[D HöA]],Sum_T[#Headers],0)))))))),0)),0),\"\")","v":{"$error":"#N/A"}},{"$f":"IFERROR(INDEX(Medel_T[],Medel_T[[#This Row],[Nr]],Medel_T[[#Totals],[AÖA_T]]),\"\")","v":""},{"$f":"IFERROR(IF(LEN(Medel_T[[#This Row],[Nr]:[Nr]])>0,IFERROR(TEXT(ROUND(24*IFERROR(INDEX(Medel_T[],Medel_T[[#This Row],[Nr]:[Nr]],Medel_T[[#Totals],[D AöA]]),INDEX(Sum_T[[#Data],[#Totals]],MATCH(Medel_T[[#This Row],[Nr]:[Nr]],Sum_T[[#Data],[#Totals],[Typ]:[Typ]],0),MATCH(Medel_T[[#Headers],[D AöA]],Sum_T[#Headers],0))),1-(INT(LOG10(ABS(24*IFERROR(INDEX(Medel_T[],Medel_T[[#This Row],[Nr]:[Nr]],Medel_T[[#Totals],[D AöA]]),INDEX(Sum_T[[#Data],[#Totals]],MATCH(Medel_T[[#This Row],[Nr]:[Nr]],Sum_T[[#Data],[#Totals],[Typ]:[Typ]],0),MATCH(Medel_T[[#Headers],[D AöA]],Sum_T[#Headers],0)))))))),\"0\"&IF(1-(INT(LOG10(ABS(24*IFERROR(INDEX(Medel_T[],Medel_T[[#This Row],[Nr]:[Nr]],Medel_T[[#Totals],[D AöA]]),INDEX(Sum_T[[#Data],[#Totals]],MATCH(Medel_T[[#This Row],[Nr]:[Nr]],Sum_T[[#Data],[#Totals],[Typ]:[Typ]],0),MATCH(Medel_T[[#Headers],[D AöA]],Sum_T[#Headers],0)))))))>0,\",\"&REPT(\"0\",1-(INT(LOG10(ABS(24*IFERROR(INDEX(Medel_T[],Medel_T[[#This Row],[Nr]:[Nr]],Medel_T[[#Totals],[D AöA]]),INDEX(Sum_T[[#Data],[#Totals]],MATCH(Medel_T[[#This Row],[Nr]:[Nr]],Sum_T[[#Data],[#Totals],[Typ]:[Typ]],0),MATCH(Medel_T[[#Headers],[D AöA]],Sum_T[#Headers],0)))))))),0)),0),\"\"),\"\")","v":""},{"$f":"IFERROR(INDEX(Medel_T[],Medel_T[[#This Row],[Nr]],Medel_T[[#Totals],[4AM_T]]),\"\")","v":""},{"$f":"IF(LEN(Medel_T[[#This Row],[Nr]:[Nr]])>0,IFERROR(TEXT(ROUND(24*IFERROR(INDEX(Medel_T[],Medel_T[[#This Row],[Nr]:[Nr]],Medel_T[[#Totals],[D 4AM]]),INDEX(Sum_T[[#Data],[#Totals]],MATCH(Medel_T[[#This Row],[Nr]:[Nr]],Sum_T[[#Data],[#Totals],[Typ]:[Typ]],0),MATCH(Medel_T[[#Headers],[D 4AM]],Sum_T[#Headers],0))),1-(INT(LOG10(ABS(24*IFERROR(INDEX(Medel_T[],Medel_T[[#This Row],[Nr]:[Nr]],Medel_T[[#Totals],[D 4AM]]),INDEX(Sum_T[[#Data],[#Totals]],MATCH(Medel_T[[#This Row],[Nr]:[Nr]],Sum_T[[#Data],[#Totals],[Typ]:[Typ]],0),MATCH(Medel_T[[#Headers],[D 4AM]],Sum_T[#Headers],0)))))))),\"0\"&IF(1-(INT(LOG10(ABS(24*IFERROR(INDEX(Medel_T[],Medel_T[[#This Row],[Nr]:[Nr]],Medel_T[[#Totals],[D 4AM]]),INDEX(Sum_T[[#Data],[#Totals]],MATCH(Medel_T[[#This Row],[Nr]:[Nr]],Sum_T[[#Data],[#Totals],[Typ]:[Typ]],0),MATCH(Medel_T[[#Headers],[D 4AM]],Sum_T[#Headers],0)))))))>0,\",\"&REPT(\"0\",1-(INT(LOG10(ABS(24*IFERROR(INDEX(Medel_T[],Medel_T[[#This Row],[Nr]:[Nr]],Medel_T[[#Totals],[D 4AM]]),INDEX(Sum_T[[#Data],[#Totals]],MATCH(Medel_T[[#This Row],[Nr]:[Nr]],Sum_T[[#Data],[#Totals],[Typ]:[Typ]],0),MATCH(Medel_T[[#Headers],[D 4AM]],Sum_T[#Headers],0)))))))),0)),0),\"\")","v":{"$error":"#N/A"}},{"$f":"IFERROR(INDEX(Medel_T[],Medel_T[[#This Row],[Nr]],Medel_T[[#Totals],[15AM_T]]),\"\")","v":""},{"$f":"IFERROR(IF(LEN(Medel_T[[#This Row],[Nr]:[Nr]])>0,IFERROR(TEXT(ROUND(24*IFERROR(INDEX(Medel_T[],Medel_T[[#This Row],[Nr]:[Nr]],Medel_T[[#Totals],[D 15AM]]),INDEX(Sum_T[[#Data],[#Totals]],MATCH(Medel_T[[#This Row],[Nr]:[Nr]],Sum_T[[#Data],[#Totals],[Typ]:[Typ]],0),MATCH(Medel_T[[#Headers],[D 15AM]],Sum_T[#Headers],0))),1-(INT(LOG10(ABS(24*IFERROR(INDEX(Medel_T[],Medel_T[[#This Row],[Nr]:[Nr]],Medel_T[[#Totals],[D 15AM]]),INDEX(Sum_T[[#Data],[#Totals]],MATCH(Medel_T[[#This Row],[Nr]:[Nr]],Sum_T[[#Data],[#Totals],[Typ]:[Typ]],0),MATCH(Medel_T[[#Headers],[D 15AM]],Sum_T[#Headers],0)))))))),\"0\"&IF(1-(INT(LOG10(ABS(24*IFERROR(INDEX(Medel_T[],Medel_T[[#This Row],[Nr]:[Nr]],Medel_T[[#Totals],[D 15AM]]),INDEX(Sum_T[[#Data],[#Totals]],MATCH(Medel_T[[#This Row],[Nr]:[Nr]],Sum_T[[#Data],[#Totals],[Typ]:[Typ]],0),MATCH(Medel_T[[#Headers],[D 15AM]],Sum_T[#Headers],0)))))))>0,\",\"&REPT(\"0\",1-(INT(LOG10(ABS(24*IFERROR(INDEX(Medel_T[],Medel_T[[#This Row],[Nr]:[Nr]],Medel_T[[#Totals],[D 15AM]]),INDEX(Sum_T[[#Data],[#Totals]],MATCH(Medel_T[[#This Row],[Nr]:[Nr]],Sum_T[[#Data],[#Totals],[Typ]:[Typ]],0),MATCH(Medel_T[[#Headers],[D 15AM]],Sum_T[#Headers],0)))))))),0)),0),\"\"),\"\")","v":""},{"$f":"IFERROR(INDEX(Medel_T[],Medel_T[[#This Row],[Nr]],Medel_T[[#Totals],[20-10D_T]]),\"\")","v":""},{"$f":"IF(LEN(Medel_T[[#This Row],[Nr]:[Nr]])>0,IFERROR(TEXT(ROUND(24*IFERROR(INDEX(Medel_T[],Medel_T[[#This Row],[Nr]:[Nr]],Medel_T[[#Totals],[D 20-10D]]),INDEX(Sum_T[[#Data],[#Totals]],MATCH(Medel_T[[#This Row],[Nr]:[Nr]],Sum_T[[#Data],[#Totals],[Typ]:[Typ]],0),MATCH(Medel_T[[#Headers],[D 20-10D]],Sum_T[#Headers],0))),1-(INT(LOG10(ABS(24*IFERROR(INDEX(Medel_T[],Medel_T[[#This Row],[Nr]:[Nr]],Medel_T[[#Totals],[D 20-10D]]),INDEX(Sum_T[[#Data],[#Totals]],MATCH(Medel_T[[#This Row],[Nr]:[Nr]],Sum_T[[#Data],[#Totals],[Typ]:[Typ]],0),MATCH(Medel_T[[#Headers],[D 20-10D]],Sum_T[#Headers],0)))))))),\"0\"&IF(1-(INT(LOG10(ABS(24*IFERROR(INDEX(Medel_T[],Medel_T[[#This Row],[Nr]:[Nr]],Medel_T[[#Totals],[D 20-10D]]),INDEX(Sum_T[[#Data],[#Totals]],MATCH(Medel_T[[#This Row],[Nr]:[Nr]],Sum_T[[#Data],[#Totals],[Typ]:[Typ]],0),MATCH(Medel_T[[#Headers],[D 20-10D]],Sum_T[#Headers],0)))))))>0,\",\"&REPT(\"0\",1-(INT(LOG10(ABS(24*IFERROR(INDEX(Medel_T[],Medel_T[[#This Row],[Nr]:[Nr]],Medel_T[[#Totals],[D 20-10D]]),INDEX(Sum_T[[#Data],[#Totals]],MATCH(Medel_T[[#This Row],[Nr]:[Nr]],Sum_T[[#Data],[#Totals],[Typ]:[Typ]],0),MATCH(Medel_T[[#Headers],[D 20-10D]],Sum_T[#Headers],0)))))))),0)),0),\"\")","v":{"$error":"#N/A"}},null,null,null,null,null,null,null,null,null,null,null,null,null,null,null,null,null,null,null,null,null,null,{"$f":"ROWS($EW$20:EW45)","v":26},{"$f":"IFERROR(MATCH(Hist_Tab[[#This Row],[Ref]],Medel_T[NrX],0),1)","v":1},{"$f":"INT((ROW(Hist_Tab[[#This Row],[Ref]])-ROW(Hist_Tab[[#Headers],[Ref]])-1)/4)+1","v":7},{"$f":"COUNTIF($EY$19:EY45,Hist_Tab[[#This Row],[Ref]])","v":3},{"$f":"IFERROR(INDEX(Medel_T[Start],Hist_Tab[[#This Row],[Ref]]),_xlfn.AGGREGATE(4,6,Medel_T[Start]))","v":"00:00:00"},{"$f":"IFERROR(INDEX(Medel_T[Slut],Hist_Tab[[#This Row],[Ref]]),_xlfn.AGGREGATE(4,6,Medel_T[Slut]))","v":"00:00:00"},{"$f":"IF(EW44=0,Hist_Tab[[#This Row],[ÅrB]],IF(Hist_Tab[[#This Row],[per/p]]<2,Hist_Tab[[#This Row],[ÅrB]],Hist_Tab[[#This Row],[År S]]))","v":"00:00:00"},{"$f":"IF(Hist_Tab[[#This Row],[Rad]:[Rad]]=0,-1,IF($EY46>_xlfn.AGGREGATE(2,6,Medel_T[[Slut]:[Slut]]),0,INDEX(Medel_T[],Hist_Tab[[#This Row],[Ref]:[Ref]],MATCH(Hist_Tab[[#Headers],[HöA T]],Medel_T[#Headers],0))))","v":0},{"$f":"IF(Hist_Tab[[#This Row],[Rad]:[Rad]]=0,0,IF($EY46>_xlfn.AGGREGATE(2,6,Medel_T[[Slut]:[Slut]]),0,INDEX(Medel_T[],Hist_Tab[[#This Row],[Ref]:[Ref]],MATCH(Hist_Tab[[#Headers],[AöA T]],Medel_T[#Headers],0))))","v":0},{"$f":"IF(Hist_Tab[[#This Row],[Rad]:[Rad]]=0,0,IF($EY46>_xlfn.AGGREGATE(2,6,Medel_T[[Slut]:[Slut]]),0,INDEX(Medel_T[],Hist_Tab[[#This Row],[Ref]:[Ref]],MATCH(Hist_Tab[[#Headers],[4AM T]],Medel_T[#Headers],0))))","v":0},{"$f":"IF(Hist_Tab[[#This Row],[Rad]:[Rad]]=0,0,IF($EY46>_xlfn.AGGREGATE(2,6,Medel_T[[Slut]:[Slut]]),0,INDEX(Medel_T[],Hist_Tab[[#This Row],[Ref]:[Ref]],MATCH(Hist_Tab[[#Headers],[15AM T]],Medel_T[#Headers],0))))","v":0},{"$f":"IF(Hist_Tab[[#This Row],[Rad]:[Rad]]=0,0,IF($EY46>_xlfn.AGGREGATE(2,6,Medel_T[[Slut]:[Slut]]),0,INDEX(Medel_T[],Hist_Tab[[#This Row],[Ref]:[Ref]],MATCH(Hist_Tab[[#Headers],[20-10D T]],Medel_T[#Headers],0))))","v":0}]
[null,null,null,null,null,null,null,null,null,null,null,null,null,null,null,null,null,null,null,null,null,null,null,null,null,null,null,null,null,null,null,null,null,null,null,null,null,null,null,null,null,null,null,null,null,null,null,null,null,null,null,null,null,null,null,null,null,null,null,null,null,null,null,null,null,null,null,null,null,null,{"$f":"SMALL(Hin_T[[StartÅR]:[SlutÅr]],ROW()-ROW(Medel_T[[#Headers],[Start]]))","v":{"$error":"#NUM!"}},{"$f":"SMALL(Hin_T[[StartÅR]:[SlutÅr]],ROW()-ROW(Medel_T[[#Headers],[Slut]])+1)","v":{"$error":"#NUM!"}},{"$f":"IF(Medel_T[[#This Row],[Start]]<=Besvär_T[[#Totals],[Sjukdomsdebut]],Medel_T[[#This Row],[Start]],\"\")","v":{"$error":"#NUM!"}},{"$f":"IF(Medel_T[[#This Row],[Slut]]<=Besvär_T[[#Totals],[Sjukdomsdebut]],Medel_T[[#This Row],[Slut]],IF(AND(LEN(Medel_T[[#This Row],[SJDstart]])>0,LEN(BU47)=0),Besvär_T[[#Totals],[Sjukdomsdebut]],\"\"))","v":{"$error":"#NUM!"}},{"$f":"IF(Medel_T[[#This Row],[Start]]>=Besvär_T[[#Totals],[Sjukdomsdebut]],Medel_T[[#This Row],[Start]],IF(AND(LEN(Medel_T[[#This Row],[EfterSlut]])>0,LEN(BX45)=0),Besvär_T[[#Totals],[Sjukdomsdebut]],\"\"))","v":{"$error":"#NUM!"}},{"$f":"IF(Medel_T[[#This Row],[Slut]]>=Besvär_T[[#Totals],[Sjukdomsdebut]],Medel_T[[#This Row],[Slut]],\"\")","v":{"$error":"#NUM!"}},{"$f":"COUNTIF($BZ$19:BZ46,\">0\")","v":0},{"$f":"COUNTIFS(Hin_T[B-år],\"<=\"&Medel_T[[#This Row],[Start]],Hin_T[S-år],\">=\"&Medel_T[[#This Row],[Slut]])","v":0},{"$f":"SUBSTITUTE(_xlfn.TEXTJOIN(Sep_T[Separator],TRUE,_xlfn._xlws.SORT(_xlfn.UNIQUE(IF((Hin_T[[B-år]:[B-år]]<=Medel_T[[#This Row],[Start]:[Start]])*(Hin_T[[S-år]:[S-år]]>=Medel_T[[#This Row],[Slut]:[Slut]]),Hin_T[Yrke],\"\")))),0&Sep_T[Separator],\"\")","v":{"$error":"#NUM!"}},{"$f":"SUBSTITUTE(_xlfn.TEXTJOIN(Sep_T[Separator],TRUE,_xlfn._xlws.SORT(_xlfn.UNIQUE(IF((Hin_T[[B-år]:[B-år]]<=Medel_T[[#This Row],[Start]:[Start]])*(Hin_T[[S-år]:[S-år]]>=Medel_T[[#This Row],[Slut]:[Slut]]),Hin_T[Arbetsmoment],\"\")))),0&Sep_T[Separator],\"\")","v":{"$error":"#NUM!"}},{"$f":"IF(LEN(Medel_T[[#This Row],[Yrke]])>0,Medel_T[[#Headers],[Period ]]&Medel_T[[#This Row],[NrX]]&\": \"&TEXT(Medel_T[[#This Row],[Start]],\"ÅÅÅÅ\")&List_T[[#Totals],[List symb]]&TEXT(Medel_T[[#This Row],[Slut]],\"ÅÅÅÅ\")&\" (\"&ROUND(Medel_T[[#This Row],[År]],1)&\" år) Anställd som \"&IFERROR(SUBSTITUTE(SUBSTITUTE(Medel_T[[#This Row],[Yrke]],Sep_T[Separator],\" och \",Medel_T[[#This Row],[Ant]]-1),Sep_T[Separator],\", \"),Medel_T[[#This Row],[Yrke]])&↓[↓],\"\")","v":{"$error":"#NUM!"}},{"$f":"IF(LEN(Medel_T[[#This Row],[Arbetsmoment]])>0,ROMAN(1)&\") \"&_xlfn.TEXTJOIN(Delim[Delimiters],TRUE,_xlfn._xlws.SORT(_xlfn.UNIQUE(IF((Hin_T[[B-år]:[B-år]]<=Medel_T[[#This Row],[Start]:[Start]])*(Hin_T[[S-år]:[S-år]]>=Medel_T[[#This Row],[Slut]:[Slut]]),Hin_T[Text],\"\"))))&↓[↓],\"\")","v":{"$error":"#NUM!"}},{"$f":"SUMPRODUCT((Hin_T[[B-år]:[B-år]]<=Medel_T[[#This Row],[Start]:[Start]])*(Hin_T[[S-år]:[S-år]]>=Medel_T[[#This Row],[Slut]:[Slut]])*Hin_T[Dag])","v":{"$error":"#NUM!"}},{"$f":"IF(Medel_T[[#This Row],[Proc dag]]<=1,Medel_T[[#This Row],[Proc dag]],1)","v":{"$error":"#NUM!"}},{"$f":"YEARFRAC(Medel_T[[#This Row],[Slut]],Medel_T[[#This Row],[Start]])","v":{"$error":"#NUM!"}},{"$f":"YEARFRAC(Medel_T[[#This Row],[SJDslut]],Medel_T[[#This Row],[SJDstart]])","v":{"$error":"#NUM!"}},{"$f":"IFERROR(SUMPRODUCT((Hin_T[[B-år]:[B-år]]<=Medel_T[[#This Row],[Start]:[Start]])*(Hin_T[[S-år]:[S-år]]>=Medel_T[[#This Row],[Slut]:[Slut]])*Hin_T[HöA]*Hin_T[[Dag]:[Dag]])/Medel_T[[#This Row],[Proc dag]],-1)","v":-1},{"$f":"IFERROR(SUMPRODUCT((Hin_T[[B-år]:[B-år]]<=Medel_T[[#This Row],[Start]:[Start]])*(Hin_T[[S-år]:[S-år]]>=Medel_T[[#This Row],[Slut]:[Slut]])*Hin_T[AöA]*Hin_T[[Dag]:[Dag]])/Medel_T[[#This Row],[Proc dag]],-1)","v":-1},{"$f":"IFERROR(SUMPRODUCT((Hin_T[[B-år]:[B-år]]<=Medel_T[[#This Row],[Start]:[Start]])*(Hin_T[[S-år]:[S-år]]>=Medel_T[[#This Row],[Slut]:[Slut]])*Hin_T[4AM]*Hin_T[[Dag]:[Dag]])/Medel_T[[#This Row],[Proc dag]],-1)","v":-1},{"$f":"IFERROR(SUMPRODUCT((Hin_T[[B-år]:[B-år]]<=Medel_T[[#This Row],[Start]:[Start]])*(Hin_T[[S-år]:[S-år]]>=Medel_T[[#This Row],[Slut]:[Slut]])*Hin_T[15AM]*Hin_T[[Dag]:[Dag]])/Medel_T[[#This Row],[Proc dag]],-1)","v":-1},{"$f":"IFERROR(SUMPRODUCT((Hin_T[[B-år]:[B-år]]<=Medel_T[[#This Row],[Start]:[Start]])*(Hin_T[[S-år]:[S-år]]>=Medel_T[[#This Row],[Slut]:[Slut]])*Hin_T[20-10D]*Hin_T[[Dag]:[Dag]])/Medel_T[[#This Row],[Proc dag]],-1)","v":-1},{"$f":"IFERROR(SUMPRODUCT((Hin_T[[B-år]:[B-år]]<=Medel_T[[#This Row],[Start]:[Start]])*(Hin_T[[S-år]:[S-år]]>=Medel_T[[#This Row],[Slut]:[Slut]])*Hin_T[[Dag]:[Dag]]*Hin_T[HöA])/Medel_T[[#This Row],[Dag sum]],-1)","v":-1},{"$f":"IFERROR(SUMPRODUCT((Hin_T[[B-år]:[B-år]]<=Medel_T[[#This Row],[Start]:[Start]])*(Hin_T[[S-år]:[S-år]]>=Medel_T[[#This Row],[Slut]:[Slut]])*Hin_T[[Dag]:[Dag]]*Hin_T[AöA])/Medel_T[[#This Row],[Dag sum]],-1)","v":-1},{"$f":"IFERROR(SUMPRODUCT((Hin_T[[B-år]:[B-år]]<=Medel_T[[#This Row],[Start]:[Start]])*(Hin_T[[S-år]:[S-år]]>=Medel_T[[#This Row],[Slut]:[Slut]])*Hin_T[[Dag]:[Dag]]*Hin_T[4AM])/Medel_T[[#This Row],[Dag sum]],-1)","v":-1},{"$f":"IFERROR(SUMPRODUCT((Hin_T[[B-år]:[B-år]]<=Medel_T[[#This Row],[Start]:[Start]])*(Hin_T[[S-år]:[S-år]]>=Medel_T[[#This Row],[Slut]:[Slut]])*Hin_T[15AM]*Hin_T[[Dag]:[Dag]])/Medel_T[[#This Row],[Dag sum]],-1)","v":-1},{"$f":"IFERROR(SUMPRODUCT((Hin_T[[B-år]:[B-år]]<=Medel_T[[#This Row],[Start]:[Start]])*(Hin_T[[S-år]:[S-år]]>=Medel_T[[#This Row],[Slut]:[Slut]])*Hin_T[[Dag]:[Dag]]*Hin_T[20-10D])/Medel_T[[#This Row],[Dag sum]],-1)","v":-1},{"$f":"IFERROR(Medel_T[[#This Row],[Dag sum]:[Dag sum]]*Medel_T[[#This Row],[År]:[År]]*Medel_T[[#This Row],[HöA T]]*DÅ[Arbetsdag/år],0)","v":0},{"$f":"IFERROR(Medel_T[[#This Row],[Dag sum]:[Dag sum]]*Medel_T[[#This Row],[År]:[År]]*Medel_T[[#This Row],[AöA T]]*DÅ[Arbetsdag/år],0)","v":0},{"$f":"IFERROR(Medel_T[[#This Row],[Dag sum]:[Dag sum]]*Medel_T[[#This Row],[År]:[År]]*Medel_T[[#This Row],[4AM T]]*DÅ[Arbetsdag/år],0)","v":0},{"$f":"IFERROR(Medel_T[[#This Row],[Dag sum]:[Dag sum]]*Medel_T[[#This Row],[År]:[År]]*Medel_T[[#This Row],[15AM T]]*DÅ[Arbetsdag/år],0)","v":0},{"$f":"IFERROR(Medel_T[[#This Row],[Dag sum]:[Dag sum]]*Medel_T[[#This Row],[År]:[År]]*Medel_T[[#This Row],[20-10D T]]*DÅ[Arbetsdag/år],0)","v":0},{"$f":"IFERROR(Medel_T[[#This Row],[Dag sum]:[Dag sum]]*Medel_T[[#This Row],[ÅrSjuk]:[ÅrSjuk]]*Medel_T[[#This Row],[HöA T]]*DÅ[Arbetsdag/år],0)","v":0},{"$f":"IFERROR(Medel_T[[#This Row],[Dag sum]:[Dag sum]]*Medel_T[[#This Row],[ÅrSjuk]:[ÅrSjuk]]*Medel_T[[#This Row],[AöA T]]*DÅ[Arbetsdag/år],0)","v":0},{"$f":"IFERROR(Medel_T[[#This Row],[Dag sum]:[Dag sum]]*Medel_T[[#This Row],[ÅrSjuk]:[ÅrSjuk]]*Medel_T[[#This Row],[4AM T]]*DÅ[Arbetsdag/år],0)","v":0},{"$f":"IFERROR(Medel_T[[#This Row],[Dag sum]:[Dag sum]]*Medel_T[[#This Row],[ÅrSjuk]:[ÅrSjuk]]*Medel_T[[#This Row],[15AM T]]*DÅ[Arbetsdag/år],0)","v":0},{"$f":"IFERROR(Medel_T[[#This Row],[Dag sum]:[Dag sum]]*Medel_T[[#This Row],[ÅrSjuk]:[ÅrSjuk]]*Medel_T[[#This Row],[20-10D T]]*DÅ[Arbetsdag/år],0)","v":0},{"$f":"IFERROR(IF(Medel_T[[#This Row],[AöA T]]=0,\"\",List_T[List symb]&Exp_T[[#Headers],[Överarmslyft> 90°: ]]&IF(VALUE(TEXT(Medel_T[[#This Row],[AöA T]],\"t\"))>0,VALUE(TEXT(Medel_T[[#This Row],[AöA T]],\"t\"))&\" h\",\"\")&IF(AND(VALUE(TEXT(Medel_T[[#This Row],[AöA T]],\"t\"))>0,VALUE(TEXT(Medel_T[[#This Row],[AöA T]],\"m\"))>2.4),\" \",\"\")&IF(VALUE(TEXT(Medel_T[[#This Row],[AöA T]],\"m\"))>2.4,TEXT(ROUND(Medel_T[[#This Row],[AöA T]]*(24*60/5),0)/(24*60/5),\"m\")&\" min\",\"\")&\"/dag x \"&ROUND(Medel_T[[#This Row],[Dag sum]:[Dag sum]]*DÅ[Arbetsdag/år],0)&\" dagar x \"&ROUND(Medel_T[[#This Row],[År]:[År]],1)&\" år = \"&TEXT(ROUND(Medel_T[[#This Row],[D AöA§]]*24,1-(INT(LOG10(ABS(Medel_T[[#This Row],[D AöA§]]*24))))),\"0\"&IF(1-(INT(LOG10(ABS(Medel_T[[#This Row],[D AöA§]]*24))))>0,\",\"&REPT(\"0\",1-(INT(LOG10(ABS(Medel_T[[#This Row],[D AöA§]]*24))))),\"\"))& \" h\"),\"\")","v":""},{"$f":"IFERROR(IF(Medel_T[[#This Row],[15AM T]]=0,\"\",List_T[List symb]&Exp_T[[#Headers],[Överarmsrörelser> 15/min: ]]&IF(VALUE(TEXT(Medel_T[[#This Row],[15AM T]],\"t\"))>0,VALUE(TEXT(Medel_T[[#This Row],[15AM T]],\"t\"))&\" h\",\"\")&IF(AND(VALUE(TEXT(Medel_T[[#This Row],[15AM T]],\"t\"))>0,VALUE(TEXT(Medel_T[[#This Row],[15AM T]],\"m\"))>2.4),\" \",\"\")&IF(VALUE(TEXT(Medel_T[[#This Row],[15AM T]],\"m\"))>2.4,TEXT(ROUND(Medel_T[[#This Row],[15AM T]]*(24*60/5),0)/(24*60/5),\"m\")&\" min\",\"\")&\"/dag x \"&ROUND(Medel_T[[#This Row],[Dag sum]:[Dag sum]]*DÅ[Arbetsdag/år],0)&\" dagar x \"&ROUND(Medel_T[[#This Row],[År]:[År]],1)&\" år = \"&TEXT(ROUND(Medel_T[[#This Row],[D 15AM§]]*24,1-(INT(LOG10(ABS(Medel_T[[#This Row],[D 15AM§]]*24))))),\"0\"&IF(1-(INT(LOG10(ABS(Medel_T[[#This Row],[D 15AM§]]*24))))>0,\",\"&REPT(\"0\",1-(INT(LOG10(ABS(Medel_T[[#This Row],[D 15AM§]]*24))))),\"\"))& \" h\"),\"\")","v":""},{"$f":"IFERROR(IF(OR(LEN(Medel_T[[#This Row],[AöA text]])>0,LEN(Medel_T[[#This Row],[15AM Text]])>0),Exp_T[Anställning]&YEAR(Medel_T[[#This Row],[Start]])&List_T[[#Totals],[List symb]]&YEAR(Medel_T[[#This Row],[Slut]])&\" (\"&ROUND(Medel_T[[#This Row],[År]],1)&\" år)\"&IF(LEN(Medel_T[[#This Row],[AöA text]])>0,↓[↓],\"\")&Medel_T[[#This Row],[AöA text]]&IF(LEN(Medel_T[[#This Row],[15AM Text]])>0,↓[↓],\"\")&Medel_T[[#This Row],[15AM Text]],\"\"),\"\")","v":""},{"$f":"IFERROR(IF(Medel_T[[#This Row],[AöA T]]=0,\"\",List_T[List symb]&Exp_T[[#Headers],[Överarmsrörelser> 15/min: ]]&IF(VALUE(TEXT(Medel_T[[#This Row],[AöA T]],\"t\"))>0,VALUE(TEXT(Medel_T[[#This Row],[AöA T]],\"t\"))&\" h\",\"\")&IF(AND(VALUE(TEXT(Medel_T[[#This Row],[AöA T]],\"t\"))>0,VALUE(TEXT(Medel_T[[#This Row],[AöA T]],\"m\"))>2.4),\" \",\"\")&IF(VALUE(TEXT(Medel_T[[#This Row],[AöA T]],\"m\"))>2.4,TEXT(ROUND(Medel_T[[#This Row],[AöA T]]*(24*60/5),0)/(24*60/5),\"m\")&\" min\",\"\")&\"/dag x \"&ROUND(Medel_T[[#This Row],[Dag sum]:[Dag sum]]*DÅ[Arbetsdag/år],0)&\" dagar x \"&ROUND(Medel_T[[#This Row],[År]:[År]],1)&\" år = \"&TEXT(ROUND(Medel_T[[#This Row],[D AöA¤]]*24,1-(INT(LOG10(ABS(Medel_T[[#This Row],[D AöA¤]]*24))))),\"0\"&IF(1-(INT(LOG10(ABS(Medel_T[[#This Row],[D AöA¤]]*24))))>0,\",\"&REPT(\"0\",1-(INT(LOG10(ABS(Medel_T[[#This Row],[D AöA¤]]*24))))),\"\"))& \" h\"),\"\")","v":""},{"$f":"IFERROR(IF(Medel_T[[#This Row],[15AM T]]=0,\"\",List_T[List symb]&Exp_T[[#Headers],[Överarmslyft> 90°: ]]&IF(VALUE(TEXT(Medel_T[[#This Row],[15AM T]],\"t\"))>0,VALUE(TEXT(Medel_T[[#This Row],[15AM T]],\"t\"))&\" h\",\"\")&IF(AND(VALUE(TEXT(Medel_T[[#This Row],[15AM T]],\"t\"))>0,VALUE(TEXT(Medel_T[[#This Row],[15AM T]],\"m\"))>0),\" \",\"\")&IF(VALUE(TEXT(Medel_T[[#This Row],[15AM T]],\"m\"))>0,TEXT(ROUND(Medel_T[[#This Row],[15AM T]]*(24*60/5),0)/(24*60/5),\"m\")&\" min\",\"\")&\"/dag x \"&ROUND(Medel_T[[#This Row],[Dag sum]:[Dag sum]]*DÅ[Arbetsdag/år],0)&\" dagar x \"&ROUND(Medel_T[[#This Row],[År]:[År]],1)&\" år = \"&TEXT(ROUND(Medel_T[[#This Row],[D 15AM¤]]*24,1-(INT(LOG10(ABS(Medel_T[[#This Row],[D 15AM¤]]*24))))),\"0\"&IF(1-(INT(LOG10(ABS(Medel_T[[#This Row],[D 15AM¤]]*24))))>0,\",\"&REPT(\"0\",1-(INT(LOG10(ABS(Medel_T[[#This Row],[D 15AM¤]]*24))))),\"\"))& \" h\"),\"\")","v":""},{"$f":"IFERROR(IF(LEN(Medel_T[[#This Row],[SJDstart]])>0,Exp_T[Anställning]&↓[↓]&YEAR(Medel_T[[#This Row],[Start]])&List_T[[#Totals],[List symb]]&YEAR(Medel_T[[#This Row],[Slut]])&\" (\"&ROUND(Medel_T[[#This Row],[År]],1)&\" år)\"&IF(LEN(Medel_T[[#This Row],[AöA text Sjuk]])>0,↓[↓],\"\")&Medel_T[[#This Row],[AöA text Sjuk]]&IF(LEN(Medel_T[[#This Row],[15AM Text Sjuk]])>0,↓[↓],\"\")&Medel_T[[#This Row],[15AM Text Sjuk]],\"\"),\"\")","v":""},{"$f":"IFERROR(Medel_T[[#This Row],[Period ]]&Medel_T[[#This Row],[ArbMomText]]&Medel_T[[#This Row],[Text]],\"\")","v":""},{"$f":"IF(AND(DJ45>=MAX(Medel_T[NrX]),ISNUMBER(DJ45)),Medel_T[[#Totals],[NrX]]+ROW()-ROW(Medel_T[[#Headers],[Rad]])-Medel_T[[#Totals],[Ant]]-1,INDEX(Medel_T[NrX],MATCH(ROW()-ROW(Medel_T[[#Headers],[Rad]]),Medel_T[NrX],0)))","v":{"$error":"#N/A"}},{"$f":"IF(Medel_T[[#This Row],[Rad]]<=Medel_T[[#Totals],[Ant]],MATCH(Medel_T[[#This Row],[Rad]],Medel_T[NrX],0),IFERROR(INDEX(BD_TX[[#Data],[#Totals],[SJ]],MATCH(Medel_T[[#This Row],[Rad]],BD_TX[[#Data],[#Totals],[Nr]],0)),\"\"))","v":{"$error":"#N/A"}},{"$f":"LEN(Medel_T[[#This Row],[Yrke2]])-LEN(SUBSTITUTE(Medel_T[[#This Row],[Yrke2]],LEFT(Sep_T[Separator],1),\"\"))","v":0},{"$f":"INDEX(Medel_T[År],Medel_T[[#This Row],[Nr]])","v":{"$error":"#N/A"}},{"$f":"IFERROR(IF(LEN(Medel_T[[#This Row],[Nr]])>0,TEXT(IFERROR(INDEX(Medel_T[Start],Medel_T[[#This Row],[Nr]]),INDEX(BD_TX[[#Data],[#Totals],[Start]],MATCH(Medel_T[[#This Row],[Rad]],BD_TX[[#Data],[#Totals],[Nr]],0))),\"ÅÅÅÅ MMM\")&\"-\"&TEXT(IFERROR(INDEX(Medel_T[Slut],Medel_T[[#This Row],[Nr]]),INDEX(BD_TX[[#Data],[#Totals],[År]],MATCH(Medel_T[[#This Row],[Rad]],BD_TX[[#Data],[#Totals],[Nr]],0))),\"ÅÅÅÅ MMM\"),\"\"),\"\")","v":""},{"$f":"IFERROR(IF(LEN(Medel_T[[#This Row],[Nr]])>0,IF(Medel_T[[#This Row],[Rad]]>Medel_T[[#Totals],[Ant]],IFERROR(INDEX(BD_TX[[#Data],[#Totals],[Text]],MATCH(Medel_T[[#This Row],[Rad]],BD_TX[[#Data],[#Totals],[Nr]],0)),\"\"),INDEX(Medel_T[Yrke],Medel_T[[#This Row],[Nr]])),\"\"),\"\")","v":""},{"$f":"IFERROR(INDEX(Medel_T[Arbetsmoment],MATCH(ROW()-ROW(Medel_T[[#Headers],[Arbetsmoment2]]),Medel_T[[NrX]:[NrX]],0)),\"\")","v":""},{"$f":"IFERROR(INDEX(Medel_T[],Medel_T[[#This Row],[Nr]],Medel_T[[#Totals],[HöA_T]]),\"\")","v":""},{"$f":"IF(LEN(Medel_T[[#This Row],[Nr]:[Nr]])>0,IFERROR(TEXT(ROUND(24*IFERROR(INDEX(Medel_T[],Medel_T[[#This Row],[Nr]:[Nr]],Medel_T[[#Totals],[D HöA]]),INDEX(Sum_T[[#Data],[#Totals]],MATCH(Medel_T[[#This Row],[Nr]:[Nr]],Sum_T[[#Data],[#Totals],[Typ]:[Typ]],0),MATCH(Medel_T[[#Headers],[D HöA]],Sum_T[#Headers],0))),1-(INT(LOG10(ABS(24*IFERROR(INDEX(Medel_T[],Medel_T[[#This Row],[Nr]:[Nr]],Medel_T[[#Totals],[D HöA]]),INDEX(Sum_T[[#Data],[#Totals]],MATCH(Medel_T[[#This Row],[Nr]:[Nr]],Sum_T[[#Data],[#Totals],[Typ]:[Typ]],0),MATCH(Medel_T[[#Headers],[D HöA]],Sum_T[#Headers],0)))))))),\"0\"&IF(1-(INT(LOG10(ABS(24*IFERROR(INDEX(Medel_T[],Medel_T[[#This Row],[Nr]:[Nr]],Medel_T[[#Totals],[D HöA]]),INDEX(Sum_T[[#Data],[#Totals]],MATCH(Medel_T[[#This Row],[Nr]:[Nr]],Sum_T[[#Data],[#Totals],[Typ]:[Typ]],0),MATCH(Medel_T[[#Headers],[D HöA]],Sum_T[#Headers],0)))))))>0,\",\"&REPT(\"0\",1-(INT(LOG10(ABS(24*IFERROR(INDEX(Medel_T[],Medel_T[[#This Row],[Nr]:[Nr]],Medel_T[[#Totals],[D HöA]]),INDEX(Sum_T[[#Data],[#Totals]],MATCH(Medel_T[[#This Row],[Nr]:[Nr]],Sum_T[[#Data],[#Totals],[Typ]:[Typ]],0),MATCH(Medel_T[[#Headers],[D HöA]],Sum_T[#Headers],0)))))))),0)),0),\"\")","v":{"$error":"#N/A"}},{"$f":"IFERROR(INDEX(Medel_T[],Medel_T[[#This Row],[Nr]],Medel_T[[#Totals],[AÖA_T]]),\"\")","v":""},{"$f":"IFERROR(IF(LEN(Medel_T[[#This Row],[Nr]:[Nr]])>0,IFERROR(TEXT(ROUND(24*IFERROR(INDEX(Medel_T[],Medel_T[[#This Row],[Nr]:[Nr]],Medel_T[[#Totals],[D AöA]]),INDEX(Sum_T[[#Data],[#Totals]],MATCH(Medel_T[[#This Row],[Nr]:[Nr]],Sum_T[[#Data],[#Totals],[Typ]:[Typ]],0),MATCH(Medel_T[[#Headers],[D AöA]],Sum_T[#Headers],0))),1-(INT(LOG10(ABS(24*IFERROR(INDEX(Medel_T[],Medel_T[[#This Row],[Nr]:[Nr]],Medel_T[[#Totals],[D AöA]]),INDEX(Sum_T[[#Data],[#Totals]],MATCH(Medel_T[[#This Row],[Nr]:[Nr]],Sum_T[[#Data],[#Totals],[Typ]:[Typ]],0),MATCH(Medel_T[[#Headers],[D AöA]],Sum_T[#Headers],0)))))))),\"0\"&IF(1-(INT(LOG10(ABS(24*IFERROR(INDEX(Medel_T[],Medel_T[[#This Row],[Nr]:[Nr]],Medel_T[[#Totals],[D AöA]]),INDEX(Sum_T[[#Data],[#Totals]],MATCH(Medel_T[[#This Row],[Nr]:[Nr]],Sum_T[[#Data],[#Totals],[Typ]:[Typ]],0),MATCH(Medel_T[[#Headers],[D AöA]],Sum_T[#Headers],0)))))))>0,\",\"&REPT(\"0\",1-(INT(LOG10(ABS(24*IFERROR(INDEX(Medel_T[],Medel_T[[#This Row],[Nr]:[Nr]],Medel_T[[#Totals],[D AöA]]),INDEX(Sum_T[[#Data],[#Totals]],MATCH(Medel_T[[#This Row],[Nr]:[Nr]],Sum_T[[#Data],[#Totals],[Typ]:[Typ]],0),MATCH(Medel_T[[#Headers],[D AöA]],Sum_T[#Headers],0)))))))),0)),0),\"\"),\"\")","v":""},{"$f":"IFERROR(INDEX(Medel_T[],Medel_T[[#This Row],[Nr]],Medel_T[[#Totals],[4AM_T]]),\"\")","v":""},{"$f":"IF(LEN(Medel_T[[#This Row],[Nr]:[Nr]])>0,IFERROR(TEXT(ROUND(24*IFERROR(INDEX(Medel_T[],Medel_T[[#This Row],[Nr]:[Nr]],Medel_T[[#Totals],[D 4AM]]),INDEX(Sum_T[[#Data],[#Totals]],MATCH(Medel_T[[#This Row],[Nr]:[Nr]],Sum_T[[#Data],[#Totals],[Typ]:[Typ]],0),MATCH(Medel_T[[#Headers],[D 4AM]],Sum_T[#Headers],0))),1-(INT(LOG10(ABS(24*IFERROR(INDEX(Medel_T[],Medel_T[[#This Row],[Nr]:[Nr]],Medel_T[[#Totals],[D 4AM]]),INDEX(Sum_T[[#Data],[#Totals]],MATCH(Medel_T[[#This Row],[Nr]:[Nr]],Sum_T[[#Data],[#Totals],[Typ]:[Typ]],0),MATCH(Medel_T[[#Headers],[D 4AM]],Sum_T[#Headers],0)))))))),\"0\"&IF(1-(INT(LOG10(ABS(24*IFERROR(INDEX(Medel_T[],Medel_T[[#This Row],[Nr]:[Nr]],Medel_T[[#Totals],[D 4AM]]),INDEX(Sum_T[[#Data],[#Totals]],MATCH(Medel_T[[#This Row],[Nr]:[Nr]],Sum_T[[#Data],[#Totals],[Typ]:[Typ]],0),MATCH(Medel_T[[#Headers],[D 4AM]],Sum_T[#Headers],0)))))))>0,\",\"&REPT(\"0\",1-(INT(LOG10(ABS(24*IFERROR(INDEX(Medel_T[],Medel_T[[#This Row],[Nr]:[Nr]],Medel_T[[#Totals],[D 4AM]]),INDEX(Sum_T[[#Data],[#Totals]],MATCH(Medel_T[[#This Row],[Nr]:[Nr]],Sum_T[[#Data],[#Totals],[Typ]:[Typ]],0),MATCH(Medel_T[[#Headers],[D 4AM]],Sum_T[#Headers],0)))))))),0)),0),\"\")","v":{"$error":"#N/A"}},{"$f":"IFERROR(INDEX(Medel_T[],Medel_T[[#This Row],[Nr]],Medel_T[[#Totals],[15AM_T]]),\"\")","v":""},{"$f":"IFERROR(IF(LEN(Medel_T[[#This Row],[Nr]:[Nr]])>0,IFERROR(TEXT(ROUND(24*IFERROR(INDEX(Medel_T[],Medel_T[[#This Row],[Nr]:[Nr]],Medel_T[[#Totals],[D 15AM]]),INDEX(Sum_T[[#Data],[#Totals]],MATCH(Medel_T[[#This Row],[Nr]:[Nr]],Sum_T[[#Data],[#Totals],[Typ]:[Typ]],0),MATCH(Medel_T[[#Headers],[D 15AM]],Sum_T[#Headers],0))),1-(INT(LOG10(ABS(24*IFERROR(INDEX(Medel_T[],Medel_T[[#This Row],[Nr]:[Nr]],Medel_T[[#Totals],[D 15AM]]),INDEX(Sum_T[[#Data],[#Totals]],MATCH(Medel_T[[#This Row],[Nr]:[Nr]],Sum_T[[#Data],[#Totals],[Typ]:[Typ]],0),MATCH(Medel_T[[#Headers],[D 15AM]],Sum_T[#Headers],0)))))))),\"0\"&IF(1-(INT(LOG10(ABS(24*IFERROR(INDEX(Medel_T[],Medel_T[[#This Row],[Nr]:[Nr]],Medel_T[[#Totals],[D 15AM]]),INDEX(Sum_T[[#Data],[#Totals]],MATCH(Medel_T[[#This Row],[Nr]:[Nr]],Sum_T[[#Data],[#Totals],[Typ]:[Typ]],0),MATCH(Medel_T[[#Headers],[D 15AM]],Sum_T[#Headers],0)))))))>0,\",\"&REPT(\"0\",1-(INT(LOG10(ABS(24*IFERROR(INDEX(Medel_T[],Medel_T[[#This Row],[Nr]:[Nr]],Medel_T[[#Totals],[D 15AM]]),INDEX(Sum_T[[#Data],[#Totals]],MATCH(Medel_T[[#This Row],[Nr]:[Nr]],Sum_T[[#Data],[#Totals],[Typ]:[Typ]],0),MATCH(Medel_T[[#Headers],[D 15AM]],Sum_T[#Headers],0)))))))),0)),0),\"\"),\"\")","v":""},{"$f":"IFERROR(INDEX(Medel_T[],Medel_T[[#This Row],[Nr]],Medel_T[[#Totals],[20-10D_T]]),\"\")","v":""},{"$f":"IF(LEN(Medel_T[[#This Row],[Nr]:[Nr]])>0,IFERROR(TEXT(ROUND(24*IFERROR(INDEX(Medel_T[],Medel_T[[#This Row],[Nr]:[Nr]],Medel_T[[#Totals],[D 20-10D]]),INDEX(Sum_T[[#Data],[#Totals]],MATCH(Medel_T[[#This Row],[Nr]:[Nr]],Sum_T[[#Data],[#Totals],[Typ]:[Typ]],0),MATCH(Medel_T[[#Headers],[D 20-10D]],Sum_T[#Headers],0))),1-(INT(LOG10(ABS(24*IFERROR(INDEX(Medel_T[],Medel_T[[#This Row],[Nr]:[Nr]],Medel_T[[#Totals],[D 20-10D]]),INDEX(Sum_T[[#Data],[#Totals]],MATCH(Medel_T[[#This Row],[Nr]:[Nr]],Sum_T[[#Data],[#Totals],[Typ]:[Typ]],0),MATCH(Medel_T[[#Headers],[D 20-10D]],Sum_T[#Headers],0)))))))),\"0\"&IF(1-(INT(LOG10(ABS(24*IFERROR(INDEX(Medel_T[],Medel_T[[#This Row],[Nr]:[Nr]],Medel_T[[#Totals],[D 20-10D]]),INDEX(Sum_T[[#Data],[#Totals]],MATCH(Medel_T[[#This Row],[Nr]:[Nr]],Sum_T[[#Data],[#Totals],[Typ]:[Typ]],0),MATCH(Medel_T[[#Headers],[D 20-10D]],Sum_T[#Headers],0)))))))>0,\",\"&REPT(\"0\",1-(INT(LOG10(ABS(24*IFERROR(INDEX(Medel_T[],Medel_T[[#This Row],[Nr]:[Nr]],Medel_T[[#Totals],[D 20-10D]]),INDEX(Sum_T[[#Data],[#Totals]],MATCH(Medel_T[[#This Row],[Nr]:[Nr]],Sum_T[[#Data],[#Totals],[Typ]:[Typ]],0),MATCH(Medel_T[[#Headers],[D 20-10D]],Sum_T[#Headers],0)))))))),0)),0),\"\")","v":{"$error":"#N/A"}},null,null,null,null,null,null,null,null,null,null,null,null,null,null,null,null,null,null,null,null,null,null,{"$f":"ROWS($EW$20:EW46)","v":27},{"$f":"IFERROR(MATCH(Hist_Tab[[#This Row],[Ref]],Medel_T[NrX],0),1)","v":1},{"$f":"INT((ROW(Hist_Tab[[#This Row],[Ref]])-ROW(Hist_Tab[[#Headers],[Ref]])-1)/4)+1","v":7},{"$f":"COUNTIF($EY$19:EY46,Hist_Tab[[#This Row],[Ref]])","v":4},{"$f":"IFERROR(INDEX(Medel_T[Start],Hist_Tab[[#This Row],[Ref]]),_xlfn.AGGREGATE(4,6,Medel_T[Start]))","v":"00:00:00"},{"$f":"IFERROR(INDEX(Medel_T[Slut],Hist_Tab[[#This Row],[Ref]]),_xlfn.AGGREGATE(4,6,Medel_T[Slut]))","v":"00:00:00"},{"$f":"IF(EW45=0,Hist_Tab[[#This Row],[ÅrB]],IF(Hist_Tab[[#This Row],[per/p]]<2,Hist_Tab[[#This Row],[ÅrB]],Hist_Tab[[#This Row],[År S]]))","v":"00:00:00"},{"$f":"IF(Hist_Tab[[#This Row],[Rad]:[Rad]]=0,-1,IF($EY47>_xlfn.AGGREGATE(2,6,Medel_T[[Slut]:[Slut]]),0,INDEX(Medel_T[],Hist_Tab[[#This Row],[Ref]:[Ref]],MATCH(Hist_Tab[[#Headers],[HöA T]],Medel_T[#Headers],0))))","v":0},{"$f":"IF(Hist_Tab[[#This Row],[Rad]:[Rad]]=0,0,IF($EY47>_xlfn.AGGREGATE(2,6,Medel_T[[Slut]:[Slut]]),0,INDEX(Medel_T[],Hist_Tab[[#This Row],[Ref]:[Ref]],MATCH(Hist_Tab[[#Headers],[AöA T]],Medel_T[#Headers],0))))","v":0},{"$f":"IF(Hist_Tab[[#This Row],[Rad]:[Rad]]=0,0,IF($EY47>_xlfn.AGGREGATE(2,6,Medel_T[[Slut]:[Slut]]),0,INDEX(Medel_T[],Hist_Tab[[#This Row],[Ref]:[Ref]],MATCH(Hist_Tab[[#Headers],[4AM T]],Medel_T[#Headers],0))))","v":0},{"$f":"IF(Hist_Tab[[#This Row],[Rad]:[Rad]]=0,0,IF($EY47>_xlfn.AGGREGATE(2,6,Medel_T[[Slut]:[Slut]]),0,INDEX(Medel_T[],Hist_Tab[[#This Row],[Ref]:[Ref]],MATCH(Hist_Tab[[#Headers],[15AM T]],Medel_T[#Headers],0))))","v":0},{"$f":"IF(Hist_Tab[[#This Row],[Rad]:[Rad]]=0,0,IF($EY47>_xlfn.AGGREGATE(2,6,Medel_T[[Slut]:[Slut]]),0,INDEX(Medel_T[],Hist_Tab[[#This Row],[Ref]:[Ref]],MATCH(Hist_Tab[[#Headers],[20-10D T]],Medel_T[#Headers],0))))","v":0}]
[null,null,null,null,null,null,null,null,null,null,null,null,null,null,null,null,null,null,null,null,null,null,null,null,null,null,null,null,null,null,null,null,null,null,null,null,null,null,null,null,null,null,null,null,null,null,null,null,null,null,null,null,null,null,null,null,null,null,null,null,null,null,null,null,null,null,null,null,null,null,{"$f":"SMALL(Hin_T[[StartÅR]:[SlutÅr]],ROW()-ROW(Medel_T[[#Headers],[Start]]))","v":{"$error":"#NUM!"}},{"$f":"SMALL(Hin_T[[StartÅR]:[SlutÅr]],ROW()-ROW(Medel_T[[#Headers],[Slut]])+1)","v":{"$error":"#NUM!"}},{"$f":"IF(Medel_T[[#This Row],[Start]]<=Besvär_T[[#Totals],[Sjukdomsdebut]],Medel_T[[#This Row],[Start]],\"\")","v":{"$error":"#NUM!"}},{"$f":"IF(Medel_T[[#This Row],[Slut]]<=Besvär_T[[#Totals],[Sjukdomsdebut]],Medel_T[[#This Row],[Slut]],IF(AND(LEN(Medel_T[[#This Row],[SJDstart]])>0,LEN(BU48)=0),Besvär_T[[#Totals],[Sjukdomsdebut]],\"\"))","v":{"$error":"#NUM!"}},{"$f":"IF(Medel_T[[#This Row],[Start]]>=Besvär_T[[#Totals],[Sjukdomsdebut]],Medel_T[[#This Row],[Start]],IF(AND(LEN(Medel_T[[#This Row],[EfterSlut]])>0,LEN(BX46)=0),Besvär_T[[#Totals],[Sjukdomsdebut]],\"\"))","v":{"$error":"#NUM!"}},{"$f":"IF(Medel_T[[#This Row],[Slut]]>=Besvär_T[[#Totals],[Sjukdomsdebut]],Medel_T[[#This Row],[Slut]],\"\")","v":{"$error":"#NUM!"}},{"$f":"COUNTIF($BZ$19:BZ47,\">0\")","v":0},{"$f":"COUNTIFS(Hin_T[B-år],\"<=\"&Medel_T[[#This Row],[Start]],Hin_T[S-år],\">=\"&Medel_T[[#This Row],[Slut]])","v":0},{"$f":"SUBSTITUTE(_xlfn.TEXTJOIN(Sep_T[Separator],TRUE,_xlfn._xlws.SORT(_xlfn.UNIQUE(IF((Hin_T[[B-år]:[B-år]]<=Medel_T[[#This Row],[Start]:[Start]])*(Hin_T[[S-år]:[S-år]]>=Medel_T[[#This Row],[Slut]:[Slut]]),Hin_T[Yrke],\"\")))),0&Sep_T[Separator],\"\")","v":{"$error":"#NUM!"}},{"$f":"SUBSTITUTE(_xlfn.TEXTJOIN(Sep_T[Separator],TRUE,_xlfn._xlws.SORT(_xlfn.UNIQUE(IF((Hin_T[[B-år]:[B-år]]<=Medel_T[[#This Row],[Start]:[Start]])*(Hin_T[[S-år]:[S-år]]>=Medel_T[[#This Row],[Slut]:[Slut]]),Hin_T[Arbetsmoment],\"\")))),0&Sep_T[Separator],\"\")","v":{"$error":"#NUM!"}},{"$f":"IF(LEN(Medel_T[[#This Row],[Yrke]])>0,Medel_T[[#Headers],[Period ]]&Medel_T[[#This Row],[NrX]]&\": \"&TEXT(Medel_T[[#This Row],[Start]],\"ÅÅÅÅ\")&List_T[[#Totals],[List symb]]&TEXT(Medel_T[[#This Row],[Slut]],\"ÅÅÅÅ\")&\" (\"&ROUND(Medel_T[[#This Row],[År]],1)&\" år) Anställd som \"&IFERROR(SUBSTITUTE(SUBSTITUTE(Medel_T[[#This Row],[Yrke]],Sep_T[Separator],\" och \",Medel_T[[#This Row],[Ant]]-1),Sep_T[Separator],\", \"),Medel_T[[#This Row],[Yrke]])&↓[↓],\"\")","v":{"$error":"#NUM!"}},{"$f":"IF(LEN(Medel_T[[#This Row],[Arbetsmoment]])>0,ROMAN(1)&\") \"&_xlfn.TEXTJOIN(Delim[Delimiters],TRUE,_xlfn._xlws.SORT(_xlfn.UNIQUE(IF((Hin_T[[B-år]:[B-år]]<=Medel_T[[#This Row],[Start]:[Start]])*(Hin_T[[S-år]:[S-år]]>=Medel_T[[#This Row],[Slut]:[Slut]]),Hin_T[Text],\"\"))))&↓[↓],\"\")","v":{"$error":"#NUM!"}},{"$f":"SUMPRODUCT((Hin_T[[B-år]:[B-år]]<=Medel_T[[#This Row],[Start]:[Start]])*(Hin_T[[S-år]:[S-år]]>=Medel_T[[#This Row],[Slut]:[Slut]])*Hin_T[Dag])","v":{"$error":"#NUM!"}},{"$f":"IF(Medel_T[[#This Row],[Proc dag]]<=1,Medel_T[[#This Row],[Proc dag]],1)","v":{"$error":"#NUM!"}},{"$f":"YEARFRAC(Medel_T[[#This Row],[Slut]],Medel_T[[#This Row],[Start]])","v":{"$error":"#NUM!"}},{"$f":"YEARFRAC(Medel_T[[#This Row],[SJDslut]],Medel_T[[#This Row],[SJDstart]])","v":{"$error":"#NUM!"}},{"$f":"IFERROR(SUMPRODUCT((Hin_T[[B-år]:[B-år]]<=Medel_T[[#This Row],[Start]:[Start]])*(Hin_T[[S-år]:[S-år]]>=Medel_T[[#This Row],[Slut]:[Slut]])*Hin_T[HöA]*Hin_T[[Dag]:[Dag]])/Medel_T[[#This Row],[Proc dag]],-1)","v":-1},{"$f":"IFERROR(SUMPRODUCT((Hin_T[[B-år]:[B-år]]<=Medel_T[[#This Row],[Start]:[Start]])*(Hin_T[[S-år]:[S-år]]>=Medel_T[[#This Row],[Slut]:[Slut]])*Hin_T[AöA]*Hin_T[[Dag]:[Dag]])/Medel_T[[#This Row],[Proc dag]],-1)","v":-1},{"$f":"IFERROR(SUMPRODUCT((Hin_T[[B-år]:[B-år]]<=Medel_T[[#This Row],[Start]:[Start]])*(Hin_T[[S-år]:[S-år]]>=Medel_T[[#This Row],[Slut]:[Slut]])*Hin_T[4AM]*Hin_T[[Dag]:[Dag]])/Medel_T[[#This Row],[Proc dag]],-1)","v":-1},{"$f":"IFERROR(SUMPRODUCT((Hin_T[[B-år]:[B-år]]<=Medel_T[[#This Row],[Start]:[Start]])*(Hin_T[[S-år]:[S-år]]>=Medel_T[[#This Row],[Slut]:[Slut]])*Hin_T[15AM]*Hin_T[[Dag]:[Dag]])/Medel_T[[#This Row],[Proc dag]],-1)","v":-1},{"$f":"IFERROR(SUMPRODUCT((Hin_T[[B-år]:[B-år]]<=Medel_T[[#This Row],[Start]:[Start]])*(Hin_T[[S-år]:[S-år]]>=Medel_T[[#This Row],[Slut]:[Slut]])*Hin_T[20-10D]*Hin_T[[Dag]:[Dag]])/Medel_T[[#This Row],[Proc dag]],-1)","v":-1},{"$f":"IFERROR(SUMPRODUCT((Hin_T[[B-år]:[B-år]]<=Medel_T[[#This Row],[Start]:[Start]])*(Hin_T[[S-år]:[S-år]]>=Medel_T[[#This Row],[Slut]:[Slut]])*Hin_T[[Dag]:[Dag]]*Hin_T[HöA])/Medel_T[[#This Row],[Dag sum]],-1)","v":-1},{"$f":"IFERROR(SUMPRODUCT((Hin_T[[B-år]:[B-år]]<=Medel_T[[#This Row],[Start]:[Start]])*(Hin_T[[S-år]:[S-år]]>=Medel_T[[#This Row],[Slut]:[Slut]])*Hin_T[[Dag]:[Dag]]*Hin_T[AöA])/Medel_T[[#This Row],[Dag sum]],-1)","v":-1},{"$f":"IFERROR(SUMPRODUCT((Hin_T[[B-år]:[B-år]]<=Medel_T[[#This Row],[Start]:[Start]])*(Hin_T[[S-år]:[S-år]]>=Medel_T[[#This Row],[Slut]:[Slut]])*Hin_T[[Dag]:[Dag]]*Hin_T[4AM])/Medel_T[[#This Row],[Dag sum]],-1)","v":-1},{"$f":"IFERROR(SUMPRODUCT((Hin_T[[B-år]:[B-år]]<=Medel_T[[#This Row],[Start]:[Start]])*(Hin_T[[S-år]:[S-år]]>=Medel_T[[#This Row],[Slut]:[Slut]])*Hin_T[15AM]*Hin_T[[Dag]:[Dag]])/Medel_T[[#This Row],[Dag sum]],-1)","v":-1},{"$f":"IFERROR(SUMPRODUCT((Hin_T[[B-år]:[B-år]]<=Medel_T[[#This Row],[Start]:[Start]])*(Hin_T[[S-år]:[S-år]]>=Medel_T[[#This Row],[Slut]:[Slut]])*Hin_T[[Dag]:[Dag]]*Hin_T[20-10D])/Medel_T[[#This Row],[Dag sum]],-1)","v":-1},{"$f":"IFERROR(Medel_T[[#This Row],[Dag sum]:[Dag sum]]*Medel_T[[#This Row],[År]:[År]]*Medel_T[[#This Row],[HöA T]]*DÅ[Arbetsdag/år],0)","v":0},{"$f":"IFERROR(Medel_T[[#This Row],[Dag sum]:[Dag sum]]*Medel_T[[#This Row],[År]:[År]]*Medel_T[[#This Row],[AöA T]]*DÅ[Arbetsdag/år],0)","v":0},{"$f":"IFERROR(Medel_T[[#This Row],[Dag sum]:[Dag sum]]*Medel_T[[#This Row],[År]:[År]]*Medel_T[[#This Row],[4AM T]]*DÅ[Arbetsdag/år],0)","v":0},{"$f":"IFERROR(Medel_T[[#This Row],[Dag sum]:[Dag sum]]*Medel_T[[#This Row],[År]:[År]]*Medel_T[[#This Row],[15AM T]]*DÅ[Arbetsdag/år],0)","v":0},{"$f":"IFERROR(Medel_T[[#This Row],[Dag sum]:[Dag sum]]*Medel_T[[#This Row],[År]:[År]]*Medel_T[[#This Row],[20-10D T]]*DÅ[Arbetsdag/år],0)","v":0},{"$f":"IFERROR(Medel_T[[#This Row],[Dag sum]:[Dag sum]]*Medel_T[[#This Row],[ÅrSjuk]:[ÅrSjuk]]*Medel_T[[#This Row],[HöA T]]*DÅ[Arbetsdag/år],0)","v":0},{"$f":"IFERROR(Medel_T[[#This Row],[Dag sum]:[Dag sum]]*Medel_T[[#This Row],[ÅrSjuk]:[ÅrSjuk]]*Medel_T[[#This Row],[AöA T]]*DÅ[Arbetsdag/år],0)","v":0},{"$f":"IFERROR(Medel_T[[#This Row],[Dag sum]:[Dag sum]]*Medel_T[[#This Row],[ÅrSjuk]:[ÅrSjuk]]*Medel_T[[#This Row],[4AM T]]*DÅ[Arbetsdag/år],0)","v":0},{"$f":"IFERROR(Medel_T[[#This Row],[Dag sum]:[Dag sum]]*Medel_T[[#This Row],[ÅrSjuk]:[ÅrSjuk]]*Medel_T[[#This Row],[15AM T]]*DÅ[Arbetsdag/år],0)","v":0},{"$f":"IFERROR(Medel_T[[#This Row],[Dag sum]:[Dag sum]]*Medel_T[[#This Row],[ÅrSjuk]:[ÅrSjuk]]*Medel_T[[#This Row],[20-10D T]]*DÅ[Arbetsdag/år],0)","v":0},{"$f":"IFERROR(IF(Medel_T[[#This Row],[AöA T]]=0,\"\",List_T[List symb]&Exp_T[[#Headers],[Överarmslyft> 90°: ]]&IF(VALUE(TEXT(Medel_T[[#This Row],[AöA T]],\"t\"))>0,VALUE(TEXT(Medel_T[[#This Row],[AöA T]],\"t\"))&\" h\",\"\")&IF(AND(VALUE(TEXT(Medel_T[[#This Row],[AöA T]],\"t\"))>0,VALUE(TEXT(Medel_T[[#This Row],[AöA T]],\"m\"))>2.4),\" \",\"\")&IF(VALUE(TEXT(Medel_T[[#This Row],[AöA T]],\"m\"))>2.4,TEXT(ROUND(Medel_T[[#This Row],[AöA T]]*(24*60/5),0)/(24*60/5),\"m\")&\" min\",\"\")&\"/dag x \"&ROUND(Medel_T[[#This Row],[Dag sum]:[Dag sum]]*DÅ[Arbetsdag/år],0)&\" dagar x \"&ROUND(Medel_T[[#This Row],[År]:[År]],1)&\" år = \"&TEXT(ROUND(Medel_T[[#This Row],[D AöA§]]*24,1-(INT(LOG10(ABS(Medel_T[[#This Row],[D AöA§]]*24))))),\"0\"&IF(1-(INT(LOG10(ABS(Medel_T[[#This Row],[D AöA§]]*24))))>0,\",\"&REPT(\"0\",1-(INT(LOG10(ABS(Medel_T[[#This Row],[D AöA§]]*24))))),\"\"))& \" h\"),\"\")","v":""},{"$f":"IFERROR(IF(Medel_T[[#This Row],[15AM T]]=0,\"\",List_T[List symb]&Exp_T[[#Headers],[Överarmsrörelser> 15/min: ]]&IF(VALUE(TEXT(Medel_T[[#This Row],[15AM T]],\"t\"))>0,VALUE(TEXT(Medel_T[[#This Row],[15AM T]],\"t\"))&\" h\",\"\")&IF(AND(VALUE(TEXT(Medel_T[[#This Row],[15AM T]],\"t\"))>0,VALUE(TEXT(Medel_T[[#This Row],[15AM T]],\"m\"))>2.4),\" \",\"\")&IF(VALUE(TEXT(Medel_T[[#This Row],[15AM T]],\"m\"))>2.4,TEXT(ROUND(Medel_T[[#This Row],[15AM T]]*(24*60/5),0)/(24*60/5),\"m\")&\" min\",\"\")&\"/dag x \"&ROUND(Medel_T[[#This Row],[Dag sum]:[Dag sum]]*DÅ[Arbetsdag/år],0)&\" dagar x \"&ROUND(Medel_T[[#This Row],[År]:[År]],1)&\" år = \"&TEXT(ROUND(Medel_T[[#This Row],[D 15AM§]]*24,1-(INT(LOG10(ABS(Medel_T[[#This Row],[D 15AM§]]*24))))),\"0\"&IF(1-(INT(LOG10(ABS(Medel_T[[#This Row],[D 15AM§]]*24))))>0,\",\"&REPT(\"0\",1-(INT(LOG10(ABS(Medel_T[[#This Row],[D 15AM§]]*24))))),\"\"))& \" h\"),\"\")","v":""},{"$f":"IFERROR(IF(OR(LEN(Medel_T[[#This Row],[AöA text]])>0,LEN(Medel_T[[#This Row],[15AM Text]])>0),Exp_T[Anställning]&YEAR(Medel_T[[#This Row],[Start]])&List_T[[#Totals],[List symb]]&YEAR(Medel_T[[#This Row],[Slut]])&\" (\"&ROUND(Medel_T[[#This Row],[År]],1)&\" år)\"&IF(LEN(Medel_T[[#This Row],[AöA text]])>0,↓[↓],\"\")&Medel_T[[#This Row],[AöA text]]&IF(LEN(Medel_T[[#This Row],[15AM Text]])>0,↓[↓],\"\")&Medel_T[[#This Row],[15AM Text]],\"\"),\"\")","v":""},{"$f":"IFERROR(IF(Medel_T[[#This Row],[AöA T]]=0,\"\",List_T[List symb]&Exp_T[[#Headers],[Överarmsrörelser> 15/min: ]]&IF(VALUE(TEXT(Medel_T[[#This Row],[AöA T]],\"t\"))>0,VALUE(TEXT(Medel_T[[#This Row],[AöA T]],\"t\"))&\" h\",\"\")&IF(AND(VALUE(TEXT(Medel_T[[#This Row],[AöA T]],\"t\"))>0,VALUE(TEXT(Medel_T[[#This Row],[AöA T]],\"m\"))>2.4),\" \",\"\")&IF(VALUE(TEXT(Medel_T[[#This Row],[AöA T]],\"m\"))>2.4,TEXT(ROUND(Medel_T[[#This Row],[AöA T]]*(24*60/5),0)/(24*60/5),\"m\")&\" min\",\"\")&\"/dag x \"&ROUND(Medel_T[[#This Row],[Dag sum]:[Dag sum]]*DÅ[Arbetsdag/år],0)&\" dagar x \"&ROUND(Medel_T[[#This Row],[År]:[År]],1)&\" år = \"&TEXT(ROUND(Medel_T[[#This Row],[D AöA¤]]*24,1-(INT(LOG10(ABS(Medel_T[[#This Row],[D AöA¤]]*24))))),\"0\"&IF(1-(INT(LOG10(ABS(Medel_T[[#This Row],[D AöA¤]]*24))))>0,\",\"&REPT(\"0\",1-(INT(LOG10(ABS(Medel_T[[#This Row],[D AöA¤]]*24))))),\"\"))& \" h\"),\"\")","v":""},{"$f":"IFERROR(IF(Medel_T[[#This Row],[15AM T]]=0,\"\",List_T[List symb]&Exp_T[[#Headers],[Överarmslyft> 90°: ]]&IF(VALUE(TEXT(Medel_T[[#This Row],[15AM T]],\"t\"))>0,VALUE(TEXT(Medel_T[[#This Row],[15AM T]],\"t\"))&\" h\",\"\")&IF(AND(VALUE(TEXT(Medel_T[[#This Row],[15AM T]],\"t\"))>0,VALUE(TEXT(Medel_T[[#This Row],[15AM T]],\"m\"))>0),\" \",\"\")&IF(VALUE(TEXT(Medel_T[[#This Row],[15AM T]],\"m\"))>0,TEXT(ROUND(Medel_T[[#This Row],[15AM T]]*(24*60/5),0)/(24*60/5),\"m\")&\" min\",\"\")&\"/dag x \"&ROUND(Medel_T[[#This Row],[Dag sum]:[Dag sum]]*DÅ[Arbetsdag/år],0)&\" dagar x \"&ROUND(Medel_T[[#This Row],[År]:[År]],1)&\" år = \"&TEXT(ROUND(Medel_T[[#This Row],[D 15AM¤]]*24,1-(INT(LOG10(ABS(Medel_T[[#This Row],[D 15AM¤]]*24))))),\"0\"&IF(1-(INT(LOG10(ABS(Medel_T[[#This Row],[D 15AM¤]]*24))))>0,\",\"&REPT(\"0\",1-(INT(LOG10(ABS(Medel_T[[#This Row],[D 15AM¤]]*24))))),\"\"))& \" h\"),\"\")","v":""},{"$f":"IFERROR(IF(LEN(Medel_T[[#This Row],[SJDstart]])>0,Exp_T[Anställning]&↓[↓]&YEAR(Medel_T[[#This Row],[Start]])&List_T[[#Totals],[List symb]]&YEAR(Medel_T[[#This Row],[Slut]])&\" (\"&ROUND(Medel_T[[#This Row],[År]],1)&\" år)\"&IF(LEN(Medel_T[[#This Row],[AöA text Sjuk]])>0,↓[↓],\"\")&Medel_T[[#This Row],[AöA text Sjuk]]&IF(LEN(Medel_T[[#This Row],[15AM Text Sjuk]])>0,↓[↓],\"\")&Medel_T[[#This Row],[15AM Text Sjuk]],\"\"),\"\")","v":""},{"$f":"IFERROR(Medel_T[[#This Row],[Period ]]&Medel_T[[#This Row],[ArbMomText]]&Medel_T[[#This Row],[Text]],\"\")","v":""},{"$f":"IF(AND(DJ46>=MAX(Medel_T[NrX]),ISNUMBER(DJ46)),Medel_T[[#Totals],[NrX]]+ROW()-ROW(Medel_T[[#Headers],[Rad]])-Medel_T[[#Totals],[Ant]]-1,INDEX(Medel_T[NrX],MATCH(ROW()-ROW(Medel_T[[#Headers],[Rad]]),Medel_T[NrX],0)))","v":{"$error":"#N/A"}},{"$f":"IF(Medel_T[[#This Row],[Rad]]<=Medel_T[[#Totals],[Ant]],MATCH(Medel_T[[#This Row],[Rad]],Medel_T[NrX],0),IFERROR(INDEX(BD_TX[[#Data],[#Totals],[SJ]],MATCH(Medel_T[[#This Row],[Rad]],BD_TX[[#Data],[#Totals],[Nr]],0)),\"\"))","v":{"$error":"#N/A"}},{"$f":"LEN(Medel_T[[#This Row],[Yrke2]])-LEN(SUBSTITUTE(Medel_T[[#This Row],[Yrke2]],LEFT(Sep_T[Separator],1),\"\"))","v":0},{"$f":"INDEX(Medel_T[År],Medel_T[[#This Row],[Nr]])","v":{"$error":"#N/A"}},{"$f":"IFERROR(IF(LEN(Medel_T[[#This Row],[Nr]])>0,TEXT(IFERROR(INDEX(Medel_T[Start],Medel_T[[#This Row],[Nr]]),INDEX(BD_TX[[#Data],[#Totals],[Start]],MATCH(Medel_T[[#This Row],[Rad]],BD_TX[[#Data],[#Totals],[Nr]],0))),\"ÅÅÅÅ MMM\")&\"-\"&TEXT(IFERROR(INDEX(Medel_T[Slut],Medel_T[[#This Row],[Nr]]),INDEX(BD_TX[[#Data],[#Totals],[År]],MATCH(Medel_T[[#This Row],[Rad]],BD_TX[[#Data],[#Totals],[Nr]],0))),\"ÅÅÅÅ MMM\"),\"\"),\"\")","v":""},{"$f":"IFERROR(IF(LEN(Medel_T[[#This Row],[Nr]])>0,IF(Medel_T[[#This Row],[Rad]]>Medel_T[[#Totals],[Ant]],IFERROR(INDEX(BD_TX[[#Data],[#Totals],[Text]],MATCH(Medel_T[[#This Row],[Rad]],BD_TX[[#Data],[#Totals],[Nr]],0)),\"\"),INDEX(Medel_T[Yrke],Medel_T[[#This Row],[Nr]])),\"\"),\"\")","v":""},{"$f":"IFERROR(INDEX(Medel_T[Arbetsmoment],MATCH(ROW()-ROW(Medel_T[[#Headers],[Arbetsmoment2]]),Medel_T[[NrX]:[NrX]],0)),\"\")","v":""},{"$f":"IFERROR(INDEX(Medel_T[],Medel_T[[#This Row],[Nr]],Medel_T[[#Totals],[HöA_T]]),\"\")","v":""},{"$f":"IF(LEN(Medel_T[[#This Row],[Nr]:[Nr]])>0,IFERROR(TEXT(ROUND(24*IFERROR(INDEX(Medel_T[],Medel_T[[#This Row],[Nr]:[Nr]],Medel_T[[#Totals],[D HöA]]),INDEX(Sum_T[[#Data],[#Totals]],MATCH(Medel_T[[#This Row],[Nr]:[Nr]],Sum_T[[#Data],[#Totals],[Typ]:[Typ]],0),MATCH(Medel_T[[#Headers],[D HöA]],Sum_T[#Headers],0))),1-(INT(LOG10(ABS(24*IFERROR(INDEX(Medel_T[],Medel_T[[#This Row],[Nr]:[Nr]],Medel_T[[#Totals],[D HöA]]),INDEX(Sum_T[[#Data],[#Totals]],MATCH(Medel_T[[#This Row],[Nr]:[Nr]],Sum_T[[#Data],[#Totals],[Typ]:[Typ]],0),MATCH(Medel_T[[#Headers],[D HöA]],Sum_T[#Headers],0)))))))),\"0\"&IF(1-(INT(LOG10(ABS(24*IFERROR(INDEX(Medel_T[],Medel_T[[#This Row],[Nr]:[Nr]],Medel_T[[#Totals],[D HöA]]),INDEX(Sum_T[[#Data],[#Totals]],MATCH(Medel_T[[#This Row],[Nr]:[Nr]],Sum_T[[#Data],[#Totals],[Typ]:[Typ]],0),MATCH(Medel_T[[#Headers],[D HöA]],Sum_T[#Headers],0)))))))>0,\",\"&REPT(\"0\",1-(INT(LOG10(ABS(24*IFERROR(INDEX(Medel_T[],Medel_T[[#This Row],[Nr]:[Nr]],Medel_T[[#Totals],[D HöA]]),INDEX(Sum_T[[#Data],[#Totals]],MATCH(Medel_T[[#This Row],[Nr]:[Nr]],Sum_T[[#Data],[#Totals],[Typ]:[Typ]],0),MATCH(Medel_T[[#Headers],[D HöA]],Sum_T[#Headers],0)))))))),0)),0),\"\")","v":{"$error":"#N/A"}},{"$f":"IFERROR(INDEX(Medel_T[],Medel_T[[#This Row],[Nr]],Medel_T[[#Totals],[AÖA_T]]),\"\")","v":""},{"$f":"IFERROR(IF(LEN(Medel_T[[#This Row],[Nr]:[Nr]])>0,IFERROR(TEXT(ROUND(24*IFERROR(INDEX(Medel_T[],Medel_T[[#This Row],[Nr]:[Nr]],Medel_T[[#Totals],[D AöA]]),INDEX(Sum_T[[#Data],[#Totals]],MATCH(Medel_T[[#This Row],[Nr]:[Nr]],Sum_T[[#Data],[#Totals],[Typ]:[Typ]],0),MATCH(Medel_T[[#Headers],[D AöA]],Sum_T[#Headers],0))),1-(INT(LOG10(ABS(24*IFERROR(INDEX(Medel_T[],Medel_T[[#This Row],[Nr]:[Nr]],Medel_T[[#Totals],[D AöA]]),INDEX(Sum_T[[#Data],[#Totals]],MATCH(Medel_T[[#This Row],[Nr]:[Nr]],Sum_T[[#Data],[#Totals],[Typ]:[Typ]],0),MATCH(Medel_T[[#Headers],[D AöA]],Sum_T[#Headers],0)))))))),\"0\"&IF(1-(INT(LOG10(ABS(24*IFERROR(INDEX(Medel_T[],Medel_T[[#This Row],[Nr]:[Nr]],Medel_T[[#Totals],[D AöA]]),INDEX(Sum_T[[#Data],[#Totals]],MATCH(Medel_T[[#This Row],[Nr]:[Nr]],Sum_T[[#Data],[#Totals],[Typ]:[Typ]],0),MATCH(Medel_T[[#Headers],[D AöA]],Sum_T[#Headers],0)))))))>0,\",\"&REPT(\"0\",1-(INT(LOG10(ABS(24*IFERROR(INDEX(Medel_T[],Medel_T[[#This Row],[Nr]:[Nr]],Medel_T[[#Totals],[D AöA]]),INDEX(Sum_T[[#Data],[#Totals]],MATCH(Medel_T[[#This Row],[Nr]:[Nr]],Sum_T[[#Data],[#Totals],[Typ]:[Typ]],0),MATCH(Medel_T[[#Headers],[D AöA]],Sum_T[#Headers],0)))))))),0)),0),\"\"),\"\")","v":""},{"$f":"IFERROR(INDEX(Medel_T[],Medel_T[[#This Row],[Nr]],Medel_T[[#Totals],[4AM_T]]),\"\")","v":""},{"$f":"IF(LEN(Medel_T[[#This Row],[Nr]:[Nr]])>0,IFERROR(TEXT(ROUND(24*IFERROR(INDEX(Medel_T[],Medel_T[[#This Row],[Nr]:[Nr]],Medel_T[[#Totals],[D 4AM]]),INDEX(Sum_T[[#Data],[#Totals]],MATCH(Medel_T[[#This Row],[Nr]:[Nr]],Sum_T[[#Data],[#Totals],[Typ]:[Typ]],0),MATCH(Medel_T[[#Headers],[D 4AM]],Sum_T[#Headers],0))),1-(INT(LOG10(ABS(24*IFERROR(INDEX(Medel_T[],Medel_T[[#This Row],[Nr]:[Nr]],Medel_T[[#Totals],[D 4AM]]),INDEX(Sum_T[[#Data],[#Totals]],MATCH(Medel_T[[#This Row],[Nr]:[Nr]],Sum_T[[#Data],[#Totals],[Typ]:[Typ]],0),MATCH(Medel_T[[#Headers],[D 4AM]],Sum_T[#Headers],0)))))))),\"0\"&IF(1-(INT(LOG10(ABS(24*IFERROR(INDEX(Medel_T[],Medel_T[[#This Row],[Nr]:[Nr]],Medel_T[[#Totals],[D 4AM]]),INDEX(Sum_T[[#Data],[#Totals]],MATCH(Medel_T[[#This Row],[Nr]:[Nr]],Sum_T[[#Data],[#Totals],[Typ]:[Typ]],0),MATCH(Medel_T[[#Headers],[D 4AM]],Sum_T[#Headers],0)))))))>0,\",\"&REPT(\"0\",1-(INT(LOG10(ABS(24*IFERROR(INDEX(Medel_T[],Medel_T[[#This Row],[Nr]:[Nr]],Medel_T[[#Totals],[D 4AM]]),INDEX(Sum_T[[#Data],[#Totals]],MATCH(Medel_T[[#This Row],[Nr]:[Nr]],Sum_T[[#Data],[#Totals],[Typ]:[Typ]],0),MATCH(Medel_T[[#Headers],[D 4AM]],Sum_T[#Headers],0)))))))),0)),0),\"\")","v":{"$error":"#N/A"}},{"$f":"IFERROR(INDEX(Medel_T[],Medel_T[[#This Row],[Nr]],Medel_T[[#Totals],[15AM_T]]),\"\")","v":""},{"$f":"IFERROR(IF(LEN(Medel_T[[#This Row],[Nr]:[Nr]])>0,IFERROR(TEXT(ROUND(24*IFERROR(INDEX(Medel_T[],Medel_T[[#This Row],[Nr]:[Nr]],Medel_T[[#Totals],[D 15AM]]),INDEX(Sum_T[[#Data],[#Totals]],MATCH(Medel_T[[#This Row],[Nr]:[Nr]],Sum_T[[#Data],[#Totals],[Typ]:[Typ]],0),MATCH(Medel_T[[#Headers],[D 15AM]],Sum_T[#Headers],0))),1-(INT(LOG10(ABS(24*IFERROR(INDEX(Medel_T[],Medel_T[[#This Row],[Nr]:[Nr]],Medel_T[[#Totals],[D 15AM]]),INDEX(Sum_T[[#Data],[#Totals]],MATCH(Medel_T[[#This Row],[Nr]:[Nr]],Sum_T[[#Data],[#Totals],[Typ]:[Typ]],0),MATCH(Medel_T[[#Headers],[D 15AM]],Sum_T[#Headers],0)))))))),\"0\"&IF(1-(INT(LOG10(ABS(24*IFERROR(INDEX(Medel_T[],Medel_T[[#This Row],[Nr]:[Nr]],Medel_T[[#Totals],[D 15AM]]),INDEX(Sum_T[[#Data],[#Totals]],MATCH(Medel_T[[#This Row],[Nr]:[Nr]],Sum_T[[#Data],[#Totals],[Typ]:[Typ]],0),MATCH(Medel_T[[#Headers],[D 15AM]],Sum_T[#Headers],0)))))))>0,\",\"&REPT(\"0\",1-(INT(LOG10(ABS(24*IFERROR(INDEX(Medel_T[],Medel_T[[#This Row],[Nr]:[Nr]],Medel_T[[#Totals],[D 15AM]]),INDEX(Sum_T[[#Data],[#Totals]],MATCH(Medel_T[[#This Row],[Nr]:[Nr]],Sum_T[[#Data],[#Totals],[Typ]:[Typ]],0),MATCH(Medel_T[[#Headers],[D 15AM]],Sum_T[#Headers],0)))))))),0)),0),\"\"),\"\")","v":""},{"$f":"IFERROR(INDEX(Medel_T[],Medel_T[[#This Row],[Nr]],Medel_T[[#Totals],[20-10D_T]]),\"\")","v":""},{"$f":"IF(LEN(Medel_T[[#This Row],[Nr]:[Nr]])>0,IFERROR(TEXT(ROUND(24*IFERROR(INDEX(Medel_T[],Medel_T[[#This Row],[Nr]:[Nr]],Medel_T[[#Totals],[D 20-10D]]),INDEX(Sum_T[[#Data],[#Totals]],MATCH(Medel_T[[#This Row],[Nr]:[Nr]],Sum_T[[#Data],[#Totals],[Typ]:[Typ]],0),MATCH(Medel_T[[#Headers],[D 20-10D]],Sum_T[#Headers],0))),1-(INT(LOG10(ABS(24*IFERROR(INDEX(Medel_T[],Medel_T[[#This Row],[Nr]:[Nr]],Medel_T[[#Totals],[D 20-10D]]),INDEX(Sum_T[[#Data],[#Totals]],MATCH(Medel_T[[#This Row],[Nr]:[Nr]],Sum_T[[#Data],[#Totals],[Typ]:[Typ]],0),MATCH(Medel_T[[#Headers],[D 20-10D]],Sum_T[#Headers],0)))))))),\"0\"&IF(1-(INT(LOG10(ABS(24*IFERROR(INDEX(Medel_T[],Medel_T[[#This Row],[Nr]:[Nr]],Medel_T[[#Totals],[D 20-10D]]),INDEX(Sum_T[[#Data],[#Totals]],MATCH(Medel_T[[#This Row],[Nr]:[Nr]],Sum_T[[#Data],[#Totals],[Typ]:[Typ]],0),MATCH(Medel_T[[#Headers],[D 20-10D]],Sum_T[#Headers],0)))))))>0,\",\"&REPT(\"0\",1-(INT(LOG10(ABS(24*IFERROR(INDEX(Medel_T[],Medel_T[[#This Row],[Nr]:[Nr]],Medel_T[[#Totals],[D 20-10D]]),INDEX(Sum_T[[#Data],[#Totals]],MATCH(Medel_T[[#This Row],[Nr]:[Nr]],Sum_T[[#Data],[#Totals],[Typ]:[Typ]],0),MATCH(Medel_T[[#Headers],[D 20-10D]],Sum_T[#Headers],0)))))))),0)),0),\"\")","v":{"$error":"#N/A"}},null,null,null,null,null,null,null,null,null,null,null,null,null,null,null,null,null,null,null,null,null,null,{"$f":"ROWS($EW$20:EW47)","v":28},{"$f":"IFERROR(MATCH(Hist_Tab[[#This Row],[Ref]],Medel_T[NrX],0),1)","v":1},{"$f":"INT((ROW(Hist_Tab[[#This Row],[Ref]])-ROW(Hist_Tab[[#Headers],[Ref]])-1)/4)+1","v":8},{"$f":"COUNTIF($EY$19:EY47,Hist_Tab[[#This Row],[Ref]])","v":1},{"$f":"IFERROR(INDEX(Medel_T[Start],Hist_Tab[[#This Row],[Ref]]),_xlfn.AGGREGATE(4,6,Medel_T[Start]))","v":"00:00:00"},{"$f":"IFERROR(INDEX(Medel_T[Slut],Hist_Tab[[#This Row],[Ref]]),_xlfn.AGGREGATE(4,6,Medel_T[Slut]))","v":"00:00:00"},{"$f":"IF(EW46=0,Hist_Tab[[#This Row],[ÅrB]],IF(Hist_Tab[[#This Row],[per/p]]<2,Hist_Tab[[#This Row],[ÅrB]],Hist_Tab[[#This Row],[År S]]))","v":"00:00:00"},{"$f":"IF(Hist_Tab[[#This Row],[Rad]:[Rad]]=0,-1,IF($EY48>_xlfn.AGGREGATE(2,6,Medel_T[[Slut]:[Slut]]),0,INDEX(Medel_T[],Hist_Tab[[#This Row],[Ref]:[Ref]],MATCH(Hist_Tab[[#Headers],[HöA T]],Medel_T[#Headers],0))))","v":0},{"$f":"IF(Hist_Tab[[#This Row],[Rad]:[Rad]]=0,0,IF($EY48>_xlfn.AGGREGATE(2,6,Medel_T[[Slut]:[Slut]]),0,INDEX(Medel_T[],Hist_Tab[[#This Row],[Ref]:[Ref]],MATCH(Hist_Tab[[#Headers],[AöA T]],Medel_T[#Headers],0))))","v":0},{"$f":"IF(Hist_Tab[[#This Row],[Rad]:[Rad]]=0,0,IF($EY48>_xlfn.AGGREGATE(2,6,Medel_T[[Slut]:[Slut]]),0,INDEX(Medel_T[],Hist_Tab[[#This Row],[Ref]:[Ref]],MATCH(Hist_Tab[[#Headers],[4AM T]],Medel_T[#Headers],0))))","v":0},{"$f":"IF(Hist_Tab[[#This Row],[Rad]:[Rad]]=0,0,IF($EY48>_xlfn.AGGREGATE(2,6,Medel_T[[Slut]:[Slut]]),0,INDEX(Medel_T[],Hist_Tab[[#This Row],[Ref]:[Ref]],MATCH(Hist_Tab[[#Headers],[15AM T]],Medel_T[#Headers],0))))","v":0},{"$f":"IF(Hist_Tab[[#This Row],[Rad]:[Rad]]=0,0,IF($EY48>_xlfn.AGGREGATE(2,6,Medel_T[[Slut]:[Slut]]),0,INDEX(Medel_T[],Hist_Tab[[#This Row],[Ref]:[Ref]],MATCH(Hist_Tab[[#Headers],[20-10D T]],Medel_T[#Headers],0))))","v":0}]
[null,null,null,null,null,null,null,null,null,null,null,null,null,null,null,null,null,null,null,null,null,null,null,null,null,null,null,null,null,null,null,null,null,null,null,null,null,null,null,null,null,null,null,null,null,null,null,null,null,null,null,null,null,null,null,null,null,null,null,null,null,null,null,null,null,null,null,null,null,null,null,null,null,null,null,null,{"$f":"ROW()-ROW(Medel_T[[#Headers],[NrX]])","v":30},{"$f":"MAX(Medel_T[NrX])","v":0},null,null,null,null,null,null,null,null,null,null,null,null,null,{"$f":"IFERROR(SUMPRODUCT(Hin_T[[Dag]:[Dag]]*Hin_T[HöA]),0)","v":0},{"$f":"IFERROR(SUMPRODUCT(Hin_T[[Dag]:[Dag]],Hin_T[AöA])/SUMIF(Hin_T[[Dag]:[Dag]],\">0\",Hin_T[D AöA]),0)","v":0},{"$f":"IFERROR(SUMPRODUCT(Hin_T[[Dag]:[Dag]]*Hin_T[4AM]),0)","v":0},{"$f":"IFERROR(SUMPRODUCT(Hin_T[[Dag]:[Dag]]*Hin_T[15AM]),0)","v":0},{"$f":"IFERROR(SUMPRODUCT(Hin_T[[Dag]:[Dag]]*Hin_T[20-10D]),0)","v":0},{"$f":"IFERROR(_xlfn.TEXTJOIN(\" + \",TRUE,TEXT(IF(Tid>0,ROUND(Tid,1-(INT(LOG10(ABS(Tid))))),\"\"),0))&\" = \"&TEXT(ROUND(SUM(Tid),1-(INT(LOG10(ABS(SUM(Tid)))))),0)&\" h \"&IF(Oddskvot_T[Oddskvot]=JN_T[[#Totals],[JN]],\"\",\"(O.R.: \"&INDEX(Odds_T[[Oddskvot AöA]:[Oddskvot AöA]],MATCH(SUM(Tid),Odds_T[[Kum. Belast. (h/liv) AöA]:[Kum. Belast. (h/liv) AöA]],1))&\")\"),\"\")","v":""},{"$f":"IFERROR(_xlfn.TEXTJOIN(\" + \",TRUE,TEXT(IF(Tid>0,ROUND(Tid,1-(INT(LOG10(ABS(Tid))))),\"\"),0))&\" = \"&TEXT(ROUND(SUM(Tid),1-(INT(LOG10(ABS(SUM(Tid)))))),0)&\" h \"&IF(Oddskvot_T[Oddskvot]=JN_T[[#Totals],[JN]],\"\",\"(O.R.: \"&INDEX(Odds_T[[Oddskvot AöA]:[Oddskvot AöA]],MATCH(SUM(Tid),Odds_T[[Kum. Belast. (h/liv) AöA]:[Kum. Belast. (h/liv) AöA]],1))&\")\"),\"\")","v":""},{"$f":"IFERROR(_xlfn.TEXTJOIN(\" + \",TRUE,TEXT(IF(Tid>0,ROUND(Tid,1-(INT(LOG10(ABS(Tid))))),\"\"),0))&\" = \"&TEXT(ROUND(SUM(Tid),1-(INT(LOG10(ABS(SUM(Tid)))))),0)&\" h \"&IF(Oddskvot_T[Oddskvot]=JN_T[[#Totals],[JN]],\"\",\"(O.R.: \"&INDEX(Odds_T[[Oddskvot AöA]:[Oddskvot AöA]],MATCH(SUM(Tid),Odds_T[[Kum. Belast. (h/liv) AöA]:[Kum. Belast. (h/liv) AöA]],1))&\")\"),\"\")","v":""},{"$f":"IFERROR(_xlfn.TEXTJOIN(\" + \",TRUE,TEXT(IF(Tid>0,ROUND(Tid,1-(INT(LOG10(ABS(Tid))))),\"\"),0))&\" = \"&TEXT(ROUND(SUM(Tid),1-(INT(LOG10(ABS(SUM(Tid)))))),0)&\" h \"&IF(Oddskvot_T[Oddskvot]=JN_T[[#Totals],[JN]],\"\",\"(O.R.: \"&INDEX(Odds_T[[Oddskvot 15AM]:[Oddskvot 15AM]],MATCH(SUM(Tid),Odds_T[[Kum. Belast. (h/liv) 15AM]:[Kum. Belast. (h/liv) 15AM]],1))&\")\"),\"\")","v":""},{"$f":"IFERROR(_xlfn.TEXTJOIN(\" + \",TRUE,TEXT(IF(Tid>0,ROUND(Tid,1-(INT(LOG10(ABS(Tid))))),\"\"),0))&\" = \"&TEXT(ROUND(SUM(Tid),1-(INT(LOG10(ABS(SUM(Tid)))))),0)&\" h \"&IF(Oddskvot_T[Oddskvot]=JN_T[[#Totals],[JN]],\"\",\"(O.R.: \"&INDEX(Odds_T[[Oddskvot AöA]:[Oddskvot AöA]],MATCH(SUM(Tid),Odds_T[[Kum. Belast. (h/liv) AöA]:[Kum. Belast. (h/liv) AöA]],1))&\")\"),\"\")","v":""},{"$f":"IFERROR(_xlfn.TEXTJOIN(\" + \",TRUE,TEXT(IF(Tid>0,ROUND(Tid,1-(INT(LOG10(ABS(Tid))))),\"\"),0))&\" = \"&TEXT(ROUND(SUM(Tid),1-(INT(LOG10(ABS(SUM(Tid)))))),0)&\" h \"&IF(Oddskvot_T[Oddskvot]=JN_T[[#Totals],[JN]],\"\",\"(O.R.: \"&INDEX(Odds_T[[Oddskvot AöA]:[Oddskvot AöA]],MATCH(SUM(Tid),Odds_T[[Kum. Belast. (h/liv) AöA]:[Kum. Belast. (h/liv) AöA]],1))&\")\"),\"\")","v":""},{"$f":"IFERROR(_xlfn.TEXTJOIN(\" + \",TRUE,TEXT(IF(Tid>0,ROUND(Tid,1-(INT(LOG10(ABS(Tid))))),\"\"),0))&\" = \"&TEXT(ROUND(SUM(Tid),1-(INT(LOG10(ABS(SUM(Tid)))))),0)&\" h \"&IF(Oddskvot_T[Oddskvot]=JN_T[[#Totals],[JN]],\"\",\"(O.R.: \"&INDEX(Odds_T[[Oddskvot AöA]:[Oddskvot AöA]],MATCH(SUM(Tid),Odds_T[[Kum. Belast. (h/liv) AöA]:[Kum. Belast. (h/liv) AöA]],1))&\")\"),\"\")","v":""},{"$f":"IFERROR(_xlfn.TEXTJOIN(\" + \",TRUE,TEXT(IF(Tid>0,ROUND(Tid,1-(INT(LOG10(ABS(Tid))))),\"\"),0))&\" = \"&TEXT(ROUND(SUM(Tid),1-(INT(LOG10(ABS(SUM(Tid)))))),0)&\" h \"&IF(Oddskvot_T[Oddskvot]=JN_T[[#Totals],[JN]],\"\",\"(O.R.: \"&INDEX(Odds_T[[Oddskvot AöA]:[Oddskvot AöA]],MATCH(SUM(Tid),Odds_T[[Kum. Belast. (h/liv) AöA]:[Kum. Belast. (h/liv) AöA]],1))&\")\"),\"\")","v":""},{"$f":"IFERROR(_xlfn.TEXTJOIN(\" + \",TRUE,TEXT(IF(Tid>0,ROUND(Tid,1-(INT(LOG10(ABS(Tid))))),\"\"),0))&\" = \"&TEXT(ROUND(SUM(Tid),1-(INT(LOG10(ABS(SUM(Tid)))))),0)&\" h \"&IF(Oddskvot_T[Oddskvot]=JN_T[[#Totals],[JN]],\"\",\"(O.R.: \"&INDEX(Odds_T[[Oddskvot 15AM]:[Oddskvot 15AM]],MATCH(SUM(Tid),Odds_T[[Kum. Belast. (h/liv) 15AM]:[Kum. Belast. (h/liv) 15AM]],1))&\")\"),\"\")","v":""},{"$f":"IFERROR(_xlfn.TEXTJOIN(\" + \",TRUE,TEXT(IF(Tid>0,ROUND(Tid,1-(INT(LOG10(ABS(Tid))))),\"\"),0))&\" = \"&TEXT(ROUND(SUM(Tid),1-(INT(LOG10(ABS(SUM(Tid)))))),0)&\" h \"&IF(Oddskvot_T[Oddskvot]=JN_T[[#Totals],[JN]],\"\",\"(O.R.: \"&INDEX(Odds_T[[Oddskvot AöA]:[Oddskvot AöA]],MATCH(SUM(Tid),Odds_T[[Kum. Belast. (h/liv) AöA]:[Kum. Belast. (h/liv) AöA]],1))&\")\"),\"\")","v":""},null,null,{"$f":"_xlfn.TEXTJOIN(↓[↓],TRUE,Medel_T[Text])","v":""},null,null,{"$f":"_xlfn.TEXTJOIN(↓[↓],TRUE,Medel_T[Text Sjuk])","v":""},{"$f":"_xlfn.TEXTJOIN(↓[↓]&↓[↓],TRUE,Medel_T[Text print])","v":""},null,null,null,null,null,null,null,{"$f":"IFERROR(MATCH(Medel_T[[#Headers],[HöA_T]]&\"§\",Medel_T[#Headers],0),MATCH(SUBSTITUTE(Medel_T[[#Headers],[HöA_T]],\"_\",\" \"),Medel_T[#Headers],0))","v":22},{"$f":"IFERROR(MATCH(Medel_T[[#Headers],[D HöA]]&\"§\",Medel_T[#Headers],0),MATCH(SUBSTITUTE(Medel_T[[#Headers],[D HöA]],\"_\",\" \"),Medel_T[#Headers],0))","v":27},{"$f":"IFERROR(MATCH(Medel_T[[#Headers],[AÖA_T]]&\"§\",Medel_T[#Headers],0),MATCH(SUBSTITUTE(Medel_T[[#Headers],[AÖA_T]],\"_\",\" \"),Medel_T[#Headers],0))","v":23},{"$f":"IFERROR(MATCH(Medel_T[[#Headers],[D AöA]]&\"§\",Medel_T[#Headers],0),MATCH(SUBSTITUTE(Medel_T[[#Headers],[D AöA]],\"_\",\" \"),Medel_T[#Headers],0))","v":28},{"$f":"IFERROR(MATCH(Medel_T[[#Headers],[4AM_T]]&\"§\",Medel_T[#Headers],0),MATCH(SUBSTITUTE(Medel_T[[#Headers],[4AM_T]],\"_\",\" \"),Medel_T[#Headers],0))","v":24},{"$f":"IFERROR(MATCH(Medel_T[[#Headers],[D 4AM]]&\"§\",Medel_T[#Headers],0),MATCH(SUBSTITUTE(Medel_T[[#Headers],[D 4AM]],\"_\",\" \"),Medel_T[#Headers],0))","v":29},{"$f":"IFERROR(MATCH(Medel_T[[#Headers],[15AM_T]]&\"§\",Medel_T[#Headers],0),MATCH(SUBSTITUTE(Medel_T[[#Headers],[15AM_T]],\"_\",\" \"),Medel_T[#Headers],0))","v":25},{"$f":"IFERROR(MATCH(Medel_T[[#Headers],[D 15AM]]&\"§\",Medel_T[#Headers],0),MATCH(SUBSTITUTE(Medel_T[[#Headers],[D 15AM]],\"_\",\" \"),Medel_T[#Headers],0))","v":30},{"$f":"IFERROR(MATCH(Medel_T[[#Headers],[20-10D_T]]&\"§\",Medel_T[#Headers],0),MATCH(SUBSTITUTE(Medel_T[[#Headers],[20-10D_T]],\"_\",\" \"),Medel_T[#Headers],0))","v":26},{"$f":"IFERROR(MATCH(Medel_T[[#Headers],[D 20-10D]]&\"§\",Medel_T[#Headers],0),MATCH(SUBSTITUTE(Medel_T[[#Headers],[D 20-10D]],\"_\",\" \"),Medel_T[#Headers],0))","v":31},null,null,null,null,null,null,null,null,null,null,null,null,null,null,null,null,null,null,null,null,null,null,{"$f":"ROWS($EW$20:EW48)","v":29},{"$f":"IFERROR(MATCH(Hist_Tab[[#This Row],[Ref]],Medel_T[NrX],0),1)","v":1},{"$f":"INT((ROW(Hist_Tab[[#This Row],[Ref]])-ROW(Hist_Tab[[#Headers],[Ref]])-1)/4)+1","v":8},{"$f":"COUNTIF($EY$19:EY48,Hist_Tab[[#This Row],[Ref]])","v":2},{"$f":"IFERROR(INDEX(Medel_T[Start],Hist_Tab[[#This Row],[Ref]]),_xlfn.AGGREGATE(4,6,Medel_T[Start]))","v":"00:00:00"},{"$f":"IFERROR(INDEX(Medel_T[Slut],Hist_Tab[[#This Row],[Ref]]),_xlfn.AGGREGATE(4,6,Medel_T[Slut]))","v":"00:00:00"},{"$f":"IF(EW47=0,Hist_Tab[[#This Row],[ÅrB]],IF(Hist_Tab[[#This Row],[per/p]]<2,Hist_Tab[[#This Row],[ÅrB]],Hist_Tab[[#This Row],[År S]]))","v":"00:00:00"},{"$f":"IF(Hist_Tab[[#This Row],[Rad]:[Rad]]=0,-1,IF($EY49>_xlfn.AGGREGATE(2,6,Medel_T[[Slut]:[Slut]]),0,INDEX(Medel_T[],Hist_Tab[[#This Row],[Ref]:[Ref]],MATCH(Hist_Tab[[#Headers],[HöA T]],Medel_T[#Headers],0))))","v":0},{"$f":"IF(Hist_Tab[[#This Row],[Rad]:[Rad]]=0,0,IF($EY49>_xlfn.AGGREGATE(2,6,Medel_T[[Slut]:[Slut]]),0,INDEX(Medel_T[],Hist_Tab[[#This Row],[Ref]:[Ref]],MATCH(Hist_Tab[[#Headers],[AöA T]],Medel_T[#Headers],0))))","v":0},{"$f":"IF(Hist_Tab[[#This Row],[Rad]:[Rad]]=0,0,IF($EY49>_xlfn.AGGREGATE(2,6,Medel_T[[Slut]:[Slut]]),0,INDEX(Medel_T[],Hist_Tab[[#This Row],[Ref]:[Ref]],MATCH(Hist_Tab[[#Headers],[4AM T]],Medel_T[#Headers],0))))","v":0},{"$f":"IF(Hist_Tab[[#This Row],[Rad]:[Rad]]=0,0,IF($EY49>_xlfn.AGGREGATE(2,6,Medel_T[[Slut]:[Slut]]),0,INDEX(Medel_T[],Hist_Tab[[#This Row],[Ref]:[Ref]],MATCH(Hist_Tab[[#Headers],[15AM T]],Medel_T[#Headers],0))))","v":0},{"$f":"IF(Hist_Tab[[#This Row],[Rad]:[Rad]]=0,0,IF($EY49>_xlfn.AGGREGATE(2,6,Medel_T[[Slut]:[Slut]]),0,INDEX(Medel_T[],Hist_Tab[[#This Row],[Ref]:[Ref]],MATCH(Hist_Tab[[#Headers],[20-10D T]],Medel_T[#Headers],0))))","v":0}]
[null,null,null,null,null,null,null,null,null,null,null,null,null,null,null,null,null,null,null,null,null,null,null,null,null,null,null,null,null,null,null,null,null,null,null,null,null,null,null,null,null,null,null,null,null,null,null,null,null,null,null,null,null,null,null,null,null,null,null,null,null,null,null,null,null,null,null,null,null,null,null,null,null,null,null,null,null,null,null,null,null,null,null,null,null,null,null,null,null,null,null,null,null,null,null,null,null,null,null,null,null,null,null,null,null,null,null,null,null,null,null,null,null,null,null,null,null,null,null,null,null,null,null,null,null,null,null,null,null,null,null,null,null,null,null,null,null,null,null,null,null,null,null,null,null,null,null,null,null,null,null,null,{"$f":"ROWS($EW$20:EW49)","v":30},{"$f":"IFERROR(MATCH(Hist_Tab[[#This Row],[Ref]],Medel_T[NrX],0),1)","v":1},{"$f":"INT((ROW(Hist_Tab[[#This Row],[Ref]])-ROW(Hist_Tab[[#Headers],[Ref]])-1)/4)+1","v":8},{"$f":"COUNTIF($EY$19:EY49,Hist_Tab[[#This Row],[Ref]])","v":3},{"$f":"IFERROR(INDEX(Medel_T[Start],Hist_Tab[[#This Row],[Ref]]),_xlfn.AGGREGATE(4,6,Medel_T[Start]))","v":"00:00:00"},{"$f":"IFERROR(INDEX(Medel_T[Slut],Hist_Tab[[#This Row],[Ref]]),_xlfn.AGGREGATE(4,6,Medel_T[Slut]))","v":"00:00:00"},{"$f":"IF(EW48=0,Hist_Tab[[#This Row],[ÅrB]],IF(Hist_Tab[[#This Row],[per/p]]<2,Hist_Tab[[#This Row],[ÅrB]],Hist_Tab[[#This Row],[År S]]))","v":"00:00:00"},{"$f":"IF(Hist_Tab[[#This Row],[Rad]:[Rad]]=0,-1,IF($EY50>_xlfn.AGGREGATE(2,6,Medel_T[[Slut]:[Slut]]),0,INDEX(Medel_T[],Hist_Tab[[#This Row],[Ref]:[Ref]],MATCH(Hist_Tab[[#Headers],[HöA T]],Medel_T[#Headers],0))))","v":0},{"$f":"IF(Hist_Tab[[#This Row],[Rad]:[Rad]]=0,0,IF($EY50>_xlfn.AGGREGATE(2,6,Medel_T[[Slut]:[Slut]]),0,INDEX(Medel_T[],Hist_Tab[[#This Row],[Ref]:[Ref]],MATCH(Hist_Tab[[#Headers],[AöA T]],Medel_T[#Headers],0))))","v":0},{"$f":"IF(Hist_Tab[[#This Row],[Rad]:[Rad]]=0,0,IF($EY50>_xlfn.AGGREGATE(2,6,Medel_T[[Slut]:[Slut]]),0,INDEX(Medel_T[],Hist_Tab[[#This Row],[Ref]:[Ref]],MATCH(Hist_Tab[[#Headers],[4AM T]],Medel_T[#Headers],0))))","v":0},{"$f":"IF(Hist_Tab[[#This Row],[Rad]:[Rad]]=0,0,IF($EY50>_xlfn.AGGREGATE(2,6,Medel_T[[Slut]:[Slut]]),0,INDEX(Medel_T[],Hist_Tab[[#This Row],[Ref]:[Ref]],MATCH(Hist_Tab[[#Headers],[15AM T]],Medel_T[#Headers],0))))","v":0},{"$f":"IF(Hist_Tab[[#This Row],[Rad]:[Rad]]=0,0,IF($EY50>_xlfn.AGGREGATE(2,6,Medel_T[[Slut]:[Slut]]),0,INDEX(Medel_T[],Hist_Tab[[#This Row],[Ref]:[Ref]],MATCH(Hist_Tab[[#Headers],[20-10D T]],Medel_T[#Headers],0))))","v":0}]
[null,null,null,null,null,null,null,null,null,null,null,null,null,null,null,null,null,null,null,null,null,null,null,null,null,null,null,null,null,null,null,null,null,null,null,null,null,null,null,null,null,null,null,null,null,null,null,null,null,null,null,null,null,null,null,null,null,null,null,null,null,null,null,null,null,null,null,null,null,null,null,null,null,null,null,null,null,null,null,null,null,null,null,null,null,null,null,null,null,null,null,null,null,null,null,null,null,null,null,null,null,null,null,null,null,null,null,null,null,null,null,null,null,null,null,null,null,null,null,null,null,null,null,null,null,null,null,null,null,null,null,null,null,null,null,null,null,null,null,null,null,null,null,null,null,null,null,null,null,null,null,null,{"$f":"ROWS($EW$20:EW50)","v":31},{"$f":"IFERROR(MATCH(Hist_Tab[[#This Row],[Ref]],Medel_T[NrX],0),1)","v":1},{"$f":"INT((ROW(Hist_Tab[[#This Row],[Ref]])-ROW(Hist_Tab[[#Headers],[Ref]])-1)/4)+1","v":8},{"$f":"COUNTIF($EY$19:EY50,Hist_Tab[[#This Row],[Ref]])","v":4},{"$f":"IFERROR(INDEX(Medel_T[Start],Hist_Tab[[#This Row],[Ref]]),_xlfn.AGGREGATE(4,6,Medel_T[Start]))","v":"00:00:00"},{"$f":"IFERROR(INDEX(Medel_T[Slut],Hist_Tab[[#This Row],[Ref]]),_xlfn.AGGREGATE(4,6,Medel_T[Slut]))","v":"00:00:00"},{"$f":"IF(EW49=0,Hist_Tab[[#This Row],[ÅrB]],IF(Hist_Tab[[#This Row],[per/p]]<2,Hist_Tab[[#This Row],[ÅrB]],Hist_Tab[[#This Row],[År S]]))","v":"00:00:00"},{"$f":"IF(Hist_Tab[[#This Row],[Rad]:[Rad]]=0,-1,IF($EY51>_xlfn.AGGREGATE(2,6,Medel_T[[Slut]:[Slut]]),0,INDEX(Medel_T[],Hist_Tab[[#This Row],[Ref]:[Ref]],MATCH(Hist_Tab[[#Headers],[HöA T]],Medel_T[#Headers],0))))","v":0},{"$f":"IF(Hist_Tab[[#This Row],[Rad]:[Rad]]=0,0,IF($EY51>_xlfn.AGGREGATE(2,6,Medel_T[[Slut]:[Slut]]),0,INDEX(Medel_T[],Hist_Tab[[#This Row],[Ref]:[Ref]],MATCH(Hist_Tab[[#Headers],[AöA T]],Medel_T[#Headers],0))))","v":0},{"$f":"IF(Hist_Tab[[#This Row],[Rad]:[Rad]]=0,0,IF($EY51>_xlfn.AGGREGATE(2,6,Medel_T[[Slut]:[Slut]]),0,INDEX(Medel_T[],Hist_Tab[[#This Row],[Ref]:[Ref]],MATCH(Hist_Tab[[#Headers],[4AM T]],Medel_T[#Headers],0))))","v":0},{"$f":"IF(Hist_Tab[[#This Row],[Rad]:[Rad]]=0,0,IF($EY51>_xlfn.AGGREGATE(2,6,Medel_T[[Slut]:[Slut]]),0,INDEX(Medel_T[],Hist_Tab[[#This Row],[Ref]:[Ref]],MATCH(Hist_Tab[[#Headers],[15AM T]],Medel_T[#Headers],0))))","v":0},{"$f":"IF(Hist_Tab[[#This Row],[Rad]:[Rad]]=0,0,IF($EY51>_xlfn.AGGREGATE(2,6,Medel_T[[Slut]:[Slut]]),0,INDEX(Medel_T[],Hist_Tab[[#This Row],[Ref]:[Ref]],MATCH(Hist_Tab[[#Headers],[20-10D T]],Medel_T[#Headers],0))))","v":0}]
[null,null,null,null,null,null,null,null,null,null,null,null,null,null,null,null,null,null,null,null,null,null,null,null,null,null,null,null,null,null,null,null,null,null,null,null,null,null,null,null,null,null,null,null,null,null,null,null,null,null,null,null,null,null,null,null,null,null,null,null,null,null,null,null,null,null,null,null,null,null,null,null,null,null,null,null,null,null,null,null,null,null,null,null,null,null,null,null,null,null,null,null,null,null,null,null,null,null,null,null,null,null,null,null,null,null,null,null,null,null,null,null,null,null,null,null,null,null,null,null,null,null,null,null,null,null,null,null,null,null,null,null,null,null,null,null,null,null,null,null,null,null,null,null,null,null,null,null,null,null,null,null,{"$f":"ROWS($EW$20:EW51)","v":32},{"$f":"IFERROR(MATCH(Hist_Tab[[#This Row],[Ref]],Medel_T[NrX],0),1)","v":1},{"$f":"INT((ROW(Hist_Tab[[#This Row],[Ref]])-ROW(Hist_Tab[[#Headers],[Ref]])-1)/4)+1","v":9},{"$f":"COUNTIF($EY$19:EY51,Hist_Tab[[#This Row],[Ref]])","v":1},{"$f":"IFERROR(INDEX(Medel_T[Start],Hist_Tab[[#This Row],[Ref]]),_xlfn.AGGREGATE(4,6,Medel_T[Start]))","v":"00:00:00"},{"$f":"IFERROR(INDEX(Medel_T[Slut],Hist_Tab[[#This Row],[Ref]]),_xlfn.AGGREGATE(4,6,Medel_T[Slut]))","v":"00:00:00"},{"$f":"IF(EW50=0,Hist_Tab[[#This Row],[ÅrB]],IF(Hist_Tab[[#This Row],[per/p]]<2,Hist_Tab[[#This Row],[ÅrB]],Hist_Tab[[#This Row],[År S]]))","v":"00:00:00"},{"$f":"IF(Hist_Tab[[#This Row],[Rad]:[Rad]]=0,-1,IF($EY52>_xlfn.AGGREGATE(2,6,Medel_T[[Slut]:[Slut]]),0,INDEX(Medel_T[],Hist_Tab[[#This Row],[Ref]:[Ref]],MATCH(Hist_Tab[[#Headers],[HöA T]],Medel_T[#Headers],0))))","v":0},{"$f":"IF(Hist_Tab[[#This Row],[Rad]:[Rad]]=0,0,IF($EY52>_xlfn.AGGREGATE(2,6,Medel_T[[Slut]:[Slut]]),0,INDEX(Medel_T[],Hist_Tab[[#This Row],[Ref]:[Ref]],MATCH(Hist_Tab[[#Headers],[AöA T]],Medel_T[#Headers],0))))","v":0},{"$f":"IF(Hist_Tab[[#This Row],[Rad]:[Rad]]=0,0,IF($EY52>_xlfn.AGGREGATE(2,6,Medel_T[[Slut]:[Slut]]),0,INDEX(Medel_T[],Hist_Tab[[#This Row],[Ref]:[Ref]],MATCH(Hist_Tab[[#Headers],[4AM T]],Medel_T[#Headers],0))))","v":0},{"$f":"IF(Hist_Tab[[#This Row],[Rad]:[Rad]]=0,0,IF($EY52>_xlfn.AGGREGATE(2,6,Medel_T[[Slut]:[Slut]]),0,INDEX(Medel_T[],Hist_Tab[[#This Row],[Ref]:[Ref]],MATCH(Hist_Tab[[#Headers],[15AM T]],Medel_T[#Headers],0))))","v":0},{"$f":"IF(Hist_Tab[[#This Row],[Rad]:[Rad]]=0,0,IF($EY52>_xlfn.AGGREGATE(2,6,Medel_T[[Slut]:[Slut]]),0,INDEX(Medel_T[],Hist_Tab[[#This Row],[Ref]:[Ref]],MATCH(Hist_Tab[[#Headers],[20-10D T]],Medel_T[#Headers],0))))","v":0}]
[null,null,null,null,null,null,null,null,null,null,null,null,null,null,null,null,null,null,null,null,null,null,null,null,null,null,null,null,null,null,null,null,null,null,null,null,null,null,null,null,null,null,null,null,null,null,null,null,null,null,null,null,null,null,null,null,null,null,null,null,null,null,null,null,null,null,null,null,null,null,null,null,null,null,null,null,null,null,null,null,null,null,null,null,null,null,null,null,null,null,null,null,null,null,null,null,null,null,null,null,null,null,null,null,null,null,null,null,null,null,null,null,null,null,null,null,null,null,null,null,null,null,null,null,null,null,null,null,null,null,null,null,null,null,null,null,null,null,null,null,null,null,null,null,null,null,null,null,null,null,null,null,{"$f":"ROWS($EW$20:EW52)","v":33},{"$f":"IFERROR(MATCH(Hist_Tab[[#This Row],[Ref]],Medel_T[NrX],0),1)","v":1},{"$f":"INT((ROW(Hist_Tab[[#This Row],[Ref]])-ROW(Hist_Tab[[#Headers],[Ref]])-1)/4)+1","v":9},{"$f":"COUNTIF($EY$19:EY52,Hist_Tab[[#This Row],[Ref]])","v":2},{"$f":"IFERROR(INDEX(Medel_T[Start],Hist_Tab[[#This Row],[Ref]]),_xlfn.AGGREGATE(4,6,Medel_T[Start]))","v":"00:00:00"},{"$f":"IFERROR(INDEX(Medel_T[Slut],Hist_Tab[[#This Row],[Ref]]),_xlfn.AGGREGATE(4,6,Medel_T[Slut]))","v":"00:00:00"},{"$f":"IF(EW51=0,Hist_Tab[[#This Row],[ÅrB]],IF(Hist_Tab[[#This Row],[per/p]]<2,Hist_Tab[[#This Row],[ÅrB]],Hist_Tab[[#This Row],[År S]]))","v":"00:00:00"},{"$f":"IF(Hist_Tab[[#This Row],[Rad]:[Rad]]=0,-1,IF($EY53>_xlfn.AGGREGATE(2,6,Medel_T[[Slut]:[Slut]]),0,INDEX(Medel_T[],Hist_Tab[[#This Row],[Ref]:[Ref]],MATCH(Hist_Tab[[#Headers],[HöA T]],Medel_T[#Headers],0))))","v":0},{"$f":"IF(Hist_Tab[[#This Row],[Rad]:[Rad]]=0,0,IF($EY53>_xlfn.AGGREGATE(2,6,Medel_T[[Slut]:[Slut]]),0,INDEX(Medel_T[],Hist_Tab[[#This Row],[Ref]:[Ref]],MATCH(Hist_Tab[[#Headers],[AöA T]],Medel_T[#Headers],0))))","v":0},{"$f":"IF(Hist_Tab[[#This Row],[Rad]:[Rad]]=0,0,IF($EY53>_xlfn.AGGREGATE(2,6,Medel_T[[Slut]:[Slut]]),0,INDEX(Medel_T[],Hist_Tab[[#This Row],[Ref]:[Ref]],MATCH(Hist_Tab[[#Headers],[4AM T]],Medel_T[#Headers],0))))","v":0},{"$f":"IF(Hist_Tab[[#This Row],[Rad]:[Rad]]=0,0,IF($EY53>_xlfn.AGGREGATE(2,6,Medel_T[[Slut]:[Slut]]),0,INDEX(Medel_T[],Hist_Tab[[#This Row],[Ref]:[Ref]],MATCH(Hist_Tab[[#Headers],[15AM T]],Medel_T[#Headers],0))))","v":0},{"$f":"IF(Hist_Tab[[#This Row],[Rad]:[Rad]]=0,0,IF($EY53>_xlfn.AGGREGATE(2,6,Medel_T[[Slut]:[Slut]]),0,INDEX(Medel_T[],Hist_Tab[[#This Row],[Ref]:[Ref]],MATCH(Hist_Tab[[#Headers],[20-10D T]],Medel_T[#Headers],0))))","v":0}]
[null,null,null,null,null,null,null,null,null,null,null,null,null,null,null,null,null,null,null,null,null,null,null,null,null,null,null,null,null,null,null,null,null,null,null,null,null,null,null,null,null,null,null,null,null,null,null,null,null,null,null,null,null,null,null,null,null,null,null,null,null,null,null,null,null,null,null,null,null,null,null,null,null,null,null,null,null,null,null,null,null,null,null,null,null,null,null,null,null,null,null,null,null,null,null,null,null,null,null,null,null,null,null,null,null,null,null,null,null,null,null,null,null,null,null,null,null,null,null,null,null,null,null,null,null,null,null,null,null,null,null,null,null,null,null,null,null,null,null,null,null,null,null,null,null,null,null,null,null,null,null,null,{"$f":"ROWS($EW$20:EW53)","v":34},{"$f":"IFERROR(MATCH(Hist_Tab[[#This Row],[Ref]],Medel_T[NrX],0),1)","v":1},{"$f":"INT((ROW(Hist_Tab[[#This Row],[Ref]])-ROW(Hist_Tab[[#Headers],[Ref]])-1)/4)+1","v":9},{"$f":"COUNTIF($EY$19:EY53,Hist_Tab[[#This Row],[Ref]])","v":3},{"$f":"IFERROR(INDEX(Medel_T[Start],Hist_Tab[[#This Row],[Ref]]),_xlfn.AGGREGATE(4,6,Medel_T[Start]))","v":"00:00:00"},{"$f":"IFERROR(INDEX(Medel_T[Slut],Hist_Tab[[#This Row],[Ref]]),_xlfn.AGGREGATE(4,6,Medel_T[Slut]))","v":"00:00:00"},{"$f":"IF(EW52=0,Hist_Tab[[#This Row],[ÅrB]],IF(Hist_Tab[[#This Row],[per/p]]<2,Hist_Tab[[#This Row],[ÅrB]],Hist_Tab[[#This Row],[År S]]))","v":"00:00:00"},{"$f":"IF(Hist_Tab[[#This Row],[Rad]:[Rad]]=0,-1,IF($EY54>_xlfn.AGGREGATE(2,6,Medel_T[[Slut]:[Slut]]),0,INDEX(Medel_T[],Hist_Tab[[#This Row],[Ref]:[Ref]],MATCH(Hist_Tab[[#Headers],[HöA T]],Medel_T[#Headers],0))))","v":0},{"$f":"IF(Hist_Tab[[#This Row],[Rad]:[Rad]]=0,0,IF($EY54>_xlfn.AGGREGATE(2,6,Medel_T[[Slut]:[Slut]]),0,INDEX(Medel_T[],Hist_Tab[[#This Row],[Ref]:[Ref]],MATCH(Hist_Tab[[#Headers],[AöA T]],Medel_T[#Headers],0))))","v":0},{"$f":"IF(Hist_Tab[[#This Row],[Rad]:[Rad]]=0,0,IF($EY54>_xlfn.AGGREGATE(2,6,Medel_T[[Slut]:[Slut]]),0,INDEX(Medel_T[],Hist_Tab[[#This Row],[Ref]:[Ref]],MATCH(Hist_Tab[[#Headers],[4AM T]],Medel_T[#Headers],0))))","v":0},{"$f":"IF(Hist_Tab[[#This Row],[Rad]:[Rad]]=0,0,IF($EY54>_xlfn.AGGREGATE(2,6,Medel_T[[Slut]:[Slut]]),0,INDEX(Medel_T[],Hist_Tab[[#This Row],[Ref]:[Ref]],MATCH(Hist_Tab[[#Headers],[15AM T]],Medel_T[#Headers],0))))","v":0},{"$f":"IF(Hist_Tab[[#This Row],[Rad]:[Rad]]=0,0,IF($EY54>_xlfn.AGGREGATE(2,6,Medel_T[[Slut]:[Slut]]),0,INDEX(Medel_T[],Hist_Tab[[#This Row],[Ref]:[Ref]],MATCH(Hist_Tab[[#Headers],[20-10D T]],Medel_T[#Headers],0))))","v":0}]
[null,null,null,null,null,null,null,null,null,null,null,null,null,null,null,null,null,null,null,null,null,null,null,null,null,null,null,null,null,null,null,null,null,null,null,null,null,null,null,null,null,null,null,null,null,null,null,null,null,null,null,null,null,null,null,null,null,null,null,null,null,null,null,null,null,null,null,null,null,null,null,null,null,null,null,null,null,null,null,null,null,null,null,null,null,null,null,null,null,null,null,null,null,null,null,null,null,null,null,null,null,null,null,null,null,null,null,null,null,null,null,null,null,null,null,null,null,null,null,null,null,null,null,null,null,null,null,null,null,null,null,null,null,null,null,null,null,null,null,null,null,null,null,null,null,null,null,null,null,null,null,null,{"$f":"ROWS($EW$20:EW54)","v":35},{"$f":"IFERROR(MATCH(Hist_Tab[[#This Row],[Ref]],Medel_T[NrX],0),1)","v":1},{"$f":"INT((ROW(Hist_Tab[[#This Row],[Ref]])-ROW(Hist_Tab[[#Headers],[Ref]])-1)/4)+1","v":9},{"$f":"COUNTIF($EY$19:EY54,Hist_Tab[[#This Row],[Ref]])","v":4},{"$f":"IFERROR(INDEX(Medel_T[Start],Hist_Tab[[#This Row],[Ref]]),_xlfn.AGGREGATE(4,6,Medel_T[Start]))","v":"00:00:00"},{"$f":"IFERROR(INDEX(Medel_T[Slut],Hist_Tab[[#This Row],[Ref]]),_xlfn.AGGREGATE(4,6,Medel_T[Slut]))","v":"00:00:00"},{"$f":"IF(EW53=0,Hist_Tab[[#This Row],[ÅrB]],IF(Hist_Tab[[#This Row],[per/p]]<2,Hist_Tab[[#This Row],[ÅrB]],Hist_Tab[[#This Row],[År S]]))","v":"00:00:00"},{"$f":"IF(Hist_Tab[[#This Row],[Rad]:[Rad]]=0,-1,IF($EY55>_xlfn.AGGREGATE(2,6,Medel_T[[Slut]:[Slut]]),0,INDEX(Medel_T[],Hist_Tab[[#This Row],[Ref]:[Ref]],MATCH(Hist_Tab[[#Headers],[HöA T]],Medel_T[#Headers],0))))","v":0},{"$f":"IF(Hist_Tab[[#This Row],[Rad]:[Rad]]=0,0,IF($EY55>_xlfn.AGGREGATE(2,6,Medel_T[[Slut]:[Slut]]),0,INDEX(Medel_T[],Hist_Tab[[#This Row],[Ref]:[Ref]],MATCH(Hist_Tab[[#Headers],[AöA T]],Medel_T[#Headers],0))))","v":0},{"$f":"IF(Hist_Tab[[#This Row],[Rad]:[Rad]]=0,0,IF($EY55>_xlfn.AGGREGATE(2,6,Medel_T[[Slut]:[Slut]]),0,INDEX(Medel_T[],Hist_Tab[[#This Row],[Ref]:[Ref]],MATCH(Hist_Tab[[#Headers],[4AM T]],Medel_T[#Headers],0))))","v":0},{"$f":"IF(Hist_Tab[[#This Row],[Rad]:[Rad]]=0,0,IF($EY55>_xlfn.AGGREGATE(2,6,Medel_T[[Slut]:[Slut]]),0,INDEX(Medel_T[],Hist_Tab[[#This Row],[Ref]:[Ref]],MATCH(Hist_Tab[[#Headers],[15AM T]],Medel_T[#Headers],0))))","v":0},{"$f":"IF(Hist_Tab[[#This Row],[Rad]:[Rad]]=0,0,IF($EY55>_xlfn.AGGREGATE(2,6,Medel_T[[Slut]:[Slut]]),0,INDEX(Medel_T[],Hist_Tab[[#This Row],[Ref]:[Ref]],MATCH(Hist_Tab[[#Headers],[20-10D T]],Medel_T[#Headers],0))))","v":0}]
[null,null,null,null,null,null,null,null,null,null,null,null,null,null,null,null,null,null,null,null,null,null,null,null,null,null,null,null,null,null,null,null,null,null,null,null,null,null,null,null,null,null,null,null,null,null,null,null,null,null,null,null,null,null,null,null,null,null,null,null,null,null,null,null,null,null,null,null,null,null,null,null,null,null,null,null,null,null,null,null,null,null,null,null,null,null,null,null,null,null,null,null,null,null,null,null,null,null,null,null,null,null,null,null,null,null,null,null,null,null,null,null,null,null,null,null,null,null,null,null,null,null,null,null,null,null,null,null,null,null,null,null,null,null,null,null,null,null,null,null,null,null,null,null,null,null,null,null,null,null,null,null,{"$f":"ROWS($EW$20:EW55)","v":36},{"$f":"IFERROR(MATCH(Hist_Tab[[#This Row],[Ref]],Medel_T[NrX],0),1)","v":1},{"$f":"INT((ROW(Hist_Tab[[#This Row],[Ref]])-ROW(Hist_Tab[[#Headers],[Ref]])-1)/4)+1","v":10},{"$f":"COUNTIF($EY$19:EY55,Hist_Tab[[#This Row],[Ref]])","v":1},{"$f":"IFERROR(INDEX(Medel_T[Start],Hist_Tab[[#This Row],[Ref]]),_xlfn.AGGREGATE(4,6,Medel_T[Start]))","v":"00:00:00"},{"$f":"IFERROR(INDEX(Medel_T[Slut],Hist_Tab[[#This Row],[Ref]]),_xlfn.AGGREGATE(4,6,Medel_T[Slut]))","v":"00:00:00"},{"$f":"IF(EW54=0,Hist_Tab[[#This Row],[ÅrB]],IF(Hist_Tab[[#This Row],[per/p]]<2,Hist_Tab[[#This Row],[ÅrB]],Hist_Tab[[#This Row],[År S]]))","v":"00:00:00"},{"$f":"IF(Hist_Tab[[#This Row],[Rad]:[Rad]]=0,-1,IF($EY56>_xlfn.AGGREGATE(2,6,Medel_T[[Slut]:[Slut]]),0,INDEX(Medel_T[],Hist_Tab[[#This Row],[Ref]:[Ref]],MATCH(Hist_Tab[[#Headers],[HöA T]],Medel_T[#Headers],0))))","v":0},{"$f":"IF(Hist_Tab[[#This Row],[Rad]:[Rad]]=0,0,IF($EY56>_xlfn.AGGREGATE(2,6,Medel_T[[Slut]:[Slut]]),0,INDEX(Medel_T[],Hist_Tab[[#This Row],[Ref]:[Ref]],MATCH(Hist_Tab[[#Headers],[AöA T]],Medel_T[#Headers],0))))","v":0},{"$f":"IF(Hist_Tab[[#This Row],[Rad]:[Rad]]=0,0,IF($EY56>_xlfn.AGGREGATE(2,6,Medel_T[[Slut]:[Slut]]),0,INDEX(Medel_T[],Hist_Tab[[#This Row],[Ref]:[Ref]],MATCH(Hist_Tab[[#Headers],[4AM T]],Medel_T[#Headers],0))))","v":0},{"$f":"IF(Hist_Tab[[#This Row],[Rad]:[Rad]]=0,0,IF($EY56>_xlfn.AGGREGATE(2,6,Medel_T[[Slut]:[Slut]]),0,INDEX(Medel_T[],Hist_Tab[[#This Row],[Ref]:[Ref]],MATCH(Hist_Tab[[#Headers],[15AM T]],Medel_T[#Headers],0))))","v":0},{"$f":"IF(Hist_Tab[[#This Row],[Rad]:[Rad]]=0,0,IF($EY56>_xlfn.AGGREGATE(2,6,Medel_T[[Slut]:[Slut]]),0,INDEX(Medel_T[],Hist_Tab[[#This Row],[Ref]:[Ref]],MATCH(Hist_Tab[[#Headers],[20-10D T]],Medel_T[#Headers],0))))","v":0}]
[null,null,null,null,null,null,null,null,null,null,null,null,null,null,null,null,null,null,null,null,null,null,null,null,null,null,null,null,null,null,null,null,null,null,null,null,null,null,null,null,null,null,null,null,null,null,null,null,null,null,null,null,null,null,null,null,null,null,null,null,null,null,null,null,null,null,null,null,null,null,null,null,null,null,null,null,null,null,null,null,null,null,null,null,null,null,null,null,null,null,null,null,null,null,null,null,null,null,null,null,null,null,null,null,null,null,null,null,null,null,null,null,null,null,null,null,null,null,null,null,null,null,null,null,null,null,null,null,null,null,null,null,null,null,null,null,null,null,null,null,null,null,null,null,null,null,null,null,null,null,null,null,{"$f":"ROWS($EW$20:EW56)","v":37},{"$f":"IFERROR(MATCH(Hist_Tab[[#This Row],[Ref]],Medel_T[NrX],0),1)","v":1},{"$f":"INT((ROW(Hist_Tab[[#This Row],[Ref]])-ROW(Hist_Tab[[#Headers],[Ref]])-1)/4)+1","v":10},{"$f":"COUNTIF($EY$19:EY56,Hist_Tab[[#This Row],[Ref]])","v":2},{"$f":"IFERROR(INDEX(Medel_T[Start],Hist_Tab[[#This Row],[Ref]]),_xlfn.AGGREGATE(4,6,Medel_T[Start]))","v":"00:00:00"},{"$f":"IFERROR(INDEX(Medel_T[Slut],Hist_Tab[[#This Row],[Ref]]),_xlfn.AGGREGATE(4,6,Medel_T[Slut]))","v":"00:00:00"},{"$f":"IF(EW55=0,Hist_Tab[[#This Row],[ÅrB]],IF(Hist_Tab[[#This Row],[per/p]]<2,Hist_Tab[[#This Row],[ÅrB]],Hist_Tab[[#This Row],[År S]]))","v":"00:00:00"},{"$f":"IF(Hist_Tab[[#This Row],[Rad]:[Rad]]=0,-1,IF($EY57>_xlfn.AGGREGATE(2,6,Medel_T[[Slut]:[Slut]]),0,INDEX(Medel_T[],Hist_Tab[[#This Row],[Ref]:[Ref]],MATCH(Hist_Tab[[#Headers],[HöA T]],Medel_T[#Headers],0))))","v":0},{"$f":"IF(Hist_Tab[[#This Row],[Rad]:[Rad]]=0,0,IF($EY57>_xlfn.AGGREGATE(2,6,Medel_T[[Slut]:[Slut]]),0,INDEX(Medel_T[],Hist_Tab[[#This Row],[Ref]:[Ref]],MATCH(Hist_Tab[[#Headers],[AöA T]],Medel_T[#Headers],0))))","v":0},{"$f":"IF(Hist_Tab[[#This Row],[Rad]:[Rad]]=0,0,IF($EY57>_xlfn.AGGREGATE(2,6,Medel_T[[Slut]:[Slut]]),0,INDEX(Medel_T[],Hist_Tab[[#This Row],[Ref]:[Ref]],MATCH(Hist_Tab[[#Headers],[4AM T]],Medel_T[#Headers],0))))","v":0},{"$f":"IF(Hist_Tab[[#This Row],[Rad]:[Rad]]=0,0,IF($EY57>_xlfn.AGGREGATE(2,6,Medel_T[[Slut]:[Slut]]),0,INDEX(Medel_T[],Hist_Tab[[#This Row],[Ref]:[Ref]],MATCH(Hist_Tab[[#Headers],[15AM T]],Medel_T[#Headers],0))))","v":0},{"$f":"IF(Hist_Tab[[#This Row],[Rad]:[Rad]]=0,0,IF($EY57>_xlfn.AGGREGATE(2,6,Medel_T[[Slut]:[Slut]]),0,INDEX(Medel_T[],Hist_Tab[[#This Row],[Ref]:[Ref]],MATCH(Hist_Tab[[#Headers],[20-10D T]],Medel_T[#Headers],0))))","v":0}]
[null,null,null,null,null,null,null,null,null,null,null,null,null,null,null,null,null,null,null,null,null,null,null,null,null,null,null,null,null,null,null,null,null,null,null,null,null,null,null,null,null,null,null,null,null,null,null,null,null,null,null,null,null,null,null,null,null,null,null,null,null,null,null,null,null,null,null,null,null,null,null,null,null,null,null,null,null,null,null,null,null,null,null,null,null,null,null,null,null,null,null,null,null,null,null,null,null,null,null,null,null,null,null,null,null,null,null,null,null,null,null,null,null,null,null,null,null,null,null,null,null,null,null,null,null,null,null,null,null,null,null,null,null,null,null,null,null,null,null,null,null,null,null,null,null,null,null,null,null,null,null,null,{"$f":"ROWS($EW$20:EW57)","v":38},{"$f":"IFERROR(MATCH(Hist_Tab[[#This Row],[Ref]],Medel_T[NrX],0),1)","v":1},{"$f":"INT((ROW(Hist_Tab[[#This Row],[Ref]])-ROW(Hist_Tab[[#Headers],[Ref]])-1)/4)+1","v":10},{"$f":"COUNTIF($EY$19:EY57,Hist_Tab[[#This Row],[Ref]])","v":3},{"$f":"IFERROR(INDEX(Medel_T[Start],Hist_Tab[[#This Row],[Ref]]),_xlfn.AGGREGATE(4,6,Medel_T[Start]))","v":"00:00:00"},{"$f":"IFERROR(INDEX(Medel_T[Slut],Hist_Tab[[#This Row],[Ref]]),_xlfn.AGGREGATE(4,6,Medel_T[Slut]))","v":"00:00:00"},{"$f":"IF(EW56=0,Hist_Tab[[#This Row],[ÅrB]],IF(Hist_Tab[[#This Row],[per/p]]<2,Hist_Tab[[#This Row],[ÅrB]],Hist_Tab[[#This Row],[År S]]))","v":"00:00:00"},{"$f":"IF(Hist_Tab[[#This Row],[Rad]:[Rad]]=0,-1,IF($EY58>_xlfn.AGGREGATE(2,6,Medel_T[[Slut]:[Slut]]),0,INDEX(Medel_T[],Hist_Tab[[#This Row],[Ref]:[Ref]],MATCH(Hist_Tab[[#Headers],[HöA T]],Medel_T[#Headers],0))))","v":0},{"$f":"IF(Hist_Tab[[#This Row],[Rad]:[Rad]]=0,0,IF($EY58>_xlfn.AGGREGATE(2,6,Medel_T[[Slut]:[Slut]]),0,INDEX(Medel_T[],Hist_Tab[[#This Row],[Ref]:[Ref]],MATCH(Hist_Tab[[#Headers],[AöA T]],Medel_T[#Headers],0))))","v":0},{"$f":"IF(Hist_Tab[[#This Row],[Rad]:[Rad]]=0,0,IF($EY58>_xlfn.AGGREGATE(2,6,Medel_T[[Slut]:[Slut]]),0,INDEX(Medel_T[],Hist_Tab[[#This Row],[Ref]:[Ref]],MATCH(Hist_Tab[[#Headers],[4AM T]],Medel_T[#Headers],0))))","v":0},{"$f":"IF(Hist_Tab[[#This Row],[Rad]:[Rad]]=0,0,IF($EY58>_xlfn.AGGREGATE(2,6,Medel_T[[Slut]:[Slut]]),0,INDEX(Medel_T[],Hist_Tab[[#This Row],[Ref]:[Ref]],MATCH(Hist_Tab[[#Headers],[15AM T]],Medel_T[#Headers],0))))","v":0},{"$f":"IF(Hist_Tab[[#This Row],[Rad]:[Rad]]=0,0,IF($EY58>_xlfn.AGGREGATE(2,6,Medel_T[[Slut]:[Slut]]),0,INDEX(Medel_T[],Hist_Tab[[#This Row],[Ref]:[Ref]],MATCH(Hist_Tab[[#Headers],[20-10D T]],Medel_T[#Headers],0))))","v":0}]
[null,null,null,null,null,null,null,null,null,null,null,null,null,null,null,null,null,null,null,null,null,null,null,null,null,null,null,null,null,null,null,null,null,null,null,null,null,null,null,null,null,null,null,null,null,null,null,null,null,null,null,null,null,null,null,null,null,null,null,null,null,null,null,null,null,null,null,null,null,null,null,null,null,null,null,null,null,null,null,null,null,null,null,null,null,null,null,null,null,null,null,null,null,null,null,null,null,null,null,null,null,null,null,null,null,null,null,null,null,null,null,null,null,null,null,null,null,null,null,null,null,null,null,null,null,null,null,null,null,null,null,null,null,null,null,null,null,null,null,null,null,null,null,null,null,null,null,null,null,null,null,null,{"$f":"ROWS($EW$20:EW58)","v":39},{"$f":"IFERROR(MATCH(Hist_Tab[[#This Row],[Ref]],Medel_T[NrX],0),1)","v":1},{"$f":"INT((ROW(Hist_Tab[[#This Row],[Ref]])-ROW(Hist_Tab[[#Headers],[Ref]])-1)/4)+1","v":10},{"$f":"COUNTIF($EY$19:EY58,Hist_Tab[[#This Row],[Ref]])","v":4},{"$f":"IFERROR(INDEX(Medel_T[Start],Hist_Tab[[#This Row],[Ref]]),_xlfn.AGGREGATE(4,6,Medel_T[Start]))","v":"00:00:00"},{"$f":"IFERROR(INDEX(Medel_T[Slut],Hist_Tab[[#This Row],[Ref]]),_xlfn.AGGREGATE(4,6,Medel_T[Slut]))","v":"00:00:00"},{"$f":"IF(EW57=0,Hist_Tab[[#This Row],[ÅrB]],IF(Hist_Tab[[#This Row],[per/p]]<2,Hist_Tab[[#This Row],[ÅrB]],Hist_Tab[[#This Row],[År S]]))","v":"00:00:00"},{"$f":"IF(Hist_Tab[[#This Row],[Rad]:[Rad]]=0,-1,IF($EY59>_xlfn.AGGREGATE(2,6,Medel_T[[Slut]:[Slut]]),0,INDEX(Medel_T[],Hist_Tab[[#This Row],[Ref]:[Ref]],MATCH(Hist_Tab[[#Headers],[HöA T]],Medel_T[#Headers],0))))","v":0},{"$f":"IF(Hist_Tab[[#This Row],[Rad]:[Rad]]=0,0,IF($EY59>_xlfn.AGGREGATE(2,6,Medel_T[[Slut]:[Slut]]),0,INDEX(Medel_T[],Hist_Tab[[#This Row],[Ref]:[Ref]],MATCH(Hist_Tab[[#Headers],[AöA T]],Medel_T[#Headers],0))))","v":0},{"$f":"IF(Hist_Tab[[#This Row],[Rad]:[Rad]]=0,0,IF($EY59>_xlfn.AGGREGATE(2,6,Medel_T[[Slut]:[Slut]]),0,INDEX(Medel_T[],Hist_Tab[[#This Row],[Ref]:[Ref]],MATCH(Hist_Tab[[#Headers],[4AM T]],Medel_T[#Headers],0))))","v":0},{"$f":"IF(Hist_Tab[[#This Row],[Rad]:[Rad]]=0,0,IF($EY59>_xlfn.AGGREGATE(2,6,Medel_T[[Slut]:[Slut]]),0,INDEX(Medel_T[],Hist_Tab[[#This Row],[Ref]:[Ref]],MATCH(Hist_Tab[[#Headers],[15AM T]],Medel_T[#Headers],0))))","v":0},{"$f":"IF(Hist_Tab[[#This Row],[Rad]:[Rad]]=0,0,IF($EY59>_xlfn.AGGREGATE(2,6,Medel_T[[Slut]:[Slut]]),0,INDEX(Medel_T[],Hist_Tab[[#This Row],[Ref]:[Ref]],MATCH(Hist_Tab[[#Headers],[20-10D T]],Medel_T[#Headers],0))))","v":0}]
[null,null,null,null,null,null,null,null,null,null,null,null,null,null,null,null,null,null,null,null,null,null,null,null,null,null,null,null,null,null,null,null,null,null,null,null,null,null,null,null,null,null,null,null,null,null,null,null,null,null,null,null,null,null,null,null,null,null,null,null,null,null,null,null,null,null,null,null,null,null,null,null,null,null,null,null,null,null,null,null,null,null,null,null,null,null,null,null,null,null,null,null,null,null,null,null,null,null,null,null,null,null,null,null,null,null,null,null,null,null,null,null,null,null,null,null,null,null,null,null,null,null,null,null,null,null,null,null,null,null,null,null,null,null,null,null,null,null,null,null,null,null,null,null,null,null,null,null,null,null,null,null,{"$f":"ROWS($EW$20:EW59)","v":40},{"$f":"IFERROR(MATCH(Hist_Tab[[#This Row],[Ref]],Medel_T[NrX],0),1)","v":1},{"$f":"INT((ROW(Hist_Tab[[#This Row],[Ref]])-ROW(Hist_Tab[[#Headers],[Ref]])-1)/4)+1","v":11},{"$f":"COUNTIF($EY$19:EY59,Hist_Tab[[#This Row],[Ref]])","v":1},{"$f":"IFERROR(INDEX(Medel_T[Start],Hist_Tab[[#This Row],[Ref]]),_xlfn.AGGREGATE(4,6,Medel_T[Start]))","v":"00:00:00"},{"$f":"IFERROR(INDEX(Medel_T[Slut],Hist_Tab[[#This Row],[Ref]]),_xlfn.AGGREGATE(4,6,Medel_T[Slut]))","v":"00:00:00"},{"$f":"IF(EW58=0,Hist_Tab[[#This Row],[ÅrB]],IF(Hist_Tab[[#This Row],[per/p]]<2,Hist_Tab[[#This Row],[ÅrB]],Hist_Tab[[#This Row],[År S]]))","v":"00:00:00"},{"$f":"IF(Hist_Tab[[#This Row],[Rad]:[Rad]]=0,-1,IF($EY60>_xlfn.AGGREGATE(2,6,Medel_T[[Slut]:[Slut]]),0,INDEX(Medel_T[],Hist_Tab[[#This Row],[Ref]:[Ref]],MATCH(Hist_Tab[[#Headers],[HöA T]],Medel_T[#Headers],0))))","v":0},{"$f":"IF(Hist_Tab[[#This Row],[Rad]:[Rad]]=0,0,IF($EY60>_xlfn.AGGREGATE(2,6,Medel_T[[Slut]:[Slut]]),0,INDEX(Medel_T[],Hist_Tab[[#This Row],[Ref]:[Ref]],MATCH(Hist_Tab[[#Headers],[AöA T]],Medel_T[#Headers],0))))","v":0},{"$f":"IF(Hist_Tab[[#This Row],[Rad]:[Rad]]=0,0,IF($EY60>_xlfn.AGGREGATE(2,6,Medel_T[[Slut]:[Slut]]),0,INDEX(Medel_T[],Hist_Tab[[#This Row],[Ref]:[Ref]],MATCH(Hist_Tab[[#Headers],[4AM T]],Medel_T[#Headers],0))))","v":0},{"$f":"IF(Hist_Tab[[#This Row],[Rad]:[Rad]]=0,0,IF($EY60>_xlfn.AGGREGATE(2,6,Medel_T[[Slut]:[Slut]]),0,INDEX(Medel_T[],Hist_Tab[[#This Row],[Ref]:[Ref]],MATCH(Hist_Tab[[#Headers],[15AM T]],Medel_T[#Headers],0))))","v":0},{"$f":"IF(Hist_Tab[[#This Row],[Rad]:[Rad]]=0,0,IF($EY60>_xlfn.AGGREGATE(2,6,Medel_T[[Slut]:[Slut]]),0,INDEX(Medel_T[],Hist_Tab[[#This Row],[Ref]:[Ref]],MATCH(Hist_Tab[[#Headers],[20-10D T]],Medel_T[#Headers],0))))","v":0}]
[null,null,null,null,null,null,null,null,null,null,null,null,null,null,null,null,null,null,null,null,null,null,null,null,null,null,null,null,null,null,null,null,null,null,null,null,null,null,null,null,null,null,null,null,null,null,null,null,null,null,null,null,null,null,null,null,null,null,null,null,null,null,null,null,null,null,null,null,null,null,null,null,null,null,null,null,null,null,null,null,null,null,null,null,null,null,null,null,null,null,null,null,null,null,null,null,null,null,null,null,null,null,null,null,null,null,null,null,null,null,null,null,null,null,null,null,null,null,null,null,null,null,null,null,null,null,null,null,null,null,null,null,null,null,null,null,null,null,null,null,null,null,null,null,null,null,null,null,null,null,null,null,{"$f":"ROWS($EW$20:EW60)","v":41},{"$f":"IFERROR(MATCH(Hist_Tab[[#This Row],[Ref]],Medel_T[NrX],0),1)","v":1},{"$f":"INT((ROW(Hist_Tab[[#This Row],[Ref]])-ROW(Hist_Tab[[#Headers],[Ref]])-1)/4)+1","v":11},{"$f":"COUNTIF($EY$19:EY60,Hist_Tab[[#This Row],[Ref]])","v":2},{"$f":"IFERROR(INDEX(Medel_T[Start],Hist_Tab[[#This Row],[Ref]]),_xlfn.AGGREGATE(4,6,Medel_T[Start]))","v":"00:00:00"},{"$f":"IFERROR(INDEX(Medel_T[Slut],Hist_Tab[[#This Row],[Ref]]),_xlfn.AGGREGATE(4,6,Medel_T[Slut]))","v":"00:00:00"},{"$f":"IF(EW59=0,Hist_Tab[[#This Row],[ÅrB]],IF(Hist_Tab[[#This Row],[per/p]]<2,Hist_Tab[[#This Row],[ÅrB]],Hist_Tab[[#This Row],[År S]]))","v":"00:00:00"},{"$f":"IF(Hist_Tab[[#This Row],[Rad]:[Rad]]=0,-1,IF($EY61>_xlfn.AGGREGATE(2,6,Medel_T[[Slut]:[Slut]]),0,INDEX(Medel_T[],Hist_Tab[[#This Row],[Ref]:[Ref]],MATCH(Hist_Tab[[#Headers],[HöA T]],Medel_T[#Headers],0))))","v":0},{"$f":"IF(Hist_Tab[[#This Row],[Rad]:[Rad]]=0,0,IF($EY61>_xlfn.AGGREGATE(2,6,Medel_T[[Slut]:[Slut]]),0,INDEX(Medel_T[],Hist_Tab[[#This Row],[Ref]:[Ref]],MATCH(Hist_Tab[[#Headers],[AöA T]],Medel_T[#Headers],0))))","v":0},{"$f":"IF(Hist_Tab[[#This Row],[Rad]:[Rad]]=0,0,IF($EY61>_xlfn.AGGREGATE(2,6,Medel_T[[Slut]:[Slut]]),0,INDEX(Medel_T[],Hist_Tab[[#This Row],[Ref]:[Ref]],MATCH(Hist_Tab[[#Headers],[4AM T]],Medel_T[#Headers],0))))","v":0},{"$f":"IF(Hist_Tab[[#This Row],[Rad]:[Rad]]=0,0,IF($EY61>_xlfn.AGGREGATE(2,6,Medel_T[[Slut]:[Slut]]),0,INDEX(Medel_T[],Hist_Tab[[#This Row],[Ref]:[Ref]],MATCH(Hist_Tab[[#Headers],[15AM T]],Medel_T[#Headers],0))))","v":0},{"$f":"IF(Hist_Tab[[#This Row],[Rad]:[Rad]]=0,0,IF($EY61>_xlfn.AGGREGATE(2,6,Medel_T[[Slut]:[Slut]]),0,INDEX(Medel_T[],Hist_Tab[[#This Row],[Ref]:[Ref]],MATCH(Hist_Tab[[#Headers],[20-10D T]],Medel_T[#Headers],0))))","v":0}]
[null,null,null,null,null,null,null,null,null,null,null,null,null,null,null,null,null,null,null,null,null,null,null,null,null,null,null,null,null,null,null,null,null,null,null,null,null,null,null,null,null,null,null,null,null,null,null,null,null,null,null,null,null,null,null,null,null,null,null,null,null,null,null,null,null,null,null,null,null,null,null,null,null,null,null,null,null,null,null,null,null,null,null,null,null,null,null,null,null,null,null,null,null,null,null,null,null,null,null,null,null,null,null,null,null,null,null,null,null,null,null,null,null,null,null,null,null,null,null,null,null,null,null,null,null,null,null,null,null,null,null,null,null,null,null,null,null,null,null,null,null,null,null,null,null,null,null,null,null,null,null,null,{"$f":"ROWS($EW$20:EW61)","v":42},{"$f":"IFERROR(MATCH(Hist_Tab[[#This Row],[Ref]],Medel_T[NrX],0),1)","v":1},{"$f":"INT((ROW(Hist_Tab[[#This Row],[Ref]])-ROW(Hist_Tab[[#Headers],[Ref]])-1)/4)+1","v":11},{"$f":"COUNTIF($EY$19:EY61,Hist_Tab[[#This Row],[Ref]])","v":3},{"$f":"IFERROR(INDEX(Medel_T[Start],Hist_Tab[[#This Row],[Ref]]),_xlfn.AGGREGATE(4,6,Medel_T[Start]))","v":"00:00:00"},{"$f":"IFERROR(INDEX(Medel_T[Slut],Hist_Tab[[#This Row],[Ref]]),_xlfn.AGGREGATE(4,6,Medel_T[Slut]))","v":"00:00:00"},{"$f":"IF(EW60=0,Hist_Tab[[#This Row],[ÅrB]],IF(Hist_Tab[[#This Row],[per/p]]<2,Hist_Tab[[#This Row],[ÅrB]],Hist_Tab[[#This Row],[År S]]))","v":"00:00:00"},{"$f":"IF(Hist_Tab[[#This Row],[Rad]:[Rad]]=0,-1,IF($EY62>_xlfn.AGGREGATE(2,6,Medel_T[[Slut]:[Slut]]),0,INDEX(Medel_T[],Hist_Tab[[#This Row],[Ref]:[Ref]],MATCH(Hist_Tab[[#Headers],[HöA T]],Medel_T[#Headers],0))))","v":0},{"$f":"IF(Hist_Tab[[#This Row],[Rad]:[Rad]]=0,0,IF($EY62>_xlfn.AGGREGATE(2,6,Medel_T[[Slut]:[Slut]]),0,INDEX(Medel_T[],Hist_Tab[[#This Row],[Ref]:[Ref]],MATCH(Hist_Tab[[#Headers],[AöA T]],Medel_T[#Headers],0))))","v":0},{"$f":"IF(Hist_Tab[[#This Row],[Rad]:[Rad]]=0,0,IF($EY62>_xlfn.AGGREGATE(2,6,Medel_T[[Slut]:[Slut]]),0,INDEX(Medel_T[],Hist_Tab[[#This Row],[Ref]:[Ref]],MATCH(Hist_Tab[[#Headers],[4AM T]],Medel_T[#Headers],0))))","v":0},{"$f":"IF(Hist_Tab[[#This Row],[Rad]:[Rad]]=0,0,IF($EY62>_xlfn.AGGREGATE(2,6,Medel_T[[Slut]:[Slut]]),0,INDEX(Medel_T[],Hist_Tab[[#This Row],[Ref]:[Ref]],MATCH(Hist_Tab[[#Headers],[15AM T]],Medel_T[#Headers],0))))","v":0},{"$f":"IF(Hist_Tab[[#This Row],[Rad]:[Rad]]=0,0,IF($EY62>_xlfn.AGGREGATE(2,6,Medel_T[[Slut]:[Slut]]),0,INDEX(Medel_T[],Hist_Tab[[#This Row],[Ref]:[Ref]],MATCH(Hist_Tab[[#Headers],[20-10D T]],Medel_T[#Headers],0))))","v":0}]
[null,null,null,null,null,null,null,null,null,null,null,null,null,null,null,null,null,null,null,null,null,null,null,null,null,null,null,null,null,null,null,null,null,null,null,null,null,null,null,null,null,null,null,null,null,null,null,null,null,null,null,null,null,null,null,null,null,null,null,null,null,null,null,null,null,null,null,null,null,null,null,null,null,null,null,null,null,null,null,null,null,null,null,null,null,null,null,null,null,null,null,null,null,null,null,null,null,null,null,null,null,null,null,null,null,null,null,null,null,null,null,null,null,null,null,null,null,null,null,null,null,null,null,null,null,null,null,null,null,null,null,null,null,null,null,null,null,null,null,null,null,null,null,null,null,null,null,null,null,null,null,null,{"$f":"ROWS($EW$20:EW62)","v":43},{"$f":"IFERROR(MATCH(Hist_Tab[[#This Row],[Ref]],Medel_T[NrX],0),1)","v":1},{"$f":"INT((ROW(Hist_Tab[[#This Row],[Ref]])-ROW(Hist_Tab[[#Headers],[Ref]])-1)/4)+1","v":11},{"$f":"COUNTIF($EY$19:EY62,Hist_Tab[[#This Row],[Ref]])","v":4},{"$f":"IFERROR(INDEX(Medel_T[Start],Hist_Tab[[#This Row],[Ref]]),_xlfn.AGGREGATE(4,6,Medel_T[Start]))","v":"00:00:00"},{"$f":"IFERROR(INDEX(Medel_T[Slut],Hist_Tab[[#This Row],[Ref]]),_xlfn.AGGREGATE(4,6,Medel_T[Slut]))","v":"00:00:00"},{"$f":"IF(EW61=0,Hist_Tab[[#This Row],[ÅrB]],IF(Hist_Tab[[#This Row],[per/p]]<2,Hist_Tab[[#This Row],[ÅrB]],Hist_Tab[[#This Row],[År S]]))","v":"00:00:00"},{"$f":"IF(Hist_Tab[[#This Row],[Rad]:[Rad]]=0,-1,IF($EY63>_xlfn.AGGREGATE(2,6,Medel_T[[Slut]:[Slut]]),0,INDEX(Medel_T[],Hist_Tab[[#This Row],[Ref]:[Ref]],MATCH(Hist_Tab[[#Headers],[HöA T]],Medel_T[#Headers],0))))","v":0},{"$f":"IF(Hist_Tab[[#This Row],[Rad]:[Rad]]=0,0,IF($EY63>_xlfn.AGGREGATE(2,6,Medel_T[[Slut]:[Slut]]),0,INDEX(Medel_T[],Hist_Tab[[#This Row],[Ref]:[Ref]],MATCH(Hist_Tab[[#Headers],[AöA T]],Medel_T[#Headers],0))))","v":0},{"$f":"IF(Hist_Tab[[#This Row],[Rad]:[Rad]]=0,0,IF($EY63>_xlfn.AGGREGATE(2,6,Medel_T[[Slut]:[Slut]]),0,INDEX(Medel_T[],Hist_Tab[[#This Row],[Ref]:[Ref]],MATCH(Hist_Tab[[#Headers],[4AM T]],Medel_T[#Headers],0))))","v":0},{"$f":"IF(Hist_Tab[[#This Row],[Rad]:[Rad]]=0,0,IF($EY63>_xlfn.AGGREGATE(2,6,Medel_T[[Slut]:[Slut]]),0,INDEX(Medel_T[],Hist_Tab[[#This Row],[Ref]:[Ref]],MATCH(Hist_Tab[[#Headers],[15AM T]],Medel_T[#Headers],0))))","v":0},{"$f":"IF(Hist_Tab[[#This Row],[Rad]:[Rad]]=0,0,IF($EY63>_xlfn.AGGREGATE(2,6,Medel_T[[Slut]:[Slut]]),0,INDEX(Medel_T[],Hist_Tab[[#This Row],[Ref]:[Ref]],MATCH(Hist_Tab[[#Headers],[20-10D T]],Medel_T[#Headers],0))))","v":0}]
[null,null,null,null,null,null,null,null,null,null,null,null,null,null,null,null,null,null,null,null,null,null,null,null,null,null,null,null,null,null,null,null,null,null,null,null,null,null,null,null,null,null,null,null,null,null,null,null,null,null,null,null,null,null,null,null,null,null,null,null,null,null,null,null,null,null,null,null,null,null,null,null,null,null,null,null,null,null,null,null,null,null,null,null,null,null,null,null,null,null,null,null,null,null,null,null,null,null,null,null,null,null,null,null,null,null,null,null,null,null,null,null,null,null,null,null,null,null,null,null,null,null,null,null,null,null,null,null,null,null,null,null,null,null,null,null,null,null,null,null,null,null,null,null,null,null,null,null,null,null,null,null,{"$f":"ROWS($EW$20:EW63)","v":44},{"$f":"IFERROR(MATCH(Hist_Tab[[#This Row],[Ref]],Medel_T[NrX],0),1)","v":1},{"$f":"INT((ROW(Hist_Tab[[#This Row],[Ref]])-ROW(Hist_Tab[[#Headers],[Ref]])-1)/4)+1","v":12},{"$f":"COUNTIF($EY$19:EY63,Hist_Tab[[#This Row],[Ref]])","v":1},{"$f":"IFERROR(INDEX(Medel_T[Start],Hist_Tab[[#This Row],[Ref]]),_xlfn.AGGREGATE(4,6,Medel_T[Start]))","v":"00:00:00"},{"$f":"IFERROR(INDEX(Medel_T[Slut],Hist_Tab[[#This Row],[Ref]]),_xlfn.AGGREGATE(4,6,Medel_T[Slut]))","v":"00:00:00"},{"$f":"IF(EW62=0,Hist_Tab[[#This Row],[ÅrB]],IF(Hist_Tab[[#This Row],[per/p]]<2,Hist_Tab[[#This Row],[ÅrB]],Hist_Tab[[#This Row],[År S]]))","v":"00:00:00"},{"$f":"IF(Hist_Tab[[#This Row],[Rad]:[Rad]]=0,-1,IF($EY64>_xlfn.AGGREGATE(2,6,Medel_T[[Slut]:[Slut]]),0,INDEX(Medel_T[],Hist_Tab[[#This Row],[Ref]:[Ref]],MATCH(Hist_Tab[[#Headers],[HöA T]],Medel_T[#Headers],0))))","v":0},{"$f":"IF(Hist_Tab[[#This Row],[Rad]:[Rad]]=0,0,IF($EY64>_xlfn.AGGREGATE(2,6,Medel_T[[Slut]:[Slut]]),0,INDEX(Medel_T[],Hist_Tab[[#This Row],[Ref]:[Ref]],MATCH(Hist_Tab[[#Headers],[AöA T]],Medel_T[#Headers],0))))","v":0},{"$f":"IF(Hist_Tab[[#This Row],[Rad]:[Rad]]=0,0,IF($EY64>_xlfn.AGGREGATE(2,6,Medel_T[[Slut]:[Slut]]),0,INDEX(Medel_T[],Hist_Tab[[#This Row],[Ref]:[Ref]],MATCH(Hist_Tab[[#Headers],[4AM T]],Medel_T[#Headers],0))))","v":0},{"$f":"IF(Hist_Tab[[#This Row],[Rad]:[Rad]]=0,0,IF($EY64>_xlfn.AGGREGATE(2,6,Medel_T[[Slut]:[Slut]]),0,INDEX(Medel_T[],Hist_Tab[[#This Row],[Ref]:[Ref]],MATCH(Hist_Tab[[#Headers],[15AM T]],Medel_T[#Headers],0))))","v":0},{"$f":"IF(Hist_Tab[[#This Row],[Rad]:[Rad]]=0,0,IF($EY64>_xlfn.AGGREGATE(2,6,Medel_T[[Slut]:[Slut]]),0,INDEX(Medel_T[],Hist_Tab[[#This Row],[Ref]:[Ref]],MATCH(Hist_Tab[[#Headers],[20-10D T]],Medel_T[#Headers],0))))","v":0}]
[null,null,null,null,null,null,null,null,null,null,null,null,null,null,null,null,null,null,null,null,null,null,null,null,null,null,null,null,null,null,null,null,null,null,null,null,null,null,null,null,null,null,null,null,null,null,null,null,null,null,null,null,null,null,null,null,null,null,null,null,null,null,null,null,null,null,null,null,null,null,null,null,null,null,null,null,null,null,null,null,null,null,null,null,null,null,null,null,null,null,null,null,null,null,null,null,null,null,null,null,null,null,null,null,null,null,null,null,null,null,null,null,null,null,null,null,null,null,null,null,null,null,null,null,null,null,null,null,null,null,null,null,null,null,null,null,null,null,null,null,null,null,null,null,null,null,null,null,null,null,null,null,{"$f":"ROWS($EW$20:EW64)","v":45},{"$f":"IFERROR(MATCH(Hist_Tab[[#This Row],[Ref]],Medel_T[NrX],0),1)","v":1},{"$f":"INT((ROW(Hist_Tab[[#This Row],[Ref]])-ROW(Hist_Tab[[#Headers],[Ref]])-1)/4)+1","v":12},{"$f":"COUNTIF($EY$19:EY64,Hist_Tab[[#This Row],[Ref]])","v":2},{"$f":"IFERROR(INDEX(Medel_T[Start],Hist_Tab[[#This Row],[Ref]]),_xlfn.AGGREGATE(4,6,Medel_T[Start]))","v":"00:00:00"},{"$f":"IFERROR(INDEX(Medel_T[Slut],Hist_Tab[[#This Row],[Ref]]),_xlfn.AGGREGATE(4,6,Medel_T[Slut]))","v":"00:00:00"},{"$f":"IF(EW63=0,Hist_Tab[[#This Row],[ÅrB]],IF(Hist_Tab[[#This Row],[per/p]]<2,Hist_Tab[[#This Row],[ÅrB]],Hist_Tab[[#This Row],[År S]]))","v":"00:00:00"},{"$f":"IF(Hist_Tab[[#This Row],[Rad]:[Rad]]=0,-1,IF($EY65>_xlfn.AGGREGATE(2,6,Medel_T[[Slut]:[Slut]]),0,INDEX(Medel_T[],Hist_Tab[[#This Row],[Ref]:[Ref]],MATCH(Hist_Tab[[#Headers],[HöA T]],Medel_T[#Headers],0))))","v":0},{"$f":"IF(Hist_Tab[[#This Row],[Rad]:[Rad]]=0,0,IF($EY65>_xlfn.AGGREGATE(2,6,Medel_T[[Slut]:[Slut]]),0,INDEX(Medel_T[],Hist_Tab[[#This Row],[Ref]:[Ref]],MATCH(Hist_Tab[[#Headers],[AöA T]],Medel_T[#Headers],0))))","v":0},{"$f":"IF(Hist_Tab[[#This Row],[Rad]:[Rad]]=0,0,IF($EY65>_xlfn.AGGREGATE(2,6,Medel_T[[Slut]:[Slut]]),0,INDEX(Medel_T[],Hist_Tab[[#This Row],[Ref]:[Ref]],MATCH(Hist_Tab[[#Headers],[4AM T]],Medel_T[#Headers],0))))","v":0},{"$f":"IF(Hist_Tab[[#This Row],[Rad]:[Rad]]=0,0,IF($EY65>_xlfn.AGGREGATE(2,6,Medel_T[[Slut]:[Slut]]),0,INDEX(Medel_T[],Hist_Tab[[#This Row],[Ref]:[Ref]],MATCH(Hist_Tab[[#Headers],[15AM T]],Medel_T[#Headers],0))))","v":0},{"$f":"IF(Hist_Tab[[#This Row],[Rad]:[Rad]]=0,0,IF($EY65>_xlfn.AGGREGATE(2,6,Medel_T[[Slut]:[Slut]]),0,INDEX(Medel_T[],Hist_Tab[[#This Row],[Ref]:[Ref]],MATCH(Hist_Tab[[#Headers],[20-10D T]],Medel_T[#Headers],0))))","v":0}]
[null,null,null,null,null,null,null,null,null,null,null,null,null,null,null,null,null,null,null,null,null,null,null,null,null,null,null,null,null,null,null,null,null,null,null,null,null,null,null,null,null,null,null,null,null,null,null,null,null,null,null,null,null,null,null,null,null,null,null,null,null,null,null,null,null,null,null,null,null,null,null,null,null,null,null,null,null,null,null,null,null,null,null,null,null,null,null,null,null,null,null,null,null,null,null,null,null,null,null,null,null,null,null,null,null,null,null,null,null,null,null,null,null,null,null,null,null,null,null,null,null,null,null,null,null,null,null,null,null,null,null,null,null,null,null,null,null,null,null,null,null,null,null,null,null,null,null,null,null,null,null,null,{"$f":"ROWS($EW$20:EW65)","v":46},{"$f":"IFERROR(MATCH(Hist_Tab[[#This Row],[Ref]],Medel_T[NrX],0),1)","v":1},{"$f":"INT((ROW(Hist_Tab[[#This Row],[Ref]])-ROW(Hist_Tab[[#Headers],[Ref]])-1)/4)+1","v":12},{"$f":"COUNTIF($EY$19:EY65,Hist_Tab[[#This Row],[Ref]])","v":3},{"$f":"IFERROR(INDEX(Medel_T[Start],Hist_Tab[[#This Row],[Ref]]),_xlfn.AGGREGATE(4,6,Medel_T[Start]))","v":"00:00:00"},{"$f":"IFERROR(INDEX(Medel_T[Slut],Hist_Tab[[#This Row],[Ref]]),_xlfn.AGGREGATE(4,6,Medel_T[Slut]))","v":"00:00:00"},{"$f":"IF(EW64=0,Hist_Tab[[#This Row],[ÅrB]],IF(Hist_Tab[[#This Row],[per/p]]<2,Hist_Tab[[#This Row],[ÅrB]],Hist_Tab[[#This Row],[År S]]))","v":"00:00:00"},{"$f":"IF(Hist_Tab[[#This Row],[Rad]:[Rad]]=0,-1,IF($EY66>_xlfn.AGGREGATE(2,6,Medel_T[[Slut]:[Slut]]),0,INDEX(Medel_T[],Hist_Tab[[#This Row],[Ref]:[Ref]],MATCH(Hist_Tab[[#Headers],[HöA T]],Medel_T[#Headers],0))))","v":0},{"$f":"IF(Hist_Tab[[#This Row],[Rad]:[Rad]]=0,0,IF($EY66>_xlfn.AGGREGATE(2,6,Medel_T[[Slut]:[Slut]]),0,INDEX(Medel_T[],Hist_Tab[[#This Row],[Ref]:[Ref]],MATCH(Hist_Tab[[#Headers],[AöA T]],Medel_T[#Headers],0))))","v":0},{"$f":"IF(Hist_Tab[[#This Row],[Rad]:[Rad]]=0,0,IF($EY66>_xlfn.AGGREGATE(2,6,Medel_T[[Slut]:[Slut]]),0,INDEX(Medel_T[],Hist_Tab[[#This Row],[Ref]:[Ref]],MATCH(Hist_Tab[[#Headers],[4AM T]],Medel_T[#Headers],0))))","v":0},{"$f":"IF(Hist_Tab[[#This Row],[Rad]:[Rad]]=0,0,IF($EY66>_xlfn.AGGREGATE(2,6,Medel_T[[Slut]:[Slut]]),0,INDEX(Medel_T[],Hist_Tab[[#This Row],[Ref]:[Ref]],MATCH(Hist_Tab[[#Headers],[15AM T]],Medel_T[#Headers],0))))","v":0},{"$f":"IF(Hist_Tab[[#This Row],[Rad]:[Rad]]=0,0,IF($EY66>_xlfn.AGGREGATE(2,6,Medel_T[[Slut]:[Slut]]),0,INDEX(Medel_T[],Hist_Tab[[#This Row],[Ref]:[Ref]],MATCH(Hist_Tab[[#Headers],[20-10D T]],Medel_T[#Headers],0))))","v":0}]
[null,null,null,null,null,null,null,null,null,null,null,null,null,null,null,null,null,null,null,null,null,null,null,null,null,null,null,null,null,null,null,null,null,null,null,null,null,null,null,null,null,null,null,null,null,null,null,null,null,null,null,null,null,null,null,null,null,null,null,null,null,null,null,null,null,null,null,null,null,null,null,null,null,null,null,null,null,null,null,null,null,null,null,null,null,null,null,null,null,null,null,null,null,null,null,null,null,null,null,null,null,null,null,null,null,null,null,null,null,null,null,null,null,null,null,null,null,null,null,null,null,null,null,null,null,null,null,null,null,null,null,null,null,null,null,null,null,null,null,null,null,null,null,null,null,null,null,null,null,null,null,null,{"$f":"ROWS($EW$20:EW66)","v":47},{"$f":"IFERROR(MATCH(Hist_Tab[[#This Row],[Ref]],Medel_T[NrX],0),1)","v":1},{"$f":"INT((ROW(Hist_Tab[[#This Row],[Ref]])-ROW(Hist_Tab[[#Headers],[Ref]])-1)/4)+1","v":12},{"$f":"COUNTIF($EY$19:EY66,Hist_Tab[[#This Row],[Ref]])","v":4},{"$f":"IFERROR(INDEX(Medel_T[Start],Hist_Tab[[#This Row],[Ref]]),_xlfn.AGGREGATE(4,6,Medel_T[Start]))","v":"00:00:00"},{"$f":"IFERROR(INDEX(Medel_T[Slut],Hist_Tab[[#This Row],[Ref]]),_xlfn.AGGREGATE(4,6,Medel_T[Slut]))","v":"00:00:00"},{"$f":"IF(EW65=0,Hist_Tab[[#This Row],[ÅrB]],IF(Hist_Tab[[#This Row],[per/p]]<2,Hist_Tab[[#This Row],[ÅrB]],Hist_Tab[[#This Row],[År S]]))","v":"00:00:00"},{"$f":"IF(Hist_Tab[[#This Row],[Rad]:[Rad]]=0,-1,IF($EY67>_xlfn.AGGREGATE(2,6,Medel_T[[Slut]:[Slut]]),0,INDEX(Medel_T[],Hist_Tab[[#This Row],[Ref]:[Ref]],MATCH(Hist_Tab[[#Headers],[HöA T]],Medel_T[#Headers],0))))","v":0},{"$f":"IF(Hist_Tab[[#This Row],[Rad]:[Rad]]=0,0,IF($EY67>_xlfn.AGGREGATE(2,6,Medel_T[[Slut]:[Slut]]),0,INDEX(Medel_T[],Hist_Tab[[#This Row],[Ref]:[Ref]],MATCH(Hist_Tab[[#Headers],[AöA T]],Medel_T[#Headers],0))))","v":0},{"$f":"IF(Hist_Tab[[#This Row],[Rad]:[Rad]]=0,0,IF($EY67>_xlfn.AGGREGATE(2,6,Medel_T[[Slut]:[Slut]]),0,INDEX(Medel_T[],Hist_Tab[[#This Row],[Ref]:[Ref]],MATCH(Hist_Tab[[#Headers],[4AM T]],Medel_T[#Headers],0))))","v":0},{"$f":"IF(Hist_Tab[[#This Row],[Rad]:[Rad]]=0,0,IF($EY67>_xlfn.AGGREGATE(2,6,Medel_T[[Slut]:[Slut]]),0,INDEX(Medel_T[],Hist_Tab[[#This Row],[Ref]:[Ref]],MATCH(Hist_Tab[[#Headers],[15AM T]],Medel_T[#Headers],0))))","v":0},{"$f":"IF(Hist_Tab[[#This Row],[Rad]:[Rad]]=0,0,IF($EY67>_xlfn.AGGREGATE(2,6,Medel_T[[Slut]:[Slut]]),0,INDEX(Medel_T[],Hist_Tab[[#This Row],[Ref]:[Ref]],MATCH(Hist_Tab[[#Headers],[20-10D T]],Medel_T[#Headers],0))))","v":0}]
[null,null,null,null,null,null,null,null,null,null,null,null,null,null,null,null,null,null,null,null,null,null,null,null,null,null,null,null,null,null,null,null,null,null,null,null,null,null,null,null,null,null,null,null,null,null,null,null,null,null,null,null,null,null,null,null,null,null,null,null,null,null,null,null,null,null,null,null,null,null,null,null,null,null,null,null,null,null,null,null,null,null,null,null,null,null,null,null,null,null,null,null,null,null,null,null,null,null,null,null,null,null,null,null,null,null,null,null,null,null,null,null,null,null,null,null,null,null,null,null,null,null,null,null,null,null,null,null,null,null,null,null,null,null,null,null,null,null,null,null,null,null,null,null,null,null,null,null,null,null,null,null,{"$f":"ROWS($EW$20:EW67)","v":48},{"$f":"IFERROR(MATCH(Hist_Tab[[#This Row],[Ref]],Medel_T[NrX],0),1)","v":1},{"$f":"INT((ROW(Hist_Tab[[#This Row],[Ref]])-ROW(Hist_Tab[[#Headers],[Ref]])-1)/4)+1","v":13},{"$f":"COUNTIF($EY$19:EY67,Hist_Tab[[#This Row],[Ref]])","v":1},{"$f":"IFERROR(INDEX(Medel_T[Start],Hist_Tab[[#This Row],[Ref]]),_xlfn.AGGREGATE(4,6,Medel_T[Start]))","v":"00:00:00"},{"$f":"IFERROR(INDEX(Medel_T[Slut],Hist_Tab[[#This Row],[Ref]]),_xlfn.AGGREGATE(4,6,Medel_T[Slut]))","v":"00:00:00"},{"$f":"IF(EW66=0,Hist_Tab[[#This Row],[ÅrB]],IF(Hist_Tab[[#This Row],[per/p]]<2,Hist_Tab[[#This Row],[ÅrB]],Hist_Tab[[#This Row],[År S]]))","v":"00:00:00"},{"$f":"IF(Hist_Tab[[#This Row],[Rad]:[Rad]]=0,-1,IF($EY68>_xlfn.AGGREGATE(2,6,Medel_T[[Slut]:[Slut]]),0,INDEX(Medel_T[],Hist_Tab[[#This Row],[Ref]:[Ref]],MATCH(Hist_Tab[[#Headers],[HöA T]],Medel_T[#Headers],0))))","v":0},{"$f":"IF(Hist_Tab[[#This Row],[Rad]:[Rad]]=0,0,IF($EY68>_xlfn.AGGREGATE(2,6,Medel_T[[Slut]:[Slut]]),0,INDEX(Medel_T[],Hist_Tab[[#This Row],[Ref]:[Ref]],MATCH(Hist_Tab[[#Headers],[AöA T]],Medel_T[#Headers],0))))","v":0},{"$f":"IF(Hist_Tab[[#This Row],[Rad]:[Rad]]=0,0,IF($EY68>_xlfn.AGGREGATE(2,6,Medel_T[[Slut]:[Slut]]),0,INDEX(Medel_T[],Hist_Tab[[#This Row],[Ref]:[Ref]],MATCH(Hist_Tab[[#Headers],[4AM T]],Medel_T[#Headers],0))))","v":0},{"$f":"IF(Hist_Tab[[#This Row],[Rad]:[Rad]]=0,0,IF($EY68>_xlfn.AGGREGATE(2,6,Medel_T[[Slut]:[Slut]]),0,INDEX(Medel_T[],Hist_Tab[[#This Row],[Ref]:[Ref]],MATCH(Hist_Tab[[#Headers],[15AM T]],Medel_T[#Headers],0))))","v":0},{"$f":"IF(Hist_Tab[[#This Row],[Rad]:[Rad]]=0,0,IF($EY68>_xlfn.AGGREGATE(2,6,Medel_T[[Slut]:[Slut]]),0,INDEX(Medel_T[],Hist_Tab[[#This Row],[Ref]:[Ref]],MATCH(Hist_Tab[[#Headers],[20-10D T]],Medel_T[#Headers],0))))","v":0}]
[null,null,null,null,null,null,null,null,null,null,null,null,null,null,null,null,null,null,null,null,null,null,null,null,null,null,null,null,null,null,null,null,null,null,null,null,null,null,null,null,null,null,null,null,null,null,null,null,null,null,null,null,null,null,null,null,null,null,null,null,null,null,null,null,null,null,null,null,null,null,null,null,null,null,null,null,null,null,null,null,null,null,null,null,null,null,null,null,null,null,null,null,null,null,null,null,null,null,null,null,null,null,null,null,null,null,null,null,null,null,null,null,null,null,null,null,null,null,null,null,null,null,null,null,null,null,null,null,null,null,null,null,null,null,null,null,null,null,null,null,null,null,null,null,null,null,null,null,null,null,null,null,{"$f":"ROWS($EW$20:EW68)","v":49},{"$f":"IFERROR(MATCH(Hist_Tab[[#This Row],[Ref]],Medel_T[NrX],0),1)","v":1},{"$f":"INT((ROW(Hist_Tab[[#This Row],[Ref]])-ROW(Hist_Tab[[#Headers],[Ref]])-1)/4)+1","v":13},{"$f":"COUNTIF($EY$19:EY68,Hist_Tab[[#This Row],[Ref]])","v":2},{"$f":"IFERROR(INDEX(Medel_T[Start],Hist_Tab[[#This Row],[Ref]]),_xlfn.AGGREGATE(4,6,Medel_T[Start]))","v":"00:00:00"},{"$f":"IFERROR(INDEX(Medel_T[Slut],Hist_Tab[[#This Row],[Ref]]),_xlfn.AGGREGATE(4,6,Medel_T[Slut]))","v":"00:00:00"},{"$f":"IF(EW67=0,Hist_Tab[[#This Row],[ÅrB]],IF(Hist_Tab[[#This Row],[per/p]]<2,Hist_Tab[[#This Row],[ÅrB]],Hist_Tab[[#This Row],[År S]]))","v":"00:00:00"},{"$f":"IF(Hist_Tab[[#This Row],[Rad]:[Rad]]=0,-1,IF($EY69>_xlfn.AGGREGATE(2,6,Medel_T[[Slut]:[Slut]]),0,INDEX(Medel_T[],Hist_Tab[[#This Row],[Ref]:[Ref]],MATCH(Hist_Tab[[#Headers],[HöA T]],Medel_T[#Headers],0))))","v":0},{"$f":"IF(Hist_Tab[[#This Row],[Rad]:[Rad]]=0,0,IF($EY69>_xlfn.AGGREGATE(2,6,Medel_T[[Slut]:[Slut]]),0,INDEX(Medel_T[],Hist_Tab[[#This Row],[Ref]:[Ref]],MATCH(Hist_Tab[[#Headers],[AöA T]],Medel_T[#Headers],0))))","v":0},{"$f":"IF(Hist_Tab[[#This Row],[Rad]:[Rad]]=0,0,IF($EY69>_xlfn.AGGREGATE(2,6,Medel_T[[Slut]:[Slut]]),0,INDEX(Medel_T[],Hist_Tab[[#This Row],[Ref]:[Ref]],MATCH(Hist_Tab[[#Headers],[4AM T]],Medel_T[#Headers],0))))","v":0},{"$f":"IF(Hist_Tab[[#This Row],[Rad]:[Rad]]=0,0,IF($EY69>_xlfn.AGGREGATE(2,6,Medel_T[[Slut]:[Slut]]),0,INDEX(Medel_T[],Hist_Tab[[#This Row],[Ref]:[Ref]],MATCH(Hist_Tab[[#Headers],[15AM T]],Medel_T[#Headers],0))))","v":0},{"$f":"IF(Hist_Tab[[#This Row],[Rad]:[Rad]]=0,0,IF($EY69>_xlfn.AGGREGATE(2,6,Medel_T[[Slut]:[Slut]]),0,INDEX(Medel_T[],Hist_Tab[[#This Row],[Ref]:[Ref]],MATCH(Hist_Tab[[#Headers],[20-10D T]],Medel_T[#Headers],0))))","v":0}]
[null,null,null,null,null,null,null,null,null,null,null,null,null,null,null,null,null,null,null,null,null,null,null,null,null,null,null,null,null,null,null,null,null,null,null,null,null,null,null,null,null,null,null,null,null,null,null,null,null,null,null,null,null,null,null,null,null,null,null,null,null,null,null,null,null,null,null,null,null,null,null,null,null,null,null,null,null,null,null,null,null,null,null,null,null,null,null,null,null,null,null,null,null,null,null,null,null,null,null,null,null,null,null,null,null,null,null,null,null,null,null,null,null,null,null,null,null,null,null,null,null,null,null,null,null,null,null,null,null,null,null,null,null,null,null,null,null,null,null,null,null,null,null,null,null,null,null,null,null,null,null,null,{"$f":"ROWS($EW$20:EW69)","v":50},{"$f":"IFERROR(MATCH(Hist_Tab[[#This Row],[Ref]],Medel_T[NrX],0),1)","v":1},{"$f":"INT((ROW(Hist_Tab[[#This Row],[Ref]])-ROW(Hist_Tab[[#Headers],[Ref]])-1)/4)+1","v":13},{"$f":"COUNTIF($EY$19:EY69,Hist_Tab[[#This Row],[Ref]])","v":3},{"$f":"IFERROR(INDEX(Medel_T[Start],Hist_Tab[[#This Row],[Ref]]),_xlfn.AGGREGATE(4,6,Medel_T[Start]))","v":"00:00:00"},{"$f":"IFERROR(INDEX(Medel_T[Slut],Hist_Tab[[#This Row],[Ref]]),_xlfn.AGGREGATE(4,6,Medel_T[Slut]))","v":"00:00:00"},{"$f":"IF(EW68=0,Hist_Tab[[#This Row],[ÅrB]],IF(Hist_Tab[[#This Row],[per/p]]<2,Hist_Tab[[#This Row],[ÅrB]],Hist_Tab[[#This Row],[År S]]))","v":"00:00:00"},{"$f":"IF(Hist_Tab[[#This Row],[Rad]:[Rad]]=0,-1,IF($EY70>_xlfn.AGGREGATE(2,6,Medel_T[[Slut]:[Slut]]),0,INDEX(Medel_T[],Hist_Tab[[#This Row],[Ref]:[Ref]],MATCH(Hist_Tab[[#Headers],[HöA T]],Medel_T[#Headers],0))))","v":0},{"$f":"IF(Hist_Tab[[#This Row],[Rad]:[Rad]]=0,0,IF($EY70>_xlfn.AGGREGATE(2,6,Medel_T[[Slut]:[Slut]]),0,INDEX(Medel_T[],Hist_Tab[[#This Row],[Ref]:[Ref]],MATCH(Hist_Tab[[#Headers],[AöA T]],Medel_T[#Headers],0))))","v":0},{"$f":"IF(Hist_Tab[[#This Row],[Rad]:[Rad]]=0,0,IF($EY70>_xlfn.AGGREGATE(2,6,Medel_T[[Slut]:[Slut]]),0,INDEX(Medel_T[],Hist_Tab[[#This Row],[Ref]:[Ref]],MATCH(Hist_Tab[[#Headers],[4AM T]],Medel_T[#Headers],0))))","v":0},{"$f":"IF(Hist_Tab[[#This Row],[Rad]:[Rad]]=0,0,IF($EY70>_xlfn.AGGREGATE(2,6,Medel_T[[Slut]:[Slut]]),0,INDEX(Medel_T[],Hist_Tab[[#This Row],[Ref]:[Ref]],MATCH(Hist_Tab[[#Headers],[15AM T]],Medel_T[#Headers],0))))","v":0},{"$f":"IF(Hist_Tab[[#This Row],[Rad]:[Rad]]=0,0,IF($EY70>_xlfn.AGGREGATE(2,6,Medel_T[[Slut]:[Slut]]),0,INDEX(Medel_T[],Hist_Tab[[#This Row],[Ref]:[Ref]],MATCH(Hist_Tab[[#Headers],[20-10D T]],Medel_T[#Headers],0))))","v":0}]
[null,null,null,null,null,null,null,null,null,null,null,null,null,null,null,null,null,null,null,null,null,null,null,null,null,null,null,null,null,null,null,null,null,null,null,null,null,null,null,null,null,null,null,null,null,null,null,null,null,null,null,null,null,null,null,null,null,null,null,null,null,null,null,null,null,null,null,null,null,null,null,null,null,null,null,null,null,null,null,null,null,null,null,null,null,null,null,null,null,null,null,null,null,null,null,null,null,null,null,null,null,null,null,null,null,null,null,null,null,null,null,null,null,null,null,null,null,null,null,null,null,null,null,null,null,null,null,null,null,null,null,null,null,null,null,null,null,null,null,null,null,null,null,null,null,null,null,null,null,null,null,null,{"$f":"ROWS($EW$20:EW70)","v":51},{"$f":"IFERROR(MATCH(Hist_Tab[[#This Row],[Ref]],Medel_T[NrX],0),1)","v":1},{"$f":"INT((ROW(Hist_Tab[[#This Row],[Ref]])-ROW(Hist_Tab[[#Headers],[Ref]])-1)/4)+1","v":13},{"$f":"COUNTIF($EY$19:EY70,Hist_Tab[[#This Row],[Ref]])","v":4},{"$f":"IFERROR(INDEX(Medel_T[Start],Hist_Tab[[#This Row],[Ref]]),_xlfn.AGGREGATE(4,6,Medel_T[Start]))","v":"00:00:00"},{"$f":"IFERROR(INDEX(Medel_T[Slut],Hist_Tab[[#This Row],[Ref]]),_xlfn.AGGREGATE(4,6,Medel_T[Slut]))","v":"00:00:00"},{"$f":"IF(EW69=0,Hist_Tab[[#This Row],[ÅrB]],IF(Hist_Tab[[#This Row],[per/p]]<2,Hist_Tab[[#This Row],[ÅrB]],Hist_Tab[[#This Row],[År S]]))","v":"00:00:00"},{"$f":"IF(Hist_Tab[[#This Row],[Rad]:[Rad]]=0,-1,IF($EY71>_xlfn.AGGREGATE(2,6,Medel_T[[Slut]:[Slut]]),0,INDEX(Medel_T[],Hist_Tab[[#This Row],[Ref]:[Ref]],MATCH(Hist_Tab[[#Headers],[HöA T]],Medel_T[#Headers],0))))","v":0},{"$f":"IF(Hist_Tab[[#This Row],[Rad]:[Rad]]=0,0,IF($EY71>_xlfn.AGGREGATE(2,6,Medel_T[[Slut]:[Slut]]),0,INDEX(Medel_T[],Hist_Tab[[#This Row],[Ref]:[Ref]],MATCH(Hist_Tab[[#Headers],[AöA T]],Medel_T[#Headers],0))))","v":0},{"$f":"IF(Hist_Tab[[#This Row],[Rad]:[Rad]]=0,0,IF($EY71>_xlfn.AGGREGATE(2,6,Medel_T[[Slut]:[Slut]]),0,INDEX(Medel_T[],Hist_Tab[[#This Row],[Ref]:[Ref]],MATCH(Hist_Tab[[#Headers],[4AM T]],Medel_T[#Headers],0))))","v":0},{"$f":"IF(Hist_Tab[[#This Row],[Rad]:[Rad]]=0,0,IF($EY71>_xlfn.AGGREGATE(2,6,Medel_T[[Slut]:[Slut]]),0,INDEX(Medel_T[],Hist_Tab[[#This Row],[Ref]:[Ref]],MATCH(Hist_Tab[[#Headers],[15AM T]],Medel_T[#Headers],0))))","v":0},{"$f":"IF(Hist_Tab[[#This Row],[Rad]:[Rad]]=0,0,IF($EY71>_xlfn.AGGREGATE(2,6,Medel_T[[Slut]:[Slut]]),0,INDEX(Medel_T[],Hist_Tab[[#This Row],[Ref]:[Ref]],MATCH(Hist_Tab[[#Headers],[20-10D T]],Medel_T[#Headers],0))))","v":0}]
[null,null,null,null,null,null,null,null,null,null,null,null,null,null,null,null,null,null,null,null,null,null,null,null,null,null,null,null,null,null,null,null,null,null,null,null,null,null,null,null,null,null,null,null,null,null,null,null,null,null,null,null,null,null,null,null,null,null,null,null,null,null,null,null,null,null,null,null,null,null,null,null,null,null,null,null,null,null,null,null,null,null,null,null,null,null,null,null,null,null,null,null,null,null,null,null,null,null,null,null,null,null,null,null,null,null,null,null,null,null,null,null,null,null,null,null,null,null,null,null,null,null,null,null,null,null,null,null,null,null,null,null,null,null,null,null,null,null,null,null,null,null,null,null,null,null,null,null,null,null,null,null,{"$f":"ROWS($EW$20:EW71)","v":52},{"$f":"IFERROR(MATCH(Hist_Tab[[#This Row],[Ref]],Medel_T[NrX],0),1)","v":1},{"$f":"INT((ROW(Hist_Tab[[#This Row],[Ref]])-ROW(Hist_Tab[[#Headers],[Ref]])-1)/4)+1","v":14},{"$f":"COUNTIF($EY$19:EY71,Hist_Tab[[#This Row],[Ref]])","v":1},{"$f":"IFERROR(INDEX(Medel_T[Start],Hist_Tab[[#This Row],[Ref]]),_xlfn.AGGREGATE(4,6,Medel_T[Start]))","v":"00:00:00"},{"$f":"IFERROR(INDEX(Medel_T[Slut],Hist_Tab[[#This Row],[Ref]]),_xlfn.AGGREGATE(4,6,Medel_T[Slut]))","v":"00:00:00"},{"$f":"IF(EW70=0,Hist_Tab[[#This Row],[ÅrB]],IF(Hist_Tab[[#This Row],[per/p]]<2,Hist_Tab[[#This Row],[ÅrB]],Hist_Tab[[#This Row],[År S]]))","v":"00:00:00"},{"$f":"IF(Hist_Tab[[#This Row],[Rad]:[Rad]]=0,-1,IF($EY72>_xlfn.AGGREGATE(2,6,Medel_T[[Slut]:[Slut]]),0,INDEX(Medel_T[],Hist_Tab[[#This Row],[Ref]:[Ref]],MATCH(Hist_Tab[[#Headers],[HöA T]],Medel_T[#Headers],0))))","v":0},{"$f":"IF(Hist_Tab[[#This Row],[Rad]:[Rad]]=0,0,IF($EY72>_xlfn.AGGREGATE(2,6,Medel_T[[Slut]:[Slut]]),0,INDEX(Medel_T[],Hist_Tab[[#This Row],[Ref]:[Ref]],MATCH(Hist_Tab[[#Headers],[AöA T]],Medel_T[#Headers],0))))","v":0},{"$f":"IF(Hist_Tab[[#This Row],[Rad]:[Rad]]=0,0,IF($EY72>_xlfn.AGGREGATE(2,6,Medel_T[[Slut]:[Slut]]),0,INDEX(Medel_T[],Hist_Tab[[#This Row],[Ref]:[Ref]],MATCH(Hist_Tab[[#Headers],[4AM T]],Medel_T[#Headers],0))))","v":0},{"$f":"IF(Hist_Tab[[#This Row],[Rad]:[Rad]]=0,0,IF($EY72>_xlfn.AGGREGATE(2,6,Medel_T[[Slut]:[Slut]]),0,INDEX(Medel_T[],Hist_Tab[[#This Row],[Ref]:[Ref]],MATCH(Hist_Tab[[#Headers],[15AM T]],Medel_T[#Headers],0))))","v":0},{"$f":"IF(Hist_Tab[[#This Row],[Rad]:[Rad]]=0,0,IF($EY72>_xlfn.AGGREGATE(2,6,Medel_T[[Slut]:[Slut]]),0,INDEX(Medel_T[],Hist_Tab[[#This Row],[Ref]:[Ref]],MATCH(Hist_Tab[[#Headers],[20-10D T]],Medel_T[#Headers],0))))","v":0}]
[null,null,null,null,null,null,null,null,null,null,null,null,null,null,null,null,null,null,null,null,null,null,null,null,null,null,null,null,null,null,null,null,null,null,null,null,null,null,null,null,null,null,null,null,null,null,null,null,null,null,null,null,null,null,null,null,null,null,null,null,null,null,null,null,null,null,null,null,null,null,null,null,null,null,null,null,null,null,null,null,null,null,null,null,null,null,null,null,null,null,null,null,null,null,null,null,null,null,null,null,null,null,null,null,null,null,null,null,null,null,null,null,null,null,null,null,null,null,null,null,null,null,null,null,null,null,null,null,null,null,null,null,null,null,null,null,null,null,null,null,null,null,null,null,null,null,null,null,null,null,null,null,{"$f":"ROWS($EW$20:EW72)","v":53},{"$f":"IFERROR(MATCH(Hist_Tab[[#This Row],[Ref]],Medel_T[NrX],0),1)","v":1},{"$f":"INT((ROW(Hist_Tab[[#This Row],[Ref]])-ROW(Hist_Tab[[#Headers],[Ref]])-1)/4)+1","v":14},{"$f":"COUNTIF($EY$19:EY72,Hist_Tab[[#This Row],[Ref]])","v":2},{"$f":"IFERROR(INDEX(Medel_T[Start],Hist_Tab[[#This Row],[Ref]]),_xlfn.AGGREGATE(4,6,Medel_T[Start]))","v":"00:00:00"},{"$f":"IFERROR(INDEX(Medel_T[Slut],Hist_Tab[[#This Row],[Ref]]),_xlfn.AGGREGATE(4,6,Medel_T[Slut]))","v":"00:00:00"},{"$f":"IF(EW71=0,Hist_Tab[[#This Row],[ÅrB]],IF(Hist_Tab[[#This Row],[per/p]]<2,Hist_Tab[[#This Row],[ÅrB]],Hist_Tab[[#This Row],[År S]]))","v":"00:00:00"},{"$f":"IF(Hist_Tab[[#This Row],[Rad]:[Rad]]=0,-1,IF($EY73>_xlfn.AGGREGATE(2,6,Medel_T[[Slut]:[Slut]]),0,INDEX(Medel_T[],Hist_Tab[[#This Row],[Ref]:[Ref]],MATCH(Hist_Tab[[#Headers],[HöA T]],Medel_T[#Headers],0))))","v":0},{"$f":"IF(Hist_Tab[[#This Row],[Rad]:[Rad]]=0,0,IF($EY73>_xlfn.AGGREGATE(2,6,Medel_T[[Slut]:[Slut]]),0,INDEX(Medel_T[],Hist_Tab[[#This Row],[Ref]:[Ref]],MATCH(Hist_Tab[[#Headers],[AöA T]],Medel_T[#Headers],0))))","v":0},{"$f":"IF(Hist_Tab[[#This Row],[Rad]:[Rad]]=0,0,IF($EY73>_xlfn.AGGREGATE(2,6,Medel_T[[Slut]:[Slut]]),0,INDEX(Medel_T[],Hist_Tab[[#This Row],[Ref]:[Ref]],MATCH(Hist_Tab[[#Headers],[4AM T]],Medel_T[#Headers],0))))","v":0},{"$f":"IF(Hist_Tab[[#This Row],[Rad]:[Rad]]=0,0,IF($EY73>_xlfn.AGGREGATE(2,6,Medel_T[[Slut]:[Slut]]),0,INDEX(Medel_T[],Hist_Tab[[#This Row],[Ref]:[Ref]],MATCH(Hist_Tab[[#Headers],[15AM T]],Medel_T[#Headers],0))))","v":0},{"$f":"IF(Hist_Tab[[#This Row],[Rad]:[Rad]]=0,0,IF($EY73>_xlfn.AGGREGATE(2,6,Medel_T[[Slut]:[Slut]]),0,INDEX(Medel_T[],Hist_Tab[[#This Row],[Ref]:[Ref]],MATCH(Hist_Tab[[#Headers],[20-10D T]],Medel_T[#Headers],0))))","v":0}]
[null,null,null,null,null,null,null,null,null,null,null,null,null,null,null,null,null,null,null,null,null,null,null,null,null,null,null,null,null,null,null,null,null,null,null,null,null,null,null,null,null,null,null,null,null,null,null,null,null,null,null,null,null,null,null,null,null,null,null,null,null,null,null,null,null,null,null,null,null,null,null,null,null,null,null,null,null,null,null,null,null,null,null,null,null,null,null,null,null,null,null,null,null,null,null,null,null,null,null,null,null,null,null,null,null,null,null,null,null,null,null,null,null,null,null,null,null,null,null,null,null,null,null,null,null,null,null,null,null,null,null,null,null,null,null,null,null,null,null,null,null,null,null,null,null,null,null,null,null,null,null,null,{"$f":"ROWS($EW$20:EW73)","v":54},{"$f":"IFERROR(MATCH(Hist_Tab[[#This Row],[Ref]],Medel_T[NrX],0),1)","v":1},{"$f":"INT((ROW(Hist_Tab[[#This Row],[Ref]])-ROW(Hist_Tab[[#Headers],[Ref]])-1)/4)+1","v":14},{"$f":"COUNTIF($EY$19:EY73,Hist_Tab[[#This Row],[Ref]])","v":3},{"$f":"IFERROR(INDEX(Medel_T[Start],Hist_Tab[[#This Row],[Ref]]),_xlfn.AGGREGATE(4,6,Medel_T[Start]))","v":"00:00:00"},{"$f":"IFERROR(INDEX(Medel_T[Slut],Hist_Tab[[#This Row],[Ref]]),_xlfn.AGGREGATE(4,6,Medel_T[Slut]))","v":"00:00:00"},{"$f":"IF(EW72=0,Hist_Tab[[#This Row],[ÅrB]],IF(Hist_Tab[[#This Row],[per/p]]<2,Hist_Tab[[#This Row],[ÅrB]],Hist_Tab[[#This Row],[År S]]))","v":"00:00:00"},{"$f":"IF(Hist_Tab[[#This Row],[Rad]:[Rad]]=0,-1,IF($EY74>_xlfn.AGGREGATE(2,6,Medel_T[[Slut]:[Slut]]),0,INDEX(Medel_T[],Hist_Tab[[#This Row],[Ref]:[Ref]],MATCH(Hist_Tab[[#Headers],[HöA T]],Medel_T[#Headers],0))))","v":0},{"$f":"IF(Hist_Tab[[#This Row],[Rad]:[Rad]]=0,0,IF($EY74>_xlfn.AGGREGATE(2,6,Medel_T[[Slut]:[Slut]]),0,INDEX(Medel_T[],Hist_Tab[[#This Row],[Ref]:[Ref]],MATCH(Hist_Tab[[#Headers],[AöA T]],Medel_T[#Headers],0))))","v":0},{"$f":"IF(Hist_Tab[[#This Row],[Rad]:[Rad]]=0,0,IF($EY74>_xlfn.AGGREGATE(2,6,Medel_T[[Slut]:[Slut]]),0,INDEX(Medel_T[],Hist_Tab[[#This Row],[Ref]:[Ref]],MATCH(Hist_Tab[[#Headers],[4AM T]],Medel_T[#Headers],0))))","v":0},{"$f":"IF(Hist_Tab[[#This Row],[Rad]:[Rad]]=0,0,IF($EY74>_xlfn.AGGREGATE(2,6,Medel_T[[Slut]:[Slut]]),0,INDEX(Medel_T[],Hist_Tab[[#This Row],[Ref]:[Ref]],MATCH(Hist_Tab[[#Headers],[15AM T]],Medel_T[#Headers],0))))","v":0},{"$f":"IF(Hist_Tab[[#This Row],[Rad]:[Rad]]=0,0,IF($EY74>_xlfn.AGGREGATE(2,6,Medel_T[[Slut]:[Slut]]),0,INDEX(Medel_T[],Hist_Tab[[#This Row],[Ref]:[Ref]],MATCH(Hist_Tab[[#Headers],[20-10D T]],Medel_T[#Headers],0))))","v":0}]
[null,null,null,null,null,null,null,null,null,null,null,null,null,null,null,null,null,null,null,null,null,null,null,null,null,null,null,null,null,null,null,null,null,null,null,null,null,null,null,null,null,null,null,null,null,null,null,null,null,null,null,null,null,null,null,null,null,null,null,null,null,null,null,null,null,null,null,null,null,null,null,null,null,null,null,null,null,null,null,null,null,null,null,null,null,null,null,null,null,null,null,null,null,null,null,null,null,null,null,null,null,null,null,null,null,null,null,null,null,null,null,null,null,null,null,null,null,null,null,null,null,null,null,null,null,null,null,null,null,null,null,null,null,null,null,null,null,null,null,null,null,null,null,null,null,null,null,null,null,null,null,null,{"$f":"ROWS($EW$20:EW74)","v":55},{"$f":"IFERROR(MATCH(Hist_Tab[[#This Row],[Ref]],Medel_T[NrX],0),1)","v":1},{"$f":"INT((ROW(Hist_Tab[[#This Row],[Ref]])-ROW(Hist_Tab[[#Headers],[Ref]])-1)/4)+1","v":14},{"$f":"COUNTIF($EY$19:EY74,Hist_Tab[[#This Row],[Ref]])","v":4},{"$f":"IFERROR(INDEX(Medel_T[Start],Hist_Tab[[#This Row],[Ref]]),_xlfn.AGGREGATE(4,6,Medel_T[Start]))","v":"00:00:00"},{"$f":"IFERROR(INDEX(Medel_T[Slut],Hist_Tab[[#This Row],[Ref]]),_xlfn.AGGREGATE(4,6,Medel_T[Slut]))","v":"00:00:00"},{"$f":"IF(EW73=0,Hist_Tab[[#This Row],[ÅrB]],IF(Hist_Tab[[#This Row],[per/p]]<2,Hist_Tab[[#This Row],[ÅrB]],Hist_Tab[[#This Row],[År S]]))","v":"00:00:00"},{"$f":"IF(Hist_Tab[[#This Row],[Rad]:[Rad]]=0,-1,IF($EY75>_xlfn.AGGREGATE(2,6,Medel_T[[Slut]:[Slut]]),0,INDEX(Medel_T[],Hist_Tab[[#This Row],[Ref]:[Ref]],MATCH(Hist_Tab[[#Headers],[HöA T]],Medel_T[#Headers],0))))","v":0},{"$f":"IF(Hist_Tab[[#This Row],[Rad]:[Rad]]=0,0,IF($EY75>_xlfn.AGGREGATE(2,6,Medel_T[[Slut]:[Slut]]),0,INDEX(Medel_T[],Hist_Tab[[#This Row],[Ref]:[Ref]],MATCH(Hist_Tab[[#Headers],[AöA T]],Medel_T[#Headers],0))))","v":0},{"$f":"IF(Hist_Tab[[#This Row],[Rad]:[Rad]]=0,0,IF($EY75>_xlfn.AGGREGATE(2,6,Medel_T[[Slut]:[Slut]]),0,INDEX(Medel_T[],Hist_Tab[[#This Row],[Ref]:[Ref]],MATCH(Hist_Tab[[#Headers],[4AM T]],Medel_T[#Headers],0))))","v":0},{"$f":"IF(Hist_Tab[[#This Row],[Rad]:[Rad]]=0,0,IF($EY75>_xlfn.AGGREGATE(2,6,Medel_T[[Slut]:[Slut]]),0,INDEX(Medel_T[],Hist_Tab[[#This Row],[Ref]:[Ref]],MATCH(Hist_Tab[[#Headers],[15AM T]],Medel_T[#Headers],0))))","v":0},{"$f":"IF(Hist_Tab[[#This Row],[Rad]:[Rad]]=0,0,IF($EY75>_xlfn.AGGREGATE(2,6,Medel_T[[Slut]:[Slut]]),0,INDEX(Medel_T[],Hist_Tab[[#This Row],[Ref]:[Ref]],MATCH(Hist_Tab[[#Headers],[20-10D T]],Medel_T[#Headers],0))))","v":0}]
[null,null,null,null,null,null,null,null,null,null,null,null,null,null,null,null,null,null,null,null,null,null,null,null,null,null,null,null,null,null,null,null,null,null,null,null,null,null,null,null,null,null,null,null,null,null,null,null,null,null,null,null,null,null,null,null,null,null,null,null,null,null,null,null,null,null,null,null,null,null,null,null,null,null,null,null,null,null,null,null,null,null,null,null,null,null,null,null,null,null,null,null,null,null,null,null,null,null,null,null,null,null,null,null,null,null,null,null,null,null,null,null,null,null,null,null,null,null,null,null,null,null,null,null,null,null,null,null,null,null,null,null,null,null,null,null,null,null,null,null,null,null,null,null,null,null,null,null,null,null,null,null,{"$f":"ROWS($EW$20:EW75)","v":56},{"$f":"IFERROR(MATCH(Hist_Tab[[#This Row],[Ref]],Medel_T[NrX],0),1)","v":1},{"$f":"INT((ROW(Hist_Tab[[#This Row],[Ref]])-ROW(Hist_Tab[[#Headers],[Ref]])-1)/4)+1","v":15},{"$f":"COUNTIF($EY$19:EY75,Hist_Tab[[#This Row],[Ref]])","v":1},{"$f":"IFERROR(INDEX(Medel_T[Start],Hist_Tab[[#This Row],[Ref]]),_xlfn.AGGREGATE(4,6,Medel_T[Start]))","v":"00:00:00"},{"$f":"IFERROR(INDEX(Medel_T[Slut],Hist_Tab[[#This Row],[Ref]]),_xlfn.AGGREGATE(4,6,Medel_T[Slut]))","v":"00:00:00"},{"$f":"IF(EW74=0,Hist_Tab[[#This Row],[ÅrB]],IF(Hist_Tab[[#This Row],[per/p]]<2,Hist_Tab[[#This Row],[ÅrB]],Hist_Tab[[#This Row],[År S]]))","v":"00:00:00"},{"$f":"IF(Hist_Tab[[#This Row],[Rad]:[Rad]]=0,-1,IF($EY76>_xlfn.AGGREGATE(2,6,Medel_T[[Slut]:[Slut]]),0,INDEX(Medel_T[],Hist_Tab[[#This Row],[Ref]:[Ref]],MATCH(Hist_Tab[[#Headers],[HöA T]],Medel_T[#Headers],0))))","v":0},{"$f":"IF(Hist_Tab[[#This Row],[Rad]:[Rad]]=0,0,IF($EY76>_xlfn.AGGREGATE(2,6,Medel_T[[Slut]:[Slut]]),0,INDEX(Medel_T[],Hist_Tab[[#This Row],[Ref]:[Ref]],MATCH(Hist_Tab[[#Headers],[AöA T]],Medel_T[#Headers],0))))","v":0},{"$f":"IF(Hist_Tab[[#This Row],[Rad]:[Rad]]=0,0,IF($EY76>_xlfn.AGGREGATE(2,6,Medel_T[[Slut]:[Slut]]),0,INDEX(Medel_T[],Hist_Tab[[#This Row],[Ref]:[Ref]],MATCH(Hist_Tab[[#Headers],[4AM T]],Medel_T[#Headers],0))))","v":0},{"$f":"IF(Hist_Tab[[#This Row],[Rad]:[Rad]]=0,0,IF($EY76>_xlfn.AGGREGATE(2,6,Medel_T[[Slut]:[Slut]]),0,INDEX(Medel_T[],Hist_Tab[[#This Row],[Ref]:[Ref]],MATCH(Hist_Tab[[#Headers],[15AM T]],Medel_T[#Headers],0))))","v":0},{"$f":"IF(Hist_Tab[[#This Row],[Rad]:[Rad]]=0,0,IF($EY76>_xlfn.AGGREGATE(2,6,Medel_T[[Slut]:[Slut]]),0,INDEX(Medel_T[],Hist_Tab[[#This Row],[Ref]:[Ref]],MATCH(Hist_Tab[[#Headers],[20-10D T]],Medel_T[#Headers],0))))","v":0}]
[null,null,null,null,null,null,null,null,null,null,null,null,null,null,null,null,null,null,null,null,null,null,null,null,null,null,null,null,null,null,null,null,null,null,null,null,null,null,null,null,null,null,null,null,null,null,null,null,null,null,null,null,null,null,null,null,null,null,null,null,null,null,null,null,null,null,null,null,null,null,null,null,null,null,null,null,null,null,null,null,null,null,null,null,null,null,null,null,null,null,null,null,null,null,null,null,null,null,null,null,null,null,null,null,null,null,null,null,null,null,null,null,null,null,null,null,null,null,null,null,null,null,null,null,null,null,null,null,null,null,null,null,null,null,null,null,null,null,null,null,null,null,null,null,null,null,null,null,null,null,null,null,{"$f":"ROWS($EW$20:EW76)","v":57},{"$f":"IFERROR(MATCH(Hist_Tab[[#This Row],[Ref]],Medel_T[NrX],0),1)","v":1},{"$f":"INT((ROW(Hist_Tab[[#This Row],[Ref]])-ROW(Hist_Tab[[#Headers],[Ref]])-1)/4)+1","v":15},{"$f":"COUNTIF($EY$19:EY76,Hist_Tab[[#This Row],[Ref]])","v":2},{"$f":"IFERROR(INDEX(Medel_T[Start],Hist_Tab[[#This Row],[Ref]]),_xlfn.AGGREGATE(4,6,Medel_T[Start]))","v":"00:00:00"},{"$f":"IFERROR(INDEX(Medel_T[Slut],Hist_Tab[[#This Row],[Ref]]),_xlfn.AGGREGATE(4,6,Medel_T[Slut]))","v":"00:00:00"},{"$f":"IF(EW75=0,Hist_Tab[[#This Row],[ÅrB]],IF(Hist_Tab[[#This Row],[per/p]]<2,Hist_Tab[[#This Row],[ÅrB]],Hist_Tab[[#This Row],[År S]]))","v":"00:00:00"},{"$f":"IF(Hist_Tab[[#This Row],[Rad]:[Rad]]=0,-1,IF($EY77>_xlfn.AGGREGATE(2,6,Medel_T[[Slut]:[Slut]]),0,INDEX(Medel_T[],Hist_Tab[[#This Row],[Ref]:[Ref]],MATCH(Hist_Tab[[#Headers],[HöA T]],Medel_T[#Headers],0))))","v":0},{"$f":"IF(Hist_Tab[[#This Row],[Rad]:[Rad]]=0,0,IF($EY77>_xlfn.AGGREGATE(2,6,Medel_T[[Slut]:[Slut]]),0,INDEX(Medel_T[],Hist_Tab[[#This Row],[Ref]:[Ref]],MATCH(Hist_Tab[[#Headers],[AöA T]],Medel_T[#Headers],0))))","v":0},{"$f":"IF(Hist_Tab[[#This Row],[Rad]:[Rad]]=0,0,IF($EY77>_xlfn.AGGREGATE(2,6,Medel_T[[Slut]:[Slut]]),0,INDEX(Medel_T[],Hist_Tab[[#This Row],[Ref]:[Ref]],MATCH(Hist_Tab[[#Headers],[4AM T]],Medel_T[#Headers],0))))","v":0},{"$f":"IF(Hist_Tab[[#This Row],[Rad]:[Rad]]=0,0,IF($EY77>_xlfn.AGGREGATE(2,6,Medel_T[[Slut]:[Slut]]),0,INDEX(Medel_T[],Hist_Tab[[#This Row],[Ref]:[Ref]],MATCH(Hist_Tab[[#Headers],[15AM T]],Medel_T[#Headers],0))))","v":0},{"$f":"IF(Hist_Tab[[#This Row],[Rad]:[Rad]]=0,0,IF($EY77>_xlfn.AGGREGATE(2,6,Medel_T[[Slut]:[Slut]]),0,INDEX(Medel_T[],Hist_Tab[[#This Row],[Ref]:[Ref]],MATCH(Hist_Tab[[#Headers],[20-10D T]],Medel_T[#Headers],0))))","v":0}]
[null,null,null,null,null,null,null,null,null,null,null,null,null,null,null,null,null,null,null,null,null,null,null,null,null,null,null,null,null,null,null,null,null,null,null,null,null,null,null,null,null,null,null,null,null,null,null,null,null,null,null,null,null,null,null,null,null,null,null,null,null,null,null,null,null,null,null,null,null,null,null,null,null,null,null,null,null,null,null,null,null,null,null,null,null,null,null,null,null,null,null,null,null,null,null,null,null,null,null,null,null,null,null,null,null,null,null,null,null,null,null,null,null,null,null,null,null,null,null,null,null,null,null,null,null,null,null,null,null,null,null,null,null,null,null,null,null,null,null,null,null,null,null,null,null,null,null,null,null,null,null,null,{"$f":"ROWS($EW$20:EW77)","v":58},{"$f":"IFERROR(MATCH(Hist_Tab[[#This Row],[Ref]],Medel_T[NrX],0),1)","v":1},{"$f":"INT((ROW(Hist_Tab[[#This Row],[Ref]])-ROW(Hist_Tab[[#Headers],[Ref]])-1)/4)+1","v":15},{"$f":"COUNTIF($EY$19:EY77,Hist_Tab[[#This Row],[Ref]])","v":3},{"$f":"IFERROR(INDEX(Medel_T[Start],Hist_Tab[[#This Row],[Ref]]),_xlfn.AGGREGATE(4,6,Medel_T[Start]))","v":"00:00:00"},{"$f":"IFERROR(INDEX(Medel_T[Slut],Hist_Tab[[#This Row],[Ref]]),_xlfn.AGGREGATE(4,6,Medel_T[Slut]))","v":"00:00:00"},{"$f":"IF(EW76=0,Hist_Tab[[#This Row],[ÅrB]],IF(Hist_Tab[[#This Row],[per/p]]<2,Hist_Tab[[#This Row],[ÅrB]],Hist_Tab[[#This Row],[År S]]))","v":"00:00:00"},{"$f":"IF(Hist_Tab[[#This Row],[Rad]:[Rad]]=0,-1,IF($EY78>_xlfn.AGGREGATE(2,6,Medel_T[[Slut]:[Slut]]),0,INDEX(Medel_T[],Hist_Tab[[#This Row],[Ref]:[Ref]],MATCH(Hist_Tab[[#Headers],[HöA T]],Medel_T[#Headers],0))))","v":0},{"$f":"IF(Hist_Tab[[#This Row],[Rad]:[Rad]]=0,0,IF($EY78>_xlfn.AGGREGATE(2,6,Medel_T[[Slut]:[Slut]]),0,INDEX(Medel_T[],Hist_Tab[[#This Row],[Ref]:[Ref]],MATCH(Hist_Tab[[#Headers],[AöA T]],Medel_T[#Headers],0))))","v":0},{"$f":"IF(Hist_Tab[[#This Row],[Rad]:[Rad]]=0,0,IF($EY78>_xlfn.AGGREGATE(2,6,Medel_T[[Slut]:[Slut]]),0,INDEX(Medel_T[],Hist_Tab[[#This Row],[Ref]:[Ref]],MATCH(Hist_Tab[[#Headers],[4AM T]],Medel_T[#Headers],0))))","v":0},{"$f":"IF(Hist_Tab[[#This Row],[Rad]:[Rad]]=0,0,IF($EY78>_xlfn.AGGREGATE(2,6,Medel_T[[Slut]:[Slut]]),0,INDEX(Medel_T[],Hist_Tab[[#This Row],[Ref]:[Ref]],MATCH(Hist_Tab[[#Headers],[15AM T]],Medel_T[#Headers],0))))","v":0},{"$f":"IF(Hist_Tab[[#This Row],[Rad]:[Rad]]=0,0,IF($EY78>_xlfn.AGGREGATE(2,6,Medel_T[[Slut]:[Slut]]),0,INDEX(Medel_T[],Hist_Tab[[#This Row],[Ref]:[Ref]],MATCH(Hist_Tab[[#Headers],[20-10D T]],Medel_T[#Headers],0))))","v":0}]
[null,null,null,null,null,null,null,null,null,null,null,null,null,null,null,null,null,null,null,null,null,null,null,null,null,null,null,null,null,null,null,null,null,null,null,null,null,null,null,null,null,null,null,null,null,null,null,null,null,null,null,null,null,null,null,null,null,null,null,null,null,null,null,null,null,null,null,null,null,null,null,null,null,null,null,null,null,null,null,null,null,null,null,null,null,null,null,null,null,null,null,null,null,null,null,null,null,null,null,null,null,null,null,null,null,null,null,null,null,null,null,null,null,null,null,null,null,null,null,null,null,null,null,null,null,null,null,null,null,null,null,null,null,null,null,null,null,null,null,null,null,null,null,null,null,null,null,null,null,null,null,null,{"$f":"ROWS($EW$20:EW78)","v":59},{"$f":"IFERROR(MATCH(Hist_Tab[[#This Row],[Ref]],Medel_T[NrX],0),1)","v":1},{"$f":"INT((ROW(Hist_Tab[[#This Row],[Ref]])-ROW(Hist_Tab[[#Headers],[Ref]])-1)/4)+1","v":15},{"$f":"COUNTIF($EY$19:EY78,Hist_Tab[[#This Row],[Ref]])","v":4},{"$f":"IFERROR(INDEX(Medel_T[Start],Hist_Tab[[#This Row],[Ref]]),_xlfn.AGGREGATE(4,6,Medel_T[Start]))","v":"00:00:00"},{"$f":"IFERROR(INDEX(Medel_T[Slut],Hist_Tab[[#This Row],[Ref]]),_xlfn.AGGREGATE(4,6,Medel_T[Slut]))","v":"00:00:00"},{"$f":"IF(EW77=0,Hist_Tab[[#This Row],[ÅrB]],IF(Hist_Tab[[#This Row],[per/p]]<2,Hist_Tab[[#This Row],[ÅrB]],Hist_Tab[[#This Row],[År S]]))","v":"00:00:00"},{"$f":"IF(Hist_Tab[[#This Row],[Rad]:[Rad]]=0,-1,IF($EY79>_xlfn.AGGREGATE(2,6,Medel_T[[Slut]:[Slut]]),0,INDEX(Medel_T[],Hist_Tab[[#This Row],[Ref]:[Ref]],MATCH(Hist_Tab[[#Headers],[HöA T]],Medel_T[#Headers],0))))","v":0},{"$f":"IF(Hist_Tab[[#This Row],[Rad]:[Rad]]=0,0,IF($EY79>_xlfn.AGGREGATE(2,6,Medel_T[[Slut]:[Slut]]),0,INDEX(Medel_T[],Hist_Tab[[#This Row],[Ref]:[Ref]],MATCH(Hist_Tab[[#Headers],[AöA T]],Medel_T[#Headers],0))))","v":0},{"$f":"IF(Hist_Tab[[#This Row],[Rad]:[Rad]]=0,0,IF($EY79>_xlfn.AGGREGATE(2,6,Medel_T[[Slut]:[Slut]]),0,INDEX(Medel_T[],Hist_Tab[[#This Row],[Ref]:[Ref]],MATCH(Hist_Tab[[#Headers],[4AM T]],Medel_T[#Headers],0))))","v":0},{"$f":"IF(Hist_Tab[[#This Row],[Rad]:[Rad]]=0,0,IF($EY79>_xlfn.AGGREGATE(2,6,Medel_T[[Slut]:[Slut]]),0,INDEX(Medel_T[],Hist_Tab[[#This Row],[Ref]:[Ref]],MATCH(Hist_Tab[[#Headers],[15AM T]],Medel_T[#Headers],0))))","v":0},{"$f":"IF(Hist_Tab[[#This Row],[Rad]:[Rad]]=0,0,IF($EY79>_xlfn.AGGREGATE(2,6,Medel_T[[Slut]:[Slut]]),0,INDEX(Medel_T[],Hist_Tab[[#This Row],[Ref]:[Ref]],MATCH(Hist_Tab[[#Headers],[20-10D T]],Medel_T[#Headers],0))))","v":0}]
[null,null,null,null,null,null,null,null,null,null,null,null,null,null,null,null,null,null,null,null,null,null,null,null,null,null,null,null,null,null,null,null,null,null,null,null,null,null,null,null,null,null,null,null,null,null,null,null,null,null,null,null,null,null,null,null,null,null,null,null,null,null,null,null,null,null,null,null,null,null,null,null,null,null,null,null,null,null,null,null,null,null,null,null,null,null,null,null,null,null,null,null,null,null,null,null,null,null,null,null,null,null,null,null,null,null,null,null,null,null,null,null,null,null,null,null,null,null,null,null,null,null,null,null,null,null,null,null,null,null,null,null,null,null,null,null,null,null,null,null,null,null,null,null,null,null,null,null,null,null,null,null,{"$f":"ROWS($EW$20:EW79)","v":60},{"$f":"IFERROR(MATCH(Hist_Tab[[#This Row],[Ref]],Medel_T[NrX],0),1)","v":1},{"$f":"INT((ROW(Hist_Tab[[#This Row],[Ref]])-ROW(Hist_Tab[[#Headers],[Ref]])-1)/4)+1","v":16},{"$f":"COUNTIF($EY$19:EY79,Hist_Tab[[#This Row],[Ref]])","v":1},{"$f":"IFERROR(INDEX(Medel_T[Start],Hist_Tab[[#This Row],[Ref]]),_xlfn.AGGREGATE(4,6,Medel_T[Start]))","v":"00:00:00"},{"$f":"IFERROR(INDEX(Medel_T[Slut],Hist_Tab[[#This Row],[Ref]]),_xlfn.AGGREGATE(4,6,Medel_T[Slut]))","v":"00:00:00"},{"$f":"IF(EW78=0,Hist_Tab[[#This Row],[ÅrB]],IF(Hist_Tab[[#This Row],[per/p]]<2,Hist_Tab[[#This Row],[ÅrB]],Hist_Tab[[#This Row],[År S]]))","v":"00:00:00"},{"$f":"IF(Hist_Tab[[#This Row],[Rad]:[Rad]]=0,-1,IF($EY80>_xlfn.AGGREGATE(2,6,Medel_T[[Slut]:[Slut]]),0,INDEX(Medel_T[],Hist_Tab[[#This Row],[Ref]:[Ref]],MATCH(Hist_Tab[[#Headers],[HöA T]],Medel_T[#Headers],0))))","v":0},{"$f":"IF(Hist_Tab[[#This Row],[Rad]:[Rad]]=0,0,IF($EY80>_xlfn.AGGREGATE(2,6,Medel_T[[Slut]:[Slut]]),0,INDEX(Medel_T[],Hist_Tab[[#This Row],[Ref]:[Ref]],MATCH(Hist_Tab[[#Headers],[AöA T]],Medel_T[#Headers],0))))","v":0},{"$f":"IF(Hist_Tab[[#This Row],[Rad]:[Rad]]=0,0,IF($EY80>_xlfn.AGGREGATE(2,6,Medel_T[[Slut]:[Slut]]),0,INDEX(Medel_T[],Hist_Tab[[#This Row],[Ref]:[Ref]],MATCH(Hist_Tab[[#Headers],[4AM T]],Medel_T[#Headers],0))))","v":0},{"$f":"IF(Hist_Tab[[#This Row],[Rad]:[Rad]]=0,0,IF($EY80>_xlfn.AGGREGATE(2,6,Medel_T[[Slut]:[Slut]]),0,INDEX(Medel_T[],Hist_Tab[[#This Row],[Ref]:[Ref]],MATCH(Hist_Tab[[#Headers],[15AM T]],Medel_T[#Headers],0))))","v":0},{"$f":"IF(Hist_Tab[[#This Row],[Rad]:[Rad]]=0,0,IF($EY80>_xlfn.AGGREGATE(2,6,Medel_T[[Slut]:[Slut]]),0,INDEX(Medel_T[],Hist_Tab[[#This Row],[Ref]:[Ref]],MATCH(Hist_Tab[[#Headers],[20-10D T]],Medel_T[#Headers],0))))","v":0}]
[null,null,null,null,null,null,null,null,null,null,null,null,null,null,null,null,null,null,null,null,null,null,null,null,null,null,null,null,null,null,null,null,null,null,null,null,null,null,null,null,null,null,null,null,null,null,null,null,null,null,null,null,null,null,null,null,null,null,null,null,null,null,null,null,null,null,null,null,null,null,null,null,null,null,null,null,null,null,null,null,null,null,null,null,null,null,null,null,null,null,null,null,null,null,null,null,null,null,null,null,null,null,null,null,null,null,null,null,null,null,null,null,null,null,null,null,null,null,null,null,null,null,null,null,null,null,null,null,null,null,null,null,null,null,null,null,null,null,null,null,null,null,null,null,null,null,null,null,null,null,null,null,{"$f":"ROWS($EW$20:EW80)","v":61},{"$f":"IFERROR(MATCH(Hist_Tab[[#This Row],[Ref]],Medel_T[NrX],0),1)","v":1},{"$f":"INT((ROW(Hist_Tab[[#This Row],[Ref]])-ROW(Hist_Tab[[#Headers],[Ref]])-1)/4)+1","v":16},{"$f":"COUNTIF($EY$19:EY80,Hist_Tab[[#This Row],[Ref]])","v":2},{"$f":"IFERROR(INDEX(Medel_T[Start],Hist_Tab[[#This Row],[Ref]]),_xlfn.AGGREGATE(4,6,Medel_T[Start]))","v":"00:00:00"},{"$f":"IFERROR(INDEX(Medel_T[Slut],Hist_Tab[[#This Row],[Ref]]),_xlfn.AGGREGATE(4,6,Medel_T[Slut]))","v":"00:00:00"},{"$f":"IF(EW79=0,Hist_Tab[[#This Row],[ÅrB]],IF(Hist_Tab[[#This Row],[per/p]]<2,Hist_Tab[[#This Row],[ÅrB]],Hist_Tab[[#This Row],[År S]]))","v":"00:00:00"},{"$f":"IF(Hist_Tab[[#This Row],[Rad]:[Rad]]=0,-1,IF($EY81>_xlfn.AGGREGATE(2,6,Medel_T[[Slut]:[Slut]]),0,INDEX(Medel_T[],Hist_Tab[[#This Row],[Ref]:[Ref]],MATCH(Hist_Tab[[#Headers],[HöA T]],Medel_T[#Headers],0))))","v":0},{"$f":"IF(Hist_Tab[[#This Row],[Rad]:[Rad]]=0,0,IF($EY81>_xlfn.AGGREGATE(2,6,Medel_T[[Slut]:[Slut]]),0,INDEX(Medel_T[],Hist_Tab[[#This Row],[Ref]:[Ref]],MATCH(Hist_Tab[[#Headers],[AöA T]],Medel_T[#Headers],0))))","v":0},{"$f":"IF(Hist_Tab[[#This Row],[Rad]:[Rad]]=0,0,IF($EY81>_xlfn.AGGREGATE(2,6,Medel_T[[Slut]:[Slut]]),0,INDEX(Medel_T[],Hist_Tab[[#This Row],[Ref]:[Ref]],MATCH(Hist_Tab[[#Headers],[4AM T]],Medel_T[#Headers],0))))","v":0},{"$f":"IF(Hist_Tab[[#This Row],[Rad]:[Rad]]=0,0,IF($EY81>_xlfn.AGGREGATE(2,6,Medel_T[[Slut]:[Slut]]),0,INDEX(Medel_T[],Hist_Tab[[#This Row],[Ref]:[Ref]],MATCH(Hist_Tab[[#Headers],[15AM T]],Medel_T[#Headers],0))))","v":0},{"$f":"IF(Hist_Tab[[#This Row],[Rad]:[Rad]]=0,0,IF($EY81>_xlfn.AGGREGATE(2,6,Medel_T[[Slut]:[Slut]]),0,INDEX(Medel_T[],Hist_Tab[[#This Row],[Ref]:[Ref]],MATCH(Hist_Tab[[#Headers],[20-10D T]],Medel_T[#Headers],0))))","v":0}]
[null,null,null,null,null,null,null,null,null,null,null,null,null,null,null,null,null,null,null,null,null,null,null,null,null,null,null,null,null,null,null,null,null,null,null,null,null,null,null,null,null,null,null,null,null,null,null,null,null,null,null,null,null,null,null,null,null,null,null,null,null,null,null,null,null,null,null,null,null,null,null,null,null,null,null,null,null,null,null,null,null,null,null,null,null,null,null,null,null,null,null,null,null,null,null,null,null,null,null,null,null,null,null,null,null,null,null,null,null,null,null,null,null,null,null,null,null,null,null,null,null,null,null,null,null,null,null,null,null,null,null,null,null,null,null,null,null,null,null,null,null,null,null,null,null,null,null,null,null,null,null,null,{"$f":"ROWS($EW$20:EW81)","v":62},{"$f":"IFERROR(MATCH(Hist_Tab[[#This Row],[Ref]],Medel_T[NrX],0),1)","v":1},{"$f":"INT((ROW(Hist_Tab[[#This Row],[Ref]])-ROW(Hist_Tab[[#Headers],[Ref]])-1)/4)+1","v":16},{"$f":"COUNTIF($EY$19:EY81,Hist_Tab[[#This Row],[Ref]])","v":3},{"$f":"IFERROR(INDEX(Medel_T[Start],Hist_Tab[[#This Row],[Ref]]),_xlfn.AGGREGATE(4,6,Medel_T[Start]))","v":"00:00:00"},{"$f":"IFERROR(INDEX(Medel_T[Slut],Hist_Tab[[#This Row],[Ref]]),_xlfn.AGGREGATE(4,6,Medel_T[Slut]))","v":"00:00:00"},{"$f":"IF(EW80=0,Hist_Tab[[#This Row],[ÅrB]],IF(Hist_Tab[[#This Row],[per/p]]<2,Hist_Tab[[#This Row],[ÅrB]],Hist_Tab[[#This Row],[År S]]))","v":"00:00:00"},{"$f":"IF(Hist_Tab[[#This Row],[Rad]:[Rad]]=0,-1,IF($EY82>_xlfn.AGGREGATE(2,6,Medel_T[[Slut]:[Slut]]),0,INDEX(Medel_T[],Hist_Tab[[#This Row],[Ref]:[Ref]],MATCH(Hist_Tab[[#Headers],[HöA T]],Medel_T[#Headers],0))))","v":0},{"$f":"IF(Hist_Tab[[#This Row],[Rad]:[Rad]]=0,0,IF($EY82>_xlfn.AGGREGATE(2,6,Medel_T[[Slut]:[Slut]]),0,INDEX(Medel_T[],Hist_Tab[[#This Row],[Ref]:[Ref]],MATCH(Hist_Tab[[#Headers],[AöA T]],Medel_T[#Headers],0))))","v":0},{"$f":"IF(Hist_Tab[[#This Row],[Rad]:[Rad]]=0,0,IF($EY82>_xlfn.AGGREGATE(2,6,Medel_T[[Slut]:[Slut]]),0,INDEX(Medel_T[],Hist_Tab[[#This Row],[Ref]:[Ref]],MATCH(Hist_Tab[[#Headers],[4AM T]],Medel_T[#Headers],0))))","v":0},{"$f":"IF(Hist_Tab[[#This Row],[Rad]:[Rad]]=0,0,IF($EY82>_xlfn.AGGREGATE(2,6,Medel_T[[Slut]:[Slut]]),0,INDEX(Medel_T[],Hist_Tab[[#This Row],[Ref]:[Ref]],MATCH(Hist_Tab[[#Headers],[15AM T]],Medel_T[#Headers],0))))","v":0},{"$f":"IF(Hist_Tab[[#This Row],[Rad]:[Rad]]=0,0,IF($EY82>_xlfn.AGGREGATE(2,6,Medel_T[[Slut]:[Slut]]),0,INDEX(Medel_T[],Hist_Tab[[#This Row],[Ref]:[Ref]],MATCH(Hist_Tab[[#Headers],[20-10D T]],Medel_T[#Headers],0))))","v":0}]
[null,null,null,null,null,null,null,null,null,null,null,null,null,null,null,null,null,null,null,null,null,null,null,null,null,null,null,null,null,null,null,null,null,null,null,null,null,null,null,null,null,null,null,null,null,null,null,null,null,null,null,null,null,null,null,null,null,null,null,null,null,null,null,null,null,null,null,null,null,null,null,null,null,null,null,null,null,null,null,null,null,null,null,null,null,null,null,null,null,null,null,null,null,null,null,null,null,null,null,null,null,null,null,null,null,null,null,null,null,null,null,null,null,null,null,null,null,null,null,null,null,null,null,null,null,null,null,null,null,null,null,null,null,null,null,null,null,null,null,null,null,null,null,null,null,null,null,null,null,null,null,null,{"$f":"ROWS($EW$20:EW82)","v":63},{"$f":"IFERROR(MATCH(Hist_Tab[[#This Row],[Ref]],Medel_T[NrX],0),1)","v":1},{"$f":"INT((ROW(Hist_Tab[[#This Row],[Ref]])-ROW(Hist_Tab[[#Headers],[Ref]])-1)/4)+1","v":16},{"$f":"COUNTIF($EY$19:EY82,Hist_Tab[[#This Row],[Ref]])","v":4},{"$f":"IFERROR(INDEX(Medel_T[Start],Hist_Tab[[#This Row],[Ref]]),_xlfn.AGGREGATE(4,6,Medel_T[Start]))","v":"00:00:00"},{"$f":"IFERROR(INDEX(Medel_T[Slut],Hist_Tab[[#This Row],[Ref]]),_xlfn.AGGREGATE(4,6,Medel_T[Slut]))","v":"00:00:00"},{"$f":"IF(EW81=0,Hist_Tab[[#This Row],[ÅrB]],IF(Hist_Tab[[#This Row],[per/p]]<2,Hist_Tab[[#This Row],[ÅrB]],Hist_Tab[[#This Row],[År S]]))","v":"00:00:00"},{"$f":"IF(Hist_Tab[[#This Row],[Rad]:[Rad]]=0,-1,IF($EY83>_xlfn.AGGREGATE(2,6,Medel_T[[Slut]:[Slut]]),0,INDEX(Medel_T[],Hist_Tab[[#This Row],[Ref]:[Ref]],MATCH(Hist_Tab[[#Headers],[HöA T]],Medel_T[#Headers],0))))","v":0},{"$f":"IF(Hist_Tab[[#This Row],[Rad]:[Rad]]=0,0,IF($EY83>_xlfn.AGGREGATE(2,6,Medel_T[[Slut]:[Slut]]),0,INDEX(Medel_T[],Hist_Tab[[#This Row],[Ref]:[Ref]],MATCH(Hist_Tab[[#Headers],[AöA T]],Medel_T[#Headers],0))))","v":0},{"$f":"IF(Hist_Tab[[#This Row],[Rad]:[Rad]]=0,0,IF($EY83>_xlfn.AGGREGATE(2,6,Medel_T[[Slut]:[Slut]]),0,INDEX(Medel_T[],Hist_Tab[[#This Row],[Ref]:[Ref]],MATCH(Hist_Tab[[#Headers],[4AM T]],Medel_T[#Headers],0))))","v":0},{"$f":"IF(Hist_Tab[[#This Row],[Rad]:[Rad]]=0,0,IF($EY83>_xlfn.AGGREGATE(2,6,Medel_T[[Slut]:[Slut]]),0,INDEX(Medel_T[],Hist_Tab[[#This Row],[Ref]:[Ref]],MATCH(Hist_Tab[[#Headers],[15AM T]],Medel_T[#Headers],0))))","v":0},{"$f":"IF(Hist_Tab[[#This Row],[Rad]:[Rad]]=0,0,IF($EY83>_xlfn.AGGREGATE(2,6,Medel_T[[Slut]:[Slut]]),0,INDEX(Medel_T[],Hist_Tab[[#This Row],[Ref]:[Ref]],MATCH(Hist_Tab[[#Headers],[20-10D T]],Medel_T[#Headers],0))))","v":0}]
[null,null,null,null,null,null,null,null,null,null,null,null,null,null,null,null,null,null,null,null,null,null,null,null,null,null,null,null,null,null,null,null,null,null,null,null,null,null,null,null,null,null,null,null,null,null,null,null,null,null,null,null,null,null,null,null,null,null,null,null,null,null,null,null,null,null,null,null,null,null,null,null,null,null,null,null,null,null,null,null,null,null,null,null,null,null,null,null,null,null,null,null,null,null,null,null,null,null,null,null,null,null,null,null,null,null,null,null,null,null,null,null,null,null,null,null,null,null,null,null,null,null,null,null,null,null,null,null,null,null,null,null,null,null,null,null,null,null,null,null,null,null,null,null,null,null,null,null,null,null,null,null,{"$f":"ROWS($EW$20:EW83)","v":64},{"$f":"IFERROR(MATCH(Hist_Tab[[#This Row],[Ref]],Medel_T[NrX],0),1)","v":1},{"$f":"INT((ROW(Hist_Tab[[#This Row],[Ref]])-ROW(Hist_Tab[[#Headers],[Ref]])-1)/4)+1","v":17},{"$f":"COUNTIF($EY$19:EY83,Hist_Tab[[#This Row],[Ref]])","v":1},{"$f":"IFERROR(INDEX(Medel_T[Start],Hist_Tab[[#This Row],[Ref]]),_xlfn.AGGREGATE(4,6,Medel_T[Start]))","v":"00:00:00"},{"$f":"IFERROR(INDEX(Medel_T[Slut],Hist_Tab[[#This Row],[Ref]]),_xlfn.AGGREGATE(4,6,Medel_T[Slut]))","v":"00:00:00"},{"$f":"IF(EW82=0,Hist_Tab[[#This Row],[ÅrB]],IF(Hist_Tab[[#This Row],[per/p]]<2,Hist_Tab[[#This Row],[ÅrB]],Hist_Tab[[#This Row],[År S]]))","v":"00:00:00"},{"$f":"IF(Hist_Tab[[#This Row],[Rad]:[Rad]]=0,-1,IF($EY84>_xlfn.AGGREGATE(2,6,Medel_T[[Slut]:[Slut]]),0,INDEX(Medel_T[],Hist_Tab[[#This Row],[Ref]:[Ref]],MATCH(Hist_Tab[[#Headers],[HöA T]],Medel_T[#Headers],0))))","v":0},{"$f":"IF(Hist_Tab[[#This Row],[Rad]:[Rad]]=0,0,IF($EY84>_xlfn.AGGREGATE(2,6,Medel_T[[Slut]:[Slut]]),0,INDEX(Medel_T[],Hist_Tab[[#This Row],[Ref]:[Ref]],MATCH(Hist_Tab[[#Headers],[AöA T]],Medel_T[#Headers],0))))","v":0},{"$f":"IF(Hist_Tab[[#This Row],[Rad]:[Rad]]=0,0,IF($EY84>_xlfn.AGGREGATE(2,6,Medel_T[[Slut]:[Slut]]),0,INDEX(Medel_T[],Hist_Tab[[#This Row],[Ref]:[Ref]],MATCH(Hist_Tab[[#Headers],[4AM T]],Medel_T[#Headers],0))))","v":0},{"$f":"IF(Hist_Tab[[#This Row],[Rad]:[Rad]]=0,0,IF($EY84>_xlfn.AGGREGATE(2,6,Medel_T[[Slut]:[Slut]]),0,INDEX(Medel_T[],Hist_Tab[[#This Row],[Ref]:[Ref]],MATCH(Hist_Tab[[#Headers],[15AM T]],Medel_T[#Headers],0))))","v":0},{"$f":"IF(Hist_Tab[[#This Row],[Rad]:[Rad]]=0,0,IF($EY84>_xlfn.AGGREGATE(2,6,Medel_T[[Slut]:[Slut]]),0,INDEX(Medel_T[],Hist_Tab[[#This Row],[Ref]:[Ref]],MATCH(Hist_Tab[[#Headers],[20-10D T]],Medel_T[#Headers],0))))","v":0}]
[null,null,null,null,null,null,null,null,null,null,null,null,null,null,null,null,null,null,null,null,null,null,null,null,null,null,null,null,null,null,null,null,null,null,null,null,null,null,null,null,null,null,null,null,null,null,null,null,null,null,null,null,null,null,null,null,null,null,null,null,null,null,null,null,null,null,null,null,null,null,null,null,null,null,null,null,null,null,null,null,null,null,null,null,null,null,null,null,null,null,null,null,null,null,null,null,null,null,null,null,null,null,null,null,null,null,null,null,null,null,null,null,null,null,null,null,null,null,null,null,null,null,null,null,null,null,null,null,null,null,null,null,null,null,null,null,null,null,null,null,null,null,null,null,null,null,null,null,null,null,null,null,{"$f":"ROWS($EW$20:EW84)","v":65},{"$f":"IFERROR(MATCH(Hist_Tab[[#This Row],[Ref]],Medel_T[NrX],0),1)","v":1},{"$f":"INT((ROW(Hist_Tab[[#This Row],[Ref]])-ROW(Hist_Tab[[#Headers],[Ref]])-1)/4)+1","v":17},{"$f":"COUNTIF($EY$19:EY84,Hist_Tab[[#This Row],[Ref]])","v":2},{"$f":"IFERROR(INDEX(Medel_T[Start],Hist_Tab[[#This Row],[Ref]]),_xlfn.AGGREGATE(4,6,Medel_T[Start]))","v":"00:00:00"},{"$f":"IFERROR(INDEX(Medel_T[Slut],Hist_Tab[[#This Row],[Ref]]),_xlfn.AGGREGATE(4,6,Medel_T[Slut]))","v":"00:00:00"},{"$f":"IF(EW83=0,Hist_Tab[[#This Row],[ÅrB]],IF(Hist_Tab[[#This Row],[per/p]]<2,Hist_Tab[[#This Row],[ÅrB]],Hist_Tab[[#This Row],[År S]]))","v":"00:00:00"},{"$f":"IF(Hist_Tab[[#This Row],[Rad]:[Rad]]=0,-1,IF($EY85>_xlfn.AGGREGATE(2,6,Medel_T[[Slut]:[Slut]]),0,INDEX(Medel_T[],Hist_Tab[[#This Row],[Ref]:[Ref]],MATCH(Hist_Tab[[#Headers],[HöA T]],Medel_T[#Headers],0))))","v":0},{"$f":"IF(Hist_Tab[[#This Row],[Rad]:[Rad]]=0,0,IF($EY85>_xlfn.AGGREGATE(2,6,Medel_T[[Slut]:[Slut]]),0,INDEX(Medel_T[],Hist_Tab[[#This Row],[Ref]:[Ref]],MATCH(Hist_Tab[[#Headers],[AöA T]],Medel_T[#Headers],0))))","v":0},{"$f":"IF(Hist_Tab[[#This Row],[Rad]:[Rad]]=0,0,IF($EY85>_xlfn.AGGREGATE(2,6,Medel_T[[Slut]:[Slut]]),0,INDEX(Medel_T[],Hist_Tab[[#This Row],[Ref]:[Ref]],MATCH(Hist_Tab[[#Headers],[4AM T]],Medel_T[#Headers],0))))","v":0},{"$f":"IF(Hist_Tab[[#This Row],[Rad]:[Rad]]=0,0,IF($EY85>_xlfn.AGGREGATE(2,6,Medel_T[[Slut]:[Slut]]),0,INDEX(Medel_T[],Hist_Tab[[#This Row],[Ref]:[Ref]],MATCH(Hist_Tab[[#Headers],[15AM T]],Medel_T[#Headers],0))))","v":0},{"$f":"IF(Hist_Tab[[#This Row],[Rad]:[Rad]]=0,0,IF($EY85>_xlfn.AGGREGATE(2,6,Medel_T[[Slut]:[Slut]]),0,INDEX(Medel_T[],Hist_Tab[[#This Row],[Ref]:[Ref]],MATCH(Hist_Tab[[#Headers],[20-10D T]],Medel_T[#Headers],0))))","v":0}]
[null,null,null,null,null,null,null,null,null,null,null,null,null,null,null,null,null,null,null,null,null,null,null,null,null,null,null,null,null,null,null,null,null,null,null,null,null,null,null,null,null,null,null,null,null,null,null,null,null,null,null,null,null,null,null,null,null,null,null,null,null,null,null,null,null,null,null,null,null,null,null,null,null,null,null,null,null,null,null,null,null,null,null,null,null,null,null,null,null,null,null,null,null,null,null,null,null,null,null,null,null,null,null,null,null,null,null,null,null,null,null,null,null,null,null,null,null,null,null,null,null,null,null,null,null,null,null,null,null,null,null,null,null,null,null,null,null,null,null,null,null,null,null,null,null,null,null,null,null,null,null,null,{"$f":"ROWS($EW$20:EW85)","v":66},{"$f":"IFERROR(MATCH(Hist_Tab[[#This Row],[Ref]],Medel_T[NrX],0),1)","v":1},{"$f":"INT((ROW(Hist_Tab[[#This Row],[Ref]])-ROW(Hist_Tab[[#Headers],[Ref]])-1)/4)+1","v":17},{"$f":"COUNTIF($EY$19:EY85,Hist_Tab[[#This Row],[Ref]])","v":3},{"$f":"IFERROR(INDEX(Medel_T[Start],Hist_Tab[[#This Row],[Ref]]),_xlfn.AGGREGATE(4,6,Medel_T[Start]))","v":"00:00:00"},{"$f":"IFERROR(INDEX(Medel_T[Slut],Hist_Tab[[#This Row],[Ref]]),_xlfn.AGGREGATE(4,6,Medel_T[Slut]))","v":"00:00:00"},{"$f":"IF(EW84=0,Hist_Tab[[#This Row],[ÅrB]],IF(Hist_Tab[[#This Row],[per/p]]<2,Hist_Tab[[#This Row],[ÅrB]],Hist_Tab[[#This Row],[År S]]))","v":"00:00:00"},{"$f":"IF(Hist_Tab[[#This Row],[Rad]:[Rad]]=0,-1,IF($EY86>_xlfn.AGGREGATE(2,6,Medel_T[[Slut]:[Slut]]),0,INDEX(Medel_T[],Hist_Tab[[#This Row],[Ref]:[Ref]],MATCH(Hist_Tab[[#Headers],[HöA T]],Medel_T[#Headers],0))))","v":0},{"$f":"IF(Hist_Tab[[#This Row],[Rad]:[Rad]]=0,0,IF($EY86>_xlfn.AGGREGATE(2,6,Medel_T[[Slut]:[Slut]]),0,INDEX(Medel_T[],Hist_Tab[[#This Row],[Ref]:[Ref]],MATCH(Hist_Tab[[#Headers],[AöA T]],Medel_T[#Headers],0))))","v":0},{"$f":"IF(Hist_Tab[[#This Row],[Rad]:[Rad]]=0,0,IF($EY86>_xlfn.AGGREGATE(2,6,Medel_T[[Slut]:[Slut]]),0,INDEX(Medel_T[],Hist_Tab[[#This Row],[Ref]:[Ref]],MATCH(Hist_Tab[[#Headers],[4AM T]],Medel_T[#Headers],0))))","v":0},{"$f":"IF(Hist_Tab[[#This Row],[Rad]:[Rad]]=0,0,IF($EY86>_xlfn.AGGREGATE(2,6,Medel_T[[Slut]:[Slut]]),0,INDEX(Medel_T[],Hist_Tab[[#This Row],[Ref]:[Ref]],MATCH(Hist_Tab[[#Headers],[15AM T]],Medel_T[#Headers],0))))","v":0},{"$f":"IF(Hist_Tab[[#This Row],[Rad]:[Rad]]=0,0,IF($EY86>_xlfn.AGGREGATE(2,6,Medel_T[[Slut]:[Slut]]),0,INDEX(Medel_T[],Hist_Tab[[#This Row],[Ref]:[Ref]],MATCH(Hist_Tab[[#Headers],[20-10D T]],Medel_T[#Headers],0))))","v":0}]
[null,null,null,null,null,null,null,null,null,null,null,null,null,null,null,null,null,null,null,null,null,null,null,null,null,null,null,null,null,null,null,null,null,null,null,null,null,null,null,null,null,null,null,null,null,null,null,null,null,null,null,null,null,null,null,null,null,null,null,null,null,null,null,null,null,null,null,null,null,null,null,null,null,null,null,null,null,null,null,null,null,null,null,null,null,null,null,null,null,null,null,null,null,null,null,null,null,null,null,null,null,null,null,null,null,null,null,null,null,null,null,null,null,null,null,null,null,null,null,null,null,null,null,null,null,null,null,null,null,null,null,null,null,null,null,null,null,null,null,null,null,null,null,null,null,null,null,null,null,null,null,null,{"$f":"ROWS($EW$20:EW86)","v":67},{"$f":"IFERROR(MATCH(Hist_Tab[[#This Row],[Ref]],Medel_T[NrX],0),1)","v":1},{"$f":"INT((ROW(Hist_Tab[[#This Row],[Ref]])-ROW(Hist_Tab[[#Headers],[Ref]])-1)/4)+1","v":17},{"$f":"COUNTIF($EY$19:EY86,Hist_Tab[[#This Row],[Ref]])","v":4},{"$f":"IFERROR(INDEX(Medel_T[Start],Hist_Tab[[#This Row],[Ref]]),_xlfn.AGGREGATE(4,6,Medel_T[Start]))","v":"00:00:00"},{"$f":"IFERROR(INDEX(Medel_T[Slut],Hist_Tab[[#This Row],[Ref]]),_xlfn.AGGREGATE(4,6,Medel_T[Slut]))","v":"00:00:00"},{"$f":"IF(EW85=0,Hist_Tab[[#This Row],[ÅrB]],IF(Hist_Tab[[#This Row],[per/p]]<2,Hist_Tab[[#This Row],[ÅrB]],Hist_Tab[[#This Row],[År S]]))","v":"00:00:00"},{"$f":"IF(Hist_Tab[[#This Row],[Rad]:[Rad]]=0,-1,IF($EY87>_xlfn.AGGREGATE(2,6,Medel_T[[Slut]:[Slut]]),0,INDEX(Medel_T[],Hist_Tab[[#This Row],[Ref]:[Ref]],MATCH(Hist_Tab[[#Headers],[HöA T]],Medel_T[#Headers],0))))","v":0},{"$f":"IF(Hist_Tab[[#This Row],[Rad]:[Rad]]=0,0,IF($EY87>_xlfn.AGGREGATE(2,6,Medel_T[[Slut]:[Slut]]),0,INDEX(Medel_T[],Hist_Tab[[#This Row],[Ref]:[Ref]],MATCH(Hist_Tab[[#Headers],[AöA T]],Medel_T[#Headers],0))))","v":0},{"$f":"IF(Hist_Tab[[#This Row],[Rad]:[Rad]]=0,0,IF($EY87>_xlfn.AGGREGATE(2,6,Medel_T[[Slut]:[Slut]]),0,INDEX(Medel_T[],Hist_Tab[[#This Row],[Ref]:[Ref]],MATCH(Hist_Tab[[#Headers],[4AM T]],Medel_T[#Headers],0))))","v":0},{"$f":"IF(Hist_Tab[[#This Row],[Rad]:[Rad]]=0,0,IF($EY87>_xlfn.AGGREGATE(2,6,Medel_T[[Slut]:[Slut]]),0,INDEX(Medel_T[],Hist_Tab[[#This Row],[Ref]:[Ref]],MATCH(Hist_Tab[[#Headers],[15AM T]],Medel_T[#Headers],0))))","v":0},{"$f":"IF(Hist_Tab[[#This Row],[Rad]:[Rad]]=0,0,IF($EY87>_xlfn.AGGREGATE(2,6,Medel_T[[Slut]:[Slut]]),0,INDEX(Medel_T[],Hist_Tab[[#This Row],[Ref]:[Ref]],MATCH(Hist_Tab[[#Headers],[20-10D T]],Medel_T[#Headers],0))))","v":0}]
[null,null,null,null,null,null,null,null,null,null,null,null,null,null,null,null,null,null,null,null,null,null,null,null,null,null,null,null,null,null,null,null,null,null,null,null,null,null,null,null,null,null,null,null,null,null,null,null,null,null,null,null,null,null,null,null,null,null,null,null,null,null,null,null,null,null,null,null,null,null,null,null,null,null,null,null,null,null,null,null,null,null,null,null,null,null,null,null,null,null,null,null,null,null,null,null,null,null,null,null,null,null,null,null,null,null,null,null,null,null,null,null,null,null,null,null,null,null,null,null,null,null,null,null,null,null,null,null,null,null,null,null,null,null,null,null,null,null,null,null,null,null,null,null,null,null,null,null,null,null,null,null,{"$f":"ROWS($EW$20:EW87)","v":68},{"$f":"IFERROR(MATCH(Hist_Tab[[#This Row],[Ref]],Medel_T[NrX],0),1)","v":1},{"$f":"INT((ROW(Hist_Tab[[#This Row],[Ref]])-ROW(Hist_Tab[[#Headers],[Ref]])-1)/4)+1","v":18},{"$f":"COUNTIF($EY$19:EY87,Hist_Tab[[#This Row],[Ref]])","v":1},{"$f":"IFERROR(INDEX(Medel_T[Start],Hist_Tab[[#This Row],[Ref]]),_xlfn.AGGREGATE(4,6,Medel_T[Start]))","v":"00:00:00"},{"$f":"IFERROR(INDEX(Medel_T[Slut],Hist_Tab[[#This Row],[Ref]]),_xlfn.AGGREGATE(4,6,Medel_T[Slut]))","v":"00:00:00"},{"$f":"IF(EW86=0,Hist_Tab[[#This Row],[ÅrB]],IF(Hist_Tab[[#This Row],[per/p]]<2,Hist_Tab[[#This Row],[ÅrB]],Hist_Tab[[#This Row],[År S]]))","v":"00:00:00"},{"$f":"IF(Hist_Tab[[#This Row],[Rad]:[Rad]]=0,-1,IF($EY88>_xlfn.AGGREGATE(2,6,Medel_T[[Slut]:[Slut]]),0,INDEX(Medel_T[],Hist_Tab[[#This Row],[Ref]:[Ref]],MATCH(Hist_Tab[[#Headers],[HöA T]],Medel_T[#Headers],0))))","v":0},{"$f":"IF(Hist_Tab[[#This Row],[Rad]:[Rad]]=0,0,IF($EY88>_xlfn.AGGREGATE(2,6,Medel_T[[Slut]:[Slut]]),0,INDEX(Medel_T[],Hist_Tab[[#This Row],[Ref]:[Ref]],MATCH(Hist_Tab[[#Headers],[AöA T]],Medel_T[#Headers],0))))","v":0},{"$f":"IF(Hist_Tab[[#This Row],[Rad]:[Rad]]=0,0,IF($EY88>_xlfn.AGGREGATE(2,6,Medel_T[[Slut]:[Slut]]),0,INDEX(Medel_T[],Hist_Tab[[#This Row],[Ref]:[Ref]],MATCH(Hist_Tab[[#Headers],[4AM T]],Medel_T[#Headers],0))))","v":0},{"$f":"IF(Hist_Tab[[#This Row],[Rad]:[Rad]]=0,0,IF($EY88>_xlfn.AGGREGATE(2,6,Medel_T[[Slut]:[Slut]]),0,INDEX(Medel_T[],Hist_Tab[[#This Row],[Ref]:[Ref]],MATCH(Hist_Tab[[#Headers],[15AM T]],Medel_T[#Headers],0))))","v":0},{"$f":"IF(Hist_Tab[[#This Row],[Rad]:[Rad]]=0,0,IF($EY88>_xlfn.AGGREGATE(2,6,Medel_T[[Slut]:[Slut]]),0,INDEX(Medel_T[],Hist_Tab[[#This Row],[Ref]:[Ref]],MATCH(Hist_Tab[[#Headers],[20-10D T]],Medel_T[#Headers],0))))","v":0}]
[null,null,null,null,null,null,null,null,null,null,null,null,null,null,null,null,null,null,null,null,null,null,null,null,null,null,null,null,null,null,null,null,null,null,null,null,null,null,null,null,null,null,null,null,null,null,null,null,null,null,null,null,null,null,null,null,null,null,null,null,null,null,null,null,null,null,null,null,null,null,null,null,null,null,null,null,null,null,null,null,null,null,null,null,null,null,null,null,null,null,null,null,null,null,null,null,null,null,null,null,null,null,null,null,null,null,null,null,null,null,null,null,null,null,null,null,null,null,null,null,null,null,null,null,null,null,null,null,null,null,null,null,null,null,null,null,null,null,null,null,null,null,null,null,null,null,null,null,null,null,null,null,{"$f":"ROWS($EW$20:EW88)","v":69},{"$f":"IFERROR(MATCH(Hist_Tab[[#This Row],[Ref]],Medel_T[NrX],0),1)","v":1},{"$f":"INT((ROW(Hist_Tab[[#This Row],[Ref]])-ROW(Hist_Tab[[#Headers],[Ref]])-1)/4)+1","v":18},{"$f":"COUNTIF($EY$19:EY88,Hist_Tab[[#This Row],[Ref]])","v":2},{"$f":"IFERROR(INDEX(Medel_T[Start],Hist_Tab[[#This Row],[Ref]]),_xlfn.AGGREGATE(4,6,Medel_T[Start]))","v":"00:00:00"},{"$f":"IFERROR(INDEX(Medel_T[Slut],Hist_Tab[[#This Row],[Ref]]),_xlfn.AGGREGATE(4,6,Medel_T[Slut]))","v":"00:00:00"},{"$f":"IF(EW87=0,Hist_Tab[[#This Row],[ÅrB]],IF(Hist_Tab[[#This Row],[per/p]]<2,Hist_Tab[[#This Row],[ÅrB]],Hist_Tab[[#This Row],[År S]]))","v":"00:00:00"},{"$f":"IF(Hist_Tab[[#This Row],[Rad]:[Rad]]=0,-1,IF($EY89>_xlfn.AGGREGATE(2,6,Medel_T[[Slut]:[Slut]]),0,INDEX(Medel_T[],Hist_Tab[[#This Row],[Ref]:[Ref]],MATCH(Hist_Tab[[#Headers],[HöA T]],Medel_T[#Headers],0))))","v":0},{"$f":"IF(Hist_Tab[[#This Row],[Rad]:[Rad]]=0,0,IF($EY89>_xlfn.AGGREGATE(2,6,Medel_T[[Slut]:[Slut]]),0,INDEX(Medel_T[],Hist_Tab[[#This Row],[Ref]:[Ref]],MATCH(Hist_Tab[[#Headers],[AöA T]],Medel_T[#Headers],0))))","v":0},{"$f":"IF(Hist_Tab[[#This Row],[Rad]:[Rad]]=0,0,IF($EY89>_xlfn.AGGREGATE(2,6,Medel_T[[Slut]:[Slut]]),0,INDEX(Medel_T[],Hist_Tab[[#This Row],[Ref]:[Ref]],MATCH(Hist_Tab[[#Headers],[4AM T]],Medel_T[#Headers],0))))","v":0},{"$f":"IF(Hist_Tab[[#This Row],[Rad]:[Rad]]=0,0,IF($EY89>_xlfn.AGGREGATE(2,6,Medel_T[[Slut]:[Slut]]),0,INDEX(Medel_T[],Hist_Tab[[#This Row],[Ref]:[Ref]],MATCH(Hist_Tab[[#Headers],[15AM T]],Medel_T[#Headers],0))))","v":0},{"$f":"IF(Hist_Tab[[#This Row],[Rad]:[Rad]]=0,0,IF($EY89>_xlfn.AGGREGATE(2,6,Medel_T[[Slut]:[Slut]]),0,INDEX(Medel_T[],Hist_Tab[[#This Row],[Ref]:[Ref]],MATCH(Hist_Tab[[#Headers],[20-10D T]],Medel_T[#Headers],0))))","v":0}]
[null,null,null,null,null,null,null,null,null,null,null,null,null,null,null,null,null,null,null,null,null,null,null,null,null,null,null,null,null,null,null,null,null,null,null,null,null,null,null,null,null,null,null,null,null,null,null,null,null,null,null,null,null,null,null,null,null,null,null,null,null,null,null,null,null,null,null,null,null,null,null,null,null,null,null,null,null,null,null,null,null,null,null,null,null,null,null,null,null,null,null,null,null,null,null,null,null,null,null,null,null,null,null,null,null,null,null,null,null,null,null,null,null,null,null,null,null,null,null,null,null,null,null,null,null,null,null,null,null,null,null,null,null,null,null,null,null,null,null,null,null,null,null,null,null,null,null,null,null,null,null,null,{"$f":"ROWS($EW$20:EW89)","v":70},{"$f":"IFERROR(MATCH(Hist_Tab[[#This Row],[Ref]],Medel_T[NrX],0),1)","v":1},{"$f":"INT((ROW(Hist_Tab[[#This Row],[Ref]])-ROW(Hist_Tab[[#Headers],[Ref]])-1)/4)+1","v":18},{"$f":"COUNTIF($EY$19:EY89,Hist_Tab[[#This Row],[Ref]])","v":3},{"$f":"IFERROR(INDEX(Medel_T[Start],Hist_Tab[[#This Row],[Ref]]),_xlfn.AGGREGATE(4,6,Medel_T[Start]))","v":"00:00:00"},{"$f":"IFERROR(INDEX(Medel_T[Slut],Hist_Tab[[#This Row],[Ref]]),_xlfn.AGGREGATE(4,6,Medel_T[Slut]))","v":"00:00:00"},{"$f":"IF(EW88=0,Hist_Tab[[#This Row],[ÅrB]],IF(Hist_Tab[[#This Row],[per/p]]<2,Hist_Tab[[#This Row],[ÅrB]],Hist_Tab[[#This Row],[År S]]))","v":"00:00:00"},{"$f":"IF(Hist_Tab[[#This Row],[Rad]:[Rad]]=0,-1,IF($EY90>_xlfn.AGGREGATE(2,6,Medel_T[[Slut]:[Slut]]),0,INDEX(Medel_T[],Hist_Tab[[#This Row],[Ref]:[Ref]],MATCH(Hist_Tab[[#Headers],[HöA T]],Medel_T[#Headers],0))))","v":0},{"$f":"IF(Hist_Tab[[#This Row],[Rad]:[Rad]]=0,0,IF($EY90>_xlfn.AGGREGATE(2,6,Medel_T[[Slut]:[Slut]]),0,INDEX(Medel_T[],Hist_Tab[[#This Row],[Ref]:[Ref]],MATCH(Hist_Tab[[#Headers],[AöA T]],Medel_T[#Headers],0))))","v":0},{"$f":"IF(Hist_Tab[[#This Row],[Rad]:[Rad]]=0,0,IF($EY90>_xlfn.AGGREGATE(2,6,Medel_T[[Slut]:[Slut]]),0,INDEX(Medel_T[],Hist_Tab[[#This Row],[Ref]:[Ref]],MATCH(Hist_Tab[[#Headers],[4AM T]],Medel_T[#Headers],0))))","v":0},{"$f":"IF(Hist_Tab[[#This Row],[Rad]:[Rad]]=0,0,IF($EY90>_xlfn.AGGREGATE(2,6,Medel_T[[Slut]:[Slut]]),0,INDEX(Medel_T[],Hist_Tab[[#This Row],[Ref]:[Ref]],MATCH(Hist_Tab[[#Headers],[15AM T]],Medel_T[#Headers],0))))","v":0},{"$f":"IF(Hist_Tab[[#This Row],[Rad]:[Rad]]=0,0,IF($EY90>_xlfn.AGGREGATE(2,6,Medel_T[[Slut]:[Slut]]),0,INDEX(Medel_T[],Hist_Tab[[#This Row],[Ref]:[Ref]],MATCH(Hist_Tab[[#Headers],[20-10D T]],Medel_T[#Headers],0))))","v":0}]
[null,null,null,null,null,null,null,null,null,null,null,null,null,null,null,null,null,null,null,null,null,null,null,null,null,null,null,null,null,null,null,null,null,null,null,null,null,null,null,null,null,null,null,null,null,null,null,null,null,null,null,null,null,null,null,null,null,null,null,null,null,null,null,null,null,null,null,null,null,null,null,null,null,null,null,null,null,null,null,null,null,null,null,null,null,null,null,null,null,null,null,null,null,null,null,null,null,null,null,null,null,null,null,null,null,null,null,null,null,null,null,null,null,null,null,null,null,null,null,null,null,null,null,null,null,null,null,null,null,null,null,null,null,null,null,null,null,null,null,null,null,null,null,null,null,null,null,null,null,null,null,null,{"$f":"ROWS($EW$20:EW90)","v":71},{"$f":"IFERROR(MATCH(Hist_Tab[[#This Row],[Ref]],Medel_T[NrX],0),1)","v":1},{"$f":"INT((ROW(Hist_Tab[[#This Row],[Ref]])-ROW(Hist_Tab[[#Headers],[Ref]])-1)/4)+1","v":18},{"$f":"COUNTIF($EY$19:EY90,Hist_Tab[[#This Row],[Ref]])","v":4},{"$f":"IFERROR(INDEX(Medel_T[Start],Hist_Tab[[#This Row],[Ref]]),_xlfn.AGGREGATE(4,6,Medel_T[Start]))","v":"00:00:00"},{"$f":"IFERROR(INDEX(Medel_T[Slut],Hist_Tab[[#This Row],[Ref]]),_xlfn.AGGREGATE(4,6,Medel_T[Slut]))","v":"00:00:00"},{"$f":"IF(EW89=0,Hist_Tab[[#This Row],[ÅrB]],IF(Hist_Tab[[#This Row],[per/p]]<2,Hist_Tab[[#This Row],[ÅrB]],Hist_Tab[[#This Row],[År S]]))","v":"00:00:00"},{"$f":"IF(Hist_Tab[[#This Row],[Rad]:[Rad]]=0,-1,IF($EY91>_xlfn.AGGREGATE(2,6,Medel_T[[Slut]:[Slut]]),0,INDEX(Medel_T[],Hist_Tab[[#This Row],[Ref]:[Ref]],MATCH(Hist_Tab[[#Headers],[HöA T]],Medel_T[#Headers],0))))","v":0},{"$f":"IF(Hist_Tab[[#This Row],[Rad]:[Rad]]=0,0,IF($EY91>_xlfn.AGGREGATE(2,6,Medel_T[[Slut]:[Slut]]),0,INDEX(Medel_T[],Hist_Tab[[#This Row],[Ref]:[Ref]],MATCH(Hist_Tab[[#Headers],[AöA T]],Medel_T[#Headers],0))))","v":0},{"$f":"IF(Hist_Tab[[#This Row],[Rad]:[Rad]]=0,0,IF($EY91>_xlfn.AGGREGATE(2,6,Medel_T[[Slut]:[Slut]]),0,INDEX(Medel_T[],Hist_Tab[[#This Row],[Ref]:[Ref]],MATCH(Hist_Tab[[#Headers],[4AM T]],Medel_T[#Headers],0))))","v":0},{"$f":"IF(Hist_Tab[[#This Row],[Rad]:[Rad]]=0,0,IF($EY91>_xlfn.AGGREGATE(2,6,Medel_T[[Slut]:[Slut]]),0,INDEX(Medel_T[],Hist_Tab[[#This Row],[Ref]:[Ref]],MATCH(Hist_Tab[[#Headers],[15AM T]],Medel_T[#Headers],0))))","v":0},{"$f":"IF(Hist_Tab[[#This Row],[Rad]:[Rad]]=0,0,IF($EY91>_xlfn.AGGREGATE(2,6,Medel_T[[Slut]:[Slut]]),0,INDEX(Medel_T[],Hist_Tab[[#This Row],[Ref]:[Ref]],MATCH(Hist_Tab[[#Headers],[20-10D T]],Medel_T[#Headers],0))))","v":0}]
[null,null,null,null,null,null,null,null,null,null,null,null,null,null,null,null,null,null,null,null,null,null,null,null,null,null,null,null,null,null,null,null,null,null,null,null,null,null,null,null,null,null,null,null,null,null,null,null,null,null,null,null,null,null,null,null,null,null,null,null,null,null,null,null,null,null,null,null,null,null,null,null,null,null,null,null,null,null,null,null,null,null,null,null,null,null,null,null,null,null,null,null,null,null,null,null,null,null,null,null,null,null,null,null,null,null,null,null,null,null,null,null,null,null,null,null,null,null,null,null,null,null,null,null,null,null,null,null,null,null,null,null,null,null,null,null,null,null,null,null,null,null,null,null,null,null,null,null,null,null,null,null,{"$f":"ROWS($EW$20:EW91)","v":72},{"$f":"IFERROR(MATCH(Hist_Tab[[#This Row],[Ref]],Medel_T[NrX],0),1)","v":1},{"$f":"INT((ROW(Hist_Tab[[#This Row],[Ref]])-ROW(Hist_Tab[[#Headers],[Ref]])-1)/4)+1","v":19},{"$f":"COUNTIF($EY$19:EY91,Hist_Tab[[#This Row],[Ref]])","v":1},{"$f":"IFERROR(INDEX(Medel_T[Start],Hist_Tab[[#This Row],[Ref]]),_xlfn.AGGREGATE(4,6,Medel_T[Start]))","v":"00:00:00"},{"$f":"IFERROR(INDEX(Medel_T[Slut],Hist_Tab[[#This Row],[Ref]]),_xlfn.AGGREGATE(4,6,Medel_T[Slut]))","v":"00:00:00"},{"$f":"IF(EW90=0,Hist_Tab[[#This Row],[ÅrB]],IF(Hist_Tab[[#This Row],[per/p]]<2,Hist_Tab[[#This Row],[ÅrB]],Hist_Tab[[#This Row],[År S]]))","v":"00:00:00"},{"$f":"IF(Hist_Tab[[#This Row],[Rad]:[Rad]]=0,-1,IF($EY92>_xlfn.AGGREGATE(2,6,Medel_T[[Slut]:[Slut]]),0,INDEX(Medel_T[],Hist_Tab[[#This Row],[Ref]:[Ref]],MATCH(Hist_Tab[[#Headers],[HöA T]],Medel_T[#Headers],0))))","v":0},{"$f":"IF(Hist_Tab[[#This Row],[Rad]:[Rad]]=0,0,IF($EY92>_xlfn.AGGREGATE(2,6,Medel_T[[Slut]:[Slut]]),0,INDEX(Medel_T[],Hist_Tab[[#This Row],[Ref]:[Ref]],MATCH(Hist_Tab[[#Headers],[AöA T]],Medel_T[#Headers],0))))","v":0},{"$f":"IF(Hist_Tab[[#This Row],[Rad]:[Rad]]=0,0,IF($EY92>_xlfn.AGGREGATE(2,6,Medel_T[[Slut]:[Slut]]),0,INDEX(Medel_T[],Hist_Tab[[#This Row],[Ref]:[Ref]],MATCH(Hist_Tab[[#Headers],[4AM T]],Medel_T[#Headers],0))))","v":0},{"$f":"IF(Hist_Tab[[#This Row],[Rad]:[Rad]]=0,0,IF($EY92>_xlfn.AGGREGATE(2,6,Medel_T[[Slut]:[Slut]]),0,INDEX(Medel_T[],Hist_Tab[[#This Row],[Ref]:[Ref]],MATCH(Hist_Tab[[#Headers],[15AM T]],Medel_T[#Headers],0))))","v":0},{"$f":"IF(Hist_Tab[[#This Row],[Rad]:[Rad]]=0,0,IF($EY92>_xlfn.AGGREGATE(2,6,Medel_T[[Slut]:[Slut]]),0,INDEX(Medel_T[],Hist_Tab[[#This Row],[Ref]:[Ref]],MATCH(Hist_Tab[[#Headers],[20-10D T]],Medel_T[#Headers],0))))","v":0}]
[null,null,null,null,null,null,null,null,null,null,null,null,null,null,null,null,null,null,null,null,null,null,null,null,null,null,null,null,null,null,null,null,null,null,null,null,null,null,null,null,null,null,null,null,null,null,null,null,null,null,null,null,null,null,null,null,null,null,null,null,null,null,null,null,null,null,null,null,null,null,null,null,null,null,null,null,null,null,null,null,null,null,null,null,null,null,null,null,null,null,null,null,null,null,null,null,null,null,null,null,null,null,null,null,null,null,null,null,null,null,null,null,null,null,null,null,null,null,null,null,null,null,null,null,null,null,null,null,null,null,null,null,null,null,null,null,null,null,null,null,null,null,null,null,null,null,null,null,null,null,null,null,{"$f":"ROWS($EW$20:EW92)","v":73},{"$f":"IFERROR(MATCH(Hist_Tab[[#This Row],[Ref]],Medel_T[NrX],0),1)","v":1},{"$f":"INT((ROW(Hist_Tab[[#This Row],[Ref]])-ROW(Hist_Tab[[#Headers],[Ref]])-1)/4)+1","v":19},{"$f":"COUNTIF($EY$19:EY92,Hist_Tab[[#This Row],[Ref]])","v":2},{"$f":"IFERROR(INDEX(Medel_T[Start],Hist_Tab[[#This Row],[Ref]]),_xlfn.AGGREGATE(4,6,Medel_T[Start]))","v":"00:00:00"},{"$f":"IFERROR(INDEX(Medel_T[Slut],Hist_Tab[[#This Row],[Ref]]),_xlfn.AGGREGATE(4,6,Medel_T[Slut]))","v":"00:00:00"},{"$f":"IF(EW91=0,Hist_Tab[[#This Row],[ÅrB]],IF(Hist_Tab[[#This Row],[per/p]]<2,Hist_Tab[[#This Row],[ÅrB]],Hist_Tab[[#This Row],[År S]]))","v":"00:00:00"},{"$f":"IF(Hist_Tab[[#This Row],[Rad]:[Rad]]=0,-1,IF($EY93>_xlfn.AGGREGATE(2,6,Medel_T[[Slut]:[Slut]]),0,INDEX(Medel_T[],Hist_Tab[[#This Row],[Ref]:[Ref]],MATCH(Hist_Tab[[#Headers],[HöA T]],Medel_T[#Headers],0))))","v":0},{"$f":"IF(Hist_Tab[[#This Row],[Rad]:[Rad]]=0,0,IF($EY93>_xlfn.AGGREGATE(2,6,Medel_T[[Slut]:[Slut]]),0,INDEX(Medel_T[],Hist_Tab[[#This Row],[Ref]:[Ref]],MATCH(Hist_Tab[[#Headers],[AöA T]],Medel_T[#Headers],0))))","v":0},{"$f":"IF(Hist_Tab[[#This Row],[Rad]:[Rad]]=0,0,IF($EY93>_xlfn.AGGREGATE(2,6,Medel_T[[Slut]:[Slut]]),0,INDEX(Medel_T[],Hist_Tab[[#This Row],[Ref]:[Ref]],MATCH(Hist_Tab[[#Headers],[4AM T]],Medel_T[#Headers],0))))","v":0},{"$f":"IF(Hist_Tab[[#This Row],[Rad]:[Rad]]=0,0,IF($EY93>_xlfn.AGGREGATE(2,6,Medel_T[[Slut]:[Slut]]),0,INDEX(Medel_T[],Hist_Tab[[#This Row],[Ref]:[Ref]],MATCH(Hist_Tab[[#Headers],[15AM T]],Medel_T[#Headers],0))))","v":0},{"$f":"IF(Hist_Tab[[#This Row],[Rad]:[Rad]]=0,0,IF($EY93>_xlfn.AGGREGATE(2,6,Medel_T[[Slut]:[Slut]]),0,INDEX(Medel_T[],Hist_Tab[[#This Row],[Ref]:[Ref]],MATCH(Hist_Tab[[#Headers],[20-10D T]],Medel_T[#Headers],0))))","v":0}]
[null,null,null,null,null,null,null,null,null,null,null,null,null,null,null,null,null,null,null,null,null,null,null,null,null,null,null,null,null,null,null,null,null,null,null,null,null,null,null,null,null,null,null,null,null,null,null,null,null,null,null,null,null,null,null,null,null,null,null,null,null,null,null,null,null,null,null,null,null,null,null,null,null,null,null,null,null,null,null,null,null,null,null,null,null,null,null,null,null,null,null,null,null,null,null,null,null,null,null,null,null,null,null,null,null,null,null,null,null,null,null,null,null,null,null,null,null,null,null,null,null,null,null,null,null,null,null,null,null,null,null,null,null,null,null,null,null,null,null,null,null,null,null,null,null,null,null,null,null,null,null,null,{"$f":"ROWS($EW$20:EW93)","v":74},{"$f":"IFERROR(MATCH(Hist_Tab[[#This Row],[Ref]],Medel_T[NrX],0),1)","v":1},{"$f":"INT((ROW(Hist_Tab[[#This Row],[Ref]])-ROW(Hist_Tab[[#Headers],[Ref]])-1)/4)+1","v":19},{"$f":"COUNTIF($EY$19:EY93,Hist_Tab[[#This Row],[Ref]])","v":3},{"$f":"IFERROR(INDEX(Medel_T[Start],Hist_Tab[[#This Row],[Ref]]),_xlfn.AGGREGATE(4,6,Medel_T[Start]))","v":"00:00:00"},{"$f":"IFERROR(INDEX(Medel_T[Slut],Hist_Tab[[#This Row],[Ref]]),_xlfn.AGGREGATE(4,6,Medel_T[Slut]))","v":"00:00:00"},{"$f":"IF(EW92=0,Hist_Tab[[#This Row],[ÅrB]],IF(Hist_Tab[[#This Row],[per/p]]<2,Hist_Tab[[#This Row],[ÅrB]],Hist_Tab[[#This Row],[År S]]))","v":"00:00:00"},{"$f":"IF(Hist_Tab[[#This Row],[Rad]:[Rad]]=0,-1,IF($EY94>_xlfn.AGGREGATE(2,6,Medel_T[[Slut]:[Slut]]),0,INDEX(Medel_T[],Hist_Tab[[#This Row],[Ref]:[Ref]],MATCH(Hist_Tab[[#Headers],[HöA T]],Medel_T[#Headers],0))))","v":0},{"$f":"IF(Hist_Tab[[#This Row],[Rad]:[Rad]]=0,0,IF($EY94>_xlfn.AGGREGATE(2,6,Medel_T[[Slut]:[Slut]]),0,INDEX(Medel_T[],Hist_Tab[[#This Row],[Ref]:[Ref]],MATCH(Hist_Tab[[#Headers],[AöA T]],Medel_T[#Headers],0))))","v":0},{"$f":"IF(Hist_Tab[[#This Row],[Rad]:[Rad]]=0,0,IF($EY94>_xlfn.AGGREGATE(2,6,Medel_T[[Slut]:[Slut]]),0,INDEX(Medel_T[],Hist_Tab[[#This Row],[Ref]:[Ref]],MATCH(Hist_Tab[[#Headers],[4AM T]],Medel_T[#Headers],0))))","v":0},{"$f":"IF(Hist_Tab[[#This Row],[Rad]:[Rad]]=0,0,IF($EY94>_xlfn.AGGREGATE(2,6,Medel_T[[Slut]:[Slut]]),0,INDEX(Medel_T[],Hist_Tab[[#This Row],[Ref]:[Ref]],MATCH(Hist_Tab[[#Headers],[15AM T]],Medel_T[#Headers],0))))","v":0},{"$f":"IF(Hist_Tab[[#This Row],[Rad]:[Rad]]=0,0,IF($EY94>_xlfn.AGGREGATE(2,6,Medel_T[[Slut]:[Slut]]),0,INDEX(Medel_T[],Hist_Tab[[#This Row],[Ref]:[Ref]],MATCH(Hist_Tab[[#Headers],[20-10D T]],Medel_T[#Headers],0))))","v":0}]
[null,null,null,null,null,null,null,null,null,null,null,null,null,null,null,null,null,null,null,null,null,null,null,null,null,null,null,null,null,null,null,null,null,null,null,null,null,null,null,null,null,null,null,null,null,null,null,null,null,null,null,null,null,null,null,null,null,null,null,null,null,null,null,null,null,null,null,null,null,null,null,null,null,null,null,null,null,null,null,null,null,null,null,null,null,null,null,null,null,null,null,null,null,null,null,null,null,null,null,null,null,null,null,null,null,null,null,null,null,null,null,null,null,null,null,null,null,null,null,null,null,null,null,null,null,null,null,null,null,null,null,null,null,null,null,null,null,null,null,null,null,null,null,null,null,null,null,null,null,null,null,null,{"$f":"ROWS($EW$20:EW94)","v":75},{"$f":"IFERROR(MATCH(Hist_Tab[[#This Row],[Ref]],Medel_T[NrX],0),1)","v":1},{"$f":"INT((ROW(Hist_Tab[[#This Row],[Ref]])-ROW(Hist_Tab[[#Headers],[Ref]])-1)/4)+1","v":19},{"$f":"COUNTIF($EY$19:EY94,Hist_Tab[[#This Row],[Ref]])","v":4},{"$f":"IFERROR(INDEX(Medel_T[Start],Hist_Tab[[#This Row],[Ref]]),_xlfn.AGGREGATE(4,6,Medel_T[Start]))","v":"00:00:00"},{"$f":"IFERROR(INDEX(Medel_T[Slut],Hist_Tab[[#This Row],[Ref]]),_xlfn.AGGREGATE(4,6,Medel_T[Slut]))","v":"00:00:00"},{"$f":"IF(EW93=0,Hist_Tab[[#This Row],[ÅrB]],IF(Hist_Tab[[#This Row],[per/p]]<2,Hist_Tab[[#This Row],[ÅrB]],Hist_Tab[[#This Row],[År S]]))","v":"00:00:00"},{"$f":"IF(Hist_Tab[[#This Row],[Rad]:[Rad]]=0,-1,IF($EY95>_xlfn.AGGREGATE(2,6,Medel_T[[Slut]:[Slut]]),0,INDEX(Medel_T[],Hist_Tab[[#This Row],[Ref]:[Ref]],MATCH(Hist_Tab[[#Headers],[HöA T]],Medel_T[#Headers],0))))","v":0},{"$f":"IF(Hist_Tab[[#This Row],[Rad]:[Rad]]=0,0,IF($EY95>_xlfn.AGGREGATE(2,6,Medel_T[[Slut]:[Slut]]),0,INDEX(Medel_T[],Hist_Tab[[#This Row],[Ref]:[Ref]],MATCH(Hist_Tab[[#Headers],[AöA T]],Medel_T[#Headers],0))))","v":0},{"$f":"IF(Hist_Tab[[#This Row],[Rad]:[Rad]]=0,0,IF($EY95>_xlfn.AGGREGATE(2,6,Medel_T[[Slut]:[Slut]]),0,INDEX(Medel_T[],Hist_Tab[[#This Row],[Ref]:[Ref]],MATCH(Hist_Tab[[#Headers],[4AM T]],Medel_T[#Headers],0))))","v":0},{"$f":"IF(Hist_Tab[[#This Row],[Rad]:[Rad]]=0,0,IF($EY95>_xlfn.AGGREGATE(2,6,Medel_T[[Slut]:[Slut]]),0,INDEX(Medel_T[],Hist_Tab[[#This Row],[Ref]:[Ref]],MATCH(Hist_Tab[[#Headers],[15AM T]],Medel_T[#Headers],0))))","v":0},{"$f":"IF(Hist_Tab[[#This Row],[Rad]:[Rad]]=0,0,IF($EY95>_xlfn.AGGREGATE(2,6,Medel_T[[Slut]:[Slut]]),0,INDEX(Medel_T[],Hist_Tab[[#This Row],[Ref]:[Ref]],MATCH(Hist_Tab[[#Headers],[20-10D T]],Medel_T[#Headers],0))))","v":0}]
[null,null,null,null,null,null,null,null,null,null,null,null,null,null,null,null,null,null,null,null,null,null,null,null,null,null,null,null,null,null,null,null,null,null,null,null,null,null,null,null,null,null,null,null,null,null,null,null,null,null,null,null,null,null,null,null,null,null,null,null,null,null,null,null,null,null,null,null,null,null,null,null,null,null,null,null,null,null,null,null,null,null,null,null,null,null,null,null,null,null,null,null,null,null,null,null,null,null,null,null,null,null,null,null,null,null,null,null,null,null,null,null,null,null,null,null,null,null,null,null,null,null,null,null,null,null,null,null,null,null,null,null,null,null,null,null,null,null,null,null,null,null,null,null,null,null,null,null,null,null,null,null,{"$f":"ROWS($EW$20:EW95)","v":76},{"$f":"IFERROR(MATCH(Hist_Tab[[#This Row],[Ref]],Medel_T[NrX],0),1)","v":1},{"$f":"INT((ROW(Hist_Tab[[#This Row],[Ref]])-ROW(Hist_Tab[[#Headers],[Ref]])-1)/4)+1","v":20},{"$f":"COUNTIF($EY$19:EY95,Hist_Tab[[#This Row],[Ref]])","v":1},{"$f":"IFERROR(INDEX(Medel_T[Start],Hist_Tab[[#This Row],[Ref]]),_xlfn.AGGREGATE(4,6,Medel_T[Start]))","v":"00:00:00"},{"$f":"IFERROR(INDEX(Medel_T[Slut],Hist_Tab[[#This Row],[Ref]]),_xlfn.AGGREGATE(4,6,Medel_T[Slut]))","v":"00:00:00"},{"$f":"IF(EW94=0,Hist_Tab[[#This Row],[ÅrB]],IF(Hist_Tab[[#This Row],[per/p]]<2,Hist_Tab[[#This Row],[ÅrB]],Hist_Tab[[#This Row],[År S]]))","v":"00:00:00"},{"$f":"IF(Hist_Tab[[#This Row],[Rad]:[Rad]]=0,-1,IF($EY96>_xlfn.AGGREGATE(2,6,Medel_T[[Slut]:[Slut]]),0,INDEX(Medel_T[],Hist_Tab[[#This Row],[Ref]:[Ref]],MATCH(Hist_Tab[[#Headers],[HöA T]],Medel_T[#Headers],0))))","v":0},{"$f":"IF(Hist_Tab[[#This Row],[Rad]:[Rad]]=0,0,IF($EY96>_xlfn.AGGREGATE(2,6,Medel_T[[Slut]:[Slut]]),0,INDEX(Medel_T[],Hist_Tab[[#This Row],[Ref]:[Ref]],MATCH(Hist_Tab[[#Headers],[AöA T]],Medel_T[#Headers],0))))","v":0},{"$f":"IF(Hist_Tab[[#This Row],[Rad]:[Rad]]=0,0,IF($EY96>_xlfn.AGGREGATE(2,6,Medel_T[[Slut]:[Slut]]),0,INDEX(Medel_T[],Hist_Tab[[#This Row],[Ref]:[Ref]],MATCH(Hist_Tab[[#Headers],[4AM T]],Medel_T[#Headers],0))))","v":0},{"$f":"IF(Hist_Tab[[#This Row],[Rad]:[Rad]]=0,0,IF($EY96>_xlfn.AGGREGATE(2,6,Medel_T[[Slut]:[Slut]]),0,INDEX(Medel_T[],Hist_Tab[[#This Row],[Ref]:[Ref]],MATCH(Hist_Tab[[#Headers],[15AM T]],Medel_T[#Headers],0))))","v":0},{"$f":"IF(Hist_Tab[[#This Row],[Rad]:[Rad]]=0,0,IF($EY96>_xlfn.AGGREGATE(2,6,Medel_T[[Slut]:[Slut]]),0,INDEX(Medel_T[],Hist_Tab[[#This Row],[Ref]:[Ref]],MATCH(Hist_Tab[[#Headers],[20-10D T]],Medel_T[#Headers],0))))","v":0}]
[null,null,null,null,null,null,null,null,null,null,null,null,null,null,null,null,null,null,null,null,null,null,null,null,null,null,null,null,null,null,null,null,null,null,null,null,null,null,null,null,null,null,null,null,null,null,null,null,null,null,null,null,null,null,null,null,null,null,null,null,null,null,null,null,null,null,null,null,null,null,null,null,null,null,null,null,null,null,null,null,null,null,null,null,null,null,null,null,null,null,null,null,null,null,null,null,null,null,null,null,null,null,null,null,null,null,null,null,null,null,null,null,null,null,null,null,null,null,null,null,null,null,null,null,null,null,null,null,null,null,null,null,null,null,null,null,null,null,null,null,null,null,null,null,null,null,null,null,null,null,null,null,{"$f":"ROWS($EW$20:EW96)","v":77},{"$f":"IFERROR(MATCH(Hist_Tab[[#This Row],[Ref]],Medel_T[NrX],0),1)","v":1},{"$f":"INT((ROW(Hist_Tab[[#This Row],[Ref]])-ROW(Hist_Tab[[#Headers],[Ref]])-1)/4)+1","v":20},{"$f":"COUNTIF($EY$19:EY96,Hist_Tab[[#This Row],[Ref]])","v":2},{"$f":"IFERROR(INDEX(Medel_T[Start],Hist_Tab[[#This Row],[Ref]]),_xlfn.AGGREGATE(4,6,Medel_T[Start]))","v":"00:00:00"},{"$f":"IFERROR(INDEX(Medel_T[Slut],Hist_Tab[[#This Row],[Ref]]),_xlfn.AGGREGATE(4,6,Medel_T[Slut]))","v":"00:00:00"},{"$f":"IF(EW95=0,Hist_Tab[[#This Row],[ÅrB]],IF(Hist_Tab[[#This Row],[per/p]]<2,Hist_Tab[[#This Row],[ÅrB]],Hist_Tab[[#This Row],[År S]]))","v":"00:00:00"},{"$f":"IF(Hist_Tab[[#This Row],[Rad]:[Rad]]=0,-1,IF($EY97>_xlfn.AGGREGATE(2,6,Medel_T[[Slut]:[Slut]]),0,INDEX(Medel_T[],Hist_Tab[[#This Row],[Ref]:[Ref]],MATCH(Hist_Tab[[#Headers],[HöA T]],Medel_T[#Headers],0))))","v":0},{"$f":"IF(Hist_Tab[[#This Row],[Rad]:[Rad]]=0,0,IF($EY97>_xlfn.AGGREGATE(2,6,Medel_T[[Slut]:[Slut]]),0,INDEX(Medel_T[],Hist_Tab[[#This Row],[Ref]:[Ref]],MATCH(Hist_Tab[[#Headers],[AöA T]],Medel_T[#Headers],0))))","v":0},{"$f":"IF(Hist_Tab[[#This Row],[Rad]:[Rad]]=0,0,IF($EY97>_xlfn.AGGREGATE(2,6,Medel_T[[Slut]:[Slut]]),0,INDEX(Medel_T[],Hist_Tab[[#This Row],[Ref]:[Ref]],MATCH(Hist_Tab[[#Headers],[4AM T]],Medel_T[#Headers],0))))","v":0},{"$f":"IF(Hist_Tab[[#This Row],[Rad]:[Rad]]=0,0,IF($EY97>_xlfn.AGGREGATE(2,6,Medel_T[[Slut]:[Slut]]),0,INDEX(Medel_T[],Hist_Tab[[#This Row],[Ref]:[Ref]],MATCH(Hist_Tab[[#Headers],[15AM T]],Medel_T[#Headers],0))))","v":0},{"$f":"IF(Hist_Tab[[#This Row],[Rad]:[Rad]]=0,0,IF($EY97>_xlfn.AGGREGATE(2,6,Medel_T[[Slut]:[Slut]]),0,INDEX(Medel_T[],Hist_Tab[[#This Row],[Ref]:[Ref]],MATCH(Hist_Tab[[#Headers],[20-10D T]],Medel_T[#Headers],0))))","v":0}]
[null,null,null,null,null,null,null,null,null,null,null,null,null,null,null,null,null,null,null,null,null,null,null,null,null,null,null,null,null,null,null,null,null,null,null,null,null,null,null,null,null,null,null,null,null,null,null,null,null,null,null,null,null,null,null,null,null,null,null,null,null,null,null,null,null,null,null,null,null,null,null,null,null,null,null,null,null,null,null,null,null,null,null,null,null,null,null,null,null,null,null,null,null,null,null,null,null,null,null,null,null,null,null,null,null,null,null,null,null,null,null,null,null,null,null,null,null,null,null,null,null,null,null,null,null,null,null,null,null,null,null,null,null,null,null,null,null,null,null,null,null,null,null,null,null,null,null,null,null,null,null,null,{"$f":"ROWS($EW$20:EW97)","v":78},{"$f":"IFERROR(MATCH(Hist_Tab[[#This Row],[Ref]],Medel_T[NrX],0),1)","v":1},{"$f":"INT((ROW(Hist_Tab[[#This Row],[Ref]])-ROW(Hist_Tab[[#Headers],[Ref]])-1)/4)+1","v":20},{"$f":"COUNTIF($EY$19:EY97,Hist_Tab[[#This Row],[Ref]])","v":3},{"$f":"IFERROR(INDEX(Medel_T[Start],Hist_Tab[[#This Row],[Ref]]),_xlfn.AGGREGATE(4,6,Medel_T[Start]))","v":"00:00:00"},{"$f":"IFERROR(INDEX(Medel_T[Slut],Hist_Tab[[#This Row],[Ref]]),_xlfn.AGGREGATE(4,6,Medel_T[Slut]))","v":"00:00:00"},{"$f":"IF(EW96=0,Hist_Tab[[#This Row],[ÅrB]],IF(Hist_Tab[[#This Row],[per/p]]<2,Hist_Tab[[#This Row],[ÅrB]],Hist_Tab[[#This Row],[År S]]))","v":"00:00:00"},{"$f":"IF(Hist_Tab[[#This Row],[Rad]:[Rad]]=0,-1,IF($EY98>_xlfn.AGGREGATE(2,6,Medel_T[[Slut]:[Slut]]),0,INDEX(Medel_T[],Hist_Tab[[#This Row],[Ref]:[Ref]],MATCH(Hist_Tab[[#Headers],[HöA T]],Medel_T[#Headers],0))))","v":0},{"$f":"IF(Hist_Tab[[#This Row],[Rad]:[Rad]]=0,0,IF($EY98>_xlfn.AGGREGATE(2,6,Medel_T[[Slut]:[Slut]]),0,INDEX(Medel_T[],Hist_Tab[[#This Row],[Ref]:[Ref]],MATCH(Hist_Tab[[#Headers],[AöA T]],Medel_T[#Headers],0))))","v":0},{"$f":"IF(Hist_Tab[[#This Row],[Rad]:[Rad]]=0,0,IF($EY98>_xlfn.AGGREGATE(2,6,Medel_T[[Slut]:[Slut]]),0,INDEX(Medel_T[],Hist_Tab[[#This Row],[Ref]:[Ref]],MATCH(Hist_Tab[[#Headers],[4AM T]],Medel_T[#Headers],0))))","v":0},{"$f":"IF(Hist_Tab[[#This Row],[Rad]:[Rad]]=0,0,IF($EY98>_xlfn.AGGREGATE(2,6,Medel_T[[Slut]:[Slut]]),0,INDEX(Medel_T[],Hist_Tab[[#This Row],[Ref]:[Ref]],MATCH(Hist_Tab[[#Headers],[15AM T]],Medel_T[#Headers],0))))","v":0},{"$f":"IF(Hist_Tab[[#This Row],[Rad]:[Rad]]=0,0,IF($EY98>_xlfn.AGGREGATE(2,6,Medel_T[[Slut]:[Slut]]),0,INDEX(Medel_T[],Hist_Tab[[#This Row],[Ref]:[Ref]],MATCH(Hist_Tab[[#Headers],[20-10D T]],Medel_T[#Headers],0))))","v":0}]
[null,null,null,null,null,null,null,null,null,null,null,null,null,null,null,null,null,null,null,null,null,null,null,null,null,null,null,null,null,null,null,null,null,null,null,null,null,null,null,null,null,null,null,null,null,null,null,null,null,null,null,null,null,null,null,null,null,null,null,null,null,null,null,null,null,null,null,null,null,null,null,null,null,null,null,null,null,null,null,null,null,null,null,null,null,null,null,null,null,null,null,null,null,null,null,null,null,null,null,null,null,null,null,null,null,null,null,null,null,null,null,null,null,null,null,null,null,null,null,null,null,null,null,null,null,null,null,null,null,null,null,null,null,null,null,null,null,null,null,null,null,null,null,null,null,null,null,null,null,null,null,null,{"$f":"ROWS($EW$20:EW98)","v":79},{"$f":"IFERROR(MATCH(Hist_Tab[[#This Row],[Ref]],Medel_T[NrX],0),1)","v":1},{"$f":"INT((ROW(Hist_Tab[[#This Row],[Ref]])-ROW(Hist_Tab[[#Headers],[Ref]])-1)/4)+1","v":20},{"$f":"COUNTIF($EY$19:EY98,Hist_Tab[[#This Row],[Ref]])","v":4},{"$f":"IFERROR(INDEX(Medel_T[Start],Hist_Tab[[#This Row],[Ref]]),_xlfn.AGGREGATE(4,6,Medel_T[Start]))","v":"00:00:00"},{"$f":"IFERROR(INDEX(Medel_T[Slut],Hist_Tab[[#This Row],[Ref]]),_xlfn.AGGREGATE(4,6,Medel_T[Slut]))","v":"00:00:00"},{"$f":"IF(EW97=0,Hist_Tab[[#This Row],[ÅrB]],IF(Hist_Tab[[#This Row],[per/p]]<2,Hist_Tab[[#This Row],[ÅrB]],Hist_Tab[[#This Row],[År S]]))","v":"00:00:00"},{"$f":"IF(Hist_Tab[[#This Row],[Rad]:[Rad]]=0,-1,IF($EY99>_xlfn.AGGREGATE(2,6,Medel_T[[Slut]:[Slut]]),0,INDEX(Medel_T[],Hist_Tab[[#This Row],[Ref]:[Ref]],MATCH(Hist_Tab[[#Headers],[HöA T]],Medel_T[#Headers],0))))","v":0},{"$f":"IF(Hist_Tab[[#This Row],[Rad]:[Rad]]=0,0,IF($EY99>_xlfn.AGGREGATE(2,6,Medel_T[[Slut]:[Slut]]),0,INDEX(Medel_T[],Hist_Tab[[#This Row],[Ref]:[Ref]],MATCH(Hist_Tab[[#Headers],[AöA T]],Medel_T[#Headers],0))))","v":0},{"$f":"IF(Hist_Tab[[#This Row],[Rad]:[Rad]]=0,0,IF($EY99>_xlfn.AGGREGATE(2,6,Medel_T[[Slut]:[Slut]]),0,INDEX(Medel_T[],Hist_Tab[[#This Row],[Ref]:[Ref]],MATCH(Hist_Tab[[#Headers],[4AM T]],Medel_T[#Headers],0))))","v":0},{"$f":"IF(Hist_Tab[[#This Row],[Rad]:[Rad]]=0,0,IF($EY99>_xlfn.AGGREGATE(2,6,Medel_T[[Slut]:[Slut]]),0,INDEX(Medel_T[],Hist_Tab[[#This Row],[Ref]:[Ref]],MATCH(Hist_Tab[[#Headers],[15AM T]],Medel_T[#Headers],0))))","v":0},{"$f":"IF(Hist_Tab[[#This Row],[Rad]:[Rad]]=0,0,IF($EY99>_xlfn.AGGREGATE(2,6,Medel_T[[Slut]:[Slut]]),0,INDEX(Medel_T[],Hist_Tab[[#This Row],[Ref]:[Ref]],MATCH(Hist_Tab[[#Headers],[20-10D T]],Medel_T[#Headers],0))))","v":0}]
[null,null,null,null,null,null,null,null,null,null,null,null,null,null,null,null,null,null,null,null,null,null,null,null,null,null,null,null,null,null,null,null,null,null,null,null,null,null,null,null,null,null,null,null,null,null,null,null,null,null,null,null,null,null,null,null,null,null,null,null,null,null,null,null,null,null,null,null,null,null,null,null,null,null,null,null,null,null,null,null,null,null,null,null,null,null,null,null,null,null,null,null,null,null,null,null,null,null,null,null,null,null,null,null,null,null,null,null,null,null,null,null,null,null,null,null,null,null,null,null,null,null,null,null,null,null,null,null,null,null,null,null,null,null,null,null,null,null,null,null,null,null,null,null,null,null,null,null,null,null,null,null,{"$f":"ROWS($EW$20:EW99)","v":80},{"$f":"IFERROR(MATCH(Hist_Tab[[#This Row],[Ref]],Medel_T[NrX],0),1)","v":1},{"$f":"INT((ROW(Hist_Tab[[#This Row],[Ref]])-ROW(Hist_Tab[[#Headers],[Ref]])-1)/4)+1","v":21},{"$f":"COUNTIF($EY$19:EY99,Hist_Tab[[#This Row],[Ref]])","v":1},{"$f":"IFERROR(INDEX(Medel_T[Start],Hist_Tab[[#This Row],[Ref]]),_xlfn.AGGREGATE(4,6,Medel_T[Start]))","v":"00:00:00"},{"$f":"IFERROR(INDEX(Medel_T[Slut],Hist_Tab[[#This Row],[Ref]]),_xlfn.AGGREGATE(4,6,Medel_T[Slut]))","v":"00:00:00"},{"$f":"IF(EW98=0,Hist_Tab[[#This Row],[ÅrB]],IF(Hist_Tab[[#This Row],[per/p]]<2,Hist_Tab[[#This Row],[ÅrB]],Hist_Tab[[#This Row],[År S]]))","v":"00:00:00"},{"$f":"IF(Hist_Tab[[#This Row],[Rad]:[Rad]]=0,-1,IF($EY100>_xlfn.AGGREGATE(2,6,Medel_T[[Slut]:[Slut]]),0,INDEX(Medel_T[],Hist_Tab[[#This Row],[Ref]:[Ref]],MATCH(Hist_Tab[[#Headers],[HöA T]],Medel_T[#Headers],0))))","v":0},{"$f":"IF(Hist_Tab[[#This Row],[Rad]:[Rad]]=0,0,IF($EY100>_xlfn.AGGREGATE(2,6,Medel_T[[Slut]:[Slut]]),0,INDEX(Medel_T[],Hist_Tab[[#This Row],[Ref]:[Ref]],MATCH(Hist_Tab[[#Headers],[AöA T]],Medel_T[#Headers],0))))","v":0},{"$f":"IF(Hist_Tab[[#This Row],[Rad]:[Rad]]=0,0,IF($EY100>_xlfn.AGGREGATE(2,6,Medel_T[[Slut]:[Slut]]),0,INDEX(Medel_T[],Hist_Tab[[#This Row],[Ref]:[Ref]],MATCH(Hist_Tab[[#Headers],[4AM T]],Medel_T[#Headers],0))))","v":0},{"$f":"IF(Hist_Tab[[#This Row],[Rad]:[Rad]]=0,0,IF($EY100>_xlfn.AGGREGATE(2,6,Medel_T[[Slut]:[Slut]]),0,INDEX(Medel_T[],Hist_Tab[[#This Row],[Ref]:[Ref]],MATCH(Hist_Tab[[#Headers],[15AM T]],Medel_T[#Headers],0))))","v":0},{"$f":"IF(Hist_Tab[[#This Row],[Rad]:[Rad]]=0,0,IF($EY100>_xlfn.AGGREGATE(2,6,Medel_T[[Slut]:[Slut]]),0,INDEX(Medel_T[],Hist_Tab[[#This Row],[Ref]:[Ref]],MATCH(Hist_Tab[[#Headers],[20-10D T]],Medel_T[#Headers],0))))","v":0}]
[null,null,null,null,null,null,null,null,null,null,null,null,null,null,null,null,null,null,null,null,null,null,null,null,null,null,null,null,null,null,null,null,null,null,null,null,null,null,null,null,null,null,null,null,null,null,null,null,null,null,null,null,null,null,null,null,null,null,null,null,null,null,null,null,null,null,null,null,null,null,null,null,null,null,null,null,null,null,null,null,null,null,null,null,null,null,null,null,null,null,null,null,null,null,null,null,null,null,null,null,null,null,null,null,null,null,null,null,null,null,null,null,null,null,null,null,null,null,null,null,null,null,null,null,null,null,null,null,null,null,null,null,null,null,null,null,null,null,null,null,null,null,null,null,null,null,null,null,null,null,null,null,{"$f":"ROWS($EW$20:EW100)","v":81},{"$f":"IFERROR(MATCH(Hist_Tab[[#This Row],[Ref]],Medel_T[NrX],0),1)","v":1},{"$f":"INT((ROW(Hist_Tab[[#This Row],[Ref]])-ROW(Hist_Tab[[#Headers],[Ref]])-1)/4)+1","v":21},{"$f":"COUNTIF($EY$19:EY100,Hist_Tab[[#This Row],[Ref]])","v":2},{"$f":"IFERROR(INDEX(Medel_T[Start],Hist_Tab[[#This Row],[Ref]]),_xlfn.AGGREGATE(4,6,Medel_T[Start]))","v":"00:00:00"},{"$f":"IFERROR(INDEX(Medel_T[Slut],Hist_Tab[[#This Row],[Ref]]),_xlfn.AGGREGATE(4,6,Medel_T[Slut]))","v":"00:00:00"},{"$f":"IF(EW99=0,Hist_Tab[[#This Row],[ÅrB]],IF(Hist_Tab[[#This Row],[per/p]]<2,Hist_Tab[[#This Row],[ÅrB]],Hist_Tab[[#This Row],[År S]]))","v":"00:00:00"},{"$f":"IF(Hist_Tab[[#This Row],[Rad]:[Rad]]=0,-1,IF($EY101>_xlfn.AGGREGATE(2,6,Medel_T[[Slut]:[Slut]]),0,INDEX(Medel_T[],Hist_Tab[[#This Row],[Ref]:[Ref]],MATCH(Hist_Tab[[#Headers],[HöA T]],Medel_T[#Headers],0))))","v":0},{"$f":"IF(Hist_Tab[[#This Row],[Rad]:[Rad]]=0,0,IF($EY101>_xlfn.AGGREGATE(2,6,Medel_T[[Slut]:[Slut]]),0,INDEX(Medel_T[],Hist_Tab[[#This Row],[Ref]:[Ref]],MATCH(Hist_Tab[[#Headers],[AöA T]],Medel_T[#Headers],0))))","v":0},{"$f":"IF(Hist_Tab[[#This Row],[Rad]:[Rad]]=0,0,IF($EY101>_xlfn.AGGREGATE(2,6,Medel_T[[Slut]:[Slut]]),0,INDEX(Medel_T[],Hist_Tab[[#This Row],[Ref]:[Ref]],MATCH(Hist_Tab[[#Headers],[4AM T]],Medel_T[#Headers],0))))","v":0},{"$f":"IF(Hist_Tab[[#This Row],[Rad]:[Rad]]=0,0,IF($EY101>_xlfn.AGGREGATE(2,6,Medel_T[[Slut]:[Slut]]),0,INDEX(Medel_T[],Hist_Tab[[#This Row],[Ref]:[Ref]],MATCH(Hist_Tab[[#Headers],[15AM T]],Medel_T[#Headers],0))))","v":0},{"$f":"IF(Hist_Tab[[#This Row],[Rad]:[Rad]]=0,0,IF($EY101>_xlfn.AGGREGATE(2,6,Medel_T[[Slut]:[Slut]]),0,INDEX(Medel_T[],Hist_Tab[[#This Row],[Ref]:[Ref]],MATCH(Hist_Tab[[#Headers],[20-10D T]],Medel_T[#Headers],0))))","v":0}]
[null,null,null,null,null,null,null,null,null,null,null,null,null,null,null,null,null,null,null,null,null,null,null,null,null,null,null,null,null,null,null,null,null,null,null,null,null,null,null,null,null,null,null,null,null,null,null,null,null,null,null,null,null,null,null,null,null,null,null,null,null,null,null,null,null,null,null,null,null,null,null,null,null,null,null,null,null,null,null,null,null,null,null,null,null,null,null,null,null,null,null,null,null,null,null,null,null,null,null,null,null,null,null,null,null,null,null,null,null,null,null,null,null,null,null,null,null,null,null,null,null,null,null,null,null,null,null,null,null,null,null,null,null,null,null,null,null,null,null,null,null,null,null,null,null,null,null,null,null,null,null,null,{"$f":"ROWS($EW$20:EW101)","v":82},{"$f":"IFERROR(MATCH(Hist_Tab[[#This Row],[Ref]],Medel_T[NrX],0),1)","v":1},{"$f":"INT((ROW(Hist_Tab[[#This Row],[Ref]])-ROW(Hist_Tab[[#Headers],[Ref]])-1)/4)+1","v":21},{"$f":"COUNTIF($EY$19:EY101,Hist_Tab[[#This Row],[Ref]])","v":3},{"$f":"IFERROR(INDEX(Medel_T[Start],Hist_Tab[[#This Row],[Ref]]),_xlfn.AGGREGATE(4,6,Medel_T[Start]))","v":"00:00:00"},{"$f":"IFERROR(INDEX(Medel_T[Slut],Hist_Tab[[#This Row],[Ref]]),_xlfn.AGGREGATE(4,6,Medel_T[Slut]))","v":"00:00:00"},{"$f":"IF(EW100=0,Hist_Tab[[#This Row],[ÅrB]],IF(Hist_Tab[[#This Row],[per/p]]<2,Hist_Tab[[#This Row],[ÅrB]],Hist_Tab[[#This Row],[År S]]))","v":"00:00:00"},{"$f":"IF(Hist_Tab[[#This Row],[Rad]:[Rad]]=0,-1,IF($EY102>_xlfn.AGGREGATE(2,6,Medel_T[[Slut]:[Slut]]),0,INDEX(Medel_T[],Hist_Tab[[#This Row],[Ref]:[Ref]],MATCH(Hist_Tab[[#Headers],[HöA T]],Medel_T[#Headers],0))))","v":0},{"$f":"IF(Hist_Tab[[#This Row],[Rad]:[Rad]]=0,0,IF($EY102>_xlfn.AGGREGATE(2,6,Medel_T[[Slut]:[Slut]]),0,INDEX(Medel_T[],Hist_Tab[[#This Row],[Ref]:[Ref]],MATCH(Hist_Tab[[#Headers],[AöA T]],Medel_T[#Headers],0))))","v":0},{"$f":"IF(Hist_Tab[[#This Row],[Rad]:[Rad]]=0,0,IF($EY102>_xlfn.AGGREGATE(2,6,Medel_T[[Slut]:[Slut]]),0,INDEX(Medel_T[],Hist_Tab[[#This Row],[Ref]:[Ref]],MATCH(Hist_Tab[[#Headers],[4AM T]],Medel_T[#Headers],0))))","v":0},{"$f":"IF(Hist_Tab[[#This Row],[Rad]:[Rad]]=0,0,IF($EY102>_xlfn.AGGREGATE(2,6,Medel_T[[Slut]:[Slut]]),0,INDEX(Medel_T[],Hist_Tab[[#This Row],[Ref]:[Ref]],MATCH(Hist_Tab[[#Headers],[15AM T]],Medel_T[#Headers],0))))","v":0},{"$f":"IF(Hist_Tab[[#This Row],[Rad]:[Rad]]=0,0,IF($EY102>_xlfn.AGGREGATE(2,6,Medel_T[[Slut]:[Slut]]),0,INDEX(Medel_T[],Hist_Tab[[#This Row],[Ref]:[Ref]],MATCH(Hist_Tab[[#Headers],[20-10D T]],Medel_T[#Headers],0))))","v":0}]
[null,null,null,null,null,null,null,null,null,null,null,null,null,null,null,null,null,null,null,null,null,null,null,null,null,null,null,null,null,null,null,null,null,null,null,null,null,null,null,null,null,null,null,null,null,null,null,null,null,null,null,null,null,null,null,null,null,null,null,null,null,null,null,null,null,null,null,null,null,null,null,null,null,null,null,null,null,null,null,null,null,null,null,null,null,null,null,null,null,null,null,null,null,null,null,null,null,null,null,null,null,null,null,null,null,null,null,null,null,null,null,null,null,null,null,null,null,null,null,null,null,null,null,null,null,null,null,null,null,null,null,null,null,null,null,null,null,null,null,null,null,null,null,null,null,null,null,null,null,null,null,null,{"$f":"ROWS($EW$20:EW102)","v":83},{"$f":"IFERROR(MATCH(Hist_Tab[[#This Row],[Ref]],Medel_T[NrX],0),1)","v":1},{"$f":"INT((ROW(Hist_Tab[[#This Row],[Ref]])-ROW(Hist_Tab[[#Headers],[Ref]])-1)/4)+1","v":21},{"$f":"COUNTIF($EY$19:EY102,Hist_Tab[[#This Row],[Ref]])","v":4},{"$f":"IFERROR(INDEX(Medel_T[Start],Hist_Tab[[#This Row],[Ref]]),_xlfn.AGGREGATE(4,6,Medel_T[Start]))","v":"00:00:00"},{"$f":"IFERROR(INDEX(Medel_T[Slut],Hist_Tab[[#This Row],[Ref]]),_xlfn.AGGREGATE(4,6,Medel_T[Slut]))","v":"00:00:00"},{"$f":"IF(EW101=0,Hist_Tab[[#This Row],[ÅrB]],IF(Hist_Tab[[#This Row],[per/p]]<2,Hist_Tab[[#This Row],[ÅrB]],Hist_Tab[[#This Row],[År S]]))","v":"00:00:00"},{"$f":"IF(Hist_Tab[[#This Row],[Rad]:[Rad]]=0,-1,IF($EY103>_xlfn.AGGREGATE(2,6,Medel_T[[Slut]:[Slut]]),0,INDEX(Medel_T[],Hist_Tab[[#This Row],[Ref]:[Ref]],MATCH(Hist_Tab[[#Headers],[HöA T]],Medel_T[#Headers],0))))","v":0},{"$f":"IF(Hist_Tab[[#This Row],[Rad]:[Rad]]=0,0,IF($EY103>_xlfn.AGGREGATE(2,6,Medel_T[[Slut]:[Slut]]),0,INDEX(Medel_T[],Hist_Tab[[#This Row],[Ref]:[Ref]],MATCH(Hist_Tab[[#Headers],[AöA T]],Medel_T[#Headers],0))))","v":0},{"$f":"IF(Hist_Tab[[#This Row],[Rad]:[Rad]]=0,0,IF($EY103>_xlfn.AGGREGATE(2,6,Medel_T[[Slut]:[Slut]]),0,INDEX(Medel_T[],Hist_Tab[[#This Row],[Ref]:[Ref]],MATCH(Hist_Tab[[#Headers],[4AM T]],Medel_T[#Headers],0))))","v":0},{"$f":"IF(Hist_Tab[[#This Row],[Rad]:[Rad]]=0,0,IF($EY103>_xlfn.AGGREGATE(2,6,Medel_T[[Slut]:[Slut]]),0,INDEX(Medel_T[],Hist_Tab[[#This Row],[Ref]:[Ref]],MATCH(Hist_Tab[[#Headers],[15AM T]],Medel_T[#Headers],0))))","v":0},{"$f":"IF(Hist_Tab[[#This Row],[Rad]:[Rad]]=0,0,IF($EY103>_xlfn.AGGREGATE(2,6,Medel_T[[Slut]:[Slut]]),0,INDEX(Medel_T[],Hist_Tab[[#This Row],[Ref]:[Ref]],MATCH(Hist_Tab[[#Headers],[20-10D T]],Medel_T[#Headers],0))))","v":0}]
[null,null,null,null,null,null,null,null,null,null,null,null,null,null,null,null,null,null,null,null,null,null,null,null,null,null,null,null,null,null,null,null,null,null,null,null,null,null,null,null,null,null,null,null,null,null,null,null,null,null,null,null,null,null,null,null,null,null,null,null,null,null,null,null,null,null,null,null,null,null,null,null,null,null,null,null,null,null,null,null,null,null,null,null,null,null,null,null,null,null,null,null,null,null,null,null,null,null,null,null,null,null,null,null,null,null,null,null,null,null,null,null,null,null,null,null,null,null,null,null,null,null,null,null,null,null,null,null,null,null,null,null,null,null,null,null,null,null,null,null,null,null,null,null,null,null,null,null,null,null,null,null,{"$f":"ROWS($EW$20:EW103)","v":84},{"$f":"IFERROR(MATCH(Hist_Tab[[#This Row],[Ref]],Medel_T[NrX],0),1)","v":1},{"$f":"INT((ROW(Hist_Tab[[#This Row],[Ref]])-ROW(Hist_Tab[[#Headers],[Ref]])-1)/4)+1","v":22},{"$f":"COUNTIF($EY$19:EY103,Hist_Tab[[#This Row],[Ref]])","v":1},{"$f":"IFERROR(INDEX(Medel_T[Start],Hist_Tab[[#This Row],[Ref]]),_xlfn.AGGREGATE(4,6,Medel_T[Start]))","v":"00:00:00"},{"$f":"IFERROR(INDEX(Medel_T[Slut],Hist_Tab[[#This Row],[Ref]]),_xlfn.AGGREGATE(4,6,Medel_T[Slut]))","v":"00:00:00"},{"$f":"IF(EW102=0,Hist_Tab[[#This Row],[ÅrB]],IF(Hist_Tab[[#This Row],[per/p]]<2,Hist_Tab[[#This Row],[ÅrB]],Hist_Tab[[#This Row],[År S]]))","v":"00:00:00"},{"$f":"IF(Hist_Tab[[#This Row],[Rad]:[Rad]]=0,-1,IF($EY104>_xlfn.AGGREGATE(2,6,Medel_T[[Slut]:[Slut]]),0,INDEX(Medel_T[],Hist_Tab[[#This Row],[Ref]:[Ref]],MATCH(Hist_Tab[[#Headers],[HöA T]],Medel_T[#Headers],0))))","v":0},{"$f":"IF(Hist_Tab[[#This Row],[Rad]:[Rad]]=0,0,IF($EY104>_xlfn.AGGREGATE(2,6,Medel_T[[Slut]:[Slut]]),0,INDEX(Medel_T[],Hist_Tab[[#This Row],[Ref]:[Ref]],MATCH(Hist_Tab[[#Headers],[AöA T]],Medel_T[#Headers],0))))","v":0},{"$f":"IF(Hist_Tab[[#This Row],[Rad]:[Rad]]=0,0,IF($EY104>_xlfn.AGGREGATE(2,6,Medel_T[[Slut]:[Slut]]),0,INDEX(Medel_T[],Hist_Tab[[#This Row],[Ref]:[Ref]],MATCH(Hist_Tab[[#Headers],[4AM T]],Medel_T[#Headers],0))))","v":0},{"$f":"IF(Hist_Tab[[#This Row],[Rad]:[Rad]]=0,0,IF($EY104>_xlfn.AGGREGATE(2,6,Medel_T[[Slut]:[Slut]]),0,INDEX(Medel_T[],Hist_Tab[[#This Row],[Ref]:[Ref]],MATCH(Hist_Tab[[#Headers],[15AM T]],Medel_T[#Headers],0))))","v":0},{"$f":"IF(Hist_Tab[[#This Row],[Rad]:[Rad]]=0,0,IF($EY104>_xlfn.AGGREGATE(2,6,Medel_T[[Slut]:[Slut]]),0,INDEX(Medel_T[],Hist_Tab[[#This Row],[Ref]:[Ref]],MATCH(Hist_Tab[[#Headers],[20-10D T]],Medel_T[#Headers],0))))","v":0}]
[null,null,null,null,null,null,null,null,null,null,null,null,null,null,null,null,null,null,null,null,null,null,null,null,null,null,null,null,null,null,null,null,null,null,null,null,null,null,null,null,null,null,null,null,null,null,null,null,null,null,null,null,null,null,null,null,null,null,null,null,null,null,null,null,null,null,null,null,null,null,null,null,null,null,null,null,null,null,null,null,null,null,null,null,null,null,null,null,null,null,null,null,null,null,null,null,null,null,null,null,null,null,null,null,null,null,null,null,null,null,null,null,null,null,null,null,null,null,null,null,null,null,null,null,null,null,null,null,null,null,null,null,null,null,null,null,null,null,null,null,null,null,null,null,null,null,null,null,null,null,null,null,{"$f":"ROWS($EW$20:EW104)","v":85},{"$f":"IFERROR(MATCH(Hist_Tab[[#This Row],[Ref]],Medel_T[NrX],0),1)","v":1},{"$f":"INT((ROW(Hist_Tab[[#This Row],[Ref]])-ROW(Hist_Tab[[#Headers],[Ref]])-1)/4)+1","v":22},{"$f":"COUNTIF($EY$19:EY104,Hist_Tab[[#This Row],[Ref]])","v":2},{"$f":"IFERROR(INDEX(Medel_T[Start],Hist_Tab[[#This Row],[Ref]]),_xlfn.AGGREGATE(4,6,Medel_T[Start]))","v":"00:00:00"},{"$f":"IFERROR(INDEX(Medel_T[Slut],Hist_Tab[[#This Row],[Ref]]),_xlfn.AGGREGATE(4,6,Medel_T[Slut]))","v":"00:00:00"},{"$f":"IF(EW103=0,Hist_Tab[[#This Row],[ÅrB]],IF(Hist_Tab[[#This Row],[per/p]]<2,Hist_Tab[[#This Row],[ÅrB]],Hist_Tab[[#This Row],[År S]]))","v":"00:00:00"},{"$f":"IF(Hist_Tab[[#This Row],[Rad]:[Rad]]=0,-1,IF($EY105>_xlfn.AGGREGATE(2,6,Medel_T[[Slut]:[Slut]]),0,INDEX(Medel_T[],Hist_Tab[[#This Row],[Ref]:[Ref]],MATCH(Hist_Tab[[#Headers],[HöA T]],Medel_T[#Headers],0))))","v":0},{"$f":"IF(Hist_Tab[[#This Row],[Rad]:[Rad]]=0,0,IF($EY105>_xlfn.AGGREGATE(2,6,Medel_T[[Slut]:[Slut]]),0,INDEX(Medel_T[],Hist_Tab[[#This Row],[Ref]:[Ref]],MATCH(Hist_Tab[[#Headers],[AöA T]],Medel_T[#Headers],0))))","v":0},{"$f":"IF(Hist_Tab[[#This Row],[Rad]:[Rad]]=0,0,IF($EY105>_xlfn.AGGREGATE(2,6,Medel_T[[Slut]:[Slut]]),0,INDEX(Medel_T[],Hist_Tab[[#This Row],[Ref]:[Ref]],MATCH(Hist_Tab[[#Headers],[4AM T]],Medel_T[#Headers],0))))","v":0},{"$f":"IF(Hist_Tab[[#This Row],[Rad]:[Rad]]=0,0,IF($EY105>_xlfn.AGGREGATE(2,6,Medel_T[[Slut]:[Slut]]),0,INDEX(Medel_T[],Hist_Tab[[#This Row],[Ref]:[Ref]],MATCH(Hist_Tab[[#Headers],[15AM T]],Medel_T[#Headers],0))))","v":0},{"$f":"IF(Hist_Tab[[#This Row],[Rad]:[Rad]]=0,0,IF($EY105>_xlfn.AGGREGATE(2,6,Medel_T[[Slut]:[Slut]]),0,INDEX(Medel_T[],Hist_Tab[[#This Row],[Ref]:[Ref]],MATCH(Hist_Tab[[#Headers],[20-10D T]],Medel_T[#Headers],0))))","v":0}]
[null,null,null,null,null,null,null,null,null,null,null,null,null,null,null,null,null,null,null,null,null,null,null,null,null,null,null,null,null,null,null,null,null,null,null,null,null,null,null,null,null,null,null,null,null,null,null,null,null,null,null,null,null,null,null,null,null,null,null,null,null,null,null,null,null,null,null,null,null,null,null,null,null,null,null,null,null,null,null,null,null,null,null,null,null,null,null,null,null,null,null,null,null,null,null,null,null,null,null,null,null,null,null,null,null,null,null,null,null,null,null,null,null,null,null,null,null,null,null,null,null,null,null,null,null,null,null,null,null,null,null,null,null,null,null,null,null,null,null,null,null,null,null,null,null,null,null,null,null,null,null,null,{"$f":"ROWS($EW$20:EW105)","v":86},{"$f":"IFERROR(MATCH(Hist_Tab[[#This Row],[Ref]],Medel_T[NrX],0),1)","v":1},{"$f":"INT((ROW(Hist_Tab[[#This Row],[Ref]])-ROW(Hist_Tab[[#Headers],[Ref]])-1)/4)+1","v":22},{"$f":"COUNTIF($EY$19:EY105,Hist_Tab[[#This Row],[Ref]])","v":3},{"$f":"IFERROR(INDEX(Medel_T[Start],Hist_Tab[[#This Row],[Ref]]),_xlfn.AGGREGATE(4,6,Medel_T[Start]))","v":"00:00:00"},{"$f":"IFERROR(INDEX(Medel_T[Slut],Hist_Tab[[#This Row],[Ref]]),_xlfn.AGGREGATE(4,6,Medel_T[Slut]))","v":"00:00:00"},{"$f":"IF(EW104=0,Hist_Tab[[#This Row],[ÅrB]],IF(Hist_Tab[[#This Row],[per/p]]<2,Hist_Tab[[#This Row],[ÅrB]],Hist_Tab[[#This Row],[År S]]))","v":"00:00:00"},{"$f":"IF(Hist_Tab[[#This Row],[Rad]:[Rad]]=0,-1,IF($EY106>_xlfn.AGGREGATE(2,6,Medel_T[[Slut]:[Slut]]),0,INDEX(Medel_T[],Hist_Tab[[#This Row],[Ref]:[Ref]],MATCH(Hist_Tab[[#Headers],[HöA T]],Medel_T[#Headers],0))))","v":0},{"$f":"IF(Hist_Tab[[#This Row],[Rad]:[Rad]]=0,0,IF($EY106>_xlfn.AGGREGATE(2,6,Medel_T[[Slut]:[Slut]]),0,INDEX(Medel_T[],Hist_Tab[[#This Row],[Ref]:[Ref]],MATCH(Hist_Tab[[#Headers],[AöA T]],Medel_T[#Headers],0))))","v":0},{"$f":"IF(Hist_Tab[[#This Row],[Rad]:[Rad]]=0,0,IF($EY106>_xlfn.AGGREGATE(2,6,Medel_T[[Slut]:[Slut]]),0,INDEX(Medel_T[],Hist_Tab[[#This Row],[Ref]:[Ref]],MATCH(Hist_Tab[[#Headers],[4AM T]],Medel_T[#Headers],0))))","v":0},{"$f":"IF(Hist_Tab[[#This Row],[Rad]:[Rad]]=0,0,IF($EY106>_xlfn.AGGREGATE(2,6,Medel_T[[Slut]:[Slut]]),0,INDEX(Medel_T[],Hist_Tab[[#This Row],[Ref]:[Ref]],MATCH(Hist_Tab[[#Headers],[15AM T]],Medel_T[#Headers],0))))","v":0},{"$f":"IF(Hist_Tab[[#This Row],[Rad]:[Rad]]=0,0,IF($EY106>_xlfn.AGGREGATE(2,6,Medel_T[[Slut]:[Slut]]),0,INDEX(Medel_T[],Hist_Tab[[#This Row],[Ref]:[Ref]],MATCH(Hist_Tab[[#Headers],[20-10D T]],Medel_T[#Headers],0))))","v":0}]
[null,null,null,null,null,null,null,null,null,null,null,null,null,null,null,null,null,null,null,null,null,null,null,null,null,null,null,null,null,null,null,null,null,null,null,null,null,null,null,null,null,null,null,null,null,null,null,null,null,null,null,null,null,null,null,null,null,null,null,null,null,null,null,null,null,null,null,null,null,null,null,null,null,null,null,null,null,null,null,null,null,null,null,null,null,null,null,null,null,null,null,null,null,null,null,null,null,null,null,null,null,null,null,null,null,null,null,null,null,null,null,null,null,null,null,null,null,null,null,null,null,null,null,null,null,null,null,null,null,null,null,null,null,null,null,null,null,null,null,null,null,null,null,null,null,null,null,null,null,null,null,null,{"$f":"ROWS($EW$20:EW106)","v":87},{"$f":"IFERROR(MATCH(Hist_Tab[[#This Row],[Ref]],Medel_T[NrX],0),1)","v":1},{"$f":"INT((ROW(Hist_Tab[[#This Row],[Ref]])-ROW(Hist_Tab[[#Headers],[Ref]])-1)/4)+1","v":22},{"$f":"COUNTIF($EY$19:EY106,Hist_Tab[[#This Row],[Ref]])","v":4},{"$f":"IFERROR(INDEX(Medel_T[Start],Hist_Tab[[#This Row],[Ref]]),_xlfn.AGGREGATE(4,6,Medel_T[Start]))","v":"00:00:00"},{"$f":"IFERROR(INDEX(Medel_T[Slut],Hist_Tab[[#This Row],[Ref]]),_xlfn.AGGREGATE(4,6,Medel_T[Slut]))","v":"00:00:00"},{"$f":"IF(EW105=0,Hist_Tab[[#This Row],[ÅrB]],IF(Hist_Tab[[#This Row],[per/p]]<2,Hist_Tab[[#This Row],[ÅrB]],Hist_Tab[[#This Row],[År S]]))","v":"00:00:00"},{"$f":"IF(Hist_Tab[[#This Row],[Rad]:[Rad]]=0,-1,IF($EY107>_xlfn.AGGREGATE(2,6,Medel_T[[Slut]:[Slut]]),0,INDEX(Medel_T[],Hist_Tab[[#This Row],[Ref]:[Ref]],MATCH(Hist_Tab[[#Headers],[HöA T]],Medel_T[#Headers],0))))","v":0},{"$f":"IF(Hist_Tab[[#This Row],[Rad]:[Rad]]=0,0,IF($EY107>_xlfn.AGGREGATE(2,6,Medel_T[[Slut]:[Slut]]),0,INDEX(Medel_T[],Hist_Tab[[#This Row],[Ref]:[Ref]],MATCH(Hist_Tab[[#Headers],[AöA T]],Medel_T[#Headers],0))))","v":0},{"$f":"IF(Hist_Tab[[#This Row],[Rad]:[Rad]]=0,0,IF($EY107>_xlfn.AGGREGATE(2,6,Medel_T[[Slut]:[Slut]]),0,INDEX(Medel_T[],Hist_Tab[[#This Row],[Ref]:[Ref]],MATCH(Hist_Tab[[#Headers],[4AM T]],Medel_T[#Headers],0))))","v":0},{"$f":"IF(Hist_Tab[[#This Row],[Rad]:[Rad]]=0,0,IF($EY107>_xlfn.AGGREGATE(2,6,Medel_T[[Slut]:[Slut]]),0,INDEX(Medel_T[],Hist_Tab[[#This Row],[Ref]:[Ref]],MATCH(Hist_Tab[[#Headers],[15AM T]],Medel_T[#Headers],0))))","v":0},{"$f":"IF(Hist_Tab[[#This Row],[Rad]:[Rad]]=0,0,IF($EY107>_xlfn.AGGREGATE(2,6,Medel_T[[Slut]:[Slut]]),0,INDEX(Medel_T[],Hist_Tab[[#This Row],[Ref]:[Ref]],MATCH(Hist_Tab[[#Headers],[20-10D T]],Medel_T[#Headers],0))))","v":0}]
[null,null,null,null,null,null,null,null,null,null,null,null,null,null,null,null,null,null,null,null,null,null,null,null,null,null,null,null,null,null,null,null,null,null,null,null,null,null,null,null,null,null,null,null,null,null,null,null,null,null,null,null,null,null,null,null,null,null,null,null,null,null,null,null,null,null,null,null,null,null,null,null,null,null,null,null,null,null,null,null,null,null,null,null,null,null,null,null,null,null,null,null,null,null,null,null,null,null,null,null,null,null,null,null,null,null,null,null,null,null,null,null,null,null,null,null,null,null,null,null,null,null,null,null,null,null,null,null,null,null,null,null,null,null,null,null,null,null,null,null,null,null,null,null,null,null,null,null,null,null,null,null,{"$f":"ROWS($EW$20:EW107)","v":88},{"$f":"IFERROR(MATCH(Hist_Tab[[#This Row],[Ref]],Medel_T[NrX],0),1)","v":1},{"$f":"INT((ROW(Hist_Tab[[#This Row],[Ref]])-ROW(Hist_Tab[[#Headers],[Ref]])-1)/4)+1","v":23},{"$f":"COUNTIF($EY$19:EY107,Hist_Tab[[#This Row],[Ref]])","v":1},{"$f":"IFERROR(INDEX(Medel_T[Start],Hist_Tab[[#This Row],[Ref]]),_xlfn.AGGREGATE(4,6,Medel_T[Start]))","v":"00:00:00"},{"$f":"IFERROR(INDEX(Medel_T[Slut],Hist_Tab[[#This Row],[Ref]]),_xlfn.AGGREGATE(4,6,Medel_T[Slut]))","v":"00:00:00"},{"$f":"IF(EW106=0,Hist_Tab[[#This Row],[ÅrB]],IF(Hist_Tab[[#This Row],[per/p]]<2,Hist_Tab[[#This Row],[ÅrB]],Hist_Tab[[#This Row],[År S]]))","v":"00:00:00"},{"$f":"IF(Hist_Tab[[#This Row],[Rad]:[Rad]]=0,-1,IF($EY108>_xlfn.AGGREGATE(2,6,Medel_T[[Slut]:[Slut]]),0,INDEX(Medel_T[],Hist_Tab[[#This Row],[Ref]:[Ref]],MATCH(Hist_Tab[[#Headers],[HöA T]],Medel_T[#Headers],0))))","v":0},{"$f":"IF(Hist_Tab[[#This Row],[Rad]:[Rad]]=0,0,IF($EY108>_xlfn.AGGREGATE(2,6,Medel_T[[Slut]:[Slut]]),0,INDEX(Medel_T[],Hist_Tab[[#This Row],[Ref]:[Ref]],MATCH(Hist_Tab[[#Headers],[AöA T]],Medel_T[#Headers],0))))","v":0},{"$f":"IF(Hist_Tab[[#This Row],[Rad]:[Rad]]=0,0,IF($EY108>_xlfn.AGGREGATE(2,6,Medel_T[[Slut]:[Slut]]),0,INDEX(Medel_T[],Hist_Tab[[#This Row],[Ref]:[Ref]],MATCH(Hist_Tab[[#Headers],[4AM T]],Medel_T[#Headers],0))))","v":0},{"$f":"IF(Hist_Tab[[#This Row],[Rad]:[Rad]]=0,0,IF($EY108>_xlfn.AGGREGATE(2,6,Medel_T[[Slut]:[Slut]]),0,INDEX(Medel_T[],Hist_Tab[[#This Row],[Ref]:[Ref]],MATCH(Hist_Tab[[#Headers],[15AM T]],Medel_T[#Headers],0))))","v":0},{"$f":"IF(Hist_Tab[[#This Row],[Rad]:[Rad]]=0,0,IF($EY108>_xlfn.AGGREGATE(2,6,Medel_T[[Slut]:[Slut]]),0,INDEX(Medel_T[],Hist_Tab[[#This Row],[Ref]:[Ref]],MATCH(Hist_Tab[[#Headers],[20-10D T]],Medel_T[#Headers],0))))","v":0}]
[null,null,null,null,null,null,null,null,null,null,null,null,null,null,null,null,null,null,null,null,null,null,null,null,null,null,null,null,null,null,null,null,null,null,null,null,null,null,null,null,null,null,null,null,null,null,null,null,null,null,null,null,null,null,null,null,null,null,null,null,null,null,null,null,null,null,null,null,null,null,null,null,null,null,null,null,null,null,null,null,null,null,null,null,null,null,null,null,null,null,null,null,null,null,null,null,null,null,null,null,null,null,null,null,null,null,null,null,null,null,null,null,null,null,null,null,null,null,null,null,null,null,null,null,null,null,null,null,null,null,null,null,null,null,null,null,null,null,null,null,null,null,null,null,null,null,null,null,null,null,null,null,{"$f":"ROWS($EW$20:EW108)","v":89},{"$f":"IFERROR(MATCH(Hist_Tab[[#This Row],[Ref]],Medel_T[NrX],0),1)","v":1},{"$f":"INT((ROW(Hist_Tab[[#This Row],[Ref]])-ROW(Hist_Tab[[#Headers],[Ref]])-1)/4)+1","v":23},{"$f":"COUNTIF($EY$19:EY108,Hist_Tab[[#This Row],[Ref]])","v":2},{"$f":"IFERROR(INDEX(Medel_T[Start],Hist_Tab[[#This Row],[Ref]]),_xlfn.AGGREGATE(4,6,Medel_T[Start]))","v":"00:00:00"},{"$f":"IFERROR(INDEX(Medel_T[Slut],Hist_Tab[[#This Row],[Ref]]),_xlfn.AGGREGATE(4,6,Medel_T[Slut]))","v":"00:00:00"},{"$f":"IF(EW107=0,Hist_Tab[[#This Row],[ÅrB]],IF(Hist_Tab[[#This Row],[per/p]]<2,Hist_Tab[[#This Row],[ÅrB]],Hist_Tab[[#This Row],[År S]]))","v":"00:00:00"},{"$f":"IF(Hist_Tab[[#This Row],[Rad]:[Rad]]=0,-1,IF($EY109>_xlfn.AGGREGATE(2,6,Medel_T[[Slut]:[Slut]]),0,INDEX(Medel_T[],Hist_Tab[[#This Row],[Ref]:[Ref]],MATCH(Hist_Tab[[#Headers],[HöA T]],Medel_T[#Headers],0))))","v":0},{"$f":"IF(Hist_Tab[[#This Row],[Rad]:[Rad]]=0,0,IF($EY109>_xlfn.AGGREGATE(2,6,Medel_T[[Slut]:[Slut]]),0,INDEX(Medel_T[],Hist_Tab[[#This Row],[Ref]:[Ref]],MATCH(Hist_Tab[[#Headers],[AöA T]],Medel_T[#Headers],0))))","v":0},{"$f":"IF(Hist_Tab[[#This Row],[Rad]:[Rad]]=0,0,IF($EY109>_xlfn.AGGREGATE(2,6,Medel_T[[Slut]:[Slut]]),0,INDEX(Medel_T[],Hist_Tab[[#This Row],[Ref]:[Ref]],MATCH(Hist_Tab[[#Headers],[4AM T]],Medel_T[#Headers],0))))","v":0},{"$f":"IF(Hist_Tab[[#This Row],[Rad]:[Rad]]=0,0,IF($EY109>_xlfn.AGGREGATE(2,6,Medel_T[[Slut]:[Slut]]),0,INDEX(Medel_T[],Hist_Tab[[#This Row],[Ref]:[Ref]],MATCH(Hist_Tab[[#Headers],[15AM T]],Medel_T[#Headers],0))))","v":0},{"$f":"IF(Hist_Tab[[#This Row],[Rad]:[Rad]]=0,0,IF($EY109>_xlfn.AGGREGATE(2,6,Medel_T[[Slut]:[Slut]]),0,INDEX(Medel_T[],Hist_Tab[[#This Row],[Ref]:[Ref]],MATCH(Hist_Tab[[#Headers],[20-10D T]],Medel_T[#Headers],0))))","v":0}]
[null,null,null,null,null,null,null,null,null,null,null,null,null,null,null,null,null,null,null,null,null,null,null,null,null,null,null,null,null,null,null,null,null,null,null,null,null,null,null,null,null,null,null,null,null,null,null,null,null,null,null,null,null,null,null,null,null,null,null,null,null,null,null,null,null,null,null,null,null,null,null,null,null,null,null,null,null,null,null,null,null,null,null,null,null,null,null,null,null,null,null,null,null,null,null,null,null,null,null,null,null,null,null,null,null,null,null,null,null,null,null,null,null,null,null,null,null,null,null,null,null,null,null,null,null,null,null,null,null,null,null,null,null,null,null,null,null,null,null,null,null,null,null,null,null,null,null,null,null,null,null,null,{"$f":"ROWS($EW$20:EW109)","v":90},{"$f":"IFERROR(MATCH(Hist_Tab[[#This Row],[Ref]],Medel_T[NrX],0),1)","v":1},{"$f":"INT((ROW(Hist_Tab[[#This Row],[Ref]])-ROW(Hist_Tab[[#Headers],[Ref]])-1)/4)+1","v":23},{"$f":"COUNTIF($EY$19:EY109,Hist_Tab[[#This Row],[Ref]])","v":3},{"$f":"IFERROR(INDEX(Medel_T[Start],Hist_Tab[[#This Row],[Ref]]),_xlfn.AGGREGATE(4,6,Medel_T[Start]))","v":"00:00:00"},{"$f":"IFERROR(INDEX(Medel_T[Slut],Hist_Tab[[#This Row],[Ref]]),_xlfn.AGGREGATE(4,6,Medel_T[Slut]))","v":"00:00:00"},{"$f":"IF(EW108=0,Hist_Tab[[#This Row],[ÅrB]],IF(Hist_Tab[[#This Row],[per/p]]<2,Hist_Tab[[#This Row],[ÅrB]],Hist_Tab[[#This Row],[År S]]))","v":"00:00:00"},{"$f":"IF(Hist_Tab[[#This Row],[Rad]:[Rad]]=0,-1,IF($EY110>_xlfn.AGGREGATE(2,6,Medel_T[[Slut]:[Slut]]),0,INDEX(Medel_T[],Hist_Tab[[#This Row],[Ref]:[Ref]],MATCH(Hist_Tab[[#Headers],[HöA T]],Medel_T[#Headers],0))))","v":0},{"$f":"IF(Hist_Tab[[#This Row],[Rad]:[Rad]]=0,0,IF($EY110>_xlfn.AGGREGATE(2,6,Medel_T[[Slut]:[Slut]]),0,INDEX(Medel_T[],Hist_Tab[[#This Row],[Ref]:[Ref]],MATCH(Hist_Tab[[#Headers],[AöA T]],Medel_T[#Headers],0))))","v":0},{"$f":"IF(Hist_Tab[[#This Row],[Rad]:[Rad]]=0,0,IF($EY110>_xlfn.AGGREGATE(2,6,Medel_T[[Slut]:[Slut]]),0,INDEX(Medel_T[],Hist_Tab[[#This Row],[Ref]:[Ref]],MATCH(Hist_Tab[[#Headers],[4AM T]],Medel_T[#Headers],0))))","v":0},{"$f":"IF(Hist_Tab[[#This Row],[Rad]:[Rad]]=0,0,IF($EY110>_xlfn.AGGREGATE(2,6,Medel_T[[Slut]:[Slut]]),0,INDEX(Medel_T[],Hist_Tab[[#This Row],[Ref]:[Ref]],MATCH(Hist_Tab[[#Headers],[15AM T]],Medel_T[#Headers],0))))","v":0},{"$f":"IF(Hist_Tab[[#This Row],[Rad]:[Rad]]=0,0,IF($EY110>_xlfn.AGGREGATE(2,6,Medel_T[[Slut]:[Slut]]),0,INDEX(Medel_T[],Hist_Tab[[#This Row],[Ref]:[Ref]],MATCH(Hist_Tab[[#Headers],[20-10D T]],Medel_T[#Headers],0))))","v":0}]
[null,null,null,null,null,null,null,null,null,null,null,null,null,null,null,null,null,null,null,null,null,null,null,null,null,null,null,null,null,null,null,null,null,null,null,null,null,null,null,null,null,null,null,null,null,null,null,null,null,null,null,null,null,null,null,null,null,null,null,null,null,null,null,null,null,null,null,null,null,null,null,null,null,null,null,null,null,null,null,null,null,null,null,null,null,null,null,null,null,null,null,null,null,null,null,null,null,null,null,null,null,null,null,null,null,null,null,null,null,null,null,null,null,null,null,null,null,null,null,null,null,null,null,null,null,null,null,null,null,null,null,null,null,null,null,null,null,null,null,null,null,null,null,null,null,null,null,null,null,null,null,null,{"$f":"ROWS($EW$20:EW110)","v":91},{"$f":"IFERROR(MATCH(Hist_Tab[[#This Row],[Ref]],Medel_T[NrX],0),1)","v":1},{"$f":"INT((ROW(Hist_Tab[[#This Row],[Ref]])-ROW(Hist_Tab[[#Headers],[Ref]])-1)/4)+1","v":23},{"$f":"COUNTIF($EY$19:EY110,Hist_Tab[[#This Row],[Ref]])","v":4},{"$f":"IFERROR(INDEX(Medel_T[Start],Hist_Tab[[#This Row],[Ref]]),_xlfn.AGGREGATE(4,6,Medel_T[Start]))","v":"00:00:00"},{"$f":"IFERROR(INDEX(Medel_T[Slut],Hist_Tab[[#This Row],[Ref]]),_xlfn.AGGREGATE(4,6,Medel_T[Slut]))","v":"00:00:00"},{"$f":"IF(EW109=0,Hist_Tab[[#This Row],[ÅrB]],IF(Hist_Tab[[#This Row],[per/p]]<2,Hist_Tab[[#This Row],[ÅrB]],Hist_Tab[[#This Row],[År S]]))","v":"00:00:00"},{"$f":"IF(Hist_Tab[[#This Row],[Rad]:[Rad]]=0,-1,IF($EY111>_xlfn.AGGREGATE(2,6,Medel_T[[Slut]:[Slut]]),0,INDEX(Medel_T[],Hist_Tab[[#This Row],[Ref]:[Ref]],MATCH(Hist_Tab[[#Headers],[HöA T]],Medel_T[#Headers],0))))","v":0},{"$f":"IF(Hist_Tab[[#This Row],[Rad]:[Rad]]=0,0,IF($EY111>_xlfn.AGGREGATE(2,6,Medel_T[[Slut]:[Slut]]),0,INDEX(Medel_T[],Hist_Tab[[#This Row],[Ref]:[Ref]],MATCH(Hist_Tab[[#Headers],[AöA T]],Medel_T[#Headers],0))))","v":0},{"$f":"IF(Hist_Tab[[#This Row],[Rad]:[Rad]]=0,0,IF($EY111>_xlfn.AGGREGATE(2,6,Medel_T[[Slut]:[Slut]]),0,INDEX(Medel_T[],Hist_Tab[[#This Row],[Ref]:[Ref]],MATCH(Hist_Tab[[#Headers],[4AM T]],Medel_T[#Headers],0))))","v":0},{"$f":"IF(Hist_Tab[[#This Row],[Rad]:[Rad]]=0,0,IF($EY111>_xlfn.AGGREGATE(2,6,Medel_T[[Slut]:[Slut]]),0,INDEX(Medel_T[],Hist_Tab[[#This Row],[Ref]:[Ref]],MATCH(Hist_Tab[[#Headers],[15AM T]],Medel_T[#Headers],0))))","v":0},{"$f":"IF(Hist_Tab[[#This Row],[Rad]:[Rad]]=0,0,IF($EY111>_xlfn.AGGREGATE(2,6,Medel_T[[Slut]:[Slut]]),0,INDEX(Medel_T[],Hist_Tab[[#This Row],[Ref]:[Ref]],MATCH(Hist_Tab[[#Headers],[20-10D T]],Medel_T[#Headers],0))))","v":0}]
[null,null,null,null,null,null,null,null,null,null,null,null,null,null,null,null,null,null,null,null,null,null,null,null,null,null,null,null,null,null,null,null,null,null,null,null,null,null,null,null,null,null,null,null,null,null,null,null,null,null,null,null,null,null,null,null,null,null,null,null,null,null,null,null,null,null,null,null,null,null,null,null,null,null,null,null,null,null,null,null,null,null,null,null,null,null,null,null,null,null,null,null,null,null,null,null,null,null,null,null,null,null,null,null,null,null,null,null,null,null,null,null,null,null,null,null,null,null,null,null,null,null,null,null,null,null,null,null,null,null,null,null,null,null,null,null,null,null,null,null,null,null,null,null,null,null,null,null,null,null,null,null,{"$f":"ROWS($EW$20:EW111)","v":92},{"$f":"IFERROR(MATCH(Hist_Tab[[#This Row],[Ref]],Medel_T[NrX],0),1)","v":1},{"$f":"INT((ROW(Hist_Tab[[#This Row],[Ref]])-ROW(Hist_Tab[[#Headers],[Ref]])-1)/4)+1","v":24},{"$f":"COUNTIF($EY$19:EY111,Hist_Tab[[#This Row],[Ref]])","v":1},{"$f":"IFERROR(INDEX(Medel_T[Start],Hist_Tab[[#This Row],[Ref]]),_xlfn.AGGREGATE(4,6,Medel_T[Start]))","v":"00:00:00"},{"$f":"IFERROR(INDEX(Medel_T[Slut],Hist_Tab[[#This Row],[Ref]]),_xlfn.AGGREGATE(4,6,Medel_T[Slut]))","v":"00:00:00"},{"$f":"IF(EW110=0,Hist_Tab[[#This Row],[ÅrB]],IF(Hist_Tab[[#This Row],[per/p]]<2,Hist_Tab[[#This Row],[ÅrB]],Hist_Tab[[#This Row],[År S]]))","v":"00:00:00"},{"$f":"IF(Hist_Tab[[#This Row],[Rad]:[Rad]]=0,-1,IF($EY112>_xlfn.AGGREGATE(2,6,Medel_T[[Slut]:[Slut]]),0,INDEX(Medel_T[],Hist_Tab[[#This Row],[Ref]:[Ref]],MATCH(Hist_Tab[[#Headers],[HöA T]],Medel_T[#Headers],0))))","v":0},{"$f":"IF(Hist_Tab[[#This Row],[Rad]:[Rad]]=0,0,IF($EY112>_xlfn.AGGREGATE(2,6,Medel_T[[Slut]:[Slut]]),0,INDEX(Medel_T[],Hist_Tab[[#This Row],[Ref]:[Ref]],MATCH(Hist_Tab[[#Headers],[AöA T]],Medel_T[#Headers],0))))","v":0},{"$f":"IF(Hist_Tab[[#This Row],[Rad]:[Rad]]=0,0,IF($EY112>_xlfn.AGGREGATE(2,6,Medel_T[[Slut]:[Slut]]),0,INDEX(Medel_T[],Hist_Tab[[#This Row],[Ref]:[Ref]],MATCH(Hist_Tab[[#Headers],[4AM T]],Medel_T[#Headers],0))))","v":0},{"$f":"IF(Hist_Tab[[#This Row],[Rad]:[Rad]]=0,0,IF($EY112>_xlfn.AGGREGATE(2,6,Medel_T[[Slut]:[Slut]]),0,INDEX(Medel_T[],Hist_Tab[[#This Row],[Ref]:[Ref]],MATCH(Hist_Tab[[#Headers],[15AM T]],Medel_T[#Headers],0))))","v":0},{"$f":"IF(Hist_Tab[[#This Row],[Rad]:[Rad]]=0,0,IF($EY112>_xlfn.AGGREGATE(2,6,Medel_T[[Slut]:[Slut]]),0,INDEX(Medel_T[],Hist_Tab[[#This Row],[Ref]:[Ref]],MATCH(Hist_Tab[[#Headers],[20-10D T]],Medel_T[#Headers],0))))","v":0}]
[null,null,null,null,null,null,null,null,null,null,null,null,null,null,null,null,null,null,null,null,null,null,null,null,null,null,null,null,null,null,null,null,null,null,null,null,null,null,null,null,null,null,null,null,null,null,null,null,null,null,null,null,null,null,null,null,null,null,null,null,null,null,null,null,null,null,null,null,null,null,null,null,null,null,null,null,null,null,null,null,null,null,null,null,null,null,null,null,null,null,null,null,null,null,null,null,null,null,null,null,null,null,null,null,null,null,null,null,null,null,null,null,null,null,null,null,null,null,null,null,null,null,null,null,null,null,null,null,null,null,null,null,null,null,null,null,null,null,null,null,null,null,null,null,null,null,null,null,null,null,null,null,{"$f":"ROWS($EW$20:EW112)","v":93},{"$f":"IFERROR(MATCH(Hist_Tab[[#This Row],[Ref]],Medel_T[NrX],0),1)","v":1},{"$f":"INT((ROW(Hist_Tab[[#This Row],[Ref]])-ROW(Hist_Tab[[#Headers],[Ref]])-1)/4)+1","v":24},{"$f":"COUNTIF($EY$19:EY112,Hist_Tab[[#This Row],[Ref]])","v":2},{"$f":"IFERROR(INDEX(Medel_T[Start],Hist_Tab[[#This Row],[Ref]]),_xlfn.AGGREGATE(4,6,Medel_T[Start]))","v":"00:00:00"},{"$f":"IFERROR(INDEX(Medel_T[Slut],Hist_Tab[[#This Row],[Ref]]),_xlfn.AGGREGATE(4,6,Medel_T[Slut]))","v":"00:00:00"},{"$f":"IF(EW111=0,Hist_Tab[[#This Row],[ÅrB]],IF(Hist_Tab[[#This Row],[per/p]]<2,Hist_Tab[[#This Row],[ÅrB]],Hist_Tab[[#This Row],[År S]]))","v":"00:00:00"},{"$f":"IF(Hist_Tab[[#This Row],[Rad]:[Rad]]=0,-1,IF($EY113>_xlfn.AGGREGATE(2,6,Medel_T[[Slut]:[Slut]]),0,INDEX(Medel_T[],Hist_Tab[[#This Row],[Ref]:[Ref]],MATCH(Hist_Tab[[#Headers],[HöA T]],Medel_T[#Headers],0))))","v":0},{"$f":"IF(Hist_Tab[[#This Row],[Rad]:[Rad]]=0,0,IF($EY113>_xlfn.AGGREGATE(2,6,Medel_T[[Slut]:[Slut]]),0,INDEX(Medel_T[],Hist_Tab[[#This Row],[Ref]:[Ref]],MATCH(Hist_Tab[[#Headers],[AöA T]],Medel_T[#Headers],0))))","v":0},{"$f":"IF(Hist_Tab[[#This Row],[Rad]:[Rad]]=0,0,IF($EY113>_xlfn.AGGREGATE(2,6,Medel_T[[Slut]:[Slut]]),0,INDEX(Medel_T[],Hist_Tab[[#This Row],[Ref]:[Ref]],MATCH(Hist_Tab[[#Headers],[4AM T]],Medel_T[#Headers],0))))","v":0},{"$f":"IF(Hist_Tab[[#This Row],[Rad]:[Rad]]=0,0,IF($EY113>_xlfn.AGGREGATE(2,6,Medel_T[[Slut]:[Slut]]),0,INDEX(Medel_T[],Hist_Tab[[#This Row],[Ref]:[Ref]],MATCH(Hist_Tab[[#Headers],[15AM T]],Medel_T[#Headers],0))))","v":0},{"$f":"IF(Hist_Tab[[#This Row],[Rad]:[Rad]]=0,0,IF($EY113>_xlfn.AGGREGATE(2,6,Medel_T[[Slut]:[Slut]]),0,INDEX(Medel_T[],Hist_Tab[[#This Row],[Ref]:[Ref]],MATCH(Hist_Tab[[#Headers],[20-10D T]],Medel_T[#Headers],0))))","v":0}]
[null,null,null,null,null,null,null,null,null,null,null,null,null,null,null,null,null,null,null,null,null,null,null,null,null,null,null,null,null,null,null,null,null,null,null,null,null,null,null,null,null,null,null,null,null,null,null,null,null,null,null,null,null,null,null,null,null,null,null,null,null,null,null,null,null,null,null,null,null,null,null,null,null,null,null,null,null,null,null,null,null,null,null,null,null,null,null,null,null,null,null,null,null,null,null,null,null,null,null,null,null,null,null,null,null,null,null,null,null,null,null,null,null,null,null,null,null,null,null,null,null,null,null,null,null,null,null,null,null,null,null,null,null,null,null,null,null,null,null,null,null,null,null,null,null,null,null,null,null,null,null,null,{"$f":"ROWS($EW$20:EW113)","v":94},{"$f":"IFERROR(MATCH(Hist_Tab[[#This Row],[Ref]],Medel_T[NrX],0),1)","v":1},{"$f":"INT((ROW(Hist_Tab[[#This Row],[Ref]])-ROW(Hist_Tab[[#Headers],[Ref]])-1)/4)+1","v":24},{"$f":"COUNTIF($EY$19:EY113,Hist_Tab[[#This Row],[Ref]])","v":3},{"$f":"IFERROR(INDEX(Medel_T[Start],Hist_Tab[[#This Row],[Ref]]),_xlfn.AGGREGATE(4,6,Medel_T[Start]))","v":"00:00:00"},{"$f":"IFERROR(INDEX(Medel_T[Slut],Hist_Tab[[#This Row],[Ref]]),_xlfn.AGGREGATE(4,6,Medel_T[Slut]))","v":"00:00:00"},{"$f":"IF(EW112=0,Hist_Tab[[#This Row],[ÅrB]],IF(Hist_Tab[[#This Row],[per/p]]<2,Hist_Tab[[#This Row],[ÅrB]],Hist_Tab[[#This Row],[År S]]))","v":"00:00:00"},{"$f":"IF(Hist_Tab[[#This Row],[Rad]:[Rad]]=0,-1,IF($EY114>_xlfn.AGGREGATE(2,6,Medel_T[[Slut]:[Slut]]),0,INDEX(Medel_T[],Hist_Tab[[#This Row],[Ref]:[Ref]],MATCH(Hist_Tab[[#Headers],[HöA T]],Medel_T[#Headers],0))))","v":0},{"$f":"IF(Hist_Tab[[#This Row],[Rad]:[Rad]]=0,0,IF($EY114>_xlfn.AGGREGATE(2,6,Medel_T[[Slut]:[Slut]]),0,INDEX(Medel_T[],Hist_Tab[[#This Row],[Ref]:[Ref]],MATCH(Hist_Tab[[#Headers],[AöA T]],Medel_T[#Headers],0))))","v":0},{"$f":"IF(Hist_Tab[[#This Row],[Rad]:[Rad]]=0,0,IF($EY114>_xlfn.AGGREGATE(2,6,Medel_T[[Slut]:[Slut]]),0,INDEX(Medel_T[],Hist_Tab[[#This Row],[Ref]:[Ref]],MATCH(Hist_Tab[[#Headers],[4AM T]],Medel_T[#Headers],0))))","v":0},{"$f":"IF(Hist_Tab[[#This Row],[Rad]:[Rad]]=0,0,IF($EY114>_xlfn.AGGREGATE(2,6,Medel_T[[Slut]:[Slut]]),0,INDEX(Medel_T[],Hist_Tab[[#This Row],[Ref]:[Ref]],MATCH(Hist_Tab[[#Headers],[15AM T]],Medel_T[#Headers],0))))","v":0},{"$f":"IF(Hist_Tab[[#This Row],[Rad]:[Rad]]=0,0,IF($EY114>_xlfn.AGGREGATE(2,6,Medel_T[[Slut]:[Slut]]),0,INDEX(Medel_T[],Hist_Tab[[#This Row],[Ref]:[Ref]],MATCH(Hist_Tab[[#Headers],[20-10D T]],Medel_T[#Headers],0))))","v":0}]
[null,null,null,null,null,null,null,null,null,null,null,null,null,null,null,null,null,null,null,null,null,null,null,null,null,null,null,null,null,null,null,null,null,null,null,null,null,null,null,null,null,null,null,null,null,null,null,null,null,null,null,null,null,null,null,null,null,null,null,null,null,null,null,null,null,null,null,null,null,null,null,null,null,null,null,null,null,null,null,null,null,null,null,null,null,null,null,null,null,null,null,null,null,null,null,null,null,null,null,null,null,null,null,null,null,null,null,null,null,null,null,null,null,null,null,null,null,null,null,null,null,null,null,null,null,null,null,null,null,null,null,null,null,null,null,null,null,null,null,null,null,null,null,null,null,null,null,null,null,null,null,null,{"$f":"ROWS($EW$20:EW114)","v":95},{"$f":"IFERROR(MATCH(Hist_Tab[[#This Row],[Ref]],Medel_T[NrX],0),1)","v":1},{"$f":"INT((ROW(Hist_Tab[[#This Row],[Ref]])-ROW(Hist_Tab[[#Headers],[Ref]])-1)/4)+1","v":24},{"$f":"COUNTIF($EY$19:EY114,Hist_Tab[[#This Row],[Ref]])","v":4},{"$f":"IFERROR(INDEX(Medel_T[Start],Hist_Tab[[#This Row],[Ref]]),_xlfn.AGGREGATE(4,6,Medel_T[Start]))","v":"00:00:00"},{"$f":"IFERROR(INDEX(Medel_T[Slut],Hist_Tab[[#This Row],[Ref]]),_xlfn.AGGREGATE(4,6,Medel_T[Slut]))","v":"00:00:00"},{"$f":"IF(EW113=0,Hist_Tab[[#This Row],[ÅrB]],IF(Hist_Tab[[#This Row],[per/p]]<2,Hist_Tab[[#This Row],[ÅrB]],Hist_Tab[[#This Row],[År S]]))","v":"00:00:00"},{"$f":"IF(Hist_Tab[[#This Row],[Rad]:[Rad]]=0,-1,IF($EY115>_xlfn.AGGREGATE(2,6,Medel_T[[Slut]:[Slut]]),0,INDEX(Medel_T[],Hist_Tab[[#This Row],[Ref]:[Ref]],MATCH(Hist_Tab[[#Headers],[HöA T]],Medel_T[#Headers],0))))","v":0},{"$f":"IF(Hist_Tab[[#This Row],[Rad]:[Rad]]=0,0,IF($EY115>_xlfn.AGGREGATE(2,6,Medel_T[[Slut]:[Slut]]),0,INDEX(Medel_T[],Hist_Tab[[#This Row],[Ref]:[Ref]],MATCH(Hist_Tab[[#Headers],[AöA T]],Medel_T[#Headers],0))))","v":0},{"$f":"IF(Hist_Tab[[#This Row],[Rad]:[Rad]]=0,0,IF($EY115>_xlfn.AGGREGATE(2,6,Medel_T[[Slut]:[Slut]]),0,INDEX(Medel_T[],Hist_Tab[[#This Row],[Ref]:[Ref]],MATCH(Hist_Tab[[#Headers],[4AM T]],Medel_T[#Headers],0))))","v":0},{"$f":"IF(Hist_Tab[[#This Row],[Rad]:[Rad]]=0,0,IF($EY115>_xlfn.AGGREGATE(2,6,Medel_T[[Slut]:[Slut]]),0,INDEX(Medel_T[],Hist_Tab[[#This Row],[Ref]:[Ref]],MATCH(Hist_Tab[[#Headers],[15AM T]],Medel_T[#Headers],0))))","v":0},{"$f":"IF(Hist_Tab[[#This Row],[Rad]:[Rad]]=0,0,IF($EY115>_xlfn.AGGREGATE(2,6,Medel_T[[Slut]:[Slut]]),0,INDEX(Medel_T[],Hist_Tab[[#This Row],[Ref]:[Ref]],MATCH(Hist_Tab[[#Headers],[20-10D T]],Medel_T[#Headers],0))))","v":0}]
[null,null,null,null,null,null,null,null,null,null,null,null,null,null,null,null,null,null,null,null,null,null,null,null,null,null,null,null,null,null,null,null,null,null,null,null,null,null,null,null,null,null,null,null,null,null,null,null,null,null,null,null,null,null,null,null,null,null,null,null,null,null,null,null,null,null,null,null,null,null,null,null,null,null,null,null,null,null,null,null,null,null,null,null,null,null,null,null,null,null,null,null,null,null,null,null,null,null,null,null,null,null,null,null,null,null,null,null,null,null,null,null,null,null,null,null,null,null,null,null,null,null,null,null,null,null,null,null,null,null,null,null,null,null,null,null,null,null,null,null,null,null,null,null,null,null,null,null,null,null,null,null,{"$f":"ROWS($EW$20:EW115)","v":96},{"$f":"IFERROR(MATCH(Hist_Tab[[#This Row],[Ref]],Medel_T[NrX],0),1)","v":1},{"$f":"INT((ROW(Hist_Tab[[#This Row],[Ref]])-ROW(Hist_Tab[[#Headers],[Ref]])-1)/4)+1","v":25},{"$f":"COUNTIF($EY$19:EY115,Hist_Tab[[#This Row],[Ref]])","v":1},{"$f":"IFERROR(INDEX(Medel_T[Start],Hist_Tab[[#This Row],[Ref]]),_xlfn.AGGREGATE(4,6,Medel_T[Start]))","v":"00:00:00"},{"$f":"IFERROR(INDEX(Medel_T[Slut],Hist_Tab[[#This Row],[Ref]]),_xlfn.AGGREGATE(4,6,Medel_T[Slut]))","v":"00:00:00"},{"$f":"IF(EW114=0,Hist_Tab[[#This Row],[ÅrB]],IF(Hist_Tab[[#This Row],[per/p]]<2,Hist_Tab[[#This Row],[ÅrB]],Hist_Tab[[#This Row],[År S]]))","v":"00:00:00"},{"$f":"IF(Hist_Tab[[#This Row],[Rad]:[Rad]]=0,-1,IF($EY116>_xlfn.AGGREGATE(2,6,Medel_T[[Slut]:[Slut]]),0,INDEX(Medel_T[],Hist_Tab[[#This Row],[Ref]:[Ref]],MATCH(Hist_Tab[[#Headers],[HöA T]],Medel_T[#Headers],0))))","v":0},{"$f":"IF(Hist_Tab[[#This Row],[Rad]:[Rad]]=0,0,IF($EY116>_xlfn.AGGREGATE(2,6,Medel_T[[Slut]:[Slut]]),0,INDEX(Medel_T[],Hist_Tab[[#This Row],[Ref]:[Ref]],MATCH(Hist_Tab[[#Headers],[AöA T]],Medel_T[#Headers],0))))","v":0},{"$f":"IF(Hist_Tab[[#This Row],[Rad]:[Rad]]=0,0,IF($EY116>_xlfn.AGGREGATE(2,6,Medel_T[[Slut]:[Slut]]),0,INDEX(Medel_T[],Hist_Tab[[#This Row],[Ref]:[Ref]],MATCH(Hist_Tab[[#Headers],[4AM T]],Medel_T[#Headers],0))))","v":0},{"$f":"IF(Hist_Tab[[#This Row],[Rad]:[Rad]]=0,0,IF($EY116>_xlfn.AGGREGATE(2,6,Medel_T[[Slut]:[Slut]]),0,INDEX(Medel_T[],Hist_Tab[[#This Row],[Ref]:[Ref]],MATCH(Hist_Tab[[#Headers],[15AM T]],Medel_T[#Headers],0))))","v":0},{"$f":"IF(Hist_Tab[[#This Row],[Rad]:[Rad]]=0,0,IF($EY116>_xlfn.AGGREGATE(2,6,Medel_T[[Slut]:[Slut]]),0,INDEX(Medel_T[],Hist_Tab[[#This Row],[Ref]:[Ref]],MATCH(Hist_Tab[[#Headers],[20-10D T]],Medel_T[#Headers],0))))","v":0}]
[null,null,null,null,null,null,null,null,null,null,null,null,null,null,null,null,null,null,null,null,null,null,null,null,null,null,null,null,null,null,null,null,null,null,null,null,null,null,null,null,null,null,null,null,null,null,null,null,null,null,null,null,null,null,null,null,null,null,null,null,null,null,null,null,null,null,null,null,null,null,null,null,null,null,null,null,null,null,null,null,null,null,null,null,null,null,null,null,null,null,null,null,null,null,null,null,null,null,null,null,null,null,null,null,null,null,null,null,null,null,null,null,null,null,null,null,null,null,null,null,null,null,null,null,null,null,null,null,null,null,null,null,null,null,null,null,null,null,null,null,null,null,null,null,null,null,null,null,null,null,null,null,{"$f":"ROWS($EW$20:EW116)","v":97},{"$f":"IFERROR(MATCH(Hist_Tab[[#This Row],[Ref]],Medel_T[NrX],0),1)","v":1},{"$f":"INT((ROW(Hist_Tab[[#This Row],[Ref]])-ROW(Hist_Tab[[#Headers],[Ref]])-1)/4)+1","v":25},{"$f":"COUNTIF($EY$19:EY116,Hist_Tab[[#This Row],[Ref]])","v":2},{"$f":"IFERROR(INDEX(Medel_T[Start],Hist_Tab[[#This Row],[Ref]]),_xlfn.AGGREGATE(4,6,Medel_T[Start]))","v":"00:00:00"},{"$f":"IFERROR(INDEX(Medel_T[Slut],Hist_Tab[[#This Row],[Ref]]),_xlfn.AGGREGATE(4,6,Medel_T[Slut]))","v":"00:00:00"},{"$f":"IF(EW115=0,Hist_Tab[[#This Row],[ÅrB]],IF(Hist_Tab[[#This Row],[per/p]]<2,Hist_Tab[[#This Row],[ÅrB]],Hist_Tab[[#This Row],[År S]]))","v":"00:00:00"},{"$f":"IF(Hist_Tab[[#This Row],[Rad]:[Rad]]=0,-1,IF($EY117>_xlfn.AGGREGATE(2,6,Medel_T[[Slut]:[Slut]]),0,INDEX(Medel_T[],Hist_Tab[[#This Row],[Ref]:[Ref]],MATCH(Hist_Tab[[#Headers],[HöA T]],Medel_T[#Headers],0))))","v":0},{"$f":"IF(Hist_Tab[[#This Row],[Rad]:[Rad]]=0,0,IF($EY117>_xlfn.AGGREGATE(2,6,Medel_T[[Slut]:[Slut]]),0,INDEX(Medel_T[],Hist_Tab[[#This Row],[Ref]:[Ref]],MATCH(Hist_Tab[[#Headers],[AöA T]],Medel_T[#Headers],0))))","v":0},{"$f":"IF(Hist_Tab[[#This Row],[Rad]:[Rad]]=0,0,IF($EY117>_xlfn.AGGREGATE(2,6,Medel_T[[Slut]:[Slut]]),0,INDEX(Medel_T[],Hist_Tab[[#This Row],[Ref]:[Ref]],MATCH(Hist_Tab[[#Headers],[4AM T]],Medel_T[#Headers],0))))","v":0},{"$f":"IF(Hist_Tab[[#This Row],[Rad]:[Rad]]=0,0,IF($EY117>_xlfn.AGGREGATE(2,6,Medel_T[[Slut]:[Slut]]),0,INDEX(Medel_T[],Hist_Tab[[#This Row],[Ref]:[Ref]],MATCH(Hist_Tab[[#Headers],[15AM T]],Medel_T[#Headers],0))))","v":0},{"$f":"IF(Hist_Tab[[#This Row],[Rad]:[Rad]]=0,0,IF($EY117>_xlfn.AGGREGATE(2,6,Medel_T[[Slut]:[Slut]]),0,INDEX(Medel_T[],Hist_Tab[[#This Row],[Ref]:[Ref]],MATCH(Hist_Tab[[#Headers],[20-10D T]],Medel_T[#Headers],0))))","v":0}]
[null,null,null,null,null,null,null,null,null,null,null,null,null,null,null,null,null,null,null,null,null,null,null,null,null,null,null,null,null,null,null,null,null,null,null,null,null,null,null,null,null,null,null,null,null,null,null,null,null,null,null,null,null,null,null,null,null,null,null,null,null,null,null,null,null,null,null,null,null,null,null,null,null,null,null,null,null,null,null,null,null,null,null,null,null,null,null,null,null,null,null,null,null,null,null,null,null,null,null,null,null,null,null,null,null,null,null,null,null,null,null,null,null,null,null,null,null,null,null,null,null,null,null,null,null,null,null,null,null,null,null,null,null,null,null,null,null,null,null,null,null,null,null,null,null,null,null,null,null,null,null,null,{"$f":"ROWS($EW$20:EW117)","v":98},{"$f":"IFERROR(MATCH(Hist_Tab[[#This Row],[Ref]],Medel_T[NrX],0),1)","v":1},{"$f":"INT((ROW(Hist_Tab[[#This Row],[Ref]])-ROW(Hist_Tab[[#Headers],[Ref]])-1)/4)+1","v":25},{"$f":"COUNTIF($EY$19:EY117,Hist_Tab[[#This Row],[Ref]])","v":3},{"$f":"IFERROR(INDEX(Medel_T[Start],Hist_Tab[[#This Row],[Ref]]),_xlfn.AGGREGATE(4,6,Medel_T[Start]))","v":"00:00:00"},{"$f":"IFERROR(INDEX(Medel_T[Slut],Hist_Tab[[#This Row],[Ref]]),_xlfn.AGGREGATE(4,6,Medel_T[Slut]))","v":"00:00:00"},{"$f":"IF(EW116=0,Hist_Tab[[#This Row],[ÅrB]],IF(Hist_Tab[[#This Row],[per/p]]<2,Hist_Tab[[#This Row],[ÅrB]],Hist_Tab[[#This Row],[År S]]))","v":"00:00:00"},{"$f":"IF(Hist_Tab[[#This Row],[Rad]:[Rad]]=0,-1,IF($EY118>_xlfn.AGGREGATE(2,6,Medel_T[[Slut]:[Slut]]),0,INDEX(Medel_T[],Hist_Tab[[#This Row],[Ref]:[Ref]],MATCH(Hist_Tab[[#Headers],[HöA T]],Medel_T[#Headers],0))))","v":0},{"$f":"IF(Hist_Tab[[#This Row],[Rad]:[Rad]]=0,0,IF($EY118>_xlfn.AGGREGATE(2,6,Medel_T[[Slut]:[Slut]]),0,INDEX(Medel_T[],Hist_Tab[[#This Row],[Ref]:[Ref]],MATCH(Hist_Tab[[#Headers],[AöA T]],Medel_T[#Headers],0))))","v":0},{"$f":"IF(Hist_Tab[[#This Row],[Rad]:[Rad]]=0,0,IF($EY118>_xlfn.AGGREGATE(2,6,Medel_T[[Slut]:[Slut]]),0,INDEX(Medel_T[],Hist_Tab[[#This Row],[Ref]:[Ref]],MATCH(Hist_Tab[[#Headers],[4AM T]],Medel_T[#Headers],0))))","v":0},{"$f":"IF(Hist_Tab[[#This Row],[Rad]:[Rad]]=0,0,IF($EY118>_xlfn.AGGREGATE(2,6,Medel_T[[Slut]:[Slut]]),0,INDEX(Medel_T[],Hist_Tab[[#This Row],[Ref]:[Ref]],MATCH(Hist_Tab[[#Headers],[15AM T]],Medel_T[#Headers],0))))","v":0},{"$f":"IF(Hist_Tab[[#This Row],[Rad]:[Rad]]=0,0,IF($EY118>_xlfn.AGGREGATE(2,6,Medel_T[[Slut]:[Slut]]),0,INDEX(Medel_T[],Hist_Tab[[#This Row],[Ref]:[Ref]],MATCH(Hist_Tab[[#Headers],[20-10D T]],Medel_T[#Headers],0))))","v":0}]
[null,null,null,null,null,null,null,null,null,null,null,null,null,null,null,null,null,null,null,null,null,null,null,null,null,null,null,null,null,null,null,null,null,null,null,null,null,null,null,null,null,null,null,null,null,null,null,null,null,null,null,null,null,null,null,null,null,null,null,null,null,null,null,null,null,null,null,null,null,null,null,null,null,null,null,null,null,null,null,null,null,null,null,null,null,null,null,null,null,null,null,null,null,null,null,null,null,null,null,null,null,null,null,null,null,null,null,null,null,null,null,null,null,null,null,null,null,null,null,null,null,null,null,null,null,null,null,null,null,null,null,null,null,null,null,null,null,null,null,null,null,null,null,null,null,null,null,null,null,null,null,null,{"$f":"ROWS($EW$20:EW118)","v":99},{"$f":"IFERROR(MATCH(Hist_Tab[[#This Row],[Ref]],Medel_T[NrX],0),1)","v":1},{"$f":"INT((ROW(Hist_Tab[[#This Row],[Ref]])-ROW(Hist_Tab[[#Headers],[Ref]])-1)/4)+1","v":25},{"$f":"COUNTIF($EY$19:EY118,Hist_Tab[[#This Row],[Ref]])","v":4},{"$f":"IFERROR(INDEX(Medel_T[Start],Hist_Tab[[#This Row],[Ref]]),_xlfn.AGGREGATE(4,6,Medel_T[Start]))","v":"00:00:00"},{"$f":"IFERROR(INDEX(Medel_T[Slut],Hist_Tab[[#This Row],[Ref]]),_xlfn.AGGREGATE(4,6,Medel_T[Slut]))","v":"00:00:00"},{"$f":"IF(EW117=0,Hist_Tab[[#This Row],[ÅrB]],IF(Hist_Tab[[#This Row],[per/p]]<2,Hist_Tab[[#This Row],[ÅrB]],Hist_Tab[[#This Row],[År S]]))","v":"00:00:00"},{"$f":"IF(Hist_Tab[[#This Row],[Rad]:[Rad]]=0,-1,IF($EY119>_xlfn.AGGREGATE(2,6,Medel_T[[Slut]:[Slut]]),0,INDEX(Medel_T[],Hist_Tab[[#This Row],[Ref]:[Ref]],MATCH(Hist_Tab[[#Headers],[HöA T]],Medel_T[#Headers],0))))","v":0},{"$f":"IF(Hist_Tab[[#This Row],[Rad]:[Rad]]=0,0,IF($EY119>_xlfn.AGGREGATE(2,6,Medel_T[[Slut]:[Slut]]),0,INDEX(Medel_T[],Hist_Tab[[#This Row],[Ref]:[Ref]],MATCH(Hist_Tab[[#Headers],[AöA T]],Medel_T[#Headers],0))))","v":0},{"$f":"IF(Hist_Tab[[#This Row],[Rad]:[Rad]]=0,0,IF($EY119>_xlfn.AGGREGATE(2,6,Medel_T[[Slut]:[Slut]]),0,INDEX(Medel_T[],Hist_Tab[[#This Row],[Ref]:[Ref]],MATCH(Hist_Tab[[#Headers],[4AM T]],Medel_T[#Headers],0))))","v":0},{"$f":"IF(Hist_Tab[[#This Row],[Rad]:[Rad]]=0,0,IF($EY119>_xlfn.AGGREGATE(2,6,Medel_T[[Slut]:[Slut]]),0,INDEX(Medel_T[],Hist_Tab[[#This Row],[Ref]:[Ref]],MATCH(Hist_Tab[[#Headers],[15AM T]],Medel_T[#Headers],0))))","v":0},{"$f":"IF(Hist_Tab[[#This Row],[Rad]:[Rad]]=0,0,IF($EY119>_xlfn.AGGREGATE(2,6,Medel_T[[Slut]:[Slut]]),0,INDEX(Medel_T[],Hist_Tab[[#This Row],[Ref]:[Ref]],MATCH(Hist_Tab[[#Headers],[20-10D T]],Medel_T[#Headers],0))))","v":0}]
[null,null,null,null,null,null,null,null,null,null,null,null,null,null,null,null,null,null,null,null,null,null,null,null,null,null,null,null,null,null,null,null,null,null,null,null,null,null,null,null,null,null,null,null,null,null,null,null,null,null,null,null,null,null,null,null,null,null,null,null,null,null,null,null,null,null,null,null,null,null,null,null,null,null,null,null,null,null,null,null,null,null,null,null,null,null,null,null,null,null,null,null,null,null,null,null,null,null,null,null,null,null,null,null,null,null,null,null,null,null,null,null,null,null,null,null,null,null,null,null,null,null,null,null,null,null,null,null,null,null,null,null,null,null,null,null,null,null,null,null,null,null,null,null,null,null,null,null,null,null,null,null,{"$f":"ROWS($EW$20:EW119)","v":100},{"$f":"IFERROR(MATCH(Hist_Tab[[#This Row],[Ref]],Medel_T[NrX],0),1)","v":1},{"$f":"INT((ROW(Hist_Tab[[#This Row],[Ref]])-ROW(Hist_Tab[[#Headers],[Ref]])-1)/4)+1","v":26},{"$f":"COUNTIF($EY$19:EY119,Hist_Tab[[#This Row],[Ref]])","v":1},{"$f":"IFERROR(INDEX(Medel_T[Start],Hist_Tab[[#This Row],[Ref]]),_xlfn.AGGREGATE(4,6,Medel_T[Start]))","v":"00:00:00"},{"$f":"IFERROR(INDEX(Medel_T[Slut],Hist_Tab[[#This Row],[Ref]]),_xlfn.AGGREGATE(4,6,Medel_T[Slut]))","v":"00:00:00"},{"$f":"IF(EW118=0,Hist_Tab[[#This Row],[ÅrB]],IF(Hist_Tab[[#This Row],[per/p]]<2,Hist_Tab[[#This Row],[ÅrB]],Hist_Tab[[#This Row],[År S]]))","v":"00:00:00"},{"$f":"IF(Hist_Tab[[#This Row],[Rad]:[Rad]]=0,-1,IF($EY120>_xlfn.AGGREGATE(2,6,Medel_T[[Slut]:[Slut]]),0,INDEX(Medel_T[],Hist_Tab[[#This Row],[Ref]:[Ref]],MATCH(Hist_Tab[[#Headers],[HöA T]],Medel_T[#Headers],0))))","v":0},{"$f":"IF(Hist_Tab[[#This Row],[Rad]:[Rad]]=0,0,IF($EY120>_xlfn.AGGREGATE(2,6,Medel_T[[Slut]:[Slut]]),0,INDEX(Medel_T[],Hist_Tab[[#This Row],[Ref]:[Ref]],MATCH(Hist_Tab[[#Headers],[AöA T]],Medel_T[#Headers],0))))","v":0},{"$f":"IF(Hist_Tab[[#This Row],[Rad]:[Rad]]=0,0,IF($EY120>_xlfn.AGGREGATE(2,6,Medel_T[[Slut]:[Slut]]),0,INDEX(Medel_T[],Hist_Tab[[#This Row],[Ref]:[Ref]],MATCH(Hist_Tab[[#Headers],[4AM T]],Medel_T[#Headers],0))))","v":0},{"$f":"IF(Hist_Tab[[#This Row],[Rad]:[Rad]]=0,0,IF($EY120>_xlfn.AGGREGATE(2,6,Medel_T[[Slut]:[Slut]]),0,INDEX(Medel_T[],Hist_Tab[[#This Row],[Ref]:[Ref]],MATCH(Hist_Tab[[#Headers],[15AM T]],Medel_T[#Headers],0))))","v":0},{"$f":"IF(Hist_Tab[[#This Row],[Rad]:[Rad]]=0,0,IF($EY120>_xlfn.AGGREGATE(2,6,Medel_T[[Slut]:[Slut]]),0,INDEX(Medel_T[],Hist_Tab[[#This Row],[Ref]:[Ref]],MATCH(Hist_Tab[[#Headers],[20-10D T]],Medel_T[#Headers],0))))","v":0}]
[null,null,null,null,null,null,null,null,null,null,null,null,null,null,null,null,null,null,null,null,null,null,null,null,null,null,null,null,null,null,null,null,null,null,null,null,null,null,null,null,null,null,null,null,null,null,null,null,null,null,null,null,null,null,null,null,null,null,null,null,null,null,null,null,null,null,null,null,null,null,null,null,null,null,null,null,null,null,null,null,null,null,null,null,null,null,null,null,null,null,null,null,null,null,null,null,null,null,null,null,null,null,null,null,null,null,null,null,null,null,null,null,null,null,null,null,null,null,null,null,null,null,null,null,null,null,null,null,null,null,null,null,null,null,null,null,null,null,null,null,null,null,null,null,null,null,null,null,null,null,null,null,{"$f":"ROWS($EW$20:EW120)","v":101},{"$f":"IFERROR(MATCH(Hist_Tab[[#This Row],[Ref]],Medel_T[NrX],0),1)","v":1},{"$f":"INT((ROW(Hist_Tab[[#This Row],[Ref]])-ROW(Hist_Tab[[#Headers],[Ref]])-1)/4)+1","v":26},{"$f":"COUNTIF($EY$19:EY120,Hist_Tab[[#This Row],[Ref]])","v":2},{"$f":"IFERROR(INDEX(Medel_T[Start],Hist_Tab[[#This Row],[Ref]]),_xlfn.AGGREGATE(4,6,Medel_T[Start]))","v":"00:00:00"},{"$f":"IFERROR(INDEX(Medel_T[Slut],Hist_Tab[[#This Row],[Ref]]),_xlfn.AGGREGATE(4,6,Medel_T[Slut]))","v":"00:00:00"},{"$f":"IF(EW119=0,Hist_Tab[[#This Row],[ÅrB]],IF(Hist_Tab[[#This Row],[per/p]]<2,Hist_Tab[[#This Row],[ÅrB]],Hist_Tab[[#This Row],[År S]]))","v":"00:00:00"},{"$f":"IF(Hist_Tab[[#This Row],[Rad]:[Rad]]=0,-1,IF($EY121>_xlfn.AGGREGATE(2,6,Medel_T[[Slut]:[Slut]]),0,INDEX(Medel_T[],Hist_Tab[[#This Row],[Ref]:[Ref]],MATCH(Hist_Tab[[#Headers],[HöA T]],Medel_T[#Headers],0))))","v":0},{"$f":"IF(Hist_Tab[[#This Row],[Rad]:[Rad]]=0,0,IF($EY121>_xlfn.AGGREGATE(2,6,Medel_T[[Slut]:[Slut]]),0,INDEX(Medel_T[],Hist_Tab[[#This Row],[Ref]:[Ref]],MATCH(Hist_Tab[[#Headers],[AöA T]],Medel_T[#Headers],0))))","v":0},{"$f":"IF(Hist_Tab[[#This Row],[Rad]:[Rad]]=0,0,IF($EY121>_xlfn.AGGREGATE(2,6,Medel_T[[Slut]:[Slut]]),0,INDEX(Medel_T[],Hist_Tab[[#This Row],[Ref]:[Ref]],MATCH(Hist_Tab[[#Headers],[4AM T]],Medel_T[#Headers],0))))","v":0},{"$f":"IF(Hist_Tab[[#This Row],[Rad]:[Rad]]=0,0,IF($EY121>_xlfn.AGGREGATE(2,6,Medel_T[[Slut]:[Slut]]),0,INDEX(Medel_T[],Hist_Tab[[#This Row],[Ref]:[Ref]],MATCH(Hist_Tab[[#Headers],[15AM T]],Medel_T[#Headers],0))))","v":0},{"$f":"IF(Hist_Tab[[#This Row],[Rad]:[Rad]]=0,0,IF($EY121>_xlfn.AGGREGATE(2,6,Medel_T[[Slut]:[Slut]]),0,INDEX(Medel_T[],Hist_Tab[[#This Row],[Ref]:[Ref]],MATCH(Hist_Tab[[#Headers],[20-10D T]],Medel_T[#Headers],0))))","v":0}]
[null,null,null,null,null,null,null,null,null,null,null,null,null,null,null,null,null,null,null,null,null,null,null,null,null,null,null,null,null,null,null,null,null,null,null,null,null,null,null,null,null,null,null,null,null,null,null,null,null,null,null,null,null,null,null,null,null,null,null,null,null,null,null,null,null,null,null,null,null,null,null,null,null,null,null,null,null,null,null,null,null,null,null,null,null,null,null,null,null,null,null,null,null,null,null,null,null,null,null,null,null,null,null,null,null,null,null,null,null,null,null,null,null,null,null,null,null,null,null,null,null,null,null,null,null,null,null,null,null,null,null,null,null,null,null,null,null,null,null,null,null,null,null,null,null,null,null,null,null,null,null,null,{"$f":"ROWS($EW$20:EW121)","v":102},{"$f":"IFERROR(MATCH(Hist_Tab[[#This Row],[Ref]],Medel_T[NrX],0),1)","v":1},{"$f":"INT((ROW(Hist_Tab[[#This Row],[Ref]])-ROW(Hist_Tab[[#Headers],[Ref]])-1)/4)+1","v":26},{"$f":"COUNTIF($EY$19:EY121,Hist_Tab[[#This Row],[Ref]])","v":3},{"$f":"IFERROR(INDEX(Medel_T[Start],Hist_Tab[[#This Row],[Ref]]),_xlfn.AGGREGATE(4,6,Medel_T[Start]))","v":"00:00:00"},{"$f":"IFERROR(INDEX(Medel_T[Slut],Hist_Tab[[#This Row],[Ref]]),_xlfn.AGGREGATE(4,6,Medel_T[Slut]))","v":"00:00:00"},{"$f":"IF(EW120=0,Hist_Tab[[#This Row],[ÅrB]],IF(Hist_Tab[[#This Row],[per/p]]<2,Hist_Tab[[#This Row],[ÅrB]],Hist_Tab[[#This Row],[År S]]))","v":"00:00:00"},{"$f":"IF(Hist_Tab[[#This Row],[Rad]:[Rad]]=0,-1,IF($EY122>_xlfn.AGGREGATE(2,6,Medel_T[[Slut]:[Slut]]),0,INDEX(Medel_T[],Hist_Tab[[#This Row],[Ref]:[Ref]],MATCH(Hist_Tab[[#Headers],[HöA T]],Medel_T[#Headers],0))))","v":0},{"$f":"IF(Hist_Tab[[#This Row],[Rad]:[Rad]]=0,0,IF($EY122>_xlfn.AGGREGATE(2,6,Medel_T[[Slut]:[Slut]]),0,INDEX(Medel_T[],Hist_Tab[[#This Row],[Ref]:[Ref]],MATCH(Hist_Tab[[#Headers],[AöA T]],Medel_T[#Headers],0))))","v":0},{"$f":"IF(Hist_Tab[[#This Row],[Rad]:[Rad]]=0,0,IF($EY122>_xlfn.AGGREGATE(2,6,Medel_T[[Slut]:[Slut]]),0,INDEX(Medel_T[],Hist_Tab[[#This Row],[Ref]:[Ref]],MATCH(Hist_Tab[[#Headers],[4AM T]],Medel_T[#Headers],0))))","v":0},{"$f":"IF(Hist_Tab[[#This Row],[Rad]:[Rad]]=0,0,IF($EY122>_xlfn.AGGREGATE(2,6,Medel_T[[Slut]:[Slut]]),0,INDEX(Medel_T[],Hist_Tab[[#This Row],[Ref]:[Ref]],MATCH(Hist_Tab[[#Headers],[15AM T]],Medel_T[#Headers],0))))","v":0},{"$f":"IF(Hist_Tab[[#This Row],[Rad]:[Rad]]=0,0,IF($EY122>_xlfn.AGGREGATE(2,6,Medel_T[[Slut]:[Slut]]),0,INDEX(Medel_T[],Hist_Tab[[#This Row],[Ref]:[Ref]],MATCH(Hist_Tab[[#Headers],[20-10D T]],Medel_T[#Headers],0))))","v":0}]
[null,null,null,null,null,null,null,null,null,null,null,null,null,null,null,null,null,null,null,null,null,null,null,null,null,null,null,null,null,null,null,null,null,null,null,null,null,null,null,null,null,null,null,null,null,null,null,null,null,null,null,null,null,null,null,null,null,null,null,null,null,null,null,null,null,null,null,null,null,null,null,null,null,null,null,null,null,null,null,null,null,null,null,null,null,null,null,null,null,null,null,null,null,null,null,null,null,null,null,null,null,null,null,null,null,null,null,null,null,null,null,null,null,null,null,null,null,null,null,null,null,null,null,null,null,null,null,null,null,null,null,null,null,null,null,null,null,null,null,null,null,null,null,null,null,null,null,null,null,null,null,null,{"$f":"ROWS($EW$20:EW122)","v":103},{"$f":"IFERROR(MATCH(Hist_Tab[[#This Row],[Ref]],Medel_T[NrX],0),1)","v":1},{"$f":"INT((ROW(Hist_Tab[[#This Row],[Ref]])-ROW(Hist_Tab[[#Headers],[Ref]])-1)/4)+1","v":26},{"$f":"COUNTIF($EY$19:EY122,Hist_Tab[[#This Row],[Ref]])","v":4},{"$f":"IFERROR(INDEX(Medel_T[Start],Hist_Tab[[#This Row],[Ref]]),_xlfn.AGGREGATE(4,6,Medel_T[Start]))","v":"00:00:00"},{"$f":"IFERROR(INDEX(Medel_T[Slut],Hist_Tab[[#This Row],[Ref]]),_xlfn.AGGREGATE(4,6,Medel_T[Slut]))","v":"00:00:00"},{"$f":"IF(EW121=0,Hist_Tab[[#This Row],[ÅrB]],IF(Hist_Tab[[#This Row],[per/p]]<2,Hist_Tab[[#This Row],[ÅrB]],Hist_Tab[[#This Row],[År S]]))","v":"00:00:00"},{"$f":"IF(Hist_Tab[[#This Row],[Rad]:[Rad]]=0,-1,IF($EY123>_xlfn.AGGREGATE(2,6,Medel_T[[Slut]:[Slut]]),0,INDEX(Medel_T[],Hist_Tab[[#This Row],[Ref]:[Ref]],MATCH(Hist_Tab[[#Headers],[HöA T]],Medel_T[#Headers],0))))","v":0},{"$f":"IF(Hist_Tab[[#This Row],[Rad]:[Rad]]=0,0,IF($EY123>_xlfn.AGGREGATE(2,6,Medel_T[[Slut]:[Slut]]),0,INDEX(Medel_T[],Hist_Tab[[#This Row],[Ref]:[Ref]],MATCH(Hist_Tab[[#Headers],[AöA T]],Medel_T[#Headers],0))))","v":0},{"$f":"IF(Hist_Tab[[#This Row],[Rad]:[Rad]]=0,0,IF($EY123>_xlfn.AGGREGATE(2,6,Medel_T[[Slut]:[Slut]]),0,INDEX(Medel_T[],Hist_Tab[[#This Row],[Ref]:[Ref]],MATCH(Hist_Tab[[#Headers],[4AM T]],Medel_T[#Headers],0))))","v":0},{"$f":"IF(Hist_Tab[[#This Row],[Rad]:[Rad]]=0,0,IF($EY123>_xlfn.AGGREGATE(2,6,Medel_T[[Slut]:[Slut]]),0,INDEX(Medel_T[],Hist_Tab[[#This Row],[Ref]:[Ref]],MATCH(Hist_Tab[[#Headers],[15AM T]],Medel_T[#Headers],0))))","v":0},{"$f":"IF(Hist_Tab[[#This Row],[Rad]:[Rad]]=0,0,IF($EY123>_xlfn.AGGREGATE(2,6,Medel_T[[Slut]:[Slut]]),0,INDEX(Medel_T[],Hist_Tab[[#This Row],[Ref]:[Ref]],MATCH(Hist_Tab[[#Headers],[20-10D T]],Medel_T[#Headers],0))))","v":0}]
[null,null,null,null,null,null,null,null,null,null,null,null,null,null,null,null,null,null,null,null,null,null,null,null,null,null,null,null,null,null,null,null,null,null,null,null,null,null,null,null,null,null,null,null,null,null,null,null,null,null,null,null,null,null,null,null,null,null,null,null,null,null,null,null,null,null,null,null,null,null,null,null,null,null,null,null,null,null,null,null,null,null,null,null,null,null,null,null,null,null,null,null,null,null,null,null,null,null,null,null,null,null,null,null,null,null,null,null,null,null,null,null,null,null,null,null,null,null,null,null,null,null,null,null,null,null,null,null,null,null,null,null,null,null,null,null,null,null,null,null,null,null,null,null,null,null,null,null,null,null,null,null,{"$f":"ROWS($EW$20:EW123)","v":104},{"$f":"IFERROR(MATCH(Hist_Tab[[#This Row],[Ref]],Medel_T[NrX],0),1)","v":1},{"$f":"INT((ROW(Hist_Tab[[#This Row],[Ref]])-ROW(Hist_Tab[[#Headers],[Ref]])-1)/4)+1","v":27},{"$f":"COUNTIF($EY$19:EY123,Hist_Tab[[#This Row],[Ref]])","v":1},{"$f":"IFERROR(INDEX(Medel_T[Start],Hist_Tab[[#This Row],[Ref]]),_xlfn.AGGREGATE(4,6,Medel_T[Start]))","v":"00:00:00"},{"$f":"IFERROR(INDEX(Medel_T[Slut],Hist_Tab[[#This Row],[Ref]]),_xlfn.AGGREGATE(4,6,Medel_T[Slut]))","v":"00:00:00"},{"$f":"IF(EW122=0,Hist_Tab[[#This Row],[ÅrB]],IF(Hist_Tab[[#This Row],[per/p]]<2,Hist_Tab[[#This Row],[ÅrB]],Hist_Tab[[#This Row],[År S]]))","v":"00:00:00"},{"$f":"IF(Hist_Tab[[#This Row],[Rad]:[Rad]]=0,-1,IF($EY124>_xlfn.AGGREGATE(2,6,Medel_T[[Slut]:[Slut]]),0,INDEX(Medel_T[],Hist_Tab[[#This Row],[Ref]:[Ref]],MATCH(Hist_Tab[[#Headers],[HöA T]],Medel_T[#Headers],0))))","v":0},{"$f":"IF(Hist_Tab[[#This Row],[Rad]:[Rad]]=0,0,IF($EY124>_xlfn.AGGREGATE(2,6,Medel_T[[Slut]:[Slut]]),0,INDEX(Medel_T[],Hist_Tab[[#This Row],[Ref]:[Ref]],MATCH(Hist_Tab[[#Headers],[AöA T]],Medel_T[#Headers],0))))","v":0},{"$f":"IF(Hist_Tab[[#This Row],[Rad]:[Rad]]=0,0,IF($EY124>_xlfn.AGGREGATE(2,6,Medel_T[[Slut]:[Slut]]),0,INDEX(Medel_T[],Hist_Tab[[#This Row],[Ref]:[Ref]],MATCH(Hist_Tab[[#Headers],[4AM T]],Medel_T[#Headers],0))))","v":0},{"$f":"IF(Hist_Tab[[#This Row],[Rad]:[Rad]]=0,0,IF($EY124>_xlfn.AGGREGATE(2,6,Medel_T[[Slut]:[Slut]]),0,INDEX(Medel_T[],Hist_Tab[[#This Row],[Ref]:[Ref]],MATCH(Hist_Tab[[#Headers],[15AM T]],Medel_T[#Headers],0))))","v":0},{"$f":"IF(Hist_Tab[[#This Row],[Rad]:[Rad]]=0,0,IF($EY124>_xlfn.AGGREGATE(2,6,Medel_T[[Slut]:[Slut]]),0,INDEX(Medel_T[],Hist_Tab[[#This Row],[Ref]:[Ref]],MATCH(Hist_Tab[[#Headers],[20-10D T]],Medel_T[#Headers],0))))","v":0}]
[null,null,null,null,null,null,null,null,null,null,null,null,null,null,null,null,null,null,null,null,null,null,null,null,null,null,null,null,null,null,null,null,null,null,null,null,null,null,null,null,null,null,null,null,null,null,null,null,null,null,null,null,null,null,null,null,null,null,null,null,null,null,null,null,null,null,null,null,null,null,null,null,null,null,null,null,null,null,null,null,null,null,null,null,null,null,null,null,null,null,null,null,null,null,null,null,null,null,null,null,null,null,null,null,null,null,null,null,null,null,null,null,null,null,null,null,null,null,null,null,null,null,null,null,null,null,null,null,null,null,null,null,null,null,null,null,null,null,null,null,null,null,null,null,null,null,null,null,null,null,null,null,{"$f":"ROWS($EW$20:EW124)","v":105},{"$f":"IFERROR(MATCH(Hist_Tab[[#This Row],[Ref]],Medel_T[NrX],0),1)","v":1},{"$f":"INT((ROW(Hist_Tab[[#This Row],[Ref]])-ROW(Hist_Tab[[#Headers],[Ref]])-1)/4)+1","v":27},{"$f":"COUNTIF($EY$19:EY124,Hist_Tab[[#This Row],[Ref]])","v":2},{"$f":"IFERROR(INDEX(Medel_T[Start],Hist_Tab[[#This Row],[Ref]]),_xlfn.AGGREGATE(4,6,Medel_T[Start]))","v":"00:00:00"},{"$f":"IFERROR(INDEX(Medel_T[Slut],Hist_Tab[[#This Row],[Ref]]),_xlfn.AGGREGATE(4,6,Medel_T[Slut]))","v":"00:00:00"},{"$f":"IF(EW123=0,Hist_Tab[[#This Row],[ÅrB]],IF(Hist_Tab[[#This Row],[per/p]]<2,Hist_Tab[[#This Row],[ÅrB]],Hist_Tab[[#This Row],[År S]]))","v":"00:00:00"},{"$f":"IF(Hist_Tab[[#This Row],[Rad]:[Rad]]=0,-1,IF($EY125>_xlfn.AGGREGATE(2,6,Medel_T[[Slut]:[Slut]]),0,INDEX(Medel_T[],Hist_Tab[[#This Row],[Ref]:[Ref]],MATCH(Hist_Tab[[#Headers],[HöA T]],Medel_T[#Headers],0))))","v":0},{"$f":"IF(Hist_Tab[[#This Row],[Rad]:[Rad]]=0,0,IF($EY125>_xlfn.AGGREGATE(2,6,Medel_T[[Slut]:[Slut]]),0,INDEX(Medel_T[],Hist_Tab[[#This Row],[Ref]:[Ref]],MATCH(Hist_Tab[[#Headers],[AöA T]],Medel_T[#Headers],0))))","v":0},{"$f":"IF(Hist_Tab[[#This Row],[Rad]:[Rad]]=0,0,IF($EY125>_xlfn.AGGREGATE(2,6,Medel_T[[Slut]:[Slut]]),0,INDEX(Medel_T[],Hist_Tab[[#This Row],[Ref]:[Ref]],MATCH(Hist_Tab[[#Headers],[4AM T]],Medel_T[#Headers],0))))","v":0},{"$f":"IF(Hist_Tab[[#This Row],[Rad]:[Rad]]=0,0,IF($EY125>_xlfn.AGGREGATE(2,6,Medel_T[[Slut]:[Slut]]),0,INDEX(Medel_T[],Hist_Tab[[#This Row],[Ref]:[Ref]],MATCH(Hist_Tab[[#Headers],[15AM T]],Medel_T[#Headers],0))))","v":0},{"$f":"IF(Hist_Tab[[#This Row],[Rad]:[Rad]]=0,0,IF($EY125>_xlfn.AGGREGATE(2,6,Medel_T[[Slut]:[Slut]]),0,INDEX(Medel_T[],Hist_Tab[[#This Row],[Ref]:[Ref]],MATCH(Hist_Tab[[#Headers],[20-10D T]],Medel_T[#Headers],0))))","v":0}]
[null,null,null,null,null,null,null,null,null,null,null,null,null,null,null,null,null,null,null,null,null,null,null,null,null,null,null,null,null,null,null,null,null,null,null,null,null,null,null,null,null,null,null,null,null,null,null,null,null,null,null,null,null,null,null,null,null,null,null,null,null,null,null,null,null,null,null,null,null,null,null,null,null,null,null,null,null,null,null,null,null,null,null,null,null,null,null,null,null,null,null,null,null,null,null,null,null,null,null,null,null,null,null,null,null,null,null,null,null,null,null,null,null,null,null,null,null,null,null,null,null,null,null,null,null,null,null,null,null,null,null,null,null,null,null,null,null,null,null,null,null,null,null,null,null,null,null,null,null,null,null,null,{"$f":"ROWS($EW$20:EW125)","v":106},{"$f":"IFERROR(MATCH(Hist_Tab[[#This Row],[Ref]],Medel_T[NrX],0),1)","v":1},{"$f":"INT((ROW(Hist_Tab[[#This Row],[Ref]])-ROW(Hist_Tab[[#Headers],[Ref]])-1)/4)+1","v":27},{"$f":"COUNTIF($EY$19:EY125,Hist_Tab[[#This Row],[Ref]])","v":3},{"$f":"IFERROR(INDEX(Medel_T[Start],Hist_Tab[[#This Row],[Ref]]),_xlfn.AGGREGATE(4,6,Medel_T[Start]))","v":"00:00:00"},{"$f":"IFERROR(INDEX(Medel_T[Slut],Hist_Tab[[#This Row],[Ref]]),_xlfn.AGGREGATE(4,6,Medel_T[Slut]))","v":"00:00:00"},{"$f":"IF(EW124=0,Hist_Tab[[#This Row],[ÅrB]],IF(Hist_Tab[[#This Row],[per/p]]<2,Hist_Tab[[#This Row],[ÅrB]],Hist_Tab[[#This Row],[År S]]))","v":"00:00:00"},{"$f":"IF(Hist_Tab[[#This Row],[Rad]:[Rad]]=0,-1,IF($EY126>_xlfn.AGGREGATE(2,6,Medel_T[[Slut]:[Slut]]),0,INDEX(Medel_T[],Hist_Tab[[#This Row],[Ref]:[Ref]],MATCH(Hist_Tab[[#Headers],[HöA T]],Medel_T[#Headers],0))))","v":0},{"$f":"IF(Hist_Tab[[#This Row],[Rad]:[Rad]]=0,0,IF($EY126>_xlfn.AGGREGATE(2,6,Medel_T[[Slut]:[Slut]]),0,INDEX(Medel_T[],Hist_Tab[[#This Row],[Ref]:[Ref]],MATCH(Hist_Tab[[#Headers],[AöA T]],Medel_T[#Headers],0))))","v":0},{"$f":"IF(Hist_Tab[[#This Row],[Rad]:[Rad]]=0,0,IF($EY126>_xlfn.AGGREGATE(2,6,Medel_T[[Slut]:[Slut]]),0,INDEX(Medel_T[],Hist_Tab[[#This Row],[Ref]:[Ref]],MATCH(Hist_Tab[[#Headers],[4AM T]],Medel_T[#Headers],0))))","v":0},{"$f":"IF(Hist_Tab[[#This Row],[Rad]:[Rad]]=0,0,IF($EY126>_xlfn.AGGREGATE(2,6,Medel_T[[Slut]:[Slut]]),0,INDEX(Medel_T[],Hist_Tab[[#This Row],[Ref]:[Ref]],MATCH(Hist_Tab[[#Headers],[15AM T]],Medel_T[#Headers],0))))","v":0},{"$f":"IF(Hist_Tab[[#This Row],[Rad]:[Rad]]=0,0,IF($EY126>_xlfn.AGGREGATE(2,6,Medel_T[[Slut]:[Slut]]),0,INDEX(Medel_T[],Hist_Tab[[#This Row],[Ref]:[Ref]],MATCH(Hist_Tab[[#Headers],[20-10D T]],Medel_T[#Headers],0))))","v":0}]
[null,null,null,null,null,null,null,null,null,null,null,null,null,null,null,null,null,null,null,null,null,null,null,null,null,null,null,null,null,null,null,null,null,null,null,null,null,null,null,null,null,null,null,null,null,null,null,null,null,null,null,null,null,null,null,null,null,null,null,null,null,null,null,null,null,null,null,null,null,null,null,null,null,null,null,null,null,null,null,null,null,null,null,null,null,null,null,null,null,null,null,null,null,null,null,null,null,null,null,null,null,null,null,null,null,null,null,null,null,null,null,null,null,null,null,null,null,null,null,null,null,null,null,null,null,null,null,null,null,null,null,null,null,null,null,null,null,null,null,null,null,null,null,null,null,null,null,null,null,null,null,null,{"$f":"ROWS($EW$20:EW126)","v":107},{"$f":"IFERROR(MATCH(Hist_Tab[[#This Row],[Ref]],Medel_T[NrX],0),1)","v":1},{"$f":"INT((ROW(Hist_Tab[[#This Row],[Ref]])-ROW(Hist_Tab[[#Headers],[Ref]])-1)/4)+1","v":27},{"$f":"COUNTIF($EY$19:EY126,Hist_Tab[[#This Row],[Ref]])","v":4},{"$f":"IFERROR(INDEX(Medel_T[Start],Hist_Tab[[#This Row],[Ref]]),_xlfn.AGGREGATE(4,6,Medel_T[Start]))","v":"00:00:00"},{"$f":"IFERROR(INDEX(Medel_T[Slut],Hist_Tab[[#This Row],[Ref]]),_xlfn.AGGREGATE(4,6,Medel_T[Slut]))","v":"00:00:00"},{"$f":"IF(EW125=0,Hist_Tab[[#This Row],[ÅrB]],IF(Hist_Tab[[#This Row],[per/p]]<2,Hist_Tab[[#This Row],[ÅrB]],Hist_Tab[[#This Row],[År S]]))","v":"00:00:00"},{"$f":"IF(Hist_Tab[[#This Row],[Rad]:[Rad]]=0,-1,IF($EY127>_xlfn.AGGREGATE(2,6,Medel_T[[Slut]:[Slut]]),0,INDEX(Medel_T[],Hist_Tab[[#This Row],[Ref]:[Ref]],MATCH(Hist_Tab[[#Headers],[HöA T]],Medel_T[#Headers],0))))","v":0},{"$f":"IF(Hist_Tab[[#This Row],[Rad]:[Rad]]=0,0,IF($EY127>_xlfn.AGGREGATE(2,6,Medel_T[[Slut]:[Slut]]),0,INDEX(Medel_T[],Hist_Tab[[#This Row],[Ref]:[Ref]],MATCH(Hist_Tab[[#Headers],[AöA T]],Medel_T[#Headers],0))))","v":0},{"$f":"IF(Hist_Tab[[#This Row],[Rad]:[Rad]]=0,0,IF($EY127>_xlfn.AGGREGATE(2,6,Medel_T[[Slut]:[Slut]]),0,INDEX(Medel_T[],Hist_Tab[[#This Row],[Ref]:[Ref]],MATCH(Hist_Tab[[#Headers],[4AM T]],Medel_T[#Headers],0))))","v":0},{"$f":"IF(Hist_Tab[[#This Row],[Rad]:[Rad]]=0,0,IF($EY127>_xlfn.AGGREGATE(2,6,Medel_T[[Slut]:[Slut]]),0,INDEX(Medel_T[],Hist_Tab[[#This Row],[Ref]:[Ref]],MATCH(Hist_Tab[[#Headers],[15AM T]],Medel_T[#Headers],0))))","v":0},{"$f":"IF(Hist_Tab[[#This Row],[Rad]:[Rad]]=0,0,IF($EY127>_xlfn.AGGREGATE(2,6,Medel_T[[Slut]:[Slut]]),0,INDEX(Medel_T[],Hist_Tab[[#This Row],[Ref]:[Ref]],MATCH(Hist_Tab[[#Headers],[20-10D T]],Medel_T[#Headers],0))))","v":0}]
[null,null,null,null,null,null,null,null,null,null,null,null,null,null,null,null,null,null,null,null,null,null,null,null,null,null,null,null,null,null,null,null,null,null,null,null,null,null,null,null,null,null,null,null,null,null,null,null,null,null,null,null,null,null,null,null,null,null,null,null,null,null,null,null,null,null,null,null,null,null,null,null,null,null,null,null,null,null,null,null,null,null,null,null,null,null,null,null,null,null,null,null,null,null,null,null,null,null,null,null,null,null,null,null,null,null,null,null,null,null,null,null,null,null,null,null,null,null,null,null,null,null,null,null,null,null,null,null,null,null,null,null,null,null,null,null,null,null,null,null,null,null,null,null,null,null,null,null,null,null,null,null,{"$f":"ROWS($EW$20:EW127)","v":108},{"$f":"IFERROR(MATCH(Hist_Tab[[#This Row],[Ref]],Medel_T[NrX],0),1)","v":1},{"$f":"INT((ROW(Hist_Tab[[#This Row],[Ref]])-ROW(Hist_Tab[[#Headers],[Ref]])-1)/4)+1","v":28},{"$f":"COUNTIF($EY$19:EY127,Hist_Tab[[#This Row],[Ref]])","v":1},{"$f":"IFERROR(INDEX(Medel_T[Start],Hist_Tab[[#This Row],[Ref]]),_xlfn.AGGREGATE(4,6,Medel_T[Start]))","v":"00:00:00"},{"$f":"IFERROR(INDEX(Medel_T[Slut],Hist_Tab[[#This Row],[Ref]]),_xlfn.AGGREGATE(4,6,Medel_T[Slut]))","v":"00:00:00"},{"$f":"IF(EW126=0,Hist_Tab[[#This Row],[ÅrB]],IF(Hist_Tab[[#This Row],[per/p]]<2,Hist_Tab[[#This Row],[ÅrB]],Hist_Tab[[#This Row],[År S]]))","v":"00:00:00"},{"$f":"IF(Hist_Tab[[#This Row],[Rad]:[Rad]]=0,-1,IF($EY128>_xlfn.AGGREGATE(2,6,Medel_T[[Slut]:[Slut]]),0,INDEX(Medel_T[],Hist_Tab[[#This Row],[Ref]:[Ref]],MATCH(Hist_Tab[[#Headers],[HöA T]],Medel_T[#Headers],0))))","v":0},{"$f":"IF(Hist_Tab[[#This Row],[Rad]:[Rad]]=0,0,IF($EY128>_xlfn.AGGREGATE(2,6,Medel_T[[Slut]:[Slut]]),0,INDEX(Medel_T[],Hist_Tab[[#This Row],[Ref]:[Ref]],MATCH(Hist_Tab[[#Headers],[AöA T]],Medel_T[#Headers],0))))","v":0},{"$f":"IF(Hist_Tab[[#This Row],[Rad]:[Rad]]=0,0,IF($EY128>_xlfn.AGGREGATE(2,6,Medel_T[[Slut]:[Slut]]),0,INDEX(Medel_T[],Hist_Tab[[#This Row],[Ref]:[Ref]],MATCH(Hist_Tab[[#Headers],[4AM T]],Medel_T[#Headers],0))))","v":0},{"$f":"IF(Hist_Tab[[#This Row],[Rad]:[Rad]]=0,0,IF($EY128>_xlfn.AGGREGATE(2,6,Medel_T[[Slut]:[Slut]]),0,INDEX(Medel_T[],Hist_Tab[[#This Row],[Ref]:[Ref]],MATCH(Hist_Tab[[#Headers],[15AM T]],Medel_T[#Headers],0))))","v":0},{"$f":"IF(Hist_Tab[[#This Row],[Rad]:[Rad]]=0,0,IF($EY128>_xlfn.AGGREGATE(2,6,Medel_T[[Slut]:[Slut]]),0,INDEX(Medel_T[],Hist_Tab[[#This Row],[Ref]:[Ref]],MATCH(Hist_Tab[[#Headers],[20-10D T]],Medel_T[#Headers],0))))","v":0}]
[null,null,null,null,null,null,null,null,null,null,null,null,null,null,null,null,null,null,null,null,null,null,null,null,null,null,null,null,null,null,null,null,null,null,null,null,null,null,null,null,null,null,null,null,null,null,null,null,null,null,null,null,null,null,null,null,null,null,null,null,null,null,null,null,null,null,null,null,null,null,null,null,null,null,null,null,null,null,null,null,null,null,null,null,null,null,null,null,null,null,null,null,null,null,null,null,null,null,null,null,null,null,null,null,null,null,null,null,null,null,null,null,null,null,null,null,null,null,null,null,null,null,null,null,null,null,null,null,null,null,null,null,null,null,null,null,null,null,null,null,null,null,null,null,null,null,null,null,null,null,null,null,{"$f":"ROWS($EW$20:EW128)","v":109},{"$f":"IFERROR(MATCH(Hist_Tab[[#This Row],[Ref]],Medel_T[NrX],0),1)","v":1},{"$f":"INT((ROW(Hist_Tab[[#This Row],[Ref]])-ROW(Hist_Tab[[#Headers],[Ref]])-1)/4)+1","v":28},{"$f":"COUNTIF($EY$19:EY128,Hist_Tab[[#This Row],[Ref]])","v":2},{"$f":"IFERROR(INDEX(Medel_T[Start],Hist_Tab[[#This Row],[Ref]]),_xlfn.AGGREGATE(4,6,Medel_T[Start]))","v":"00:00:00"},{"$f":"IFERROR(INDEX(Medel_T[Slut],Hist_Tab[[#This Row],[Ref]]),_xlfn.AGGREGATE(4,6,Medel_T[Slut]))","v":"00:00:00"},{"$f":"IF(EW127=0,Hist_Tab[[#This Row],[ÅrB]],IF(Hist_Tab[[#This Row],[per/p]]<2,Hist_Tab[[#This Row],[ÅrB]],Hist_Tab[[#This Row],[År S]]))","v":"00:00:00"},{"$f":"IF(Hist_Tab[[#This Row],[Rad]:[Rad]]=0,-1,IF($EY129>_xlfn.AGGREGATE(2,6,Medel_T[[Slut]:[Slut]]),0,INDEX(Medel_T[],Hist_Tab[[#This Row],[Ref]:[Ref]],MATCH(Hist_Tab[[#Headers],[HöA T]],Medel_T[#Headers],0))))","v":0},{"$f":"IF(Hist_Tab[[#This Row],[Rad]:[Rad]]=0,0,IF($EY129>_xlfn.AGGREGATE(2,6,Medel_T[[Slut]:[Slut]]),0,INDEX(Medel_T[],Hist_Tab[[#This Row],[Ref]:[Ref]],MATCH(Hist_Tab[[#Headers],[AöA T]],Medel_T[#Headers],0))))","v":0},{"$f":"IF(Hist_Tab[[#This Row],[Rad]:[Rad]]=0,0,IF($EY129>_xlfn.AGGREGATE(2,6,Medel_T[[Slut]:[Slut]]),0,INDEX(Medel_T[],Hist_Tab[[#This Row],[Ref]:[Ref]],MATCH(Hist_Tab[[#Headers],[4AM T]],Medel_T[#Headers],0))))","v":0},{"$f":"IF(Hist_Tab[[#This Row],[Rad]:[Rad]]=0,0,IF($EY129>_xlfn.AGGREGATE(2,6,Medel_T[[Slut]:[Slut]]),0,INDEX(Medel_T[],Hist_Tab[[#This Row],[Ref]:[Ref]],MATCH(Hist_Tab[[#Headers],[15AM T]],Medel_T[#Headers],0))))","v":0},{"$f":"IF(Hist_Tab[[#This Row],[Rad]:[Rad]]=0,0,IF($EY129>_xlfn.AGGREGATE(2,6,Medel_T[[Slut]:[Slut]]),0,INDEX(Medel_T[],Hist_Tab[[#This Row],[Ref]:[Ref]],MATCH(Hist_Tab[[#Headers],[20-10D T]],Medel_T[#Headers],0))))","v":0}]
[null,null,null,null,null,null,null,null,null,null,null,null,null,null,null,null,null,null,null,null,null,null,null,null,null,null,null,null,null,null,null,null,null,null,null,null,null,null,null,null,null,null,null,null,null,null,null,null,null,null,null,null,null,null,null,null,null,null,null,null,null,null,null,null,null,null,null,null,null,null,null,null,null,null,null,null,null,null,null,null,null,null,null,null,null,null,null,null,null,null,null,null,null,null,null,null,null,null,null,null,null,null,null,null,null,null,null,null,null,null,null,null,null,null,null,null,null,null,null,null,null,null,null,null,null,null,null,null,null,null,null,null,null,null,null,null,null,null,null,null,null,null,null,null,null,null,null,null,null,null,null,null,{"$f":"ROWS($EW$20:EW129)","v":110},{"$f":"IFERROR(MATCH(Hist_Tab[[#This Row],[Ref]],Medel_T[NrX],0),1)","v":1},{"$f":"INT((ROW(Hist_Tab[[#This Row],[Ref]])-ROW(Hist_Tab[[#Headers],[Ref]])-1)/4)+1","v":28},{"$f":"COUNTIF($EY$19:EY129,Hist_Tab[[#This Row],[Ref]])","v":3},{"$f":"IFERROR(INDEX(Medel_T[Start],Hist_Tab[[#This Row],[Ref]]),_xlfn.AGGREGATE(4,6,Medel_T[Start]))","v":"00:00:00"},{"$f":"IFERROR(INDEX(Medel_T[Slut],Hist_Tab[[#This Row],[Ref]]),_xlfn.AGGREGATE(4,6,Medel_T[Slut]))","v":"00:00:00"},{"$f":"IF(EW128=0,Hist_Tab[[#This Row],[ÅrB]],IF(Hist_Tab[[#This Row],[per/p]]<2,Hist_Tab[[#This Row],[ÅrB]],Hist_Tab[[#This Row],[År S]]))","v":"00:00:00"},{"$f":"IF(Hist_Tab[[#This Row],[Rad]:[Rad]]=0,-1,IF($EY130>_xlfn.AGGREGATE(2,6,Medel_T[[Slut]:[Slut]]),0,INDEX(Medel_T[],Hist_Tab[[#This Row],[Ref]:[Ref]],MATCH(Hist_Tab[[#Headers],[HöA T]],Medel_T[#Headers],0))))","v":0},{"$f":"IF(Hist_Tab[[#This Row],[Rad]:[Rad]]=0,0,IF($EY130>_xlfn.AGGREGATE(2,6,Medel_T[[Slut]:[Slut]]),0,INDEX(Medel_T[],Hist_Tab[[#This Row],[Ref]:[Ref]],MATCH(Hist_Tab[[#Headers],[AöA T]],Medel_T[#Headers],0))))","v":0},{"$f":"IF(Hist_Tab[[#This Row],[Rad]:[Rad]]=0,0,IF($EY130>_xlfn.AGGREGATE(2,6,Medel_T[[Slut]:[Slut]]),0,INDEX(Medel_T[],Hist_Tab[[#This Row],[Ref]:[Ref]],MATCH(Hist_Tab[[#Headers],[4AM T]],Medel_T[#Headers],0))))","v":0},{"$f":"IF(Hist_Tab[[#This Row],[Rad]:[Rad]]=0,0,IF($EY130>_xlfn.AGGREGATE(2,6,Medel_T[[Slut]:[Slut]]),0,INDEX(Medel_T[],Hist_Tab[[#This Row],[Ref]:[Ref]],MATCH(Hist_Tab[[#Headers],[15AM T]],Medel_T[#Headers],0))))","v":0},{"$f":"IF(Hist_Tab[[#This Row],[Rad]:[Rad]]=0,0,IF($EY130>_xlfn.AGGREGATE(2,6,Medel_T[[Slut]:[Slut]]),0,INDEX(Medel_T[],Hist_Tab[[#This Row],[Ref]:[Ref]],MATCH(Hist_Tab[[#Headers],[20-10D T]],Medel_T[#Headers],0))))","v":0}]
[null,null,null,null,null,null,null,null,null,null,null,null,null,null,null,null,null,null,null,null,null,null,null,null,null,null,null,null,null,null,null,null,null,null,null,null,null,null,null,null,null,null,null,null,null,null,null,null,null,null,null,null,null,null,null,null,null,null,null,null,null,null,null,null,null,null,null,null,null,null,null,null,null,null,null,null,null,null,null,null,null,null,null,null,null,null,null,null,null,null,null,null,null,null,null,null,null,null,null,null,null,null,null,null,null,null,null,null,null,null,null,null,null,null,null,null,null,null,null,null,null,null,null,null,null,null,null,null,null,null,null,null,null,null,null,null,null,null,null,null,null,null,null,null,null,null,null,null,null,null,null,null,{"$f":"ROWS($EW$20:EW130)","v":111},{"$f":"IFERROR(MATCH(Hist_Tab[[#This Row],[Ref]],Medel_T[NrX],0),1)","v":1},{"$f":"INT((ROW(Hist_Tab[[#This Row],[Ref]])-ROW(Hist_Tab[[#Headers],[Ref]])-1)/4)+1","v":28},{"$f":"COUNTIF($EY$19:EY130,Hist_Tab[[#This Row],[Ref]])","v":4},{"$f":"IFERROR(INDEX(Medel_T[Start],Hist_Tab[[#This Row],[Ref]]),_xlfn.AGGREGATE(4,6,Medel_T[Start]))","v":"00:00:00"},{"$f":"IFERROR(INDEX(Medel_T[Slut],Hist_Tab[[#This Row],[Ref]]),_xlfn.AGGREGATE(4,6,Medel_T[Slut]))","v":"00:00:00"},{"$f":"IF(EW129=0,Hist_Tab[[#This Row],[ÅrB]],IF(Hist_Tab[[#This Row],[per/p]]<2,Hist_Tab[[#This Row],[ÅrB]],Hist_Tab[[#This Row],[År S]]))","v":"00:00:00"},{"$f":"IF(Hist_Tab[[#This Row],[Rad]:[Rad]]=0,-1,IF($EY131>_xlfn.AGGREGATE(2,6,Medel_T[[Slut]:[Slut]]),0,INDEX(Medel_T[],Hist_Tab[[#This Row],[Ref]:[Ref]],MATCH(Hist_Tab[[#Headers],[HöA T]],Medel_T[#Headers],0))))","v":0},{"$f":"IF(Hist_Tab[[#This Row],[Rad]:[Rad]]=0,0,IF($EY131>_xlfn.AGGREGATE(2,6,Medel_T[[Slut]:[Slut]]),0,INDEX(Medel_T[],Hist_Tab[[#This Row],[Ref]:[Ref]],MATCH(Hist_Tab[[#Headers],[AöA T]],Medel_T[#Headers],0))))","v":0},{"$f":"IF(Hist_Tab[[#This Row],[Rad]:[Rad]]=0,0,IF($EY131>_xlfn.AGGREGATE(2,6,Medel_T[[Slut]:[Slut]]),0,INDEX(Medel_T[],Hist_Tab[[#This Row],[Ref]:[Ref]],MATCH(Hist_Tab[[#Headers],[4AM T]],Medel_T[#Headers],0))))","v":0},{"$f":"IF(Hist_Tab[[#This Row],[Rad]:[Rad]]=0,0,IF($EY131>_xlfn.AGGREGATE(2,6,Medel_T[[Slut]:[Slut]]),0,INDEX(Medel_T[],Hist_Tab[[#This Row],[Ref]:[Ref]],MATCH(Hist_Tab[[#Headers],[15AM T]],Medel_T[#Headers],0))))","v":0},{"$f":"IF(Hist_Tab[[#This Row],[Rad]:[Rad]]=0,0,IF($EY131>_xlfn.AGGREGATE(2,6,Medel_T[[Slut]:[Slut]]),0,INDEX(Medel_T[],Hist_Tab[[#This Row],[Ref]:[Ref]],MATCH(Hist_Tab[[#Headers],[20-10D T]],Medel_T[#Headers],0))))","v":0}]
[null,null,null,null,null,null,null,null,null,null,null,null,null,null,null,null,null,null,null,null,null,null,null,null,null,null,null,null,null,null,null,null,null,null,null,null,null,null,null,null,null,null,null,null,null,null,null,null,null,null,null,null,null,null,null,null,null,null,null,null,null,null,null,null,null,null,null,null,null,null,null,null,null,null,null,null,null,null,null,null,null,null,null,null,null,null,null,null,null,null,null,null,null,null,null,null,null,null,null,null,null,null,null,null,null,null,null,null,null,null,null,null,null,null,null,null,null,null,null,null,null,null,null,null,null,null,null,null,null,null,null,null,null,null,null,null,null,null,null,null,null,null,null,null,null,null,null,null,null,null,null,null,{"$f":"ROWS($EW$20:EW131)","v":112},{"$f":"IFERROR(MATCH(Hist_Tab[[#This Row],[Ref]],Medel_T[NrX],0),1)","v":1},{"$f":"INT((ROW(Hist_Tab[[#This Row],[Ref]])-ROW(Hist_Tab[[#Headers],[Ref]])-1)/4)+1","v":29},{"$f":"COUNTIF($EY$19:EY131,Hist_Tab[[#This Row],[Ref]])","v":1},{"$f":"IFERROR(INDEX(Medel_T[Start],Hist_Tab[[#This Row],[Ref]]),_xlfn.AGGREGATE(4,6,Medel_T[Start]))","v":"00:00:00"},{"$f":"IFERROR(INDEX(Medel_T[Slut],Hist_Tab[[#This Row],[Ref]]),_xlfn.AGGREGATE(4,6,Medel_T[Slut]))","v":"00:00:00"},{"$f":"IF(EW130=0,Hist_Tab[[#This Row],[ÅrB]],IF(Hist_Tab[[#This Row],[per/p]]<2,Hist_Tab[[#This Row],[ÅrB]],Hist_Tab[[#This Row],[År S]]))","v":"00:00:00"},{"$f":"IF(Hist_Tab[[#This Row],[Rad]:[Rad]]=0,-1,IF($EY132>_xlfn.AGGREGATE(2,6,Medel_T[[Slut]:[Slut]]),0,INDEX(Medel_T[],Hist_Tab[[#This Row],[Ref]:[Ref]],MATCH(Hist_Tab[[#Headers],[HöA T]],Medel_T[#Headers],0))))","v":0},{"$f":"IF(Hist_Tab[[#This Row],[Rad]:[Rad]]=0,0,IF($EY132>_xlfn.AGGREGATE(2,6,Medel_T[[Slut]:[Slut]]),0,INDEX(Medel_T[],Hist_Tab[[#This Row],[Ref]:[Ref]],MATCH(Hist_Tab[[#Headers],[AöA T]],Medel_T[#Headers],0))))","v":0},{"$f":"IF(Hist_Tab[[#This Row],[Rad]:[Rad]]=0,0,IF($EY132>_xlfn.AGGREGATE(2,6,Medel_T[[Slut]:[Slut]]),0,INDEX(Medel_T[],Hist_Tab[[#This Row],[Ref]:[Ref]],MATCH(Hist_Tab[[#Headers],[4AM T]],Medel_T[#Headers],0))))","v":0},{"$f":"IF(Hist_Tab[[#This Row],[Rad]:[Rad]]=0,0,IF($EY132>_xlfn.AGGREGATE(2,6,Medel_T[[Slut]:[Slut]]),0,INDEX(Medel_T[],Hist_Tab[[#This Row],[Ref]:[Ref]],MATCH(Hist_Tab[[#Headers],[15AM T]],Medel_T[#Headers],0))))","v":0},{"$f":"IF(Hist_Tab[[#This Row],[Rad]:[Rad]]=0,0,IF($EY132>_xlfn.AGGREGATE(2,6,Medel_T[[Slut]:[Slut]]),0,INDEX(Medel_T[],Hist_Tab[[#This Row],[Ref]:[Ref]],MATCH(Hist_Tab[[#Headers],[20-10D T]],Medel_T[#Headers],0))))","v":0}]
[null,null,null,null,null,null,null,null,null,null,null,null,null,null,null,null,null,null,null,null,null,null,null,null,null,null,null,null,null,null,null,null,null,null,null,null,null,null,null,null,null,null,null,null,null,null,null,null,null,null,null,null,null,null,null,null,null,null,null,null,null,null,null,null,null,null,null,null,null,null,null,null,null,null,null,null,null,null,null,null,null,null,null,null,null,null,null,null,null,null,null,null,null,null,null,null,null,null,null,null,null,null,null,null,null,null,null,null,null,null,null,null,null,null,null,null,null,null,null,null,null,null,null,null,null,null,null,null,null,null,null,null,null,null,null,null,null,null,null,null,null,null,null,null,null,null,null,null,null,null,null,null,{"$f":"ROWS($EW$20:EW132)","v":113},{"$f":"IFERROR(MATCH(Hist_Tab[[#This Row],[Ref]],Medel_T[NrX],0),1)","v":1},{"$f":"INT((ROW(Hist_Tab[[#This Row],[Ref]])-ROW(Hist_Tab[[#Headers],[Ref]])-1)/4)+1","v":29},{"$f":"COUNTIF($EY$19:EY132,Hist_Tab[[#This Row],[Ref]])","v":2},{"$f":"IFERROR(INDEX(Medel_T[Start],Hist_Tab[[#This Row],[Ref]]),_xlfn.AGGREGATE(4,6,Medel_T[Start]))","v":"00:00:00"},{"$f":"IFERROR(INDEX(Medel_T[Slut],Hist_Tab[[#This Row],[Ref]]),_xlfn.AGGREGATE(4,6,Medel_T[Slut]))","v":"00:00:00"},{"$f":"IF(EW131=0,Hist_Tab[[#This Row],[ÅrB]],IF(Hist_Tab[[#This Row],[per/p]]<2,Hist_Tab[[#This Row],[ÅrB]],Hist_Tab[[#This Row],[År S]]))","v":"00:00:00"},{"$f":"IF(Hist_Tab[[#This Row],[Rad]:[Rad]]=0,-1,IF($EY133>_xlfn.AGGREGATE(2,6,Medel_T[[Slut]:[Slut]]),0,INDEX(Medel_T[],Hist_Tab[[#This Row],[Ref]:[Ref]],MATCH(Hist_Tab[[#Headers],[HöA T]],Medel_T[#Headers],0))))","v":0},{"$f":"IF(Hist_Tab[[#This Row],[Rad]:[Rad]]=0,0,IF($EY133>_xlfn.AGGREGATE(2,6,Medel_T[[Slut]:[Slut]]),0,INDEX(Medel_T[],Hist_Tab[[#This Row],[Ref]:[Ref]],MATCH(Hist_Tab[[#Headers],[AöA T]],Medel_T[#Headers],0))))","v":0},{"$f":"IF(Hist_Tab[[#This Row],[Rad]:[Rad]]=0,0,IF($EY133>_xlfn.AGGREGATE(2,6,Medel_T[[Slut]:[Slut]]),0,INDEX(Medel_T[],Hist_Tab[[#This Row],[Ref]:[Ref]],MATCH(Hist_Tab[[#Headers],[4AM T]],Medel_T[#Headers],0))))","v":0},{"$f":"IF(Hist_Tab[[#This Row],[Rad]:[Rad]]=0,0,IF($EY133>_xlfn.AGGREGATE(2,6,Medel_T[[Slut]:[Slut]]),0,INDEX(Medel_T[],Hist_Tab[[#This Row],[Ref]:[Ref]],MATCH(Hist_Tab[[#Headers],[15AM T]],Medel_T[#Headers],0))))","v":0},{"$f":"IF(Hist_Tab[[#This Row],[Rad]:[Rad]]=0,0,IF($EY133>_xlfn.AGGREGATE(2,6,Medel_T[[Slut]:[Slut]]),0,INDEX(Medel_T[],Hist_Tab[[#This Row],[Ref]:[Ref]],MATCH(Hist_Tab[[#Headers],[20-10D T]],Medel_T[#Headers],0))))","v":0}]
[null,null,null,null,null,null,null,null,null,null,null,null,null,null,null,null,null,null,null,null,null,null,null,null,null,null,null,null,null,null,null,null,null,null,null,null,null,null,null,null,null,null,null,null,null,null,null,null,null,null,null,null,null,null,null,null,null,null,null,null,null,null,null,null,null,null,null,null,null,null,null,null,null,null,null,null,null,null,null,null,null,null,null,null,null,null,null,null,null,null,null,null,null,null,null,null,null,null,null,null,null,null,null,null,null,null,null,null,null,null,null,null,null,null,null,null,null,null,null,null,null,null,null,null,null,null,null,null,null,null,null,null,null,null,null,null,null,null,null,null,null,null,null,null,null,null,null,null,null,null,null,null,{"$f":"ROWS($EW$20:EW133)","v":114},{"$f":"IFERROR(MATCH(Hist_Tab[[#This Row],[Ref]],Medel_T[NrX],0),1)","v":1},{"$f":"INT((ROW(Hist_Tab[[#This Row],[Ref]])-ROW(Hist_Tab[[#Headers],[Ref]])-1)/4)+1","v":29},{"$f":"COUNTIF($EY$19:EY133,Hist_Tab[[#This Row],[Ref]])","v":3},{"$f":"IFERROR(INDEX(Medel_T[Start],Hist_Tab[[#This Row],[Ref]]),_xlfn.AGGREGATE(4,6,Medel_T[Start]))","v":"00:00:00"},{"$f":"IFERROR(INDEX(Medel_T[Slut],Hist_Tab[[#This Row],[Ref]]),_xlfn.AGGREGATE(4,6,Medel_T[Slut]))","v":"00:00:00"},{"$f":"IF(EW132=0,Hist_Tab[[#This Row],[ÅrB]],IF(Hist_Tab[[#This Row],[per/p]]<2,Hist_Tab[[#This Row],[ÅrB]],Hist_Tab[[#This Row],[År S]]))","v":"00:00:00"},{"$f":"IF(Hist_Tab[[#This Row],[Rad]:[Rad]]=0,-1,IF($EY134>_xlfn.AGGREGATE(2,6,Medel_T[[Slut]:[Slut]]),0,INDEX(Medel_T[],Hist_Tab[[#This Row],[Ref]:[Ref]],MATCH(Hist_Tab[[#Headers],[HöA T]],Medel_T[#Headers],0))))","v":0},{"$f":"IF(Hist_Tab[[#This Row],[Rad]:[Rad]]=0,0,IF($EY134>_xlfn.AGGREGATE(2,6,Medel_T[[Slut]:[Slut]]),0,INDEX(Medel_T[],Hist_Tab[[#This Row],[Ref]:[Ref]],MATCH(Hist_Tab[[#Headers],[AöA T]],Medel_T[#Headers],0))))","v":0},{"$f":"IF(Hist_Tab[[#This Row],[Rad]:[Rad]]=0,0,IF($EY134>_xlfn.AGGREGATE(2,6,Medel_T[[Slut]:[Slut]]),0,INDEX(Medel_T[],Hist_Tab[[#This Row],[Ref]:[Ref]],MATCH(Hist_Tab[[#Headers],[4AM T]],Medel_T[#Headers],0))))","v":0},{"$f":"IF(Hist_Tab[[#This Row],[Rad]:[Rad]]=0,0,IF($EY134>_xlfn.AGGREGATE(2,6,Medel_T[[Slut]:[Slut]]),0,INDEX(Medel_T[],Hist_Tab[[#This Row],[Ref]:[Ref]],MATCH(Hist_Tab[[#Headers],[15AM T]],Medel_T[#Headers],0))))","v":0},{"$f":"IF(Hist_Tab[[#This Row],[Rad]:[Rad]]=0,0,IF($EY134>_xlfn.AGGREGATE(2,6,Medel_T[[Slut]:[Slut]]),0,INDEX(Medel_T[],Hist_Tab[[#This Row],[Ref]:[Ref]],MATCH(Hist_Tab[[#Headers],[20-10D T]],Medel_T[#Headers],0))))","v":0}]
[null,null,null,null,null,null,null,null,null,null,null,null,null,null,null,null,null,null,null,null,null,null,null,null,null,null,null,null,null,null,null,null,null,null,null,null,null,null,null,null,null,null,null,null,null,null,null,null,null,null,null,null,null,null,null,null,null,null,null,null,null,null,null,null,null,null,null,null,null,null,null,null,null,null,null,null,null,null,null,null,null,null,null,null,null,null,null,null,null,null,null,null,null,null,null,null,null,null,null,null,null,null,null,null,null,null,null,null,null,null,null,null,null,null,null,null,null,null,null,null,null,null,null,null,null,null,null,null,null,null,null,null,null,null,null,null,null,null,null,null,null,null,null,null,null,null,null,null,null,null,null,null,{"$f":"ROWS($EW$20:EW134)","v":115},{"$f":"IFERROR(MATCH(Hist_Tab[[#This Row],[Ref]],Medel_T[NrX],0),1)","v":1},{"$f":"INT((ROW(Hist_Tab[[#This Row],[Ref]])-ROW(Hist_Tab[[#Headers],[Ref]])-1)/4)+1","v":29},{"$f":"COUNTIF($EY$19:EY134,Hist_Tab[[#This Row],[Ref]])","v":4},{"$f":"IFERROR(INDEX(Medel_T[Start],Hist_Tab[[#This Row],[Ref]]),_xlfn.AGGREGATE(4,6,Medel_T[Start]))","v":"00:00:00"},{"$f":"IFERROR(INDEX(Medel_T[Slut],Hist_Tab[[#This Row],[Ref]]),_xlfn.AGGREGATE(4,6,Medel_T[Slut]))","v":"00:00:00"},{"$f":"IF(EW133=0,Hist_Tab[[#This Row],[ÅrB]],IF(Hist_Tab[[#This Row],[per/p]]<2,Hist_Tab[[#This Row],[ÅrB]],Hist_Tab[[#This Row],[År S]]))","v":"00:00:00"},{"$f":"IF(Hist_Tab[[#This Row],[Rad]:[Rad]]=0,-1,IF($EY135>_xlfn.AGGREGATE(2,6,Medel_T[[Slut]:[Slut]]),0,INDEX(Medel_T[],Hist_Tab[[#This Row],[Ref]:[Ref]],MATCH(Hist_Tab[[#Headers],[HöA T]],Medel_T[#Headers],0))))","v":0},{"$f":"IF(Hist_Tab[[#This Row],[Rad]:[Rad]]=0,0,IF($EY135>_xlfn.AGGREGATE(2,6,Medel_T[[Slut]:[Slut]]),0,INDEX(Medel_T[],Hist_Tab[[#This Row],[Ref]:[Ref]],MATCH(Hist_Tab[[#Headers],[AöA T]],Medel_T[#Headers],0))))","v":0},{"$f":"IF(Hist_Tab[[#This Row],[Rad]:[Rad]]=0,0,IF($EY135>_xlfn.AGGREGATE(2,6,Medel_T[[Slut]:[Slut]]),0,INDEX(Medel_T[],Hist_Tab[[#This Row],[Ref]:[Ref]],MATCH(Hist_Tab[[#Headers],[4AM T]],Medel_T[#Headers],0))))","v":0},{"$f":"IF(Hist_Tab[[#This Row],[Rad]:[Rad]]=0,0,IF($EY135>_xlfn.AGGREGATE(2,6,Medel_T[[Slut]:[Slut]]),0,INDEX(Medel_T[],Hist_Tab[[#This Row],[Ref]:[Ref]],MATCH(Hist_Tab[[#Headers],[15AM T]],Medel_T[#Headers],0))))","v":0},{"$f":"IF(Hist_Tab[[#This Row],[Rad]:[Rad]]=0,0,IF($EY135>_xlfn.AGGREGATE(2,6,Medel_T[[Slut]:[Slut]]),0,INDEX(Medel_T[],Hist_Tab[[#This Row],[Ref]:[Ref]],MATCH(Hist_Tab[[#Headers],[20-10D T]],Medel_T[#Headers],0))))","v":0}]
[null,null,null,null,null,null,null,null,null,null,null,null,null,null,null,null,null,null,null,null,null,null,null,null,null,null,null,null,null,null,null,null,null,null,null,null,null,null,null,null,null,null,null,null,null,null,null,null,null,null,null,null,null,null,null,null,null,null,null,null,null,null,null,null,null,null,null,null,null,null,null,null,null,null,null,null,null,null,null,null,null,null,null,null,null,null,null,null,null,null,null,null,null,null,null,null,null,null,null,null,null,null,null,null,null,null,null,null,null,null,null,null,null,null,null,null,null,null,null,null,null,null,null,null,null,null,null,null,null,null,null,null,null,null,null,null,null,null,null,null,null,null,null,null,null,null,null,null,null,null,null,null,{"$f":"ROWS($EW$20:EW135)","v":116},{"$f":"IFERROR(MATCH(Hist_Tab[[#This Row],[Ref]],Medel_T[NrX],0),1)","v":1},{"$f":"INT((ROW(Hist_Tab[[#This Row],[Ref]])-ROW(Hist_Tab[[#Headers],[Ref]])-1)/4)+1","v":30},{"$f":"COUNTIF($EY$19:EY135,Hist_Tab[[#This Row],[Ref]])","v":1},{"$f":"IFERROR(INDEX(Medel_T[Start],Hist_Tab[[#This Row],[Ref]]),_xlfn.AGGREGATE(4,6,Medel_T[Start]))","v":"00:00:00"},{"$f":"IFERROR(INDEX(Medel_T[Slut],Hist_Tab[[#This Row],[Ref]]),_xlfn.AGGREGATE(4,6,Medel_T[Slut]))","v":"00:00:00"},{"$f":"IF(EW134=0,Hist_Tab[[#This Row],[ÅrB]],IF(Hist_Tab[[#This Row],[per/p]]<2,Hist_Tab[[#This Row],[ÅrB]],Hist_Tab[[#This Row],[År S]]))","v":"00:00:00"},{"$f":"IF(Hist_Tab[[#This Row],[Rad]:[Rad]]=0,-1,IF($EY136>_xlfn.AGGREGATE(2,6,Medel_T[[Slut]:[Slut]]),0,INDEX(Medel_T[],Hist_Tab[[#This Row],[Ref]:[Ref]],MATCH(Hist_Tab[[#Headers],[HöA T]],Medel_T[#Headers],0))))","v":0},{"$f":"IF(Hist_Tab[[#This Row],[Rad]:[Rad]]=0,0,IF($EY136>_xlfn.AGGREGATE(2,6,Medel_T[[Slut]:[Slut]]),0,INDEX(Medel_T[],Hist_Tab[[#This Row],[Ref]:[Ref]],MATCH(Hist_Tab[[#Headers],[AöA T]],Medel_T[#Headers],0))))","v":0},{"$f":"IF(Hist_Tab[[#This Row],[Rad]:[Rad]]=0,0,IF($EY136>_xlfn.AGGREGATE(2,6,Medel_T[[Slut]:[Slut]]),0,INDEX(Medel_T[],Hist_Tab[[#This Row],[Ref]:[Ref]],MATCH(Hist_Tab[[#Headers],[4AM T]],Medel_T[#Headers],0))))","v":0},{"$f":"IF(Hist_Tab[[#This Row],[Rad]:[Rad]]=0,0,IF($EY136>_xlfn.AGGREGATE(2,6,Medel_T[[Slut]:[Slut]]),0,INDEX(Medel_T[],Hist_Tab[[#This Row],[Ref]:[Ref]],MATCH(Hist_Tab[[#Headers],[15AM T]],Medel_T[#Headers],0))))","v":0},{"$f":"IF(Hist_Tab[[#This Row],[Rad]:[Rad]]=0,0,IF($EY136>_xlfn.AGGREGATE(2,6,Medel_T[[Slut]:[Slut]]),0,INDEX(Medel_T[],Hist_Tab[[#This Row],[Ref]:[Ref]],MATCH(Hist_Tab[[#Headers],[20-10D T]],Medel_T[#Headers],0))))","v":0}]
[null,null,null,null,null,null,null,null,null,null,null,null,null,null,null,null,null,null,null,null,null,null,null,null,null,null,null,null,null,null,null,null,null,null,null,null,null,null,null,null,null,null,null,null,null,null,null,null,null,null,null,null,null,null,null,null,null,null,null,null,null,null,null,null,null,null,null,null,null,null,null,null,null,null,null,null,null,null,null,null,null,null,null,null,null,null,null,null,null,null,null,null,null,null,null,null,null,null,null,null,null,null,null,null,null,null,null,null,null,null,null,null,null,null,null,null,null,null,null,null,null,null,null,null,null,null,null,null,null,null,null,null,null,null,null,null,null,null,null,null,null,null,null,null,null,null,null,null,null,null,null,null,{"$f":"ROWS($EW$20:EW136)","v":117},{"$f":"IFERROR(MATCH(Hist_Tab[[#This Row],[Ref]],Medel_T[NrX],0),1)","v":1},{"$f":"INT((ROW(Hist_Tab[[#This Row],[Ref]])-ROW(Hist_Tab[[#Headers],[Ref]])-1)/4)+1","v":30},{"$f":"COUNTIF($EY$19:EY136,Hist_Tab[[#This Row],[Ref]])","v":2},{"$f":"IFERROR(INDEX(Medel_T[Start],Hist_Tab[[#This Row],[Ref]]),_xlfn.AGGREGATE(4,6,Medel_T[Start]))","v":"00:00:00"},{"$f":"IFERROR(INDEX(Medel_T[Slut],Hist_Tab[[#This Row],[Ref]]),_xlfn.AGGREGATE(4,6,Medel_T[Slut]))","v":"00:00:00"},{"$f":"IF(EW135=0,Hist_Tab[[#This Row],[ÅrB]],IF(Hist_Tab[[#This Row],[per/p]]<2,Hist_Tab[[#This Row],[ÅrB]],Hist_Tab[[#This Row],[År S]]))","v":"00:00:00"},{"$f":"IF(Hist_Tab[[#This Row],[Rad]:[Rad]]=0,-1,IF($EY137>_xlfn.AGGREGATE(2,6,Medel_T[[Slut]:[Slut]]),0,INDEX(Medel_T[],Hist_Tab[[#This Row],[Ref]:[Ref]],MATCH(Hist_Tab[[#Headers],[HöA T]],Medel_T[#Headers],0))))","v":0},{"$f":"IF(Hist_Tab[[#This Row],[Rad]:[Rad]]=0,0,IF($EY137>_xlfn.AGGREGATE(2,6,Medel_T[[Slut]:[Slut]]),0,INDEX(Medel_T[],Hist_Tab[[#This Row],[Ref]:[Ref]],MATCH(Hist_Tab[[#Headers],[AöA T]],Medel_T[#Headers],0))))","v":0},{"$f":"IF(Hist_Tab[[#This Row],[Rad]:[Rad]]=0,0,IF($EY137>_xlfn.AGGREGATE(2,6,Medel_T[[Slut]:[Slut]]),0,INDEX(Medel_T[],Hist_Tab[[#This Row],[Ref]:[Ref]],MATCH(Hist_Tab[[#Headers],[4AM T]],Medel_T[#Headers],0))))","v":0},{"$f":"IF(Hist_Tab[[#This Row],[Rad]:[Rad]]=0,0,IF($EY137>_xlfn.AGGREGATE(2,6,Medel_T[[Slut]:[Slut]]),0,INDEX(Medel_T[],Hist_Tab[[#This Row],[Ref]:[Ref]],MATCH(Hist_Tab[[#Headers],[15AM T]],Medel_T[#Headers],0))))","v":0},{"$f":"IF(Hist_Tab[[#This Row],[Rad]:[Rad]]=0,0,IF($EY137>_xlfn.AGGREGATE(2,6,Medel_T[[Slut]:[Slut]]),0,INDEX(Medel_T[],Hist_Tab[[#This Row],[Ref]:[Ref]],MATCH(Hist_Tab[[#Headers],[20-10D T]],Medel_T[#Headers],0))))","v":0}]
[null,null,null,null,null,null,null,null,null,null,null,null,null,null,null,null,null,null,null,null,null,null,null,null,null,null,null,null,null,null,null,null,null,null,null,null,null,null,null,null,null,null,null,null,null,null,null,null,null,null,null,null,null,null,null,null,null,null,null,null,null,null,null,null,null,null,null,null,null,null,null,null,null,null,null,null,null,null,null,null,null,null,null,null,null,null,null,null,null,null,null,null,null,null,null,null,null,null,null,null,null,null,null,null,null,null,null,null,null,null,null,null,null,null,null,null,null,null,null,null,null,null,null,null,null,null,null,null,null,null,null,null,null,null,null,null,null,null,null,null,null,null,null,null,null,null,null,null,null,null,null,null,{"$f":"ROWS($EW$20:EW137)","v":118},{"$f":"IFERROR(MATCH(Hist_Tab[[#This Row],[Ref]],Medel_T[NrX],0),1)","v":1},{"$f":"INT((ROW(Hist_Tab[[#This Row],[Ref]])-ROW(Hist_Tab[[#Headers],[Ref]])-1)/4)+1","v":30},{"$f":"COUNTIF($EY$19:EY137,Hist_Tab[[#This Row],[Ref]])","v":3},{"$f":"IFERROR(INDEX(Medel_T[Start],Hist_Tab[[#This Row],[Ref]]),_xlfn.AGGREGATE(4,6,Medel_T[Start]))","v":"00:00:00"},{"$f":"IFERROR(INDEX(Medel_T[Slut],Hist_Tab[[#This Row],[Ref]]),_xlfn.AGGREGATE(4,6,Medel_T[Slut]))","v":"00:00:00"},{"$f":"IF(EW136=0,Hist_Tab[[#This Row],[ÅrB]],IF(Hist_Tab[[#This Row],[per/p]]<2,Hist_Tab[[#This Row],[ÅrB]],Hist_Tab[[#This Row],[År S]]))","v":"00:00:00"},{"$f":"IF(Hist_Tab[[#This Row],[Rad]:[Rad]]=0,-1,IF($EY138>_xlfn.AGGREGATE(2,6,Medel_T[[Slut]:[Slut]]),0,INDEX(Medel_T[],Hist_Tab[[#This Row],[Ref]:[Ref]],MATCH(Hist_Tab[[#Headers],[HöA T]],Medel_T[#Headers],0))))","v":0},{"$f":"IF(Hist_Tab[[#This Row],[Rad]:[Rad]]=0,0,IF($EY138>_xlfn.AGGREGATE(2,6,Medel_T[[Slut]:[Slut]]),0,INDEX(Medel_T[],Hist_Tab[[#This Row],[Ref]:[Ref]],MATCH(Hist_Tab[[#Headers],[AöA T]],Medel_T[#Headers],0))))","v":0},{"$f":"IF(Hist_Tab[[#This Row],[Rad]:[Rad]]=0,0,IF($EY138>_xlfn.AGGREGATE(2,6,Medel_T[[Slut]:[Slut]]),0,INDEX(Medel_T[],Hist_Tab[[#This Row],[Ref]:[Ref]],MATCH(Hist_Tab[[#Headers],[4AM T]],Medel_T[#Headers],0))))","v":0},{"$f":"IF(Hist_Tab[[#This Row],[Rad]:[Rad]]=0,0,IF($EY138>_xlfn.AGGREGATE(2,6,Medel_T[[Slut]:[Slut]]),0,INDEX(Medel_T[],Hist_Tab[[#This Row],[Ref]:[Ref]],MATCH(Hist_Tab[[#Headers],[15AM T]],Medel_T[#Headers],0))))","v":0},{"$f":"IF(Hist_Tab[[#This Row],[Rad]:[Rad]]=0,0,IF($EY138>_xlfn.AGGREGATE(2,6,Medel_T[[Slut]:[Slut]]),0,INDEX(Medel_T[],Hist_Tab[[#This Row],[Ref]:[Ref]],MATCH(Hist_Tab[[#Headers],[20-10D T]],Medel_T[#Headers],0))))","v":0}]
[null,null,null,null,null,null,null,null,null,null,null,null,null,null,null,null,null,null,null,null,null,null,null,null,null,null,null,null,null,null,null,null,null,null,null,null,null,null,null,null,null,null,null,null,null,null,null,null,null,null,null,null,null,null,null,null,null,null,null,null,null,null,null,null,null,null,null,null,null,null,null,null,null,null,null,null,null,null,null,null,null,null,null,null,null,null,null,null,null,null,null,null,null,null,null,null,null,null,null,null,null,null,null,null,null,null,null,null,null,null,null,null,null,null,null,null,null,null,null,null,null,null,null,null,null,null,null,null,null,null,null,null,null,null,null,null,null,null,null,null,null,null,null,null,null,null,null,null,null,null,null,null,{"$f":"ROWS($EW$20:EW138)","v":119},{"$f":"IFERROR(MATCH(Hist_Tab[[#This Row],[Ref]],Medel_T[NrX],0),1)","v":1},{"$f":"INT((ROW(Hist_Tab[[#This Row],[Ref]])-ROW(Hist_Tab[[#Headers],[Ref]])-1)/4)+1","v":30},{"$f":"COUNTIF($EY$19:EY138,Hist_Tab[[#This Row],[Ref]])","v":4},{"$f":"IFERROR(INDEX(Medel_T[Start],Hist_Tab[[#This Row],[Ref]]),_xlfn.AGGREGATE(4,6,Medel_T[Start]))","v":"00:00:00"},{"$f":"IFERROR(INDEX(Medel_T[Slut],Hist_Tab[[#This Row],[Ref]]),_xlfn.AGGREGATE(4,6,Medel_T[Slut]))","v":"00:00:00"},{"$f":"IF(EW137=0,Hist_Tab[[#This Row],[ÅrB]],IF(Hist_Tab[[#This Row],[per/p]]<2,Hist_Tab[[#This Row],[ÅrB]],Hist_Tab[[#This Row],[År S]]))","v":"00:00:00"},{"$f":"IF(Hist_Tab[[#This Row],[Rad]:[Rad]]=0,-1,IF($EY139>_xlfn.AGGREGATE(2,6,Medel_T[[Slut]:[Slut]]),0,INDEX(Medel_T[],Hist_Tab[[#This Row],[Ref]:[Ref]],MATCH(Hist_Tab[[#Headers],[HöA T]],Medel_T[#Headers],0))))","v":0},{"$f":"IF(Hist_Tab[[#This Row],[Rad]:[Rad]]=0,0,IF($EY139>_xlfn.AGGREGATE(2,6,Medel_T[[Slut]:[Slut]]),0,INDEX(Medel_T[],Hist_Tab[[#This Row],[Ref]:[Ref]],MATCH(Hist_Tab[[#Headers],[AöA T]],Medel_T[#Headers],0))))","v":0},{"$f":"IF(Hist_Tab[[#This Row],[Rad]:[Rad]]=0,0,IF($EY139>_xlfn.AGGREGATE(2,6,Medel_T[[Slut]:[Slut]]),0,INDEX(Medel_T[],Hist_Tab[[#This Row],[Ref]:[Ref]],MATCH(Hist_Tab[[#Headers],[4AM T]],Medel_T[#Headers],0))))","v":0},{"$f":"IF(Hist_Tab[[#This Row],[Rad]:[Rad]]=0,0,IF($EY139>_xlfn.AGGREGATE(2,6,Medel_T[[Slut]:[Slut]]),0,INDEX(Medel_T[],Hist_Tab[[#This Row],[Ref]:[Ref]],MATCH(Hist_Tab[[#Headers],[15AM T]],Medel_T[#Headers],0))))","v":0},{"$f":"IF(Hist_Tab[[#This Row],[Rad]:[Rad]]=0,0,IF($EY139>_xlfn.AGGREGATE(2,6,Medel_T[[Slut]:[Slut]]),0,INDEX(Medel_T[],Hist_Tab[[#This Row],[Ref]:[Ref]],MATCH(Hist_Tab[[#Headers],[20-10D T]],Medel_T[#Headers],0))))","v":0}]
[null,null,null,null,null,null,null,null,null,null,null,null,null,null,null,null,null,null,null,null,null,null,null,null,null,null,null,null,null,null,null,null,null,null,null,null,null,null,null,null,null,null,null,null,null,null,null,null,null,null,null,null,null,null,null,null,null,null,null,null,null,null,null,null,null,null,null,null,null,null,null,null,null,null,null,null,null,null,null,null,null,null,null,null,null,null,null,null,null,null,null,null,null,null,null,null,null,null,null,null,null,null,null,null,null,null,null,null,null,null,null,null,null,null,null,null,null,null,null,null,null,null,null,null,null,null,null,null,null,null,null,null,null,null,null,null,null,null,null,null,null,null,null,null,null,null,null,null,null,null,null,null,{"$f":"ROWS($EW$20:EW139)","v":120},{"$f":"IFERROR(MATCH(Hist_Tab[[#This Row],[Ref]],Medel_T[NrX],0),1)","v":1},{"$f":"INT((ROW(Hist_Tab[[#This Row],[Ref]])-ROW(Hist_Tab[[#Headers],[Ref]])-1)/4)+1","v":31},{"$f":"COUNTIF($EY$19:EY139,Hist_Tab[[#This Row],[Ref]])","v":1},{"$f":"IFERROR(INDEX(Medel_T[Start],Hist_Tab[[#This Row],[Ref]]),_xlfn.AGGREGATE(4,6,Medel_T[Start]))","v":"00:00:00"},{"$f":"IFERROR(INDEX(Medel_T[Slut],Hist_Tab[[#This Row],[Ref]]),_xlfn.AGGREGATE(4,6,Medel_T[Slut]))","v":"00:00:00"},{"$f":"IF(EW138=0,Hist_Tab[[#This Row],[ÅrB]],IF(Hist_Tab[[#This Row],[per/p]]<2,Hist_Tab[[#This Row],[ÅrB]],Hist_Tab[[#This Row],[År S]]))","v":"00:00:00"},{"$f":"IF(Hist_Tab[[#This Row],[Rad]:[Rad]]=0,-1,IF($EY140>_xlfn.AGGREGATE(2,6,Medel_T[[Slut]:[Slut]]),0,INDEX(Medel_T[],Hist_Tab[[#This Row],[Ref]:[Ref]],MATCH(Hist_Tab[[#Headers],[HöA T]],Medel_T[#Headers],0))))","v":0},{"$f":"IF(Hist_Tab[[#This Row],[Rad]:[Rad]]=0,0,IF($EY140>_xlfn.AGGREGATE(2,6,Medel_T[[Slut]:[Slut]]),0,INDEX(Medel_T[],Hist_Tab[[#This Row],[Ref]:[Ref]],MATCH(Hist_Tab[[#Headers],[AöA T]],Medel_T[#Headers],0))))","v":0},{"$f":"IF(Hist_Tab[[#This Row],[Rad]:[Rad]]=0,0,IF($EY140>_xlfn.AGGREGATE(2,6,Medel_T[[Slut]:[Slut]]),0,INDEX(Medel_T[],Hist_Tab[[#This Row],[Ref]:[Ref]],MATCH(Hist_Tab[[#Headers],[4AM T]],Medel_T[#Headers],0))))","v":0},{"$f":"IF(Hist_Tab[[#This Row],[Rad]:[Rad]]=0,0,IF($EY140>_xlfn.AGGREGATE(2,6,Medel_T[[Slut]:[Slut]]),0,INDEX(Medel_T[],Hist_Tab[[#This Row],[Ref]:[Ref]],MATCH(Hist_Tab[[#Headers],[15AM T]],Medel_T[#Headers],0))))","v":0},{"$f":"IF(Hist_Tab[[#This Row],[Rad]:[Rad]]=0,0,IF($EY140>_xlfn.AGGREGATE(2,6,Medel_T[[Slut]:[Slut]]),0,INDEX(Medel_T[],Hist_Tab[[#This Row],[Ref]:[Ref]],MATCH(Hist_Tab[[#Headers],[20-10D T]],Medel_T[#Headers],0))))","v":0}]
[null,null,null,null,null,null,null,null,null,null,null,null,null,null,null,null,null,null,null,null,null,null,null,null,null,null,null,null,null,null,null,null,null,null,null,null,null,null,null,null,null,null,null,null,null,null,null,null,null,null,null,null,null,null,null,null,null,null,null,null,null,null,null,null,null,null,null,null,null,null,null,null,null,null,null,null,null,null,null,null,null,null,null,null,null,null,null,null,null,null,null,null,null,null,null,null,null,null,null,null,null,null,null,null,null,null,null,null,null,null,null,null,null,null,null,null,null,null,null,null,null,null,null,null,null,null,null,null,null,null,null,null,null,null,null,null,null,null,null,null,null,null,null,null,null,null,null,null,null,null,null,null,{"$f":"ROWS($EW$20:EW140)","v":121},{"$f":"IFERROR(MATCH(Hist_Tab[[#This Row],[Ref]],Medel_T[NrX],0),1)","v":1},{"$f":"INT((ROW(Hist_Tab[[#This Row],[Ref]])-ROW(Hist_Tab[[#Headers],[Ref]])-1)/4)+1","v":31},{"$f":"COUNTIF($EY$19:EY140,Hist_Tab[[#This Row],[Ref]])","v":2},{"$f":"IFERROR(INDEX(Medel_T[Start],Hist_Tab[[#This Row],[Ref]]),_xlfn.AGGREGATE(4,6,Medel_T[Start]))","v":"00:00:00"},{"$f":"IFERROR(INDEX(Medel_T[Slut],Hist_Tab[[#This Row],[Ref]]),_xlfn.AGGREGATE(4,6,Medel_T[Slut]))","v":"00:00:00"},{"$f":"IF(EW139=0,Hist_Tab[[#This Row],[ÅrB]],IF(Hist_Tab[[#This Row],[per/p]]<2,Hist_Tab[[#This Row],[ÅrB]],Hist_Tab[[#This Row],[År S]]))","v":"00:00:00"},{"$f":"IF(Hist_Tab[[#This Row],[Rad]:[Rad]]=0,-1,IF($EY141>_xlfn.AGGREGATE(2,6,Medel_T[[Slut]:[Slut]]),0,INDEX(Medel_T[],Hist_Tab[[#This Row],[Ref]:[Ref]],MATCH(Hist_Tab[[#Headers],[HöA T]],Medel_T[#Headers],0))))","v":0},{"$f":"IF(Hist_Tab[[#This Row],[Rad]:[Rad]]=0,0,IF($EY141>_xlfn.AGGREGATE(2,6,Medel_T[[Slut]:[Slut]]),0,INDEX(Medel_T[],Hist_Tab[[#This Row],[Ref]:[Ref]],MATCH(Hist_Tab[[#Headers],[AöA T]],Medel_T[#Headers],0))))","v":0},{"$f":"IF(Hist_Tab[[#This Row],[Rad]:[Rad]]=0,0,IF($EY141>_xlfn.AGGREGATE(2,6,Medel_T[[Slut]:[Slut]]),0,INDEX(Medel_T[],Hist_Tab[[#This Row],[Ref]:[Ref]],MATCH(Hist_Tab[[#Headers],[4AM T]],Medel_T[#Headers],0))))","v":0},{"$f":"IF(Hist_Tab[[#This Row],[Rad]:[Rad]]=0,0,IF($EY141>_xlfn.AGGREGATE(2,6,Medel_T[[Slut]:[Slut]]),0,INDEX(Medel_T[],Hist_Tab[[#This Row],[Ref]:[Ref]],MATCH(Hist_Tab[[#Headers],[15AM T]],Medel_T[#Headers],0))))","v":0},{"$f":"IF(Hist_Tab[[#This Row],[Rad]:[Rad]]=0,0,IF($EY141>_xlfn.AGGREGATE(2,6,Medel_T[[Slut]:[Slut]]),0,INDEX(Medel_T[],Hist_Tab[[#This Row],[Ref]:[Ref]],MATCH(Hist_Tab[[#Headers],[20-10D T]],Medel_T[#Headers],0))))","v":0}]
[null,null,null,null,null,null,null,null,null,null,null,null,null,null,null,null,null,null,null,null,null,null,null,null,null,null,null,null,null,null,null,null,null,null,null,null,null,null,null,null,null,null,null,null,null,null,null,null,null,null,null,null,null,null,null,null,null,null,null,null,null,null,null,null,null,null,null,null,null,null,null,null,null,null,null,null,null,null,null,null,null,null,null,null,null,null,null,null,null,null,null,null,null,null,null,null,null,null,null,null,null,null,null,null,null,null,null,null,null,null,null,null,null,null,null,null,null,null,null,null,null,null,null,null,null,null,null,null,null,null,null,null,null,null,null,null,null,null,null,null,null,null,null,null,null,null,null,null,null,null,null,null,{"$f":"ROWS($EW$20:EW141)","v":122},{"$f":"IFERROR(MATCH(Hist_Tab[[#This Row],[Ref]],Medel_T[NrX],0),1)","v":1},{"$f":"INT((ROW(Hist_Tab[[#This Row],[Ref]])-ROW(Hist_Tab[[#Headers],[Ref]])-1)/4)+1","v":31},{"$f":"COUNTIF($EY$19:EY141,Hist_Tab[[#This Row],[Ref]])","v":3},{"$f":"IFERROR(INDEX(Medel_T[Start],Hist_Tab[[#This Row],[Ref]]),_xlfn.AGGREGATE(4,6,Medel_T[Start]))","v":"00:00:00"},{"$f":"IFERROR(INDEX(Medel_T[Slut],Hist_Tab[[#This Row],[Ref]]),_xlfn.AGGREGATE(4,6,Medel_T[Slut]))","v":"00:00:00"},{"$f":"IF(EW140=0,Hist_Tab[[#This Row],[ÅrB]],IF(Hist_Tab[[#This Row],[per/p]]<2,Hist_Tab[[#This Row],[ÅrB]],Hist_Tab[[#This Row],[År S]]))","v":"00:00:00"},{"$f":"IF(Hist_Tab[[#This Row],[Rad]:[Rad]]=0,-1,IF($EY142>_xlfn.AGGREGATE(2,6,Medel_T[[Slut]:[Slut]]),0,INDEX(Medel_T[],Hist_Tab[[#This Row],[Ref]:[Ref]],MATCH(Hist_Tab[[#Headers],[HöA T]],Medel_T[#Headers],0))))","v":0},{"$f":"IF(Hist_Tab[[#This Row],[Rad]:[Rad]]=0,0,IF($EY142>_xlfn.AGGREGATE(2,6,Medel_T[[Slut]:[Slut]]),0,INDEX(Medel_T[],Hist_Tab[[#This Row],[Ref]:[Ref]],MATCH(Hist_Tab[[#Headers],[AöA T]],Medel_T[#Headers],0))))","v":0},{"$f":"IF(Hist_Tab[[#This Row],[Rad]:[Rad]]=0,0,IF($EY142>_xlfn.AGGREGATE(2,6,Medel_T[[Slut]:[Slut]]),0,INDEX(Medel_T[],Hist_Tab[[#This Row],[Ref]:[Ref]],MATCH(Hist_Tab[[#Headers],[4AM T]],Medel_T[#Headers],0))))","v":0},{"$f":"IF(Hist_Tab[[#This Row],[Rad]:[Rad]]=0,0,IF($EY142>_xlfn.AGGREGATE(2,6,Medel_T[[Slut]:[Slut]]),0,INDEX(Medel_T[],Hist_Tab[[#This Row],[Ref]:[Ref]],MATCH(Hist_Tab[[#Headers],[15AM T]],Medel_T[#Headers],0))))","v":0},{"$f":"IF(Hist_Tab[[#This Row],[Rad]:[Rad]]=0,0,IF($EY142>_xlfn.AGGREGATE(2,6,Medel_T[[Slut]:[Slut]]),0,INDEX(Medel_T[],Hist_Tab[[#This Row],[Ref]:[Ref]],MATCH(Hist_Tab[[#Headers],[20-10D T]],Medel_T[#Headers],0))))","v":0}]
[null,null,null,null,null,null,null,null,null,null,null,null,null,null,null,null,null,null,null,null,null,null,null,null,null,null,null,null,null,null,null,null,null,null,null,null,null,null,null,null,null,null,null,null,null,null,null,null,null,null,null,null,null,null,null,null,null,null,null,null,null,null,null,null,null,null,null,null,null,null,null,null,null,null,null,null,null,null,null,null,null,null,null,null,null,null,null,null,null,null,null,null,null,null,null,null,null,null,null,null,null,null,null,null,null,null,null,null,null,null,null,null,null,null,null,null,null,null,null,null,null,null,null,null,null,null,null,null,null,null,null,null,null,null,null,null,null,null,null,null,null,null,null,null,null,null,null,null,null,null,null,null,{"$f":"ROWS($EW$20:EW142)","v":123},{"$f":"IFERROR(MATCH(Hist_Tab[[#This Row],[Ref]],Medel_T[NrX],0),1)","v":1},{"$f":"INT((ROW(Hist_Tab[[#This Row],[Ref]])-ROW(Hist_Tab[[#Headers],[Ref]])-1)/4)+1","v":31},{"$f":"COUNTIF($EY$19:EY142,Hist_Tab[[#This Row],[Ref]])","v":4},{"$f":"IFERROR(INDEX(Medel_T[Start],Hist_Tab[[#This Row],[Ref]]),_xlfn.AGGREGATE(4,6,Medel_T[Start]))","v":"00:00:00"},{"$f":"IFERROR(INDEX(Medel_T[Slut],Hist_Tab[[#This Row],[Ref]]),_xlfn.AGGREGATE(4,6,Medel_T[Slut]))","v":"00:00:00"},{"$f":"IF(EW141=0,Hist_Tab[[#This Row],[ÅrB]],IF(Hist_Tab[[#This Row],[per/p]]<2,Hist_Tab[[#This Row],[ÅrB]],Hist_Tab[[#This Row],[År S]]))","v":"00:00:00"},{"$f":"IF(Hist_Tab[[#This Row],[Rad]:[Rad]]=0,-1,IF($EY143>_xlfn.AGGREGATE(2,6,Medel_T[[Slut]:[Slut]]),0,INDEX(Medel_T[],Hist_Tab[[#This Row],[Ref]:[Ref]],MATCH(Hist_Tab[[#Headers],[HöA T]],Medel_T[#Headers],0))))","v":0},{"$f":"IF(Hist_Tab[[#This Row],[Rad]:[Rad]]=0,0,IF($EY143>_xlfn.AGGREGATE(2,6,Medel_T[[Slut]:[Slut]]),0,INDEX(Medel_T[],Hist_Tab[[#This Row],[Ref]:[Ref]],MATCH(Hist_Tab[[#Headers],[AöA T]],Medel_T[#Headers],0))))","v":0},{"$f":"IF(Hist_Tab[[#This Row],[Rad]:[Rad]]=0,0,IF($EY143>_xlfn.AGGREGATE(2,6,Medel_T[[Slut]:[Slut]]),0,INDEX(Medel_T[],Hist_Tab[[#This Row],[Ref]:[Ref]],MATCH(Hist_Tab[[#Headers],[4AM T]],Medel_T[#Headers],0))))","v":0},{"$f":"IF(Hist_Tab[[#This Row],[Rad]:[Rad]]=0,0,IF($EY143>_xlfn.AGGREGATE(2,6,Medel_T[[Slut]:[Slut]]),0,INDEX(Medel_T[],Hist_Tab[[#This Row],[Ref]:[Ref]],MATCH(Hist_Tab[[#Headers],[15AM T]],Medel_T[#Headers],0))))","v":0},{"$f":"IF(Hist_Tab[[#This Row],[Rad]:[Rad]]=0,0,IF($EY143>_xlfn.AGGREGATE(2,6,Medel_T[[Slut]:[Slut]]),0,INDEX(Medel_T[],Hist_Tab[[#This Row],[Ref]:[Ref]],MATCH(Hist_Tab[[#Headers],[20-10D T]],Medel_T[#Headers],0))))","v":0}]
[null,null,null,null,null,null,null,null,null,null,null,null,null,null,null,null,null,null,null,null,null,null,null,null,null,null,null,null,null,null,null,null,null,null,null,null,null,null,null,null,null,null,null,null,null,null,null,null,null,null,null,null,null,null,null,null,null,null,null,null,null,null,null,null,null,null,null,null,null,null,null,null,null,null,null,null,null,null,null,null,null,null,null,null,null,null,null,null,null,null,null,null,null,null,null,null,null,null,null,null,null,null,null,null,null,null,null,null,null,null,null,null,null,null,null,null,null,null,null,null,null,null,null,null,null,null,null,null,null,null,null,null,null,null,null,null,null,null,null,null,null,null,null,null,null,null,null,null,null,null,null,null,{"$f":"ROWS($EW$20:EW143)","v":124},{"$f":"IFERROR(MATCH(Hist_Tab[[#This Row],[Ref]],Medel_T[NrX],0),1)","v":1},{"$f":"INT((ROW(Hist_Tab[[#This Row],[Ref]])-ROW(Hist_Tab[[#Headers],[Ref]])-1)/4)+1","v":32},{"$f":"COUNTIF($EY$19:EY143,Hist_Tab[[#This Row],[Ref]])","v":1},{"$f":"IFERROR(INDEX(Medel_T[Start],Hist_Tab[[#This Row],[Ref]]),_xlfn.AGGREGATE(4,6,Medel_T[Start]))","v":"00:00:00"},{"$f":"IFERROR(INDEX(Medel_T[Slut],Hist_Tab[[#This Row],[Ref]]),_xlfn.AGGREGATE(4,6,Medel_T[Slut]))","v":"00:00:00"},{"$f":"IF(EW142=0,Hist_Tab[[#This Row],[ÅrB]],IF(Hist_Tab[[#This Row],[per/p]]<2,Hist_Tab[[#This Row],[ÅrB]],Hist_Tab[[#This Row],[År S]]))","v":"00:00:00"},{"$f":"IF(Hist_Tab[[#This Row],[Rad]:[Rad]]=0,-1,IF($EY144>_xlfn.AGGREGATE(2,6,Medel_T[[Slut]:[Slut]]),0,INDEX(Medel_T[],Hist_Tab[[#This Row],[Ref]:[Ref]],MATCH(Hist_Tab[[#Headers],[HöA T]],Medel_T[#Headers],0))))","v":0},{"$f":"IF(Hist_Tab[[#This Row],[Rad]:[Rad]]=0,0,IF($EY144>_xlfn.AGGREGATE(2,6,Medel_T[[Slut]:[Slut]]),0,INDEX(Medel_T[],Hist_Tab[[#This Row],[Ref]:[Ref]],MATCH(Hist_Tab[[#Headers],[AöA T]],Medel_T[#Headers],0))))","v":0},{"$f":"IF(Hist_Tab[[#This Row],[Rad]:[Rad]]=0,0,IF($EY144>_xlfn.AGGREGATE(2,6,Medel_T[[Slut]:[Slut]]),0,INDEX(Medel_T[],Hist_Tab[[#This Row],[Ref]:[Ref]],MATCH(Hist_Tab[[#Headers],[4AM T]],Medel_T[#Headers],0))))","v":0},{"$f":"IF(Hist_Tab[[#This Row],[Rad]:[Rad]]=0,0,IF($EY144>_xlfn.AGGREGATE(2,6,Medel_T[[Slut]:[Slut]]),0,INDEX(Medel_T[],Hist_Tab[[#This Row],[Ref]:[Ref]],MATCH(Hist_Tab[[#Headers],[15AM T]],Medel_T[#Headers],0))))","v":0},{"$f":"IF(Hist_Tab[[#This Row],[Rad]:[Rad]]=0,0,IF($EY144>_xlfn.AGGREGATE(2,6,Medel_T[[Slut]:[Slut]]),0,INDEX(Medel_T[],Hist_Tab[[#This Row],[Ref]:[Ref]],MATCH(Hist_Tab[[#Headers],[20-10D T]],Medel_T[#Headers],0))))","v":0}]
[null,null,null,null,null,null,null,null,null,null,null,null,null,null,null,null,null,null,null,null,null,null,null,null,null,null,null,null,null,null,null,null,null,null,null,null,null,null,null,null,null,null,null,null,null,null,null,null,null,null,null,null,null,null,null,null,null,null,null,null,null,null,null,null,null,null,null,null,null,null,null,null,null,null,null,null,null,null,null,null,null,null,null,null,null,null,null,null,null,null,null,null,null,null,null,null,null,null,null,null,null,null,null,null,null,null,null,null,null,null,null,null,null,null,null,null,null,null,null,null,null,null,null,null,null,null,null,null,null,null,null,null,null,null,null,null,null,null,null,null,null,null,null,null,null,null,null,null,null,null,null,null,{"$f":"ROWS($EW$20:EW144)","v":125},{"$f":"IFERROR(MATCH(Hist_Tab[[#This Row],[Ref]],Medel_T[NrX],0),1)","v":1},{"$f":"INT((ROW(Hist_Tab[[#This Row],[Ref]])-ROW(Hist_Tab[[#Headers],[Ref]])-1)/4)+1","v":32},{"$f":"COUNTIF($EY$19:EY144,Hist_Tab[[#This Row],[Ref]])","v":2},{"$f":"IFERROR(INDEX(Medel_T[Start],Hist_Tab[[#This Row],[Ref]]),_xlfn.AGGREGATE(4,6,Medel_T[Start]))","v":"00:00:00"},{"$f":"IFERROR(INDEX(Medel_T[Slut],Hist_Tab[[#This Row],[Ref]]),_xlfn.AGGREGATE(4,6,Medel_T[Slut]))","v":"00:00:00"},{"$f":"IF(EW143=0,Hist_Tab[[#This Row],[ÅrB]],IF(Hist_Tab[[#This Row],[per/p]]<2,Hist_Tab[[#This Row],[ÅrB]],Hist_Tab[[#This Row],[År S]]))","v":"00:00:00"},{"$f":"IF(Hist_Tab[[#This Row],[Rad]:[Rad]]=0,-1,IF($EY145>_xlfn.AGGREGATE(2,6,Medel_T[[Slut]:[Slut]]),0,INDEX(Medel_T[],Hist_Tab[[#This Row],[Ref]:[Ref]],MATCH(Hist_Tab[[#Headers],[HöA T]],Medel_T[#Headers],0))))","v":0},{"$f":"IF(Hist_Tab[[#This Row],[Rad]:[Rad]]=0,0,IF($EY145>_xlfn.AGGREGATE(2,6,Medel_T[[Slut]:[Slut]]),0,INDEX(Medel_T[],Hist_Tab[[#This Row],[Ref]:[Ref]],MATCH(Hist_Tab[[#Headers],[AöA T]],Medel_T[#Headers],0))))","v":0},{"$f":"IF(Hist_Tab[[#This Row],[Rad]:[Rad]]=0,0,IF($EY145>_xlfn.AGGREGATE(2,6,Medel_T[[Slut]:[Slut]]),0,INDEX(Medel_T[],Hist_Tab[[#This Row],[Ref]:[Ref]],MATCH(Hist_Tab[[#Headers],[4AM T]],Medel_T[#Headers],0))))","v":0},{"$f":"IF(Hist_Tab[[#This Row],[Rad]:[Rad]]=0,0,IF($EY145>_xlfn.AGGREGATE(2,6,Medel_T[[Slut]:[Slut]]),0,INDEX(Medel_T[],Hist_Tab[[#This Row],[Ref]:[Ref]],MATCH(Hist_Tab[[#Headers],[15AM T]],Medel_T[#Headers],0))))","v":0},{"$f":"IF(Hist_Tab[[#This Row],[Rad]:[Rad]]=0,0,IF($EY145>_xlfn.AGGREGATE(2,6,Medel_T[[Slut]:[Slut]]),0,INDEX(Medel_T[],Hist_Tab[[#This Row],[Ref]:[Ref]],MATCH(Hist_Tab[[#Headers],[20-10D T]],Medel_T[#Headers],0))))","v":0}]
[null,null,null,null,null,null,null,null,null,null,null,null,null,null,null,null,null,null,null,null,null,null,null,null,null,null,null,null,null,null,null,null,null,null,null,null,null,null,null,null,null,null,null,null,null,null,null,null,null,null,null,null,null,null,null,null,null,null,null,null,null,null,null,null,null,null,null,null,null,null,null,null,null,null,null,null,null,null,null,null,null,null,null,null,null,null,null,null,null,null,null,null,null,null,null,null,null,null,null,null,null,null,null,null,null,null,null,null,null,null,null,null,null,null,null,null,null,null,null,null,null,null,null,null,null,null,null,null,null,null,null,null,null,null,null,null,null,null,null,null,null,null,null,null,null,null,null,null,null,null,null,null,{"$f":"ROWS($EW$20:EW145)","v":126},{"$f":"IFERROR(MATCH(Hist_Tab[[#This Row],[Ref]],Medel_T[NrX],0),1)","v":1},{"$f":"INT((ROW(Hist_Tab[[#This Row],[Ref]])-ROW(Hist_Tab[[#Headers],[Ref]])-1)/4)+1","v":32},{"$f":"COUNTIF($EY$19:EY145,Hist_Tab[[#This Row],[Ref]])","v":3},{"$f":"IFERROR(INDEX(Medel_T[Start],Hist_Tab[[#This Row],[Ref]]),_xlfn.AGGREGATE(4,6,Medel_T[Start]))","v":"00:00:00"},{"$f":"IFERROR(INDEX(Medel_T[Slut],Hist_Tab[[#This Row],[Ref]]),_xlfn.AGGREGATE(4,6,Medel_T[Slut]))","v":"00:00:00"},{"$f":"IF(EW144=0,Hist_Tab[[#This Row],[ÅrB]],IF(Hist_Tab[[#This Row],[per/p]]<2,Hist_Tab[[#This Row],[ÅrB]],Hist_Tab[[#This Row],[År S]]))","v":"00:00:00"},{"$f":"IF(Hist_Tab[[#This Row],[Rad]:[Rad]]=0,-1,IF($EY146>_xlfn.AGGREGATE(2,6,Medel_T[[Slut]:[Slut]]),0,INDEX(Medel_T[],Hist_Tab[[#This Row],[Ref]:[Ref]],MATCH(Hist_Tab[[#Headers],[HöA T]],Medel_T[#Headers],0))))","v":0},{"$f":"IF(Hist_Tab[[#This Row],[Rad]:[Rad]]=0,0,IF($EY146>_xlfn.AGGREGATE(2,6,Medel_T[[Slut]:[Slut]]),0,INDEX(Medel_T[],Hist_Tab[[#This Row],[Ref]:[Ref]],MATCH(Hist_Tab[[#Headers],[AöA T]],Medel_T[#Headers],0))))","v":0},{"$f":"IF(Hist_Tab[[#This Row],[Rad]:[Rad]]=0,0,IF($EY146>_xlfn.AGGREGATE(2,6,Medel_T[[Slut]:[Slut]]),0,INDEX(Medel_T[],Hist_Tab[[#This Row],[Ref]:[Ref]],MATCH(Hist_Tab[[#Headers],[4AM T]],Medel_T[#Headers],0))))","v":0},{"$f":"IF(Hist_Tab[[#This Row],[Rad]:[Rad]]=0,0,IF($EY146>_xlfn.AGGREGATE(2,6,Medel_T[[Slut]:[Slut]]),0,INDEX(Medel_T[],Hist_Tab[[#This Row],[Ref]:[Ref]],MATCH(Hist_Tab[[#Headers],[15AM T]],Medel_T[#Headers],0))))","v":0},{"$f":"IF(Hist_Tab[[#This Row],[Rad]:[Rad]]=0,0,IF($EY146>_xlfn.AGGREGATE(2,6,Medel_T[[Slut]:[Slut]]),0,INDEX(Medel_T[],Hist_Tab[[#This Row],[Ref]:[Ref]],MATCH(Hist_Tab[[#Headers],[20-10D T]],Medel_T[#Headers],0))))","v":0}]
[null,null,null,null,null,null,null,null,null,null,null,null,null,null,null,null,null,null,null,null,null,null,null,null,null,null,null,null,null,null,null,null,null,null,null,null,null,null,null,null,null,null,null,null,null,null,null,null,null,null,null,null,null,null,null,null,null,null,null,null,null,null,null,null,null,null,null,null,null,null,null,null,null,null,null,null,null,null,null,null,null,null,null,null,null,null,null,null,null,null,null,null,null,null,null,null,null,null,null,null,null,null,null,null,null,null,null,null,null,null,null,null,null,null,null,null,null,null,null,null,null,null,null,null,null,null,null,null,null,null,null,null,null,null,null,null,null,null,null,null,null,null,null,null,null,null,null,null,null,null,null,null,{"$f":"ROWS($EW$20:EW146)","v":127},{"$f":"IFERROR(MATCH(Hist_Tab[[#This Row],[Ref]],Medel_T[NrX],0),1)","v":1},{"$f":"INT((ROW(Hist_Tab[[#This Row],[Ref]])-ROW(Hist_Tab[[#Headers],[Ref]])-1)/4)+1","v":32},{"$f":"COUNTIF($EY$19:EY146,Hist_Tab[[#This Row],[Ref]])","v":4},{"$f":"IFERROR(INDEX(Medel_T[Start],Hist_Tab[[#This Row],[Ref]]),_xlfn.AGGREGATE(4,6,Medel_T[Start]))","v":"00:00:00"},{"$f":"IFERROR(INDEX(Medel_T[Slut],Hist_Tab[[#This Row],[Ref]]),_xlfn.AGGREGATE(4,6,Medel_T[Slut]))","v":"00:00:00"},{"$f":"IF(EW145=0,Hist_Tab[[#This Row],[ÅrB]],IF(Hist_Tab[[#This Row],[per/p]]<2,Hist_Tab[[#This Row],[ÅrB]],Hist_Tab[[#This Row],[År S]]))","v":"00:00:00"},{"$f":"IF(Hist_Tab[[#This Row],[Rad]:[Rad]]=0,-1,IF($EY147>_xlfn.AGGREGATE(2,6,Medel_T[[Slut]:[Slut]]),0,INDEX(Medel_T[],Hist_Tab[[#This Row],[Ref]:[Ref]],MATCH(Hist_Tab[[#Headers],[HöA T]],Medel_T[#Headers],0))))","v":0},{"$f":"IF(Hist_Tab[[#This Row],[Rad]:[Rad]]=0,0,IF($EY147>_xlfn.AGGREGATE(2,6,Medel_T[[Slut]:[Slut]]),0,INDEX(Medel_T[],Hist_Tab[[#This Row],[Ref]:[Ref]],MATCH(Hist_Tab[[#Headers],[AöA T]],Medel_T[#Headers],0))))","v":0},{"$f":"IF(Hist_Tab[[#This Row],[Rad]:[Rad]]=0,0,IF($EY147>_xlfn.AGGREGATE(2,6,Medel_T[[Slut]:[Slut]]),0,INDEX(Medel_T[],Hist_Tab[[#This Row],[Ref]:[Ref]],MATCH(Hist_Tab[[#Headers],[4AM T]],Medel_T[#Headers],0))))","v":0},{"$f":"IF(Hist_Tab[[#This Row],[Rad]:[Rad]]=0,0,IF($EY147>_xlfn.AGGREGATE(2,6,Medel_T[[Slut]:[Slut]]),0,INDEX(Medel_T[],Hist_Tab[[#This Row],[Ref]:[Ref]],MATCH(Hist_Tab[[#Headers],[15AM T]],Medel_T[#Headers],0))))","v":0},{"$f":"IF(Hist_Tab[[#This Row],[Rad]:[Rad]]=0,0,IF($EY147>_xlfn.AGGREGATE(2,6,Medel_T[[Slut]:[Slut]]),0,INDEX(Medel_T[],Hist_Tab[[#This Row],[Ref]:[Ref]],MATCH(Hist_Tab[[#Headers],[20-10D T]],Medel_T[#Headers],0))))","v":0}]
[null,null,null,null,null,null,null,null,null,null,null,null,null,null,null,null,null,null,null,null,null,null,null,null,null,null,null,null,null,null,null,null,null,null,null,null,null,null,null,null,null,null,null,null,null,null,null,null,null,null,null,null,null,null,null,null,null,null,null,null,null,null,null,null,null,null,null,null,null,null,null,null,null,null,null,null,null,null,null,null,null,null,null,null,null,null,null,null,null,null,null,null,null,null,null,null,null,null,null,null,null,null,null,null,null,null,null,null,null,null,null,null,null,null,null,null,null,null,null,null,null,null,null,null,null,null,null,null,null,null,null,null,null,null,null,null,null,null,null,null,null,null,null,null,null,null,null,null,null,null,null,null,{"$f":"ROWS($EW$20:EW147)","v":128},{"$f":"IFERROR(MATCH(Hist_Tab[[#This Row],[Ref]],Medel_T[NrX],0),1)","v":1},{"$f":"INT((ROW(Hist_Tab[[#This Row],[Ref]])-ROW(Hist_Tab[[#Headers],[Ref]])-1)/4)+1","v":33},{"$f":"COUNTIF($EY$19:EY147,Hist_Tab[[#This Row],[Ref]])","v":1},{"$f":"IFERROR(INDEX(Medel_T[Start],Hist_Tab[[#This Row],[Ref]]),_xlfn.AGGREGATE(4,6,Medel_T[Start]))","v":"00:00:00"},{"$f":"IFERROR(INDEX(Medel_T[Slut],Hist_Tab[[#This Row],[Ref]]),_xlfn.AGGREGATE(4,6,Medel_T[Slut]))","v":"00:00:00"},{"$f":"IF(EW146=0,Hist_Tab[[#This Row],[ÅrB]],IF(Hist_Tab[[#This Row],[per/p]]<2,Hist_Tab[[#This Row],[ÅrB]],Hist_Tab[[#This Row],[År S]]))","v":"00:00:00"},{"$f":"IF(Hist_Tab[[#This Row],[Rad]:[Rad]]=0,-1,IF($EY148>_xlfn.AGGREGATE(2,6,Medel_T[[Slut]:[Slut]]),0,INDEX(Medel_T[],Hist_Tab[[#This Row],[Ref]:[Ref]],MATCH(Hist_Tab[[#Headers],[HöA T]],Medel_T[#Headers],0))))","v":0},{"$f":"IF(Hist_Tab[[#This Row],[Rad]:[Rad]]=0,0,IF($EY148>_xlfn.AGGREGATE(2,6,Medel_T[[Slut]:[Slut]]),0,INDEX(Medel_T[],Hist_Tab[[#This Row],[Ref]:[Ref]],MATCH(Hist_Tab[[#Headers],[AöA T]],Medel_T[#Headers],0))))","v":0},{"$f":"IF(Hist_Tab[[#This Row],[Rad]:[Rad]]=0,0,IF($EY148>_xlfn.AGGREGATE(2,6,Medel_T[[Slut]:[Slut]]),0,INDEX(Medel_T[],Hist_Tab[[#This Row],[Ref]:[Ref]],MATCH(Hist_Tab[[#Headers],[4AM T]],Medel_T[#Headers],0))))","v":0},{"$f":"IF(Hist_Tab[[#This Row],[Rad]:[Rad]]=0,0,IF($EY148>_xlfn.AGGREGATE(2,6,Medel_T[[Slut]:[Slut]]),0,INDEX(Medel_T[],Hist_Tab[[#This Row],[Ref]:[Ref]],MATCH(Hist_Tab[[#Headers],[15AM T]],Medel_T[#Headers],0))))","v":0},{"$f":"IF(Hist_Tab[[#This Row],[Rad]:[Rad]]=0,0,IF($EY148>_xlfn.AGGREGATE(2,6,Medel_T[[Slut]:[Slut]]),0,INDEX(Medel_T[],Hist_Tab[[#This Row],[Ref]:[Ref]],MATCH(Hist_Tab[[#Headers],[20-10D T]],Medel_T[#Headers],0))))","v":0}]
[null,null,null,null,null,null,null,null,null,null,null,null,null,null,null,null,null,null,null,null,null,null,null,null,null,null,null,null,null,null,null,null,null,null,null,null,null,null,null,null,null,null,null,null,null,null,null,null,null,null,null,null,null,null,null,null,null,null,null,null,null,null,null,null,null,null,null,null,null,null,null,null,null,null,null,null,null,null,null,null,null,null,null,null,null,null,null,null,null,null,null,null,null,null,null,null,null,null,null,null,null,null,null,null,null,null,null,null,null,null,null,null,null,null,null,null,null,null,null,null,null,null,null,null,null,null,null,null,null,null,null,null,null,null,null,null,null,null,null,null,null,null,null,null,null,null,null,null,null,null,null,null,{"$f":"ROWS($EW$20:EW148)","v":129},{"$f":"IFERROR(MATCH(Hist_Tab[[#This Row],[Ref]],Medel_T[NrX],0),1)","v":1},{"$f":"INT((ROW(Hist_Tab[[#This Row],[Ref]])-ROW(Hist_Tab[[#Headers],[Ref]])-1)/4)+1","v":33},{"$f":"COUNTIF($EY$19:EY148,Hist_Tab[[#This Row],[Ref]])","v":2},{"$f":"IFERROR(INDEX(Medel_T[Start],Hist_Tab[[#This Row],[Ref]]),_xlfn.AGGREGATE(4,6,Medel_T[Start]))","v":"00:00:00"},{"$f":"IFERROR(INDEX(Medel_T[Slut],Hist_Tab[[#This Row],[Ref]]),_xlfn.AGGREGATE(4,6,Medel_T[Slut]))","v":"00:00:00"},{"$f":"IF(EW147=0,Hist_Tab[[#This Row],[ÅrB]],IF(Hist_Tab[[#This Row],[per/p]]<2,Hist_Tab[[#This Row],[ÅrB]],Hist_Tab[[#This Row],[År S]]))","v":"00:00:00"},{"$f":"IF(Hist_Tab[[#This Row],[Rad]:[Rad]]=0,-1,IF($EY149>_xlfn.AGGREGATE(2,6,Medel_T[[Slut]:[Slut]]),0,INDEX(Medel_T[],Hist_Tab[[#This Row],[Ref]:[Ref]],MATCH(Hist_Tab[[#Headers],[HöA T]],Medel_T[#Headers],0))))","v":0},{"$f":"IF(Hist_Tab[[#This Row],[Rad]:[Rad]]=0,0,IF($EY149>_xlfn.AGGREGATE(2,6,Medel_T[[Slut]:[Slut]]),0,INDEX(Medel_T[],Hist_Tab[[#This Row],[Ref]:[Ref]],MATCH(Hist_Tab[[#Headers],[AöA T]],Medel_T[#Headers],0))))","v":0},{"$f":"IF(Hist_Tab[[#This Row],[Rad]:[Rad]]=0,0,IF($EY149>_xlfn.AGGREGATE(2,6,Medel_T[[Slut]:[Slut]]),0,INDEX(Medel_T[],Hist_Tab[[#This Row],[Ref]:[Ref]],MATCH(Hist_Tab[[#Headers],[4AM T]],Medel_T[#Headers],0))))","v":0},{"$f":"IF(Hist_Tab[[#This Row],[Rad]:[Rad]]=0,0,IF($EY149>_xlfn.AGGREGATE(2,6,Medel_T[[Slut]:[Slut]]),0,INDEX(Medel_T[],Hist_Tab[[#This Row],[Ref]:[Ref]],MATCH(Hist_Tab[[#Headers],[15AM T]],Medel_T[#Headers],0))))","v":0},{"$f":"IF(Hist_Tab[[#This Row],[Rad]:[Rad]]=0,0,IF($EY149>_xlfn.AGGREGATE(2,6,Medel_T[[Slut]:[Slut]]),0,INDEX(Medel_T[],Hist_Tab[[#This Row],[Ref]:[Ref]],MATCH(Hist_Tab[[#Headers],[20-10D T]],Medel_T[#Headers],0))))","v":0}]
[null,null,null,null,null,null,null,null,null,null,null,null,null,null,null,null,null,null,null,null,null,null,null,null,null,null,null,null,null,null,null,null,null,null,null,null,null,null,null,null,null,null,null,null,null,null,null,null,null,null,null,null,null,null,null,null,null,null,null,null,null,null,null,null,null,null,null,null,null,null,null,null,null,null,null,null,null,null,null,null,null,null,null,null,null,null,null,null,null,null,null,null,null,null,null,null,null,null,null,null,null,null,null,null,null,null,null,null,null,null,null,null,null,null,null,null,null,null,null,null,null,null,null,null,null,null,null,null,null,null,null,null,null,null,null,null,null,null,null,null,null,null,null,null,null,null,null,null,null,null,null,null,{"$f":"ROWS($EW$20:EW149)","v":130},{"$f":"IFERROR(MATCH(Hist_Tab[[#This Row],[Ref]],Medel_T[NrX],0),1)","v":1},{"$f":"INT((ROW(Hist_Tab[[#This Row],[Ref]])-ROW(Hist_Tab[[#Headers],[Ref]])-1)/4)+1","v":33},{"$f":"COUNTIF($EY$19:EY149,Hist_Tab[[#This Row],[Ref]])","v":3},{"$f":"IFERROR(INDEX(Medel_T[Start],Hist_Tab[[#This Row],[Ref]]),_xlfn.AGGREGATE(4,6,Medel_T[Start]))","v":"00:00:00"},{"$f":"IFERROR(INDEX(Medel_T[Slut],Hist_Tab[[#This Row],[Ref]]),_xlfn.AGGREGATE(4,6,Medel_T[Slut]))","v":"00:00:00"},{"$f":"IF(EW148=0,Hist_Tab[[#This Row],[ÅrB]],IF(Hist_Tab[[#This Row],[per/p]]<2,Hist_Tab[[#This Row],[ÅrB]],Hist_Tab[[#This Row],[År S]]))","v":"00:00:00"},{"$f":"IF(Hist_Tab[[#This Row],[Rad]:[Rad]]=0,-1,IF($EY150>_xlfn.AGGREGATE(2,6,Medel_T[[Slut]:[Slut]]),0,INDEX(Medel_T[],Hist_Tab[[#This Row],[Ref]:[Ref]],MATCH(Hist_Tab[[#Headers],[HöA T]],Medel_T[#Headers],0))))","v":0},{"$f":"IF(Hist_Tab[[#This Row],[Rad]:[Rad]]=0,0,IF($EY150>_xlfn.AGGREGATE(2,6,Medel_T[[Slut]:[Slut]]),0,INDEX(Medel_T[],Hist_Tab[[#This Row],[Ref]:[Ref]],MATCH(Hist_Tab[[#Headers],[AöA T]],Medel_T[#Headers],0))))","v":0},{"$f":"IF(Hist_Tab[[#This Row],[Rad]:[Rad]]=0,0,IF($EY150>_xlfn.AGGREGATE(2,6,Medel_T[[Slut]:[Slut]]),0,INDEX(Medel_T[],Hist_Tab[[#This Row],[Ref]:[Ref]],MATCH(Hist_Tab[[#Headers],[4AM T]],Medel_T[#Headers],0))))","v":0},{"$f":"IF(Hist_Tab[[#This Row],[Rad]:[Rad]]=0,0,IF($EY150>_xlfn.AGGREGATE(2,6,Medel_T[[Slut]:[Slut]]),0,INDEX(Medel_T[],Hist_Tab[[#This Row],[Ref]:[Ref]],MATCH(Hist_Tab[[#Headers],[15AM T]],Medel_T[#Headers],0))))","v":0},{"$f":"IF(Hist_Tab[[#This Row],[Rad]:[Rad]]=0,0,IF($EY150>_xlfn.AGGREGATE(2,6,Medel_T[[Slut]:[Slut]]),0,INDEX(Medel_T[],Hist_Tab[[#This Row],[Ref]:[Ref]],MATCH(Hist_Tab[[#Headers],[20-10D T]],Medel_T[#Headers],0))))","v":0}]
[null,null,null,null,null,null,null,null,null,null,null,null,null,null,null,null,null,null,null,null,null,null,null,null,null,null,null,null,null,null,null,null,null,null,null,null,null,null,null,null,null,null,null,null,null,null,null,null,null,null,null,null,null,null,null,null,null,null,null,null,null,null,null,null,null,null,null,null,null,null,null,null,null,null,null,null,null,null,null,null,null,null,null,null,null,null,null,null,null,null,null,null,null,null,null,null,null,null,null,null,null,null,null,null,null,null,null,null,null,null,null,null,null,null,null,null,null,null,null,null,null,null,null,null,null,null,null,null,null,null,null,null,null,null,null,null,null,null,null,null,null,null,null,null,null,null,null,null,null,null,null,null,{"$f":"ROWS($EW$20:EW150)","v":131},{"$f":"IFERROR(MATCH(Hist_Tab[[#This Row],[Ref]],Medel_T[NrX],0),1)","v":1},{"$f":"INT((ROW(Hist_Tab[[#This Row],[Ref]])-ROW(Hist_Tab[[#Headers],[Ref]])-1)/4)+1","v":33},{"$f":"COUNTIF($EY$19:EY150,Hist_Tab[[#This Row],[Ref]])","v":4},{"$f":"IFERROR(INDEX(Medel_T[Start],Hist_Tab[[#This Row],[Ref]]),_xlfn.AGGREGATE(4,6,Medel_T[Start]))","v":"00:00:00"},{"$f":"IFERROR(INDEX(Medel_T[Slut],Hist_Tab[[#This Row],[Ref]]),_xlfn.AGGREGATE(4,6,Medel_T[Slut]))","v":"00:00:00"},{"$f":"IF(EW149=0,Hist_Tab[[#This Row],[ÅrB]],IF(Hist_Tab[[#This Row],[per/p]]<2,Hist_Tab[[#This Row],[ÅrB]],Hist_Tab[[#This Row],[År S]]))","v":"00:00:00"},{"$f":"IF(Hist_Tab[[#This Row],[Rad]:[Rad]]=0,-1,IF($EY151>_xlfn.AGGREGATE(2,6,Medel_T[[Slut]:[Slut]]),0,INDEX(Medel_T[],Hist_Tab[[#This Row],[Ref]:[Ref]],MATCH(Hist_Tab[[#Headers],[HöA T]],Medel_T[#Headers],0))))","v":0},{"$f":"IF(Hist_Tab[[#This Row],[Rad]:[Rad]]=0,0,IF($EY151>_xlfn.AGGREGATE(2,6,Medel_T[[Slut]:[Slut]]),0,INDEX(Medel_T[],Hist_Tab[[#This Row],[Ref]:[Ref]],MATCH(Hist_Tab[[#Headers],[AöA T]],Medel_T[#Headers],0))))","v":0},{"$f":"IF(Hist_Tab[[#This Row],[Rad]:[Rad]]=0,0,IF($EY151>_xlfn.AGGREGATE(2,6,Medel_T[[Slut]:[Slut]]),0,INDEX(Medel_T[],Hist_Tab[[#This Row],[Ref]:[Ref]],MATCH(Hist_Tab[[#Headers],[4AM T]],Medel_T[#Headers],0))))","v":0},{"$f":"IF(Hist_Tab[[#This Row],[Rad]:[Rad]]=0,0,IF($EY151>_xlfn.AGGREGATE(2,6,Medel_T[[Slut]:[Slut]]),0,INDEX(Medel_T[],Hist_Tab[[#This Row],[Ref]:[Ref]],MATCH(Hist_Tab[[#Headers],[15AM T]],Medel_T[#Headers],0))))","v":0},{"$f":"IF(Hist_Tab[[#This Row],[Rad]:[Rad]]=0,0,IF($EY151>_xlfn.AGGREGATE(2,6,Medel_T[[Slut]:[Slut]]),0,INDEX(Medel_T[],Hist_Tab[[#This Row],[Ref]:[Ref]],MATCH(Hist_Tab[[#Headers],[20-10D T]],Medel_T[#Headers],0))))","v":0}]
[null,null,null,null,null,null,null,null,null,null,null,null,null,null,null,null,null,null,null,null,null,null,null,null,null,null,null,null,null,null,null,null,null,null,null,null,null,null,null,null,null,null,null,null,null,null,null,null,null,null,null,null,null,null,null,null,null,null,null,null,null,null,null,null,null,null,null,null,null,null,null,null,null,null,null,null,null,null,null,null,null,null,null,null,null,null,null,null,null,null,null,null,null,null,null,null,null,null,null,null,null,null,null,null,null,null,null,null,null,null,null,null,null,null,null,null,null,null,null,null,null,null,null,null,null,null,null,null,null,null,null,null,null,null,null,null,null,null,null,null,null,null,null,null,null,null,null,null,null,null,null,null,{"$f":"ROWS($EW$20:EW151)","v":132},{"$f":"IFERROR(MATCH(Hist_Tab[[#This Row],[Ref]],Medel_T[NrX],0),1)","v":1},{"$f":"INT((ROW(Hist_Tab[[#This Row],[Ref]])-ROW(Hist_Tab[[#Headers],[Ref]])-1)/4)+1","v":34},{"$f":"COUNTIF($EY$19:EY151,Hist_Tab[[#This Row],[Ref]])","v":1},{"$f":"IFERROR(INDEX(Medel_T[Start],Hist_Tab[[#This Row],[Ref]]),_xlfn.AGGREGATE(4,6,Medel_T[Start]))","v":"00:00:00"},{"$f":"IFERROR(INDEX(Medel_T[Slut],Hist_Tab[[#This Row],[Ref]]),_xlfn.AGGREGATE(4,6,Medel_T[Slut]))","v":"00:00:00"},{"$f":"IF(EW150=0,Hist_Tab[[#This Row],[ÅrB]],IF(Hist_Tab[[#This Row],[per/p]]<2,Hist_Tab[[#This Row],[ÅrB]],Hist_Tab[[#This Row],[År S]]))","v":"00:00:00"},{"$f":"IF(Hist_Tab[[#This Row],[Rad]:[Rad]]=0,-1,IF($EY152>_xlfn.AGGREGATE(2,6,Medel_T[[Slut]:[Slut]]),0,INDEX(Medel_T[],Hist_Tab[[#This Row],[Ref]:[Ref]],MATCH(Hist_Tab[[#Headers],[HöA T]],Medel_T[#Headers],0))))","v":0},{"$f":"IF(Hist_Tab[[#This Row],[Rad]:[Rad]]=0,0,IF($EY152>_xlfn.AGGREGATE(2,6,Medel_T[[Slut]:[Slut]]),0,INDEX(Medel_T[],Hist_Tab[[#This Row],[Ref]:[Ref]],MATCH(Hist_Tab[[#Headers],[AöA T]],Medel_T[#Headers],0))))","v":0},{"$f":"IF(Hist_Tab[[#This Row],[Rad]:[Rad]]=0,0,IF($EY152>_xlfn.AGGREGATE(2,6,Medel_T[[Slut]:[Slut]]),0,INDEX(Medel_T[],Hist_Tab[[#This Row],[Ref]:[Ref]],MATCH(Hist_Tab[[#Headers],[4AM T]],Medel_T[#Headers],0))))","v":0},{"$f":"IF(Hist_Tab[[#This Row],[Rad]:[Rad]]=0,0,IF($EY152>_xlfn.AGGREGATE(2,6,Medel_T[[Slut]:[Slut]]),0,INDEX(Medel_T[],Hist_Tab[[#This Row],[Ref]:[Ref]],MATCH(Hist_Tab[[#Headers],[15AM T]],Medel_T[#Headers],0))))","v":0},{"$f":"IF(Hist_Tab[[#This Row],[Rad]:[Rad]]=0,0,IF($EY152>_xlfn.AGGREGATE(2,6,Medel_T[[Slut]:[Slut]]),0,INDEX(Medel_T[],Hist_Tab[[#This Row],[Ref]:[Ref]],MATCH(Hist_Tab[[#Headers],[20-10D T]],Medel_T[#Headers],0))))","v":0}]
[null,null,null,null,null,null,null,null,null,null,null,null,null,null,null,null,null,null,null,null,null,null,null,null,null,null,null,null,null,null,null,null,null,null,null,null,null,null,null,null,null,null,null,null,null,null,null,null,null,null,null,null,null,null,null,null,null,null,null,null,null,null,null,null,null,null,null,null,null,null,null,null,null,null,null,null,null,null,null,null,null,null,null,null,null,null,null,null,null,null,null,null,null,null,null,null,null,null,null,null,null,null,null,null,null,null,null,null,null,null,null,null,null,null,null,null,null,null,null,null,null,null,null,null,null,null,null,null,null,null,null,null,null,null,null,null,null,null,null,null,null,null,null,null,null,null,null,null,null,null,null,null,{"$f":"ROWS($EW$20:EW152)","v":133},{"$f":"IFERROR(MATCH(Hist_Tab[[#This Row],[Ref]],Medel_T[NrX],0),1)","v":1},{"$f":"INT((ROW(Hist_Tab[[#This Row],[Ref]])-ROW(Hist_Tab[[#Headers],[Ref]])-1)/4)+1","v":34},{"$f":"COUNTIF($EY$19:EY152,Hist_Tab[[#This Row],[Ref]])","v":2},{"$f":"IFERROR(INDEX(Medel_T[Start],Hist_Tab[[#This Row],[Ref]]),_xlfn.AGGREGATE(4,6,Medel_T[Start]))","v":"00:00:00"},{"$f":"IFERROR(INDEX(Medel_T[Slut],Hist_Tab[[#This Row],[Ref]]),_xlfn.AGGREGATE(4,6,Medel_T[Slut]))","v":"00:00:00"},{"$f":"IF(EW151=0,Hist_Tab[[#This Row],[ÅrB]],IF(Hist_Tab[[#This Row],[per/p]]<2,Hist_Tab[[#This Row],[ÅrB]],Hist_Tab[[#This Row],[År S]]))","v":"00:00:00"},{"$f":"IF(Hist_Tab[[#This Row],[Rad]:[Rad]]=0,-1,IF($EY153>_xlfn.AGGREGATE(2,6,Medel_T[[Slut]:[Slut]]),0,INDEX(Medel_T[],Hist_Tab[[#This Row],[Ref]:[Ref]],MATCH(Hist_Tab[[#Headers],[HöA T]],Medel_T[#Headers],0))))","v":0},{"$f":"IF(Hist_Tab[[#This Row],[Rad]:[Rad]]=0,0,IF($EY153>_xlfn.AGGREGATE(2,6,Medel_T[[Slut]:[Slut]]),0,INDEX(Medel_T[],Hist_Tab[[#This Row],[Ref]:[Ref]],MATCH(Hist_Tab[[#Headers],[AöA T]],Medel_T[#Headers],0))))","v":0},{"$f":"IF(Hist_Tab[[#This Row],[Rad]:[Rad]]=0,0,IF($EY153>_xlfn.AGGREGATE(2,6,Medel_T[[Slut]:[Slut]]),0,INDEX(Medel_T[],Hist_Tab[[#This Row],[Ref]:[Ref]],MATCH(Hist_Tab[[#Headers],[4AM T]],Medel_T[#Headers],0))))","v":0},{"$f":"IF(Hist_Tab[[#This Row],[Rad]:[Rad]]=0,0,IF($EY153>_xlfn.AGGREGATE(2,6,Medel_T[[Slut]:[Slut]]),0,INDEX(Medel_T[],Hist_Tab[[#This Row],[Ref]:[Ref]],MATCH(Hist_Tab[[#Headers],[15AM T]],Medel_T[#Headers],0))))","v":0},{"$f":"IF(Hist_Tab[[#This Row],[Rad]:[Rad]]=0,0,IF($EY153>_xlfn.AGGREGATE(2,6,Medel_T[[Slut]:[Slut]]),0,INDEX(Medel_T[],Hist_Tab[[#This Row],[Ref]:[Ref]],MATCH(Hist_Tab[[#Headers],[20-10D T]],Medel_T[#Headers],0))))","v":0}]
[null,null,null,null,null,null,null,null,null,null,null,null,null,null,null,null,null,null,null,null,null,null,null,null,null,null,null,null,null,null,null,null,null,null,null,null,null,null,null,null,null,null,null,null,null,null,null,null,null,null,null,null,null,null,null,null,null,null,null,null,null,null,null,null,null,null,null,null,null,null,null,null,null,null,null,null,null,null,null,null,null,null,null,null,null,null,null,null,null,null,null,null,null,null,null,null,null,null,null,null,null,null,null,null,null,null,null,null,null,null,null,null,null,null,null,null,null,null,null,null,null,null,null,null,null,null,null,null,null,null,null,null,null,null,null,null,null,null,null,null,null,null,null,null,null,null,null,null,null,null,null,null,{"$f":"ROWS($EW$20:EW153)","v":134},{"$f":"IFERROR(MATCH(Hist_Tab[[#This Row],[Ref]],Medel_T[NrX],0),1)","v":1},{"$f":"INT((ROW(Hist_Tab[[#This Row],[Ref]])-ROW(Hist_Tab[[#Headers],[Ref]])-1)/4)+1","v":34},{"$f":"COUNTIF($EY$19:EY153,Hist_Tab[[#This Row],[Ref]])","v":3},{"$f":"IFERROR(INDEX(Medel_T[Start],Hist_Tab[[#This Row],[Ref]]),_xlfn.AGGREGATE(4,6,Medel_T[Start]))","v":"00:00:00"},{"$f":"IFERROR(INDEX(Medel_T[Slut],Hist_Tab[[#This Row],[Ref]]),_xlfn.AGGREGATE(4,6,Medel_T[Slut]))","v":"00:00:00"},{"$f":"IF(EW152=0,Hist_Tab[[#This Row],[ÅrB]],IF(Hist_Tab[[#This Row],[per/p]]<2,Hist_Tab[[#This Row],[ÅrB]],Hist_Tab[[#This Row],[År S]]))","v":"00:00:00"},{"$f":"IF(Hist_Tab[[#This Row],[Rad]:[Rad]]=0,-1,IF($EY154>_xlfn.AGGREGATE(2,6,Medel_T[[Slut]:[Slut]]),0,INDEX(Medel_T[],Hist_Tab[[#This Row],[Ref]:[Ref]],MATCH(Hist_Tab[[#Headers],[HöA T]],Medel_T[#Headers],0))))","v":0},{"$f":"IF(Hist_Tab[[#This Row],[Rad]:[Rad]]=0,0,IF($EY154>_xlfn.AGGREGATE(2,6,Medel_T[[Slut]:[Slut]]),0,INDEX(Medel_T[],Hist_Tab[[#This Row],[Ref]:[Ref]],MATCH(Hist_Tab[[#Headers],[AöA T]],Medel_T[#Headers],0))))","v":0},{"$f":"IF(Hist_Tab[[#This Row],[Rad]:[Rad]]=0,0,IF($EY154>_xlfn.AGGREGATE(2,6,Medel_T[[Slut]:[Slut]]),0,INDEX(Medel_T[],Hist_Tab[[#This Row],[Ref]:[Ref]],MATCH(Hist_Tab[[#Headers],[4AM T]],Medel_T[#Headers],0))))","v":0},{"$f":"IF(Hist_Tab[[#This Row],[Rad]:[Rad]]=0,0,IF($EY154>_xlfn.AGGREGATE(2,6,Medel_T[[Slut]:[Slut]]),0,INDEX(Medel_T[],Hist_Tab[[#This Row],[Ref]:[Ref]],MATCH(Hist_Tab[[#Headers],[15AM T]],Medel_T[#Headers],0))))","v":0},{"$f":"IF(Hist_Tab[[#This Row],[Rad]:[Rad]]=0,0,IF($EY154>_xlfn.AGGREGATE(2,6,Medel_T[[Slut]:[Slut]]),0,INDEX(Medel_T[],Hist_Tab[[#This Row],[Ref]:[Ref]],MATCH(Hist_Tab[[#Headers],[20-10D T]],Medel_T[#Headers],0))))","v":0}]
[null,null,null,null,null,null,null,null,null,null,null,null,null,null,null,null,null,null,null,null,null,null,null,null,null,null,null,null,null,null,null,null,null,null,null,null,null,null,null,null,null,null,null,null,null,null,null,null,null,null,null,null,null,null,null,null,null,null,null,null,null,null,null,null,null,null,null,null,null,null,null,null,null,null,null,null,null,null,null,null,null,null,null,null,null,null,null,null,null,null,null,null,null,null,null,null,null,null,null,null,null,null,null,null,null,null,null,null,null,null,null,null,null,null,null,null,null,null,null,null,null,null,null,null,null,null,null,null,null,null,null,null,null,null,null,null,null,null,null,null,null,null,null,null,null,null,null,null,null,null,null,null,{"$f":"ROWS($EW$20:EW154)","v":135},{"$f":"IFERROR(MATCH(Hist_Tab[[#This Row],[Ref]],Medel_T[NrX],0),1)","v":1},{"$f":"INT((ROW(Hist_Tab[[#This Row],[Ref]])-ROW(Hist_Tab[[#Headers],[Ref]])-1)/4)+1","v":34},{"$f":"COUNTIF($EY$19:EY154,Hist_Tab[[#This Row],[Ref]])","v":4},{"$f":"IFERROR(INDEX(Medel_T[Start],Hist_Tab[[#This Row],[Ref]]),_xlfn.AGGREGATE(4,6,Medel_T[Start]))","v":"00:00:00"},{"$f":"IFERROR(INDEX(Medel_T[Slut],Hist_Tab[[#This Row],[Ref]]),_xlfn.AGGREGATE(4,6,Medel_T[Slut]))","v":"00:00:00"},{"$f":"IF(EW153=0,Hist_Tab[[#This Row],[ÅrB]],IF(Hist_Tab[[#This Row],[per/p]]<2,Hist_Tab[[#This Row],[ÅrB]],Hist_Tab[[#This Row],[År S]]))","v":"00:00:00"},{"$f":"IF(Hist_Tab[[#This Row],[Rad]:[Rad]]=0,-1,IF($EY155>_xlfn.AGGREGATE(2,6,Medel_T[[Slut]:[Slut]]),0,INDEX(Medel_T[],Hist_Tab[[#This Row],[Ref]:[Ref]],MATCH(Hist_Tab[[#Headers],[HöA T]],Medel_T[#Headers],0))))","v":0},{"$f":"IF(Hist_Tab[[#This Row],[Rad]:[Rad]]=0,0,IF($EY155>_xlfn.AGGREGATE(2,6,Medel_T[[Slut]:[Slut]]),0,INDEX(Medel_T[],Hist_Tab[[#This Row],[Ref]:[Ref]],MATCH(Hist_Tab[[#Headers],[AöA T]],Medel_T[#Headers],0))))","v":0},{"$f":"IF(Hist_Tab[[#This Row],[Rad]:[Rad]]=0,0,IF($EY155>_xlfn.AGGREGATE(2,6,Medel_T[[Slut]:[Slut]]),0,INDEX(Medel_T[],Hist_Tab[[#This Row],[Ref]:[Ref]],MATCH(Hist_Tab[[#Headers],[4AM T]],Medel_T[#Headers],0))))","v":0},{"$f":"IF(Hist_Tab[[#This Row],[Rad]:[Rad]]=0,0,IF($EY155>_xlfn.AGGREGATE(2,6,Medel_T[[Slut]:[Slut]]),0,INDEX(Medel_T[],Hist_Tab[[#This Row],[Ref]:[Ref]],MATCH(Hist_Tab[[#Headers],[15AM T]],Medel_T[#Headers],0))))","v":0},{"$f":"IF(Hist_Tab[[#This Row],[Rad]:[Rad]]=0,0,IF($EY155>_xlfn.AGGREGATE(2,6,Medel_T[[Slut]:[Slut]]),0,INDEX(Medel_T[],Hist_Tab[[#This Row],[Ref]:[Ref]],MATCH(Hist_Tab[[#Headers],[20-10D T]],Medel_T[#Headers],0))))","v":0}]
[null,null,null,null,null,null,null,null,null,null,null,null,null,null,null,null,null,null,null,null,null,null,null,null,null,null,null,null,null,null,null,null,null,null,null,null,null,null,null,null,null,null,null,null,null,null,null,null,null,null,null,null,null,null,null,null,null,null,null,null,null,null,null,null,null,null,null,null,null,null,null,null,null,null,null,null,null,null,null,null,null,null,null,null,null,null,null,null,null,null,null,null,null,null,null,null,null,null,null,null,null,null,null,null,null,null,null,null,null,null,null,null,null,null,null,null,null,null,null,null,null,null,null,null,null,null,null,null,null,null,null,null,null,null,null,null,null,null,null,null,null,null,null,null,null,null,null,null,null,null,null,null,{"$f":"ROWS($EW$20:EW155)","v":136},{"$f":"IFERROR(MATCH(Hist_Tab[[#This Row],[Ref]],Medel_T[NrX],0),1)","v":1},{"$f":"INT((ROW(Hist_Tab[[#This Row],[Ref]])-ROW(Hist_Tab[[#Headers],[Ref]])-1)/4)+1","v":35},{"$f":"COUNTIF($EY$19:EY155,Hist_Tab[[#This Row],[Ref]])","v":1},{"$f":"IFERROR(INDEX(Medel_T[Start],Hist_Tab[[#This Row],[Ref]]),_xlfn.AGGREGATE(4,6,Medel_T[Start]))","v":"00:00:00"},{"$f":"IFERROR(INDEX(Medel_T[Slut],Hist_Tab[[#This Row],[Ref]]),_xlfn.AGGREGATE(4,6,Medel_T[Slut]))","v":"00:00:00"},{"$f":"IF(EW154=0,Hist_Tab[[#This Row],[ÅrB]],IF(Hist_Tab[[#This Row],[per/p]]<2,Hist_Tab[[#This Row],[ÅrB]],Hist_Tab[[#This Row],[År S]]))","v":"00:00:00"},{"$f":"IF(Hist_Tab[[#This Row],[Rad]:[Rad]]=0,-1,IF($EY156>_xlfn.AGGREGATE(2,6,Medel_T[[Slut]:[Slut]]),0,INDEX(Medel_T[],Hist_Tab[[#This Row],[Ref]:[Ref]],MATCH(Hist_Tab[[#Headers],[HöA T]],Medel_T[#Headers],0))))","v":0},{"$f":"IF(Hist_Tab[[#This Row],[Rad]:[Rad]]=0,0,IF($EY156>_xlfn.AGGREGATE(2,6,Medel_T[[Slut]:[Slut]]),0,INDEX(Medel_T[],Hist_Tab[[#This Row],[Ref]:[Ref]],MATCH(Hist_Tab[[#Headers],[AöA T]],Medel_T[#Headers],0))))","v":0},{"$f":"IF(Hist_Tab[[#This Row],[Rad]:[Rad]]=0,0,IF($EY156>_xlfn.AGGREGATE(2,6,Medel_T[[Slut]:[Slut]]),0,INDEX(Medel_T[],Hist_Tab[[#This Row],[Ref]:[Ref]],MATCH(Hist_Tab[[#Headers],[4AM T]],Medel_T[#Headers],0))))","v":0},{"$f":"IF(Hist_Tab[[#This Row],[Rad]:[Rad]]=0,0,IF($EY156>_xlfn.AGGREGATE(2,6,Medel_T[[Slut]:[Slut]]),0,INDEX(Medel_T[],Hist_Tab[[#This Row],[Ref]:[Ref]],MATCH(Hist_Tab[[#Headers],[15AM T]],Medel_T[#Headers],0))))","v":0},{"$f":"IF(Hist_Tab[[#This Row],[Rad]:[Rad]]=0,0,IF($EY156>_xlfn.AGGREGATE(2,6,Medel_T[[Slut]:[Slut]]),0,INDEX(Medel_T[],Hist_Tab[[#This Row],[Ref]:[Ref]],MATCH(Hist_Tab[[#Headers],[20-10D T]],Medel_T[#Headers],0))))","v":0}]
[null,null,null,null,null,null,null,null,null,null,null,null,null,null,null,null,null,null,null,null,null,null,null,null,null,null,null,null,null,null,null,null,null,null,null,null,null,null,null,null,null,null,null,null,null,null,null,null,null,null,null,null,null,null,null,null,null,null,null,null,null,null,null,null,null,null,null,null,null,null,null,null,null,null,null,null,null,null,null,null,null,null,null,null,null,null,null,null,null,null,null,null,null,null,null,null,null,null,null,null,null,null,null,null,null,null,null,null,null,null,null,null,null,null,null,null,null,null,null,null,null,null,null,null,null,null,null,null,null,null,null,null,null,null,null,null,null,null,null,null,null,null,null,null,null,null,null,null,null,null,null,null,{"$f":"ROWS($EW$20:EW156)","v":137},{"$f":"IFERROR(MATCH(Hist_Tab[[#This Row],[Ref]],Medel_T[NrX],0),1)","v":1},{"$f":"INT((ROW(Hist_Tab[[#This Row],[Ref]])-ROW(Hist_Tab[[#Headers],[Ref]])-1)/4)+1","v":35},{"$f":"COUNTIF($EY$19:EY156,Hist_Tab[[#This Row],[Ref]])","v":2},{"$f":"IFERROR(INDEX(Medel_T[Start],Hist_Tab[[#This Row],[Ref]]),_xlfn.AGGREGATE(4,6,Medel_T[Start]))","v":"00:00:00"},{"$f":"IFERROR(INDEX(Medel_T[Slut],Hist_Tab[[#This Row],[Ref]]),_xlfn.AGGREGATE(4,6,Medel_T[Slut]))","v":"00:00:00"},{"$f":"IF(EW155=0,Hist_Tab[[#This Row],[ÅrB]],IF(Hist_Tab[[#This Row],[per/p]]<2,Hist_Tab[[#This Row],[ÅrB]],Hist_Tab[[#This Row],[År S]]))","v":"00:00:00"},{"$f":"IF(Hist_Tab[[#This Row],[Rad]:[Rad]]=0,-1,IF($EY157>_xlfn.AGGREGATE(2,6,Medel_T[[Slut]:[Slut]]),0,INDEX(Medel_T[],Hist_Tab[[#This Row],[Ref]:[Ref]],MATCH(Hist_Tab[[#Headers],[HöA T]],Medel_T[#Headers],0))))","v":0},{"$f":"IF(Hist_Tab[[#This Row],[Rad]:[Rad]]=0,0,IF($EY157>_xlfn.AGGREGATE(2,6,Medel_T[[Slut]:[Slut]]),0,INDEX(Medel_T[],Hist_Tab[[#This Row],[Ref]:[Ref]],MATCH(Hist_Tab[[#Headers],[AöA T]],Medel_T[#Headers],0))))","v":0},{"$f":"IF(Hist_Tab[[#This Row],[Rad]:[Rad]]=0,0,IF($EY157>_xlfn.AGGREGATE(2,6,Medel_T[[Slut]:[Slut]]),0,INDEX(Medel_T[],Hist_Tab[[#This Row],[Ref]:[Ref]],MATCH(Hist_Tab[[#Headers],[4AM T]],Medel_T[#Headers],0))))","v":0},{"$f":"IF(Hist_Tab[[#This Row],[Rad]:[Rad]]=0,0,IF($EY157>_xlfn.AGGREGATE(2,6,Medel_T[[Slut]:[Slut]]),0,INDEX(Medel_T[],Hist_Tab[[#This Row],[Ref]:[Ref]],MATCH(Hist_Tab[[#Headers],[15AM T]],Medel_T[#Headers],0))))","v":0},{"$f":"IF(Hist_Tab[[#This Row],[Rad]:[Rad]]=0,0,IF($EY157>_xlfn.AGGREGATE(2,6,Medel_T[[Slut]:[Slut]]),0,INDEX(Medel_T[],Hist_Tab[[#This Row],[Ref]:[Ref]],MATCH(Hist_Tab[[#Headers],[20-10D T]],Medel_T[#Headers],0))))","v":0}]
[null,null,null,null,null,null,null,null,null,null,null,null,null,null,null,null,null,null,null,null,null,null,null,null,null,null,null,null,null,null,null,null,null,null,null,null,null,null,null,null,null,null,null,null,null,null,null,null,null,null,null,null,null,null,null,null,null,null,null,null,null,null,null,null,null,null,null,null,null,null,null,null,null,null,null,null,null,null,null,null,null,null,null,null,null,null,null,null,null,null,null,null,null,null,null,null,null,null,null,null,null,null,null,null,null,null,null,null,null,null,null,null,null,null,null,null,null,null,null,null,null,null,null,null,null,null,null,null,null,null,null,null,null,null,null,null,null,null,null,null,null,null,null,null,null,null,null,null,null,null,null,null,{"$f":"ROWS($EW$20:EW157)","v":138},{"$f":"IFERROR(MATCH(Hist_Tab[[#This Row],[Ref]],Medel_T[NrX],0),1)","v":1},{"$f":"INT((ROW(Hist_Tab[[#This Row],[Ref]])-ROW(Hist_Tab[[#Headers],[Ref]])-1)/4)+1","v":35},{"$f":"COUNTIF($EY$19:EY157,Hist_Tab[[#This Row],[Ref]])","v":3},{"$f":"IFERROR(INDEX(Medel_T[Start],Hist_Tab[[#This Row],[Ref]]),_xlfn.AGGREGATE(4,6,Medel_T[Start]))","v":"00:00:00"},{"$f":"IFERROR(INDEX(Medel_T[Slut],Hist_Tab[[#This Row],[Ref]]),_xlfn.AGGREGATE(4,6,Medel_T[Slut]))","v":"00:00:00"},{"$f":"IF(EW156=0,Hist_Tab[[#This Row],[ÅrB]],IF(Hist_Tab[[#This Row],[per/p]]<2,Hist_Tab[[#This Row],[ÅrB]],Hist_Tab[[#This Row],[År S]]))","v":"00:00:00"},{"$f":"IF(Hist_Tab[[#This Row],[Rad]:[Rad]]=0,-1,IF($EY158>_xlfn.AGGREGATE(2,6,Medel_T[[Slut]:[Slut]]),0,INDEX(Medel_T[],Hist_Tab[[#This Row],[Ref]:[Ref]],MATCH(Hist_Tab[[#Headers],[HöA T]],Medel_T[#Headers],0))))","v":0},{"$f":"IF(Hist_Tab[[#This Row],[Rad]:[Rad]]=0,0,IF($EY158>_xlfn.AGGREGATE(2,6,Medel_T[[Slut]:[Slut]]),0,INDEX(Medel_T[],Hist_Tab[[#This Row],[Ref]:[Ref]],MATCH(Hist_Tab[[#Headers],[AöA T]],Medel_T[#Headers],0))))","v":0},{"$f":"IF(Hist_Tab[[#This Row],[Rad]:[Rad]]=0,0,IF($EY158>_xlfn.AGGREGATE(2,6,Medel_T[[Slut]:[Slut]]),0,INDEX(Medel_T[],Hist_Tab[[#This Row],[Ref]:[Ref]],MATCH(Hist_Tab[[#Headers],[4AM T]],Medel_T[#Headers],0))))","v":0},{"$f":"IF(Hist_Tab[[#This Row],[Rad]:[Rad]]=0,0,IF($EY158>_xlfn.AGGREGATE(2,6,Medel_T[[Slut]:[Slut]]),0,INDEX(Medel_T[],Hist_Tab[[#This Row],[Ref]:[Ref]],MATCH(Hist_Tab[[#Headers],[15AM T]],Medel_T[#Headers],0))))","v":0},{"$f":"IF(Hist_Tab[[#This Row],[Rad]:[Rad]]=0,0,IF($EY158>_xlfn.AGGREGATE(2,6,Medel_T[[Slut]:[Slut]]),0,INDEX(Medel_T[],Hist_Tab[[#This Row],[Ref]:[Ref]],MATCH(Hist_Tab[[#Headers],[20-10D T]],Medel_T[#Headers],0))))","v":0}]
[null,null,null,null,null,null,null,null,null,null,null,null,null,null,null,null,null,null,null,null,null,null,null,null,null,null,null,null,null,null,null,null,null,null,null,null,null,null,null,null,null,null,null,null,null,null,null,null,null,null,null,null,null,null,null,null,null,null,null,null,null,null,null,null,null,null,null,null,null,null,null,null,null,null,null,null,null,null,null,null,null,null,null,null,null,null,null,null,null,null,null,null,null,null,null,null,null,null,null,null,null,null,null,null,null,null,null,null,null,null,null,null,null,null,null,null,null,null,null,null,null,null,null,null,null,null,null,null,null,null,null,null,null,null,null,null,null,null,null,null,null,null,null,null,null,null,null,null,null,null,null,null,{"$f":"ROWS($EW$20:EW158)","v":139},{"$f":"IFERROR(MATCH(Hist_Tab[[#This Row],[Ref]],Medel_T[NrX],0),1)","v":1},{"$f":"INT((ROW(Hist_Tab[[#This Row],[Ref]])-ROW(Hist_Tab[[#Headers],[Ref]])-1)/4)+1","v":35},{"$f":"COUNTIF($EY$19:EY158,Hist_Tab[[#This Row],[Ref]])","v":4},{"$f":"IFERROR(INDEX(Medel_T[Start],Hist_Tab[[#This Row],[Ref]]),_xlfn.AGGREGATE(4,6,Medel_T[Start]))","v":"00:00:00"},{"$f":"IFERROR(INDEX(Medel_T[Slut],Hist_Tab[[#This Row],[Ref]]),_xlfn.AGGREGATE(4,6,Medel_T[Slut]))","v":"00:00:00"},{"$f":"IF(EW157=0,Hist_Tab[[#This Row],[ÅrB]],IF(Hist_Tab[[#This Row],[per/p]]<2,Hist_Tab[[#This Row],[ÅrB]],Hist_Tab[[#This Row],[År S]]))","v":"00:00:00"},{"$f":"IF(Hist_Tab[[#This Row],[Rad]:[Rad]]=0,-1,IF($EY159>_xlfn.AGGREGATE(2,6,Medel_T[[Slut]:[Slut]]),0,INDEX(Medel_T[],Hist_Tab[[#This Row],[Ref]:[Ref]],MATCH(Hist_Tab[[#Headers],[HöA T]],Medel_T[#Headers],0))))","v":0},{"$f":"IF(Hist_Tab[[#This Row],[Rad]:[Rad]]=0,0,IF($EY159>_xlfn.AGGREGATE(2,6,Medel_T[[Slut]:[Slut]]),0,INDEX(Medel_T[],Hist_Tab[[#This Row],[Ref]:[Ref]],MATCH(Hist_Tab[[#Headers],[AöA T]],Medel_T[#Headers],0))))","v":0},{"$f":"IF(Hist_Tab[[#This Row],[Rad]:[Rad]]=0,0,IF($EY159>_xlfn.AGGREGATE(2,6,Medel_T[[Slut]:[Slut]]),0,INDEX(Medel_T[],Hist_Tab[[#This Row],[Ref]:[Ref]],MATCH(Hist_Tab[[#Headers],[4AM T]],Medel_T[#Headers],0))))","v":0},{"$f":"IF(Hist_Tab[[#This Row],[Rad]:[Rad]]=0,0,IF($EY159>_xlfn.AGGREGATE(2,6,Medel_T[[Slut]:[Slut]]),0,INDEX(Medel_T[],Hist_Tab[[#This Row],[Ref]:[Ref]],MATCH(Hist_Tab[[#Headers],[15AM T]],Medel_T[#Headers],0))))","v":0},{"$f":"IF(Hist_Tab[[#This Row],[Rad]:[Rad]]=0,0,IF($EY159>_xlfn.AGGREGATE(2,6,Medel_T[[Slut]:[Slut]]),0,INDEX(Medel_T[],Hist_Tab[[#This Row],[Ref]:[Ref]],MATCH(Hist_Tab[[#Headers],[20-10D T]],Medel_T[#Headers],0))))","v":0}]
[null,null,null,null,null,null,null,null,null,null,null,null,null,null,null,null,null,null,null,null,null,null,null,null,null,null,null,null,null,null,null,null,null,null,null,null,null,null,null,null,null,null,null,null,null,null,null,null,null,null,null,null,null,null,null,null,null,null,null,null,null,null,null,null,null,null,null,null,null,null,null,null,null,null,null,null,null,null,null,null,null,null,null,null,null,null,null,null,null,null,null,null,null,null,null,null,null,null,null,null,null,null,null,null,null,null,null,null,null,null,null,null,null,null,null,null,null,null,null,null,null,null,null,null,null,null,null,null,null,null,null,null,null,null,null,null,null,null,null,null,null,null,null,null,null,null,null,null,null,null,null,null,{"$f":"ROWS($EW$20:EW159)","v":140},{"$f":"IFERROR(MATCH(Hist_Tab[[#This Row],[Ref]],Medel_T[NrX],0),1)","v":1},{"$f":"INT((ROW(Hist_Tab[[#This Row],[Ref]])-ROW(Hist_Tab[[#Headers],[Ref]])-1)/4)+1","v":36},{"$f":"COUNTIF($EY$19:EY159,Hist_Tab[[#This Row],[Ref]])","v":1},{"$f":"IFERROR(INDEX(Medel_T[Start],Hist_Tab[[#This Row],[Ref]]),_xlfn.AGGREGATE(4,6,Medel_T[Start]))","v":"00:00:00"},{"$f":"IFERROR(INDEX(Medel_T[Slut],Hist_Tab[[#This Row],[Ref]]),_xlfn.AGGREGATE(4,6,Medel_T[Slut]))","v":"00:00:00"},{"$f":"IF(EW158=0,Hist_Tab[[#This Row],[ÅrB]],IF(Hist_Tab[[#This Row],[per/p]]<2,Hist_Tab[[#This Row],[ÅrB]],Hist_Tab[[#This Row],[År S]]))","v":"00:00:00"},{"$f":"IF(Hist_Tab[[#This Row],[Rad]:[Rad]]=0,-1,IF($EY160>_xlfn.AGGREGATE(2,6,Medel_T[[Slut]:[Slut]]),0,INDEX(Medel_T[],Hist_Tab[[#This Row],[Ref]:[Ref]],MATCH(Hist_Tab[[#Headers],[HöA T]],Medel_T[#Headers],0))))","v":0},{"$f":"IF(Hist_Tab[[#This Row],[Rad]:[Rad]]=0,0,IF($EY160>_xlfn.AGGREGATE(2,6,Medel_T[[Slut]:[Slut]]),0,INDEX(Medel_T[],Hist_Tab[[#This Row],[Ref]:[Ref]],MATCH(Hist_Tab[[#Headers],[AöA T]],Medel_T[#Headers],0))))","v":0},{"$f":"IF(Hist_Tab[[#This Row],[Rad]:[Rad]]=0,0,IF($EY160>_xlfn.AGGREGATE(2,6,Medel_T[[Slut]:[Slut]]),0,INDEX(Medel_T[],Hist_Tab[[#This Row],[Ref]:[Ref]],MATCH(Hist_Tab[[#Headers],[4AM T]],Medel_T[#Headers],0))))","v":0},{"$f":"IF(Hist_Tab[[#This Row],[Rad]:[Rad]]=0,0,IF($EY160>_xlfn.AGGREGATE(2,6,Medel_T[[Slut]:[Slut]]),0,INDEX(Medel_T[],Hist_Tab[[#This Row],[Ref]:[Ref]],MATCH(Hist_Tab[[#Headers],[15AM T]],Medel_T[#Headers],0))))","v":0},{"$f":"IF(Hist_Tab[[#This Row],[Rad]:[Rad]]=0,0,IF($EY160>_xlfn.AGGREGATE(2,6,Medel_T[[Slut]:[Slut]]),0,INDEX(Medel_T[],Hist_Tab[[#This Row],[Ref]:[Ref]],MATCH(Hist_Tab[[#Headers],[20-10D T]],Medel_T[#Headers],0))))","v":0}]
[null,null,null,null,null,null,null,null,null,null,null,null,null,null,null,null,null,null,null,null,null,null,null,null,null,null,null,null,null,null,null,null,null,null,null,null,null,null,null,null,null,null,null,null,null,null,null,null,null,null,null,null,null,null,null,null,null,null,null,null,null,null,null,null,null,null,null,null,null,null,null,null,null,null,null,null,null,null,null,null,null,null,null,null,null,null,null,null,null,null,null,null,null,null,null,null,null,null,null,null,null,null,null,null,null,null,null,null,null,null,null,null,null,null,null,null,null,null,null,null,null,null,null,null,null,null,null,null,null,null,null,null,null,null,null,null,null,null,null,null,null,null,null,null,null,null,null,null,null,null,null,null,{"$f":"ROWS($EW$20:EW160)","v":141},{"$f":"IFERROR(MATCH(Hist_Tab[[#This Row],[Ref]],Medel_T[NrX],0),1)","v":1},{"$f":"INT((ROW(Hist_Tab[[#This Row],[Ref]])-ROW(Hist_Tab[[#Headers],[Ref]])-1)/4)+1","v":36},{"$f":"COUNTIF($EY$19:EY160,Hist_Tab[[#This Row],[Ref]])","v":2},{"$f":"IFERROR(INDEX(Medel_T[Start],Hist_Tab[[#This Row],[Ref]]),_xlfn.AGGREGATE(4,6,Medel_T[Start]))","v":"00:00:00"},{"$f":"IFERROR(INDEX(Medel_T[Slut],Hist_Tab[[#This Row],[Ref]]),_xlfn.AGGREGATE(4,6,Medel_T[Slut]))","v":"00:00:00"},{"$f":"IF(EW159=0,Hist_Tab[[#This Row],[ÅrB]],IF(Hist_Tab[[#This Row],[per/p]]<2,Hist_Tab[[#This Row],[ÅrB]],Hist_Tab[[#This Row],[År S]]))","v":"00:00:00"},{"$f":"IF(Hist_Tab[[#This Row],[Rad]:[Rad]]=0,-1,IF($EY161>_xlfn.AGGREGATE(2,6,Medel_T[[Slut]:[Slut]]),0,INDEX(Medel_T[],Hist_Tab[[#This Row],[Ref]:[Ref]],MATCH(Hist_Tab[[#Headers],[HöA T]],Medel_T[#Headers],0))))","v":0},{"$f":"IF(Hist_Tab[[#This Row],[Rad]:[Rad]]=0,0,IF($EY161>_xlfn.AGGREGATE(2,6,Medel_T[[Slut]:[Slut]]),0,INDEX(Medel_T[],Hist_Tab[[#This Row],[Ref]:[Ref]],MATCH(Hist_Tab[[#Headers],[AöA T]],Medel_T[#Headers],0))))","v":0},{"$f":"IF(Hist_Tab[[#This Row],[Rad]:[Rad]]=0,0,IF($EY161>_xlfn.AGGREGATE(2,6,Medel_T[[Slut]:[Slut]]),0,INDEX(Medel_T[],Hist_Tab[[#This Row],[Ref]:[Ref]],MATCH(Hist_Tab[[#Headers],[4AM T]],Medel_T[#Headers],0))))","v":0},{"$f":"IF(Hist_Tab[[#This Row],[Rad]:[Rad]]=0,0,IF($EY161>_xlfn.AGGREGATE(2,6,Medel_T[[Slut]:[Slut]]),0,INDEX(Medel_T[],Hist_Tab[[#This Row],[Ref]:[Ref]],MATCH(Hist_Tab[[#Headers],[15AM T]],Medel_T[#Headers],0))))","v":0},{"$f":"IF(Hist_Tab[[#This Row],[Rad]:[Rad]]=0,0,IF($EY161>_xlfn.AGGREGATE(2,6,Medel_T[[Slut]:[Slut]]),0,INDEX(Medel_T[],Hist_Tab[[#This Row],[Ref]:[Ref]],MATCH(Hist_Tab[[#Headers],[20-10D T]],Medel_T[#Headers],0))))","v":0}]
[null,null,null,null,null,null,null,null,null,null,null,null,null,null,null,null,null,null,null,null,null,null,null,null,null,null,null,null,null,null,null,null,null,null,null,null,null,null,null,null,null,null,null,null,null,null,null,null,null,null,null,null,null,null,null,null,null,null,null,null,null,null,null,null,null,null,null,null,null,null,null,null,null,null,null,null,null,null,null,null,null,null,null,null,null,null,null,null,null,null,null,null,null,null,null,null,null,null,null,null,null,null,null,null,null,null,null,null,null,null,null,null,null,null,null,null,null,null,null,null,null,null,null,null,null,null,null,null,null,null,null,null,null,null,null,null,null,null,null,null,null,null,null,null,null,null,null,null,null,null,null,null,{"$f":"ROWS($EW$20:EW161)","v":142},{"$f":"IFERROR(MATCH(Hist_Tab[[#This Row],[Ref]],Medel_T[NrX],0),1)","v":1},{"$f":"INT((ROW(Hist_Tab[[#This Row],[Ref]])-ROW(Hist_Tab[[#Headers],[Ref]])-1)/4)+1","v":36},{"$f":"COUNTIF($EY$19:EY161,Hist_Tab[[#This Row],[Ref]])","v":3},{"$f":"IFERROR(INDEX(Medel_T[Start],Hist_Tab[[#This Row],[Ref]]),_xlfn.AGGREGATE(4,6,Medel_T[Start]))","v":"00:00:00"},{"$f":"IFERROR(INDEX(Medel_T[Slut],Hist_Tab[[#This Row],[Ref]]),_xlfn.AGGREGATE(4,6,Medel_T[Slut]))","v":"00:00:00"},{"$f":"IF(EW160=0,Hist_Tab[[#This Row],[ÅrB]],IF(Hist_Tab[[#This Row],[per/p]]<2,Hist_Tab[[#This Row],[ÅrB]],Hist_Tab[[#This Row],[År S]]))","v":"00:00:00"},{"$f":"IF(Hist_Tab[[#This Row],[Rad]:[Rad]]=0,-1,IF($EY162>_xlfn.AGGREGATE(2,6,Medel_T[[Slut]:[Slut]]),0,INDEX(Medel_T[],Hist_Tab[[#This Row],[Ref]:[Ref]],MATCH(Hist_Tab[[#Headers],[HöA T]],Medel_T[#Headers],0))))","v":0},{"$f":"IF(Hist_Tab[[#This Row],[Rad]:[Rad]]=0,0,IF($EY162>_xlfn.AGGREGATE(2,6,Medel_T[[Slut]:[Slut]]),0,INDEX(Medel_T[],Hist_Tab[[#This Row],[Ref]:[Ref]],MATCH(Hist_Tab[[#Headers],[AöA T]],Medel_T[#Headers],0))))","v":0},{"$f":"IF(Hist_Tab[[#This Row],[Rad]:[Rad]]=0,0,IF($EY162>_xlfn.AGGREGATE(2,6,Medel_T[[Slut]:[Slut]]),0,INDEX(Medel_T[],Hist_Tab[[#This Row],[Ref]:[Ref]],MATCH(Hist_Tab[[#Headers],[4AM T]],Medel_T[#Headers],0))))","v":0},{"$f":"IF(Hist_Tab[[#This Row],[Rad]:[Rad]]=0,0,IF($EY162>_xlfn.AGGREGATE(2,6,Medel_T[[Slut]:[Slut]]),0,INDEX(Medel_T[],Hist_Tab[[#This Row],[Ref]:[Ref]],MATCH(Hist_Tab[[#Headers],[15AM T]],Medel_T[#Headers],0))))","v":0},{"$f":"IF(Hist_Tab[[#This Row],[Rad]:[Rad]]=0,0,IF($EY162>_xlfn.AGGREGATE(2,6,Medel_T[[Slut]:[Slut]]),0,INDEX(Medel_T[],Hist_Tab[[#This Row],[Ref]:[Ref]],MATCH(Hist_Tab[[#Headers],[20-10D T]],Medel_T[#Headers],0))))","v":0}]
[null,null,null,null,null,null,null,null,null,null,null,null,null,null,null,null,null,null,null,null,null,null,null,null,null,null,null,null,null,null,null,null,null,null,null,null,null,null,null,null,null,null,null,null,null,null,null,null,null,null,null,null,null,null,null,null,null,null,null,null,null,null,null,null,null,null,null,null,null,null,null,null,null,null,null,null,null,null,null,null,null,null,null,null,null,null,null,null,null,null,null,null,null,null,null,null,null,null,null,null,null,null,null,null,null,null,null,null,null,null,null,null,null,null,null,null,null,null,null,null,null,null,null,null,null,null,null,null,null,null,null,null,null,null,null,null,null,null,null,null,null,null,null,null,null,null,null,null,null,null,null,null,{"$f":"ROWS($EW$20:EW162)","v":143},{"$f":"IFERROR(MATCH(Hist_Tab[[#This Row],[Ref]],Medel_T[NrX],0),1)","v":1},{"$f":"INT((ROW(Hist_Tab[[#This Row],[Ref]])-ROW(Hist_Tab[[#Headers],[Ref]])-1)/4)+1","v":36},{"$f":"COUNTIF($EY$19:EY162,Hist_Tab[[#This Row],[Ref]])","v":4},{"$f":"IFERROR(INDEX(Medel_T[Start],Hist_Tab[[#This Row],[Ref]]),_xlfn.AGGREGATE(4,6,Medel_T[Start]))","v":"00:00:00"},{"$f":"IFERROR(INDEX(Medel_T[Slut],Hist_Tab[[#This Row],[Ref]]),_xlfn.AGGREGATE(4,6,Medel_T[Slut]))","v":"00:00:00"},{"$f":"IF(EW161=0,Hist_Tab[[#This Row],[ÅrB]],IF(Hist_Tab[[#This Row],[per/p]]<2,Hist_Tab[[#This Row],[ÅrB]],Hist_Tab[[#This Row],[År S]]))","v":"00:00:00"},{"$f":"IF(Hist_Tab[[#This Row],[Rad]:[Rad]]=0,-1,IF($EY163>_xlfn.AGGREGATE(2,6,Medel_T[[Slut]:[Slut]]),0,INDEX(Medel_T[],Hist_Tab[[#This Row],[Ref]:[Ref]],MATCH(Hist_Tab[[#Headers],[HöA T]],Medel_T[#Headers],0))))","v":0},{"$f":"IF(Hist_Tab[[#This Row],[Rad]:[Rad]]=0,0,IF($EY163>_xlfn.AGGREGATE(2,6,Medel_T[[Slut]:[Slut]]),0,INDEX(Medel_T[],Hist_Tab[[#This Row],[Ref]:[Ref]],MATCH(Hist_Tab[[#Headers],[AöA T]],Medel_T[#Headers],0))))","v":0},{"$f":"IF(Hist_Tab[[#This Row],[Rad]:[Rad]]=0,0,IF($EY163>_xlfn.AGGREGATE(2,6,Medel_T[[Slut]:[Slut]]),0,INDEX(Medel_T[],Hist_Tab[[#This Row],[Ref]:[Ref]],MATCH(Hist_Tab[[#Headers],[4AM T]],Medel_T[#Headers],0))))","v":0},{"$f":"IF(Hist_Tab[[#This Row],[Rad]:[Rad]]=0,0,IF($EY163>_xlfn.AGGREGATE(2,6,Medel_T[[Slut]:[Slut]]),0,INDEX(Medel_T[],Hist_Tab[[#This Row],[Ref]:[Ref]],MATCH(Hist_Tab[[#Headers],[15AM T]],Medel_T[#Headers],0))))","v":0},{"$f":"IF(Hist_Tab[[#This Row],[Rad]:[Rad]]=0,0,IF($EY163>_xlfn.AGGREGATE(2,6,Medel_T[[Slut]:[Slut]]),0,INDEX(Medel_T[],Hist_Tab[[#This Row],[Ref]:[Ref]],MATCH(Hist_Tab[[#Headers],[20-10D T]],Medel_T[#Headers],0))))","v":0}]
[null,null,null,null,null,null,null,null,null,null,null,null,null,null,null,null,null,null,null,null,null,null,null,null,null,null,null,null,null,null,null,null,null,null,null,null,null,null,null,null,null,null,null,null,null,null,null,null,null,null,null,null,null,null,null,null,null,null,null,null,null,null,null,null,null,null,null,null,null,null,null,null,null,null,null,null,null,null,null,null,null,null,null,null,null,null,null,null,null,null,null,null,null,null,null,null,null,null,null,null,null,null,null,null,null,null,null,null,null,null,null,null,null,null,null,null,null,null,null,null,null,null,null,null,null,null,null,null,null,null,null,null,null,null,null,null,null,null,null,null,null,null,null,null,null,null,null,null,null,null,null,null,{"$f":"ROWS($EW$20:EW163)","v":144},{"$f":"IFERROR(MATCH(Hist_Tab[[#This Row],[Ref]],Medel_T[NrX],0),1)","v":1},{"$f":"INT((ROW(Hist_Tab[[#This Row],[Ref]])-ROW(Hist_Tab[[#Headers],[Ref]])-1)/4)+1","v":37},{"$f":"COUNTIF($EY$19:EY163,Hist_Tab[[#This Row],[Ref]])","v":1},{"$f":"IFERROR(INDEX(Medel_T[Start],Hist_Tab[[#This Row],[Ref]]),_xlfn.AGGREGATE(4,6,Medel_T[Start]))","v":"00:00:00"},{"$f":"IFERROR(INDEX(Medel_T[Slut],Hist_Tab[[#This Row],[Ref]]),_xlfn.AGGREGATE(4,6,Medel_T[Slut]))","v":"00:00:00"},{"$f":"IF(EW162=0,Hist_Tab[[#This Row],[ÅrB]],IF(Hist_Tab[[#This Row],[per/p]]<2,Hist_Tab[[#This Row],[ÅrB]],Hist_Tab[[#This Row],[År S]]))","v":"00:00:00"},{"$f":"IF(Hist_Tab[[#This Row],[Rad]:[Rad]]=0,-1,IF($EY164>_xlfn.AGGREGATE(2,6,Medel_T[[Slut]:[Slut]]),0,INDEX(Medel_T[],Hist_Tab[[#This Row],[Ref]:[Ref]],MATCH(Hist_Tab[[#Headers],[HöA T]],Medel_T[#Headers],0))))","v":0},{"$f":"IF(Hist_Tab[[#This Row],[Rad]:[Rad]]=0,0,IF($EY164>_xlfn.AGGREGATE(2,6,Medel_T[[Slut]:[Slut]]),0,INDEX(Medel_T[],Hist_Tab[[#This Row],[Ref]:[Ref]],MATCH(Hist_Tab[[#Headers],[AöA T]],Medel_T[#Headers],0))))","v":0},{"$f":"IF(Hist_Tab[[#This Row],[Rad]:[Rad]]=0,0,IF($EY164>_xlfn.AGGREGATE(2,6,Medel_T[[Slut]:[Slut]]),0,INDEX(Medel_T[],Hist_Tab[[#This Row],[Ref]:[Ref]],MATCH(Hist_Tab[[#Headers],[4AM T]],Medel_T[#Headers],0))))","v":0},{"$f":"IF(Hist_Tab[[#This Row],[Rad]:[Rad]]=0,0,IF($EY164>_xlfn.AGGREGATE(2,6,Medel_T[[Slut]:[Slut]]),0,INDEX(Medel_T[],Hist_Tab[[#This Row],[Ref]:[Ref]],MATCH(Hist_Tab[[#Headers],[15AM T]],Medel_T[#Headers],0))))","v":0},{"$f":"IF(Hist_Tab[[#This Row],[Rad]:[Rad]]=0,0,IF($EY164>_xlfn.AGGREGATE(2,6,Medel_T[[Slut]:[Slut]]),0,INDEX(Medel_T[],Hist_Tab[[#This Row],[Ref]:[Ref]],MATCH(Hist_Tab[[#Headers],[20-10D T]],Medel_T[#Headers],0))))","v":0}]
[null,null,null,null,null,null,null,null,null,null,null,null,null,null,null,null,null,null,null,null,null,null,null,null,null,null,null,null,null,null,null,null,null,null,null,null,null,null,null,null,null,null,null,null,null,null,null,null,null,null,null,null,null,null,null,null,null,null,null,null,null,null,null,null,null,null,null,null,null,null,null,null,null,null,null,null,null,null,null,null,null,null,null,null,null,null,null,null,null,null,null,null,null,null,null,null,null,null,null,null,null,null,null,null,null,null,null,null,null,null,null,null,null,null,null,null,null,null,null,null,null,null,null,null,null,null,null,null,null,null,null,null,null,null,null,null,null,null,null,null,null,null,null,null,null,null,null,null,null,null,null,null,{"$f":"ROWS($EW$20:EW164)","v":145},{"$f":"IFERROR(MATCH(Hist_Tab[[#This Row],[Ref]],Medel_T[NrX],0),1)","v":1},{"$f":"INT((ROW(Hist_Tab[[#This Row],[Ref]])-ROW(Hist_Tab[[#Headers],[Ref]])-1)/4)+1","v":37},{"$f":"COUNTIF($EY$19:EY164,Hist_Tab[[#This Row],[Ref]])","v":2},{"$f":"IFERROR(INDEX(Medel_T[Start],Hist_Tab[[#This Row],[Ref]]),_xlfn.AGGREGATE(4,6,Medel_T[Start]))","v":"00:00:00"},{"$f":"IFERROR(INDEX(Medel_T[Slut],Hist_Tab[[#This Row],[Ref]]),_xlfn.AGGREGATE(4,6,Medel_T[Slut]))","v":"00:00:00"},{"$f":"IF(EW163=0,Hist_Tab[[#This Row],[ÅrB]],IF(Hist_Tab[[#This Row],[per/p]]<2,Hist_Tab[[#This Row],[ÅrB]],Hist_Tab[[#This Row],[År S]]))","v":"00:00:00"},{"$f":"IF(Hist_Tab[[#This Row],[Rad]:[Rad]]=0,-1,IF($EY165>_xlfn.AGGREGATE(2,6,Medel_T[[Slut]:[Slut]]),0,INDEX(Medel_T[],Hist_Tab[[#This Row],[Ref]:[Ref]],MATCH(Hist_Tab[[#Headers],[HöA T]],Medel_T[#Headers],0))))","v":0},{"$f":"IF(Hist_Tab[[#This Row],[Rad]:[Rad]]=0,0,IF($EY165>_xlfn.AGGREGATE(2,6,Medel_T[[Slut]:[Slut]]),0,INDEX(Medel_T[],Hist_Tab[[#This Row],[Ref]:[Ref]],MATCH(Hist_Tab[[#Headers],[AöA T]],Medel_T[#Headers],0))))","v":0},{"$f":"IF(Hist_Tab[[#This Row],[Rad]:[Rad]]=0,0,IF($EY165>_xlfn.AGGREGATE(2,6,Medel_T[[Slut]:[Slut]]),0,INDEX(Medel_T[],Hist_Tab[[#This Row],[Ref]:[Ref]],MATCH(Hist_Tab[[#Headers],[4AM T]],Medel_T[#Headers],0))))","v":0},{"$f":"IF(Hist_Tab[[#This Row],[Rad]:[Rad]]=0,0,IF($EY165>_xlfn.AGGREGATE(2,6,Medel_T[[Slut]:[Slut]]),0,INDEX(Medel_T[],Hist_Tab[[#This Row],[Ref]:[Ref]],MATCH(Hist_Tab[[#Headers],[15AM T]],Medel_T[#Headers],0))))","v":0},{"$f":"IF(Hist_Tab[[#This Row],[Rad]:[Rad]]=0,0,IF($EY165>_xlfn.AGGREGATE(2,6,Medel_T[[Slut]:[Slut]]),0,INDEX(Medel_T[],Hist_Tab[[#This Row],[Ref]:[Ref]],MATCH(Hist_Tab[[#Headers],[20-10D T]],Medel_T[#Headers],0))))","v":0}]
[null,null,null,null,null,null,null,null,null,null,null,null,null,null,null,null,null,null,null,null,null,null,null,null,null,null,null,null,null,null,null,null,null,null,null,null,null,null,null,null,null,null,null,null,null,null,null,null,null,null,null,null,null,null,null,null,null,null,null,null,null,null,null,null,null,null,null,null,null,null,null,null,null,null,null,null,null,null,null,null,null,null,null,null,null,null,null,null,null,null,null,null,null,null,null,null,null,null,null,null,null,null,null,null,null,null,null,null,null,null,null,null,null,null,null,null,null,null,null,null,null,null,null,null,null,null,null,null,null,null,null,null,null,null,null,null,null,null,null,null,null,null,null,null,null,null,null,null,null,null,null,null,{"$f":"ROWS($EW$20:EW165)","v":146},{"$f":"IFERROR(MATCH(Hist_Tab[[#This Row],[Ref]],Medel_T[NrX],0),1)","v":1},{"$f":"INT((ROW(Hist_Tab[[#This Row],[Ref]])-ROW(Hist_Tab[[#Headers],[Ref]])-1)/4)+1","v":37},{"$f":"COUNTIF($EY$19:EY165,Hist_Tab[[#This Row],[Ref]])","v":3},{"$f":"IFERROR(INDEX(Medel_T[Start],Hist_Tab[[#This Row],[Ref]]),_xlfn.AGGREGATE(4,6,Medel_T[Start]))","v":"00:00:00"},{"$f":"IFERROR(INDEX(Medel_T[Slut],Hist_Tab[[#This Row],[Ref]]),_xlfn.AGGREGATE(4,6,Medel_T[Slut]))","v":"00:00:00"},{"$f":"IF(EW164=0,Hist_Tab[[#This Row],[ÅrB]],IF(Hist_Tab[[#This Row],[per/p]]<2,Hist_Tab[[#This Row],[ÅrB]],Hist_Tab[[#This Row],[År S]]))","v":"00:00:00"},{"$f":"IF(Hist_Tab[[#This Row],[Rad]:[Rad]]=0,-1,IF($EY166>_xlfn.AGGREGATE(2,6,Medel_T[[Slut]:[Slut]]),0,INDEX(Medel_T[],Hist_Tab[[#This Row],[Ref]:[Ref]],MATCH(Hist_Tab[[#Headers],[HöA T]],Medel_T[#Headers],0))))","v":0},{"$f":"IF(Hist_Tab[[#This Row],[Rad]:[Rad]]=0,0,IF($EY166>_xlfn.AGGREGATE(2,6,Medel_T[[Slut]:[Slut]]),0,INDEX(Medel_T[],Hist_Tab[[#This Row],[Ref]:[Ref]],MATCH(Hist_Tab[[#Headers],[AöA T]],Medel_T[#Headers],0))))","v":0},{"$f":"IF(Hist_Tab[[#This Row],[Rad]:[Rad]]=0,0,IF($EY166>_xlfn.AGGREGATE(2,6,Medel_T[[Slut]:[Slut]]),0,INDEX(Medel_T[],Hist_Tab[[#This Row],[Ref]:[Ref]],MATCH(Hist_Tab[[#Headers],[4AM T]],Medel_T[#Headers],0))))","v":0},{"$f":"IF(Hist_Tab[[#This Row],[Rad]:[Rad]]=0,0,IF($EY166>_xlfn.AGGREGATE(2,6,Medel_T[[Slut]:[Slut]]),0,INDEX(Medel_T[],Hist_Tab[[#This Row],[Ref]:[Ref]],MATCH(Hist_Tab[[#Headers],[15AM T]],Medel_T[#Headers],0))))","v":0},{"$f":"IF(Hist_Tab[[#This Row],[Rad]:[Rad]]=0,0,IF($EY166>_xlfn.AGGREGATE(2,6,Medel_T[[Slut]:[Slut]]),0,INDEX(Medel_T[],Hist_Tab[[#This Row],[Ref]:[Ref]],MATCH(Hist_Tab[[#Headers],[20-10D T]],Medel_T[#Headers],0))))","v":0}]
[null,null,null,null,null,null,null,null,null,null,null,null,null,null,null,null,null,null,null,null,null,null,null,null,null,null,null,null,null,null,null,null,null,null,null,null,null,null,null,null,null,null,null,null,null,null,null,null,null,null,null,null,null,null,null,null,null,null,null,null,null,null,null,null,null,null,null,null,null,null,null,null,null,null,null,null,null,null,null,null,null,null,null,null,null,null,null,null,null,null,null,null,null,null,null,null,null,null,null,null,null,null,null,null,null,null,null,null,null,null,null,null,null,null,null,null,null,null,null,null,null,null,null,null,null,null,null,null,null,null,null,null,null,null,null,null,null,null,null,null,null,null,null,null,null,null,null,null,null,null,null,null,{"$f":"ROWS($EW$20:EW166)","v":147},{"$f":"IFERROR(MATCH(Hist_Tab[[#This Row],[Ref]],Medel_T[NrX],0),1)","v":1},{"$f":"INT((ROW(Hist_Tab[[#This Row],[Ref]])-ROW(Hist_Tab[[#Headers],[Ref]])-1)/4)+1","v":37},{"$f":"COUNTIF($EY$19:EY166,Hist_Tab[[#This Row],[Ref]])","v":4},{"$f":"IFERROR(INDEX(Medel_T[Start],Hist_Tab[[#This Row],[Ref]]),_xlfn.AGGREGATE(4,6,Medel_T[Start]))","v":"00:00:00"},{"$f":"IFERROR(INDEX(Medel_T[Slut],Hist_Tab[[#This Row],[Ref]]),_xlfn.AGGREGATE(4,6,Medel_T[Slut]))","v":"00:00:00"},{"$f":"IF(EW165=0,Hist_Tab[[#This Row],[ÅrB]],IF(Hist_Tab[[#This Row],[per/p]]<2,Hist_Tab[[#This Row],[ÅrB]],Hist_Tab[[#This Row],[År S]]))","v":"00:00:00"},{"$f":"IF(Hist_Tab[[#This Row],[Rad]:[Rad]]=0,-1,IF($EY167>_xlfn.AGGREGATE(2,6,Medel_T[[Slut]:[Slut]]),0,INDEX(Medel_T[],Hist_Tab[[#This Row],[Ref]:[Ref]],MATCH(Hist_Tab[[#Headers],[HöA T]],Medel_T[#Headers],0))))","v":0},{"$f":"IF(Hist_Tab[[#This Row],[Rad]:[Rad]]=0,0,IF($EY167>_xlfn.AGGREGATE(2,6,Medel_T[[Slut]:[Slut]]),0,INDEX(Medel_T[],Hist_Tab[[#This Row],[Ref]:[Ref]],MATCH(Hist_Tab[[#Headers],[AöA T]],Medel_T[#Headers],0))))","v":0},{"$f":"IF(Hist_Tab[[#This Row],[Rad]:[Rad]]=0,0,IF($EY167>_xlfn.AGGREGATE(2,6,Medel_T[[Slut]:[Slut]]),0,INDEX(Medel_T[],Hist_Tab[[#This Row],[Ref]:[Ref]],MATCH(Hist_Tab[[#Headers],[4AM T]],Medel_T[#Headers],0))))","v":0},{"$f":"IF(Hist_Tab[[#This Row],[Rad]:[Rad]]=0,0,IF($EY167>_xlfn.AGGREGATE(2,6,Medel_T[[Slut]:[Slut]]),0,INDEX(Medel_T[],Hist_Tab[[#This Row],[Ref]:[Ref]],MATCH(Hist_Tab[[#Headers],[15AM T]],Medel_T[#Headers],0))))","v":0},{"$f":"IF(Hist_Tab[[#This Row],[Rad]:[Rad]]=0,0,IF($EY167>_xlfn.AGGREGATE(2,6,Medel_T[[Slut]:[Slut]]),0,INDEX(Medel_T[],Hist_Tab[[#This Row],[Ref]:[Ref]],MATCH(Hist_Tab[[#Headers],[20-10D T]],Medel_T[#Headers],0))))","v":0}]
[null,null,null,null,null,null,null,null,null,null,null,null,null,null,null,null,null,null,null,null,null,null,null,null,null,null,null,null,null,null,null,null,null,null,null,null,null,null,null,null,null,null,null,null,null,null,null,null,null,null,null,null,null,null,null,null,null,null,null,null,null,null,null,null,null,null,null,null,null,null,null,null,null,null,null,null,null,null,null,null,null,null,null,null,null,null,null,null,null,null,null,null,null,null,null,null,null,null,null,null,null,null,null,null,null,null,null,null,null,null,null,null,null,null,null,null,null,null,null,null,null,null,null,null,null,null,null,null,null,null,null,null,null,null,null,null,null,null,null,null,null,null,null,null,null,null,null,null,null,null,null,null,{"$f":"ROWS($EW$20:EW167)","v":148},{"$f":"IFERROR(MATCH(Hist_Tab[[#This Row],[Ref]],Medel_T[NrX],0),1)","v":1},{"$f":"INT((ROW(Hist_Tab[[#This Row],[Ref]])-ROW(Hist_Tab[[#Headers],[Ref]])-1)/4)+1","v":38},{"$f":"COUNTIF($EY$19:EY167,Hist_Tab[[#This Row],[Ref]])","v":1},{"$f":"IFERROR(INDEX(Medel_T[Start],Hist_Tab[[#This Row],[Ref]]),_xlfn.AGGREGATE(4,6,Medel_T[Start]))","v":"00:00:00"},{"$f":"IFERROR(INDEX(Medel_T[Slut],Hist_Tab[[#This Row],[Ref]]),_xlfn.AGGREGATE(4,6,Medel_T[Slut]))","v":"00:00:00"},{"$f":"IF(EW166=0,Hist_Tab[[#This Row],[ÅrB]],IF(Hist_Tab[[#This Row],[per/p]]<2,Hist_Tab[[#This Row],[ÅrB]],Hist_Tab[[#This Row],[År S]]))","v":"00:00:00"},{"$f":"IF(Hist_Tab[[#This Row],[Rad]:[Rad]]=0,-1,IF($EY168>_xlfn.AGGREGATE(2,6,Medel_T[[Slut]:[Slut]]),0,INDEX(Medel_T[],Hist_Tab[[#This Row],[Ref]:[Ref]],MATCH(Hist_Tab[[#Headers],[HöA T]],Medel_T[#Headers],0))))","v":0},{"$f":"IF(Hist_Tab[[#This Row],[Rad]:[Rad]]=0,0,IF($EY168>_xlfn.AGGREGATE(2,6,Medel_T[[Slut]:[Slut]]),0,INDEX(Medel_T[],Hist_Tab[[#This Row],[Ref]:[Ref]],MATCH(Hist_Tab[[#Headers],[AöA T]],Medel_T[#Headers],0))))","v":0},{"$f":"IF(Hist_Tab[[#This Row],[Rad]:[Rad]]=0,0,IF($EY168>_xlfn.AGGREGATE(2,6,Medel_T[[Slut]:[Slut]]),0,INDEX(Medel_T[],Hist_Tab[[#This Row],[Ref]:[Ref]],MATCH(Hist_Tab[[#Headers],[4AM T]],Medel_T[#Headers],0))))","v":0},{"$f":"IF(Hist_Tab[[#This Row],[Rad]:[Rad]]=0,0,IF($EY168>_xlfn.AGGREGATE(2,6,Medel_T[[Slut]:[Slut]]),0,INDEX(Medel_T[],Hist_Tab[[#This Row],[Ref]:[Ref]],MATCH(Hist_Tab[[#Headers],[15AM T]],Medel_T[#Headers],0))))","v":0},{"$f":"IF(Hist_Tab[[#This Row],[Rad]:[Rad]]=0,0,IF($EY168>_xlfn.AGGREGATE(2,6,Medel_T[[Slut]:[Slut]]),0,INDEX(Medel_T[],Hist_Tab[[#This Row],[Ref]:[Ref]],MATCH(Hist_Tab[[#Headers],[20-10D T]],Medel_T[#Headers],0))))","v":0}]
[null,null,null,null,null,null,null,null,null,null,null,null,null,null,null,null,null,null,null,null,null,null,null,null,null,null,null,null,null,null,null,null,null,null,null,null,null,null,null,null,null,null,null,null,null,null,null,null,null,null,null,null,null,null,null,null,null,null,null,null,null,null,null,null,null,null,null,null,null,null,null,null,null,null,null,null,null,null,null,null,null,null,null,null,null,null,null,null,null,null,null,null,null,null,null,null,null,null,null,null,null,null,null,null,null,null,null,null,null,null,null,null,null,null,null,null,null,null,null,null,null,null,null,null,null,null,null,null,null,null,null,null,null,null,null,null,null,null,null,null,null,null,null,null,null,null,null,null,null,null,null,null,{"$f":"ROWS($EW$20:EW168)","v":149},{"$f":"IFERROR(MATCH(Hist_Tab[[#This Row],[Ref]],Medel_T[NrX],0),1)","v":1},{"$f":"INT((ROW(Hist_Tab[[#This Row],[Ref]])-ROW(Hist_Tab[[#Headers],[Ref]])-1)/4)+1","v":38},{"$f":"COUNTIF($EY$19:EY168,Hist_Tab[[#This Row],[Ref]])","v":2},{"$f":"IFERROR(INDEX(Medel_T[Start],Hist_Tab[[#This Row],[Ref]]),_xlfn.AGGREGATE(4,6,Medel_T[Start]))","v":"00:00:00"},{"$f":"IFERROR(INDEX(Medel_T[Slut],Hist_Tab[[#This Row],[Ref]]),_xlfn.AGGREGATE(4,6,Medel_T[Slut]))","v":"00:00:00"},{"$f":"IF(EW167=0,Hist_Tab[[#This Row],[ÅrB]],IF(Hist_Tab[[#This Row],[per/p]]<2,Hist_Tab[[#This Row],[ÅrB]],Hist_Tab[[#This Row],[År S]]))","v":"00:00:00"},{"$f":"IF(Hist_Tab[[#This Row],[Rad]:[Rad]]=0,-1,IF($EY169>_xlfn.AGGREGATE(2,6,Medel_T[[Slut]:[Slut]]),0,INDEX(Medel_T[],Hist_Tab[[#This Row],[Ref]:[Ref]],MATCH(Hist_Tab[[#Headers],[HöA T]],Medel_T[#Headers],0))))","v":0},{"$f":"IF(Hist_Tab[[#This Row],[Rad]:[Rad]]=0,0,IF($EY169>_xlfn.AGGREGATE(2,6,Medel_T[[Slut]:[Slut]]),0,INDEX(Medel_T[],Hist_Tab[[#This Row],[Ref]:[Ref]],MATCH(Hist_Tab[[#Headers],[AöA T]],Medel_T[#Headers],0))))","v":0},{"$f":"IF(Hist_Tab[[#This Row],[Rad]:[Rad]]=0,0,IF($EY169>_xlfn.AGGREGATE(2,6,Medel_T[[Slut]:[Slut]]),0,INDEX(Medel_T[],Hist_Tab[[#This Row],[Ref]:[Ref]],MATCH(Hist_Tab[[#Headers],[4AM T]],Medel_T[#Headers],0))))","v":0},{"$f":"IF(Hist_Tab[[#This Row],[Rad]:[Rad]]=0,0,IF($EY169>_xlfn.AGGREGATE(2,6,Medel_T[[Slut]:[Slut]]),0,INDEX(Medel_T[],Hist_Tab[[#This Row],[Ref]:[Ref]],MATCH(Hist_Tab[[#Headers],[15AM T]],Medel_T[#Headers],0))))","v":0},{"$f":"IF(Hist_Tab[[#This Row],[Rad]:[Rad]]=0,0,IF($EY169>_xlfn.AGGREGATE(2,6,Medel_T[[Slut]:[Slut]]),0,INDEX(Medel_T[],Hist_Tab[[#This Row],[Ref]:[Ref]],MATCH(Hist_Tab[[#Headers],[20-10D T]],Medel_T[#Headers],0))))","v":0}]
[null,null,null,null,null,null,null,null,null,null,null,null,null,null,null,null,null,null,null,null,null,null,null,null,null,null,null,null,null,null,null,null,null,null,null,null,null,null,null,null,null,null,null,null,null,null,null,null,null,null,null,null,null,null,null,null,null,null,null,null,null,null,null,null,null,null,null,null,null,null,null,null,null,null,null,null,null,null,null,null,null,null,null,null,null,null,null,null,null,null,null,null,null,null,null,null,null,null,null,null,null,null,null,null,null,null,null,null,null,null,null,null,null,null,null,null,null,null,null,null,null,null,null,null,null,null,null,null,null,null,null,null,null,null,null,null,null,null,null,null,null,null,null,null,null,null,null,null,null,null,null,null,{"$f":"ROWS($EW$20:EW169)","v":150},{"$f":"IFERROR(MATCH(Hist_Tab[[#This Row],[Ref]],Medel_T[NrX],0),1)","v":1},{"$f":"INT((ROW(Hist_Tab[[#This Row],[Ref]])-ROW(Hist_Tab[[#Headers],[Ref]])-1)/4)+1","v":38},{"$f":"COUNTIF($EY$19:EY169,Hist_Tab[[#This Row],[Ref]])","v":3},{"$f":"IFERROR(INDEX(Medel_T[Start],Hist_Tab[[#This Row],[Ref]]),_xlfn.AGGREGATE(4,6,Medel_T[Start]))","v":"00:00:00"},{"$f":"IFERROR(INDEX(Medel_T[Slut],Hist_Tab[[#This Row],[Ref]]),_xlfn.AGGREGATE(4,6,Medel_T[Slut]))","v":"00:00:00"},{"$f":"IF(EW168=0,Hist_Tab[[#This Row],[ÅrB]],IF(Hist_Tab[[#This Row],[per/p]]<2,Hist_Tab[[#This Row],[ÅrB]],Hist_Tab[[#This Row],[År S]]))","v":"00:00:00"},{"$f":"IF(Hist_Tab[[#This Row],[Rad]:[Rad]]=0,-1,IF($EY170>_xlfn.AGGREGATE(2,6,Medel_T[[Slut]:[Slut]]),0,INDEX(Medel_T[],Hist_Tab[[#This Row],[Ref]:[Ref]],MATCH(Hist_Tab[[#Headers],[HöA T]],Medel_T[#Headers],0))))","v":0},{"$f":"IF(Hist_Tab[[#This Row],[Rad]:[Rad]]=0,0,IF($EY170>_xlfn.AGGREGATE(2,6,Medel_T[[Slut]:[Slut]]),0,INDEX(Medel_T[],Hist_Tab[[#This Row],[Ref]:[Ref]],MATCH(Hist_Tab[[#Headers],[AöA T]],Medel_T[#Headers],0))))","v":0},{"$f":"IF(Hist_Tab[[#This Row],[Rad]:[Rad]]=0,0,IF($EY170>_xlfn.AGGREGATE(2,6,Medel_T[[Slut]:[Slut]]),0,INDEX(Medel_T[],Hist_Tab[[#This Row],[Ref]:[Ref]],MATCH(Hist_Tab[[#Headers],[4AM T]],Medel_T[#Headers],0))))","v":0},{"$f":"IF(Hist_Tab[[#This Row],[Rad]:[Rad]]=0,0,IF($EY170>_xlfn.AGGREGATE(2,6,Medel_T[[Slut]:[Slut]]),0,INDEX(Medel_T[],Hist_Tab[[#This Row],[Ref]:[Ref]],MATCH(Hist_Tab[[#Headers],[15AM T]],Medel_T[#Headers],0))))","v":0},{"$f":"IF(Hist_Tab[[#This Row],[Rad]:[Rad]]=0,0,IF($EY170>_xlfn.AGGREGATE(2,6,Medel_T[[Slut]:[Slut]]),0,INDEX(Medel_T[],Hist_Tab[[#This Row],[Ref]:[Ref]],MATCH(Hist_Tab[[#Headers],[20-10D T]],Medel_T[#Headers],0))))","v":0}]
[null,null,null,null,null,null,null,null,null,null,null,null,null,null,null,null,null,null,null,null,null,null,null,null,null,null,null,null,null,null,null,null,null,null,null,null,null,null,null,null,null,null,null,null,null,null,null,null,null,null,null,null,null,null,null,null,null,null,null,null,null,null,null,null,null,null,null,null,null,null,null,null,null,null,null,null,null,null,null,null,null,null,null,null,null,null,null,null,null,null,null,null,null,null,null,null,null,null,null,null,null,null,null,null,null,null,null,null,null,null,null,null,null,null,null,null,null,null,null,null,null,null,null,null,null,null,null,null,null,null,null,null,null,null,null,null,null,null,null,null,null,null,null,null,null,null,null,null,null,null,null,null,{"$f":"ROWS($EW$20:EW170)","v":151},{"$f":"IFERROR(MATCH(Hist_Tab[[#This Row],[Ref]],Medel_T[NrX],0),1)","v":1},{"$f":"INT((ROW(Hist_Tab[[#This Row],[Ref]])-ROW(Hist_Tab[[#Headers],[Ref]])-1)/4)+1","v":38},{"$f":"COUNTIF($EY$19:EY170,Hist_Tab[[#This Row],[Ref]])","v":4},{"$f":"IFERROR(INDEX(Medel_T[Start],Hist_Tab[[#This Row],[Ref]]),_xlfn.AGGREGATE(4,6,Medel_T[Start]))","v":"00:00:00"},{"$f":"IFERROR(INDEX(Medel_T[Slut],Hist_Tab[[#This Row],[Ref]]),_xlfn.AGGREGATE(4,6,Medel_T[Slut]))","v":"00:00:00"},{"$f":"IF(EW169=0,Hist_Tab[[#This Row],[ÅrB]],IF(Hist_Tab[[#This Row],[per/p]]<2,Hist_Tab[[#This Row],[ÅrB]],Hist_Tab[[#This Row],[År S]]))","v":"00:00:00"},{"$f":"IF(Hist_Tab[[#This Row],[Rad]:[Rad]]=0,-1,IF($EY171>_xlfn.AGGREGATE(2,6,Medel_T[[Slut]:[Slut]]),0,INDEX(Medel_T[],Hist_Tab[[#This Row],[Ref]:[Ref]],MATCH(Hist_Tab[[#Headers],[HöA T]],Medel_T[#Headers],0))))","v":0},{"$f":"IF(Hist_Tab[[#This Row],[Rad]:[Rad]]=0,0,IF($EY171>_xlfn.AGGREGATE(2,6,Medel_T[[Slut]:[Slut]]),0,INDEX(Medel_T[],Hist_Tab[[#This Row],[Ref]:[Ref]],MATCH(Hist_Tab[[#Headers],[AöA T]],Medel_T[#Headers],0))))","v":0},{"$f":"IF(Hist_Tab[[#This Row],[Rad]:[Rad]]=0,0,IF($EY171>_xlfn.AGGREGATE(2,6,Medel_T[[Slut]:[Slut]]),0,INDEX(Medel_T[],Hist_Tab[[#This Row],[Ref]:[Ref]],MATCH(Hist_Tab[[#Headers],[4AM T]],Medel_T[#Headers],0))))","v":0},{"$f":"IF(Hist_Tab[[#This Row],[Rad]:[Rad]]=0,0,IF($EY171>_xlfn.AGGREGATE(2,6,Medel_T[[Slut]:[Slut]]),0,INDEX(Medel_T[],Hist_Tab[[#This Row],[Ref]:[Ref]],MATCH(Hist_Tab[[#Headers],[15AM T]],Medel_T[#Headers],0))))","v":0},{"$f":"IF(Hist_Tab[[#This Row],[Rad]:[Rad]]=0,0,IF($EY171>_xlfn.AGGREGATE(2,6,Medel_T[[Slut]:[Slut]]),0,INDEX(Medel_T[],Hist_Tab[[#This Row],[Ref]:[Ref]],MATCH(Hist_Tab[[#Headers],[20-10D T]],Medel_T[#Headers],0))))","v":0}]
[null,null,null,null,null,null,null,null,null,null,null,null,null,null,null,null,null,null,null,null,null,null,null,null,null,null,null,null,null,null,null,null,null,null,null,null,null,null,null,null,null,null,null,null,null,null,null,null,null,null,null,null,null,null,null,null,null,null,null,null,null,null,null,null,null,null,null,null,null,null,null,null,null,null,null,null,null,null,null,null,null,null,null,null,null,null,null,null,null,null,null,null,null,null,null,null,null,null,null,null,null,null,null,null,null,null,null,null,null,null,null,null,null,null,null,null,null,null,null,null,null,null,null,null,null,null,null,null,null,null,null,null,null,null,null,null,null,null,null,null,null,null,null,null,null,null,null,null,null,null,null,null,{"$f":"ROWS($EW$20:EW171)","v":152},{"$f":"IFERROR(MATCH(Hist_Tab[[#This Row],[Ref]],Medel_T[NrX],0),1)","v":1},{"$f":"INT((ROW(Hist_Tab[[#This Row],[Ref]])-ROW(Hist_Tab[[#Headers],[Ref]])-1)/4)+1","v":39},{"$f":"COUNTIF($EY$19:EY171,Hist_Tab[[#This Row],[Ref]])","v":1},{"$f":"IFERROR(INDEX(Medel_T[Start],Hist_Tab[[#This Row],[Ref]]),_xlfn.AGGREGATE(4,6,Medel_T[Start]))","v":"00:00:00"},{"$f":"IFERROR(INDEX(Medel_T[Slut],Hist_Tab[[#This Row],[Ref]]),_xlfn.AGGREGATE(4,6,Medel_T[Slut]))","v":"00:00:00"},{"$f":"IF(EW170=0,Hist_Tab[[#This Row],[ÅrB]],IF(Hist_Tab[[#This Row],[per/p]]<2,Hist_Tab[[#This Row],[ÅrB]],Hist_Tab[[#This Row],[År S]]))","v":"00:00:00"},{"$f":"IF(Hist_Tab[[#This Row],[Rad]:[Rad]]=0,-1,IF($EY172>_xlfn.AGGREGATE(2,6,Medel_T[[Slut]:[Slut]]),0,INDEX(Medel_T[],Hist_Tab[[#This Row],[Ref]:[Ref]],MATCH(Hist_Tab[[#Headers],[HöA T]],Medel_T[#Headers],0))))","v":0},{"$f":"IF(Hist_Tab[[#This Row],[Rad]:[Rad]]=0,0,IF($EY172>_xlfn.AGGREGATE(2,6,Medel_T[[Slut]:[Slut]]),0,INDEX(Medel_T[],Hist_Tab[[#This Row],[Ref]:[Ref]],MATCH(Hist_Tab[[#Headers],[AöA T]],Medel_T[#Headers],0))))","v":0},{"$f":"IF(Hist_Tab[[#This Row],[Rad]:[Rad]]=0,0,IF($EY172>_xlfn.AGGREGATE(2,6,Medel_T[[Slut]:[Slut]]),0,INDEX(Medel_T[],Hist_Tab[[#This Row],[Ref]:[Ref]],MATCH(Hist_Tab[[#Headers],[4AM T]],Medel_T[#Headers],0))))","v":0},{"$f":"IF(Hist_Tab[[#This Row],[Rad]:[Rad]]=0,0,IF($EY172>_xlfn.AGGREGATE(2,6,Medel_T[[Slut]:[Slut]]),0,INDEX(Medel_T[],Hist_Tab[[#This Row],[Ref]:[Ref]],MATCH(Hist_Tab[[#Headers],[15AM T]],Medel_T[#Headers],0))))","v":0},{"$f":"IF(Hist_Tab[[#This Row],[Rad]:[Rad]]=0,0,IF($EY172>_xlfn.AGGREGATE(2,6,Medel_T[[Slut]:[Slut]]),0,INDEX(Medel_T[],Hist_Tab[[#This Row],[Ref]:[Ref]],MATCH(Hist_Tab[[#Headers],[20-10D T]],Medel_T[#Headers],0))))","v":0}]
[null,null,null,null,null,null,null,null,null,null,null,null,null,null,null,null,null,null,null,null,null,null,null,null,null,null,null,null,null,null,null,null,null,null,null,null,null,null,null,null,null,null,null,null,null,null,null,null,null,null,null,null,null,null,null,null,null,null,null,null,null,null,null,null,null,null,null,null,null,null,null,null,null,null,null,null,null,null,null,null,null,null,null,null,null,null,null,null,null,null,null,null,null,null,null,null,null,null,null,null,null,null,null,null,null,null,null,null,null,null,null,null,null,null,null,null,null,null,null,null,null,null,null,null,null,null,null,null,null,null,null,null,null,null,null,null,null,null,null,null,null,null,null,null,null,null,null,null,null,null,null,null,{"$f":"ROWS($EW$20:EW172)","v":153},{"$f":"IFERROR(MATCH(Hist_Tab[[#This Row],[Ref]],Medel_T[NrX],0),1)","v":1},{"$f":"INT((ROW(Hist_Tab[[#This Row],[Ref]])-ROW(Hist_Tab[[#Headers],[Ref]])-1)/4)+1","v":39},{"$f":"COUNTIF($EY$19:EY172,Hist_Tab[[#This Row],[Ref]])","v":2},{"$f":"IFERROR(INDEX(Medel_T[Start],Hist_Tab[[#This Row],[Ref]]),_xlfn.AGGREGATE(4,6,Medel_T[Start]))","v":"00:00:00"},{"$f":"IFERROR(INDEX(Medel_T[Slut],Hist_Tab[[#This Row],[Ref]]),_xlfn.AGGREGATE(4,6,Medel_T[Slut]))","v":"00:00:00"},{"$f":"IF(EW171=0,Hist_Tab[[#This Row],[ÅrB]],IF(Hist_Tab[[#This Row],[per/p]]<2,Hist_Tab[[#This Row],[ÅrB]],Hist_Tab[[#This Row],[År S]]))","v":"00:00:00"},{"$f":"IF(Hist_Tab[[#This Row],[Rad]:[Rad]]=0,-1,IF($EY173>_xlfn.AGGREGATE(2,6,Medel_T[[Slut]:[Slut]]),0,INDEX(Medel_T[],Hist_Tab[[#This Row],[Ref]:[Ref]],MATCH(Hist_Tab[[#Headers],[HöA T]],Medel_T[#Headers],0))))","v":0},{"$f":"IF(Hist_Tab[[#This Row],[Rad]:[Rad]]=0,0,IF($EY173>_xlfn.AGGREGATE(2,6,Medel_T[[Slut]:[Slut]]),0,INDEX(Medel_T[],Hist_Tab[[#This Row],[Ref]:[Ref]],MATCH(Hist_Tab[[#Headers],[AöA T]],Medel_T[#Headers],0))))","v":0},{"$f":"IF(Hist_Tab[[#This Row],[Rad]:[Rad]]=0,0,IF($EY173>_xlfn.AGGREGATE(2,6,Medel_T[[Slut]:[Slut]]),0,INDEX(Medel_T[],Hist_Tab[[#This Row],[Ref]:[Ref]],MATCH(Hist_Tab[[#Headers],[4AM T]],Medel_T[#Headers],0))))","v":0},{"$f":"IF(Hist_Tab[[#This Row],[Rad]:[Rad]]=0,0,IF($EY173>_xlfn.AGGREGATE(2,6,Medel_T[[Slut]:[Slut]]),0,INDEX(Medel_T[],Hist_Tab[[#This Row],[Ref]:[Ref]],MATCH(Hist_Tab[[#Headers],[15AM T]],Medel_T[#Headers],0))))","v":0},{"$f":"IF(Hist_Tab[[#This Row],[Rad]:[Rad]]=0,0,IF($EY173>_xlfn.AGGREGATE(2,6,Medel_T[[Slut]:[Slut]]),0,INDEX(Medel_T[],Hist_Tab[[#This Row],[Ref]:[Ref]],MATCH(Hist_Tab[[#Headers],[20-10D T]],Medel_T[#Headers],0))))","v":0}]
[null,null,null,null,null,null,null,null,null,null,null,null,null,null,null,null,null,null,null,null,null,null,null,null,null,null,null,null,null,null,null,null,null,null,null,null,null,null,null,null,null,null,null,null,null,null,null,null,null,null,null,null,null,null,null,null,null,null,null,null,null,null,null,null,null,null,null,null,null,null,null,null,null,null,null,null,null,null,null,null,null,null,null,null,null,null,null,null,null,null,null,null,null,null,null,null,null,null,null,null,null,null,null,null,null,null,null,null,null,null,null,null,null,null,null,null,null,null,null,null,null,null,null,null,null,null,null,null,null,null,null,null,null,null,null,null,null,null,null,null,null,null,null,null,null,null,null,null,null,null,null,null,{"$f":"ROWS($EW$20:EW173)","v":154},{"$f":"IFERROR(MATCH(Hist_Tab[[#This Row],[Ref]],Medel_T[NrX],0),1)","v":1},{"$f":"INT((ROW(Hist_Tab[[#This Row],[Ref]])-ROW(Hist_Tab[[#Headers],[Ref]])-1)/4)+1","v":39},{"$f":"COUNTIF($EY$19:EY173,Hist_Tab[[#This Row],[Ref]])","v":3},{"$f":"IFERROR(INDEX(Medel_T[Start],Hist_Tab[[#This Row],[Ref]]),_xlfn.AGGREGATE(4,6,Medel_T[Start]))","v":"00:00:00"},{"$f":"IFERROR(INDEX(Medel_T[Slut],Hist_Tab[[#This Row],[Ref]]),_xlfn.AGGREGATE(4,6,Medel_T[Slut]))","v":"00:00:00"},{"$f":"IF(EW172=0,Hist_Tab[[#This Row],[ÅrB]],IF(Hist_Tab[[#This Row],[per/p]]<2,Hist_Tab[[#This Row],[ÅrB]],Hist_Tab[[#This Row],[År S]]))","v":"00:00:00"},{"$f":"IF(Hist_Tab[[#This Row],[Rad]:[Rad]]=0,-1,IF($EY174>_xlfn.AGGREGATE(2,6,Medel_T[[Slut]:[Slut]]),0,INDEX(Medel_T[],Hist_Tab[[#This Row],[Ref]:[Ref]],MATCH(Hist_Tab[[#Headers],[HöA T]],Medel_T[#Headers],0))))","v":0},{"$f":"IF(Hist_Tab[[#This Row],[Rad]:[Rad]]=0,0,IF($EY174>_xlfn.AGGREGATE(2,6,Medel_T[[Slut]:[Slut]]),0,INDEX(Medel_T[],Hist_Tab[[#This Row],[Ref]:[Ref]],MATCH(Hist_Tab[[#Headers],[AöA T]],Medel_T[#Headers],0))))","v":0},{"$f":"IF(Hist_Tab[[#This Row],[Rad]:[Rad]]=0,0,IF($EY174>_xlfn.AGGREGATE(2,6,Medel_T[[Slut]:[Slut]]),0,INDEX(Medel_T[],Hist_Tab[[#This Row],[Ref]:[Ref]],MATCH(Hist_Tab[[#Headers],[4AM T]],Medel_T[#Headers],0))))","v":0},{"$f":"IF(Hist_Tab[[#This Row],[Rad]:[Rad]]=0,0,IF($EY174>_xlfn.AGGREGATE(2,6,Medel_T[[Slut]:[Slut]]),0,INDEX(Medel_T[],Hist_Tab[[#This Row],[Ref]:[Ref]],MATCH(Hist_Tab[[#Headers],[15AM T]],Medel_T[#Headers],0))))","v":0},{"$f":"IF(Hist_Tab[[#This Row],[Rad]:[Rad]]=0,0,IF($EY174>_xlfn.AGGREGATE(2,6,Medel_T[[Slut]:[Slut]]),0,INDEX(Medel_T[],Hist_Tab[[#This Row],[Ref]:[Ref]],MATCH(Hist_Tab[[#Headers],[20-10D T]],Medel_T[#Headers],0))))","v":0}]
[null,null,null,null,null,null,null,null,null,null,null,null,null,null,null,null,null,null,null,null,null,null,null,null,null,null,null,null,null,null,null,null,null,null,null,null,null,null,null,null,null,null,null,null,null,null,null,null,null,null,null,null,null,null,null,null,null,null,null,null,null,null,null,null,null,null,null,null,null,null,null,null,null,null,null,null,null,null,null,null,null,null,null,null,null,null,null,null,null,null,null,null,null,null,null,null,null,null,null,null,null,null,null,null,null,null,null,null,null,null,null,null,null,null,null,null,null,null,null,null,null,null,null,null,null,null,null,null,null,null,null,null,null,null,null,null,null,null,null,null,null,null,null,null,null,null,null,null,null,null,null,null,{"$f":"ROWS($EW$20:EW174)","v":155},{"$f":"IFERROR(MATCH(Hist_Tab[[#This Row],[Ref]],Medel_T[NrX],0),1)","v":1},{"$f":"INT((ROW(Hist_Tab[[#This Row],[Ref]])-ROW(Hist_Tab[[#Headers],[Ref]])-1)/4)+1","v":39},{"$f":"COUNTIF($EY$19:EY174,Hist_Tab[[#This Row],[Ref]])","v":4},{"$f":"IFERROR(INDEX(Medel_T[Start],Hist_Tab[[#This Row],[Ref]]),_xlfn.AGGREGATE(4,6,Medel_T[Start]))","v":"00:00:00"},{"$f":"IFERROR(INDEX(Medel_T[Slut],Hist_Tab[[#This Row],[Ref]]),_xlfn.AGGREGATE(4,6,Medel_T[Slut]))","v":"00:00:00"},{"$f":"IF(EW173=0,Hist_Tab[[#This Row],[ÅrB]],IF(Hist_Tab[[#This Row],[per/p]]<2,Hist_Tab[[#This Row],[ÅrB]],Hist_Tab[[#This Row],[År S]]))","v":"00:00:00"},{"$f":"IF(Hist_Tab[[#This Row],[Rad]:[Rad]]=0,-1,IF($EY175>_xlfn.AGGREGATE(2,6,Medel_T[[Slut]:[Slut]]),0,INDEX(Medel_T[],Hist_Tab[[#This Row],[Ref]:[Ref]],MATCH(Hist_Tab[[#Headers],[HöA T]],Medel_T[#Headers],0))))","v":0},{"$f":"IF(Hist_Tab[[#This Row],[Rad]:[Rad]]=0,0,IF($EY175>_xlfn.AGGREGATE(2,6,Medel_T[[Slut]:[Slut]]),0,INDEX(Medel_T[],Hist_Tab[[#This Row],[Ref]:[Ref]],MATCH(Hist_Tab[[#Headers],[AöA T]],Medel_T[#Headers],0))))","v":0},{"$f":"IF(Hist_Tab[[#This Row],[Rad]:[Rad]]=0,0,IF($EY175>_xlfn.AGGREGATE(2,6,Medel_T[[Slut]:[Slut]]),0,INDEX(Medel_T[],Hist_Tab[[#This Row],[Ref]:[Ref]],MATCH(Hist_Tab[[#Headers],[4AM T]],Medel_T[#Headers],0))))","v":0},{"$f":"IF(Hist_Tab[[#This Row],[Rad]:[Rad]]=0,0,IF($EY175>_xlfn.AGGREGATE(2,6,Medel_T[[Slut]:[Slut]]),0,INDEX(Medel_T[],Hist_Tab[[#This Row],[Ref]:[Ref]],MATCH(Hist_Tab[[#Headers],[15AM T]],Medel_T[#Headers],0))))","v":0},{"$f":"IF(Hist_Tab[[#This Row],[Rad]:[Rad]]=0,0,IF($EY175>_xlfn.AGGREGATE(2,6,Medel_T[[Slut]:[Slut]]),0,INDEX(Medel_T[],Hist_Tab[[#This Row],[Ref]:[Ref]],MATCH(Hist_Tab[[#Headers],[20-10D T]],Medel_T[#Headers],0))))","v":0}]
[null,null,null,null,null,null,null,null,null,null,null,null,null,null,null,null,null,null,null,null,null,null,null,null,null,null,null,null,null,null,null,null,null,null,null,null,null,null,null,null,null,null,null,null,null,null,null,null,null,null,null,null,null,null,null,null,null,null,null,null,null,null,null,null,null,null,null,null,null,null,null,null,null,null,null,null,null,null,null,null,null,null,null,null,null,null,null,null,null,null,null,null,null,null,null,null,null,null,null,null,null,null,null,null,null,null,null,null,null,null,null,null,null,null,null,null,null,null,null,null,null,null,null,null,null,null,null,null,null,null,null,null,null,null,null,null,null,null,null,null,null,null,null,null,null,null,null,null,null,null,null,null,{"$f":"ROWS($EW$20:EW175)","v":156},{"$f":"IFERROR(MATCH(Hist_Tab[[#This Row],[Ref]],Medel_T[NrX],0),1)","v":1},{"$f":"INT((ROW(Hist_Tab[[#This Row],[Ref]])-ROW(Hist_Tab[[#Headers],[Ref]])-1)/4)+1","v":40},{"$f":"COUNTIF($EY$19:EY175,Hist_Tab[[#This Row],[Ref]])","v":1},{"$f":"IFERROR(INDEX(Medel_T[Start],Hist_Tab[[#This Row],[Ref]]),_xlfn.AGGREGATE(4,6,Medel_T[Start]))","v":"00:00:00"},{"$f":"IFERROR(INDEX(Medel_T[Slut],Hist_Tab[[#This Row],[Ref]]),_xlfn.AGGREGATE(4,6,Medel_T[Slut]))","v":"00:00:00"},{"$f":"IF(EW174=0,Hist_Tab[[#This Row],[ÅrB]],IF(Hist_Tab[[#This Row],[per/p]]<2,Hist_Tab[[#This Row],[ÅrB]],Hist_Tab[[#This Row],[År S]]))","v":"00:00:00"},{"$f":"IF(Hist_Tab[[#This Row],[Rad]:[Rad]]=0,-1,IF($EY176>_xlfn.AGGREGATE(2,6,Medel_T[[Slut]:[Slut]]),0,INDEX(Medel_T[],Hist_Tab[[#This Row],[Ref]:[Ref]],MATCH(Hist_Tab[[#Headers],[HöA T]],Medel_T[#Headers],0))))","v":0},{"$f":"IF(Hist_Tab[[#This Row],[Rad]:[Rad]]=0,0,IF($EY176>_xlfn.AGGREGATE(2,6,Medel_T[[Slut]:[Slut]]),0,INDEX(Medel_T[],Hist_Tab[[#This Row],[Ref]:[Ref]],MATCH(Hist_Tab[[#Headers],[AöA T]],Medel_T[#Headers],0))))","v":0},{"$f":"IF(Hist_Tab[[#This Row],[Rad]:[Rad]]=0,0,IF($EY176>_xlfn.AGGREGATE(2,6,Medel_T[[Slut]:[Slut]]),0,INDEX(Medel_T[],Hist_Tab[[#This Row],[Ref]:[Ref]],MATCH(Hist_Tab[[#Headers],[4AM T]],Medel_T[#Headers],0))))","v":0},{"$f":"IF(Hist_Tab[[#This Row],[Rad]:[Rad]]=0,0,IF($EY176>_xlfn.AGGREGATE(2,6,Medel_T[[Slut]:[Slut]]),0,INDEX(Medel_T[],Hist_Tab[[#This Row],[Ref]:[Ref]],MATCH(Hist_Tab[[#Headers],[15AM T]],Medel_T[#Headers],0))))","v":0},{"$f":"IF(Hist_Tab[[#This Row],[Rad]:[Rad]]=0,0,IF($EY176>_xlfn.AGGREGATE(2,6,Medel_T[[Slut]:[Slut]]),0,INDEX(Medel_T[],Hist_Tab[[#This Row],[Ref]:[Ref]],MATCH(Hist_Tab[[#Headers],[20-10D T]],Medel_T[#Headers],0))))","v":0}]
[null,null,null,null,null,null,null,null,null,null,null,null,null,null,null,null,null,null,null,null,null,null,null,null,null,null,null,null,null,null,null,null,null,null,null,null,null,null,null,null,null,null,null,null,null,null,null,null,null,null,null,null,null,null,null,null,null,null,null,null,null,null,null,null,null,null,null,null,null,null,null,null,null,null,null,null,null,null,null,null,null,null,null,null,null,null,null,null,null,null,null,null,null,null,null,null,null,null,null,null,null,null,null,null,null,null,null,null,null,null,null,null,null,null,null,null,null,null,null,null,null,null,null,null,null,null,null,null,null,null,null,null,null,null,null,null,null,null,null,null,null,null,null,null,null,null,null,null,null,null,null,null,{"$f":"ROWS($EW$20:EW176)","v":157},{"$f":"IFERROR(MATCH(Hist_Tab[[#This Row],[Ref]],Medel_T[NrX],0),1)","v":1},{"$f":"INT((ROW(Hist_Tab[[#This Row],[Ref]])-ROW(Hist_Tab[[#Headers],[Ref]])-1)/4)+1","v":40},{"$f":"COUNTIF($EY$19:EY176,Hist_Tab[[#This Row],[Ref]])","v":2},{"$f":"IFERROR(INDEX(Medel_T[Start],Hist_Tab[[#This Row],[Ref]]),_xlfn.AGGREGATE(4,6,Medel_T[Start]))","v":"00:00:00"},{"$f":"IFERROR(INDEX(Medel_T[Slut],Hist_Tab[[#This Row],[Ref]]),_xlfn.AGGREGATE(4,6,Medel_T[Slut]))","v":"00:00:00"},{"$f":"IF(EW175=0,Hist_Tab[[#This Row],[ÅrB]],IF(Hist_Tab[[#This Row],[per/p]]<2,Hist_Tab[[#This Row],[ÅrB]],Hist_Tab[[#This Row],[År S]]))","v":"00:00:00"},{"$f":"IF(Hist_Tab[[#This Row],[Rad]:[Rad]]=0,-1,IF($EY177>_xlfn.AGGREGATE(2,6,Medel_T[[Slut]:[Slut]]),0,INDEX(Medel_T[],Hist_Tab[[#This Row],[Ref]:[Ref]],MATCH(Hist_Tab[[#Headers],[HöA T]],Medel_T[#Headers],0))))","v":0},{"$f":"IF(Hist_Tab[[#This Row],[Rad]:[Rad]]=0,0,IF($EY177>_xlfn.AGGREGATE(2,6,Medel_T[[Slut]:[Slut]]),0,INDEX(Medel_T[],Hist_Tab[[#This Row],[Ref]:[Ref]],MATCH(Hist_Tab[[#Headers],[AöA T]],Medel_T[#Headers],0))))","v":0},{"$f":"IF(Hist_Tab[[#This Row],[Rad]:[Rad]]=0,0,IF($EY177>_xlfn.AGGREGATE(2,6,Medel_T[[Slut]:[Slut]]),0,INDEX(Medel_T[],Hist_Tab[[#This Row],[Ref]:[Ref]],MATCH(Hist_Tab[[#Headers],[4AM T]],Medel_T[#Headers],0))))","v":0},{"$f":"IF(Hist_Tab[[#This Row],[Rad]:[Rad]]=0,0,IF($EY177>_xlfn.AGGREGATE(2,6,Medel_T[[Slut]:[Slut]]),0,INDEX(Medel_T[],Hist_Tab[[#This Row],[Ref]:[Ref]],MATCH(Hist_Tab[[#Headers],[15AM T]],Medel_T[#Headers],0))))","v":0},{"$f":"IF(Hist_Tab[[#This Row],[Rad]:[Rad]]=0,0,IF($EY177>_xlfn.AGGREGATE(2,6,Medel_T[[Slut]:[Slut]]),0,INDEX(Medel_T[],Hist_Tab[[#This Row],[Ref]:[Ref]],MATCH(Hist_Tab[[#Headers],[20-10D T]],Medel_T[#Headers],0))))","v":0}]
[null,null,null,null,null,null,null,null,null,null,null,null,null,null,null,null,null,null,null,null,null,null,null,null,null,null,null,null,null,null,null,null,null,null,null,null,null,null,null,null,null,null,null,null,null,null,null,null,null,null,null,null,null,null,null,null,null,null,null,null,null,null,null,null,null,null,null,null,null,null,null,null,null,null,null,null,null,null,null,null,null,null,null,null,null,null,null,null,null,null,null,null,null,null,null,null,null,null,null,null,null,null,null,null,null,null,null,null,null,null,null,null,null,null,null,null,null,null,null,null,null,null,null,null,null,null,null,null,null,null,null,null,null,null,null,null,null,null,null,null,null,null,null,null,null,null,null,null,null,null,null,null,{"$f":"ROWS($EW$20:EW177)","v":158},{"$f":"IFERROR(MATCH(Hist_Tab[[#This Row],[Ref]],Medel_T[NrX],0),1)","v":1},{"$f":"INT((ROW(Hist_Tab[[#This Row],[Ref]])-ROW(Hist_Tab[[#Headers],[Ref]])-1)/4)+1","v":40},{"$f":"COUNTIF($EY$19:EY177,Hist_Tab[[#This Row],[Ref]])","v":3},{"$f":"IFERROR(INDEX(Medel_T[Start],Hist_Tab[[#This Row],[Ref]]),_xlfn.AGGREGATE(4,6,Medel_T[Start]))","v":"00:00:00"},{"$f":"IFERROR(INDEX(Medel_T[Slut],Hist_Tab[[#This Row],[Ref]]),_xlfn.AGGREGATE(4,6,Medel_T[Slut]))","v":"00:00:00"},{"$f":"IF(EW176=0,Hist_Tab[[#This Row],[ÅrB]],IF(Hist_Tab[[#This Row],[per/p]]<2,Hist_Tab[[#This Row],[ÅrB]],Hist_Tab[[#This Row],[År S]]))","v":"00:00:00"},{"$f":"IF(Hist_Tab[[#This Row],[Rad]:[Rad]]=0,-1,IF($EY178>_xlfn.AGGREGATE(2,6,Medel_T[[Slut]:[Slut]]),0,INDEX(Medel_T[],Hist_Tab[[#This Row],[Ref]:[Ref]],MATCH(Hist_Tab[[#Headers],[HöA T]],Medel_T[#Headers],0))))","v":0},{"$f":"IF(Hist_Tab[[#This Row],[Rad]:[Rad]]=0,0,IF($EY178>_xlfn.AGGREGATE(2,6,Medel_T[[Slut]:[Slut]]),0,INDEX(Medel_T[],Hist_Tab[[#This Row],[Ref]:[Ref]],MATCH(Hist_Tab[[#Headers],[AöA T]],Medel_T[#Headers],0))))","v":0},{"$f":"IF(Hist_Tab[[#This Row],[Rad]:[Rad]]=0,0,IF($EY178>_xlfn.AGGREGATE(2,6,Medel_T[[Slut]:[Slut]]),0,INDEX(Medel_T[],Hist_Tab[[#This Row],[Ref]:[Ref]],MATCH(Hist_Tab[[#Headers],[4AM T]],Medel_T[#Headers],0))))","v":0},{"$f":"IF(Hist_Tab[[#This Row],[Rad]:[Rad]]=0,0,IF($EY178>_xlfn.AGGREGATE(2,6,Medel_T[[Slut]:[Slut]]),0,INDEX(Medel_T[],Hist_Tab[[#This Row],[Ref]:[Ref]],MATCH(Hist_Tab[[#Headers],[15AM T]],Medel_T[#Headers],0))))","v":0},{"$f":"IF(Hist_Tab[[#This Row],[Rad]:[Rad]]=0,0,IF($EY178>_xlfn.AGGREGATE(2,6,Medel_T[[Slut]:[Slut]]),0,INDEX(Medel_T[],Hist_Tab[[#This Row],[Ref]:[Ref]],MATCH(Hist_Tab[[#Headers],[20-10D T]],Medel_T[#Headers],0))))","v":0}]
[null,null,null,null,null,null,null,null,null,null,null,null,null,null,null,null,null,null,null,null,null,null,null,null,null,null,null,null,null,null,null,null,null,null,null,null,null,null,null,null,null,null,null,null,null,null,null,null,null,null,null,null,null,null,null,null,null,null,null,null,null,null,null,null,null,null,null,null,null,null,null,null,null,null,null,null,null,null,null,null,null,null,null,null,null,null,null,null,null,null,null,null,null,null,null,null,null,null,null,null,null,null,null,null,null,null,null,null,null,null,null,null,null,null,null,null,null,null,null,null,null,null,null,null,null,null,null,null,null,null,null,null,null,null,null,null,null,null,null,null,null,null,null,null,null,null,null,null,null,null,null,null,{"$f":"ROWS($EW$20:EW178)","v":159},{"$f":"IFERROR(MATCH(Hist_Tab[[#This Row],[Ref]],Medel_T[NrX],0),1)","v":1},{"$f":"INT((ROW(Hist_Tab[[#This Row],[Ref]])-ROW(Hist_Tab[[#Headers],[Ref]])-1)/4)+1","v":40},{"$f":"COUNTIF($EY$19:EY178,Hist_Tab[[#This Row],[Ref]])","v":4},{"$f":"IFERROR(INDEX(Medel_T[Start],Hist_Tab[[#This Row],[Ref]]),_xlfn.AGGREGATE(4,6,Medel_T[Start]))","v":"00:00:00"},{"$f":"IFERROR(INDEX(Medel_T[Slut],Hist_Tab[[#This Row],[Ref]]),_xlfn.AGGREGATE(4,6,Medel_T[Slut]))","v":"00:00:00"},{"$f":"IF(EW177=0,Hist_Tab[[#This Row],[ÅrB]],IF(Hist_Tab[[#This Row],[per/p]]<2,Hist_Tab[[#This Row],[ÅrB]],Hist_Tab[[#This Row],[År S]]))","v":"00:00:00"},{"$f":"IF(Hist_Tab[[#This Row],[Rad]:[Rad]]=0,-1,IF($EY179>_xlfn.AGGREGATE(2,6,Medel_T[[Slut]:[Slut]]),0,INDEX(Medel_T[],Hist_Tab[[#This Row],[Ref]:[Ref]],MATCH(Hist_Tab[[#Headers],[HöA T]],Medel_T[#Headers],0))))","v":0},{"$f":"IF(Hist_Tab[[#This Row],[Rad]:[Rad]]=0,0,IF($EY179>_xlfn.AGGREGATE(2,6,Medel_T[[Slut]:[Slut]]),0,INDEX(Medel_T[],Hist_Tab[[#This Row],[Ref]:[Ref]],MATCH(Hist_Tab[[#Headers],[AöA T]],Medel_T[#Headers],0))))","v":0},{"$f":"IF(Hist_Tab[[#This Row],[Rad]:[Rad]]=0,0,IF($EY179>_xlfn.AGGREGATE(2,6,Medel_T[[Slut]:[Slut]]),0,INDEX(Medel_T[],Hist_Tab[[#This Row],[Ref]:[Ref]],MATCH(Hist_Tab[[#Headers],[4AM T]],Medel_T[#Headers],0))))","v":0},{"$f":"IF(Hist_Tab[[#This Row],[Rad]:[Rad]]=0,0,IF($EY179>_xlfn.AGGREGATE(2,6,Medel_T[[Slut]:[Slut]]),0,INDEX(Medel_T[],Hist_Tab[[#This Row],[Ref]:[Ref]],MATCH(Hist_Tab[[#Headers],[15AM T]],Medel_T[#Headers],0))))","v":0},{"$f":"IF(Hist_Tab[[#This Row],[Rad]:[Rad]]=0,0,IF($EY179>_xlfn.AGGREGATE(2,6,Medel_T[[Slut]:[Slut]]),0,INDEX(Medel_T[],Hist_Tab[[#This Row],[Ref]:[Ref]],MATCH(Hist_Tab[[#Headers],[20-10D T]],Medel_T[#Headers],0))))","v":0}]
[null,null,null,null,null,null,null,null,null,null,null,null,null,null,null,null,null,null,null,null,null,null,null,null,null,null,null,null,null,null,null,null,null,null,null,null,null,null,null,null,null,null,null,null,null,null,null,null,null,null,null,null,null,null,null,null,null,null,null,null,null,null,null,null,null,null,null,null,null,null,null,null,null,null,null,null,null,null,null,null,null,null,null,null,null,null,null,null,null,null,null,null,null,null,null,null,null,null,null,null,null,null,null,null,null,null,null,null,null,null,null,null,null,null,null,null,null,null,null,null,null,null,null,null,null,null,null,null,null,null,null,null,null,null,null,null,null,null,null,null,null,null,null,null,null,null,null,null,null,null,null,null,{"$f":"ROWS($EW$20:EW179)","v":160},{"$f":"IFERROR(MATCH(Hist_Tab[[#This Row],[Ref]],Medel_T[NrX],0),1)","v":1},{"$f":"INT((ROW(Hist_Tab[[#This Row],[Ref]])-ROW(Hist_Tab[[#Headers],[Ref]])-1)/4)+1","v":41},{"$f":"COUNTIF($EY$19:EY179,Hist_Tab[[#This Row],[Ref]])","v":1},{"$f":"IFERROR(INDEX(Medel_T[Start],Hist_Tab[[#This Row],[Ref]]),_xlfn.AGGREGATE(4,6,Medel_T[Start]))","v":"00:00:00"},{"$f":"IFERROR(INDEX(Medel_T[Slut],Hist_Tab[[#This Row],[Ref]]),_xlfn.AGGREGATE(4,6,Medel_T[Slut]))","v":"00:00:00"},{"$f":"IF(EW178=0,Hist_Tab[[#This Row],[ÅrB]],IF(Hist_Tab[[#This Row],[per/p]]<2,Hist_Tab[[#This Row],[ÅrB]],Hist_Tab[[#This Row],[År S]]))","v":"00:00:00"},{"$f":"IF(Hist_Tab[[#This Row],[Rad]:[Rad]]=0,-1,IF($EY180>_xlfn.AGGREGATE(2,6,Medel_T[[Slut]:[Slut]]),0,INDEX(Medel_T[],Hist_Tab[[#This Row],[Ref]:[Ref]],MATCH(Hist_Tab[[#Headers],[HöA T]],Medel_T[#Headers],0))))","v":0},{"$f":"IF(Hist_Tab[[#This Row],[Rad]:[Rad]]=0,0,IF($EY180>_xlfn.AGGREGATE(2,6,Medel_T[[Slut]:[Slut]]),0,INDEX(Medel_T[],Hist_Tab[[#This Row],[Ref]:[Ref]],MATCH(Hist_Tab[[#Headers],[AöA T]],Medel_T[#Headers],0))))","v":0},{"$f":"IF(Hist_Tab[[#This Row],[Rad]:[Rad]]=0,0,IF($EY180>_xlfn.AGGREGATE(2,6,Medel_T[[Slut]:[Slut]]),0,INDEX(Medel_T[],Hist_Tab[[#This Row],[Ref]:[Ref]],MATCH(Hist_Tab[[#Headers],[4AM T]],Medel_T[#Headers],0))))","v":0},{"$f":"IF(Hist_Tab[[#This Row],[Rad]:[Rad]]=0,0,IF($EY180>_xlfn.AGGREGATE(2,6,Medel_T[[Slut]:[Slut]]),0,INDEX(Medel_T[],Hist_Tab[[#This Row],[Ref]:[Ref]],MATCH(Hist_Tab[[#Headers],[15AM T]],Medel_T[#Headers],0))))","v":0},{"$f":"IF(Hist_Tab[[#This Row],[Rad]:[Rad]]=0,0,IF($EY180>_xlfn.AGGREGATE(2,6,Medel_T[[Slut]:[Slut]]),0,INDEX(Medel_T[],Hist_Tab[[#This Row],[Ref]:[Ref]],MATCH(Hist_Tab[[#Headers],[20-10D T]],Medel_T[#Headers],0))))","v":0}]
[null,null,null,null,null,null,null,null,null,null,null,null,null,null,null,null,null,null,null,null,null,null,null,null,null,null,null,null,null,null,null,null,null,null,null,null,null,null,null,null,null,null,null,null,null,null,null,null,null,null,null,null,null,null,null,null,null,null,null,null,null,null,null,null,null,null,null,null,null,null,null,null,null,null,null,null,null,null,null,null,null,null,null,null,null,null,null,null,null,null,null,null,null,null,null,null,null,null,null,null,null,null,null,null,null,null,null,null,null,null,null,null,null,null,null,null,null,null,null,null,null,null,null,null,null,null,null,null,null,null,null,null,null,null,null,null,null,null,null,null,null,null,null,null,null,null,null,null,null,null,null,null,{"$f":"ROWS($EW$20:EW180)","v":161},{"$f":"IFERROR(MATCH(Hist_Tab[[#This Row],[Ref]],Medel_T[NrX],0),1)","v":1},{"$f":"INT((ROW(Hist_Tab[[#This Row],[Ref]])-ROW(Hist_Tab[[#Headers],[Ref]])-1)/4)+1","v":41},{"$f":"COUNTIF($EY$19:EY180,Hist_Tab[[#This Row],[Ref]])","v":2},{"$f":"IFERROR(INDEX(Medel_T[Start],Hist_Tab[[#This Row],[Ref]]),_xlfn.AGGREGATE(4,6,Medel_T[Start]))","v":"00:00:00"},{"$f":"IFERROR(INDEX(Medel_T[Slut],Hist_Tab[[#This Row],[Ref]]),_xlfn.AGGREGATE(4,6,Medel_T[Slut]))","v":"00:00:00"},{"$f":"IF(EW179=0,Hist_Tab[[#This Row],[ÅrB]],IF(Hist_Tab[[#This Row],[per/p]]<2,Hist_Tab[[#This Row],[ÅrB]],Hist_Tab[[#This Row],[År S]]))","v":"00:00:00"},{"$f":"IF(Hist_Tab[[#This Row],[Rad]:[Rad]]=0,-1,IF($EY181>_xlfn.AGGREGATE(2,6,Medel_T[[Slut]:[Slut]]),0,INDEX(Medel_T[],Hist_Tab[[#This Row],[Ref]:[Ref]],MATCH(Hist_Tab[[#Headers],[HöA T]],Medel_T[#Headers],0))))","v":0},{"$f":"IF(Hist_Tab[[#This Row],[Rad]:[Rad]]=0,0,IF($EY181>_xlfn.AGGREGATE(2,6,Medel_T[[Slut]:[Slut]]),0,INDEX(Medel_T[],Hist_Tab[[#This Row],[Ref]:[Ref]],MATCH(Hist_Tab[[#Headers],[AöA T]],Medel_T[#Headers],0))))","v":0},{"$f":"IF(Hist_Tab[[#This Row],[Rad]:[Rad]]=0,0,IF($EY181>_xlfn.AGGREGATE(2,6,Medel_T[[Slut]:[Slut]]),0,INDEX(Medel_T[],Hist_Tab[[#This Row],[Ref]:[Ref]],MATCH(Hist_Tab[[#Headers],[4AM T]],Medel_T[#Headers],0))))","v":0},{"$f":"IF(Hist_Tab[[#This Row],[Rad]:[Rad]]=0,0,IF($EY181>_xlfn.AGGREGATE(2,6,Medel_T[[Slut]:[Slut]]),0,INDEX(Medel_T[],Hist_Tab[[#This Row],[Ref]:[Ref]],MATCH(Hist_Tab[[#Headers],[15AM T]],Medel_T[#Headers],0))))","v":0},{"$f":"IF(Hist_Tab[[#This Row],[Rad]:[Rad]]=0,0,IF($EY181>_xlfn.AGGREGATE(2,6,Medel_T[[Slut]:[Slut]]),0,INDEX(Medel_T[],Hist_Tab[[#This Row],[Ref]:[Ref]],MATCH(Hist_Tab[[#Headers],[20-10D T]],Medel_T[#Headers],0))))","v":0}]
[null,null,null,null,null,null,null,null,null,null,null,null,null,null,null,null,null,null,null,null,null,null,null,null,null,null,null,null,null,null,null,null,null,null,null,null,null,null,null,null,null,null,null,null,null,null,null,null,null,null,null,null,null,null,null,null,null,null,null,null,null,null,null,null,null,null,null,null,null,null,null,null,null,null,null,null,null,null,null,null,null,null,null,null,null,null,null,null,null,null,null,null,null,null,null,null,null,null,null,null,null,null,null,null,null,null,null,null,null,null,null,null,null,null,null,null,null,null,null,null,null,null,null,null,null,null,null,null,null,null,null,null,null,null,null,null,null,null,null,null,null,null,null,null,null,null,null,null,null,null,null,null,{"$f":"ROWS($EW$20:EW181)","v":162},{"$f":"IFERROR(MATCH(Hist_Tab[[#This Row],[Ref]],Medel_T[NrX],0),1)","v":1},{"$f":"INT((ROW(Hist_Tab[[#This Row],[Ref]])-ROW(Hist_Tab[[#Headers],[Ref]])-1)/4)+1","v":41},{"$f":"COUNTIF($EY$19:EY181,Hist_Tab[[#This Row],[Ref]])","v":3},{"$f":"IFERROR(INDEX(Medel_T[Start],Hist_Tab[[#This Row],[Ref]]),_xlfn.AGGREGATE(4,6,Medel_T[Start]))","v":"00:00:00"},{"$f":"IFERROR(INDEX(Medel_T[Slut],Hist_Tab[[#This Row],[Ref]]),_xlfn.AGGREGATE(4,6,Medel_T[Slut]))","v":"00:00:00"},{"$f":"IF(EW180=0,Hist_Tab[[#This Row],[ÅrB]],IF(Hist_Tab[[#This Row],[per/p]]<2,Hist_Tab[[#This Row],[ÅrB]],Hist_Tab[[#This Row],[År S]]))","v":"00:00:00"},{"$f":"IF(Hist_Tab[[#This Row],[Rad]:[Rad]]=0,-1,IF($EY182>_xlfn.AGGREGATE(2,6,Medel_T[[Slut]:[Slut]]),0,INDEX(Medel_T[],Hist_Tab[[#This Row],[Ref]:[Ref]],MATCH(Hist_Tab[[#Headers],[HöA T]],Medel_T[#Headers],0))))","v":0},{"$f":"IF(Hist_Tab[[#This Row],[Rad]:[Rad]]=0,0,IF($EY182>_xlfn.AGGREGATE(2,6,Medel_T[[Slut]:[Slut]]),0,INDEX(Medel_T[],Hist_Tab[[#This Row],[Ref]:[Ref]],MATCH(Hist_Tab[[#Headers],[AöA T]],Medel_T[#Headers],0))))","v":0},{"$f":"IF(Hist_Tab[[#This Row],[Rad]:[Rad]]=0,0,IF($EY182>_xlfn.AGGREGATE(2,6,Medel_T[[Slut]:[Slut]]),0,INDEX(Medel_T[],Hist_Tab[[#This Row],[Ref]:[Ref]],MATCH(Hist_Tab[[#Headers],[4AM T]],Medel_T[#Headers],0))))","v":0},{"$f":"IF(Hist_Tab[[#This Row],[Rad]:[Rad]]=0,0,IF($EY182>_xlfn.AGGREGATE(2,6,Medel_T[[Slut]:[Slut]]),0,INDEX(Medel_T[],Hist_Tab[[#This Row],[Ref]:[Ref]],MATCH(Hist_Tab[[#Headers],[15AM T]],Medel_T[#Headers],0))))","v":0},{"$f":"IF(Hist_Tab[[#This Row],[Rad]:[Rad]]=0,0,IF($EY182>_xlfn.AGGREGATE(2,6,Medel_T[[Slut]:[Slut]]),0,INDEX(Medel_T[],Hist_Tab[[#This Row],[Ref]:[Ref]],MATCH(Hist_Tab[[#Headers],[20-10D T]],Medel_T[#Headers],0))))","v":0}]
[null,null,null,null,null,null,null,null,null,null,null,null,null,null,null,null,null,null,null,null,null,null,null,null,null,null,null,null,null,null,null,null,null,null,null,null,null,null,null,null,null,null,null,null,null,null,null,null,null,null,null,null,null,null,null,null,null,null,null,null,null,null,null,null,null,null,null,null,null,null,null,null,null,null,null,null,null,null,null,null,null,null,null,null,null,null,null,null,null,null,null,null,null,null,null,null,null,null,null,null,null,null,null,null,null,null,null,null,null,null,null,null,null,null,null,null,null,null,null,null,null,null,null,null,null,null,null,null,null,null,null,null,null,null,null,null,null,null,null,null,null,null,null,null,null,null,null,null,null,null,null,null,{"$f":"ROWS($EW$20:EW182)","v":163},{"$f":"IFERROR(MATCH(Hist_Tab[[#This Row],[Ref]],Medel_T[NrX],0),1)","v":1},{"$f":"INT((ROW(Hist_Tab[[#This Row],[Ref]])-ROW(Hist_Tab[[#Headers],[Ref]])-1)/4)+1","v":41},{"$f":"COUNTIF($EY$19:EY182,Hist_Tab[[#This Row],[Ref]])","v":4},{"$f":"IFERROR(INDEX(Medel_T[Start],Hist_Tab[[#This Row],[Ref]]),_xlfn.AGGREGATE(4,6,Medel_T[Start]))","v":"00:00:00"},{"$f":"IFERROR(INDEX(Medel_T[Slut],Hist_Tab[[#This Row],[Ref]]),_xlfn.AGGREGATE(4,6,Medel_T[Slut]))","v":"00:00:00"},{"$f":"IF(EW181=0,Hist_Tab[[#This Row],[ÅrB]],IF(Hist_Tab[[#This Row],[per/p]]<2,Hist_Tab[[#This Row],[ÅrB]],Hist_Tab[[#This Row],[År S]]))","v":"00:00:00"},{"$f":"IF(Hist_Tab[[#This Row],[Rad]:[Rad]]=0,-1,IF($EY183>_xlfn.AGGREGATE(2,6,Medel_T[[Slut]:[Slut]]),0,INDEX(Medel_T[],Hist_Tab[[#This Row],[Ref]:[Ref]],MATCH(Hist_Tab[[#Headers],[HöA T]],Medel_T[#Headers],0))))","v":0},{"$f":"IF(Hist_Tab[[#This Row],[Rad]:[Rad]]=0,0,IF($EY183>_xlfn.AGGREGATE(2,6,Medel_T[[Slut]:[Slut]]),0,INDEX(Medel_T[],Hist_Tab[[#This Row],[Ref]:[Ref]],MATCH(Hist_Tab[[#Headers],[AöA T]],Medel_T[#Headers],0))))","v":0},{"$f":"IF(Hist_Tab[[#This Row],[Rad]:[Rad]]=0,0,IF($EY183>_xlfn.AGGREGATE(2,6,Medel_T[[Slut]:[Slut]]),0,INDEX(Medel_T[],Hist_Tab[[#This Row],[Ref]:[Ref]],MATCH(Hist_Tab[[#Headers],[4AM T]],Medel_T[#Headers],0))))","v":0},{"$f":"IF(Hist_Tab[[#This Row],[Rad]:[Rad]]=0,0,IF($EY183>_xlfn.AGGREGATE(2,6,Medel_T[[Slut]:[Slut]]),0,INDEX(Medel_T[],Hist_Tab[[#This Row],[Ref]:[Ref]],MATCH(Hist_Tab[[#Headers],[15AM T]],Medel_T[#Headers],0))))","v":0},{"$f":"IF(Hist_Tab[[#This Row],[Rad]:[Rad]]=0,0,IF($EY183>_xlfn.AGGREGATE(2,6,Medel_T[[Slut]:[Slut]]),0,INDEX(Medel_T[],Hist_Tab[[#This Row],[Ref]:[Ref]],MATCH(Hist_Tab[[#Headers],[20-10D T]],Medel_T[#Headers],0))))","v":0}]
[null,null,null,null,null,null,null,null,null,null,null,null,null,null,null,null,null,null,null,null,null,null,null,null,null,null,null,null,null,null,null,null,null,null,null,null,null,null,null,null,null,null,null,null,null,null,null,null,null,null,null,null,null,null,null,null,null,null,null,null,null,null,null,null,null,null,null,null,null,null,null,null,null,null,null,null,null,null,null,null,null,null,null,null,null,null,null,null,null,null,null,null,null,null,null,null,null,null,null,null,null,null,null,null,null,null,null,null,null,null,null,null,null,null,null,null,null,null,null,null,null,null,null,null,null,null,null,null,null,null,null,null,null,null,null,null,null,null,null,null,null,null,null,null,null,null,null,null,null,null,null,null,{"$f":"ROWS($EW$20:EW183)","v":164},{"$f":"IFERROR(MATCH(Hist_Tab[[#This Row],[Ref]],Medel_T[NrX],0),1)","v":1},{"$f":"INT((ROW(Hist_Tab[[#This Row],[Ref]])-ROW(Hist_Tab[[#Headers],[Ref]])-1)/4)+1","v":42},{"$f":"COUNTIF($EY$19:EY183,Hist_Tab[[#This Row],[Ref]])","v":1},{"$f":"IFERROR(INDEX(Medel_T[Start],Hist_Tab[[#This Row],[Ref]]),_xlfn.AGGREGATE(4,6,Medel_T[Start]))","v":"00:00:00"},{"$f":"IFERROR(INDEX(Medel_T[Slut],Hist_Tab[[#This Row],[Ref]]),_xlfn.AGGREGATE(4,6,Medel_T[Slut]))","v":"00:00:00"},{"$f":"IF(EW182=0,Hist_Tab[[#This Row],[ÅrB]],IF(Hist_Tab[[#This Row],[per/p]]<2,Hist_Tab[[#This Row],[ÅrB]],Hist_Tab[[#This Row],[År S]]))","v":"00:00:00"},{"$f":"IF(Hist_Tab[[#This Row],[Rad]:[Rad]]=0,-1,IF($EY184>_xlfn.AGGREGATE(2,6,Medel_T[[Slut]:[Slut]]),0,INDEX(Medel_T[],Hist_Tab[[#This Row],[Ref]:[Ref]],MATCH(Hist_Tab[[#Headers],[HöA T]],Medel_T[#Headers],0))))","v":0},{"$f":"IF(Hist_Tab[[#This Row],[Rad]:[Rad]]=0,0,IF($EY184>_xlfn.AGGREGATE(2,6,Medel_T[[Slut]:[Slut]]),0,INDEX(Medel_T[],Hist_Tab[[#This Row],[Ref]:[Ref]],MATCH(Hist_Tab[[#Headers],[AöA T]],Medel_T[#Headers],0))))","v":0},{"$f":"IF(Hist_Tab[[#This Row],[Rad]:[Rad]]=0,0,IF($EY184>_xlfn.AGGREGATE(2,6,Medel_T[[Slut]:[Slut]]),0,INDEX(Medel_T[],Hist_Tab[[#This Row],[Ref]:[Ref]],MATCH(Hist_Tab[[#Headers],[4AM T]],Medel_T[#Headers],0))))","v":0},{"$f":"IF(Hist_Tab[[#This Row],[Rad]:[Rad]]=0,0,IF($EY184>_xlfn.AGGREGATE(2,6,Medel_T[[Slut]:[Slut]]),0,INDEX(Medel_T[],Hist_Tab[[#This Row],[Ref]:[Ref]],MATCH(Hist_Tab[[#Headers],[15AM T]],Medel_T[#Headers],0))))","v":0},{"$f":"IF(Hist_Tab[[#This Row],[Rad]:[Rad]]=0,0,IF($EY184>_xlfn.AGGREGATE(2,6,Medel_T[[Slut]:[Slut]]),0,INDEX(Medel_T[],Hist_Tab[[#This Row],[Ref]:[Ref]],MATCH(Hist_Tab[[#Headers],[20-10D T]],Medel_T[#Headers],0))))","v":0}]
[null,null,null,null,null,null,null,null,null,null,null,null,null,null,null,null,null,null,null,null,null,null,null,null,null,null,null,null,null,null,null,null,null,null,null,null,null,null,null,null,null,null,null,null,null,null,null,null,null,null,null,null,null,null,null,null,null,null,null,null,null,null,null,null,null,null,null,null,null,null,null,null,null,null,null,null,null,null,null,null,null,null,null,null,null,null,null,null,null,null,null,null,null,null,null,null,null,null,null,null,null,null,null,null,null,null,null,null,null,null,null,null,null,null,null,null,null,null,null,null,null,null,null,null,null,null,null,null,null,null,null,null,null,null,null,null,null,null,null,null,null,null,null,null,null,null,null,null,null,null,null,null,{"$f":"ROWS($EW$20:EW184)","v":165},{"$f":"IFERROR(MATCH(Hist_Tab[[#This Row],[Ref]],Medel_T[NrX],0),1)","v":1},{"$f":"INT((ROW(Hist_Tab[[#This Row],[Ref]])-ROW(Hist_Tab[[#Headers],[Ref]])-1)/4)+1","v":42},{"$f":"COUNTIF($EY$19:EY184,Hist_Tab[[#This Row],[Ref]])","v":2},{"$f":"IFERROR(INDEX(Medel_T[Start],Hist_Tab[[#This Row],[Ref]]),_xlfn.AGGREGATE(4,6,Medel_T[Start]))","v":"00:00:00"},{"$f":"IFERROR(INDEX(Medel_T[Slut],Hist_Tab[[#This Row],[Ref]]),_xlfn.AGGREGATE(4,6,Medel_T[Slut]))","v":"00:00:00"},{"$f":"IF(EW183=0,Hist_Tab[[#This Row],[ÅrB]],IF(Hist_Tab[[#This Row],[per/p]]<2,Hist_Tab[[#This Row],[ÅrB]],Hist_Tab[[#This Row],[År S]]))","v":"00:00:00"},{"$f":"IF(Hist_Tab[[#This Row],[Rad]:[Rad]]=0,-1,IF($EY185>_xlfn.AGGREGATE(2,6,Medel_T[[Slut]:[Slut]]),0,INDEX(Medel_T[],Hist_Tab[[#This Row],[Ref]:[Ref]],MATCH(Hist_Tab[[#Headers],[HöA T]],Medel_T[#Headers],0))))","v":0},{"$f":"IF(Hist_Tab[[#This Row],[Rad]:[Rad]]=0,0,IF($EY185>_xlfn.AGGREGATE(2,6,Medel_T[[Slut]:[Slut]]),0,INDEX(Medel_T[],Hist_Tab[[#This Row],[Ref]:[Ref]],MATCH(Hist_Tab[[#Headers],[AöA T]],Medel_T[#Headers],0))))","v":0},{"$f":"IF(Hist_Tab[[#This Row],[Rad]:[Rad]]=0,0,IF($EY185>_xlfn.AGGREGATE(2,6,Medel_T[[Slut]:[Slut]]),0,INDEX(Medel_T[],Hist_Tab[[#This Row],[Ref]:[Ref]],MATCH(Hist_Tab[[#Headers],[4AM T]],Medel_T[#Headers],0))))","v":0},{"$f":"IF(Hist_Tab[[#This Row],[Rad]:[Rad]]=0,0,IF($EY185>_xlfn.AGGREGATE(2,6,Medel_T[[Slut]:[Slut]]),0,INDEX(Medel_T[],Hist_Tab[[#This Row],[Ref]:[Ref]],MATCH(Hist_Tab[[#Headers],[15AM T]],Medel_T[#Headers],0))))","v":0},{"$f":"IF(Hist_Tab[[#This Row],[Rad]:[Rad]]=0,0,IF($EY185>_xlfn.AGGREGATE(2,6,Medel_T[[Slut]:[Slut]]),0,INDEX(Medel_T[],Hist_Tab[[#This Row],[Ref]:[Ref]],MATCH(Hist_Tab[[#Headers],[20-10D T]],Medel_T[#Headers],0))))","v":0}]
[null,null,null,null,null,null,null,null,null,null,null,null,null,null,null,null,null,null,null,null,null,null,null,null,null,null,null,null,null,null,null,null,null,null,null,null,null,null,null,null,null,null,null,null,null,null,null,null,null,null,null,null,null,null,null,null,null,null,null,null,null,null,null,null,null,null,null,null,null,null,null,null,null,null,null,null,null,null,null,null,null,null,null,null,null,null,null,null,null,null,null,null,null,null,null,null,null,null,null,null,null,null,null,null,null,null,null,null,null,null,null,null,null,null,null,null,null,null,null,null,null,null,null,null,null,null,null,null,null,null,null,null,null,null,null,null,null,null,null,null,null,null,null,null,null,null,null,null,null,null,null,null,{"$f":"ROWS($EW$20:EW185)","v":166},{"$f":"IFERROR(MATCH(Hist_Tab[[#This Row],[Ref]],Medel_T[NrX],0),1)","v":1},{"$f":"INT((ROW(Hist_Tab[[#This Row],[Ref]])-ROW(Hist_Tab[[#Headers],[Ref]])-1)/4)+1","v":42},{"$f":"COUNTIF($EY$19:EY185,Hist_Tab[[#This Row],[Ref]])","v":3},{"$f":"IFERROR(INDEX(Medel_T[Start],Hist_Tab[[#This Row],[Ref]]),_xlfn.AGGREGATE(4,6,Medel_T[Start]))","v":"00:00:00"},{"$f":"IFERROR(INDEX(Medel_T[Slut],Hist_Tab[[#This Row],[Ref]]),_xlfn.AGGREGATE(4,6,Medel_T[Slut]))","v":"00:00:00"},{"$f":"IF(EW184=0,Hist_Tab[[#This Row],[ÅrB]],IF(Hist_Tab[[#This Row],[per/p]]<2,Hist_Tab[[#This Row],[ÅrB]],Hist_Tab[[#This Row],[År S]]))","v":"00:00:00"},{"$f":"IF(Hist_Tab[[#This Row],[Rad]:[Rad]]=0,-1,IF($EY186>_xlfn.AGGREGATE(2,6,Medel_T[[Slut]:[Slut]]),0,INDEX(Medel_T[],Hist_Tab[[#This Row],[Ref]:[Ref]],MATCH(Hist_Tab[[#Headers],[HöA T]],Medel_T[#Headers],0))))","v":0},{"$f":"IF(Hist_Tab[[#This Row],[Rad]:[Rad]]=0,0,IF($EY186>_xlfn.AGGREGATE(2,6,Medel_T[[Slut]:[Slut]]),0,INDEX(Medel_T[],Hist_Tab[[#This Row],[Ref]:[Ref]],MATCH(Hist_Tab[[#Headers],[AöA T]],Medel_T[#Headers],0))))","v":0},{"$f":"IF(Hist_Tab[[#This Row],[Rad]:[Rad]]=0,0,IF($EY186>_xlfn.AGGREGATE(2,6,Medel_T[[Slut]:[Slut]]),0,INDEX(Medel_T[],Hist_Tab[[#This Row],[Ref]:[Ref]],MATCH(Hist_Tab[[#Headers],[4AM T]],Medel_T[#Headers],0))))","v":0},{"$f":"IF(Hist_Tab[[#This Row],[Rad]:[Rad]]=0,0,IF($EY186>_xlfn.AGGREGATE(2,6,Medel_T[[Slut]:[Slut]]),0,INDEX(Medel_T[],Hist_Tab[[#This Row],[Ref]:[Ref]],MATCH(Hist_Tab[[#Headers],[15AM T]],Medel_T[#Headers],0))))","v":0},{"$f":"IF(Hist_Tab[[#This Row],[Rad]:[Rad]]=0,0,IF($EY186>_xlfn.AGGREGATE(2,6,Medel_T[[Slut]:[Slut]]),0,INDEX(Medel_T[],Hist_Tab[[#This Row],[Ref]:[Ref]],MATCH(Hist_Tab[[#Headers],[20-10D T]],Medel_T[#Headers],0))))","v":0}]
[null,null,null,null,null,null,null,null,null,null,null,null,null,null,null,null,null,null,null,null,null,null,null,null,null,null,null,null,null,null,null,null,null,null,null,null,null,null,null,null,null,null,null,null,null,null,null,null,null,null,null,null,null,null,null,null,null,null,null,null,null,null,null,null,null,null,null,null,null,null,null,null,null,null,null,null,null,null,null,null,null,null,null,null,null,null,null,null,null,null,null,null,null,null,null,null,null,null,null,null,null,null,null,null,null,null,null,null,null,null,null,null,null,null,null,null,null,null,null,null,null,null,null,null,null,null,null,null,null,null,null,null,null,null,null,null,null,null,null,null,null,null,null,null,null,null,null,null,null,null,null,null,{"$f":"ROWS($EW$20:EW186)","v":167},{"$f":"IFERROR(MATCH(Hist_Tab[[#This Row],[Ref]],Medel_T[NrX],0),1)","v":1},{"$f":"INT((ROW(Hist_Tab[[#This Row],[Ref]])-ROW(Hist_Tab[[#Headers],[Ref]])-1)/4)+1","v":42},{"$f":"COUNTIF($EY$19:EY186,Hist_Tab[[#This Row],[Ref]])","v":4},{"$f":"IFERROR(INDEX(Medel_T[Start],Hist_Tab[[#This Row],[Ref]]),_xlfn.AGGREGATE(4,6,Medel_T[Start]))","v":"00:00:00"},{"$f":"IFERROR(INDEX(Medel_T[Slut],Hist_Tab[[#This Row],[Ref]]),_xlfn.AGGREGATE(4,6,Medel_T[Slut]))","v":"00:00:00"},{"$f":"IF(EW185=0,Hist_Tab[[#This Row],[ÅrB]],IF(Hist_Tab[[#This Row],[per/p]]<2,Hist_Tab[[#This Row],[ÅrB]],Hist_Tab[[#This Row],[År S]]))","v":"00:00:00"},{"$f":"IF(Hist_Tab[[#This Row],[Rad]:[Rad]]=0,-1,IF($EY187>_xlfn.AGGREGATE(2,6,Medel_T[[Slut]:[Slut]]),0,INDEX(Medel_T[],Hist_Tab[[#This Row],[Ref]:[Ref]],MATCH(Hist_Tab[[#Headers],[HöA T]],Medel_T[#Headers],0))))","v":0},{"$f":"IF(Hist_Tab[[#This Row],[Rad]:[Rad]]=0,0,IF($EY187>_xlfn.AGGREGATE(2,6,Medel_T[[Slut]:[Slut]]),0,INDEX(Medel_T[],Hist_Tab[[#This Row],[Ref]:[Ref]],MATCH(Hist_Tab[[#Headers],[AöA T]],Medel_T[#Headers],0))))","v":0},{"$f":"IF(Hist_Tab[[#This Row],[Rad]:[Rad]]=0,0,IF($EY187>_xlfn.AGGREGATE(2,6,Medel_T[[Slut]:[Slut]]),0,INDEX(Medel_T[],Hist_Tab[[#This Row],[Ref]:[Ref]],MATCH(Hist_Tab[[#Headers],[4AM T]],Medel_T[#Headers],0))))","v":0},{"$f":"IF(Hist_Tab[[#This Row],[Rad]:[Rad]]=0,0,IF($EY187>_xlfn.AGGREGATE(2,6,Medel_T[[Slut]:[Slut]]),0,INDEX(Medel_T[],Hist_Tab[[#This Row],[Ref]:[Ref]],MATCH(Hist_Tab[[#Headers],[15AM T]],Medel_T[#Headers],0))))","v":0},{"$f":"IF(Hist_Tab[[#This Row],[Rad]:[Rad]]=0,0,IF($EY187>_xlfn.AGGREGATE(2,6,Medel_T[[Slut]:[Slut]]),0,INDEX(Medel_T[],Hist_Tab[[#This Row],[Ref]:[Ref]],MATCH(Hist_Tab[[#Headers],[20-10D T]],Medel_T[#Headers],0))))","v":0}]
[null,null,null,null,null,null,null,null,null,null,null,null,null,null,null,null,null,null,null,null,null,null,null,null,null,null,null,null,null,null,null,null,null,null,null,null,null,null,null,null,null,null,null,null,null,null,null,null,null,null,null,null,null,null,null,null,null,null,null,null,null,null,null,null,null,null,null,null,null,null,null,null,null,null,null,null,null,null,null,null,null,null,null,null,null,null,null,null,null,null,null,null,null,null,null,null,null,null,null,null,null,null,null,null,null,null,null,null,null,null,null,null,null,null,null,null,null,null,null,null,null,null,null,null,null,null,null,null,null,null,null,null,null,null,null,null,null,null,null,null,null,null,null,null,null,null,null,null,null,null,null,null,{"$f":"ROWS($EW$20:EW187)","v":168},{"$f":"IFERROR(MATCH(Hist_Tab[[#This Row],[Ref]],Medel_T[NrX],0),1)","v":1},{"$f":"INT((ROW(Hist_Tab[[#This Row],[Ref]])-ROW(Hist_Tab[[#Headers],[Ref]])-1)/4)+1","v":43},{"$f":"COUNTIF($EY$19:EY187,Hist_Tab[[#This Row],[Ref]])","v":1},{"$f":"IFERROR(INDEX(Medel_T[Start],Hist_Tab[[#This Row],[Ref]]),_xlfn.AGGREGATE(4,6,Medel_T[Start]))","v":"00:00:00"},{"$f":"IFERROR(INDEX(Medel_T[Slut],Hist_Tab[[#This Row],[Ref]]),_xlfn.AGGREGATE(4,6,Medel_T[Slut]))","v":"00:00:00"},{"$f":"IF(EW186=0,Hist_Tab[[#This Row],[ÅrB]],IF(Hist_Tab[[#This Row],[per/p]]<2,Hist_Tab[[#This Row],[ÅrB]],Hist_Tab[[#This Row],[År S]]))","v":"00:00:00"},{"$f":"IF(Hist_Tab[[#This Row],[Rad]:[Rad]]=0,-1,IF($EY188>_xlfn.AGGREGATE(2,6,Medel_T[[Slut]:[Slut]]),0,INDEX(Medel_T[],Hist_Tab[[#This Row],[Ref]:[Ref]],MATCH(Hist_Tab[[#Headers],[HöA T]],Medel_T[#Headers],0))))","v":0},{"$f":"IF(Hist_Tab[[#This Row],[Rad]:[Rad]]=0,0,IF($EY188>_xlfn.AGGREGATE(2,6,Medel_T[[Slut]:[Slut]]),0,INDEX(Medel_T[],Hist_Tab[[#This Row],[Ref]:[Ref]],MATCH(Hist_Tab[[#Headers],[AöA T]],Medel_T[#Headers],0))))","v":0},{"$f":"IF(Hist_Tab[[#This Row],[Rad]:[Rad]]=0,0,IF($EY188>_xlfn.AGGREGATE(2,6,Medel_T[[Slut]:[Slut]]),0,INDEX(Medel_T[],Hist_Tab[[#This Row],[Ref]:[Ref]],MATCH(Hist_Tab[[#Headers],[4AM T]],Medel_T[#Headers],0))))","v":0},{"$f":"IF(Hist_Tab[[#This Row],[Rad]:[Rad]]=0,0,IF($EY188>_xlfn.AGGREGATE(2,6,Medel_T[[Slut]:[Slut]]),0,INDEX(Medel_T[],Hist_Tab[[#This Row],[Ref]:[Ref]],MATCH(Hist_Tab[[#Headers],[15AM T]],Medel_T[#Headers],0))))","v":0},{"$f":"IF(Hist_Tab[[#This Row],[Rad]:[Rad]]=0,0,IF($EY188>_xlfn.AGGREGATE(2,6,Medel_T[[Slut]:[Slut]]),0,INDEX(Medel_T[],Hist_Tab[[#This Row],[Ref]:[Ref]],MATCH(Hist_Tab[[#Headers],[20-10D T]],Medel_T[#Headers],0))))","v":0}]
[null,null,null,null,null,null,null,null,null,null,null,null,null,null,null,null,null,null,null,null,null,null,null,null,null,null,null,null,null,null,null,null,null,null,null,null,null,null,null,null,null,null,null,null,null,null,null,null,null,null,null,null,null,null,null,null,null,null,null,null,null,null,null,null,null,null,null,null,null,null,null,null,null,null,null,null,null,null,null,null,null,null,null,null,null,null,null,null,null,null,null,null,null,null,null,null,null,null,null,null,null,null,null,null,null,null,null,null,null,null,null,null,null,null,null,null,null,null,null,null,null,null,null,null,null,null,null,null,null,null,null,null,null,null,null,null,null,null,null,null,null,null,null,null,null,null,null,null,null,null,null,null,{"$f":"ROWS($EW$20:EW188)","v":169},{"$f":"IFERROR(MATCH(Hist_Tab[[#This Row],[Ref]],Medel_T[NrX],0),1)","v":1},{"$f":"INT((ROW(Hist_Tab[[#This Row],[Ref]])-ROW(Hist_Tab[[#Headers],[Ref]])-1)/4)+1","v":43},{"$f":"COUNTIF($EY$19:EY188,Hist_Tab[[#This Row],[Ref]])","v":2},{"$f":"IFERROR(INDEX(Medel_T[Start],Hist_Tab[[#This Row],[Ref]]),_xlfn.AGGREGATE(4,6,Medel_T[Start]))","v":"00:00:00"},{"$f":"IFERROR(INDEX(Medel_T[Slut],Hist_Tab[[#This Row],[Ref]]),_xlfn.AGGREGATE(4,6,Medel_T[Slut]))","v":"00:00:00"},{"$f":"IF(EW187=0,Hist_Tab[[#This Row],[ÅrB]],IF(Hist_Tab[[#This Row],[per/p]]<2,Hist_Tab[[#This Row],[ÅrB]],Hist_Tab[[#This Row],[År S]]))","v":"00:00:00"},{"$f":"IF(Hist_Tab[[#This Row],[Rad]:[Rad]]=0,-1,IF($EY189>_xlfn.AGGREGATE(2,6,Medel_T[[Slut]:[Slut]]),0,INDEX(Medel_T[],Hist_Tab[[#This Row],[Ref]:[Ref]],MATCH(Hist_Tab[[#Headers],[HöA T]],Medel_T[#Headers],0))))","v":0},{"$f":"IF(Hist_Tab[[#This Row],[Rad]:[Rad]]=0,0,IF($EY189>_xlfn.AGGREGATE(2,6,Medel_T[[Slut]:[Slut]]),0,INDEX(Medel_T[],Hist_Tab[[#This Row],[Ref]:[Ref]],MATCH(Hist_Tab[[#Headers],[AöA T]],Medel_T[#Headers],0))))","v":0},{"$f":"IF(Hist_Tab[[#This Row],[Rad]:[Rad]]=0,0,IF($EY189>_xlfn.AGGREGATE(2,6,Medel_T[[Slut]:[Slut]]),0,INDEX(Medel_T[],Hist_Tab[[#This Row],[Ref]:[Ref]],MATCH(Hist_Tab[[#Headers],[4AM T]],Medel_T[#Headers],0))))","v":0},{"$f":"IF(Hist_Tab[[#This Row],[Rad]:[Rad]]=0,0,IF($EY189>_xlfn.AGGREGATE(2,6,Medel_T[[Slut]:[Slut]]),0,INDEX(Medel_T[],Hist_Tab[[#This Row],[Ref]:[Ref]],MATCH(Hist_Tab[[#Headers],[15AM T]],Medel_T[#Headers],0))))","v":0},{"$f":"IF(Hist_Tab[[#This Row],[Rad]:[Rad]]=0,0,IF($EY189>_xlfn.AGGREGATE(2,6,Medel_T[[Slut]:[Slut]]),0,INDEX(Medel_T[],Hist_Tab[[#This Row],[Ref]:[Ref]],MATCH(Hist_Tab[[#Headers],[20-10D T]],Medel_T[#Headers],0))))","v":0}]
[null,null,null,null,null,null,null,null,null,null,null,null,null,null,null,null,null,null,null,null,null,null,null,null,null,null,null,null,null,null,null,null,null,null,null,null,null,null,null,null,null,null,null,null,null,null,null,null,null,null,null,null,null,null,null,null,null,null,null,null,null,null,null,null,null,null,null,null,null,null,null,null,null,null,null,null,null,null,null,null,null,null,null,null,null,null,null,null,null,null,null,null,null,null,null,null,null,null,null,null,null,null,null,null,null,null,null,null,null,null,null,null,null,null,null,null,null,null,null,null,null,null,null,null,null,null,null,null,null,null,null,null,null,null,null,null,null,null,null,null,null,null,null,null,null,null,null,null,null,null,null,null,{"$f":"ROWS($EW$20:EW189)","v":170},{"$f":"IFERROR(MATCH(Hist_Tab[[#This Row],[Ref]],Medel_T[NrX],0),1)","v":1},{"$f":"INT((ROW(Hist_Tab[[#This Row],[Ref]])-ROW(Hist_Tab[[#Headers],[Ref]])-1)/4)+1","v":43},{"$f":"COUNTIF($EY$19:EY189,Hist_Tab[[#This Row],[Ref]])","v":3},{"$f":"IFERROR(INDEX(Medel_T[Start],Hist_Tab[[#This Row],[Ref]]),_xlfn.AGGREGATE(4,6,Medel_T[Start]))","v":"00:00:00"},{"$f":"IFERROR(INDEX(Medel_T[Slut],Hist_Tab[[#This Row],[Ref]]),_xlfn.AGGREGATE(4,6,Medel_T[Slut]))","v":"00:00:00"},{"$f":"IF(EW188=0,Hist_Tab[[#This Row],[ÅrB]],IF(Hist_Tab[[#This Row],[per/p]]<2,Hist_Tab[[#This Row],[ÅrB]],Hist_Tab[[#This Row],[År S]]))","v":"00:00:00"},{"$f":"IF(Hist_Tab[[#This Row],[Rad]:[Rad]]=0,-1,IF($EY190>_xlfn.AGGREGATE(2,6,Medel_T[[Slut]:[Slut]]),0,INDEX(Medel_T[],Hist_Tab[[#This Row],[Ref]:[Ref]],MATCH(Hist_Tab[[#Headers],[HöA T]],Medel_T[#Headers],0))))","v":0},{"$f":"IF(Hist_Tab[[#This Row],[Rad]:[Rad]]=0,0,IF($EY190>_xlfn.AGGREGATE(2,6,Medel_T[[Slut]:[Slut]]),0,INDEX(Medel_T[],Hist_Tab[[#This Row],[Ref]:[Ref]],MATCH(Hist_Tab[[#Headers],[AöA T]],Medel_T[#Headers],0))))","v":0},{"$f":"IF(Hist_Tab[[#This Row],[Rad]:[Rad]]=0,0,IF($EY190>_xlfn.AGGREGATE(2,6,Medel_T[[Slut]:[Slut]]),0,INDEX(Medel_T[],Hist_Tab[[#This Row],[Ref]:[Ref]],MATCH(Hist_Tab[[#Headers],[4AM T]],Medel_T[#Headers],0))))","v":0},{"$f":"IF(Hist_Tab[[#This Row],[Rad]:[Rad]]=0,0,IF($EY190>_xlfn.AGGREGATE(2,6,Medel_T[[Slut]:[Slut]]),0,INDEX(Medel_T[],Hist_Tab[[#This Row],[Ref]:[Ref]],MATCH(Hist_Tab[[#Headers],[15AM T]],Medel_T[#Headers],0))))","v":0},{"$f":"IF(Hist_Tab[[#This Row],[Rad]:[Rad]]=0,0,IF($EY190>_xlfn.AGGREGATE(2,6,Medel_T[[Slut]:[Slut]]),0,INDEX(Medel_T[],Hist_Tab[[#This Row],[Ref]:[Ref]],MATCH(Hist_Tab[[#Headers],[20-10D T]],Medel_T[#Headers],0))))","v":0}]
[null,null,null,null,null,null,null,null,null,null,null,null,null,null,null,null,null,null,null,null,null,null,null,null,null,null,null,null,null,null,null,null,null,null,null,null,null,null,null,null,null,null,null,null,null,null,null,null,null,null,null,null,null,null,null,null,null,null,null,null,null,null,null,null,null,null,null,null,null,null,null,null,null,null,null,null,null,null,null,null,null,null,null,null,null,null,null,null,null,null,null,null,null,null,null,null,null,null,null,null,null,null,null,null,null,null,null,null,null,null,null,null,null,null,null,null,null,null,null,null,null,null,null,null,null,null,null,null,null,null,null,null,null,null,null,null,null,null,null,null,null,null,null,null,null,null,null,null,null,null,null,null,{"$f":"ROWS($EW$20:EW190)","v":171},{"$f":"IFERROR(MATCH(Hist_Tab[[#This Row],[Ref]],Medel_T[NrX],0),1)","v":1},{"$f":"INT((ROW(Hist_Tab[[#This Row],[Ref]])-ROW(Hist_Tab[[#Headers],[Ref]])-1)/4)+1","v":43},{"$f":"COUNTIF($EY$19:EY190,Hist_Tab[[#This Row],[Ref]])","v":4},{"$f":"IFERROR(INDEX(Medel_T[Start],Hist_Tab[[#This Row],[Ref]]),_xlfn.AGGREGATE(4,6,Medel_T[Start]))","v":"00:00:00"},{"$f":"IFERROR(INDEX(Medel_T[Slut],Hist_Tab[[#This Row],[Ref]]),_xlfn.AGGREGATE(4,6,Medel_T[Slut]))","v":"00:00:00"},{"$f":"IF(EW189=0,Hist_Tab[[#This Row],[ÅrB]],IF(Hist_Tab[[#This Row],[per/p]]<2,Hist_Tab[[#This Row],[ÅrB]],Hist_Tab[[#This Row],[År S]]))","v":"00:00:00"},{"$f":"IF(Hist_Tab[[#This Row],[Rad]:[Rad]]=0,-1,IF($EY191>_xlfn.AGGREGATE(2,6,Medel_T[[Slut]:[Slut]]),0,INDEX(Medel_T[],Hist_Tab[[#This Row],[Ref]:[Ref]],MATCH(Hist_Tab[[#Headers],[HöA T]],Medel_T[#Headers],0))))","v":0},{"$f":"IF(Hist_Tab[[#This Row],[Rad]:[Rad]]=0,0,IF($EY191>_xlfn.AGGREGATE(2,6,Medel_T[[Slut]:[Slut]]),0,INDEX(Medel_T[],Hist_Tab[[#This Row],[Ref]:[Ref]],MATCH(Hist_Tab[[#Headers],[AöA T]],Medel_T[#Headers],0))))","v":0},{"$f":"IF(Hist_Tab[[#This Row],[Rad]:[Rad]]=0,0,IF($EY191>_xlfn.AGGREGATE(2,6,Medel_T[[Slut]:[Slut]]),0,INDEX(Medel_T[],Hist_Tab[[#This Row],[Ref]:[Ref]],MATCH(Hist_Tab[[#Headers],[4AM T]],Medel_T[#Headers],0))))","v":0},{"$f":"IF(Hist_Tab[[#This Row],[Rad]:[Rad]]=0,0,IF($EY191>_xlfn.AGGREGATE(2,6,Medel_T[[Slut]:[Slut]]),0,INDEX(Medel_T[],Hist_Tab[[#This Row],[Ref]:[Ref]],MATCH(Hist_Tab[[#Headers],[15AM T]],Medel_T[#Headers],0))))","v":0},{"$f":"IF(Hist_Tab[[#This Row],[Rad]:[Rad]]=0,0,IF($EY191>_xlfn.AGGREGATE(2,6,Medel_T[[Slut]:[Slut]]),0,INDEX(Medel_T[],Hist_Tab[[#This Row],[Ref]:[Ref]],MATCH(Hist_Tab[[#Headers],[20-10D T]],Medel_T[#Headers],0))))","v":0}]
[null,null,null,null,null,null,null,null,null,null,null,null,null,null,null,null,null,null,null,null,null,null,null,null,null,null,null,null,null,null,null,null,null,null,null,null,null,null,null,null,null,null,null,null,null,null,null,null,null,null,null,null,null,null,null,null,null,null,null,null,null,null,null,null,null,null,null,null,null,null,null,null,null,null,null,null,null,null,null,null,null,null,null,null,null,null,null,null,null,null,null,null,null,null,null,null,null,null,null,null,null,null,null,null,null,null,null,null,null,null,null,null,null,null,null,null,null,null,null,null,null,null,null,null,null,null,null,null,null,null,null,null,null,null,null,null,null,null,null,null,null,null,null,null,null,null,null,null,null,null,null,null,{"$f":"ROWS($EW$20:EW191)","v":172},{"$f":"IFERROR(MATCH(Hist_Tab[[#This Row],[Ref]],Medel_T[NrX],0),1)","v":1},{"$f":"INT((ROW(Hist_Tab[[#This Row],[Ref]])-ROW(Hist_Tab[[#Headers],[Ref]])-1)/4)+1","v":44},{"$f":"COUNTIF($EY$19:EY191,Hist_Tab[[#This Row],[Ref]])","v":1},{"$f":"IFERROR(INDEX(Medel_T[Start],Hist_Tab[[#This Row],[Ref]]),_xlfn.AGGREGATE(4,6,Medel_T[Start]))","v":"00:00:00"},{"$f":"IFERROR(INDEX(Medel_T[Slut],Hist_Tab[[#This Row],[Ref]]),_xlfn.AGGREGATE(4,6,Medel_T[Slut]))","v":"00:00:00"},{"$f":"IF(EW190=0,Hist_Tab[[#This Row],[ÅrB]],IF(Hist_Tab[[#This Row],[per/p]]<2,Hist_Tab[[#This Row],[ÅrB]],Hist_Tab[[#This Row],[År S]]))","v":"00:00:00"},{"$f":"IF(Hist_Tab[[#This Row],[Rad]:[Rad]]=0,-1,IF($EY192>_xlfn.AGGREGATE(2,6,Medel_T[[Slut]:[Slut]]),0,INDEX(Medel_T[],Hist_Tab[[#This Row],[Ref]:[Ref]],MATCH(Hist_Tab[[#Headers],[HöA T]],Medel_T[#Headers],0))))","v":0},{"$f":"IF(Hist_Tab[[#This Row],[Rad]:[Rad]]=0,0,IF($EY192>_xlfn.AGGREGATE(2,6,Medel_T[[Slut]:[Slut]]),0,INDEX(Medel_T[],Hist_Tab[[#This Row],[Ref]:[Ref]],MATCH(Hist_Tab[[#Headers],[AöA T]],Medel_T[#Headers],0))))","v":0},{"$f":"IF(Hist_Tab[[#This Row],[Rad]:[Rad]]=0,0,IF($EY192>_xlfn.AGGREGATE(2,6,Medel_T[[Slut]:[Slut]]),0,INDEX(Medel_T[],Hist_Tab[[#This Row],[Ref]:[Ref]],MATCH(Hist_Tab[[#Headers],[4AM T]],Medel_T[#Headers],0))))","v":0},{"$f":"IF(Hist_Tab[[#This Row],[Rad]:[Rad]]=0,0,IF($EY192>_xlfn.AGGREGATE(2,6,Medel_T[[Slut]:[Slut]]),0,INDEX(Medel_T[],Hist_Tab[[#This Row],[Ref]:[Ref]],MATCH(Hist_Tab[[#Headers],[15AM T]],Medel_T[#Headers],0))))","v":0},{"$f":"IF(Hist_Tab[[#This Row],[Rad]:[Rad]]=0,0,IF($EY192>_xlfn.AGGREGATE(2,6,Medel_T[[Slut]:[Slut]]),0,INDEX(Medel_T[],Hist_Tab[[#This Row],[Ref]:[Ref]],MATCH(Hist_Tab[[#Headers],[20-10D T]],Medel_T[#Headers],0))))","v":0}]
[null,null,null,null,null,null,null,null,null,null,null,null,null,null,null,null,null,null,null,null,null,null,null,null,null,null,null,null,null,null,null,null,null,null,null,null,null,null,null,null,null,null,null,null,null,null,null,null,null,null,null,null,null,null,null,null,null,null,null,null,null,null,null,null,null,null,null,null,null,null,null,null,null,null,null,null,null,null,null,null,null,null,null,null,null,null,null,null,null,null,null,null,null,null,null,null,null,null,null,null,null,null,null,null,null,null,null,null,null,null,null,null,null,null,null,null,null,null,null,null,null,null,null,null,null,null,null,null,null,null,null,null,null,null,null,null,null,null,null,null,null,null,null,null,null,null,null,null,null,null,null,null,{"$f":"ROWS($EW$20:EW192)","v":173},{"$f":"IFERROR(MATCH(Hist_Tab[[#This Row],[Ref]],Medel_T[NrX],0),1)","v":1},{"$f":"INT((ROW(Hist_Tab[[#This Row],[Ref]])-ROW(Hist_Tab[[#Headers],[Ref]])-1)/4)+1","v":44},{"$f":"COUNTIF($EY$19:EY192,Hist_Tab[[#This Row],[Ref]])","v":2},{"$f":"IFERROR(INDEX(Medel_T[Start],Hist_Tab[[#This Row],[Ref]]),_xlfn.AGGREGATE(4,6,Medel_T[Start]))","v":"00:00:00"},{"$f":"IFERROR(INDEX(Medel_T[Slut],Hist_Tab[[#This Row],[Ref]]),_xlfn.AGGREGATE(4,6,Medel_T[Slut]))","v":"00:00:00"},{"$f":"IF(EW191=0,Hist_Tab[[#This Row],[ÅrB]],IF(Hist_Tab[[#This Row],[per/p]]<2,Hist_Tab[[#This Row],[ÅrB]],Hist_Tab[[#This Row],[År S]]))","v":"00:00:00"},{"$f":"IF(Hist_Tab[[#This Row],[Rad]:[Rad]]=0,-1,IF($EY193>_xlfn.AGGREGATE(2,6,Medel_T[[Slut]:[Slut]]),0,INDEX(Medel_T[],Hist_Tab[[#This Row],[Ref]:[Ref]],MATCH(Hist_Tab[[#Headers],[HöA T]],Medel_T[#Headers],0))))","v":0},{"$f":"IF(Hist_Tab[[#This Row],[Rad]:[Rad]]=0,0,IF($EY193>_xlfn.AGGREGATE(2,6,Medel_T[[Slut]:[Slut]]),0,INDEX(Medel_T[],Hist_Tab[[#This Row],[Ref]:[Ref]],MATCH(Hist_Tab[[#Headers],[AöA T]],Medel_T[#Headers],0))))","v":0},{"$f":"IF(Hist_Tab[[#This Row],[Rad]:[Rad]]=0,0,IF($EY193>_xlfn.AGGREGATE(2,6,Medel_T[[Slut]:[Slut]]),0,INDEX(Medel_T[],Hist_Tab[[#This Row],[Ref]:[Ref]],MATCH(Hist_Tab[[#Headers],[4AM T]],Medel_T[#Headers],0))))","v":0},{"$f":"IF(Hist_Tab[[#This Row],[Rad]:[Rad]]=0,0,IF($EY193>_xlfn.AGGREGATE(2,6,Medel_T[[Slut]:[Slut]]),0,INDEX(Medel_T[],Hist_Tab[[#This Row],[Ref]:[Ref]],MATCH(Hist_Tab[[#Headers],[15AM T]],Medel_T[#Headers],0))))","v":0},{"$f":"IF(Hist_Tab[[#This Row],[Rad]:[Rad]]=0,0,IF($EY193>_xlfn.AGGREGATE(2,6,Medel_T[[Slut]:[Slut]]),0,INDEX(Medel_T[],Hist_Tab[[#This Row],[Ref]:[Ref]],MATCH(Hist_Tab[[#Headers],[20-10D T]],Medel_T[#Headers],0))))","v":0}]
[null,null,null,null,null,null,null,null,null,null,null,null,null,null,null,null,null,null,null,null,null,null,null,null,null,null,null,null,null,null,null,null,null,null,null,null,null,null,null,null,null,null,null,null,null,null,null,null,null,null,null,null,null,null,null,null,null,null,null,null,null,null,null,null,null,null,null,null,null,null,null,null,null,null,null,null,null,null,null,null,null,null,null,null,null,null,null,null,null,null,null,null,null,null,null,null,null,null,null,null,null,null,null,null,null,null,null,null,null,null,null,null,null,null,null,null,null,null,null,null,null,null,null,null,null,null,null,null,null,null,null,null,null,null,null,null,null,null,null,null,null,null,null,null,null,null,null,null,null,null,null,null,{"$f":"ROWS($EW$20:EW193)","v":174},{"$f":"IFERROR(MATCH(Hist_Tab[[#This Row],[Ref]],Medel_T[NrX],0),1)","v":1},{"$f":"INT((ROW(Hist_Tab[[#This Row],[Ref]])-ROW(Hist_Tab[[#Headers],[Ref]])-1)/4)+1","v":44},{"$f":"COUNTIF($EY$19:EY193,Hist_Tab[[#This Row],[Ref]])","v":3},{"$f":"IFERROR(INDEX(Medel_T[Start],Hist_Tab[[#This Row],[Ref]]),_xlfn.AGGREGATE(4,6,Medel_T[Start]))","v":"00:00:00"},{"$f":"IFERROR(INDEX(Medel_T[Slut],Hist_Tab[[#This Row],[Ref]]),_xlfn.AGGREGATE(4,6,Medel_T[Slut]))","v":"00:00:00"},{"$f":"IF(EW192=0,Hist_Tab[[#This Row],[ÅrB]],IF(Hist_Tab[[#This Row],[per/p]]<2,Hist_Tab[[#This Row],[ÅrB]],Hist_Tab[[#This Row],[År S]]))","v":"00:00:00"},{"$f":"IF(Hist_Tab[[#This Row],[Rad]:[Rad]]=0,-1,IF($EY194>_xlfn.AGGREGATE(2,6,Medel_T[[Slut]:[Slut]]),0,INDEX(Medel_T[],Hist_Tab[[#This Row],[Ref]:[Ref]],MATCH(Hist_Tab[[#Headers],[HöA T]],Medel_T[#Headers],0))))","v":0},{"$f":"IF(Hist_Tab[[#This Row],[Rad]:[Rad]]=0,0,IF($EY194>_xlfn.AGGREGATE(2,6,Medel_T[[Slut]:[Slut]]),0,INDEX(Medel_T[],Hist_Tab[[#This Row],[Ref]:[Ref]],MATCH(Hist_Tab[[#Headers],[AöA T]],Medel_T[#Headers],0))))","v":0},{"$f":"IF(Hist_Tab[[#This Row],[Rad]:[Rad]]=0,0,IF($EY194>_xlfn.AGGREGATE(2,6,Medel_T[[Slut]:[Slut]]),0,INDEX(Medel_T[],Hist_Tab[[#This Row],[Ref]:[Ref]],MATCH(Hist_Tab[[#Headers],[4AM T]],Medel_T[#Headers],0))))","v":0},{"$f":"IF(Hist_Tab[[#This Row],[Rad]:[Rad]]=0,0,IF($EY194>_xlfn.AGGREGATE(2,6,Medel_T[[Slut]:[Slut]]),0,INDEX(Medel_T[],Hist_Tab[[#This Row],[Ref]:[Ref]],MATCH(Hist_Tab[[#Headers],[15AM T]],Medel_T[#Headers],0))))","v":0},{"$f":"IF(Hist_Tab[[#This Row],[Rad]:[Rad]]=0,0,IF($EY194>_xlfn.AGGREGATE(2,6,Medel_T[[Slut]:[Slut]]),0,INDEX(Medel_T[],Hist_Tab[[#This Row],[Ref]:[Ref]],MATCH(Hist_Tab[[#Headers],[20-10D T]],Medel_T[#Headers],0))))","v":0}]
[null,null,null,null,null,null,null,null,null,null,null,null,null,null,null,null,null,null,null,null,null,null,null,null,null,null,null,null,null,null,null,null,null,null,null,null,null,null,null,null,null,null,null,null,null,null,null,null,null,null,null,null,null,null,null,null,null,null,null,null,null,null,null,null,null,null,null,null,null,null,null,null,null,null,null,null,null,null,null,null,null,null,null,null,null,null,null,null,null,null,null,null,null,null,null,null,null,null,null,null,null,null,null,null,null,null,null,null,null,null,null,null,null,null,null,null,null,null,null,null,null,null,null,null,null,null,null,null,null,null,null,null,null,null,null,null,null,null,null,null,null,null,null,null,null,null,null,null,null,null,null,null,{"$f":"ROWS($EW$20:EW194)","v":175},{"$f":"IFERROR(MATCH(Hist_Tab[[#This Row],[Ref]],Medel_T[NrX],0),1)","v":1},{"$f":"INT((ROW(Hist_Tab[[#This Row],[Ref]])-ROW(Hist_Tab[[#Headers],[Ref]])-1)/4)+1","v":44},{"$f":"COUNTIF($EY$19:EY194,Hist_Tab[[#This Row],[Ref]])","v":4},{"$f":"IFERROR(INDEX(Medel_T[Start],Hist_Tab[[#This Row],[Ref]]),_xlfn.AGGREGATE(4,6,Medel_T[Start]))","v":"00:00:00"},{"$f":"IFERROR(INDEX(Medel_T[Slut],Hist_Tab[[#This Row],[Ref]]),_xlfn.AGGREGATE(4,6,Medel_T[Slut]))","v":"00:00:00"},{"$f":"IF(EW193=0,Hist_Tab[[#This Row],[ÅrB]],IF(Hist_Tab[[#This Row],[per/p]]<2,Hist_Tab[[#This Row],[ÅrB]],Hist_Tab[[#This Row],[År S]]))","v":"00:00:00"},{"$f":"IF(Hist_Tab[[#This Row],[Rad]:[Rad]]=0,-1,IF($EY195>_xlfn.AGGREGATE(2,6,Medel_T[[Slut]:[Slut]]),0,INDEX(Medel_T[],Hist_Tab[[#This Row],[Ref]:[Ref]],MATCH(Hist_Tab[[#Headers],[HöA T]],Medel_T[#Headers],0))))","v":0},{"$f":"IF(Hist_Tab[[#This Row],[Rad]:[Rad]]=0,0,IF($EY195>_xlfn.AGGREGATE(2,6,Medel_T[[Slut]:[Slut]]),0,INDEX(Medel_T[],Hist_Tab[[#This Row],[Ref]:[Ref]],MATCH(Hist_Tab[[#Headers],[AöA T]],Medel_T[#Headers],0))))","v":0},{"$f":"IF(Hist_Tab[[#This Row],[Rad]:[Rad]]=0,0,IF($EY195>_xlfn.AGGREGATE(2,6,Medel_T[[Slut]:[Slut]]),0,INDEX(Medel_T[],Hist_Tab[[#This Row],[Ref]:[Ref]],MATCH(Hist_Tab[[#Headers],[4AM T]],Medel_T[#Headers],0))))","v":0},{"$f":"IF(Hist_Tab[[#This Row],[Rad]:[Rad]]=0,0,IF($EY195>_xlfn.AGGREGATE(2,6,Medel_T[[Slut]:[Slut]]),0,INDEX(Medel_T[],Hist_Tab[[#This Row],[Ref]:[Ref]],MATCH(Hist_Tab[[#Headers],[15AM T]],Medel_T[#Headers],0))))","v":0},{"$f":"IF(Hist_Tab[[#This Row],[Rad]:[Rad]]=0,0,IF($EY195>_xlfn.AGGREGATE(2,6,Medel_T[[Slut]:[Slut]]),0,INDEX(Medel_T[],Hist_Tab[[#This Row],[Ref]:[Ref]],MATCH(Hist_Tab[[#Headers],[20-10D T]],Medel_T[#Headers],0))))","v":0}]
[null,null,null,null,null,null,null,null,null,null,null,null,null,null,null,null,null,null,null,null,null,null,null,null,null,null,null,null,null,null,null,null,null,null,null,null,null,null,null,null,null,null,null,null,null,null,null,null,null,null,null,null,null,null,null,null,null,null,null,null,null,null,null,null,null,null,null,null,null,null,null,null,null,null,null,null,null,null,null,null,null,null,null,null,null,null,null,null,null,null,null,null,null,null,null,null,null,null,null,null,null,null,null,null,null,null,null,null,null,null,null,null,null,null,null,null,null,null,null,null,null,null,null,null,null,null,null,null,null,null,null,null,null,null,null,null,null,null,null,null,null,null,null,null,null,null,null,null,null,null,null,null,{"$f":"ROWS($EW$20:EW195)","v":176},{"$f":"IFERROR(MATCH(Hist_Tab[[#This Row],[Ref]],Medel_T[NrX],0),1)","v":1},{"$f":"INT((ROW(Hist_Tab[[#This Row],[Ref]])-ROW(Hist_Tab[[#Headers],[Ref]])-1)/4)+1","v":45},{"$f":"COUNTIF($EY$19:EY195,Hist_Tab[[#This Row],[Ref]])","v":1},{"$f":"IFERROR(INDEX(Medel_T[Start],Hist_Tab[[#This Row],[Ref]]),_xlfn.AGGREGATE(4,6,Medel_T[Start]))","v":"00:00:00"},{"$f":"IFERROR(INDEX(Medel_T[Slut],Hist_Tab[[#This Row],[Ref]]),_xlfn.AGGREGATE(4,6,Medel_T[Slut]))","v":"00:00:00"},{"$f":"IF(EW194=0,Hist_Tab[[#This Row],[ÅrB]],IF(Hist_Tab[[#This Row],[per/p]]<2,Hist_Tab[[#This Row],[ÅrB]],Hist_Tab[[#This Row],[År S]]))","v":"00:00:00"},{"$f":"IF(Hist_Tab[[#This Row],[Rad]:[Rad]]=0,-1,IF($EY196>_xlfn.AGGREGATE(2,6,Medel_T[[Slut]:[Slut]]),0,INDEX(Medel_T[],Hist_Tab[[#This Row],[Ref]:[Ref]],MATCH(Hist_Tab[[#Headers],[HöA T]],Medel_T[#Headers],0))))","v":0},{"$f":"IF(Hist_Tab[[#This Row],[Rad]:[Rad]]=0,0,IF($EY196>_xlfn.AGGREGATE(2,6,Medel_T[[Slut]:[Slut]]),0,INDEX(Medel_T[],Hist_Tab[[#This Row],[Ref]:[Ref]],MATCH(Hist_Tab[[#Headers],[AöA T]],Medel_T[#Headers],0))))","v":0},{"$f":"IF(Hist_Tab[[#This Row],[Rad]:[Rad]]=0,0,IF($EY196>_xlfn.AGGREGATE(2,6,Medel_T[[Slut]:[Slut]]),0,INDEX(Medel_T[],Hist_Tab[[#This Row],[Ref]:[Ref]],MATCH(Hist_Tab[[#Headers],[4AM T]],Medel_T[#Headers],0))))","v":0},{"$f":"IF(Hist_Tab[[#This Row],[Rad]:[Rad]]=0,0,IF($EY196>_xlfn.AGGREGATE(2,6,Medel_T[[Slut]:[Slut]]),0,INDEX(Medel_T[],Hist_Tab[[#This Row],[Ref]:[Ref]],MATCH(Hist_Tab[[#Headers],[15AM T]],Medel_T[#Headers],0))))","v":0},{"$f":"IF(Hist_Tab[[#This Row],[Rad]:[Rad]]=0,0,IF($EY196>_xlfn.AGGREGATE(2,6,Medel_T[[Slut]:[Slut]]),0,INDEX(Medel_T[],Hist_Tab[[#This Row],[Ref]:[Ref]],MATCH(Hist_Tab[[#Headers],[20-10D T]],Medel_T[#Headers],0))))","v":0}]
[null,null,null,null,null,null,null,null,null,null,null,null,null,null,null,null,null,null,null,null,null,null,null,null,null,null,null,null,null,null,null,null,null,null,null,null,null,null,null,null,null,null,null,null,null,null,null,null,null,null,null,null,null,null,null,null,null,null,null,null,null,null,null,null,null,null,null,null,null,null,null,null,null,null,null,null,null,null,null,null,null,null,null,null,null,null,null,null,null,null,null,null,null,null,null,null,null,null,null,null,null,null,null,null,null,null,null,null,null,null,null,null,null,null,null,null,null,null,null,null,null,null,null,null,null,null,null,null,null,null,null,null,null,null,null,null,null,null,null,null,null,null,null,null,null,null,null,null,null,null,null,null,{"$f":"ROWS($EW$20:EW196)","v":177},{"$f":"IFERROR(MATCH(Hist_Tab[[#This Row],[Ref]],Medel_T[NrX],0),1)","v":1},{"$f":"INT((ROW(Hist_Tab[[#This Row],[Ref]])-ROW(Hist_Tab[[#Headers],[Ref]])-1)/4)+1","v":45},{"$f":"COUNTIF($EY$19:EY196,Hist_Tab[[#This Row],[Ref]])","v":2},{"$f":"IFERROR(INDEX(Medel_T[Start],Hist_Tab[[#This Row],[Ref]]),_xlfn.AGGREGATE(4,6,Medel_T[Start]))","v":"00:00:00"},{"$f":"IFERROR(INDEX(Medel_T[Slut],Hist_Tab[[#This Row],[Ref]]),_xlfn.AGGREGATE(4,6,Medel_T[Slut]))","v":"00:00:00"},{"$f":"IF(EW195=0,Hist_Tab[[#This Row],[ÅrB]],IF(Hist_Tab[[#This Row],[per/p]]<2,Hist_Tab[[#This Row],[ÅrB]],Hist_Tab[[#This Row],[År S]]))","v":"00:00:00"},{"$f":"IF(Hist_Tab[[#This Row],[Rad]:[Rad]]=0,-1,IF($EY197>_xlfn.AGGREGATE(2,6,Medel_T[[Slut]:[Slut]]),0,INDEX(Medel_T[],Hist_Tab[[#This Row],[Ref]:[Ref]],MATCH(Hist_Tab[[#Headers],[HöA T]],Medel_T[#Headers],0))))","v":0},{"$f":"IF(Hist_Tab[[#This Row],[Rad]:[Rad]]=0,0,IF($EY197>_xlfn.AGGREGATE(2,6,Medel_T[[Slut]:[Slut]]),0,INDEX(Medel_T[],Hist_Tab[[#This Row],[Ref]:[Ref]],MATCH(Hist_Tab[[#Headers],[AöA T]],Medel_T[#Headers],0))))","v":0},{"$f":"IF(Hist_Tab[[#This Row],[Rad]:[Rad]]=0,0,IF($EY197>_xlfn.AGGREGATE(2,6,Medel_T[[Slut]:[Slut]]),0,INDEX(Medel_T[],Hist_Tab[[#This Row],[Ref]:[Ref]],MATCH(Hist_Tab[[#Headers],[4AM T]],Medel_T[#Headers],0))))","v":0},{"$f":"IF(Hist_Tab[[#This Row],[Rad]:[Rad]]=0,0,IF($EY197>_xlfn.AGGREGATE(2,6,Medel_T[[Slut]:[Slut]]),0,INDEX(Medel_T[],Hist_Tab[[#This Row],[Ref]:[Ref]],MATCH(Hist_Tab[[#Headers],[15AM T]],Medel_T[#Headers],0))))","v":0},{"$f":"IF(Hist_Tab[[#This Row],[Rad]:[Rad]]=0,0,IF($EY197>_xlfn.AGGREGATE(2,6,Medel_T[[Slut]:[Slut]]),0,INDEX(Medel_T[],Hist_Tab[[#This Row],[Ref]:[Ref]],MATCH(Hist_Tab[[#Headers],[20-10D T]],Medel_T[#Headers],0))))","v":0}]
[null,null,null,null,null,null,null,null,null,null,null,null,null,null,null,null,null,null,null,null,null,null,null,null,null,null,null,null,null,null,null,null,null,null,null,null,null,null,null,null,null,null,null,null,null,null,null,null,null,null,null,null,null,null,null,null,null,null,null,null,null,null,null,null,null,null,null,null,null,null,null,null,null,null,null,null,null,null,null,null,null,null,null,null,null,null,null,null,null,null,null,null,null,null,null,null,null,null,null,null,null,null,null,null,null,null,null,null,null,null,null,null,null,null,null,null,null,null,null,null,null,null,null,null,null,null,null,null,null,null,null,null,null,null,null,null,null,null,null,null,null,null,null,null,null,null,null,null,null,null,null,null,{"$f":"ROWS($EW$20:EW197)","v":178},{"$f":"IFERROR(MATCH(Hist_Tab[[#This Row],[Ref]],Medel_T[NrX],0),1)","v":1},{"$f":"INT((ROW(Hist_Tab[[#This Row],[Ref]])-ROW(Hist_Tab[[#Headers],[Ref]])-1)/4)+1","v":45},{"$f":"COUNTIF($EY$19:EY197,Hist_Tab[[#This Row],[Ref]])","v":3},{"$f":"IFERROR(INDEX(Medel_T[Start],Hist_Tab[[#This Row],[Ref]]),_xlfn.AGGREGATE(4,6,Medel_T[Start]))","v":"00:00:00"},{"$f":"IFERROR(INDEX(Medel_T[Slut],Hist_Tab[[#This Row],[Ref]]),_xlfn.AGGREGATE(4,6,Medel_T[Slut]))","v":"00:00:00"},{"$f":"IF(EW196=0,Hist_Tab[[#This Row],[ÅrB]],IF(Hist_Tab[[#This Row],[per/p]]<2,Hist_Tab[[#This Row],[ÅrB]],Hist_Tab[[#This Row],[År S]]))","v":"00:00:00"},{"$f":"IF(Hist_Tab[[#This Row],[Rad]:[Rad]]=0,-1,IF($EY198>_xlfn.AGGREGATE(2,6,Medel_T[[Slut]:[Slut]]),0,INDEX(Medel_T[],Hist_Tab[[#This Row],[Ref]:[Ref]],MATCH(Hist_Tab[[#Headers],[HöA T]],Medel_T[#Headers],0))))","v":0},{"$f":"IF(Hist_Tab[[#This Row],[Rad]:[Rad]]=0,0,IF($EY198>_xlfn.AGGREGATE(2,6,Medel_T[[Slut]:[Slut]]),0,INDEX(Medel_T[],Hist_Tab[[#This Row],[Ref]:[Ref]],MATCH(Hist_Tab[[#Headers],[AöA T]],Medel_T[#Headers],0))))","v":0},{"$f":"IF(Hist_Tab[[#This Row],[Rad]:[Rad]]=0,0,IF($EY198>_xlfn.AGGREGATE(2,6,Medel_T[[Slut]:[Slut]]),0,INDEX(Medel_T[],Hist_Tab[[#This Row],[Ref]:[Ref]],MATCH(Hist_Tab[[#Headers],[4AM T]],Medel_T[#Headers],0))))","v":0},{"$f":"IF(Hist_Tab[[#This Row],[Rad]:[Rad]]=0,0,IF($EY198>_xlfn.AGGREGATE(2,6,Medel_T[[Slut]:[Slut]]),0,INDEX(Medel_T[],Hist_Tab[[#This Row],[Ref]:[Ref]],MATCH(Hist_Tab[[#Headers],[15AM T]],Medel_T[#Headers],0))))","v":0},{"$f":"IF(Hist_Tab[[#This Row],[Rad]:[Rad]]=0,0,IF($EY198>_xlfn.AGGREGATE(2,6,Medel_T[[Slut]:[Slut]]),0,INDEX(Medel_T[],Hist_Tab[[#This Row],[Ref]:[Ref]],MATCH(Hist_Tab[[#Headers],[20-10D T]],Medel_T[#Headers],0))))","v":0}]
[null,null,null,null,null,null,null,null,null,null,null,null,null,null,null,null,null,null,null,null,null,null,null,null,null,null,null,null,null,null,null,null,null,null,null,null,null,null,null,null,null,null,null,null,null,null,null,null,null,null,null,null,null,null,null,null,null,null,null,null,null,null,null,null,null,null,null,null,null,null,null,null,null,null,null,null,null,null,null,null,null,null,null,null,null,null,null,null,null,null,null,null,null,null,null,null,null,null,null,null,null,null,null,null,null,null,null,null,null,null,null,null,null,null,null,null,null,null,null,null,null,null,null,null,null,null,null,null,null,null,null,null,null,null,null,null,null,null,null,null,null,null,null,null,null,null,null,null,null,null,null,null,{"$f":"ROWS($EW$20:EW198)","v":179},{"$f":"IFERROR(MATCH(Hist_Tab[[#This Row],[Ref]],Medel_T[NrX],0),1)","v":1},{"$f":"INT((ROW(Hist_Tab[[#This Row],[Ref]])-ROW(Hist_Tab[[#Headers],[Ref]])-1)/4)+1","v":45},{"$f":"COUNTIF($EY$19:EY198,Hist_Tab[[#This Row],[Ref]])","v":4},{"$f":"IFERROR(INDEX(Medel_T[Start],Hist_Tab[[#This Row],[Ref]]),_xlfn.AGGREGATE(4,6,Medel_T[Start]))","v":"00:00:00"},{"$f":"IFERROR(INDEX(Medel_T[Slut],Hist_Tab[[#This Row],[Ref]]),_xlfn.AGGREGATE(4,6,Medel_T[Slut]))","v":"00:00:00"},{"$f":"IF(EW197=0,Hist_Tab[[#This Row],[ÅrB]],IF(Hist_Tab[[#This Row],[per/p]]<2,Hist_Tab[[#This Row],[ÅrB]],Hist_Tab[[#This Row],[År S]]))","v":"00:00:00"},{"$f":"IF(Hist_Tab[[#This Row],[Rad]:[Rad]]=0,-1,IF($EY199>_xlfn.AGGREGATE(2,6,Medel_T[[Slut]:[Slut]]),0,INDEX(Medel_T[],Hist_Tab[[#This Row],[Ref]:[Ref]],MATCH(Hist_Tab[[#Headers],[HöA T]],Medel_T[#Headers],0))))","v":0},{"$f":"IF(Hist_Tab[[#This Row],[Rad]:[Rad]]=0,0,IF($EY199>_xlfn.AGGREGATE(2,6,Medel_T[[Slut]:[Slut]]),0,INDEX(Medel_T[],Hist_Tab[[#This Row],[Ref]:[Ref]],MATCH(Hist_Tab[[#Headers],[AöA T]],Medel_T[#Headers],0))))","v":0},{"$f":"IF(Hist_Tab[[#This Row],[Rad]:[Rad]]=0,0,IF($EY199>_xlfn.AGGREGATE(2,6,Medel_T[[Slut]:[Slut]]),0,INDEX(Medel_T[],Hist_Tab[[#This Row],[Ref]:[Ref]],MATCH(Hist_Tab[[#Headers],[4AM T]],Medel_T[#Headers],0))))","v":0},{"$f":"IF(Hist_Tab[[#This Row],[Rad]:[Rad]]=0,0,IF($EY199>_xlfn.AGGREGATE(2,6,Medel_T[[Slut]:[Slut]]),0,INDEX(Medel_T[],Hist_Tab[[#This Row],[Ref]:[Ref]],MATCH(Hist_Tab[[#Headers],[15AM T]],Medel_T[#Headers],0))))","v":0},{"$f":"IF(Hist_Tab[[#This Row],[Rad]:[Rad]]=0,0,IF($EY199>_xlfn.AGGREGATE(2,6,Medel_T[[Slut]:[Slut]]),0,INDEX(Medel_T[],Hist_Tab[[#This Row],[Ref]:[Ref]],MATCH(Hist_Tab[[#Headers],[20-10D T]],Medel_T[#Headers],0))))","v":0}]
[null,null,null,null,null,null,null,null,null,null,null,null,null,null,null,null,null,null,null,null,null,null,null,null,null,null,null,null,null,null,null,null,null,null,null,null,null,null,null,null,null,null,null,null,null,null,null,null,null,null,null,null,null,null,null,null,null,null,null,null,null,null,null,null,null,null,null,null,null,null,null,null,null,null,null,null,null,null,null,null,null,null,null,null,null,null,null,null,null,null,null,null,null,null,null,null,null,null,null,null,null,null,null,null,null,null,null,null,null,null,null,null,null,null,null,null,null,null,null,null,null,null,null,null,null,null,null,null,null,null,null,null,null,null,null,null,null,null,null,null,null,null,null,null,null,null,null,null,null,null,null,null,{"$f":"ROWS($EW$20:EW199)","v":180},{"$f":"IFERROR(MATCH(Hist_Tab[[#This Row],[Ref]],Medel_T[NrX],0),1)","v":1},{"$f":"INT((ROW(Hist_Tab[[#This Row],[Ref]])-ROW(Hist_Tab[[#Headers],[Ref]])-1)/4)+1","v":46},{"$f":"COUNTIF($EY$19:EY199,Hist_Tab[[#This Row],[Ref]])","v":1},{"$f":"IFERROR(INDEX(Medel_T[Start],Hist_Tab[[#This Row],[Ref]]),_xlfn.AGGREGATE(4,6,Medel_T[Start]))","v":"00:00:00"},{"$f":"IFERROR(INDEX(Medel_T[Slut],Hist_Tab[[#This Row],[Ref]]),_xlfn.AGGREGATE(4,6,Medel_T[Slut]))","v":"00:00:00"},{"$f":"IF(EW198=0,Hist_Tab[[#This Row],[ÅrB]],IF(Hist_Tab[[#This Row],[per/p]]<2,Hist_Tab[[#This Row],[ÅrB]],Hist_Tab[[#This Row],[År S]]))","v":"00:00:00"},{"$f":"IF(Hist_Tab[[#This Row],[Rad]:[Rad]]=0,-1,IF($EY200>_xlfn.AGGREGATE(2,6,Medel_T[[Slut]:[Slut]]),0,INDEX(Medel_T[],Hist_Tab[[#This Row],[Ref]:[Ref]],MATCH(Hist_Tab[[#Headers],[HöA T]],Medel_T[#Headers],0))))","v":0},{"$f":"IF(Hist_Tab[[#This Row],[Rad]:[Rad]]=0,0,IF($EY200>_xlfn.AGGREGATE(2,6,Medel_T[[Slut]:[Slut]]),0,INDEX(Medel_T[],Hist_Tab[[#This Row],[Ref]:[Ref]],MATCH(Hist_Tab[[#Headers],[AöA T]],Medel_T[#Headers],0))))","v":0},{"$f":"IF(Hist_Tab[[#This Row],[Rad]:[Rad]]=0,0,IF($EY200>_xlfn.AGGREGATE(2,6,Medel_T[[Slut]:[Slut]]),0,INDEX(Medel_T[],Hist_Tab[[#This Row],[Ref]:[Ref]],MATCH(Hist_Tab[[#Headers],[4AM T]],Medel_T[#Headers],0))))","v":0},{"$f":"IF(Hist_Tab[[#This Row],[Rad]:[Rad]]=0,0,IF($EY200>_xlfn.AGGREGATE(2,6,Medel_T[[Slut]:[Slut]]),0,INDEX(Medel_T[],Hist_Tab[[#This Row],[Ref]:[Ref]],MATCH(Hist_Tab[[#Headers],[15AM T]],Medel_T[#Headers],0))))","v":0},{"$f":"IF(Hist_Tab[[#This Row],[Rad]:[Rad]]=0,0,IF($EY200>_xlfn.AGGREGATE(2,6,Medel_T[[Slut]:[Slut]]),0,INDEX(Medel_T[],Hist_Tab[[#This Row],[Ref]:[Ref]],MATCH(Hist_Tab[[#Headers],[20-10D T]],Medel_T[#Headers],0))))","v":0}]
[null,null,null,null,null,null,null,null,null,null,null,null,null,null,null,null,null,null,null,null,null,null,null,null,null,null,null,null,null,null,null,null,null,null,null,null,null,null,null,null,null,null,null,null,null,null,null,null,null,null,null,null,null,null,null,null,null,null,null,null,null,null,null,null,null,null,null,null,null,null,null,null,null,null,null,null,null,null,null,null,null,null,null,null,null,null,null,null,null,null,null,null,null,null,null,null,null,null,null,null,null,null,null,null,null,null,null,null,null,null,null,null,null,null,null,null,null,null,null,null,null,null,null,null,null,null,null,null,null,null,null,null,null,null,null,null,null,null,null,null,null,null,null,null,null,null,null,null,null,null,null,null,{"$f":"ROWS($EW$20:EW200)","v":181},{"$f":"IFERROR(MATCH(Hist_Tab[[#This Row],[Ref]],Medel_T[NrX],0),1)","v":1},{"$f":"INT((ROW(Hist_Tab[[#This Row],[Ref]])-ROW(Hist_Tab[[#Headers],[Ref]])-1)/4)+1","v":46},{"$f":"COUNTIF($EY$19:EY200,Hist_Tab[[#This Row],[Ref]])","v":2},{"$f":"IFERROR(INDEX(Medel_T[Start],Hist_Tab[[#This Row],[Ref]]),_xlfn.AGGREGATE(4,6,Medel_T[Start]))","v":"00:00:00"},{"$f":"IFERROR(INDEX(Medel_T[Slut],Hist_Tab[[#This Row],[Ref]]),_xlfn.AGGREGATE(4,6,Medel_T[Slut]))","v":"00:00:00"},{"$f":"IF(EW199=0,Hist_Tab[[#This Row],[ÅrB]],IF(Hist_Tab[[#This Row],[per/p]]<2,Hist_Tab[[#This Row],[ÅrB]],Hist_Tab[[#This Row],[År S]]))","v":"00:00:00"},{"$f":"IF(Hist_Tab[[#This Row],[Rad]:[Rad]]=0,-1,IF($EY201>_xlfn.AGGREGATE(2,6,Medel_T[[Slut]:[Slut]]),0,INDEX(Medel_T[],Hist_Tab[[#This Row],[Ref]:[Ref]],MATCH(Hist_Tab[[#Headers],[HöA T]],Medel_T[#Headers],0))))","v":0},{"$f":"IF(Hist_Tab[[#This Row],[Rad]:[Rad]]=0,0,IF($EY201>_xlfn.AGGREGATE(2,6,Medel_T[[Slut]:[Slut]]),0,INDEX(Medel_T[],Hist_Tab[[#This Row],[Ref]:[Ref]],MATCH(Hist_Tab[[#Headers],[AöA T]],Medel_T[#Headers],0))))","v":0},{"$f":"IF(Hist_Tab[[#This Row],[Rad]:[Rad]]=0,0,IF($EY201>_xlfn.AGGREGATE(2,6,Medel_T[[Slut]:[Slut]]),0,INDEX(Medel_T[],Hist_Tab[[#This Row],[Ref]:[Ref]],MATCH(Hist_Tab[[#Headers],[4AM T]],Medel_T[#Headers],0))))","v":0},{"$f":"IF(Hist_Tab[[#This Row],[Rad]:[Rad]]=0,0,IF($EY201>_xlfn.AGGREGATE(2,6,Medel_T[[Slut]:[Slut]]),0,INDEX(Medel_T[],Hist_Tab[[#This Row],[Ref]:[Ref]],MATCH(Hist_Tab[[#Headers],[15AM T]],Medel_T[#Headers],0))))","v":0},{"$f":"IF(Hist_Tab[[#This Row],[Rad]:[Rad]]=0,0,IF($EY201>_xlfn.AGGREGATE(2,6,Medel_T[[Slut]:[Slut]]),0,INDEX(Medel_T[],Hist_Tab[[#This Row],[Ref]:[Ref]],MATCH(Hist_Tab[[#Headers],[20-10D T]],Medel_T[#Headers],0))))","v":0}]
[null,null,null,null,null,null,null,null,null,null,null,null,null,null,null,null,null,null,null,null,null,null,null,null,null,null,null,null,null,null,null,null,null,null,null,null,null,null,null,null,null,null,null,null,null,null,null,null,null,null,null,null,null,null,null,null,null,null,null,null,null,null,null,null,null,null,null,null,null,null,null,null,null,null,null,null,null,null,null,null,null,null,null,null,null,null,null,null,null,null,null,null,null,null,null,null,null,null,null,null,null,null,null,null,null,null,null,null,null,null,null,null,null,null,null,null,null,null,null,null,null,null,null,null,null,null,null,null,null,null,null,null,null,null,null,null,null,null,null,null,null,null,null,null,null,null,null,null,null,null,null,null,{"$f":"ROWS($EW$20:EW201)","v":182},{"$f":"IFERROR(MATCH(Hist_Tab[[#This Row],[Ref]],Medel_T[NrX],0),1)","v":1},{"$f":"INT((ROW(Hist_Tab[[#This Row],[Ref]])-ROW(Hist_Tab[[#Headers],[Ref]])-1)/4)+1","v":46},{"$f":"COUNTIF($EY$19:EY201,Hist_Tab[[#This Row],[Ref]])","v":3},{"$f":"IFERROR(INDEX(Medel_T[Start],Hist_Tab[[#This Row],[Ref]]),_xlfn.AGGREGATE(4,6,Medel_T[Start]))","v":"00:00:00"},{"$f":"IFERROR(INDEX(Medel_T[Slut],Hist_Tab[[#This Row],[Ref]]),_xlfn.AGGREGATE(4,6,Medel_T[Slut]))","v":"00:00:00"},{"$f":"IF(EW200=0,Hist_Tab[[#This Row],[ÅrB]],IF(Hist_Tab[[#This Row],[per/p]]<2,Hist_Tab[[#This Row],[ÅrB]],Hist_Tab[[#This Row],[År S]]))","v":"00:00:00"},{"$f":"IF(Hist_Tab[[#This Row],[Rad]:[Rad]]=0,-1,IF($EY202>_xlfn.AGGREGATE(2,6,Medel_T[[Slut]:[Slut]]),0,INDEX(Medel_T[],Hist_Tab[[#This Row],[Ref]:[Ref]],MATCH(Hist_Tab[[#Headers],[HöA T]],Medel_T[#Headers],0))))","v":0},{"$f":"IF(Hist_Tab[[#This Row],[Rad]:[Rad]]=0,0,IF($EY202>_xlfn.AGGREGATE(2,6,Medel_T[[Slut]:[Slut]]),0,INDEX(Medel_T[],Hist_Tab[[#This Row],[Ref]:[Ref]],MATCH(Hist_Tab[[#Headers],[AöA T]],Medel_T[#Headers],0))))","v":0},{"$f":"IF(Hist_Tab[[#This Row],[Rad]:[Rad]]=0,0,IF($EY202>_xlfn.AGGREGATE(2,6,Medel_T[[Slut]:[Slut]]),0,INDEX(Medel_T[],Hist_Tab[[#This Row],[Ref]:[Ref]],MATCH(Hist_Tab[[#Headers],[4AM T]],Medel_T[#Headers],0))))","v":0},{"$f":"IF(Hist_Tab[[#This Row],[Rad]:[Rad]]=0,0,IF($EY202>_xlfn.AGGREGATE(2,6,Medel_T[[Slut]:[Slut]]),0,INDEX(Medel_T[],Hist_Tab[[#This Row],[Ref]:[Ref]],MATCH(Hist_Tab[[#Headers],[15AM T]],Medel_T[#Headers],0))))","v":0},{"$f":"IF(Hist_Tab[[#This Row],[Rad]:[Rad]]=0,0,IF($EY202>_xlfn.AGGREGATE(2,6,Medel_T[[Slut]:[Slut]]),0,INDEX(Medel_T[],Hist_Tab[[#This Row],[Ref]:[Ref]],MATCH(Hist_Tab[[#Headers],[20-10D T]],Medel_T[#Headers],0))))","v":0}]
[null,null,null,null,null,null,null,null,null,null,null,null,null,null,null,null,null,null,null,null,null,null,null,null,null,null,null,null,null,null,null,null,null,null,null,null,null,null,null,null,null,null,null,null,null,null,null,null,null,null,null,null,null,null,null,null,null,null,null,null,null,null,null,null,null,null,null,null,null,null,null,null,null,null,null,null,null,null,null,null,null,null,null,null,null,null,null,null,null,null,null,null,null,null,null,null,null,null,null,null,null,null,null,null,null,null,null,null,null,null,null,null,null,null,null,null,null,null,null,null,null,null,null,null,null,null,null,null,null,null,null,null,null,null,null,null,null,null,null,null,null,null,null,null,null,null,null,null,null,null,null,null,{"$f":"ROWS($EW$20:EW202)","v":183},{"$f":"IFERROR(MATCH(Hist_Tab[[#This Row],[Ref]],Medel_T[NrX],0),1)","v":1},{"$f":"INT((ROW(Hist_Tab[[#This Row],[Ref]])-ROW(Hist_Tab[[#Headers],[Ref]])-1)/4)+1","v":46},{"$f":"COUNTIF($EY$19:EY202,Hist_Tab[[#This Row],[Ref]])","v":4},{"$f":"IFERROR(INDEX(Medel_T[Start],Hist_Tab[[#This Row],[Ref]]),_xlfn.AGGREGATE(4,6,Medel_T[Start]))","v":"00:00:00"},{"$f":"IFERROR(INDEX(Medel_T[Slut],Hist_Tab[[#This Row],[Ref]]),_xlfn.AGGREGATE(4,6,Medel_T[Slut]))","v":"00:00:00"},{"$f":"IF(EW201=0,Hist_Tab[[#This Row],[ÅrB]],IF(Hist_Tab[[#This Row],[per/p]]<2,Hist_Tab[[#This Row],[ÅrB]],Hist_Tab[[#This Row],[År S]]))","v":"00:00:00"},{"$f":"IF(Hist_Tab[[#This Row],[Rad]:[Rad]]=0,-1,IF($EY203>_xlfn.AGGREGATE(2,6,Medel_T[[Slut]:[Slut]]),0,INDEX(Medel_T[],Hist_Tab[[#This Row],[Ref]:[Ref]],MATCH(Hist_Tab[[#Headers],[HöA T]],Medel_T[#Headers],0))))","v":0},{"$f":"IF(Hist_Tab[[#This Row],[Rad]:[Rad]]=0,0,IF($EY203>_xlfn.AGGREGATE(2,6,Medel_T[[Slut]:[Slut]]),0,INDEX(Medel_T[],Hist_Tab[[#This Row],[Ref]:[Ref]],MATCH(Hist_Tab[[#Headers],[AöA T]],Medel_T[#Headers],0))))","v":0},{"$f":"IF(Hist_Tab[[#This Row],[Rad]:[Rad]]=0,0,IF($EY203>_xlfn.AGGREGATE(2,6,Medel_T[[Slut]:[Slut]]),0,INDEX(Medel_T[],Hist_Tab[[#This Row],[Ref]:[Ref]],MATCH(Hist_Tab[[#Headers],[4AM T]],Medel_T[#Headers],0))))","v":0},{"$f":"IF(Hist_Tab[[#This Row],[Rad]:[Rad]]=0,0,IF($EY203>_xlfn.AGGREGATE(2,6,Medel_T[[Slut]:[Slut]]),0,INDEX(Medel_T[],Hist_Tab[[#This Row],[Ref]:[Ref]],MATCH(Hist_Tab[[#Headers],[15AM T]],Medel_T[#Headers],0))))","v":0},{"$f":"IF(Hist_Tab[[#This Row],[Rad]:[Rad]]=0,0,IF($EY203>_xlfn.AGGREGATE(2,6,Medel_T[[Slut]:[Slut]]),0,INDEX(Medel_T[],Hist_Tab[[#This Row],[Ref]:[Ref]],MATCH(Hist_Tab[[#Headers],[20-10D T]],Medel_T[#Headers],0))))","v":0}]
[null,null,null,null,null,null,null,null,null,null,null,null,null,null,null,null,null,null,null,null,null,null,null,null,null,null,null,null,null,null,null,null,null,null,null,null,null,null,null,null,null,null,null,null,null,null,null,null,null,null,null,null,null,null,null,null,null,null,null,null,null,null,null,null,null,null,null,null,null,null,null,null,null,null,null,null,null,null,null,null,null,null,null,null,null,null,null,null,null,null,null,null,null,null,null,null,null,null,null,null,null,null,null,null,null,null,null,null,null,null,null,null,null,null,null,null,null,null,null,null,null,null,null,null,null,null,null,null,null,null,null,null,null,null,null,null,null,null,null,null,null,null,null,null,null,null,null,null,null,null,null,null,{"$f":"ROWS($EW$20:EW203)","v":184},{"$f":"IFERROR(MATCH(Hist_Tab[[#This Row],[Ref]],Medel_T[NrX],0),1)","v":1},{"$f":"INT((ROW(Hist_Tab[[#This Row],[Ref]])-ROW(Hist_Tab[[#Headers],[Ref]])-1)/4)+1","v":47},{"$f":"COUNTIF($EY$19:EY203,Hist_Tab[[#This Row],[Ref]])","v":1},{"$f":"IFERROR(INDEX(Medel_T[Start],Hist_Tab[[#This Row],[Ref]]),_xlfn.AGGREGATE(4,6,Medel_T[Start]))","v":"00:00:00"},{"$f":"IFERROR(INDEX(Medel_T[Slut],Hist_Tab[[#This Row],[Ref]]),_xlfn.AGGREGATE(4,6,Medel_T[Slut]))","v":"00:00:00"},{"$f":"IF(EW202=0,Hist_Tab[[#This Row],[ÅrB]],IF(Hist_Tab[[#This Row],[per/p]]<2,Hist_Tab[[#This Row],[ÅrB]],Hist_Tab[[#This Row],[År S]]))","v":"00:00:00"},{"$f":"IF(Hist_Tab[[#This Row],[Rad]:[Rad]]=0,-1,IF($EY204>_xlfn.AGGREGATE(2,6,Medel_T[[Slut]:[Slut]]),0,INDEX(Medel_T[],Hist_Tab[[#This Row],[Ref]:[Ref]],MATCH(Hist_Tab[[#Headers],[HöA T]],Medel_T[#Headers],0))))","v":0},{"$f":"IF(Hist_Tab[[#This Row],[Rad]:[Rad]]=0,0,IF($EY204>_xlfn.AGGREGATE(2,6,Medel_T[[Slut]:[Slut]]),0,INDEX(Medel_T[],Hist_Tab[[#This Row],[Ref]:[Ref]],MATCH(Hist_Tab[[#Headers],[AöA T]],Medel_T[#Headers],0))))","v":0},{"$f":"IF(Hist_Tab[[#This Row],[Rad]:[Rad]]=0,0,IF($EY204>_xlfn.AGGREGATE(2,6,Medel_T[[Slut]:[Slut]]),0,INDEX(Medel_T[],Hist_Tab[[#This Row],[Ref]:[Ref]],MATCH(Hist_Tab[[#Headers],[4AM T]],Medel_T[#Headers],0))))","v":0},{"$f":"IF(Hist_Tab[[#This Row],[Rad]:[Rad]]=0,0,IF($EY204>_xlfn.AGGREGATE(2,6,Medel_T[[Slut]:[Slut]]),0,INDEX(Medel_T[],Hist_Tab[[#This Row],[Ref]:[Ref]],MATCH(Hist_Tab[[#Headers],[15AM T]],Medel_T[#Headers],0))))","v":0},{"$f":"IF(Hist_Tab[[#This Row],[Rad]:[Rad]]=0,0,IF($EY204>_xlfn.AGGREGATE(2,6,Medel_T[[Slut]:[Slut]]),0,INDEX(Medel_T[],Hist_Tab[[#This Row],[Ref]:[Ref]],MATCH(Hist_Tab[[#Headers],[20-10D T]],Medel_T[#Headers],0))))","v":0}]
[null,null,null,null,null,null,null,null,null,null,null,null,null,null,null,null,null,null,null,null,null,null,null,null,null,null,null,null,null,null,null,null,null,null,null,null,null,null,null,null,null,null,null,null,null,null,null,null,null,null,null,null,null,null,null,null,null,null,null,null,null,null,null,null,null,null,null,null,null,null,null,null,null,null,null,null,null,null,null,null,null,null,null,null,null,null,null,null,null,null,null,null,null,null,null,null,null,null,null,null,null,null,null,null,null,null,null,null,null,null,null,null,null,null,null,null,null,null,null,null,null,null,null,null,null,null,null,null,null,null,null,null,null,null,null,null,null,null,null,null,null,null,null,null,null,null,null,null,null,null,null,null,{"$f":"ROWS($EW$20:EW204)","v":185},{"$f":"IFERROR(MATCH(Hist_Tab[[#This Row],[Ref]],Medel_T[NrX],0),1)","v":1},{"$f":"INT((ROW(Hist_Tab[[#This Row],[Ref]])-ROW(Hist_Tab[[#Headers],[Ref]])-1)/4)+1","v":47},{"$f":"COUNTIF($EY$19:EY204,Hist_Tab[[#This Row],[Ref]])","v":2},{"$f":"IFERROR(INDEX(Medel_T[Start],Hist_Tab[[#This Row],[Ref]]),_xlfn.AGGREGATE(4,6,Medel_T[Start]))","v":"00:00:00"},{"$f":"IFERROR(INDEX(Medel_T[Slut],Hist_Tab[[#This Row],[Ref]]),_xlfn.AGGREGATE(4,6,Medel_T[Slut]))","v":"00:00:00"},{"$f":"IF(EW203=0,Hist_Tab[[#This Row],[ÅrB]],IF(Hist_Tab[[#This Row],[per/p]]<2,Hist_Tab[[#This Row],[ÅrB]],Hist_Tab[[#This Row],[År S]]))","v":"00:00:00"},{"$f":"IF(Hist_Tab[[#This Row],[Rad]:[Rad]]=0,-1,IF($EY205>_xlfn.AGGREGATE(2,6,Medel_T[[Slut]:[Slut]]),0,INDEX(Medel_T[],Hist_Tab[[#This Row],[Ref]:[Ref]],MATCH(Hist_Tab[[#Headers],[HöA T]],Medel_T[#Headers],0))))","v":0},{"$f":"IF(Hist_Tab[[#This Row],[Rad]:[Rad]]=0,0,IF($EY205>_xlfn.AGGREGATE(2,6,Medel_T[[Slut]:[Slut]]),0,INDEX(Medel_T[],Hist_Tab[[#This Row],[Ref]:[Ref]],MATCH(Hist_Tab[[#Headers],[AöA T]],Medel_T[#Headers],0))))","v":0},{"$f":"IF(Hist_Tab[[#This Row],[Rad]:[Rad]]=0,0,IF($EY205>_xlfn.AGGREGATE(2,6,Medel_T[[Slut]:[Slut]]),0,INDEX(Medel_T[],Hist_Tab[[#This Row],[Ref]:[Ref]],MATCH(Hist_Tab[[#Headers],[4AM T]],Medel_T[#Headers],0))))","v":0},{"$f":"IF(Hist_Tab[[#This Row],[Rad]:[Rad]]=0,0,IF($EY205>_xlfn.AGGREGATE(2,6,Medel_T[[Slut]:[Slut]]),0,INDEX(Medel_T[],Hist_Tab[[#This Row],[Ref]:[Ref]],MATCH(Hist_Tab[[#Headers],[15AM T]],Medel_T[#Headers],0))))","v":0},{"$f":"IF(Hist_Tab[[#This Row],[Rad]:[Rad]]=0,0,IF($EY205>_xlfn.AGGREGATE(2,6,Medel_T[[Slut]:[Slut]]),0,INDEX(Medel_T[],Hist_Tab[[#This Row],[Ref]:[Ref]],MATCH(Hist_Tab[[#Headers],[20-10D T]],Medel_T[#Headers],0))))","v":0}]
[null,null,null,null,null,null,null,null,null,null,null,null,null,null,null,null,null,null,null,null,null,null,null,null,null,null,null,null,null,null,null,null,null,null,null,null,null,null,null,null,null,null,null,null,null,null,null,null,null,null,null,null,null,null,null,null,null,null,null,null,null,null,null,null,null,null,null,null,null,null,null,null,null,null,null,null,null,null,null,null,null,null,null,null,null,null,null,null,null,null,null,null,null,null,null,null,null,null,null,null,null,null,null,null,null,null,null,null,null,null,null,null,null,null,null,null,null,null,null,null,null,null,null,null,null,null,null,null,null,null,null,null,null,null,null,null,null,null,null,null,null,null,null,null,null,null,null,null,null,null,null,null,{"$f":"ROWS($EW$20:EW205)","v":186},{"$f":"IFERROR(MATCH(Hist_Tab[[#This Row],[Ref]],Medel_T[NrX],0),1)","v":1},{"$f":"INT((ROW(Hist_Tab[[#This Row],[Ref]])-ROW(Hist_Tab[[#Headers],[Ref]])-1)/4)+1","v":47},{"$f":"COUNTIF($EY$19:EY205,Hist_Tab[[#This Row],[Ref]])","v":3},{"$f":"IFERROR(INDEX(Medel_T[Start],Hist_Tab[[#This Row],[Ref]]),_xlfn.AGGREGATE(4,6,Medel_T[Start]))","v":"00:00:00"},{"$f":"IFERROR(INDEX(Medel_T[Slut],Hist_Tab[[#This Row],[Ref]]),_xlfn.AGGREGATE(4,6,Medel_T[Slut]))","v":"00:00:00"},{"$f":"IF(EW204=0,Hist_Tab[[#This Row],[ÅrB]],IF(Hist_Tab[[#This Row],[per/p]]<2,Hist_Tab[[#This Row],[ÅrB]],Hist_Tab[[#This Row],[År S]]))","v":"00:00:00"},{"$f":"IF(Hist_Tab[[#This Row],[Rad]:[Rad]]=0,-1,IF($EY206>_xlfn.AGGREGATE(2,6,Medel_T[[Slut]:[Slut]]),0,INDEX(Medel_T[],Hist_Tab[[#This Row],[Ref]:[Ref]],MATCH(Hist_Tab[[#Headers],[HöA T]],Medel_T[#Headers],0))))","v":0},{"$f":"IF(Hist_Tab[[#This Row],[Rad]:[Rad]]=0,0,IF($EY206>_xlfn.AGGREGATE(2,6,Medel_T[[Slut]:[Slut]]),0,INDEX(Medel_T[],Hist_Tab[[#This Row],[Ref]:[Ref]],MATCH(Hist_Tab[[#Headers],[AöA T]],Medel_T[#Headers],0))))","v":0},{"$f":"IF(Hist_Tab[[#This Row],[Rad]:[Rad]]=0,0,IF($EY206>_xlfn.AGGREGATE(2,6,Medel_T[[Slut]:[Slut]]),0,INDEX(Medel_T[],Hist_Tab[[#This Row],[Ref]:[Ref]],MATCH(Hist_Tab[[#Headers],[4AM T]],Medel_T[#Headers],0))))","v":0},{"$f":"IF(Hist_Tab[[#This Row],[Rad]:[Rad]]=0,0,IF($EY206>_xlfn.AGGREGATE(2,6,Medel_T[[Slut]:[Slut]]),0,INDEX(Medel_T[],Hist_Tab[[#This Row],[Ref]:[Ref]],MATCH(Hist_Tab[[#Headers],[15AM T]],Medel_T[#Headers],0))))","v":0},{"$f":"IF(Hist_Tab[[#This Row],[Rad]:[Rad]]=0,0,IF($EY206>_xlfn.AGGREGATE(2,6,Medel_T[[Slut]:[Slut]]),0,INDEX(Medel_T[],Hist_Tab[[#This Row],[Ref]:[Ref]],MATCH(Hist_Tab[[#Headers],[20-10D T]],Medel_T[#Headers],0))))","v":0}]
[null,null,null,null,null,null,null,null,null,null,null,null,null,null,null,null,null,null,null,null,null,null,null,null,null,null,null,null,null,null,null,null,null,null,null,null,null,null,null,null,null,null,null,null,null,null,null,null,null,null,null,null,null,null,null,null,null,null,null,null,null,null,null,null,null,null,null,null,null,null,null,null,null,null,null,null,null,null,null,null,null,null,null,null,null,null,null,null,null,null,null,null,null,null,null,null,null,null,null,null,null,null,null,null,null,null,null,null,null,null,null,null,null,null,null,null,null,null,null,null,null,null,null,null,null,null,null,null,null,null,null,null,null,null,null,null,null,null,null,null,null,null,null,null,null,null,null,null,null,null,null,null,{"$f":"ROWS($EW$20:EW206)","v":187},{"$f":"IFERROR(MATCH(Hist_Tab[[#This Row],[Ref]],Medel_T[NrX],0),1)","v":1},{"$f":"INT((ROW(Hist_Tab[[#This Row],[Ref]])-ROW(Hist_Tab[[#Headers],[Ref]])-1)/4)+1","v":47},{"$f":"COUNTIF($EY$19:EY206,Hist_Tab[[#This Row],[Ref]])","v":4},{"$f":"IFERROR(INDEX(Medel_T[Start],Hist_Tab[[#This Row],[Ref]]),_xlfn.AGGREGATE(4,6,Medel_T[Start]))","v":"00:00:00"},{"$f":"IFERROR(INDEX(Medel_T[Slut],Hist_Tab[[#This Row],[Ref]]),_xlfn.AGGREGATE(4,6,Medel_T[Slut]))","v":"00:00:00"},{"$f":"IF(EW205=0,Hist_Tab[[#This Row],[ÅrB]],IF(Hist_Tab[[#This Row],[per/p]]<2,Hist_Tab[[#This Row],[ÅrB]],Hist_Tab[[#This Row],[År S]]))","v":"00:00:00"},{"$f":"IF(Hist_Tab[[#This Row],[Rad]:[Rad]]=0,-1,IF($EY207>_xlfn.AGGREGATE(2,6,Medel_T[[Slut]:[Slut]]),0,INDEX(Medel_T[],Hist_Tab[[#This Row],[Ref]:[Ref]],MATCH(Hist_Tab[[#Headers],[HöA T]],Medel_T[#Headers],0))))","v":0},{"$f":"IF(Hist_Tab[[#This Row],[Rad]:[Rad]]=0,0,IF($EY207>_xlfn.AGGREGATE(2,6,Medel_T[[Slut]:[Slut]]),0,INDEX(Medel_T[],Hist_Tab[[#This Row],[Ref]:[Ref]],MATCH(Hist_Tab[[#Headers],[AöA T]],Medel_T[#Headers],0))))","v":0},{"$f":"IF(Hist_Tab[[#This Row],[Rad]:[Rad]]=0,0,IF($EY207>_xlfn.AGGREGATE(2,6,Medel_T[[Slut]:[Slut]]),0,INDEX(Medel_T[],Hist_Tab[[#This Row],[Ref]:[Ref]],MATCH(Hist_Tab[[#Headers],[4AM T]],Medel_T[#Headers],0))))","v":0},{"$f":"IF(Hist_Tab[[#This Row],[Rad]:[Rad]]=0,0,IF($EY207>_xlfn.AGGREGATE(2,6,Medel_T[[Slut]:[Slut]]),0,INDEX(Medel_T[],Hist_Tab[[#This Row],[Ref]:[Ref]],MATCH(Hist_Tab[[#Headers],[15AM T]],Medel_T[#Headers],0))))","v":0},{"$f":"IF(Hist_Tab[[#This Row],[Rad]:[Rad]]=0,0,IF($EY207>_xlfn.AGGREGATE(2,6,Medel_T[[Slut]:[Slut]]),0,INDEX(Medel_T[],Hist_Tab[[#This Row],[Ref]:[Ref]],MATCH(Hist_Tab[[#Headers],[20-10D T]],Medel_T[#Headers],0))))","v":0}]
[null,null,null,null,null,null,null,null,null,null,null,null,null,null,null,null,null,null,null,null,null,null,null,null,null,null,null,null,null,null,null,null,null,null,null,null,null,null,null,null,null,null,null,null,null,null,null,null,null,null,null,null,null,null,null,null,null,null,null,null,null,null,null,null,null,null,null,null,null,null,null,null,null,null,null,null,null,null,null,null,null,null,null,null,null,null,null,null,null,null,null,null,null,null,null,null,null,null,null,null,null,null,null,null,null,null,null,null,null,null,null,null,null,null,null,null,null,null,null,null,null,null,null,null,null,null,null,null,null,null,null,null,null,null,null,null,null,null,null,null,null,null,null,null,null,null,null,null,null,null,null,null,{"$f":"ROWS($EW$20:EW207)","v":188},{"$f":"IFERROR(MATCH(Hist_Tab[[#This Row],[Ref]],Medel_T[NrX],0),1)","v":1},{"$f":"INT((ROW(Hist_Tab[[#This Row],[Ref]])-ROW(Hist_Tab[[#Headers],[Ref]])-1)/4)+1","v":48},{"$f":"COUNTIF($EY$19:EY207,Hist_Tab[[#This Row],[Ref]])","v":1},{"$f":"IFERROR(INDEX(Medel_T[Start],Hist_Tab[[#This Row],[Ref]]),_xlfn.AGGREGATE(4,6,Medel_T[Start]))","v":"00:00:00"},{"$f":"IFERROR(INDEX(Medel_T[Slut],Hist_Tab[[#This Row],[Ref]]),_xlfn.AGGREGATE(4,6,Medel_T[Slut]))","v":"00:00:00"},{"$f":"IF(EW206=0,Hist_Tab[[#This Row],[ÅrB]],IF(Hist_Tab[[#This Row],[per/p]]<2,Hist_Tab[[#This Row],[ÅrB]],Hist_Tab[[#This Row],[År S]]))","v":"00:00:00"},{"$f":"IF(Hist_Tab[[#This Row],[Rad]:[Rad]]=0,-1,IF($EY208>_xlfn.AGGREGATE(2,6,Medel_T[[Slut]:[Slut]]),0,INDEX(Medel_T[],Hist_Tab[[#This Row],[Ref]:[Ref]],MATCH(Hist_Tab[[#Headers],[HöA T]],Medel_T[#Headers],0))))","v":0},{"$f":"IF(Hist_Tab[[#This Row],[Rad]:[Rad]]=0,0,IF($EY208>_xlfn.AGGREGATE(2,6,Medel_T[[Slut]:[Slut]]),0,INDEX(Medel_T[],Hist_Tab[[#This Row],[Ref]:[Ref]],MATCH(Hist_Tab[[#Headers],[AöA T]],Medel_T[#Headers],0))))","v":0},{"$f":"IF(Hist_Tab[[#This Row],[Rad]:[Rad]]=0,0,IF($EY208>_xlfn.AGGREGATE(2,6,Medel_T[[Slut]:[Slut]]),0,INDEX(Medel_T[],Hist_Tab[[#This Row],[Ref]:[Ref]],MATCH(Hist_Tab[[#Headers],[4AM T]],Medel_T[#Headers],0))))","v":0},{"$f":"IF(Hist_Tab[[#This Row],[Rad]:[Rad]]=0,0,IF($EY208>_xlfn.AGGREGATE(2,6,Medel_T[[Slut]:[Slut]]),0,INDEX(Medel_T[],Hist_Tab[[#This Row],[Ref]:[Ref]],MATCH(Hist_Tab[[#Headers],[15AM T]],Medel_T[#Headers],0))))","v":0},{"$f":"IF(Hist_Tab[[#This Row],[Rad]:[Rad]]=0,0,IF($EY208>_xlfn.AGGREGATE(2,6,Medel_T[[Slut]:[Slut]]),0,INDEX(Medel_T[],Hist_Tab[[#This Row],[Ref]:[Ref]],MATCH(Hist_Tab[[#Headers],[20-10D T]],Medel_T[#Headers],0))))","v":0}]
[null,null,null,null,null,null,null,null,null,null,null,null,null,null,null,null,null,null,null,null,null,null,null,null,null,null,null,null,null,null,null,null,null,null,null,null,null,null,null,null,null,null,null,null,null,null,null,null,null,null,null,null,null,null,null,null,null,null,null,null,null,null,null,null,null,null,null,null,null,null,null,null,null,null,null,null,null,null,null,null,null,null,null,null,null,null,null,null,null,null,null,null,null,null,null,null,null,null,null,null,null,null,null,null,null,null,null,null,null,null,null,null,null,null,null,null,null,null,null,null,null,null,null,null,null,null,null,null,null,null,null,null,null,null,null,null,null,null,null,null,null,null,null,null,null,null,null,null,null,null,null,null,{"$f":"ROWS($EW$20:EW208)","v":189},{"$f":"IFERROR(MATCH(Hist_Tab[[#This Row],[Ref]],Medel_T[NrX],0),1)","v":1},{"$f":"INT((ROW(Hist_Tab[[#This Row],[Ref]])-ROW(Hist_Tab[[#Headers],[Ref]])-1)/4)+1","v":48},{"$f":"COUNTIF($EY$19:EY208,Hist_Tab[[#This Row],[Ref]])","v":2},{"$f":"IFERROR(INDEX(Medel_T[Start],Hist_Tab[[#This Row],[Ref]]),_xlfn.AGGREGATE(4,6,Medel_T[Start]))","v":"00:00:00"},{"$f":"IFERROR(INDEX(Medel_T[Slut],Hist_Tab[[#This Row],[Ref]]),_xlfn.AGGREGATE(4,6,Medel_T[Slut]))","v":"00:00:00"},{"$f":"IF(EW207=0,Hist_Tab[[#This Row],[ÅrB]],IF(Hist_Tab[[#This Row],[per/p]]<2,Hist_Tab[[#This Row],[ÅrB]],Hist_Tab[[#This Row],[År S]]))","v":"00:00:00"},{"$f":"IF(Hist_Tab[[#This Row],[Rad]:[Rad]]=0,-1,IF($EY209>_xlfn.AGGREGATE(2,6,Medel_T[[Slut]:[Slut]]),0,INDEX(Medel_T[],Hist_Tab[[#This Row],[Ref]:[Ref]],MATCH(Hist_Tab[[#Headers],[HöA T]],Medel_T[#Headers],0))))","v":0},{"$f":"IF(Hist_Tab[[#This Row],[Rad]:[Rad]]=0,0,IF($EY209>_xlfn.AGGREGATE(2,6,Medel_T[[Slut]:[Slut]]),0,INDEX(Medel_T[],Hist_Tab[[#This Row],[Ref]:[Ref]],MATCH(Hist_Tab[[#Headers],[AöA T]],Medel_T[#Headers],0))))","v":0},{"$f":"IF(Hist_Tab[[#This Row],[Rad]:[Rad]]=0,0,IF($EY209>_xlfn.AGGREGATE(2,6,Medel_T[[Slut]:[Slut]]),0,INDEX(Medel_T[],Hist_Tab[[#This Row],[Ref]:[Ref]],MATCH(Hist_Tab[[#Headers],[4AM T]],Medel_T[#Headers],0))))","v":0},{"$f":"IF(Hist_Tab[[#This Row],[Rad]:[Rad]]=0,0,IF($EY209>_xlfn.AGGREGATE(2,6,Medel_T[[Slut]:[Slut]]),0,INDEX(Medel_T[],Hist_Tab[[#This Row],[Ref]:[Ref]],MATCH(Hist_Tab[[#Headers],[15AM T]],Medel_T[#Headers],0))))","v":0},{"$f":"IF(Hist_Tab[[#This Row],[Rad]:[Rad]]=0,0,IF($EY209>_xlfn.AGGREGATE(2,6,Medel_T[[Slut]:[Slut]]),0,INDEX(Medel_T[],Hist_Tab[[#This Row],[Ref]:[Ref]],MATCH(Hist_Tab[[#Headers],[20-10D T]],Medel_T[#Headers],0))))","v":0}]
[null,null,null,null,null,null,null,null,null,null,null,null,null,null,null,null,null,null,null,null,null,null,null,null,null,null,null,null,null,null,null,null,null,null,null,null,null,null,null,null,null,null,null,null,null,null,null,null,null,null,null,null,null,null,null,null,null,null,null,null,null,null,null,null,null,null,null,null,null,null,null,null,null,null,null,null,null,null,null,null,null,null,null,null,null,null,null,null,null,null,null,null,null,null,null,null,null,null,null,null,null,null,null,null,null,null,null,null,null,null,null,null,null,null,null,null,null,null,null,null,null,null,null,null,null,null,null,null,null,null,null,null,null,null,null,null,null,null,null,null,null,null,null,null,null,null,null,null,null,null,null,null,{"$f":"ROWS($EW$20:EW209)","v":190},{"$f":"IFERROR(MATCH(Hist_Tab[[#This Row],[Ref]],Medel_T[NrX],0),1)","v":1},{"$f":"INT((ROW(Hist_Tab[[#This Row],[Ref]])-ROW(Hist_Tab[[#Headers],[Ref]])-1)/4)+1","v":48},{"$f":"COUNTIF($EY$19:EY209,Hist_Tab[[#This Row],[Ref]])","v":3},{"$f":"IFERROR(INDEX(Medel_T[Start],Hist_Tab[[#This Row],[Ref]]),_xlfn.AGGREGATE(4,6,Medel_T[Start]))","v":"00:00:00"},{"$f":"IFERROR(INDEX(Medel_T[Slut],Hist_Tab[[#This Row],[Ref]]),_xlfn.AGGREGATE(4,6,Medel_T[Slut]))","v":"00:00:00"},{"$f":"IF(EW208=0,Hist_Tab[[#This Row],[ÅrB]],IF(Hist_Tab[[#This Row],[per/p]]<2,Hist_Tab[[#This Row],[ÅrB]],Hist_Tab[[#This Row],[År S]]))","v":"00:00:00"},{"$f":"IF(Hist_Tab[[#This Row],[Rad]:[Rad]]=0,-1,IF($EY210>_xlfn.AGGREGATE(2,6,Medel_T[[Slut]:[Slut]]),0,INDEX(Medel_T[],Hist_Tab[[#This Row],[Ref]:[Ref]],MATCH(Hist_Tab[[#Headers],[HöA T]],Medel_T[#Headers],0))))","v":0},{"$f":"IF(Hist_Tab[[#This Row],[Rad]:[Rad]]=0,0,IF($EY210>_xlfn.AGGREGATE(2,6,Medel_T[[Slut]:[Slut]]),0,INDEX(Medel_T[],Hist_Tab[[#This Row],[Ref]:[Ref]],MATCH(Hist_Tab[[#Headers],[AöA T]],Medel_T[#Headers],0))))","v":0},{"$f":"IF(Hist_Tab[[#This Row],[Rad]:[Rad]]=0,0,IF($EY210>_xlfn.AGGREGATE(2,6,Medel_T[[Slut]:[Slut]]),0,INDEX(Medel_T[],Hist_Tab[[#This Row],[Ref]:[Ref]],MATCH(Hist_Tab[[#Headers],[4AM T]],Medel_T[#Headers],0))))","v":0},{"$f":"IF(Hist_Tab[[#This Row],[Rad]:[Rad]]=0,0,IF($EY210>_xlfn.AGGREGATE(2,6,Medel_T[[Slut]:[Slut]]),0,INDEX(Medel_T[],Hist_Tab[[#This Row],[Ref]:[Ref]],MATCH(Hist_Tab[[#Headers],[15AM T]],Medel_T[#Headers],0))))","v":0},{"$f":"IF(Hist_Tab[[#This Row],[Rad]:[Rad]]=0,0,IF($EY210>_xlfn.AGGREGATE(2,6,Medel_T[[Slut]:[Slut]]),0,INDEX(Medel_T[],Hist_Tab[[#This Row],[Ref]:[Ref]],MATCH(Hist_Tab[[#Headers],[20-10D T]],Medel_T[#Headers],0))))","v":0}]
[null,null,null,null,null,null,null,null,null,null,null,null,null,null,null,null,null,null,null,null,null,null,null,null,null,null,null,null,null,null,null,null,null,null,null,null,null,null,null,null,null,null,null,null,null,null,null,null,null,null,null,null,null,null,null,null,null,null,null,null,null,null,null,null,null,null,null,null,null,null,null,null,null,null,null,null,null,null,null,null,null,null,null,null,null,null,null,null,null,null,null,null,null,null,null,null,null,null,null,null,null,null,null,null,null,null,null,null,null,null,null,null,null,null,null,null,null,null,null,null,null,null,null,null,null,null,null,null,null,null,null,null,null,null,null,null,null,null,null,null,null,null,null,null,null,null,null,null,null,null,null,null,{"$f":"ROWS($EW$20:EW210)","v":191},{"$f":"IFERROR(MATCH(Hist_Tab[[#This Row],[Ref]],Medel_T[NrX],0),1)","v":1},{"$f":"INT((ROW(Hist_Tab[[#This Row],[Ref]])-ROW(Hist_Tab[[#Headers],[Ref]])-1)/4)+1","v":48},{"$f":"COUNTIF($EY$19:EY210,Hist_Tab[[#This Row],[Ref]])","v":4},{"$f":"IFERROR(INDEX(Medel_T[Start],Hist_Tab[[#This Row],[Ref]]),_xlfn.AGGREGATE(4,6,Medel_T[Start]))","v":"00:00:00"},{"$f":"IFERROR(INDEX(Medel_T[Slut],Hist_Tab[[#This Row],[Ref]]),_xlfn.AGGREGATE(4,6,Medel_T[Slut]))","v":"00:00:00"},{"$f":"IF(EW209=0,Hist_Tab[[#This Row],[ÅrB]],IF(Hist_Tab[[#This Row],[per/p]]<2,Hist_Tab[[#This Row],[ÅrB]],Hist_Tab[[#This Row],[År S]]))","v":"00:00:00"},{"$f":"IF(Hist_Tab[[#This Row],[Rad]:[Rad]]=0,-1,IF($EY211>_xlfn.AGGREGATE(2,6,Medel_T[[Slut]:[Slut]]),0,INDEX(Medel_T[],Hist_Tab[[#This Row],[Ref]:[Ref]],MATCH(Hist_Tab[[#Headers],[HöA T]],Medel_T[#Headers],0))))","v":0},{"$f":"IF(Hist_Tab[[#This Row],[Rad]:[Rad]]=0,0,IF($EY211>_xlfn.AGGREGATE(2,6,Medel_T[[Slut]:[Slut]]),0,INDEX(Medel_T[],Hist_Tab[[#This Row],[Ref]:[Ref]],MATCH(Hist_Tab[[#Headers],[AöA T]],Medel_T[#Headers],0))))","v":0},{"$f":"IF(Hist_Tab[[#This Row],[Rad]:[Rad]]=0,0,IF($EY211>_xlfn.AGGREGATE(2,6,Medel_T[[Slut]:[Slut]]),0,INDEX(Medel_T[],Hist_Tab[[#This Row],[Ref]:[Ref]],MATCH(Hist_Tab[[#Headers],[4AM T]],Medel_T[#Headers],0))))","v":0},{"$f":"IF(Hist_Tab[[#This Row],[Rad]:[Rad]]=0,0,IF($EY211>_xlfn.AGGREGATE(2,6,Medel_T[[Slut]:[Slut]]),0,INDEX(Medel_T[],Hist_Tab[[#This Row],[Ref]:[Ref]],MATCH(Hist_Tab[[#Headers],[15AM T]],Medel_T[#Headers],0))))","v":0},{"$f":"IF(Hist_Tab[[#This Row],[Rad]:[Rad]]=0,0,IF($EY211>_xlfn.AGGREGATE(2,6,Medel_T[[Slut]:[Slut]]),0,INDEX(Medel_T[],Hist_Tab[[#This Row],[Ref]:[Ref]],MATCH(Hist_Tab[[#Headers],[20-10D T]],Medel_T[#Headers],0))))","v":0}]
[null,null,null,null,null,null,null,null,null,null,null,null,null,null,null,null,null,null,null,null,null,null,null,null,null,null,null,null,null,null,null,null,null,null,null,null,null,null,null,null,null,null,null,null,null,null,null,null,null,null,null,null,null,null,null,null,null,null,null,null,null,null,null,null,null,null,null,null,null,null,null,null,null,null,null,null,null,null,null,null,null,null,null,null,null,null,null,null,null,null,null,null,null,null,null,null,null,null,null,null,null,null,null,null,null,null,null,null,null,null,null,null,null,null,null,null,null,null,null,null,null,null,null,null,null,null,null,null,null,null,null,null,null,null,null,null,null,null,null,null,null,null,null,null,null,null,null,null,null,null,null,null,{"$f":"ROWS($EW$20:EW211)","v":192},{"$f":"IFERROR(MATCH(Hist_Tab[[#This Row],[Ref]],Medel_T[NrX],0),1)","v":1},{"$f":"INT((ROW(Hist_Tab[[#This Row],[Ref]])-ROW(Hist_Tab[[#Headers],[Ref]])-1)/4)+1","v":49},{"$f":"COUNTIF($EY$19:EY211,Hist_Tab[[#This Row],[Ref]])","v":1},{"$f":"IFERROR(INDEX(Medel_T[Start],Hist_Tab[[#This Row],[Ref]]),_xlfn.AGGREGATE(4,6,Medel_T[Start]))","v":"00:00:00"},{"$f":"IFERROR(INDEX(Medel_T[Slut],Hist_Tab[[#This Row],[Ref]]),_xlfn.AGGREGATE(4,6,Medel_T[Slut]))","v":"00:00:00"},{"$f":"IF(EW210=0,Hist_Tab[[#This Row],[ÅrB]],IF(Hist_Tab[[#This Row],[per/p]]<2,Hist_Tab[[#This Row],[ÅrB]],Hist_Tab[[#This Row],[År S]]))","v":"00:00:00"},{"$f":"IF(Hist_Tab[[#This Row],[Rad]:[Rad]]=0,-1,IF($EY212>_xlfn.AGGREGATE(2,6,Medel_T[[Slut]:[Slut]]),0,INDEX(Medel_T[],Hist_Tab[[#This Row],[Ref]:[Ref]],MATCH(Hist_Tab[[#Headers],[HöA T]],Medel_T[#Headers],0))))","v":0},{"$f":"IF(Hist_Tab[[#This Row],[Rad]:[Rad]]=0,0,IF($EY212>_xlfn.AGGREGATE(2,6,Medel_T[[Slut]:[Slut]]),0,INDEX(Medel_T[],Hist_Tab[[#This Row],[Ref]:[Ref]],MATCH(Hist_Tab[[#Headers],[AöA T]],Medel_T[#Headers],0))))","v":0},{"$f":"IF(Hist_Tab[[#This Row],[Rad]:[Rad]]=0,0,IF($EY212>_xlfn.AGGREGATE(2,6,Medel_T[[Slut]:[Slut]]),0,INDEX(Medel_T[],Hist_Tab[[#This Row],[Ref]:[Ref]],MATCH(Hist_Tab[[#Headers],[4AM T]],Medel_T[#Headers],0))))","v":0},{"$f":"IF(Hist_Tab[[#This Row],[Rad]:[Rad]]=0,0,IF($EY212>_xlfn.AGGREGATE(2,6,Medel_T[[Slut]:[Slut]]),0,INDEX(Medel_T[],Hist_Tab[[#This Row],[Ref]:[Ref]],MATCH(Hist_Tab[[#Headers],[15AM T]],Medel_T[#Headers],0))))","v":0},{"$f":"IF(Hist_Tab[[#This Row],[Rad]:[Rad]]=0,0,IF($EY212>_xlfn.AGGREGATE(2,6,Medel_T[[Slut]:[Slut]]),0,INDEX(Medel_T[],Hist_Tab[[#This Row],[Ref]:[Ref]],MATCH(Hist_Tab[[#Headers],[20-10D T]],Medel_T[#Headers],0))))","v":0}]
[null,null,null,null,null,null,null,null,null,null,null,null,null,null,null,null,null,null,null,null,null,null,null,null,null,null,null,null,null,null,null,null,null,null,null,null,null,null,null,null,null,null,null,null,null,null,null,null,null,null,null,null,null,null,null,null,null,null,null,null,null,null,null,null,null,null,null,null,null,null,null,null,null,null,null,null,null,null,null,null,null,null,null,null,null,null,null,null,null,null,null,null,null,null,null,null,null,null,null,null,null,null,null,null,null,null,null,null,null,null,null,null,null,null,null,null,null,null,null,null,null,null,null,null,null,null,null,null,null,null,null,null,null,null,null,null,null,null,null,null,null,null,null,null,null,null,null,null,null,null,null,null,{"$f":"ROWS($EW$20:EW212)","v":193},{"$f":"IFERROR(MATCH(Hist_Tab[[#This Row],[Ref]],Medel_T[NrX],0),1)","v":1},{"$f":"INT((ROW(Hist_Tab[[#This Row],[Ref]])-ROW(Hist_Tab[[#Headers],[Ref]])-1)/4)+1","v":49},{"$f":"COUNTIF($EY$19:EY212,Hist_Tab[[#This Row],[Ref]])","v":2},{"$f":"IFERROR(INDEX(Medel_T[Start],Hist_Tab[[#This Row],[Ref]]),_xlfn.AGGREGATE(4,6,Medel_T[Start]))","v":"00:00:00"},{"$f":"IFERROR(INDEX(Medel_T[Slut],Hist_Tab[[#This Row],[Ref]]),_xlfn.AGGREGATE(4,6,Medel_T[Slut]))","v":"00:00:00"},{"$f":"IF(EW211=0,Hist_Tab[[#This Row],[ÅrB]],IF(Hist_Tab[[#This Row],[per/p]]<2,Hist_Tab[[#This Row],[ÅrB]],Hist_Tab[[#This Row],[År S]]))","v":"00:00:00"},{"$f":"IF(Hist_Tab[[#This Row],[Rad]:[Rad]]=0,-1,IF($EY213>_xlfn.AGGREGATE(2,6,Medel_T[[Slut]:[Slut]]),0,INDEX(Medel_T[],Hist_Tab[[#This Row],[Ref]:[Ref]],MATCH(Hist_Tab[[#Headers],[HöA T]],Medel_T[#Headers],0))))","v":0},{"$f":"IF(Hist_Tab[[#This Row],[Rad]:[Rad]]=0,0,IF($EY213>_xlfn.AGGREGATE(2,6,Medel_T[[Slut]:[Slut]]),0,INDEX(Medel_T[],Hist_Tab[[#This Row],[Ref]:[Ref]],MATCH(Hist_Tab[[#Headers],[AöA T]],Medel_T[#Headers],0))))","v":0},{"$f":"IF(Hist_Tab[[#This Row],[Rad]:[Rad]]=0,0,IF($EY213>_xlfn.AGGREGATE(2,6,Medel_T[[Slut]:[Slut]]),0,INDEX(Medel_T[],Hist_Tab[[#This Row],[Ref]:[Ref]],MATCH(Hist_Tab[[#Headers],[4AM T]],Medel_T[#Headers],0))))","v":0},{"$f":"IF(Hist_Tab[[#This Row],[Rad]:[Rad]]=0,0,IF($EY213>_xlfn.AGGREGATE(2,6,Medel_T[[Slut]:[Slut]]),0,INDEX(Medel_T[],Hist_Tab[[#This Row],[Ref]:[Ref]],MATCH(Hist_Tab[[#Headers],[15AM T]],Medel_T[#Headers],0))))","v":0},{"$f":"IF(Hist_Tab[[#This Row],[Rad]:[Rad]]=0,0,IF($EY213>_xlfn.AGGREGATE(2,6,Medel_T[[Slut]:[Slut]]),0,INDEX(Medel_T[],Hist_Tab[[#This Row],[Ref]:[Ref]],MATCH(Hist_Tab[[#Headers],[20-10D T]],Medel_T[#Headers],0))))","v":0}]
[null,null,null,null,null,null,null,null,null,null,null,null,null,null,null,null,null,null,null,null,null,null,null,null,null,null,null,null,null,null,null,null,null,null,null,null,null,null,null,null,null,null,null,null,null,null,null,null,null,null,null,null,null,null,null,null,null,null,null,null,null,null,null,null,null,null,null,null,null,null,null,null,null,null,null,null,null,null,null,null,null,null,null,null,null,null,null,null,null,null,null,null,null,null,null,null,null,null,null,null,null,null,null,null,null,null,null,null,null,null,null,null,null,null,null,null,null,null,null,null,null,null,null,null,null,null,null,null,null,null,null,null,null,null,null,null,null,null,null,null,null,null,null,null,null,null,null,null,null,null,null,null,{"$f":"ROWS($EW$20:EW213)","v":194},{"$f":"IFERROR(MATCH(Hist_Tab[[#This Row],[Ref]],Medel_T[NrX],0),1)","v":1},{"$f":"INT((ROW(Hist_Tab[[#This Row],[Ref]])-ROW(Hist_Tab[[#Headers],[Ref]])-1)/4)+1","v":49},{"$f":"COUNTIF($EY$19:EY213,Hist_Tab[[#This Row],[Ref]])","v":3},{"$f":"IFERROR(INDEX(Medel_T[Start],Hist_Tab[[#This Row],[Ref]]),_xlfn.AGGREGATE(4,6,Medel_T[Start]))","v":"00:00:00"},{"$f":"IFERROR(INDEX(Medel_T[Slut],Hist_Tab[[#This Row],[Ref]]),_xlfn.AGGREGATE(4,6,Medel_T[Slut]))","v":"00:00:00"},{"$f":"IF(EW212=0,Hist_Tab[[#This Row],[ÅrB]],IF(Hist_Tab[[#This Row],[per/p]]<2,Hist_Tab[[#This Row],[ÅrB]],Hist_Tab[[#This Row],[År S]]))","v":"00:00:00"},{"$f":"IF(Hist_Tab[[#This Row],[Rad]:[Rad]]=0,-1,IF($EY214>_xlfn.AGGREGATE(2,6,Medel_T[[Slut]:[Slut]]),0,INDEX(Medel_T[],Hist_Tab[[#This Row],[Ref]:[Ref]],MATCH(Hist_Tab[[#Headers],[HöA T]],Medel_T[#Headers],0))))","v":0},{"$f":"IF(Hist_Tab[[#This Row],[Rad]:[Rad]]=0,0,IF($EY214>_xlfn.AGGREGATE(2,6,Medel_T[[Slut]:[Slut]]),0,INDEX(Medel_T[],Hist_Tab[[#This Row],[Ref]:[Ref]],MATCH(Hist_Tab[[#Headers],[AöA T]],Medel_T[#Headers],0))))","v":0},{"$f":"IF(Hist_Tab[[#This Row],[Rad]:[Rad]]=0,0,IF($EY214>_xlfn.AGGREGATE(2,6,Medel_T[[Slut]:[Slut]]),0,INDEX(Medel_T[],Hist_Tab[[#This Row],[Ref]:[Ref]],MATCH(Hist_Tab[[#Headers],[4AM T]],Medel_T[#Headers],0))))","v":0},{"$f":"IF(Hist_Tab[[#This Row],[Rad]:[Rad]]=0,0,IF($EY214>_xlfn.AGGREGATE(2,6,Medel_T[[Slut]:[Slut]]),0,INDEX(Medel_T[],Hist_Tab[[#This Row],[Ref]:[Ref]],MATCH(Hist_Tab[[#Headers],[15AM T]],Medel_T[#Headers],0))))","v":0},{"$f":"IF(Hist_Tab[[#This Row],[Rad]:[Rad]]=0,0,IF($EY214>_xlfn.AGGREGATE(2,6,Medel_T[[Slut]:[Slut]]),0,INDEX(Medel_T[],Hist_Tab[[#This Row],[Ref]:[Ref]],MATCH(Hist_Tab[[#Headers],[20-10D T]],Medel_T[#Headers],0))))","v":0}]
[null,null,null,null,null,null,null,null,null,null,null,null,null,null,null,null,null,null,null,null,null,null,null,null,null,null,null,null,null,null,null,null,null,null,null,null,null,null,null,null,null,null,null,null,null,null,null,null,null,null,null,null,null,null,null,null,null,null,null,null,null,null,null,null,null,null,null,null,null,null,null,null,null,null,null,null,null,null,null,null,null,null,null,null,null,null,null,null,null,null,null,null,null,null,null,null,null,null,null,null,null,null,null,null,null,null,null,null,null,null,null,null,null,null,null,null,null,null,null,null,null,null,null,null,null,null,null,null,null,null,null,null,null,null,null,null,null,null,null,null,null,null,null,null,null,null,null,null,null,null,null,null,{"$f":"ROWS($EW$20:EW214)","v":195},{"$f":"IFERROR(MATCH(Hist_Tab[[#This Row],[Ref]],Medel_T[NrX],0),1)","v":1},{"$f":"INT((ROW(Hist_Tab[[#This Row],[Ref]])-ROW(Hist_Tab[[#Headers],[Ref]])-1)/4)+1","v":49},{"$f":"COUNTIF($EY$19:EY214,Hist_Tab[[#This Row],[Ref]])","v":4},{"$f":"IFERROR(INDEX(Medel_T[Start],Hist_Tab[[#This Row],[Ref]]),_xlfn.AGGREGATE(4,6,Medel_T[Start]))","v":"00:00:00"},{"$f":"IFERROR(INDEX(Medel_T[Slut],Hist_Tab[[#This Row],[Ref]]),_xlfn.AGGREGATE(4,6,Medel_T[Slut]))","v":"00:00:00"},{"$f":"IF(EW213=0,Hist_Tab[[#This Row],[ÅrB]],IF(Hist_Tab[[#This Row],[per/p]]<2,Hist_Tab[[#This Row],[ÅrB]],Hist_Tab[[#This Row],[År S]]))","v":"00:00:00"},{"$f":"IF(Hist_Tab[[#This Row],[Rad]:[Rad]]=0,-1,IF($EY215>_xlfn.AGGREGATE(2,6,Medel_T[[Slut]:[Slut]]),0,INDEX(Medel_T[],Hist_Tab[[#This Row],[Ref]:[Ref]],MATCH(Hist_Tab[[#Headers],[HöA T]],Medel_T[#Headers],0))))","v":0},{"$f":"IF(Hist_Tab[[#This Row],[Rad]:[Rad]]=0,0,IF($EY215>_xlfn.AGGREGATE(2,6,Medel_T[[Slut]:[Slut]]),0,INDEX(Medel_T[],Hist_Tab[[#This Row],[Ref]:[Ref]],MATCH(Hist_Tab[[#Headers],[AöA T]],Medel_T[#Headers],0))))","v":0},{"$f":"IF(Hist_Tab[[#This Row],[Rad]:[Rad]]=0,0,IF($EY215>_xlfn.AGGREGATE(2,6,Medel_T[[Slut]:[Slut]]),0,INDEX(Medel_T[],Hist_Tab[[#This Row],[Ref]:[Ref]],MATCH(Hist_Tab[[#Headers],[4AM T]],Medel_T[#Headers],0))))","v":0},{"$f":"IF(Hist_Tab[[#This Row],[Rad]:[Rad]]=0,0,IF($EY215>_xlfn.AGGREGATE(2,6,Medel_T[[Slut]:[Slut]]),0,INDEX(Medel_T[],Hist_Tab[[#This Row],[Ref]:[Ref]],MATCH(Hist_Tab[[#Headers],[15AM T]],Medel_T[#Headers],0))))","v":0},{"$f":"IF(Hist_Tab[[#This Row],[Rad]:[Rad]]=0,0,IF($EY215>_xlfn.AGGREGATE(2,6,Medel_T[[Slut]:[Slut]]),0,INDEX(Medel_T[],Hist_Tab[[#This Row],[Ref]:[Ref]],MATCH(Hist_Tab[[#Headers],[20-10D T]],Medel_T[#Headers],0))))","v":0}]
[null,null,null,null,null,null,null,null,null,null,null,null,null,null,null,null,null,null,null,null,null,null,null,null,null,null,null,null,null,null,null,null,null,null,null,null,null,null,null,null,null,null,null,null,null,null,null,null,null,null,null,null,null,null,null,null,null,null,null,null,null,null,null,null,null,null,null,null,null,null,null,null,null,null,null,null,null,null,null,null,null,null,null,null,null,null,null,null,null,null,null,null,null,null,null,null,null,null,null,null,null,null,null,null,null,null,null,null,null,null,null,null,null,null,null,null,null,null,null,null,null,null,null,null,null,null,null,null,null,null,null,null,null,null,null,null,null,null,null,null,null,null,null,null,null,null,null,null,null,null,null,null,{"$f":"ROWS($EW$20:EW215)","v":196},{"$f":"IFERROR(MATCH(Hist_Tab[[#This Row],[Ref]],Medel_T[NrX],0),1)","v":1},{"$f":"INT((ROW(Hist_Tab[[#This Row],[Ref]])-ROW(Hist_Tab[[#Headers],[Ref]])-1)/4)+1","v":50},{"$f":"COUNTIF($EY$19:EY215,Hist_Tab[[#This Row],[Ref]])","v":1},{"$f":"IFERROR(INDEX(Medel_T[Start],Hist_Tab[[#This Row],[Ref]]),_xlfn.AGGREGATE(4,6,Medel_T[Start]))","v":"00:00:00"},{"$f":"IFERROR(INDEX(Medel_T[Slut],Hist_Tab[[#This Row],[Ref]]),_xlfn.AGGREGATE(4,6,Medel_T[Slut]))","v":"00:00:00"},{"$f":"IF(EW214=0,Hist_Tab[[#This Row],[ÅrB]],IF(Hist_Tab[[#This Row],[per/p]]<2,Hist_Tab[[#This Row],[ÅrB]],Hist_Tab[[#This Row],[År S]]))","v":"00:00:00"},{"$f":"IF(Hist_Tab[[#This Row],[Rad]:[Rad]]=0,-1,IF($EY216>_xlfn.AGGREGATE(2,6,Medel_T[[Slut]:[Slut]]),0,INDEX(Medel_T[],Hist_Tab[[#This Row],[Ref]:[Ref]],MATCH(Hist_Tab[[#Headers],[HöA T]],Medel_T[#Headers],0))))","v":0},{"$f":"IF(Hist_Tab[[#This Row],[Rad]:[Rad]]=0,0,IF($EY216>_xlfn.AGGREGATE(2,6,Medel_T[[Slut]:[Slut]]),0,INDEX(Medel_T[],Hist_Tab[[#This Row],[Ref]:[Ref]],MATCH(Hist_Tab[[#Headers],[AöA T]],Medel_T[#Headers],0))))","v":0},{"$f":"IF(Hist_Tab[[#This Row],[Rad]:[Rad]]=0,0,IF($EY216>_xlfn.AGGREGATE(2,6,Medel_T[[Slut]:[Slut]]),0,INDEX(Medel_T[],Hist_Tab[[#This Row],[Ref]:[Ref]],MATCH(Hist_Tab[[#Headers],[4AM T]],Medel_T[#Headers],0))))","v":0},{"$f":"IF(Hist_Tab[[#This Row],[Rad]:[Rad]]=0,0,IF($EY216>_xlfn.AGGREGATE(2,6,Medel_T[[Slut]:[Slut]]),0,INDEX(Medel_T[],Hist_Tab[[#This Row],[Ref]:[Ref]],MATCH(Hist_Tab[[#Headers],[15AM T]],Medel_T[#Headers],0))))","v":0},{"$f":"IF(Hist_Tab[[#This Row],[Rad]:[Rad]]=0,0,IF($EY216>_xlfn.AGGREGATE(2,6,Medel_T[[Slut]:[Slut]]),0,INDEX(Medel_T[],Hist_Tab[[#This Row],[Ref]:[Ref]],MATCH(Hist_Tab[[#Headers],[20-10D T]],Medel_T[#Headers],0))))","v":0}]
[null,null,null,null,null,null,null,null,null,null,null,null,null,null,null,null,null,null,null,null,null,null,null,null,null,null,null,null,null,null,null,null,null,null,null,null,null,null,null,null,null,null,null,null,null,null,null,null,null,null,null,null,null,null,null,null,null,null,null,null,null,null,null,null,null,null,null,null,null,null,null,null,null,null,null,null,null,null,null,null,null,null,null,null,null,null,null,null,null,null,null,null,null,null,null,null,null,null,null,null,null,null,null,null,null,null,null,null,null,null,null,null,null,null,null,null,null,null,null,null,null,null,null,null,null,null,null,null,null,null,null,null,null,null,null,null,null,null,null,null,null,null,null,null,null,null,null,null,null,null,null,null,{"$f":"ROWS($EW$20:EW216)","v":197},{"$f":"IFERROR(MATCH(Hist_Tab[[#This Row],[Ref]],Medel_T[NrX],0),1)","v":1},{"$f":"INT((ROW(Hist_Tab[[#This Row],[Ref]])-ROW(Hist_Tab[[#Headers],[Ref]])-1)/4)+1","v":50},{"$f":"COUNTIF($EY$19:EY216,Hist_Tab[[#This Row],[Ref]])","v":2},{"$f":"IFERROR(INDEX(Medel_T[Start],Hist_Tab[[#This Row],[Ref]]),_xlfn.AGGREGATE(4,6,Medel_T[Start]))","v":"00:00:00"},{"$f":"IFERROR(INDEX(Medel_T[Slut],Hist_Tab[[#This Row],[Ref]]),_xlfn.AGGREGATE(4,6,Medel_T[Slut]))","v":"00:00:00"},{"$f":"IF(EW215=0,Hist_Tab[[#This Row],[ÅrB]],IF(Hist_Tab[[#This Row],[per/p]]<2,Hist_Tab[[#This Row],[ÅrB]],Hist_Tab[[#This Row],[År S]]))","v":"00:00:00"},{"$f":"IF(Hist_Tab[[#This Row],[Rad]:[Rad]]=0,-1,IF($EY217>_xlfn.AGGREGATE(2,6,Medel_T[[Slut]:[Slut]]),0,INDEX(Medel_T[],Hist_Tab[[#This Row],[Ref]:[Ref]],MATCH(Hist_Tab[[#Headers],[HöA T]],Medel_T[#Headers],0))))","v":0},{"$f":"IF(Hist_Tab[[#This Row],[Rad]:[Rad]]=0,0,IF($EY217>_xlfn.AGGREGATE(2,6,Medel_T[[Slut]:[Slut]]),0,INDEX(Medel_T[],Hist_Tab[[#This Row],[Ref]:[Ref]],MATCH(Hist_Tab[[#Headers],[AöA T]],Medel_T[#Headers],0))))","v":0},{"$f":"IF(Hist_Tab[[#This Row],[Rad]:[Rad]]=0,0,IF($EY217>_xlfn.AGGREGATE(2,6,Medel_T[[Slut]:[Slut]]),0,INDEX(Medel_T[],Hist_Tab[[#This Row],[Ref]:[Ref]],MATCH(Hist_Tab[[#Headers],[4AM T]],Medel_T[#Headers],0))))","v":0},{"$f":"IF(Hist_Tab[[#This Row],[Rad]:[Rad]]=0,0,IF($EY217>_xlfn.AGGREGATE(2,6,Medel_T[[Slut]:[Slut]]),0,INDEX(Medel_T[],Hist_Tab[[#This Row],[Ref]:[Ref]],MATCH(Hist_Tab[[#Headers],[15AM T]],Medel_T[#Headers],0))))","v":0},{"$f":"IF(Hist_Tab[[#This Row],[Rad]:[Rad]]=0,0,IF($EY217>_xlfn.AGGREGATE(2,6,Medel_T[[Slut]:[Slut]]),0,INDEX(Medel_T[],Hist_Tab[[#This Row],[Ref]:[Ref]],MATCH(Hist_Tab[[#Headers],[20-10D T]],Medel_T[#Headers],0))))","v":0}]
[null,null,null,null,null,null,null,null,null,null,null,null,null,null,null,null,null,null,null,null,null,null,null,null,null,null,null,null,null,null,null,null,null,null,null,null,null,null,null,null,null,null,null,null,null,null,null,null,null,null,null,null,null,null,null,null,null,null,null,null,null,null,null,null,null,null,null,null,null,null,null,null,null,null,null,null,null,null,null,null,null,null,null,null,null,null,null,null,null,null,null,null,null,null,null,null,null,null,null,null,null,null,null,null,null,null,null,null,null,null,null,null,null,null,null,null,null,null,null,null,null,null,null,null,null,null,null,null,null,null,null,null,null,null,null,null,null,null,null,null,null,null,null,null,null,null,null,null,null,null,null,null,{"$f":"ROWS($EW$20:EW217)","v":198},{"$f":"IFERROR(MATCH(Hist_Tab[[#This Row],[Ref]],Medel_T[NrX],0),1)","v":1},{"$f":"INT((ROW(Hist_Tab[[#This Row],[Ref]])-ROW(Hist_Tab[[#Headers],[Ref]])-1)/4)+1","v":50},{"$f":"COUNTIF($EY$19:EY217,Hist_Tab[[#This Row],[Ref]])","v":3},{"$f":"IFERROR(INDEX(Medel_T[Start],Hist_Tab[[#This Row],[Ref]]),_xlfn.AGGREGATE(4,6,Medel_T[Start]))","v":"00:00:00"},{"$f":"IFERROR(INDEX(Medel_T[Slut],Hist_Tab[[#This Row],[Ref]]),_xlfn.AGGREGATE(4,6,Medel_T[Slut]))","v":"00:00:00"},{"$f":"IF(EW216=0,Hist_Tab[[#This Row],[ÅrB]],IF(Hist_Tab[[#This Row],[per/p]]<2,Hist_Tab[[#This Row],[ÅrB]],Hist_Tab[[#This Row],[År S]]))","v":"00:00:00"},{"$f":"IF(Hist_Tab[[#This Row],[Rad]:[Rad]]=0,-1,IF($EY218>_xlfn.AGGREGATE(2,6,Medel_T[[Slut]:[Slut]]),0,INDEX(Medel_T[],Hist_Tab[[#This Row],[Ref]:[Ref]],MATCH(Hist_Tab[[#Headers],[HöA T]],Medel_T[#Headers],0))))","v":0},{"$f":"IF(Hist_Tab[[#This Row],[Rad]:[Rad]]=0,0,IF($EY218>_xlfn.AGGREGATE(2,6,Medel_T[[Slut]:[Slut]]),0,INDEX(Medel_T[],Hist_Tab[[#This Row],[Ref]:[Ref]],MATCH(Hist_Tab[[#Headers],[AöA T]],Medel_T[#Headers],0))))","v":0},{"$f":"IF(Hist_Tab[[#This Row],[Rad]:[Rad]]=0,0,IF($EY218>_xlfn.AGGREGATE(2,6,Medel_T[[Slut]:[Slut]]),0,INDEX(Medel_T[],Hist_Tab[[#This Row],[Ref]:[Ref]],MATCH(Hist_Tab[[#Headers],[4AM T]],Medel_T[#Headers],0))))","v":0},{"$f":"IF(Hist_Tab[[#This Row],[Rad]:[Rad]]=0,0,IF($EY218>_xlfn.AGGREGATE(2,6,Medel_T[[Slut]:[Slut]]),0,INDEX(Medel_T[],Hist_Tab[[#This Row],[Ref]:[Ref]],MATCH(Hist_Tab[[#Headers],[15AM T]],Medel_T[#Headers],0))))","v":0},{"$f":"IF(Hist_Tab[[#This Row],[Rad]:[Rad]]=0,0,IF($EY218>_xlfn.AGGREGATE(2,6,Medel_T[[Slut]:[Slut]]),0,INDEX(Medel_T[],Hist_Tab[[#This Row],[Ref]:[Ref]],MATCH(Hist_Tab[[#Headers],[20-10D T]],Medel_T[#Headers],0))))","v":0}]
[null,null,null,null,null,null,null,null,null,null,null,null,null,null,null,null,null,null,null,null,null,null,null,null,null,null,null,null,null,null,null,null,null,null,null,null,null,null,null,null,null,null,null,null,null,null,null,null,null,null,null,null,null,null,null,null,null,null,null,null,null,null,null,null,null,null,null,null,null,null,null,null,null,null,null,null,null,null,null,null,null,null,null,null,null,null,null,null,null,null,null,null,null,null,null,null,null,null,null,null,null,null,null,null,null,null,null,null,null,null,null,null,null,null,null,null,null,null,null,null,null,null,null,null,null,null,null,null,null,null,null,null,null,null,null,null,null,null,null,null,null,null,null,null,null,null,null,null,null,null,null,null,{"$f":"ROWS($EW$20:EW218)","v":199},{"$f":"IFERROR(MATCH(Hist_Tab[[#This Row],[Ref]],Medel_T[NrX],0),1)","v":1},{"$f":"INT((ROW(Hist_Tab[[#This Row],[Ref]])-ROW(Hist_Tab[[#Headers],[Ref]])-1)/4)+1","v":50},{"$f":"COUNTIF($EY$19:EY218,Hist_Tab[[#This Row],[Ref]])","v":4},{"$f":"IFERROR(INDEX(Medel_T[Start],Hist_Tab[[#This Row],[Ref]]),_xlfn.AGGREGATE(4,6,Medel_T[Start]))","v":"00:00:00"},{"$f":"IFERROR(INDEX(Medel_T[Slut],Hist_Tab[[#This Row],[Ref]]),_xlfn.AGGREGATE(4,6,Medel_T[Slut]))","v":"00:00:00"},{"$f":"IF(EW217=0,Hist_Tab[[#This Row],[ÅrB]],IF(Hist_Tab[[#This Row],[per/p]]<2,Hist_Tab[[#This Row],[ÅrB]],Hist_Tab[[#This Row],[År S]]))","v":"00:00:00"},{"$f":"IF(Hist_Tab[[#This Row],[Rad]:[Rad]]=0,-1,IF($EY219>_xlfn.AGGREGATE(2,6,Medel_T[[Slut]:[Slut]]),0,INDEX(Medel_T[],Hist_Tab[[#This Row],[Ref]:[Ref]],MATCH(Hist_Tab[[#Headers],[HöA T]],Medel_T[#Headers],0))))","v":0},{"$f":"IF(Hist_Tab[[#This Row],[Rad]:[Rad]]=0,0,IF($EY219>_xlfn.AGGREGATE(2,6,Medel_T[[Slut]:[Slut]]),0,INDEX(Medel_T[],Hist_Tab[[#This Row],[Ref]:[Ref]],MATCH(Hist_Tab[[#Headers],[AöA T]],Medel_T[#Headers],0))))","v":0},{"$f":"IF(Hist_Tab[[#This Row],[Rad]:[Rad]]=0,0,IF($EY219>_xlfn.AGGREGATE(2,6,Medel_T[[Slut]:[Slut]]),0,INDEX(Medel_T[],Hist_Tab[[#This Row],[Ref]:[Ref]],MATCH(Hist_Tab[[#Headers],[4AM T]],Medel_T[#Headers],0))))","v":0},{"$f":"IF(Hist_Tab[[#This Row],[Rad]:[Rad]]=0,0,IF($EY219>_xlfn.AGGREGATE(2,6,Medel_T[[Slut]:[Slut]]),0,INDEX(Medel_T[],Hist_Tab[[#This Row],[Ref]:[Ref]],MATCH(Hist_Tab[[#Headers],[15AM T]],Medel_T[#Headers],0))))","v":0},{"$f":"IF(Hist_Tab[[#This Row],[Rad]:[Rad]]=0,0,IF($EY219>_xlfn.AGGREGATE(2,6,Medel_T[[Slut]:[Slut]]),0,INDEX(Medel_T[],Hist_Tab[[#This Row],[Ref]:[Ref]],MATCH(Hist_Tab[[#Headers],[20-10D T]],Medel_T[#Headers],0))))","v":0}]
[null,null,null,null,null,null,null,null,null,null,null,null,null,null,null,null,null,null,null,null,null,null,null,null,null,null,null,null,null,null,null,null,null,null,null,null,null,null,null,null,null,null,null,null,null,null,null,null,null,null,null,null,null,null,null,null,null,null,null,null,null,null,null,null,null,null,null,null,null,null,null,null,null,null,null,null,null,null,null,null,null,null,null,null,null,null,null,null,null,null,null,null,null,null,null,null,null,null,null,null,null,null,null,null,null,null,null,null,null,null,null,null,null,null,null,null,null,null,null,null,null,null,null,null,null,null,null,null,null,null,null,null,null,null,null,null,null,null,null,null,null,null,null,null,null,null,null,null,null,null,null,null,{"$f":"ROWS($EW$20:EW219)","v":200},{"$f":"IFERROR(MATCH(Hist_Tab[[#This Row],[Ref]],Medel_T[NrX],0),1)","v":1},{"$f":"INT((ROW(Hist_Tab[[#This Row],[Ref]])-ROW(Hist_Tab[[#Headers],[Ref]])-1)/4)+1","v":51},{"$f":"COUNTIF($EY$19:EY219,Hist_Tab[[#This Row],[Ref]])","v":1},{"$f":"IFERROR(INDEX(Medel_T[Start],Hist_Tab[[#This Row],[Ref]]),_xlfn.AGGREGATE(4,6,Medel_T[Start]))","v":"00:00:00"},{"$f":"IFERROR(INDEX(Medel_T[Slut],Hist_Tab[[#This Row],[Ref]]),_xlfn.AGGREGATE(4,6,Medel_T[Slut]))","v":"00:00:00"},{"$f":"IF(EW218=0,Hist_Tab[[#This Row],[ÅrB]],IF(Hist_Tab[[#This Row],[per/p]]<2,Hist_Tab[[#This Row],[ÅrB]],Hist_Tab[[#This Row],[År S]]))","v":"00:00:00"},{"$f":"IF(Hist_Tab[[#This Row],[Rad]:[Rad]]=0,-1,IF($EY220>_xlfn.AGGREGATE(2,6,Medel_T[[Slut]:[Slut]]),0,INDEX(Medel_T[],Hist_Tab[[#This Row],[Ref]:[Ref]],MATCH(Hist_Tab[[#Headers],[HöA T]],Medel_T[#Headers],0))))","v":0},{"$f":"IF(Hist_Tab[[#This Row],[Rad]:[Rad]]=0,0,IF($EY220>_xlfn.AGGREGATE(2,6,Medel_T[[Slut]:[Slut]]),0,INDEX(Medel_T[],Hist_Tab[[#This Row],[Ref]:[Ref]],MATCH(Hist_Tab[[#Headers],[AöA T]],Medel_T[#Headers],0))))","v":0},{"$f":"IF(Hist_Tab[[#This Row],[Rad]:[Rad]]=0,0,IF($EY220>_xlfn.AGGREGATE(2,6,Medel_T[[Slut]:[Slut]]),0,INDEX(Medel_T[],Hist_Tab[[#This Row],[Ref]:[Ref]],MATCH(Hist_Tab[[#Headers],[4AM T]],Medel_T[#Headers],0))))","v":0},{"$f":"IF(Hist_Tab[[#This Row],[Rad]:[Rad]]=0,0,IF($EY220>_xlfn.AGGREGATE(2,6,Medel_T[[Slut]:[Slut]]),0,INDEX(Medel_T[],Hist_Tab[[#This Row],[Ref]:[Ref]],MATCH(Hist_Tab[[#Headers],[15AM T]],Medel_T[#Headers],0))))","v":0},{"$f":"IF(Hist_Tab[[#This Row],[Rad]:[Rad]]=0,0,IF($EY220>_xlfn.AGGREGATE(2,6,Medel_T[[Slut]:[Slut]]),0,INDEX(Medel_T[],Hist_Tab[[#This Row],[Ref]:[Ref]],MATCH(Hist_Tab[[#Headers],[20-10D T]],Medel_T[#Headers],0))))","v":0}]
[null,null,null,null,null,null,null,null,null,null,null,null,null,null,null,null,null,null,null,null,null,null,null,null,null,null,null,null,null,null,null,null,null,null,null,null,null,null,null,null,null,null,null,null,null,null,null,null,null,null,null,null,null,null,null,null,null,null,null,null,null,null,null,null,null,null,null,null,null,null,null,null,null,null,null,null,null,null,null,null,null,null,null,null,null,null,null,null,null,null,null,null,null,null,null,null,null,null,null,null,null,null,null,null,null,null,null,null,null,null,null,null,null,null,null,null,null,null,null,null,null,null,null,null,null,null,null,null,null,null,null,null,null,null,null,null,null,null,null,null,null,null,null,null,null,null,null,null,null,null,null,null,{"$f":"ROWS($EW$20:EW220)","v":201},{"$f":"IFERROR(MATCH(Hist_Tab[[#This Row],[Ref]],Medel_T[NrX],0),1)","v":1},{"$f":"INT((ROW(Hist_Tab[[#This Row],[Ref]])-ROW(Hist_Tab[[#Headers],[Ref]])-1)/4)+1","v":51},{"$f":"COUNTIF($EY$19:EY220,Hist_Tab[[#This Row],[Ref]])","v":2},{"$f":"IFERROR(INDEX(Medel_T[Start],Hist_Tab[[#This Row],[Ref]]),_xlfn.AGGREGATE(4,6,Medel_T[Start]))","v":"00:00:00"},{"$f":"IFERROR(INDEX(Medel_T[Slut],Hist_Tab[[#This Row],[Ref]]),_xlfn.AGGREGATE(4,6,Medel_T[Slut]))","v":"00:00:00"},{"$f":"IF(EW219=0,Hist_Tab[[#This Row],[ÅrB]],IF(Hist_Tab[[#This Row],[per/p]]<2,Hist_Tab[[#This Row],[ÅrB]],Hist_Tab[[#This Row],[År S]]))","v":"00:00:00"},{"$f":"IF(Hist_Tab[[#This Row],[Rad]:[Rad]]=0,-1,IF($EY221>_xlfn.AGGREGATE(2,6,Medel_T[[Slut]:[Slut]]),0,INDEX(Medel_T[],Hist_Tab[[#This Row],[Ref]:[Ref]],MATCH(Hist_Tab[[#Headers],[HöA T]],Medel_T[#Headers],0))))","v":0},{"$f":"IF(Hist_Tab[[#This Row],[Rad]:[Rad]]=0,0,IF($EY221>_xlfn.AGGREGATE(2,6,Medel_T[[Slut]:[Slut]]),0,INDEX(Medel_T[],Hist_Tab[[#This Row],[Ref]:[Ref]],MATCH(Hist_Tab[[#Headers],[AöA T]],Medel_T[#Headers],0))))","v":0},{"$f":"IF(Hist_Tab[[#This Row],[Rad]:[Rad]]=0,0,IF($EY221>_xlfn.AGGREGATE(2,6,Medel_T[[Slut]:[Slut]]),0,INDEX(Medel_T[],Hist_Tab[[#This Row],[Ref]:[Ref]],MATCH(Hist_Tab[[#Headers],[4AM T]],Medel_T[#Headers],0))))","v":0},{"$f":"IF(Hist_Tab[[#This Row],[Rad]:[Rad]]=0,0,IF($EY221>_xlfn.AGGREGATE(2,6,Medel_T[[Slut]:[Slut]]),0,INDEX(Medel_T[],Hist_Tab[[#This Row],[Ref]:[Ref]],MATCH(Hist_Tab[[#Headers],[15AM T]],Medel_T[#Headers],0))))","v":0},{"$f":"IF(Hist_Tab[[#This Row],[Rad]:[Rad]]=0,0,IF($EY221>_xlfn.AGGREGATE(2,6,Medel_T[[Slut]:[Slut]]),0,INDEX(Medel_T[],Hist_Tab[[#This Row],[Ref]:[Ref]],MATCH(Hist_Tab[[#Headers],[20-10D T]],Medel_T[#Headers],0))))","v":0}]
[null,null,null,null,null,null,null,null,null,null,null,null,null,null,null,null,null,null,null,null,null,null,null,null,null,null,null,null,null,null,null,null,null,null,null,null,null,null,null,null,null,null,null,null,null,null,null,null,null,null,null,null,null,null,null,null,null,null,null,null,null,null,null,null,null,null,null,null,null,null,null,null,null,null,null,null,null,null,null,null,null,null,null,null,null,null,null,null,null,null,null,null,null,null,null,null,null,null,null,null,null,null,null,null,null,null,null,null,null,null,null,null,null,null,null,null,null,null,null,null,null,null,null,null,null,null,null,null,null,null,null,null,null,null,null,null,null,null,null,null,null,null,null,null,null,null,null,null,null,null,null,null,{"$f":"ROWS($EW$20:EW221)","v":202},{"$f":"IFERROR(MATCH(Hist_Tab[[#This Row],[Ref]],Medel_T[NrX],0),1)","v":1},{"$f":"INT((ROW(Hist_Tab[[#This Row],[Ref]])-ROW(Hist_Tab[[#Headers],[Ref]])-1)/4)+1","v":51},{"$f":"COUNTIF($EY$19:EY221,Hist_Tab[[#This Row],[Ref]])","v":3},{"$f":"IFERROR(INDEX(Medel_T[Start],Hist_Tab[[#This Row],[Ref]]),_xlfn.AGGREGATE(4,6,Medel_T[Start]))","v":"00:00:00"},{"$f":"IFERROR(INDEX(Medel_T[Slut],Hist_Tab[[#This Row],[Ref]]),_xlfn.AGGREGATE(4,6,Medel_T[Slut]))","v":"00:00:00"},{"$f":"IF(EW220=0,Hist_Tab[[#This Row],[ÅrB]],IF(Hist_Tab[[#This Row],[per/p]]<2,Hist_Tab[[#This Row],[ÅrB]],Hist_Tab[[#This Row],[År S]]))","v":"00:00:00"},{"$f":"IF(Hist_Tab[[#This Row],[Rad]:[Rad]]=0,-1,IF($EY222>_xlfn.AGGREGATE(2,6,Medel_T[[Slut]:[Slut]]),0,INDEX(Medel_T[],Hist_Tab[[#This Row],[Ref]:[Ref]],MATCH(Hist_Tab[[#Headers],[HöA T]],Medel_T[#Headers],0))))","v":0},{"$f":"IF(Hist_Tab[[#This Row],[Rad]:[Rad]]=0,0,IF($EY222>_xlfn.AGGREGATE(2,6,Medel_T[[Slut]:[Slut]]),0,INDEX(Medel_T[],Hist_Tab[[#This Row],[Ref]:[Ref]],MATCH(Hist_Tab[[#Headers],[AöA T]],Medel_T[#Headers],0))))","v":0},{"$f":"IF(Hist_Tab[[#This Row],[Rad]:[Rad]]=0,0,IF($EY222>_xlfn.AGGREGATE(2,6,Medel_T[[Slut]:[Slut]]),0,INDEX(Medel_T[],Hist_Tab[[#This Row],[Ref]:[Ref]],MATCH(Hist_Tab[[#Headers],[4AM T]],Medel_T[#Headers],0))))","v":0},{"$f":"IF(Hist_Tab[[#This Row],[Rad]:[Rad]]=0,0,IF($EY222>_xlfn.AGGREGATE(2,6,Medel_T[[Slut]:[Slut]]),0,INDEX(Medel_T[],Hist_Tab[[#This Row],[Ref]:[Ref]],MATCH(Hist_Tab[[#Headers],[15AM T]],Medel_T[#Headers],0))))","v":0},{"$f":"IF(Hist_Tab[[#This Row],[Rad]:[Rad]]=0,0,IF($EY222>_xlfn.AGGREGATE(2,6,Medel_T[[Slut]:[Slut]]),0,INDEX(Medel_T[],Hist_Tab[[#This Row],[Ref]:[Ref]],MATCH(Hist_Tab[[#Headers],[20-10D T]],Medel_T[#Headers],0))))","v":0}]
[null,null,null,null,null,null,null,null,null,null,null,null,null,null,null,null,null,null,null,null,null,null,null,null,null,null,null,null,null,null,null,null,null,null,null,null,null,null,null,null,null,null,null,null,null,null,null,null,null,null,null,null,null,null,null,null,null,null,null,null,null,null,null,null,null,null,null,null,null,null,null,null,null,null,null,null,null,null,null,null,null,null,null,null,null,null,null,null,null,null,null,null,null,null,null,null,null,null,null,null,null,null,null,null,null,null,null,null,null,null,null,null,null,null,null,null,null,null,null,null,null,null,null,null,null,null,null,null,null,null,null,null,null,null,null,null,null,null,null,null,null,null,null,null,null,null,null,null,null,null,null,null,{"$f":"ROWS($EW$20:EW222)","v":203},{"$f":"IFERROR(MATCH(Hist_Tab[[#This Row],[Ref]],Medel_T[NrX],0),1)","v":1},{"$f":"INT((ROW(Hist_Tab[[#This Row],[Ref]])-ROW(Hist_Tab[[#Headers],[Ref]])-1)/4)+1","v":51},{"$f":"COUNTIF($EY$19:EY222,Hist_Tab[[#This Row],[Ref]])","v":4},{"$f":"IFERROR(INDEX(Medel_T[Start],Hist_Tab[[#This Row],[Ref]]),_xlfn.AGGREGATE(4,6,Medel_T[Start]))","v":"00:00:00"},{"$f":"IFERROR(INDEX(Medel_T[Slut],Hist_Tab[[#This Row],[Ref]]),_xlfn.AGGREGATE(4,6,Medel_T[Slut]))","v":"00:00:00"},{"$f":"IF(EW221=0,Hist_Tab[[#This Row],[ÅrB]],IF(Hist_Tab[[#This Row],[per/p]]<2,Hist_Tab[[#This Row],[ÅrB]],Hist_Tab[[#This Row],[År S]]))","v":"00:00:00"},{"$f":"IF(Hist_Tab[[#This Row],[Rad]:[Rad]]=0,-1,IF($EY223>_xlfn.AGGREGATE(2,6,Medel_T[[Slut]:[Slut]]),0,INDEX(Medel_T[],Hist_Tab[[#This Row],[Ref]:[Ref]],MATCH(Hist_Tab[[#Headers],[HöA T]],Medel_T[#Headers],0))))","v":0},{"$f":"IF(Hist_Tab[[#This Row],[Rad]:[Rad]]=0,0,IF($EY223>_xlfn.AGGREGATE(2,6,Medel_T[[Slut]:[Slut]]),0,INDEX(Medel_T[],Hist_Tab[[#This Row],[Ref]:[Ref]],MATCH(Hist_Tab[[#Headers],[AöA T]],Medel_T[#Headers],0))))","v":0},{"$f":"IF(Hist_Tab[[#This Row],[Rad]:[Rad]]=0,0,IF($EY223>_xlfn.AGGREGATE(2,6,Medel_T[[Slut]:[Slut]]),0,INDEX(Medel_T[],Hist_Tab[[#This Row],[Ref]:[Ref]],MATCH(Hist_Tab[[#Headers],[4AM T]],Medel_T[#Headers],0))))","v":0},{"$f":"IF(Hist_Tab[[#This Row],[Rad]:[Rad]]=0,0,IF($EY223>_xlfn.AGGREGATE(2,6,Medel_T[[Slut]:[Slut]]),0,INDEX(Medel_T[],Hist_Tab[[#This Row],[Ref]:[Ref]],MATCH(Hist_Tab[[#Headers],[15AM T]],Medel_T[#Headers],0))))","v":0},{"$f":"IF(Hist_Tab[[#This Row],[Rad]:[Rad]]=0,0,IF($EY223>_xlfn.AGGREGATE(2,6,Medel_T[[Slut]:[Slut]]),0,INDEX(Medel_T[],Hist_Tab[[#This Row],[Ref]:[Ref]],MATCH(Hist_Tab[[#Headers],[20-10D T]],Medel_T[#Headers],0))))","v":0}]
[null,null,null,null,null,null,null,null,null,null,null,null,null,null,null,null,null,null,null,null,null,null,null,null,null,null,null,null,null,null,null,null,null,null,null,null,null,null,null,null,null,null,null,null,null,null,null,null,null,null,null,null,null,null,null,null,null,null,null,null,null,null,null,null,null,null,null,null,null,null,null,null,null,null,null,null,null,null,null,null,null,null,null,null,null,null,null,null,null,null,null,null,null,null,null,null,null,null,null,null,null,null,null,null,null,null,null,null,null,null,null,null,null,null,null,null,null,null,null,null,null,null,null,null,null,null,null,null,null,null,null,null,null,null,null,null,null,null,null,null,null,null,null,null,null,null,null,null,null,null,null,null,{"$f":"ROWS($EW$20:EW223)","v":204},{"$f":"IFERROR(MATCH(Hist_Tab[[#This Row],[Ref]],Medel_T[NrX],0),1)","v":1},{"$f":"INT((ROW(Hist_Tab[[#This Row],[Ref]])-ROW(Hist_Tab[[#Headers],[Ref]])-1)/4)+1","v":52},{"$f":"COUNTIF($EY$19:EY223,Hist_Tab[[#This Row],[Ref]])","v":1},{"$f":"IFERROR(INDEX(Medel_T[Start],Hist_Tab[[#This Row],[Ref]]),_xlfn.AGGREGATE(4,6,Medel_T[Start]))","v":"00:00:00"},{"$f":"IFERROR(INDEX(Medel_T[Slut],Hist_Tab[[#This Row],[Ref]]),_xlfn.AGGREGATE(4,6,Medel_T[Slut]))","v":"00:00:00"},{"$f":"IF(EW222=0,Hist_Tab[[#This Row],[ÅrB]],IF(Hist_Tab[[#This Row],[per/p]]<2,Hist_Tab[[#This Row],[ÅrB]],Hist_Tab[[#This Row],[År S]]))","v":"00:00:00"},{"$f":"IF(Hist_Tab[[#This Row],[Rad]:[Rad]]=0,-1,IF($EY224>_xlfn.AGGREGATE(2,6,Medel_T[[Slut]:[Slut]]),0,INDEX(Medel_T[],Hist_Tab[[#This Row],[Ref]:[Ref]],MATCH(Hist_Tab[[#Headers],[HöA T]],Medel_T[#Headers],0))))","v":0},{"$f":"IF(Hist_Tab[[#This Row],[Rad]:[Rad]]=0,0,IF($EY224>_xlfn.AGGREGATE(2,6,Medel_T[[Slut]:[Slut]]),0,INDEX(Medel_T[],Hist_Tab[[#This Row],[Ref]:[Ref]],MATCH(Hist_Tab[[#Headers],[AöA T]],Medel_T[#Headers],0))))","v":0},{"$f":"IF(Hist_Tab[[#This Row],[Rad]:[Rad]]=0,0,IF($EY224>_xlfn.AGGREGATE(2,6,Medel_T[[Slut]:[Slut]]),0,INDEX(Medel_T[],Hist_Tab[[#This Row],[Ref]:[Ref]],MATCH(Hist_Tab[[#Headers],[4AM T]],Medel_T[#Headers],0))))","v":0},{"$f":"IF(Hist_Tab[[#This Row],[Rad]:[Rad]]=0,0,IF($EY224>_xlfn.AGGREGATE(2,6,Medel_T[[Slut]:[Slut]]),0,INDEX(Medel_T[],Hist_Tab[[#This Row],[Ref]:[Ref]],MATCH(Hist_Tab[[#Headers],[15AM T]],Medel_T[#Headers],0))))","v":0},{"$f":"IF(Hist_Tab[[#This Row],[Rad]:[Rad]]=0,0,IF($EY224>_xlfn.AGGREGATE(2,6,Medel_T[[Slut]:[Slut]]),0,INDEX(Medel_T[],Hist_Tab[[#This Row],[Ref]:[Ref]],MATCH(Hist_Tab[[#Headers],[20-10D T]],Medel_T[#Headers],0))))","v":0}]
[null,null,null,null,null,null,null,null,null,null,null,null,null,null,null,null,null,null,null,null,null,null,null,null,null,null,null,null,null,null,null,null,null,null,null,null,null,null,null,null,null,null,null,null,null,null,null,null,null,null,null,null,null,null,null,null,null,null,null,null,null,null,null,null,null,null,null,null,null,null,null,null,null,null,null,null,null,null,null,null,null,null,null,null,null,null,null,null,null,null,null,null,null,null,null,null,null,null,null,null,null,null,null,null,null,null,null,null,null,null,null,null,null,null,null,null,null,null,null,null,null,null,null,null,null,null,null,null,null,null,null,null,null,null,null,null,null,null,null,null,null,null,null,null,null,null,null,null,null,null,null,null,{"$f":"ROWS($EW$20:EW224)","v":205},{"$f":"IFERROR(MATCH(Hist_Tab[[#This Row],[Ref]],Medel_T[NrX],0),1)","v":1},{"$f":"INT((ROW(Hist_Tab[[#This Row],[Ref]])-ROW(Hist_Tab[[#Headers],[Ref]])-1)/4)+1","v":52},{"$f":"COUNTIF($EY$19:EY224,Hist_Tab[[#This Row],[Ref]])","v":2},{"$f":"IFERROR(INDEX(Medel_T[Start],Hist_Tab[[#This Row],[Ref]]),_xlfn.AGGREGATE(4,6,Medel_T[Start]))","v":"00:00:00"},{"$f":"IFERROR(INDEX(Medel_T[Slut],Hist_Tab[[#This Row],[Ref]]),_xlfn.AGGREGATE(4,6,Medel_T[Slut]))","v":"00:00:00"},{"$f":"IF(EW223=0,Hist_Tab[[#This Row],[ÅrB]],IF(Hist_Tab[[#This Row],[per/p]]<2,Hist_Tab[[#This Row],[ÅrB]],Hist_Tab[[#This Row],[År S]]))","v":"00:00:00"},{"$f":"IF(Hist_Tab[[#This Row],[Rad]:[Rad]]=0,-1,IF($EY225>_xlfn.AGGREGATE(2,6,Medel_T[[Slut]:[Slut]]),0,INDEX(Medel_T[],Hist_Tab[[#This Row],[Ref]:[Ref]],MATCH(Hist_Tab[[#Headers],[HöA T]],Medel_T[#Headers],0))))","v":0},{"$f":"IF(Hist_Tab[[#This Row],[Rad]:[Rad]]=0,0,IF($EY225>_xlfn.AGGREGATE(2,6,Medel_T[[Slut]:[Slut]]),0,INDEX(Medel_T[],Hist_Tab[[#This Row],[Ref]:[Ref]],MATCH(Hist_Tab[[#Headers],[AöA T]],Medel_T[#Headers],0))))","v":0},{"$f":"IF(Hist_Tab[[#This Row],[Rad]:[Rad]]=0,0,IF($EY225>_xlfn.AGGREGATE(2,6,Medel_T[[Slut]:[Slut]]),0,INDEX(Medel_T[],Hist_Tab[[#This Row],[Ref]:[Ref]],MATCH(Hist_Tab[[#Headers],[4AM T]],Medel_T[#Headers],0))))","v":0},{"$f":"IF(Hist_Tab[[#This Row],[Rad]:[Rad]]=0,0,IF($EY225>_xlfn.AGGREGATE(2,6,Medel_T[[Slut]:[Slut]]),0,INDEX(Medel_T[],Hist_Tab[[#This Row],[Ref]:[Ref]],MATCH(Hist_Tab[[#Headers],[15AM T]],Medel_T[#Headers],0))))","v":0},{"$f":"IF(Hist_Tab[[#This Row],[Rad]:[Rad]]=0,0,IF($EY225>_xlfn.AGGREGATE(2,6,Medel_T[[Slut]:[Slut]]),0,INDEX(Medel_T[],Hist_Tab[[#This Row],[Ref]:[Ref]],MATCH(Hist_Tab[[#Headers],[20-10D T]],Medel_T[#Headers],0))))","v":0}]
[null,null,null,null,null,null,null,null,null,null,null,null,null,null,null,null,null,null,null,null,null,null,null,null,null,null,null,null,null,null,null,null,null,null,null,null,null,null,null,null,null,null,null,null,null,null,null,null,null,null,null,null,null,null,null,null,null,null,null,null,null,null,null,null,null,null,null,null,null,null,null,null,null,null,null,null,null,null,null,null,null,null,null,null,null,null,null,null,null,null,null,null,null,null,null,null,null,null,null,null,null,null,null,null,null,null,null,null,null,null,null,null,null,null,null,null,null,null,null,null,null,null,null,null,null,null,null,null,null,null,null,null,null,null,null,null,null,null,null,null,null,null,null,null,null,null,null,null,null,null,null,null,{"$f":"ROWS($EW$20:EW225)","v":206},{"$f":"IFERROR(MATCH(Hist_Tab[[#This Row],[Ref]],Medel_T[NrX],0),1)","v":1},{"$f":"INT((ROW(Hist_Tab[[#This Row],[Ref]])-ROW(Hist_Tab[[#Headers],[Ref]])-1)/4)+1","v":52},{"$f":"COUNTIF($EY$19:EY225,Hist_Tab[[#This Row],[Ref]])","v":3},{"$f":"IFERROR(INDEX(Medel_T[Start],Hist_Tab[[#This Row],[Ref]]),_xlfn.AGGREGATE(4,6,Medel_T[Start]))","v":"00:00:00"},{"$f":"IFERROR(INDEX(Medel_T[Slut],Hist_Tab[[#This Row],[Ref]]),_xlfn.AGGREGATE(4,6,Medel_T[Slut]))","v":"00:00:00"},{"$f":"IF(EW224=0,Hist_Tab[[#This Row],[ÅrB]],IF(Hist_Tab[[#This Row],[per/p]]<2,Hist_Tab[[#This Row],[ÅrB]],Hist_Tab[[#This Row],[År S]]))","v":"00:00:00"},{"$f":"IF(Hist_Tab[[#This Row],[Rad]:[Rad]]=0,-1,IF($EY226>_xlfn.AGGREGATE(2,6,Medel_T[[Slut]:[Slut]]),0,INDEX(Medel_T[],Hist_Tab[[#This Row],[Ref]:[Ref]],MATCH(Hist_Tab[[#Headers],[HöA T]],Medel_T[#Headers],0))))","v":0},{"$f":"IF(Hist_Tab[[#This Row],[Rad]:[Rad]]=0,0,IF($EY226>_xlfn.AGGREGATE(2,6,Medel_T[[Slut]:[Slut]]),0,INDEX(Medel_T[],Hist_Tab[[#This Row],[Ref]:[Ref]],MATCH(Hist_Tab[[#Headers],[AöA T]],Medel_T[#Headers],0))))","v":0},{"$f":"IF(Hist_Tab[[#This Row],[Rad]:[Rad]]=0,0,IF($EY226>_xlfn.AGGREGATE(2,6,Medel_T[[Slut]:[Slut]]),0,INDEX(Medel_T[],Hist_Tab[[#This Row],[Ref]:[Ref]],MATCH(Hist_Tab[[#Headers],[4AM T]],Medel_T[#Headers],0))))","v":0},{"$f":"IF(Hist_Tab[[#This Row],[Rad]:[Rad]]=0,0,IF($EY226>_xlfn.AGGREGATE(2,6,Medel_T[[Slut]:[Slut]]),0,INDEX(Medel_T[],Hist_Tab[[#This Row],[Ref]:[Ref]],MATCH(Hist_Tab[[#Headers],[15AM T]],Medel_T[#Headers],0))))","v":0},{"$f":"IF(Hist_Tab[[#This Row],[Rad]:[Rad]]=0,0,IF($EY226>_xlfn.AGGREGATE(2,6,Medel_T[[Slut]:[Slut]]),0,INDEX(Medel_T[],Hist_Tab[[#This Row],[Ref]:[Ref]],MATCH(Hist_Tab[[#Headers],[20-10D T]],Medel_T[#Headers],0))))","v":0}]
[null,null,null,null,null,null,null,null,null,null,null,null,null,null,null,null,null,null,null,null,null,null,null,null,null,null,null,null,null,null,null,null,null,null,null,null,null,null,null,null,null,null,null,null,null,null,null,null,null,null,null,null,null,null,null,null,null,null,null,null,null,null,null,null,null,null,null,null,null,null,null,null,null,null,null,null,null,null,null,null,null,null,null,null,null,null,null,null,null,null,null,null,null,null,null,null,null,null,null,null,null,null,null,null,null,null,null,null,null,null,null,null,null,null,null,null,null,null,null,null,null,null,null,null,null,null,null,null,null,null,null,null,null,null,null,null,null,null,null,null,null,null,null,null,null,null,null,null,null,null,null,null,{"$f":"ROWS($EW$20:EW226)","v":207},{"$f":"IFERROR(MATCH(Hist_Tab[[#This Row],[Ref]],Medel_T[NrX],0),1)","v":1},{"$f":"INT((ROW(Hist_Tab[[#This Row],[Ref]])-ROW(Hist_Tab[[#Headers],[Ref]])-1)/4)+1","v":52},{"$f":"COUNTIF($EY$19:EY226,Hist_Tab[[#This Row],[Ref]])","v":4},{"$f":"IFERROR(INDEX(Medel_T[Start],Hist_Tab[[#This Row],[Ref]]),_xlfn.AGGREGATE(4,6,Medel_T[Start]))","v":"00:00:00"},{"$f":"IFERROR(INDEX(Medel_T[Slut],Hist_Tab[[#This Row],[Ref]]),_xlfn.AGGREGATE(4,6,Medel_T[Slut]))","v":"00:00:00"},{"$f":"IF(EW225=0,Hist_Tab[[#This Row],[ÅrB]],IF(Hist_Tab[[#This Row],[per/p]]<2,Hist_Tab[[#This Row],[ÅrB]],Hist_Tab[[#This Row],[År S]]))","v":"00:00:00"},{"$f":"IF(Hist_Tab[[#This Row],[Rad]:[Rad]]=0,-1,IF($EY227>_xlfn.AGGREGATE(2,6,Medel_T[[Slut]:[Slut]]),0,INDEX(Medel_T[],Hist_Tab[[#This Row],[Ref]:[Ref]],MATCH(Hist_Tab[[#Headers],[HöA T]],Medel_T[#Headers],0))))","v":0},{"$f":"IF(Hist_Tab[[#This Row],[Rad]:[Rad]]=0,0,IF($EY227>_xlfn.AGGREGATE(2,6,Medel_T[[Slut]:[Slut]]),0,INDEX(Medel_T[],Hist_Tab[[#This Row],[Ref]:[Ref]],MATCH(Hist_Tab[[#Headers],[AöA T]],Medel_T[#Headers],0))))","v":0},{"$f":"IF(Hist_Tab[[#This Row],[Rad]:[Rad]]=0,0,IF($EY227>_xlfn.AGGREGATE(2,6,Medel_T[[Slut]:[Slut]]),0,INDEX(Medel_T[],Hist_Tab[[#This Row],[Ref]:[Ref]],MATCH(Hist_Tab[[#Headers],[4AM T]],Medel_T[#Headers],0))))","v":0},{"$f":"IF(Hist_Tab[[#This Row],[Rad]:[Rad]]=0,0,IF($EY227>_xlfn.AGGREGATE(2,6,Medel_T[[Slut]:[Slut]]),0,INDEX(Medel_T[],Hist_Tab[[#This Row],[Ref]:[Ref]],MATCH(Hist_Tab[[#Headers],[15AM T]],Medel_T[#Headers],0))))","v":0},{"$f":"IF(Hist_Tab[[#This Row],[Rad]:[Rad]]=0,0,IF($EY227>_xlfn.AGGREGATE(2,6,Medel_T[[Slut]:[Slut]]),0,INDEX(Medel_T[],Hist_Tab[[#This Row],[Ref]:[Ref]],MATCH(Hist_Tab[[#Headers],[20-10D T]],Medel_T[#Headers],0))))","v":0}]
[null,null,null,null,null,null,null,null,null,null,null,null,null,null,null,null,null,null,null,null,null,null,null,null,null,null,null,null,null,null,null,null,null,null,null,null,null,null,null,null,null,null,null,null,null,null,null,null,null,null,null,null,null,null,null,null,null,null,null,null,null,null,null,null,null,null,null,null,null,null,null,null,null,null,null,null,null,null,null,null,null,null,null,null,null,null,null,null,null,null,null,null,null,null,null,null,null,null,null,null,null,null,null,null,null,null,null,null,null,null,null,null,null,null,null,null,null,null,null,null,null,null,null,null,null,null,null,null,null,null,null,null,null,null,null,null,null,null,null,null,null,null,null,null,null,null,null,null,null,null,null,null,{"$f":"ROWS($EW$20:EW227)","v":208},{"$f":"IFERROR(MATCH(Hist_Tab[[#This Row],[Ref]],Medel_T[NrX],0),1)","v":1},{"$f":"INT((ROW(Hist_Tab[[#This Row],[Ref]])-ROW(Hist_Tab[[#Headers],[Ref]])-1)/4)+1","v":53},{"$f":"COUNTIF($EY$19:EY227,Hist_Tab[[#This Row],[Ref]])","v":1},{"$f":"IFERROR(INDEX(Medel_T[Start],Hist_Tab[[#This Row],[Ref]]),_xlfn.AGGREGATE(4,6,Medel_T[Start]))","v":"00:00:00"},{"$f":"IFERROR(INDEX(Medel_T[Slut],Hist_Tab[[#This Row],[Ref]]),_xlfn.AGGREGATE(4,6,Medel_T[Slut]))","v":"00:00:00"},{"$f":"IF(EW226=0,Hist_Tab[[#This Row],[ÅrB]],IF(Hist_Tab[[#This Row],[per/p]]<2,Hist_Tab[[#This Row],[ÅrB]],Hist_Tab[[#This Row],[År S]]))","v":"00:00:00"},{"$f":"IF(Hist_Tab[[#This Row],[Rad]:[Rad]]=0,-1,IF($EY228>_xlfn.AGGREGATE(2,6,Medel_T[[Slut]:[Slut]]),0,INDEX(Medel_T[],Hist_Tab[[#This Row],[Ref]:[Ref]],MATCH(Hist_Tab[[#Headers],[HöA T]],Medel_T[#Headers],0))))","v":0},{"$f":"IF(Hist_Tab[[#This Row],[Rad]:[Rad]]=0,0,IF($EY228>_xlfn.AGGREGATE(2,6,Medel_T[[Slut]:[Slut]]),0,INDEX(Medel_T[],Hist_Tab[[#This Row],[Ref]:[Ref]],MATCH(Hist_Tab[[#Headers],[AöA T]],Medel_T[#Headers],0))))","v":0},{"$f":"IF(Hist_Tab[[#This Row],[Rad]:[Rad]]=0,0,IF($EY228>_xlfn.AGGREGATE(2,6,Medel_T[[Slut]:[Slut]]),0,INDEX(Medel_T[],Hist_Tab[[#This Row],[Ref]:[Ref]],MATCH(Hist_Tab[[#Headers],[4AM T]],Medel_T[#Headers],0))))","v":0},{"$f":"IF(Hist_Tab[[#This Row],[Rad]:[Rad]]=0,0,IF($EY228>_xlfn.AGGREGATE(2,6,Medel_T[[Slut]:[Slut]]),0,INDEX(Medel_T[],Hist_Tab[[#This Row],[Ref]:[Ref]],MATCH(Hist_Tab[[#Headers],[15AM T]],Medel_T[#Headers],0))))","v":0},{"$f":"IF(Hist_Tab[[#This Row],[Rad]:[Rad]]=0,0,IF($EY228>_xlfn.AGGREGATE(2,6,Medel_T[[Slut]:[Slut]]),0,INDEX(Medel_T[],Hist_Tab[[#This Row],[Ref]:[Ref]],MATCH(Hist_Tab[[#Headers],[20-10D T]],Medel_T[#Headers],0))))","v":0}]
[null,null,null,null,null,null,null,null,null,null,null,null,null,null,null,null,null,null,null,null,null,null,null,null,null,null,null,null,null,null,null,null,null,null,null,null,null,null,null,null,null,null,null,null,null,null,null,null,null,null,null,null,null,null,null,null,null,null,null,null,null,null,null,null,null,null,null,null,null,null,null,null,null,null,null,null,null,null,null,null,null,null,null,null,null,null,null,null,null,null,null,null,null,null,null,null,null,null,null,null,null,null,null,null,null,null,null,null,null,null,null,null,null,null,null,null,null,null,null,null,null,null,null,null,null,null,null,null,null,null,null,null,null,null,null,null,null,null,null,null,null,null,null,null,null,null,null,null,null,null,null,null,{"$f":"ROWS($EW$20:EW228)","v":209},{"$f":"IFERROR(MATCH(Hist_Tab[[#This Row],[Ref]],Medel_T[NrX],0),1)","v":1},{"$f":"INT((ROW(Hist_Tab[[#This Row],[Ref]])-ROW(Hist_Tab[[#Headers],[Ref]])-1)/4)+1","v":53},{"$f":"COUNTIF($EY$19:EY228,Hist_Tab[[#This Row],[Ref]])","v":2},{"$f":"IFERROR(INDEX(Medel_T[Start],Hist_Tab[[#This Row],[Ref]]),_xlfn.AGGREGATE(4,6,Medel_T[Start]))","v":"00:00:00"},{"$f":"IFERROR(INDEX(Medel_T[Slut],Hist_Tab[[#This Row],[Ref]]),_xlfn.AGGREGATE(4,6,Medel_T[Slut]))","v":"00:00:00"},{"$f":"IF(EW227=0,Hist_Tab[[#This Row],[ÅrB]],IF(Hist_Tab[[#This Row],[per/p]]<2,Hist_Tab[[#This Row],[ÅrB]],Hist_Tab[[#This Row],[År S]]))","v":"00:00:00"},{"$f":"IF(Hist_Tab[[#This Row],[Rad]:[Rad]]=0,-1,IF($EY229>_xlfn.AGGREGATE(2,6,Medel_T[[Slut]:[Slut]]),0,INDEX(Medel_T[],Hist_Tab[[#This Row],[Ref]:[Ref]],MATCH(Hist_Tab[[#Headers],[HöA T]],Medel_T[#Headers],0))))","v":0},{"$f":"IF(Hist_Tab[[#This Row],[Rad]:[Rad]]=0,0,IF($EY229>_xlfn.AGGREGATE(2,6,Medel_T[[Slut]:[Slut]]),0,INDEX(Medel_T[],Hist_Tab[[#This Row],[Ref]:[Ref]],MATCH(Hist_Tab[[#Headers],[AöA T]],Medel_T[#Headers],0))))","v":0},{"$f":"IF(Hist_Tab[[#This Row],[Rad]:[Rad]]=0,0,IF($EY229>_xlfn.AGGREGATE(2,6,Medel_T[[Slut]:[Slut]]),0,INDEX(Medel_T[],Hist_Tab[[#This Row],[Ref]:[Ref]],MATCH(Hist_Tab[[#Headers],[4AM T]],Medel_T[#Headers],0))))","v":0},{"$f":"IF(Hist_Tab[[#This Row],[Rad]:[Rad]]=0,0,IF($EY229>_xlfn.AGGREGATE(2,6,Medel_T[[Slut]:[Slut]]),0,INDEX(Medel_T[],Hist_Tab[[#This Row],[Ref]:[Ref]],MATCH(Hist_Tab[[#Headers],[15AM T]],Medel_T[#Headers],0))))","v":0},{"$f":"IF(Hist_Tab[[#This Row],[Rad]:[Rad]]=0,0,IF($EY229>_xlfn.AGGREGATE(2,6,Medel_T[[Slut]:[Slut]]),0,INDEX(Medel_T[],Hist_Tab[[#This Row],[Ref]:[Ref]],MATCH(Hist_Tab[[#Headers],[20-10D T]],Medel_T[#Headers],0))))","v":0}]
[null,null,null,null,null,null,null,null,null,null,null,null,null,null,null,null,null,null,null,null,null,null,null,null,null,null,null,null,null,null,null,null,null,null,null,null,null,null,null,null,null,null,null,null,null,null,null,null,null,null,null,null,null,null,null,null,null,null,null,null,null,null,null,null,null,null,null,null,null,null,null,null,null,null,null,null,null,null,null,null,null,null,null,null,null,null,null,null,null,null,null,null,null,null,null,null,null,null,null,null,null,null,null,null,null,null,null,null,null,null,null,null,null,null,null,null,null,null,null,null,null,null,null,null,null,null,null,null,null,null,null,null,null,null,null,null,null,null,null,null,null,null,null,null,null,null,null,null,null,null,null,null,{"$f":"ROWS($EW$20:EW229)","v":210},{"$f":"IFERROR(MATCH(Hist_Tab[[#This Row],[Ref]],Medel_T[NrX],0),1)","v":1},{"$f":"INT((ROW(Hist_Tab[[#This Row],[Ref]])-ROW(Hist_Tab[[#Headers],[Ref]])-1)/4)+1","v":53},{"$f":"COUNTIF($EY$19:EY229,Hist_Tab[[#This Row],[Ref]])","v":3},{"$f":"IFERROR(INDEX(Medel_T[Start],Hist_Tab[[#This Row],[Ref]]),_xlfn.AGGREGATE(4,6,Medel_T[Start]))","v":"00:00:00"},{"$f":"IFERROR(INDEX(Medel_T[Slut],Hist_Tab[[#This Row],[Ref]]),_xlfn.AGGREGATE(4,6,Medel_T[Slut]))","v":"00:00:00"},{"$f":"IF(EW228=0,Hist_Tab[[#This Row],[ÅrB]],IF(Hist_Tab[[#This Row],[per/p]]<2,Hist_Tab[[#This Row],[ÅrB]],Hist_Tab[[#This Row],[År S]]))","v":"00:00:00"},{"$f":"IF(Hist_Tab[[#This Row],[Rad]:[Rad]]=0,-1,IF($EY230>_xlfn.AGGREGATE(2,6,Medel_T[[Slut]:[Slut]]),0,INDEX(Medel_T[],Hist_Tab[[#This Row],[Ref]:[Ref]],MATCH(Hist_Tab[[#Headers],[HöA T]],Medel_T[#Headers],0))))","v":0},{"$f":"IF(Hist_Tab[[#This Row],[Rad]:[Rad]]=0,0,IF($EY230>_xlfn.AGGREGATE(2,6,Medel_T[[Slut]:[Slut]]),0,INDEX(Medel_T[],Hist_Tab[[#This Row],[Ref]:[Ref]],MATCH(Hist_Tab[[#Headers],[AöA T]],Medel_T[#Headers],0))))","v":0},{"$f":"IF(Hist_Tab[[#This Row],[Rad]:[Rad]]=0,0,IF($EY230>_xlfn.AGGREGATE(2,6,Medel_T[[Slut]:[Slut]]),0,INDEX(Medel_T[],Hist_Tab[[#This Row],[Ref]:[Ref]],MATCH(Hist_Tab[[#Headers],[4AM T]],Medel_T[#Headers],0))))","v":0},{"$f":"IF(Hist_Tab[[#This Row],[Rad]:[Rad]]=0,0,IF($EY230>_xlfn.AGGREGATE(2,6,Medel_T[[Slut]:[Slut]]),0,INDEX(Medel_T[],Hist_Tab[[#This Row],[Ref]:[Ref]],MATCH(Hist_Tab[[#Headers],[15AM T]],Medel_T[#Headers],0))))","v":0},{"$f":"IF(Hist_Tab[[#This Row],[Rad]:[Rad]]=0,0,IF($EY230>_xlfn.AGGREGATE(2,6,Medel_T[[Slut]:[Slut]]),0,INDEX(Medel_T[],Hist_Tab[[#This Row],[Ref]:[Ref]],MATCH(Hist_Tab[[#Headers],[20-10D T]],Medel_T[#Headers],0))))","v":0}]
[null,null,null,null,null,null,null,null,null,null,null,null,null,null,null,null,null,null,null,null,null,null,null,null,null,null,null,null,null,null,null,null,null,null,null,null,null,null,null,null,null,null,null,null,null,null,null,null,null,null,null,null,null,null,null,null,null,null,null,null,null,null,null,null,null,null,null,null,null,null,null,null,null,null,null,null,null,null,null,null,null,null,null,null,null,null,null,null,null,null,null,null,null,null,null,null,null,null,null,null,null,null,null,null,null,null,null,null,null,null,null,null,null,null,null,null,null,null,null,null,null,null,null,null,null,null,null,null,null,null,null,null,null,null,null,null,null,null,null,null,null,null,null,null,null,null,null,null,null,null,null,null,{"$f":"ROWS($EW$20:EW230)","v":211},{"$f":"IFERROR(MATCH(Hist_Tab[[#This Row],[Ref]],Medel_T[NrX],0),1)","v":1},{"$f":"INT((ROW(Hist_Tab[[#This Row],[Ref]])-ROW(Hist_Tab[[#Headers],[Ref]])-1)/4)+1","v":53},{"$f":"COUNTIF($EY$19:EY230,Hist_Tab[[#This Row],[Ref]])","v":4},{"$f":"IFERROR(INDEX(Medel_T[Start],Hist_Tab[[#This Row],[Ref]]),_xlfn.AGGREGATE(4,6,Medel_T[Start]))","v":"00:00:00"},{"$f":"IFERROR(INDEX(Medel_T[Slut],Hist_Tab[[#This Row],[Ref]]),_xlfn.AGGREGATE(4,6,Medel_T[Slut]))","v":"00:00:00"},{"$f":"IF(EW229=0,Hist_Tab[[#This Row],[ÅrB]],IF(Hist_Tab[[#This Row],[per/p]]<2,Hist_Tab[[#This Row],[ÅrB]],Hist_Tab[[#This Row],[År S]]))","v":"00:00:00"},{"$f":"IF(Hist_Tab[[#This Row],[Rad]:[Rad]]=0,-1,IF($EY231>_xlfn.AGGREGATE(2,6,Medel_T[[Slut]:[Slut]]),0,INDEX(Medel_T[],Hist_Tab[[#This Row],[Ref]:[Ref]],MATCH(Hist_Tab[[#Headers],[HöA T]],Medel_T[#Headers],0))))","v":0},{"$f":"IF(Hist_Tab[[#This Row],[Rad]:[Rad]]=0,0,IF($EY231>_xlfn.AGGREGATE(2,6,Medel_T[[Slut]:[Slut]]),0,INDEX(Medel_T[],Hist_Tab[[#This Row],[Ref]:[Ref]],MATCH(Hist_Tab[[#Headers],[AöA T]],Medel_T[#Headers],0))))","v":0},{"$f":"IF(Hist_Tab[[#This Row],[Rad]:[Rad]]=0,0,IF($EY231>_xlfn.AGGREGATE(2,6,Medel_T[[Slut]:[Slut]]),0,INDEX(Medel_T[],Hist_Tab[[#This Row],[Ref]:[Ref]],MATCH(Hist_Tab[[#Headers],[4AM T]],Medel_T[#Headers],0))))","v":0},{"$f":"IF(Hist_Tab[[#This Row],[Rad]:[Rad]]=0,0,IF($EY231>_xlfn.AGGREGATE(2,6,Medel_T[[Slut]:[Slut]]),0,INDEX(Medel_T[],Hist_Tab[[#This Row],[Ref]:[Ref]],MATCH(Hist_Tab[[#Headers],[15AM T]],Medel_T[#Headers],0))))","v":0},{"$f":"IF(Hist_Tab[[#This Row],[Rad]:[Rad]]=0,0,IF($EY231>_xlfn.AGGREGATE(2,6,Medel_T[[Slut]:[Slut]]),0,INDEX(Medel_T[],Hist_Tab[[#This Row],[Ref]:[Ref]],MATCH(Hist_Tab[[#Headers],[20-10D T]],Medel_T[#Headers],0))))","v":0}]
[null,null,null,null,null,null,null,null,null,null,null,null,null,null,null,null,null,null,null,null,null,null,null,null,null,null,null,null,null,null,null,null,null,null,null,null,null,null,null,null,null,null,null,null,null,null,null,null,null,null,null,null,null,null,null,null,null,null,null,null,null,null,null,null,null,null,null,null,null,null,null,null,null,null,null,null,null,null,null,null,null,null,null,null,null,null,null,null,null,null,null,null,null,null,null,null,null,null,null,null,null,null,null,null,null,null,null,null,null,null,null,null,null,null,null,null,null,null,null,null,null,null,null,null,null,null,null,null,null,null,null,null,null,null,null,null,null,null,null,null,null,null,null,null,null,null,null,null,null,null,null,null,{"$f":"ROWS($EW$20:EW231)","v":212},{"$f":"IFERROR(MATCH(Hist_Tab[[#This Row],[Ref]],Medel_T[NrX],0),1)","v":1},{"$f":"INT((ROW(Hist_Tab[[#This Row],[Ref]])-ROW(Hist_Tab[[#Headers],[Ref]])-1)/4)+1","v":54},{"$f":"COUNTIF($EY$19:EY231,Hist_Tab[[#This Row],[Ref]])","v":1},{"$f":"IFERROR(INDEX(Medel_T[Start],Hist_Tab[[#This Row],[Ref]]),_xlfn.AGGREGATE(4,6,Medel_T[Start]))","v":"00:00:00"},{"$f":"IFERROR(INDEX(Medel_T[Slut],Hist_Tab[[#This Row],[Ref]]),_xlfn.AGGREGATE(4,6,Medel_T[Slut]))","v":"00:00:00"},{"$f":"IF(EW230=0,Hist_Tab[[#This Row],[ÅrB]],IF(Hist_Tab[[#This Row],[per/p]]<2,Hist_Tab[[#This Row],[ÅrB]],Hist_Tab[[#This Row],[År S]]))","v":"00:00:00"},{"$f":"IF(Hist_Tab[[#This Row],[Rad]:[Rad]]=0,-1,IF($EY232>_xlfn.AGGREGATE(2,6,Medel_T[[Slut]:[Slut]]),0,INDEX(Medel_T[],Hist_Tab[[#This Row],[Ref]:[Ref]],MATCH(Hist_Tab[[#Headers],[HöA T]],Medel_T[#Headers],0))))","v":0},{"$f":"IF(Hist_Tab[[#This Row],[Rad]:[Rad]]=0,0,IF($EY232>_xlfn.AGGREGATE(2,6,Medel_T[[Slut]:[Slut]]),0,INDEX(Medel_T[],Hist_Tab[[#This Row],[Ref]:[Ref]],MATCH(Hist_Tab[[#Headers],[AöA T]],Medel_T[#Headers],0))))","v":0},{"$f":"IF(Hist_Tab[[#This Row],[Rad]:[Rad]]=0,0,IF($EY232>_xlfn.AGGREGATE(2,6,Medel_T[[Slut]:[Slut]]),0,INDEX(Medel_T[],Hist_Tab[[#This Row],[Ref]:[Ref]],MATCH(Hist_Tab[[#Headers],[4AM T]],Medel_T[#Headers],0))))","v":0},{"$f":"IF(Hist_Tab[[#This Row],[Rad]:[Rad]]=0,0,IF($EY232>_xlfn.AGGREGATE(2,6,Medel_T[[Slut]:[Slut]]),0,INDEX(Medel_T[],Hist_Tab[[#This Row],[Ref]:[Ref]],MATCH(Hist_Tab[[#Headers],[15AM T]],Medel_T[#Headers],0))))","v":0},{"$f":"IF(Hist_Tab[[#This Row],[Rad]:[Rad]]=0,0,IF($EY232>_xlfn.AGGREGATE(2,6,Medel_T[[Slut]:[Slut]]),0,INDEX(Medel_T[],Hist_Tab[[#This Row],[Ref]:[Ref]],MATCH(Hist_Tab[[#Headers],[20-10D T]],Medel_T[#Headers],0))))","v":0}]
[null,null,null,null,null,null,null,null,null,null,null,null,null,null,null,null,null,null,null,null,null,null,null,null,null,null,null,null,null,null,null,null,null,null,null,null,null,null,null,null,null,null,null,null,null,null,null,null,null,null,null,null,null,null,null,null,null,null,null,null,null,null,null,null,null,null,null,null,null,null,null,null,null,null,null,null,null,null,null,null,null,null,null,null,null,null,null,null,null,null,null,null,null,null,null,null,null,null,null,null,null,null,null,null,null,null,null,null,null,null,null,null,null,null,null,null,null,null,null,null,null,null,null,null,null,null,null,null,null,null,null,null,null,null,null,null,null,null,null,null,null,null,null,null,null,null,null,null,null,null,null,null,{"$f":"ROWS($EW$20:EW232)","v":213},{"$f":"IFERROR(MATCH(Hist_Tab[[#This Row],[Ref]],Medel_T[NrX],0),1)","v":1},{"$f":"INT((ROW(Hist_Tab[[#This Row],[Ref]])-ROW(Hist_Tab[[#Headers],[Ref]])-1)/4)+1","v":54},{"$f":"COUNTIF($EY$19:EY232,Hist_Tab[[#This Row],[Ref]])","v":2},{"$f":"IFERROR(INDEX(Medel_T[Start],Hist_Tab[[#This Row],[Ref]]),_xlfn.AGGREGATE(4,6,Medel_T[Start]))","v":"00:00:00"},{"$f":"IFERROR(INDEX(Medel_T[Slut],Hist_Tab[[#This Row],[Ref]]),_xlfn.AGGREGATE(4,6,Medel_T[Slut]))","v":"00:00:00"},{"$f":"IF(EW231=0,Hist_Tab[[#This Row],[ÅrB]],IF(Hist_Tab[[#This Row],[per/p]]<2,Hist_Tab[[#This Row],[ÅrB]],Hist_Tab[[#This Row],[År S]]))","v":"00:00:00"},{"$f":"IF(Hist_Tab[[#This Row],[Rad]:[Rad]]=0,-1,IF($EY233>_xlfn.AGGREGATE(2,6,Medel_T[[Slut]:[Slut]]),0,INDEX(Medel_T[],Hist_Tab[[#This Row],[Ref]:[Ref]],MATCH(Hist_Tab[[#Headers],[HöA T]],Medel_T[#Headers],0))))","v":0},{"$f":"IF(Hist_Tab[[#This Row],[Rad]:[Rad]]=0,0,IF($EY233>_xlfn.AGGREGATE(2,6,Medel_T[[Slut]:[Slut]]),0,INDEX(Medel_T[],Hist_Tab[[#This Row],[Ref]:[Ref]],MATCH(Hist_Tab[[#Headers],[AöA T]],Medel_T[#Headers],0))))","v":0},{"$f":"IF(Hist_Tab[[#This Row],[Rad]:[Rad]]=0,0,IF($EY233>_xlfn.AGGREGATE(2,6,Medel_T[[Slut]:[Slut]]),0,INDEX(Medel_T[],Hist_Tab[[#This Row],[Ref]:[Ref]],MATCH(Hist_Tab[[#Headers],[4AM T]],Medel_T[#Headers],0))))","v":0},{"$f":"IF(Hist_Tab[[#This Row],[Rad]:[Rad]]=0,0,IF($EY233>_xlfn.AGGREGATE(2,6,Medel_T[[Slut]:[Slut]]),0,INDEX(Medel_T[],Hist_Tab[[#This Row],[Ref]:[Ref]],MATCH(Hist_Tab[[#Headers],[15AM T]],Medel_T[#Headers],0))))","v":0},{"$f":"IF(Hist_Tab[[#This Row],[Rad]:[Rad]]=0,0,IF($EY233>_xlfn.AGGREGATE(2,6,Medel_T[[Slut]:[Slut]]),0,INDEX(Medel_T[],Hist_Tab[[#This Row],[Ref]:[Ref]],MATCH(Hist_Tab[[#Headers],[20-10D T]],Medel_T[#Headers],0))))","v":0}]
[null,null,null,null,null,null,null,null,null,null,null,null,null,null,null,null,null,null,null,null,null,null,null,null,null,null,null,null,null,null,null,null,null,null,null,null,null,null,null,null,null,null,null,null,null,null,null,null,null,null,null,null,null,null,null,null,null,null,null,null,null,null,null,null,null,null,null,null,null,null,null,null,null,null,null,null,null,null,null,null,null,null,null,null,null,null,null,null,null,null,null,null,null,null,null,null,null,null,null,null,null,null,null,null,null,null,null,null,null,null,null,null,null,null,null,null,null,null,null,null,null,null,null,null,null,null,null,null,null,null,null,null,null,null,null,null,null,null,null,null,null,null,null,null,null,null,null,null,null,null,null,null,{"$f":"ROWS($EW$20:EW233)","v":214},{"$f":"IFERROR(MATCH(Hist_Tab[[#This Row],[Ref]],Medel_T[NrX],0),1)","v":1},{"$f":"INT((ROW(Hist_Tab[[#This Row],[Ref]])-ROW(Hist_Tab[[#Headers],[Ref]])-1)/4)+1","v":54},{"$f":"COUNTIF($EY$19:EY233,Hist_Tab[[#This Row],[Ref]])","v":3},{"$f":"IFERROR(INDEX(Medel_T[Start],Hist_Tab[[#This Row],[Ref]]),_xlfn.AGGREGATE(4,6,Medel_T[Start]))","v":"00:00:00"},{"$f":"IFERROR(INDEX(Medel_T[Slut],Hist_Tab[[#This Row],[Ref]]),_xlfn.AGGREGATE(4,6,Medel_T[Slut]))","v":"00:00:00"},{"$f":"IF(EW232=0,Hist_Tab[[#This Row],[ÅrB]],IF(Hist_Tab[[#This Row],[per/p]]<2,Hist_Tab[[#This Row],[ÅrB]],Hist_Tab[[#This Row],[År S]]))","v":"00:00:00"},{"$f":"IF(Hist_Tab[[#This Row],[Rad]:[Rad]]=0,-1,IF($EY234>_xlfn.AGGREGATE(2,6,Medel_T[[Slut]:[Slut]]),0,INDEX(Medel_T[],Hist_Tab[[#This Row],[Ref]:[Ref]],MATCH(Hist_Tab[[#Headers],[HöA T]],Medel_T[#Headers],0))))","v":0},{"$f":"IF(Hist_Tab[[#This Row],[Rad]:[Rad]]=0,0,IF($EY234>_xlfn.AGGREGATE(2,6,Medel_T[[Slut]:[Slut]]),0,INDEX(Medel_T[],Hist_Tab[[#This Row],[Ref]:[Ref]],MATCH(Hist_Tab[[#Headers],[AöA T]],Medel_T[#Headers],0))))","v":0},{"$f":"IF(Hist_Tab[[#This Row],[Rad]:[Rad]]=0,0,IF($EY234>_xlfn.AGGREGATE(2,6,Medel_T[[Slut]:[Slut]]),0,INDEX(Medel_T[],Hist_Tab[[#This Row],[Ref]:[Ref]],MATCH(Hist_Tab[[#Headers],[4AM T]],Medel_T[#Headers],0))))","v":0},{"$f":"IF(Hist_Tab[[#This Row],[Rad]:[Rad]]=0,0,IF($EY234>_xlfn.AGGREGATE(2,6,Medel_T[[Slut]:[Slut]]),0,INDEX(Medel_T[],Hist_Tab[[#This Row],[Ref]:[Ref]],MATCH(Hist_Tab[[#Headers],[15AM T]],Medel_T[#Headers],0))))","v":0},{"$f":"IF(Hist_Tab[[#This Row],[Rad]:[Rad]]=0,0,IF($EY234>_xlfn.AGGREGATE(2,6,Medel_T[[Slut]:[Slut]]),0,INDEX(Medel_T[],Hist_Tab[[#This Row],[Ref]:[Ref]],MATCH(Hist_Tab[[#Headers],[20-10D T]],Medel_T[#Headers],0))))","v":0}]
[null,null,null,null,null,null,null,null,null,null,null,null,null,null,null,null,null,null,null,null,null,null,null,null,null,null,null,null,null,null,null,null,null,null,null,null,null,null,null,null,null,null,null,null,null,null,null,null,null,null,null,null,null,null,null,null,null,null,null,null,null,null,null,null,null,null,null,null,null,null,null,null,null,null,null,null,null,null,null,null,null,null,null,null,null,null,null,null,null,null,null,null,null,null,null,null,null,null,null,null,null,null,null,null,null,null,null,null,null,null,null,null,null,null,null,null,null,null,null,null,null,null,null,null,null,null,null,null,null,null,null,null,null,null,null,null,null,null,null,null,null,null,null,null,null,null,null,null,null,null,null,null,{"$f":"ROWS($EW$20:EW234)","v":215},{"$f":"IFERROR(MATCH(Hist_Tab[[#This Row],[Ref]],Medel_T[NrX],0),1)","v":1},{"$f":"INT((ROW(Hist_Tab[[#This Row],[Ref]])-ROW(Hist_Tab[[#Headers],[Ref]])-1)/4)+1","v":54},{"$f":"COUNTIF($EY$19:EY234,Hist_Tab[[#This Row],[Ref]])","v":4},{"$f":"IFERROR(INDEX(Medel_T[Start],Hist_Tab[[#This Row],[Ref]]),_xlfn.AGGREGATE(4,6,Medel_T[Start]))","v":"00:00:00"},{"$f":"IFERROR(INDEX(Medel_T[Slut],Hist_Tab[[#This Row],[Ref]]),_xlfn.AGGREGATE(4,6,Medel_T[Slut]))","v":"00:00:00"},{"$f":"IF(EW233=0,Hist_Tab[[#This Row],[ÅrB]],IF(Hist_Tab[[#This Row],[per/p]]<2,Hist_Tab[[#This Row],[ÅrB]],Hist_Tab[[#This Row],[År S]]))","v":"00:00:00"},{"$f":"IF(Hist_Tab[[#This Row],[Rad]:[Rad]]=0,-1,IF($EY235>_xlfn.AGGREGATE(2,6,Medel_T[[Slut]:[Slut]]),0,INDEX(Medel_T[],Hist_Tab[[#This Row],[Ref]:[Ref]],MATCH(Hist_Tab[[#Headers],[HöA T]],Medel_T[#Headers],0))))","v":0},{"$f":"IF(Hist_Tab[[#This Row],[Rad]:[Rad]]=0,0,IF($EY235>_xlfn.AGGREGATE(2,6,Medel_T[[Slut]:[Slut]]),0,INDEX(Medel_T[],Hist_Tab[[#This Row],[Ref]:[Ref]],MATCH(Hist_Tab[[#Headers],[AöA T]],Medel_T[#Headers],0))))","v":0},{"$f":"IF(Hist_Tab[[#This Row],[Rad]:[Rad]]=0,0,IF($EY235>_xlfn.AGGREGATE(2,6,Medel_T[[Slut]:[Slut]]),0,INDEX(Medel_T[],Hist_Tab[[#This Row],[Ref]:[Ref]],MATCH(Hist_Tab[[#Headers],[4AM T]],Medel_T[#Headers],0))))","v":0},{"$f":"IF(Hist_Tab[[#This Row],[Rad]:[Rad]]=0,0,IF($EY235>_xlfn.AGGREGATE(2,6,Medel_T[[Slut]:[Slut]]),0,INDEX(Medel_T[],Hist_Tab[[#This Row],[Ref]:[Ref]],MATCH(Hist_Tab[[#Headers],[15AM T]],Medel_T[#Headers],0))))","v":0},{"$f":"IF(Hist_Tab[[#This Row],[Rad]:[Rad]]=0,0,IF($EY235>_xlfn.AGGREGATE(2,6,Medel_T[[Slut]:[Slut]]),0,INDEX(Medel_T[],Hist_Tab[[#This Row],[Ref]:[Ref]],MATCH(Hist_Tab[[#Headers],[20-10D T]],Medel_T[#Headers],0))))","v":0}]
[null,null,null,null,null,null,null,null,null,null,null,null,null,null,null,null,null,null,null,null,null,null,null,null,null,null,null,null,null,null,null,null,null,null,null,null,null,null,null,null,null,null,null,null,null,null,null,null,null,null,null,null,null,null,null,null,null,null,null,null,null,null,null,null,null,null,null,null,null,null,null,null,null,null,null,null,null,null,null,null,null,null,null,null,null,null,null,null,null,null,null,null,null,null,null,null,null,null,null,null,null,null,null,null,null,null,null,null,null,null,null,null,null,null,null,null,null,null,null,null,null,null,null,null,null,null,null,null,null,null,null,null,null,null,null,null,null,null,null,null,null,null,null,null,null,null,null,null,null,null,null,null,{"$f":"ROWS($EW$20:EW235)","v":216},{"$f":"IFERROR(MATCH(Hist_Tab[[#This Row],[Ref]],Medel_T[NrX],0),1)","v":1},{"$f":"INT((ROW(Hist_Tab[[#This Row],[Ref]])-ROW(Hist_Tab[[#Headers],[Ref]])-1)/4)+1","v":55},{"$f":"COUNTIF($EY$19:EY235,Hist_Tab[[#This Row],[Ref]])","v":1},{"$f":"IFERROR(INDEX(Medel_T[Start],Hist_Tab[[#This Row],[Ref]]),_xlfn.AGGREGATE(4,6,Medel_T[Start]))","v":"00:00:00"},{"$f":"IFERROR(INDEX(Medel_T[Slut],Hist_Tab[[#This Row],[Ref]]),_xlfn.AGGREGATE(4,6,Medel_T[Slut]))","v":"00:00:00"},{"$f":"IF(EW234=0,Hist_Tab[[#This Row],[ÅrB]],IF(Hist_Tab[[#This Row],[per/p]]<2,Hist_Tab[[#This Row],[ÅrB]],Hist_Tab[[#This Row],[År S]]))","v":"00:00:00"},{"$f":"IF(Hist_Tab[[#This Row],[Rad]:[Rad]]=0,-1,IF($EY236>_xlfn.AGGREGATE(2,6,Medel_T[[Slut]:[Slut]]),0,INDEX(Medel_T[],Hist_Tab[[#This Row],[Ref]:[Ref]],MATCH(Hist_Tab[[#Headers],[HöA T]],Medel_T[#Headers],0))))","v":0},{"$f":"IF(Hist_Tab[[#This Row],[Rad]:[Rad]]=0,0,IF($EY236>_xlfn.AGGREGATE(2,6,Medel_T[[Slut]:[Slut]]),0,INDEX(Medel_T[],Hist_Tab[[#This Row],[Ref]:[Ref]],MATCH(Hist_Tab[[#Headers],[AöA T]],Medel_T[#Headers],0))))","v":0},{"$f":"IF(Hist_Tab[[#This Row],[Rad]:[Rad]]=0,0,IF($EY236>_xlfn.AGGREGATE(2,6,Medel_T[[Slut]:[Slut]]),0,INDEX(Medel_T[],Hist_Tab[[#This Row],[Ref]:[Ref]],MATCH(Hist_Tab[[#Headers],[4AM T]],Medel_T[#Headers],0))))","v":0},{"$f":"IF(Hist_Tab[[#This Row],[Rad]:[Rad]]=0,0,IF($EY236>_xlfn.AGGREGATE(2,6,Medel_T[[Slut]:[Slut]]),0,INDEX(Medel_T[],Hist_Tab[[#This Row],[Ref]:[Ref]],MATCH(Hist_Tab[[#Headers],[15AM T]],Medel_T[#Headers],0))))","v":0},{"$f":"IF(Hist_Tab[[#This Row],[Rad]:[Rad]]=0,0,IF($EY236>_xlfn.AGGREGATE(2,6,Medel_T[[Slut]:[Slut]]),0,INDEX(Medel_T[],Hist_Tab[[#This Row],[Ref]:[Ref]],MATCH(Hist_Tab[[#Headers],[20-10D T]],Medel_T[#Headers],0))))","v":0}]
[null,null,null,null,null,null,null,null,null,null,null,null,null,null,null,null,null,null,null,null,null,null,null,null,null,null,null,null,null,null,null,null,null,null,null,null,null,null,null,null,null,null,null,null,null,null,null,null,null,null,null,null,null,null,null,null,null,null,null,null,null,null,null,null,null,null,null,null,null,null,null,null,null,null,null,null,null,null,null,null,null,null,null,null,null,null,null,null,null,null,null,null,null,null,null,null,null,null,null,null,null,null,null,null,null,null,null,null,null,null,null,null,null,null,null,null,null,null,null,null,null,null,null,null,null,null,null,null,null,null,null,null,null,null,null,null,null,null,null,null,null,null,null,null,null,null,null,null,null,null,null,null,{"$f":"ROWS($EW$20:EW236)","v":217},{"$f":"IFERROR(MATCH(Hist_Tab[[#This Row],[Ref]],Medel_T[NrX],0),1)","v":1},{"$f":"INT((ROW(Hist_Tab[[#This Row],[Ref]])-ROW(Hist_Tab[[#Headers],[Ref]])-1)/4)+1","v":55},{"$f":"COUNTIF($EY$19:EY236,Hist_Tab[[#This Row],[Ref]])","v":2},{"$f":"IFERROR(INDEX(Medel_T[Start],Hist_Tab[[#This Row],[Ref]]),_xlfn.AGGREGATE(4,6,Medel_T[Start]))","v":"00:00:00"},{"$f":"IFERROR(INDEX(Medel_T[Slut],Hist_Tab[[#This Row],[Ref]]),_xlfn.AGGREGATE(4,6,Medel_T[Slut]))","v":"00:00:00"},{"$f":"IF(EW235=0,Hist_Tab[[#This Row],[ÅrB]],IF(Hist_Tab[[#This Row],[per/p]]<2,Hist_Tab[[#This Row],[ÅrB]],Hist_Tab[[#This Row],[År S]]))","v":"00:00:00"},{"$f":"IF(Hist_Tab[[#This Row],[Rad]:[Rad]]=0,-1,IF($EY237>_xlfn.AGGREGATE(2,6,Medel_T[[Slut]:[Slut]]),0,INDEX(Medel_T[],Hist_Tab[[#This Row],[Ref]:[Ref]],MATCH(Hist_Tab[[#Headers],[HöA T]],Medel_T[#Headers],0))))","v":0},{"$f":"IF(Hist_Tab[[#This Row],[Rad]:[Rad]]=0,0,IF($EY237>_xlfn.AGGREGATE(2,6,Medel_T[[Slut]:[Slut]]),0,INDEX(Medel_T[],Hist_Tab[[#This Row],[Ref]:[Ref]],MATCH(Hist_Tab[[#Headers],[AöA T]],Medel_T[#Headers],0))))","v":0},{"$f":"IF(Hist_Tab[[#This Row],[Rad]:[Rad]]=0,0,IF($EY237>_xlfn.AGGREGATE(2,6,Medel_T[[Slut]:[Slut]]),0,INDEX(Medel_T[],Hist_Tab[[#This Row],[Ref]:[Ref]],MATCH(Hist_Tab[[#Headers],[4AM T]],Medel_T[#Headers],0))))","v":0},{"$f":"IF(Hist_Tab[[#This Row],[Rad]:[Rad]]=0,0,IF($EY237>_xlfn.AGGREGATE(2,6,Medel_T[[Slut]:[Slut]]),0,INDEX(Medel_T[],Hist_Tab[[#This Row],[Ref]:[Ref]],MATCH(Hist_Tab[[#Headers],[15AM T]],Medel_T[#Headers],0))))","v":0},{"$f":"IF(Hist_Tab[[#This Row],[Rad]:[Rad]]=0,0,IF($EY237>_xlfn.AGGREGATE(2,6,Medel_T[[Slut]:[Slut]]),0,INDEX(Medel_T[],Hist_Tab[[#This Row],[Ref]:[Ref]],MATCH(Hist_Tab[[#Headers],[20-10D T]],Medel_T[#Headers],0))))","v":0}]
[null,null,null,null,null,null,null,null,null,null,null,null,null,null,null,null,null,null,null,null,null,null,null,null,null,null,null,null,null,null,null,null,null,null,null,null,null,null,null,null,null,null,null,null,null,null,null,null,null,null,null,null,null,null,null,null,null,null,null,null,null,null,null,null,null,null,null,null,null,null,null,null,null,null,null,null,null,null,null,null,null,null,null,null,null,null,null,null,null,null,null,null,null,null,null,null,null,null,null,null,null,null,null,null,null,null,null,null,null,null,null,null,null,null,null,null,null,null,null,null,null,null,null,null,null,null,null,null,null,null,null,null,null,null,null,null,null,null,null,null,null,null,null,null,null,null,null,null,null,null,null,null,{"$f":"ROWS($EW$20:EW237)","v":218},{"$f":"IFERROR(MATCH(Hist_Tab[[#This Row],[Ref]],Medel_T[NrX],0),1)","v":1},{"$f":"INT((ROW(Hist_Tab[[#This Row],[Ref]])-ROW(Hist_Tab[[#Headers],[Ref]])-1)/4)+1","v":55},{"$f":"COUNTIF($EY$19:EY237,Hist_Tab[[#This Row],[Ref]])","v":3},{"$f":"IFERROR(INDEX(Medel_T[Start],Hist_Tab[[#This Row],[Ref]]),_xlfn.AGGREGATE(4,6,Medel_T[Start]))","v":"00:00:00"},{"$f":"IFERROR(INDEX(Medel_T[Slut],Hist_Tab[[#This Row],[Ref]]),_xlfn.AGGREGATE(4,6,Medel_T[Slut]))","v":"00:00:00"},{"$f":"IF(EW236=0,Hist_Tab[[#This Row],[ÅrB]],IF(Hist_Tab[[#This Row],[per/p]]<2,Hist_Tab[[#This Row],[ÅrB]],Hist_Tab[[#This Row],[År S]]))","v":"00:00:00"},{"$f":"IF(Hist_Tab[[#This Row],[Rad]:[Rad]]=0,-1,IF($EY238>_xlfn.AGGREGATE(2,6,Medel_T[[Slut]:[Slut]]),0,INDEX(Medel_T[],Hist_Tab[[#This Row],[Ref]:[Ref]],MATCH(Hist_Tab[[#Headers],[HöA T]],Medel_T[#Headers],0))))","v":0},{"$f":"IF(Hist_Tab[[#This Row],[Rad]:[Rad]]=0,0,IF($EY238>_xlfn.AGGREGATE(2,6,Medel_T[[Slut]:[Slut]]),0,INDEX(Medel_T[],Hist_Tab[[#This Row],[Ref]:[Ref]],MATCH(Hist_Tab[[#Headers],[AöA T]],Medel_T[#Headers],0))))","v":0},{"$f":"IF(Hist_Tab[[#This Row],[Rad]:[Rad]]=0,0,IF($EY238>_xlfn.AGGREGATE(2,6,Medel_T[[Slut]:[Slut]]),0,INDEX(Medel_T[],Hist_Tab[[#This Row],[Ref]:[Ref]],MATCH(Hist_Tab[[#Headers],[4AM T]],Medel_T[#Headers],0))))","v":0},{"$f":"IF(Hist_Tab[[#This Row],[Rad]:[Rad]]=0,0,IF($EY238>_xlfn.AGGREGATE(2,6,Medel_T[[Slut]:[Slut]]),0,INDEX(Medel_T[],Hist_Tab[[#This Row],[Ref]:[Ref]],MATCH(Hist_Tab[[#Headers],[15AM T]],Medel_T[#Headers],0))))","v":0},{"$f":"IF(Hist_Tab[[#This Row],[Rad]:[Rad]]=0,0,IF($EY238>_xlfn.AGGREGATE(2,6,Medel_T[[Slut]:[Slut]]),0,INDEX(Medel_T[],Hist_Tab[[#This Row],[Ref]:[Ref]],MATCH(Hist_Tab[[#Headers],[20-10D T]],Medel_T[#Headers],0))))","v":0}]
[null,null,null,null,null,null,null,null,null,null,null,null,null,null,null,null,null,null,null,null,null,null,null,null,null,null,null,null,null,null,null,null,null,null,null,null,null,null,null,null,null,null,null,null,null,null,null,null,null,null,null,null,null,null,null,null,null,null,null,null,null,null,null,null,null,null,null,null,null,null,null,null,null,null,null,null,null,null,null,null,null,null,null,null,null,null,null,null,null,null,null,null,null,null,null,null,null,null,null,null,null,null,null,null,null,null,null,null,null,null,null,null,null,null,null,null,null,null,null,null,null,null,null,null,null,null,null,null,null,null,null,null,null,null,null,null,null,null,null,null,null,null,null,null,null,null,null,null,null,null,null,null,{"$f":"ROWS($EW$20:EW238)","v":219},{"$f":"IFERROR(MATCH(Hist_Tab[[#This Row],[Ref]],Medel_T[NrX],0),1)","v":1},{"$f":"INT((ROW(Hist_Tab[[#This Row],[Ref]])-ROW(Hist_Tab[[#Headers],[Ref]])-1)/4)+1","v":55},{"$f":"COUNTIF($EY$19:EY238,Hist_Tab[[#This Row],[Ref]])","v":4},{"$f":"IFERROR(INDEX(Medel_T[Start],Hist_Tab[[#This Row],[Ref]]),_xlfn.AGGREGATE(4,6,Medel_T[Start]))","v":"00:00:00"},{"$f":"IFERROR(INDEX(Medel_T[Slut],Hist_Tab[[#This Row],[Ref]]),_xlfn.AGGREGATE(4,6,Medel_T[Slut]))","v":"00:00:00"},{"$f":"IF(EW237=0,Hist_Tab[[#This Row],[ÅrB]],IF(Hist_Tab[[#This Row],[per/p]]<2,Hist_Tab[[#This Row],[ÅrB]],Hist_Tab[[#This Row],[År S]]))","v":"00:00:00"},{"$f":"IF(Hist_Tab[[#This Row],[Rad]:[Rad]]=0,-1,IF($EY239>_xlfn.AGGREGATE(2,6,Medel_T[[Slut]:[Slut]]),0,INDEX(Medel_T[],Hist_Tab[[#This Row],[Ref]:[Ref]],MATCH(Hist_Tab[[#Headers],[HöA T]],Medel_T[#Headers],0))))","v":0},{"$f":"IF(Hist_Tab[[#This Row],[Rad]:[Rad]]=0,0,IF($EY239>_xlfn.AGGREGATE(2,6,Medel_T[[Slut]:[Slut]]),0,INDEX(Medel_T[],Hist_Tab[[#This Row],[Ref]:[Ref]],MATCH(Hist_Tab[[#Headers],[AöA T]],Medel_T[#Headers],0))))","v":0},{"$f":"IF(Hist_Tab[[#This Row],[Rad]:[Rad]]=0,0,IF($EY239>_xlfn.AGGREGATE(2,6,Medel_T[[Slut]:[Slut]]),0,INDEX(Medel_T[],Hist_Tab[[#This Row],[Ref]:[Ref]],MATCH(Hist_Tab[[#Headers],[4AM T]],Medel_T[#Headers],0))))","v":0},{"$f":"IF(Hist_Tab[[#This Row],[Rad]:[Rad]]=0,0,IF($EY239>_xlfn.AGGREGATE(2,6,Medel_T[[Slut]:[Slut]]),0,INDEX(Medel_T[],Hist_Tab[[#This Row],[Ref]:[Ref]],MATCH(Hist_Tab[[#Headers],[15AM T]],Medel_T[#Headers],0))))","v":0},{"$f":"IF(Hist_Tab[[#This Row],[Rad]:[Rad]]=0,0,IF($EY239>_xlfn.AGGREGATE(2,6,Medel_T[[Slut]:[Slut]]),0,INDEX(Medel_T[],Hist_Tab[[#This Row],[Ref]:[Ref]],MATCH(Hist_Tab[[#Headers],[20-10D T]],Medel_T[#Headers],0))))","v":0}]
[null,null,null,null,null,null,null,null,null,null,null,null,null,null,null,null,null,null,null,null,null,null,null,null,null,null,null,null,null,null,null,null,null,null,null,null,null,null,null,null,null,null,null,null,null,null,null,null,null,null,null,null,null,null,null,null,null,null,null,null,null,null,null,null,null,null,null,null,null,null,null,null,null,null,null,null,null,null,null,null,null,null,null,null,null,null,null,null,null,null,null,null,null,null,null,null,null,null,null,null,null,null,null,null,null,null,null,null,null,null,null,null,null,null,null,null,null,null,null,null,null,null,null,null,null,null,null,null,null,null,null,null,null,null,null,null,null,null,null,null,null,null,null,null,null,null,null,null,null,null,null,null,{"$f":"ROWS($EW$20:EW239)","v":220},{"$f":"IFERROR(MATCH(Hist_Tab[[#This Row],[Ref]],Medel_T[NrX],0),1)","v":1},{"$f":"INT((ROW(Hist_Tab[[#This Row],[Ref]])-ROW(Hist_Tab[[#Headers],[Ref]])-1)/4)+1","v":56},{"$f":"COUNTIF($EY$19:EY239,Hist_Tab[[#This Row],[Ref]])","v":1},{"$f":"IFERROR(INDEX(Medel_T[Start],Hist_Tab[[#This Row],[Ref]]),_xlfn.AGGREGATE(4,6,Medel_T[Start]))","v":"00:00:00"},{"$f":"IFERROR(INDEX(Medel_T[Slut],Hist_Tab[[#This Row],[Ref]]),_xlfn.AGGREGATE(4,6,Medel_T[Slut]))","v":"00:00:00"},{"$f":"IF(EW238=0,Hist_Tab[[#This Row],[ÅrB]],IF(Hist_Tab[[#This Row],[per/p]]<2,Hist_Tab[[#This Row],[ÅrB]],Hist_Tab[[#This Row],[År S]]))","v":"00:00:00"},{"$f":"IF(Hist_Tab[[#This Row],[Rad]:[Rad]]=0,-1,IF($EY240>_xlfn.AGGREGATE(2,6,Medel_T[[Slut]:[Slut]]),0,INDEX(Medel_T[],Hist_Tab[[#This Row],[Ref]:[Ref]],MATCH(Hist_Tab[[#Headers],[HöA T]],Medel_T[#Headers],0))))","v":0},{"$f":"IF(Hist_Tab[[#This Row],[Rad]:[Rad]]=0,0,IF($EY240>_xlfn.AGGREGATE(2,6,Medel_T[[Slut]:[Slut]]),0,INDEX(Medel_T[],Hist_Tab[[#This Row],[Ref]:[Ref]],MATCH(Hist_Tab[[#Headers],[AöA T]],Medel_T[#Headers],0))))","v":0},{"$f":"IF(Hist_Tab[[#This Row],[Rad]:[Rad]]=0,0,IF($EY240>_xlfn.AGGREGATE(2,6,Medel_T[[Slut]:[Slut]]),0,INDEX(Medel_T[],Hist_Tab[[#This Row],[Ref]:[Ref]],MATCH(Hist_Tab[[#Headers],[4AM T]],Medel_T[#Headers],0))))","v":0},{"$f":"IF(Hist_Tab[[#This Row],[Rad]:[Rad]]=0,0,IF($EY240>_xlfn.AGGREGATE(2,6,Medel_T[[Slut]:[Slut]]),0,INDEX(Medel_T[],Hist_Tab[[#This Row],[Ref]:[Ref]],MATCH(Hist_Tab[[#Headers],[15AM T]],Medel_T[#Headers],0))))","v":0},{"$f":"IF(Hist_Tab[[#This Row],[Rad]:[Rad]]=0,0,IF($EY240>_xlfn.AGGREGATE(2,6,Medel_T[[Slut]:[Slut]]),0,INDEX(Medel_T[],Hist_Tab[[#This Row],[Ref]:[Ref]],MATCH(Hist_Tab[[#Headers],[20-10D T]],Medel_T[#Headers],0))))","v":0}]
[null,null,null,null,null,null,null,null,null,null,null,null,null,null,null,null,null,null,null,null,null,null,null,null,null,null,null,null,null,null,null,null,null,null,null,null,null,null,null,null,null,null,null,null,null,null,null,null,null,null,null,null,null,null,null,null,null,null,null,null,null,null,null,null,null,null,null,null,null,null,null,null,null,null,null,null,null,null,null,null,null,null,null,null,null,null,null,null,null,null,null,null,null,null,null,null,null,null,null,null,null,null,null,null,null,null,null,null,null,null,null,null,null,null,null,null,null,null,null,null,null,null,null,null,null,null,null,null,null,null,null,null,null,null,null,null,null,null,null,null,null,null,null,null,null,null,null,null,null,null,null,null,{"$f":"ROWS($EW$20:EW240)","v":221},{"$f":"IFERROR(MATCH(Hist_Tab[[#This Row],[Ref]],Medel_T[NrX],0),1)","v":1},{"$f":"INT((ROW(Hist_Tab[[#This Row],[Ref]])-ROW(Hist_Tab[[#Headers],[Ref]])-1)/4)+1","v":56},{"$f":"COUNTIF($EY$19:EY240,Hist_Tab[[#This Row],[Ref]])","v":2},{"$f":"IFERROR(INDEX(Medel_T[Start],Hist_Tab[[#This Row],[Ref]]),_xlfn.AGGREGATE(4,6,Medel_T[Start]))","v":"00:00:00"},{"$f":"IFERROR(INDEX(Medel_T[Slut],Hist_Tab[[#This Row],[Ref]]),_xlfn.AGGREGATE(4,6,Medel_T[Slut]))","v":"00:00:00"},{"$f":"IF(EW239=0,Hist_Tab[[#This Row],[ÅrB]],IF(Hist_Tab[[#This Row],[per/p]]<2,Hist_Tab[[#This Row],[ÅrB]],Hist_Tab[[#This Row],[År S]]))","v":"00:00:00"},{"$f":"IF(Hist_Tab[[#This Row],[Rad]:[Rad]]=0,-1,IF($EY241>_xlfn.AGGREGATE(2,6,Medel_T[[Slut]:[Slut]]),0,INDEX(Medel_T[],Hist_Tab[[#This Row],[Ref]:[Ref]],MATCH(Hist_Tab[[#Headers],[HöA T]],Medel_T[#Headers],0))))","v":0},{"$f":"IF(Hist_Tab[[#This Row],[Rad]:[Rad]]=0,0,IF($EY241>_xlfn.AGGREGATE(2,6,Medel_T[[Slut]:[Slut]]),0,INDEX(Medel_T[],Hist_Tab[[#This Row],[Ref]:[Ref]],MATCH(Hist_Tab[[#Headers],[AöA T]],Medel_T[#Headers],0))))","v":0},{"$f":"IF(Hist_Tab[[#This Row],[Rad]:[Rad]]=0,0,IF($EY241>_xlfn.AGGREGATE(2,6,Medel_T[[Slut]:[Slut]]),0,INDEX(Medel_T[],Hist_Tab[[#This Row],[Ref]:[Ref]],MATCH(Hist_Tab[[#Headers],[4AM T]],Medel_T[#Headers],0))))","v":0},{"$f":"IF(Hist_Tab[[#This Row],[Rad]:[Rad]]=0,0,IF($EY241>_xlfn.AGGREGATE(2,6,Medel_T[[Slut]:[Slut]]),0,INDEX(Medel_T[],Hist_Tab[[#This Row],[Ref]:[Ref]],MATCH(Hist_Tab[[#Headers],[15AM T]],Medel_T[#Headers],0))))","v":0},{"$f":"IF(Hist_Tab[[#This Row],[Rad]:[Rad]]=0,0,IF($EY241>_xlfn.AGGREGATE(2,6,Medel_T[[Slut]:[Slut]]),0,INDEX(Medel_T[],Hist_Tab[[#This Row],[Ref]:[Ref]],MATCH(Hist_Tab[[#Headers],[20-10D T]],Medel_T[#Headers],0))))","v":0}]
[null,null,null,null,null,null,null,null,null,null,null,null,null,null,null,null,null,null,null,null,null,null,null,null,null,null,null,null,null,null,null,null,null,null,null,null,null,null,null,null,null,null,null,null,null,null,null,null,null,null,null,null,null,null,null,null,null,null,null,null,null,null,null,null,null,null,null,null,null,null,null,null,null,null,null,null,null,null,null,null,null,null,null,null,null,null,null,null,null,null,null,null,null,null,null,null,null,null,null,null,null,null,null,null,null,null,null,null,null,null,null,null,null,null,null,null,null,null,null,null,null,null,null,null,null,null,null,null,null,null,null,null,null,null,null,null,null,null,null,null,null,null,null,null,null,null,null,null,null,null,null,null,{"$f":"ROWS($EW$20:EW241)","v":222},{"$f":"IFERROR(MATCH(Hist_Tab[[#This Row],[Ref]],Medel_T[NrX],0),1)","v":1},{"$f":"INT((ROW(Hist_Tab[[#This Row],[Ref]])-ROW(Hist_Tab[[#Headers],[Ref]])-1)/4)+1","v":56},{"$f":"COUNTIF($EY$19:EY241,Hist_Tab[[#This Row],[Ref]])","v":3},{"$f":"IFERROR(INDEX(Medel_T[Start],Hist_Tab[[#This Row],[Ref]]),_xlfn.AGGREGATE(4,6,Medel_T[Start]))","v":"00:00:00"},{"$f":"IFERROR(INDEX(Medel_T[Slut],Hist_Tab[[#This Row],[Ref]]),_xlfn.AGGREGATE(4,6,Medel_T[Slut]))","v":"00:00:00"},{"$f":"IF(EW240=0,Hist_Tab[[#This Row],[ÅrB]],IF(Hist_Tab[[#This Row],[per/p]]<2,Hist_Tab[[#This Row],[ÅrB]],Hist_Tab[[#This Row],[År S]]))","v":"00:00:00"},{"$f":"IF(Hist_Tab[[#This Row],[Rad]:[Rad]]=0,-1,IF($EY242>_xlfn.AGGREGATE(2,6,Medel_T[[Slut]:[Slut]]),0,INDEX(Medel_T[],Hist_Tab[[#This Row],[Ref]:[Ref]],MATCH(Hist_Tab[[#Headers],[HöA T]],Medel_T[#Headers],0))))","v":0},{"$f":"IF(Hist_Tab[[#This Row],[Rad]:[Rad]]=0,0,IF($EY242>_xlfn.AGGREGATE(2,6,Medel_T[[Slut]:[Slut]]),0,INDEX(Medel_T[],Hist_Tab[[#This Row],[Ref]:[Ref]],MATCH(Hist_Tab[[#Headers],[AöA T]],Medel_T[#Headers],0))))","v":0},{"$f":"IF(Hist_Tab[[#This Row],[Rad]:[Rad]]=0,0,IF($EY242>_xlfn.AGGREGATE(2,6,Medel_T[[Slut]:[Slut]]),0,INDEX(Medel_T[],Hist_Tab[[#This Row],[Ref]:[Ref]],MATCH(Hist_Tab[[#Headers],[4AM T]],Medel_T[#Headers],0))))","v":0},{"$f":"IF(Hist_Tab[[#This Row],[Rad]:[Rad]]=0,0,IF($EY242>_xlfn.AGGREGATE(2,6,Medel_T[[Slut]:[Slut]]),0,INDEX(Medel_T[],Hist_Tab[[#This Row],[Ref]:[Ref]],MATCH(Hist_Tab[[#Headers],[15AM T]],Medel_T[#Headers],0))))","v":0},{"$f":"IF(Hist_Tab[[#This Row],[Rad]:[Rad]]=0,0,IF($EY242>_xlfn.AGGREGATE(2,6,Medel_T[[Slut]:[Slut]]),0,INDEX(Medel_T[],Hist_Tab[[#This Row],[Ref]:[Ref]],MATCH(Hist_Tab[[#Headers],[20-10D T]],Medel_T[#Headers],0))))","v":0}]
[null,null,null,null,null,null,null,null,null,null,null,null,null,null,null,null,null,null,null,null,null,null,null,null,null,null,null,null,null,null,null,null,null,null,null,null,null,null,null,null,null,null,null,null,null,null,null,null,null,null,null,null,null,null,null,null,null,null,null,null,null,null,null,null,null,null,null,null,null,null,null,null,null,null,null,null,null,null,null,null,null,null,null,null,null,null,null,null,null,null,null,null,null,null,null,null,null,null,null,null,null,null,null,null,null,null,null,null,null,null,null,null,null,null,null,null,null,null,null,null,null,null,null,null,null,null,null,null,null,null,null,null,null,null,null,null,null,null,null,null,null,null,null,null,null,null,null,null,null,null,null,null,{"$f":"ROWS($EW$20:EW242)","v":223},{"$f":"IFERROR(MATCH(Hist_Tab[[#This Row],[Ref]],Medel_T[NrX],0),1)","v":1},{"$f":"INT((ROW(Hist_Tab[[#This Row],[Ref]])-ROW(Hist_Tab[[#Headers],[Ref]])-1)/4)+1","v":56},{"$f":"COUNTIF($EY$19:EY242,Hist_Tab[[#This Row],[Ref]])","v":4},{"$f":"IFERROR(INDEX(Medel_T[Start],Hist_Tab[[#This Row],[Ref]]),_xlfn.AGGREGATE(4,6,Medel_T[Start]))","v":"00:00:00"},{"$f":"IFERROR(INDEX(Medel_T[Slut],Hist_Tab[[#This Row],[Ref]]),_xlfn.AGGREGATE(4,6,Medel_T[Slut]))","v":"00:00:00"},{"$f":"IF(EW241=0,Hist_Tab[[#This Row],[ÅrB]],IF(Hist_Tab[[#This Row],[per/p]]<2,Hist_Tab[[#This Row],[ÅrB]],Hist_Tab[[#This Row],[År S]]))","v":"00:00:00"},{"$f":"IF(Hist_Tab[[#This Row],[Rad]:[Rad]]=0,-1,IF($EY243>_xlfn.AGGREGATE(2,6,Medel_T[[Slut]:[Slut]]),0,INDEX(Medel_T[],Hist_Tab[[#This Row],[Ref]:[Ref]],MATCH(Hist_Tab[[#Headers],[HöA T]],Medel_T[#Headers],0))))","v":0},{"$f":"IF(Hist_Tab[[#This Row],[Rad]:[Rad]]=0,0,IF($EY243>_xlfn.AGGREGATE(2,6,Medel_T[[Slut]:[Slut]]),0,INDEX(Medel_T[],Hist_Tab[[#This Row],[Ref]:[Ref]],MATCH(Hist_Tab[[#Headers],[AöA T]],Medel_T[#Headers],0))))","v":0},{"$f":"IF(Hist_Tab[[#This Row],[Rad]:[Rad]]=0,0,IF($EY243>_xlfn.AGGREGATE(2,6,Medel_T[[Slut]:[Slut]]),0,INDEX(Medel_T[],Hist_Tab[[#This Row],[Ref]:[Ref]],MATCH(Hist_Tab[[#Headers],[4AM T]],Medel_T[#Headers],0))))","v":0},{"$f":"IF(Hist_Tab[[#This Row],[Rad]:[Rad]]=0,0,IF($EY243>_xlfn.AGGREGATE(2,6,Medel_T[[Slut]:[Slut]]),0,INDEX(Medel_T[],Hist_Tab[[#This Row],[Ref]:[Ref]],MATCH(Hist_Tab[[#Headers],[15AM T]],Medel_T[#Headers],0))))","v":0},{"$f":"IF(Hist_Tab[[#This Row],[Rad]:[Rad]]=0,0,IF($EY243>_xlfn.AGGREGATE(2,6,Medel_T[[Slut]:[Slut]]),0,INDEX(Medel_T[],Hist_Tab[[#This Row],[Ref]:[Ref]],MATCH(Hist_Tab[[#Headers],[20-10D T]],Medel_T[#Headers],0))))","v":0}]
[null,null,null,null,null,null,null,null,null,null,null,null,null,null,null,null,null,null,null,null,null,null,null,null,null,null,null,null,null,null,null,null,null,null,null,null,null,null,null,null,null,null,null,null,null,null,null,null,null,null,null,null,null,null,null,null,null,null,null,null,null,null,null,null,null,null,null,null,null,null,null,null,null,null,null,null,null,null,null,null,null,null,null,null,null,null,null,null,null,null,null,null,null,null,null,null,null,null,null,null,null,null,null,null,null,null,null,null,null,null,null,null,null,null,null,null,null,null,null,null,null,null,null,null,null,null,null,null,null,null,null,null,null,null,null,null,null,null,null,null,null,null,null,null,null,null,null,null,null,null,null,null,{"$f":"ROWS($EW$20:EW243)","v":224},{"$f":"IFERROR(MATCH(Hist_Tab[[#This Row],[Ref]],Medel_T[NrX],0),1)","v":1},{"$f":"INT((ROW(Hist_Tab[[#This Row],[Ref]])-ROW(Hist_Tab[[#Headers],[Ref]])-1)/4)+1","v":57},{"$f":"COUNTIF($EY$19:EY243,Hist_Tab[[#This Row],[Ref]])","v":1},{"$f":"IFERROR(INDEX(Medel_T[Start],Hist_Tab[[#This Row],[Ref]]),_xlfn.AGGREGATE(4,6,Medel_T[Start]))","v":"00:00:00"},{"$f":"IFERROR(INDEX(Medel_T[Slut],Hist_Tab[[#This Row],[Ref]]),_xlfn.AGGREGATE(4,6,Medel_T[Slut]))","v":"00:00:00"},{"$f":"IF(EW242=0,Hist_Tab[[#This Row],[ÅrB]],IF(Hist_Tab[[#This Row],[per/p]]<2,Hist_Tab[[#This Row],[ÅrB]],Hist_Tab[[#This Row],[År S]]))","v":"00:00:00"},{"$f":"IF(Hist_Tab[[#This Row],[Rad]:[Rad]]=0,-1,IF($EY244>_xlfn.AGGREGATE(2,6,Medel_T[[Slut]:[Slut]]),0,INDEX(Medel_T[],Hist_Tab[[#This Row],[Ref]:[Ref]],MATCH(Hist_Tab[[#Headers],[HöA T]],Medel_T[#Headers],0))))","v":0},{"$f":"IF(Hist_Tab[[#This Row],[Rad]:[Rad]]=0,0,IF($EY244>_xlfn.AGGREGATE(2,6,Medel_T[[Slut]:[Slut]]),0,INDEX(Medel_T[],Hist_Tab[[#This Row],[Ref]:[Ref]],MATCH(Hist_Tab[[#Headers],[AöA T]],Medel_T[#Headers],0))))","v":0},{"$f":"IF(Hist_Tab[[#This Row],[Rad]:[Rad]]=0,0,IF($EY244>_xlfn.AGGREGATE(2,6,Medel_T[[Slut]:[Slut]]),0,INDEX(Medel_T[],Hist_Tab[[#This Row],[Ref]:[Ref]],MATCH(Hist_Tab[[#Headers],[4AM T]],Medel_T[#Headers],0))))","v":0},{"$f":"IF(Hist_Tab[[#This Row],[Rad]:[Rad]]=0,0,IF($EY244>_xlfn.AGGREGATE(2,6,Medel_T[[Slut]:[Slut]]),0,INDEX(Medel_T[],Hist_Tab[[#This Row],[Ref]:[Ref]],MATCH(Hist_Tab[[#Headers],[15AM T]],Medel_T[#Headers],0))))","v":0},{"$f":"IF(Hist_Tab[[#This Row],[Rad]:[Rad]]=0,0,IF($EY244>_xlfn.AGGREGATE(2,6,Medel_T[[Slut]:[Slut]]),0,INDEX(Medel_T[],Hist_Tab[[#This Row],[Ref]:[Ref]],MATCH(Hist_Tab[[#Headers],[20-10D T]],Medel_T[#Headers],0))))","v":0}]
[null,null,null,null,null,null,null,null,null,null,null,null,null,null,null,null,null,null,null,null,null,null,null,null,null,null,null,null,null,null,null,null,null,null,null,null,null,null,null,null,null,null,null,null,null,null,null,null,null,null,null,null,null,null,null,null,null,null,null,null,null,null,null,null,null,null,null,null,null,null,null,null,null,null,null,null,null,null,null,null,null,null,null,null,null,null,null,null,null,null,null,null,null,null,null,null,null,null,null,null,null,null,null,null,null,null,null,null,null,null,null,null,null,null,null,null,null,null,null,null,null,null,null,null,null,null,null,null,null,null,null,null,null,null,null,null,null,null,null,null,null,null,null,null,null,null,null,null,null,null,null,null,{"$f":"ROWS($EW$20:EW244)","v":225},{"$f":"IFERROR(MATCH(Hist_Tab[[#This Row],[Ref]],Medel_T[NrX],0),1)","v":1},{"$f":"INT((ROW(Hist_Tab[[#This Row],[Ref]])-ROW(Hist_Tab[[#Headers],[Ref]])-1)/4)+1","v":57},{"$f":"COUNTIF($EY$19:EY244,Hist_Tab[[#This Row],[Ref]])","v":2},{"$f":"IFERROR(INDEX(Medel_T[Start],Hist_Tab[[#This Row],[Ref]]),_xlfn.AGGREGATE(4,6,Medel_T[Start]))","v":"00:00:00"},{"$f":"IFERROR(INDEX(Medel_T[Slut],Hist_Tab[[#This Row],[Ref]]),_xlfn.AGGREGATE(4,6,Medel_T[Slut]))","v":"00:00:00"},{"$f":"IF(EW243=0,Hist_Tab[[#This Row],[ÅrB]],IF(Hist_Tab[[#This Row],[per/p]]<2,Hist_Tab[[#This Row],[ÅrB]],Hist_Tab[[#This Row],[År S]]))","v":"00:00:00"},{"$f":"IF(Hist_Tab[[#This Row],[Rad]:[Rad]]=0,-1,IF($EY245>_xlfn.AGGREGATE(2,6,Medel_T[[Slut]:[Slut]]),0,INDEX(Medel_T[],Hist_Tab[[#This Row],[Ref]:[Ref]],MATCH(Hist_Tab[[#Headers],[HöA T]],Medel_T[#Headers],0))))","v":0},{"$f":"IF(Hist_Tab[[#This Row],[Rad]:[Rad]]=0,0,IF($EY245>_xlfn.AGGREGATE(2,6,Medel_T[[Slut]:[Slut]]),0,INDEX(Medel_T[],Hist_Tab[[#This Row],[Ref]:[Ref]],MATCH(Hist_Tab[[#Headers],[AöA T]],Medel_T[#Headers],0))))","v":0},{"$f":"IF(Hist_Tab[[#This Row],[Rad]:[Rad]]=0,0,IF($EY245>_xlfn.AGGREGATE(2,6,Medel_T[[Slut]:[Slut]]),0,INDEX(Medel_T[],Hist_Tab[[#This Row],[Ref]:[Ref]],MATCH(Hist_Tab[[#Headers],[4AM T]],Medel_T[#Headers],0))))","v":0},{"$f":"IF(Hist_Tab[[#This Row],[Rad]:[Rad]]=0,0,IF($EY245>_xlfn.AGGREGATE(2,6,Medel_T[[Slut]:[Slut]]),0,INDEX(Medel_T[],Hist_Tab[[#This Row],[Ref]:[Ref]],MATCH(Hist_Tab[[#Headers],[15AM T]],Medel_T[#Headers],0))))","v":0},{"$f":"IF(Hist_Tab[[#This Row],[Rad]:[Rad]]=0,0,IF($EY245>_xlfn.AGGREGATE(2,6,Medel_T[[Slut]:[Slut]]),0,INDEX(Medel_T[],Hist_Tab[[#This Row],[Ref]:[Ref]],MATCH(Hist_Tab[[#Headers],[20-10D T]],Medel_T[#Headers],0))))","v":0}]
[null,null,null,null,null,null,null,null,null,null,null,null,null,null,null,null,null,null,null,null,null,null,null,null,null,null,null,null,null,null,null,null,null,null,null,null,null,null,null,null,null,null,null,null,null,null,null,null,null,null,null,null,null,null,null,null,null,null,null,null,null,null,null,null,null,null,null,null,null,null,null,null,null,null,null,null,null,null,null,null,null,null,null,null,null,null,null,null,null,null,null,null,null,null,null,null,null,null,null,null,null,null,null,null,null,null,null,null,null,null,null,null,null,null,null,null,null,null,null,null,null,null,null,null,null,null,null,null,null,null,null,null,null,null,null,null,null,null,null,null,null,null,null,null,null,null,null,null,null,null,null,null,{"$f":"ROWS($EW$20:EW245)","v":226},{"$f":"IFERROR(MATCH(Hist_Tab[[#This Row],[Ref]],Medel_T[NrX],0),1)","v":1},{"$f":"INT((ROW(Hist_Tab[[#This Row],[Ref]])-ROW(Hist_Tab[[#Headers],[Ref]])-1)/4)+1","v":57},{"$f":"COUNTIF($EY$19:EY245,Hist_Tab[[#This Row],[Ref]])","v":3},{"$f":"IFERROR(INDEX(Medel_T[Start],Hist_Tab[[#This Row],[Ref]]),_xlfn.AGGREGATE(4,6,Medel_T[Start]))","v":"00:00:00"},{"$f":"IFERROR(INDEX(Medel_T[Slut],Hist_Tab[[#This Row],[Ref]]),_xlfn.AGGREGATE(4,6,Medel_T[Slut]))","v":"00:00:00"},{"$f":"IF(EW244=0,Hist_Tab[[#This Row],[ÅrB]],IF(Hist_Tab[[#This Row],[per/p]]<2,Hist_Tab[[#This Row],[ÅrB]],Hist_Tab[[#This Row],[År S]]))","v":"00:00:00"},{"$f":"IF(Hist_Tab[[#This Row],[Rad]:[Rad]]=0,-1,IF($EY246>_xlfn.AGGREGATE(2,6,Medel_T[[Slut]:[Slut]]),0,INDEX(Medel_T[],Hist_Tab[[#This Row],[Ref]:[Ref]],MATCH(Hist_Tab[[#Headers],[HöA T]],Medel_T[#Headers],0))))","v":0},{"$f":"IF(Hist_Tab[[#This Row],[Rad]:[Rad]]=0,0,IF($EY246>_xlfn.AGGREGATE(2,6,Medel_T[[Slut]:[Slut]]),0,INDEX(Medel_T[],Hist_Tab[[#This Row],[Ref]:[Ref]],MATCH(Hist_Tab[[#Headers],[AöA T]],Medel_T[#Headers],0))))","v":0},{"$f":"IF(Hist_Tab[[#This Row],[Rad]:[Rad]]=0,0,IF($EY246>_xlfn.AGGREGATE(2,6,Medel_T[[Slut]:[Slut]]),0,INDEX(Medel_T[],Hist_Tab[[#This Row],[Ref]:[Ref]],MATCH(Hist_Tab[[#Headers],[4AM T]],Medel_T[#Headers],0))))","v":0},{"$f":"IF(Hist_Tab[[#This Row],[Rad]:[Rad]]=0,0,IF($EY246>_xlfn.AGGREGATE(2,6,Medel_T[[Slut]:[Slut]]),0,INDEX(Medel_T[],Hist_Tab[[#This Row],[Ref]:[Ref]],MATCH(Hist_Tab[[#Headers],[15AM T]],Medel_T[#Headers],0))))","v":0},{"$f":"IF(Hist_Tab[[#This Row],[Rad]:[Rad]]=0,0,IF($EY246>_xlfn.AGGREGATE(2,6,Medel_T[[Slut]:[Slut]]),0,INDEX(Medel_T[],Hist_Tab[[#This Row],[Ref]:[Ref]],MATCH(Hist_Tab[[#Headers],[20-10D T]],Medel_T[#Headers],0))))","v":0}]
[null,null,null,null,null,null,null,null,null,null,null,null,null,null,null,null,null,null,null,null,null,null,null,null,null,null,null,null,null,null,null,null,null,null,null,null,null,null,null,null,null,null,null,null,null,null,null,null,null,null,null,null,null,null,null,null,null,null,null,null,null,null,null,null,null,null,null,null,null,null,null,null,null,null,null,null,null,null,null,null,null,null,null,null,null,null,null,null,null,null,null,null,null,null,null,null,null,null,null,null,null,null,null,null,null,null,null,null,null,null,null,null,null,null,null,null,null,null,null,null,null,null,null,null,null,null,null,null,null,null,null,null,null,null,null,null,null,null,null,null,null,null,null,null,null,null,null,null,null,null,null,null,{"$f":"ROWS($EW$20:EW246)","v":227},{"$f":"IFERROR(MATCH(Hist_Tab[[#This Row],[Ref]],Medel_T[NrX],0),1)","v":1},{"$f":"INT((ROW(Hist_Tab[[#This Row],[Ref]])-ROW(Hist_Tab[[#Headers],[Ref]])-1)/4)+1","v":57},{"$f":"COUNTIF($EY$19:EY246,Hist_Tab[[#This Row],[Ref]])","v":4},{"$f":"IFERROR(INDEX(Medel_T[Start],Hist_Tab[[#This Row],[Ref]]),_xlfn.AGGREGATE(4,6,Medel_T[Start]))","v":"00:00:00"},{"$f":"IFERROR(INDEX(Medel_T[Slut],Hist_Tab[[#This Row],[Ref]]),_xlfn.AGGREGATE(4,6,Medel_T[Slut]))","v":"00:00:00"},{"$f":"IF(EW245=0,Hist_Tab[[#This Row],[ÅrB]],IF(Hist_Tab[[#This Row],[per/p]]<2,Hist_Tab[[#This Row],[ÅrB]],Hist_Tab[[#This Row],[År S]]))","v":"00:00:00"},{"$f":"IF(Hist_Tab[[#This Row],[Rad]:[Rad]]=0,-1,IF($EY247>_xlfn.AGGREGATE(2,6,Medel_T[[Slut]:[Slut]]),0,INDEX(Medel_T[],Hist_Tab[[#This Row],[Ref]:[Ref]],MATCH(Hist_Tab[[#Headers],[HöA T]],Medel_T[#Headers],0))))","v":0},{"$f":"IF(Hist_Tab[[#This Row],[Rad]:[Rad]]=0,0,IF($EY247>_xlfn.AGGREGATE(2,6,Medel_T[[Slut]:[Slut]]),0,INDEX(Medel_T[],Hist_Tab[[#This Row],[Ref]:[Ref]],MATCH(Hist_Tab[[#Headers],[AöA T]],Medel_T[#Headers],0))))","v":0},{"$f":"IF(Hist_Tab[[#This Row],[Rad]:[Rad]]=0,0,IF($EY247>_xlfn.AGGREGATE(2,6,Medel_T[[Slut]:[Slut]]),0,INDEX(Medel_T[],Hist_Tab[[#This Row],[Ref]:[Ref]],MATCH(Hist_Tab[[#Headers],[4AM T]],Medel_T[#Headers],0))))","v":0},{"$f":"IF(Hist_Tab[[#This Row],[Rad]:[Rad]]=0,0,IF($EY247>_xlfn.AGGREGATE(2,6,Medel_T[[Slut]:[Slut]]),0,INDEX(Medel_T[],Hist_Tab[[#This Row],[Ref]:[Ref]],MATCH(Hist_Tab[[#Headers],[15AM T]],Medel_T[#Headers],0))))","v":0},{"$f":"IF(Hist_Tab[[#This Row],[Rad]:[Rad]]=0,0,IF($EY247>_xlfn.AGGREGATE(2,6,Medel_T[[Slut]:[Slut]]),0,INDEX(Medel_T[],Hist_Tab[[#This Row],[Ref]:[Ref]],MATCH(Hist_Tab[[#Headers],[20-10D T]],Medel_T[#Headers],0))))","v":0}]
[null,null,null,null,null,null,null,null,null,null,null,null,null,null,null,null,null,null,null,null,null,null,null,null,null,null,null,null,null,null,null,null,null,null,null,null,null,null,null,null,null,null,null,null,null,null,null,null,null,null,null,null,null,null,null,null,null,null,null,null,null,null,null,null,null,null,null,null,null,null,null,null,null,null,null,null,null,null,null,null,null,null,null,null,null,null,null,null,null,null,null,null,null,null,null,null,null,null,null,null,null,null,null,null,null,null,null,null,null,null,null,null,null,null,null,null,null,null,null,null,null,null,null,null,null,null,null,null,null,null,null,null,null,null,null,null,null,null,null,null,null,null,null,null,null,null,null,null,null,null,null,null,{"$f":"ROWS($EW$20:EW247)","v":228},{"$f":"IFERROR(MATCH(Hist_Tab[[#This Row],[Ref]],Medel_T[NrX],0),1)","v":1},{"$f":"INT((ROW(Hist_Tab[[#This Row],[Ref]])-ROW(Hist_Tab[[#Headers],[Ref]])-1)/4)+1","v":58},{"$f":"COUNTIF($EY$19:EY247,Hist_Tab[[#This Row],[Ref]])","v":1},{"$f":"IFERROR(INDEX(Medel_T[Start],Hist_Tab[[#This Row],[Ref]]),_xlfn.AGGREGATE(4,6,Medel_T[Start]))","v":"00:00:00"},{"$f":"IFERROR(INDEX(Medel_T[Slut],Hist_Tab[[#This Row],[Ref]]),_xlfn.AGGREGATE(4,6,Medel_T[Slut]))","v":"00:00:00"},{"$f":"IF(EW246=0,Hist_Tab[[#This Row],[ÅrB]],IF(Hist_Tab[[#This Row],[per/p]]<2,Hist_Tab[[#This Row],[ÅrB]],Hist_Tab[[#This Row],[År S]]))","v":"00:00:00"},{"$f":"IF(Hist_Tab[[#This Row],[Rad]:[Rad]]=0,-1,IF($EY248>_xlfn.AGGREGATE(2,6,Medel_T[[Slut]:[Slut]]),0,INDEX(Medel_T[],Hist_Tab[[#This Row],[Ref]:[Ref]],MATCH(Hist_Tab[[#Headers],[HöA T]],Medel_T[#Headers],0))))","v":0},{"$f":"IF(Hist_Tab[[#This Row],[Rad]:[Rad]]=0,0,IF($EY248>_xlfn.AGGREGATE(2,6,Medel_T[[Slut]:[Slut]]),0,INDEX(Medel_T[],Hist_Tab[[#This Row],[Ref]:[Ref]],MATCH(Hist_Tab[[#Headers],[AöA T]],Medel_T[#Headers],0))))","v":0},{"$f":"IF(Hist_Tab[[#This Row],[Rad]:[Rad]]=0,0,IF($EY248>_xlfn.AGGREGATE(2,6,Medel_T[[Slut]:[Slut]]),0,INDEX(Medel_T[],Hist_Tab[[#This Row],[Ref]:[Ref]],MATCH(Hist_Tab[[#Headers],[4AM T]],Medel_T[#Headers],0))))","v":0},{"$f":"IF(Hist_Tab[[#This Row],[Rad]:[Rad]]=0,0,IF($EY248>_xlfn.AGGREGATE(2,6,Medel_T[[Slut]:[Slut]]),0,INDEX(Medel_T[],Hist_Tab[[#This Row],[Ref]:[Ref]],MATCH(Hist_Tab[[#Headers],[15AM T]],Medel_T[#Headers],0))))","v":0},{"$f":"IF(Hist_Tab[[#This Row],[Rad]:[Rad]]=0,0,IF($EY248>_xlfn.AGGREGATE(2,6,Medel_T[[Slut]:[Slut]]),0,INDEX(Medel_T[],Hist_Tab[[#This Row],[Ref]:[Ref]],MATCH(Hist_Tab[[#Headers],[20-10D T]],Medel_T[#Headers],0))))","v":0}]
[null,null,null,null,null,null,null,null,null,null,null,null,null,null,null,null,null,null,null,null,null,null,null,null,null,null,null,null,null,null,null,null,null,null,null,null,null,null,null,null,null,null,null,null,null,null,null,null,null,null,null,null,null,null,null,null,null,null,null,null,null,null,null,null,null,null,null,null,null,null,null,null,null,null,null,null,null,null,null,null,null,null,null,null,null,null,null,null,null,null,null,null,null,null,null,null,null,null,null,null,null,null,null,null,null,null,null,null,null,null,null,null,null,null,null,null,null,null,null,null,null,null,null,null,null,null,null,null,null,null,null,null,null,null,null,null,null,null,null,null,null,null,null,null,null,null,null,null,null,null,null,null,{"$f":"ROWS($EW$20:EW248)","v":229},{"$f":"IFERROR(MATCH(Hist_Tab[[#This Row],[Ref]],Medel_T[NrX],0),1)","v":1},{"$f":"INT((ROW(Hist_Tab[[#This Row],[Ref]])-ROW(Hist_Tab[[#Headers],[Ref]])-1)/4)+1","v":58},{"$f":"COUNTIF($EY$19:EY248,Hist_Tab[[#This Row],[Ref]])","v":2},{"$f":"IFERROR(INDEX(Medel_T[Start],Hist_Tab[[#This Row],[Ref]]),_xlfn.AGGREGATE(4,6,Medel_T[Start]))","v":"00:00:00"},{"$f":"IFERROR(INDEX(Medel_T[Slut],Hist_Tab[[#This Row],[Ref]]),_xlfn.AGGREGATE(4,6,Medel_T[Slut]))","v":"00:00:00"},{"$f":"IF(EW247=0,Hist_Tab[[#This Row],[ÅrB]],IF(Hist_Tab[[#This Row],[per/p]]<2,Hist_Tab[[#This Row],[ÅrB]],Hist_Tab[[#This Row],[År S]]))","v":"00:00:00"},{"$f":"IF(Hist_Tab[[#This Row],[Rad]:[Rad]]=0,-1,IF($EY249>_xlfn.AGGREGATE(2,6,Medel_T[[Slut]:[Slut]]),0,INDEX(Medel_T[],Hist_Tab[[#This Row],[Ref]:[Ref]],MATCH(Hist_Tab[[#Headers],[HöA T]],Medel_T[#Headers],0))))","v":0},{"$f":"IF(Hist_Tab[[#This Row],[Rad]:[Rad]]=0,0,IF($EY249>_xlfn.AGGREGATE(2,6,Medel_T[[Slut]:[Slut]]),0,INDEX(Medel_T[],Hist_Tab[[#This Row],[Ref]:[Ref]],MATCH(Hist_Tab[[#Headers],[AöA T]],Medel_T[#Headers],0))))","v":0},{"$f":"IF(Hist_Tab[[#This Row],[Rad]:[Rad]]=0,0,IF($EY249>_xlfn.AGGREGATE(2,6,Medel_T[[Slut]:[Slut]]),0,INDEX(Medel_T[],Hist_Tab[[#This Row],[Ref]:[Ref]],MATCH(Hist_Tab[[#Headers],[4AM T]],Medel_T[#Headers],0))))","v":0},{"$f":"IF(Hist_Tab[[#This Row],[Rad]:[Rad]]=0,0,IF($EY249>_xlfn.AGGREGATE(2,6,Medel_T[[Slut]:[Slut]]),0,INDEX(Medel_T[],Hist_Tab[[#This Row],[Ref]:[Ref]],MATCH(Hist_Tab[[#Headers],[15AM T]],Medel_T[#Headers],0))))","v":0},{"$f":"IF(Hist_Tab[[#This Row],[Rad]:[Rad]]=0,0,IF($EY249>_xlfn.AGGREGATE(2,6,Medel_T[[Slut]:[Slut]]),0,INDEX(Medel_T[],Hist_Tab[[#This Row],[Ref]:[Ref]],MATCH(Hist_Tab[[#Headers],[20-10D T]],Medel_T[#Headers],0))))","v":0}]
[null,null,null,null,null,null,null,null,null,null,null,null,null,null,null,null,null,null,null,null,null,null,null,null,null,null,null,null,null,null,null,null,null,null,null,null,null,null,null,null,null,null,null,null,null,null,null,null,null,null,null,null,null,null,null,null,null,null,null,null,null,null,null,null,null,null,null,null,null,null,null,null,null,null,null,null,null,null,null,null,null,null,null,null,null,null,null,null,null,null,null,null,null,null,null,null,null,null,null,null,null,null,null,null,null,null,null,null,null,null,null,null,null,null,null,null,null,null,null,null,null,null,null,null,null,null,null,null,null,null,null,null,null,null,null,null,null,null,null,null,null,null,null,null,null,null,null,null,null,null,null,null,{"$f":"ROWS($EW$20:EW249)","v":230},{"$f":"IFERROR(MATCH(Hist_Tab[[#This Row],[Ref]],Medel_T[NrX],0),1)","v":1},{"$f":"INT((ROW(Hist_Tab[[#This Row],[Ref]])-ROW(Hist_Tab[[#Headers],[Ref]])-1)/4)+1","v":58},{"$f":"COUNTIF($EY$19:EY249,Hist_Tab[[#This Row],[Ref]])","v":3},{"$f":"IFERROR(INDEX(Medel_T[Start],Hist_Tab[[#This Row],[Ref]]),_xlfn.AGGREGATE(4,6,Medel_T[Start]))","v":"00:00:00"},{"$f":"IFERROR(INDEX(Medel_T[Slut],Hist_Tab[[#This Row],[Ref]]),_xlfn.AGGREGATE(4,6,Medel_T[Slut]))","v":"00:00:00"},{"$f":"IF(EW248=0,Hist_Tab[[#This Row],[ÅrB]],IF(Hist_Tab[[#This Row],[per/p]]<2,Hist_Tab[[#This Row],[ÅrB]],Hist_Tab[[#This Row],[År S]]))","v":"00:00:00"},{"$f":"IF(Hist_Tab[[#This Row],[Rad]:[Rad]]=0,-1,IF($EY250>_xlfn.AGGREGATE(2,6,Medel_T[[Slut]:[Slut]]),0,INDEX(Medel_T[],Hist_Tab[[#This Row],[Ref]:[Ref]],MATCH(Hist_Tab[[#Headers],[HöA T]],Medel_T[#Headers],0))))","v":0},{"$f":"IF(Hist_Tab[[#This Row],[Rad]:[Rad]]=0,0,IF($EY250>_xlfn.AGGREGATE(2,6,Medel_T[[Slut]:[Slut]]),0,INDEX(Medel_T[],Hist_Tab[[#This Row],[Ref]:[Ref]],MATCH(Hist_Tab[[#Headers],[AöA T]],Medel_T[#Headers],0))))","v":0},{"$f":"IF(Hist_Tab[[#This Row],[Rad]:[Rad]]=0,0,IF($EY250>_xlfn.AGGREGATE(2,6,Medel_T[[Slut]:[Slut]]),0,INDEX(Medel_T[],Hist_Tab[[#This Row],[Ref]:[Ref]],MATCH(Hist_Tab[[#Headers],[4AM T]],Medel_T[#Headers],0))))","v":0},{"$f":"IF(Hist_Tab[[#This Row],[Rad]:[Rad]]=0,0,IF($EY250>_xlfn.AGGREGATE(2,6,Medel_T[[Slut]:[Slut]]),0,INDEX(Medel_T[],Hist_Tab[[#This Row],[Ref]:[Ref]],MATCH(Hist_Tab[[#Headers],[15AM T]],Medel_T[#Headers],0))))","v":0},{"$f":"IF(Hist_Tab[[#This Row],[Rad]:[Rad]]=0,0,IF($EY250>_xlfn.AGGREGATE(2,6,Medel_T[[Slut]:[Slut]]),0,INDEX(Medel_T[],Hist_Tab[[#This Row],[Ref]:[Ref]],MATCH(Hist_Tab[[#Headers],[20-10D T]],Medel_T[#Headers],0))))","v":0}]
[null,null,null,null,null,null,null,null,null,null,null,null,null,null,null,null,null,null,null,null,null,null,null,null,null,null,null,null,null,null,null,null,null,null,null,null,null,null,null,null,null,null,null,null,null,null,null,null,null,null,null,null,null,null,null,null,null,null,null,null,null,null,null,null,null,null,null,null,null,null,null,null,null,null,null,null,null,null,null,null,null,null,null,null,null,null,null,null,null,null,null,null,null,null,null,null,null,null,null,null,null,null,null,null,null,null,null,null,null,null,null,null,null,null,null,null,null,null,null,null,null,null,null,null,null,null,null,null,null,null,null,null,null,null,null,null,null,null,null,null,null,null,null,null,null,null,null,null,null,null,null,null,{"$f":"ROWS($EW$20:EW250)","v":231},{"$f":"IFERROR(MATCH(Hist_Tab[[#This Row],[Ref]],Medel_T[NrX],0),1)","v":1},{"$f":"INT((ROW(Hist_Tab[[#This Row],[Ref]])-ROW(Hist_Tab[[#Headers],[Ref]])-1)/4)+1","v":58},{"$f":"COUNTIF($EY$19:EY250,Hist_Tab[[#This Row],[Ref]])","v":4},{"$f":"IFERROR(INDEX(Medel_T[Start],Hist_Tab[[#This Row],[Ref]]),_xlfn.AGGREGATE(4,6,Medel_T[Start]))","v":"00:00:00"},{"$f":"IFERROR(INDEX(Medel_T[Slut],Hist_Tab[[#This Row],[Ref]]),_xlfn.AGGREGATE(4,6,Medel_T[Slut]))","v":"00:00:00"},{"$f":"IF(EW249=0,Hist_Tab[[#This Row],[ÅrB]],IF(Hist_Tab[[#This Row],[per/p]]<2,Hist_Tab[[#This Row],[ÅrB]],Hist_Tab[[#This Row],[År S]]))","v":"00:00:00"},{"$f":"IF(Hist_Tab[[#This Row],[Rad]:[Rad]]=0,-1,IF($EY251>_xlfn.AGGREGATE(2,6,Medel_T[[Slut]:[Slut]]),0,INDEX(Medel_T[],Hist_Tab[[#This Row],[Ref]:[Ref]],MATCH(Hist_Tab[[#Headers],[HöA T]],Medel_T[#Headers],0))))","v":0},{"$f":"IF(Hist_Tab[[#This Row],[Rad]:[Rad]]=0,0,IF($EY251>_xlfn.AGGREGATE(2,6,Medel_T[[Slut]:[Slut]]),0,INDEX(Medel_T[],Hist_Tab[[#This Row],[Ref]:[Ref]],MATCH(Hist_Tab[[#Headers],[AöA T]],Medel_T[#Headers],0))))","v":0},{"$f":"IF(Hist_Tab[[#This Row],[Rad]:[Rad]]=0,0,IF($EY251>_xlfn.AGGREGATE(2,6,Medel_T[[Slut]:[Slut]]),0,INDEX(Medel_T[],Hist_Tab[[#This Row],[Ref]:[Ref]],MATCH(Hist_Tab[[#Headers],[4AM T]],Medel_T[#Headers],0))))","v":0},{"$f":"IF(Hist_Tab[[#This Row],[Rad]:[Rad]]=0,0,IF($EY251>_xlfn.AGGREGATE(2,6,Medel_T[[Slut]:[Slut]]),0,INDEX(Medel_T[],Hist_Tab[[#This Row],[Ref]:[Ref]],MATCH(Hist_Tab[[#Headers],[15AM T]],Medel_T[#Headers],0))))","v":0},{"$f":"IF(Hist_Tab[[#This Row],[Rad]:[Rad]]=0,0,IF($EY251>_xlfn.AGGREGATE(2,6,Medel_T[[Slut]:[Slut]]),0,INDEX(Medel_T[],Hist_Tab[[#This Row],[Ref]:[Ref]],MATCH(Hist_Tab[[#Headers],[20-10D T]],Medel_T[#Headers],0))))","v":0}]
[null,null,null,null,null,null,null,null,null,null,null,null,null,null,null,null,null,null,null,null,null,null,null,null,null,null,null,null,null,null,null,null,null,null,null,null,null,null,null,null,null,null,null,null,null,null,null,null,null,null,null,null,null,null,null,null,null,null,null,null,null,null,null,null,null,null,null,null,null,null,null,null,null,null,null,null,null,null,null,null,null,null,null,null,null,null,null,null,null,null,null,null,null,null,null,null,null,null,null,null,null,null,null,null,null,null,null,null,null,null,null,null,null,null,null,null,null,null,null,null,null,null,null,null,null,null,null,null,null,null,null,null,null,null,null,null,null,null,null,null,null,null,null,null,null,null,null,null,null,null,null,null,{"$f":"ROWS($EW$20:EW251)","v":232},{"$f":"IFERROR(MATCH(Hist_Tab[[#This Row],[Ref]],Medel_T[NrX],0),1)","v":1},{"$f":"INT((ROW(Hist_Tab[[#This Row],[Ref]])-ROW(Hist_Tab[[#Headers],[Ref]])-1)/4)+1","v":59},{"$f":"COUNTIF($EY$19:EY251,Hist_Tab[[#This Row],[Ref]])","v":1},{"$f":"IFERROR(INDEX(Medel_T[Start],Hist_Tab[[#This Row],[Ref]]),_xlfn.AGGREGATE(4,6,Medel_T[Start]))","v":"00:00:00"},{"$f":"IFERROR(INDEX(Medel_T[Slut],Hist_Tab[[#This Row],[Ref]]),_xlfn.AGGREGATE(4,6,Medel_T[Slut]))","v":"00:00:00"},{"$f":"IF(EW250=0,Hist_Tab[[#This Row],[ÅrB]],IF(Hist_Tab[[#This Row],[per/p]]<2,Hist_Tab[[#This Row],[ÅrB]],Hist_Tab[[#This Row],[År S]]))","v":"00:00:00"},{"$f":"IF(Hist_Tab[[#This Row],[Rad]:[Rad]]=0,-1,IF($EY252>_xlfn.AGGREGATE(2,6,Medel_T[[Slut]:[Slut]]),0,INDEX(Medel_T[],Hist_Tab[[#This Row],[Ref]:[Ref]],MATCH(Hist_Tab[[#Headers],[HöA T]],Medel_T[#Headers],0))))","v":0},{"$f":"IF(Hist_Tab[[#This Row],[Rad]:[Rad]]=0,0,IF($EY252>_xlfn.AGGREGATE(2,6,Medel_T[[Slut]:[Slut]]),0,INDEX(Medel_T[],Hist_Tab[[#This Row],[Ref]:[Ref]],MATCH(Hist_Tab[[#Headers],[AöA T]],Medel_T[#Headers],0))))","v":0},{"$f":"IF(Hist_Tab[[#This Row],[Rad]:[Rad]]=0,0,IF($EY252>_xlfn.AGGREGATE(2,6,Medel_T[[Slut]:[Slut]]),0,INDEX(Medel_T[],Hist_Tab[[#This Row],[Ref]:[Ref]],MATCH(Hist_Tab[[#Headers],[4AM T]],Medel_T[#Headers],0))))","v":0},{"$f":"IF(Hist_Tab[[#This Row],[Rad]:[Rad]]=0,0,IF($EY252>_xlfn.AGGREGATE(2,6,Medel_T[[Slut]:[Slut]]),0,INDEX(Medel_T[],Hist_Tab[[#This Row],[Ref]:[Ref]],MATCH(Hist_Tab[[#Headers],[15AM T]],Medel_T[#Headers],0))))","v":0},{"$f":"IF(Hist_Tab[[#This Row],[Rad]:[Rad]]=0,0,IF($EY252>_xlfn.AGGREGATE(2,6,Medel_T[[Slut]:[Slut]]),0,INDEX(Medel_T[],Hist_Tab[[#This Row],[Ref]:[Ref]],MATCH(Hist_Tab[[#Headers],[20-10D T]],Medel_T[#Headers],0))))","v":0}]
[null,null,null,null,null,null,null,null,null,null,null,null,null,null,null,null,null,null,null,null,null,null,null,null,null,null,null,null,null,null,null,null,null,null,null,null,null,null,null,null,null,null,null,null,null,null,null,null,null,null,null,null,null,null,null,null,null,null,null,null,null,null,null,null,null,null,null,null,null,null,null,null,null,null,null,null,null,null,null,null,null,null,null,null,null,null,null,null,null,null,null,null,null,null,null,null,null,null,null,null,null,null,null,null,null,null,null,null,null,null,null,null,null,null,null,null,null,null,null,null,null,null,null,null,null,null,null,null,null,null,null,null,null,null,null,null,null,null,null,null,null,null,null,null,null,null,null,null,null,null,null,null,{"$f":"ROWS($EW$20:EW252)","v":233},{"$f":"IFERROR(MATCH(Hist_Tab[[#This Row],[Ref]],Medel_T[NrX],0),1)","v":1},{"$f":"INT((ROW(Hist_Tab[[#This Row],[Ref]])-ROW(Hist_Tab[[#Headers],[Ref]])-1)/4)+1","v":59},{"$f":"COUNTIF($EY$19:EY252,Hist_Tab[[#This Row],[Ref]])","v":2},{"$f":"IFERROR(INDEX(Medel_T[Start],Hist_Tab[[#This Row],[Ref]]),_xlfn.AGGREGATE(4,6,Medel_T[Start]))","v":"00:00:00"},{"$f":"IFERROR(INDEX(Medel_T[Slut],Hist_Tab[[#This Row],[Ref]]),_xlfn.AGGREGATE(4,6,Medel_T[Slut]))","v":"00:00:00"},{"$f":"IF(EW251=0,Hist_Tab[[#This Row],[ÅrB]],IF(Hist_Tab[[#This Row],[per/p]]<2,Hist_Tab[[#This Row],[ÅrB]],Hist_Tab[[#This Row],[År S]]))","v":"00:00:00"},{"$f":"IF(Hist_Tab[[#This Row],[Rad]:[Rad]]=0,-1,IF($EY253>_xlfn.AGGREGATE(2,6,Medel_T[[Slut]:[Slut]]),0,INDEX(Medel_T[],Hist_Tab[[#This Row],[Ref]:[Ref]],MATCH(Hist_Tab[[#Headers],[HöA T]],Medel_T[#Headers],0))))","v":0},{"$f":"IF(Hist_Tab[[#This Row],[Rad]:[Rad]]=0,0,IF($EY253>_xlfn.AGGREGATE(2,6,Medel_T[[Slut]:[Slut]]),0,INDEX(Medel_T[],Hist_Tab[[#This Row],[Ref]:[Ref]],MATCH(Hist_Tab[[#Headers],[AöA T]],Medel_T[#Headers],0))))","v":0},{"$f":"IF(Hist_Tab[[#This Row],[Rad]:[Rad]]=0,0,IF($EY253>_xlfn.AGGREGATE(2,6,Medel_T[[Slut]:[Slut]]),0,INDEX(Medel_T[],Hist_Tab[[#This Row],[Ref]:[Ref]],MATCH(Hist_Tab[[#Headers],[4AM T]],Medel_T[#Headers],0))))","v":0},{"$f":"IF(Hist_Tab[[#This Row],[Rad]:[Rad]]=0,0,IF($EY253>_xlfn.AGGREGATE(2,6,Medel_T[[Slut]:[Slut]]),0,INDEX(Medel_T[],Hist_Tab[[#This Row],[Ref]:[Ref]],MATCH(Hist_Tab[[#Headers],[15AM T]],Medel_T[#Headers],0))))","v":0},{"$f":"IF(Hist_Tab[[#This Row],[Rad]:[Rad]]=0,0,IF($EY253>_xlfn.AGGREGATE(2,6,Medel_T[[Slut]:[Slut]]),0,INDEX(Medel_T[],Hist_Tab[[#This Row],[Ref]:[Ref]],MATCH(Hist_Tab[[#Headers],[20-10D T]],Medel_T[#Headers],0))))","v":0}]
[null,null,null,null,null,null,null,null,null,null,null,null,null,null,null,null,null,null,null,null,null,null,null,null,null,null,null,null,null,null,null,null,null,null,null,null,null,null,null,null,null,null,null,null,null,null,null,null,null,null,null,null,null,null,null,null,null,null,null,null,null,null,null,null,null,null,null,null,null,null,null,null,null,null,null,null,null,null,null,null,null,null,null,null,null,null,null,null,null,null,null,null,null,null,null,null,null,null,null,null,null,null,null,null,null,null,null,null,null,null,null,null,null,null,null,null,null,null,null,null,null,null,null,null,null,null,null,null,null,null,null,null,null,null,null,null,null,null,null,null,null,null,null,null,null,null,null,null,null,null,null,null,{"$f":"ROWS($EW$20:EW253)","v":234},{"$f":"IFERROR(MATCH(Hist_Tab[[#This Row],[Ref]],Medel_T[NrX],0),1)","v":1},{"$f":"INT((ROW(Hist_Tab[[#This Row],[Ref]])-ROW(Hist_Tab[[#Headers],[Ref]])-1)/4)+1","v":59},{"$f":"COUNTIF($EY$19:EY253,Hist_Tab[[#This Row],[Ref]])","v":3},{"$f":"IFERROR(INDEX(Medel_T[Start],Hist_Tab[[#This Row],[Ref]]),_xlfn.AGGREGATE(4,6,Medel_T[Start]))","v":"00:00:00"},{"$f":"IFERROR(INDEX(Medel_T[Slut],Hist_Tab[[#This Row],[Ref]]),_xlfn.AGGREGATE(4,6,Medel_T[Slut]))","v":"00:00:00"},{"$f":"IF(EW252=0,Hist_Tab[[#This Row],[ÅrB]],IF(Hist_Tab[[#This Row],[per/p]]<2,Hist_Tab[[#This Row],[ÅrB]],Hist_Tab[[#This Row],[År S]]))","v":"00:00:00"},{"$f":"IF(Hist_Tab[[#This Row],[Rad]:[Rad]]=0,-1,IF($EY254>_xlfn.AGGREGATE(2,6,Medel_T[[Slut]:[Slut]]),0,INDEX(Medel_T[],Hist_Tab[[#This Row],[Ref]:[Ref]],MATCH(Hist_Tab[[#Headers],[HöA T]],Medel_T[#Headers],0))))","v":0},{"$f":"IF(Hist_Tab[[#This Row],[Rad]:[Rad]]=0,0,IF($EY254>_xlfn.AGGREGATE(2,6,Medel_T[[Slut]:[Slut]]),0,INDEX(Medel_T[],Hist_Tab[[#This Row],[Ref]:[Ref]],MATCH(Hist_Tab[[#Headers],[AöA T]],Medel_T[#Headers],0))))","v":0},{"$f":"IF(Hist_Tab[[#This Row],[Rad]:[Rad]]=0,0,IF($EY254>_xlfn.AGGREGATE(2,6,Medel_T[[Slut]:[Slut]]),0,INDEX(Medel_T[],Hist_Tab[[#This Row],[Ref]:[Ref]],MATCH(Hist_Tab[[#Headers],[4AM T]],Medel_T[#Headers],0))))","v":0},{"$f":"IF(Hist_Tab[[#This Row],[Rad]:[Rad]]=0,0,IF($EY254>_xlfn.AGGREGATE(2,6,Medel_T[[Slut]:[Slut]]),0,INDEX(Medel_T[],Hist_Tab[[#This Row],[Ref]:[Ref]],MATCH(Hist_Tab[[#Headers],[15AM T]],Medel_T[#Headers],0))))","v":0},{"$f":"IF(Hist_Tab[[#This Row],[Rad]:[Rad]]=0,0,IF($EY254>_xlfn.AGGREGATE(2,6,Medel_T[[Slut]:[Slut]]),0,INDEX(Medel_T[],Hist_Tab[[#This Row],[Ref]:[Ref]],MATCH(Hist_Tab[[#Headers],[20-10D T]],Medel_T[#Headers],0))))","v":0}]
[null,null,null,null,null,null,null,null,null,null,null,null,null,null,null,null,null,null,null,null,null,null,null,null,null,null,null,null,null,null,null,null,null,null,null,null,null,null,null,null,null,null,null,null,null,null,null,null,null,null,null,null,null,null,null,null,null,null,null,null,null,null,null,null,null,null,null,null,null,null,null,null,null,null,null,null,null,null,null,null,null,null,null,null,null,null,null,null,null,null,null,null,null,null,null,null,null,null,null,null,null,null,null,null,null,null,null,null,null,null,null,null,null,null,null,null,null,null,null,null,null,null,null,null,null,null,null,null,null,null,null,null,null,null,null,null,null,null,null,null,null,null,null,null,null,null,null,null,null,null,null,null,{"$f":"ROWS($EW$20:EW254)","v":235},{"$f":"IFERROR(MATCH(Hist_Tab[[#This Row],[Ref]],Medel_T[NrX],0),1)","v":1},{"$f":"INT((ROW(Hist_Tab[[#This Row],[Ref]])-ROW(Hist_Tab[[#Headers],[Ref]])-1)/4)+1","v":59},{"$f":"COUNTIF($EY$19:EY254,Hist_Tab[[#This Row],[Ref]])","v":4},{"$f":"IFERROR(INDEX(Medel_T[Start],Hist_Tab[[#This Row],[Ref]]),_xlfn.AGGREGATE(4,6,Medel_T[Start]))","v":"00:00:00"},{"$f":"IFERROR(INDEX(Medel_T[Slut],Hist_Tab[[#This Row],[Ref]]),_xlfn.AGGREGATE(4,6,Medel_T[Slut]))","v":"00:00:00"},{"$f":"IF(EW253=0,Hist_Tab[[#This Row],[ÅrB]],IF(Hist_Tab[[#This Row],[per/p]]<2,Hist_Tab[[#This Row],[ÅrB]],Hist_Tab[[#This Row],[År S]]))","v":"00:00:00"},{"$f":"IF(Hist_Tab[[#This Row],[Rad]:[Rad]]=0,-1,IF($EY255>_xlfn.AGGREGATE(2,6,Medel_T[[Slut]:[Slut]]),0,INDEX(Medel_T[],Hist_Tab[[#This Row],[Ref]:[Ref]],MATCH(Hist_Tab[[#Headers],[HöA T]],Medel_T[#Headers],0))))","v":0},{"$f":"IF(Hist_Tab[[#This Row],[Rad]:[Rad]]=0,0,IF($EY255>_xlfn.AGGREGATE(2,6,Medel_T[[Slut]:[Slut]]),0,INDEX(Medel_T[],Hist_Tab[[#This Row],[Ref]:[Ref]],MATCH(Hist_Tab[[#Headers],[AöA T]],Medel_T[#Headers],0))))","v":0},{"$f":"IF(Hist_Tab[[#This Row],[Rad]:[Rad]]=0,0,IF($EY255>_xlfn.AGGREGATE(2,6,Medel_T[[Slut]:[Slut]]),0,INDEX(Medel_T[],Hist_Tab[[#This Row],[Ref]:[Ref]],MATCH(Hist_Tab[[#Headers],[4AM T]],Medel_T[#Headers],0))))","v":0},{"$f":"IF(Hist_Tab[[#This Row],[Rad]:[Rad]]=0,0,IF($EY255>_xlfn.AGGREGATE(2,6,Medel_T[[Slut]:[Slut]]),0,INDEX(Medel_T[],Hist_Tab[[#This Row],[Ref]:[Ref]],MATCH(Hist_Tab[[#Headers],[15AM T]],Medel_T[#Headers],0))))","v":0},{"$f":"IF(Hist_Tab[[#This Row],[Rad]:[Rad]]=0,0,IF($EY255>_xlfn.AGGREGATE(2,6,Medel_T[[Slut]:[Slut]]),0,INDEX(Medel_T[],Hist_Tab[[#This Row],[Ref]:[Ref]],MATCH(Hist_Tab[[#Headers],[20-10D T]],Medel_T[#Headers],0))))","v":0}]
[null,null,null,null,null,null,null,null,null,null,null,null,null,null,null,null,null,null,null,null,null,null,null,null,null,null,null,null,null,null,null,null,null,null,null,null,null,null,null,null,null,null,null,null,null,null,null,null,null,null,null,null,null,null,null,null,null,null,null,null,null,null,null,null,null,null,null,null,null,null,null,null,null,null,null,null,null,null,null,null,null,null,null,null,null,null,null,null,null,null,null,null,null,null,null,null,null,null,null,null,null,null,null,null,null,null,null,null,null,null,null,null,null,null,null,null,null,null,null,null,null,null,null,null,null,null,null,null,null,null,null,null,null,null,null,null,null,null,null,null,null,null,null,null,null,null,null,null,null,null,null,null,{"$f":"ROWS($EW$20:EW255)","v":236},{"$f":"IFERROR(MATCH(Hist_Tab[[#This Row],[Ref]],Medel_T[NrX],0),1)","v":1},{"$f":"INT((ROW(Hist_Tab[[#This Row],[Ref]])-ROW(Hist_Tab[[#Headers],[Ref]])-1)/4)+1","v":60},{"$f":"COUNTIF($EY$19:EY255,Hist_Tab[[#This Row],[Ref]])","v":1},{"$f":"IFERROR(INDEX(Medel_T[Start],Hist_Tab[[#This Row],[Ref]]),_xlfn.AGGREGATE(4,6,Medel_T[Start]))","v":"00:00:00"},{"$f":"IFERROR(INDEX(Medel_T[Slut],Hist_Tab[[#This Row],[Ref]]),_xlfn.AGGREGATE(4,6,Medel_T[Slut]))","v":"00:00:00"},{"$f":"IF(EW254=0,Hist_Tab[[#This Row],[ÅrB]],IF(Hist_Tab[[#This Row],[per/p]]<2,Hist_Tab[[#This Row],[ÅrB]],Hist_Tab[[#This Row],[År S]]))","v":"00:00:00"},{"$f":"IF(Hist_Tab[[#This Row],[Rad]:[Rad]]=0,-1,IF($EY256>_xlfn.AGGREGATE(2,6,Medel_T[[Slut]:[Slut]]),0,INDEX(Medel_T[],Hist_Tab[[#This Row],[Ref]:[Ref]],MATCH(Hist_Tab[[#Headers],[HöA T]],Medel_T[#Headers],0))))","v":0},{"$f":"IF(Hist_Tab[[#This Row],[Rad]:[Rad]]=0,0,IF($EY256>_xlfn.AGGREGATE(2,6,Medel_T[[Slut]:[Slut]]),0,INDEX(Medel_T[],Hist_Tab[[#This Row],[Ref]:[Ref]],MATCH(Hist_Tab[[#Headers],[AöA T]],Medel_T[#Headers],0))))","v":0},{"$f":"IF(Hist_Tab[[#This Row],[Rad]:[Rad]]=0,0,IF($EY256>_xlfn.AGGREGATE(2,6,Medel_T[[Slut]:[Slut]]),0,INDEX(Medel_T[],Hist_Tab[[#This Row],[Ref]:[Ref]],MATCH(Hist_Tab[[#Headers],[4AM T]],Medel_T[#Headers],0))))","v":0},{"$f":"IF(Hist_Tab[[#This Row],[Rad]:[Rad]]=0,0,IF($EY256>_xlfn.AGGREGATE(2,6,Medel_T[[Slut]:[Slut]]),0,INDEX(Medel_T[],Hist_Tab[[#This Row],[Ref]:[Ref]],MATCH(Hist_Tab[[#Headers],[15AM T]],Medel_T[#Headers],0))))","v":0},{"$f":"IF(Hist_Tab[[#This Row],[Rad]:[Rad]]=0,0,IF($EY256>_xlfn.AGGREGATE(2,6,Medel_T[[Slut]:[Slut]]),0,INDEX(Medel_T[],Hist_Tab[[#This Row],[Ref]:[Ref]],MATCH(Hist_Tab[[#Headers],[20-10D T]],Medel_T[#Headers],0))))","v":0}]
[null,null,null,null,null,null,null,null,null,null,null,null,null,null,null,null,null,null,null,null,null,null,null,null,null,null,null,null,null,null,null,null,null,null,null,null,null,null,null,null,null,null,null,null,null,null,null,null,null,null,null,null,null,null,null,null,null,null,null,null,null,null,null,null,null,null,null,null,null,null,null,null,null,null,null,null,null,null,null,null,null,null,null,null,null,null,null,null,null,null,null,null,null,null,null,null,null,null,null,null,null,null,null,null,null,null,null,null,null,null,null,null,null,null,null,null,null,null,null,null,null,null,null,null,null,null,null,null,null,null,null,null,null,null,null,null,null,null,null,null,null,null,null,null,null,null,null,null,null,null,null,null,{"$f":"ROWS($EW$20:EW256)","v":237},{"$f":"IFERROR(MATCH(Hist_Tab[[#This Row],[Ref]],Medel_T[NrX],0),1)","v":1},{"$f":"INT((ROW(Hist_Tab[[#This Row],[Ref]])-ROW(Hist_Tab[[#Headers],[Ref]])-1)/4)+1","v":60},{"$f":"COUNTIF($EY$19:EY256,Hist_Tab[[#This Row],[Ref]])","v":2},{"$f":"IFERROR(INDEX(Medel_T[Start],Hist_Tab[[#This Row],[Ref]]),_xlfn.AGGREGATE(4,6,Medel_T[Start]))","v":"00:00:00"},{"$f":"IFERROR(INDEX(Medel_T[Slut],Hist_Tab[[#This Row],[Ref]]),_xlfn.AGGREGATE(4,6,Medel_T[Slut]))","v":"00:00:00"},{"$f":"IF(EW255=0,Hist_Tab[[#This Row],[ÅrB]],IF(Hist_Tab[[#This Row],[per/p]]<2,Hist_Tab[[#This Row],[ÅrB]],Hist_Tab[[#This Row],[År S]]))","v":"00:00:00"},{"$f":"IF(Hist_Tab[[#This Row],[Rad]:[Rad]]=0,-1,IF($EY257>_xlfn.AGGREGATE(2,6,Medel_T[[Slut]:[Slut]]),0,INDEX(Medel_T[],Hist_Tab[[#This Row],[Ref]:[Ref]],MATCH(Hist_Tab[[#Headers],[HöA T]],Medel_T[#Headers],0))))","v":0},{"$f":"IF(Hist_Tab[[#This Row],[Rad]:[Rad]]=0,0,IF($EY257>_xlfn.AGGREGATE(2,6,Medel_T[[Slut]:[Slut]]),0,INDEX(Medel_T[],Hist_Tab[[#This Row],[Ref]:[Ref]],MATCH(Hist_Tab[[#Headers],[AöA T]],Medel_T[#Headers],0))))","v":0},{"$f":"IF(Hist_Tab[[#This Row],[Rad]:[Rad]]=0,0,IF($EY257>_xlfn.AGGREGATE(2,6,Medel_T[[Slut]:[Slut]]),0,INDEX(Medel_T[],Hist_Tab[[#This Row],[Ref]:[Ref]],MATCH(Hist_Tab[[#Headers],[4AM T]],Medel_T[#Headers],0))))","v":0},{"$f":"IF(Hist_Tab[[#This Row],[Rad]:[Rad]]=0,0,IF($EY257>_xlfn.AGGREGATE(2,6,Medel_T[[Slut]:[Slut]]),0,INDEX(Medel_T[],Hist_Tab[[#This Row],[Ref]:[Ref]],MATCH(Hist_Tab[[#Headers],[15AM T]],Medel_T[#Headers],0))))","v":0},{"$f":"IF(Hist_Tab[[#This Row],[Rad]:[Rad]]=0,0,IF($EY257>_xlfn.AGGREGATE(2,6,Medel_T[[Slut]:[Slut]]),0,INDEX(Medel_T[],Hist_Tab[[#This Row],[Ref]:[Ref]],MATCH(Hist_Tab[[#Headers],[20-10D T]],Medel_T[#Headers],0))))","v":0}]
[null,null,null,null,null,null,null,null,null,null,null,null,null,null,null,null,null,null,null,null,null,null,null,null,null,null,null,null,null,null,null,null,null,null,null,null,null,null,null,null,null,null,null,null,null,null,null,null,null,null,null,null,null,null,null,null,null,null,null,null,null,null,null,null,null,null,null,null,null,null,null,null,null,null,null,null,null,null,null,null,null,null,null,null,null,null,null,null,null,null,null,null,null,null,null,null,null,null,null,null,null,null,null,null,null,null,null,null,null,null,null,null,null,null,null,null,null,null,null,null,null,null,null,null,null,null,null,null,null,null,null,null,null,null,null,null,null,null,null,null,null,null,null,null,null,null,null,null,null,null,null,null,{"$f":"ROWS($EW$20:EW257)","v":238},{"$f":"IFERROR(MATCH(Hist_Tab[[#This Row],[Ref]],Medel_T[NrX],0),1)","v":1},{"$f":"INT((ROW(Hist_Tab[[#This Row],[Ref]])-ROW(Hist_Tab[[#Headers],[Ref]])-1)/4)+1","v":60},{"$f":"COUNTIF($EY$19:EY257,Hist_Tab[[#This Row],[Ref]])","v":3},{"$f":"IFERROR(INDEX(Medel_T[Start],Hist_Tab[[#This Row],[Ref]]),_xlfn.AGGREGATE(4,6,Medel_T[Start]))","v":"00:00:00"},{"$f":"IFERROR(INDEX(Medel_T[Slut],Hist_Tab[[#This Row],[Ref]]),_xlfn.AGGREGATE(4,6,Medel_T[Slut]))","v":"00:00:00"},{"$f":"IF(EW256=0,Hist_Tab[[#This Row],[ÅrB]],IF(Hist_Tab[[#This Row],[per/p]]<2,Hist_Tab[[#This Row],[ÅrB]],Hist_Tab[[#This Row],[År S]]))","v":"00:00:00"},{"$f":"IF(Hist_Tab[[#This Row],[Rad]:[Rad]]=0,-1,IF($EY258>_xlfn.AGGREGATE(2,6,Medel_T[[Slut]:[Slut]]),0,INDEX(Medel_T[],Hist_Tab[[#This Row],[Ref]:[Ref]],MATCH(Hist_Tab[[#Headers],[HöA T]],Medel_T[#Headers],0))))","v":0},{"$f":"IF(Hist_Tab[[#This Row],[Rad]:[Rad]]=0,0,IF($EY258>_xlfn.AGGREGATE(2,6,Medel_T[[Slut]:[Slut]]),0,INDEX(Medel_T[],Hist_Tab[[#This Row],[Ref]:[Ref]],MATCH(Hist_Tab[[#Headers],[AöA T]],Medel_T[#Headers],0))))","v":0},{"$f":"IF(Hist_Tab[[#This Row],[Rad]:[Rad]]=0,0,IF($EY258>_xlfn.AGGREGATE(2,6,Medel_T[[Slut]:[Slut]]),0,INDEX(Medel_T[],Hist_Tab[[#This Row],[Ref]:[Ref]],MATCH(Hist_Tab[[#Headers],[4AM T]],Medel_T[#Headers],0))))","v":0},{"$f":"IF(Hist_Tab[[#This Row],[Rad]:[Rad]]=0,0,IF($EY258>_xlfn.AGGREGATE(2,6,Medel_T[[Slut]:[Slut]]),0,INDEX(Medel_T[],Hist_Tab[[#This Row],[Ref]:[Ref]],MATCH(Hist_Tab[[#Headers],[15AM T]],Medel_T[#Headers],0))))","v":0},{"$f":"IF(Hist_Tab[[#This Row],[Rad]:[Rad]]=0,0,IF($EY258>_xlfn.AGGREGATE(2,6,Medel_T[[Slut]:[Slut]]),0,INDEX(Medel_T[],Hist_Tab[[#This Row],[Ref]:[Ref]],MATCH(Hist_Tab[[#Headers],[20-10D T]],Medel_T[#Headers],0))))","v":0}]
[null,null,null,null,null,null,null,null,null,null,null,null,null,null,null,null,null,null,null,null,null,null,null,null,null,null,null,null,null,null,null,null,null,null,null,null,null,null,null,null,null,null,null,null,null,null,null,null,null,null,null,null,null,null,null,null,null,null,null,null,null,null,null,null,null,null,null,null,null,null,null,null,null,null,null,null,null,null,null,null,null,null,null,null,null,null,null,null,null,null,null,null,null,null,null,null,null,null,null,null,null,null,null,null,null,null,null,null,null,null,null,null,null,null,null,null,null,null,null,null,null,null,null,null,null,null,null,null,null,null,null,null,null,null,null,null,null,null,null,null,null,null,null,null,null,null,null,null,null,null,null,null,{"$f":"ROWS($EW$20:EW258)","v":239},{"$f":"IFERROR(MATCH(Hist_Tab[[#This Row],[Ref]],Medel_T[NrX],0),1)","v":1},{"$f":"INT((ROW(Hist_Tab[[#This Row],[Ref]])-ROW(Hist_Tab[[#Headers],[Ref]])-1)/4)+1","v":60},{"$f":"COUNTIF($EY$19:EY258,Hist_Tab[[#This Row],[Ref]])","v":4},{"$f":"IFERROR(INDEX(Medel_T[Start],Hist_Tab[[#This Row],[Ref]]),_xlfn.AGGREGATE(4,6,Medel_T[Start]))","v":"00:00:00"},{"$f":"IFERROR(INDEX(Medel_T[Slut],Hist_Tab[[#This Row],[Ref]]),_xlfn.AGGREGATE(4,6,Medel_T[Slut]))","v":"00:00:00"},{"$f":"IF(EW257=0,Hist_Tab[[#This Row],[ÅrB]],IF(Hist_Tab[[#This Row],[per/p]]<2,Hist_Tab[[#This Row],[ÅrB]],Hist_Tab[[#This Row],[År S]]))","v":"00:00:00"},{"$f":"IF(Hist_Tab[[#This Row],[Rad]:[Rad]]=0,-1,IF($EY259>_xlfn.AGGREGATE(2,6,Medel_T[[Slut]:[Slut]]),0,INDEX(Medel_T[],Hist_Tab[[#This Row],[Ref]:[Ref]],MATCH(Hist_Tab[[#Headers],[HöA T]],Medel_T[#Headers],0))))","v":0},{"$f":"IF(Hist_Tab[[#This Row],[Rad]:[Rad]]=0,0,IF($EY259>_xlfn.AGGREGATE(2,6,Medel_T[[Slut]:[Slut]]),0,INDEX(Medel_T[],Hist_Tab[[#This Row],[Ref]:[Ref]],MATCH(Hist_Tab[[#Headers],[AöA T]],Medel_T[#Headers],0))))","v":0},{"$f":"IF(Hist_Tab[[#This Row],[Rad]:[Rad]]=0,0,IF($EY259>_xlfn.AGGREGATE(2,6,Medel_T[[Slut]:[Slut]]),0,INDEX(Medel_T[],Hist_Tab[[#This Row],[Ref]:[Ref]],MATCH(Hist_Tab[[#Headers],[4AM T]],Medel_T[#Headers],0))))","v":0},{"$f":"IF(Hist_Tab[[#This Row],[Rad]:[Rad]]=0,0,IF($EY259>_xlfn.AGGREGATE(2,6,Medel_T[[Slut]:[Slut]]),0,INDEX(Medel_T[],Hist_Tab[[#This Row],[Ref]:[Ref]],MATCH(Hist_Tab[[#Headers],[15AM T]],Medel_T[#Headers],0))))","v":0},{"$f":"IF(Hist_Tab[[#This Row],[Rad]:[Rad]]=0,0,IF($EY259>_xlfn.AGGREGATE(2,6,Medel_T[[Slut]:[Slut]]),0,INDEX(Medel_T[],Hist_Tab[[#This Row],[Ref]:[Ref]],MATCH(Hist_Tab[[#Headers],[20-10D T]],Medel_T[#Headers],0))))","v":0}]
[null,null,null,null,null,null,null,null,null,null,null,null,null,null,null,null,null,null,null,null,null,null,null,null,null,null,null,null,null,null,null,null,null,null,null,null,null,null,null,null,null,null,null,null,null,null,null,null,null,null,null,null,null,null,null,null,null,null,null,null,null,null,null,null,null,null,null,null,null,null,null,null,null,null,null,null,null,null,null,null,null,null,null,null,null,null,null,null,null,null,null,null,null,null,null,null,null,null,null,null,null,null,null,null,null,null,null,null,null,null,null,null,null,null,null,null,null,null,null,null,null,null,null,null,null,null,null,null,null,null,null,null,null,null,null,null,null,null,null,null,null,null,null,null,null,null,null,null,null,null,null,null,{"$f":"ROWS($EW$20:EW259)","v":240},{"$f":"IFERROR(MATCH(Hist_Tab[[#This Row],[Ref]],Medel_T[NrX],0),1)","v":1},{"$f":"INT((ROW(Hist_Tab[[#This Row],[Ref]])-ROW(Hist_Tab[[#Headers],[Ref]])-1)/4)+1","v":61},{"$f":"COUNTIF($EY$19:EY259,Hist_Tab[[#This Row],[Ref]])","v":1},{"$f":"IFERROR(INDEX(Medel_T[Start],Hist_Tab[[#This Row],[Ref]]),_xlfn.AGGREGATE(4,6,Medel_T[Start]))","v":"00:00:00"},{"$f":"IFERROR(INDEX(Medel_T[Slut],Hist_Tab[[#This Row],[Ref]]),_xlfn.AGGREGATE(4,6,Medel_T[Slut]))","v":"00:00:00"},{"$f":"IF(EW258=0,Hist_Tab[[#This Row],[ÅrB]],IF(Hist_Tab[[#This Row],[per/p]]<2,Hist_Tab[[#This Row],[ÅrB]],Hist_Tab[[#This Row],[År S]]))","v":"00:00:00"},{"$f":"IF(Hist_Tab[[#This Row],[Rad]:[Rad]]=0,-1,IF($EY260>_xlfn.AGGREGATE(2,6,Medel_T[[Slut]:[Slut]]),0,INDEX(Medel_T[],Hist_Tab[[#This Row],[Ref]:[Ref]],MATCH(Hist_Tab[[#Headers],[HöA T]],Medel_T[#Headers],0))))","v":0},{"$f":"IF(Hist_Tab[[#This Row],[Rad]:[Rad]]=0,0,IF($EY260>_xlfn.AGGREGATE(2,6,Medel_T[[Slut]:[Slut]]),0,INDEX(Medel_T[],Hist_Tab[[#This Row],[Ref]:[Ref]],MATCH(Hist_Tab[[#Headers],[AöA T]],Medel_T[#Headers],0))))","v":0},{"$f":"IF(Hist_Tab[[#This Row],[Rad]:[Rad]]=0,0,IF($EY260>_xlfn.AGGREGATE(2,6,Medel_T[[Slut]:[Slut]]),0,INDEX(Medel_T[],Hist_Tab[[#This Row],[Ref]:[Ref]],MATCH(Hist_Tab[[#Headers],[4AM T]],Medel_T[#Headers],0))))","v":0},{"$f":"IF(Hist_Tab[[#This Row],[Rad]:[Rad]]=0,0,IF($EY260>_xlfn.AGGREGATE(2,6,Medel_T[[Slut]:[Slut]]),0,INDEX(Medel_T[],Hist_Tab[[#This Row],[Ref]:[Ref]],MATCH(Hist_Tab[[#Headers],[15AM T]],Medel_T[#Headers],0))))","v":0},{"$f":"IF(Hist_Tab[[#This Row],[Rad]:[Rad]]=0,0,IF($EY260>_xlfn.AGGREGATE(2,6,Medel_T[[Slut]:[Slut]]),0,INDEX(Medel_T[],Hist_Tab[[#This Row],[Ref]:[Ref]],MATCH(Hist_Tab[[#Headers],[20-10D T]],Medel_T[#Headers],0))))","v":0}]
[null,null,null,null,null,null,null,null,null,null,null,null,null,null,null,null,null,null,null,null,null,null,null,null,null,null,null,null,null,null,null,null,null,null,null,null,null,null,null,null,null,null,null,null,null,null,null,null,null,null,null,null,null,null,null,null,null,null,null,null,null,null,null,null,null,null,null,null,null,null,null,null,null,null,null,null,null,null,null,null,null,null,null,null,null,null,null,null,null,null,null,null,null,null,null,null,null,null,null,null,null,null,null,null,null,null,null,null,null,null,null,null,null,null,null,null,null,null,null,null,null,null,null,null,null,null,null,null,null,null,null,null,null,null,null,null,null,null,null,null,null,null,null,null,null,null,null,null,null,null,null,null,{"$f":"ROWS($EW$20:EW260)","v":241},{"$f":"IFERROR(MATCH(Hist_Tab[[#This Row],[Ref]],Medel_T[NrX],0),1)","v":1},{"$f":"INT((ROW(Hist_Tab[[#This Row],[Ref]])-ROW(Hist_Tab[[#Headers],[Ref]])-1)/4)+1","v":61},{"$f":"COUNTIF($EY$19:EY260,Hist_Tab[[#This Row],[Ref]])","v":2},{"$f":"IFERROR(INDEX(Medel_T[Start],Hist_Tab[[#This Row],[Ref]]),_xlfn.AGGREGATE(4,6,Medel_T[Start]))","v":"00:00:00"},{"$f":"IFERROR(INDEX(Medel_T[Slut],Hist_Tab[[#This Row],[Ref]]),_xlfn.AGGREGATE(4,6,Medel_T[Slut]))","v":"00:00:00"},{"$f":"IF(EW259=0,Hist_Tab[[#This Row],[ÅrB]],IF(Hist_Tab[[#This Row],[per/p]]<2,Hist_Tab[[#This Row],[ÅrB]],Hist_Tab[[#This Row],[År S]]))","v":"00:00:00"},{"$f":"IF(Hist_Tab[[#This Row],[Rad]:[Rad]]=0,-1,IF($EY261>_xlfn.AGGREGATE(2,6,Medel_T[[Slut]:[Slut]]),0,INDEX(Medel_T[],Hist_Tab[[#This Row],[Ref]:[Ref]],MATCH(Hist_Tab[[#Headers],[HöA T]],Medel_T[#Headers],0))))","v":0},{"$f":"IF(Hist_Tab[[#This Row],[Rad]:[Rad]]=0,0,IF($EY261>_xlfn.AGGREGATE(2,6,Medel_T[[Slut]:[Slut]]),0,INDEX(Medel_T[],Hist_Tab[[#This Row],[Ref]:[Ref]],MATCH(Hist_Tab[[#Headers],[AöA T]],Medel_T[#Headers],0))))","v":0},{"$f":"IF(Hist_Tab[[#This Row],[Rad]:[Rad]]=0,0,IF($EY261>_xlfn.AGGREGATE(2,6,Medel_T[[Slut]:[Slut]]),0,INDEX(Medel_T[],Hist_Tab[[#This Row],[Ref]:[Ref]],MATCH(Hist_Tab[[#Headers],[4AM T]],Medel_T[#Headers],0))))","v":0},{"$f":"IF(Hist_Tab[[#This Row],[Rad]:[Rad]]=0,0,IF($EY261>_xlfn.AGGREGATE(2,6,Medel_T[[Slut]:[Slut]]),0,INDEX(Medel_T[],Hist_Tab[[#This Row],[Ref]:[Ref]],MATCH(Hist_Tab[[#Headers],[15AM T]],Medel_T[#Headers],0))))","v":0},{"$f":"IF(Hist_Tab[[#This Row],[Rad]:[Rad]]=0,0,IF($EY261>_xlfn.AGGREGATE(2,6,Medel_T[[Slut]:[Slut]]),0,INDEX(Medel_T[],Hist_Tab[[#This Row],[Ref]:[Ref]],MATCH(Hist_Tab[[#Headers],[20-10D T]],Medel_T[#Headers],0))))","v":0}]
[null,null,null,null,null,null,null,null,null,null,null,null,null,null,null,null,null,null,null,null,null,null,null,null,null,null,null,null,null,null,null,null,null,null,null,null,null,null,null,null,null,null,null,null,null,null,null,null,null,null,null,null,null,null,null,null,null,null,null,null,null,null,null,null,null,null,null,null,null,null,null,null,null,null,null,null,null,null,null,null,null,null,null,null,null,null,null,null,null,null,null,null,null,null,null,null,null,null,null,null,null,null,null,null,null,null,null,null,null,null,null,null,null,null,null,null,null,null,null,null,null,null,null,null,null,null,null,null,null,null,null,null,null,null,null,null,null,null,null,null,null,null,null,null,null,null,null,null,null,null,null,null,{"$f":"ROWS($EW$20:EW261)","v":242},{"$f":"IFERROR(MATCH(Hist_Tab[[#This Row],[Ref]],Medel_T[NrX],0),1)","v":1},{"$f":"INT((ROW(Hist_Tab[[#This Row],[Ref]])-ROW(Hist_Tab[[#Headers],[Ref]])-1)/4)+1","v":61},{"$f":"COUNTIF($EY$19:EY261,Hist_Tab[[#This Row],[Ref]])","v":3},{"$f":"IFERROR(INDEX(Medel_T[Start],Hist_Tab[[#This Row],[Ref]]),_xlfn.AGGREGATE(4,6,Medel_T[Start]))","v":"00:00:00"},{"$f":"IFERROR(INDEX(Medel_T[Slut],Hist_Tab[[#This Row],[Ref]]),_xlfn.AGGREGATE(4,6,Medel_T[Slut]))","v":"00:00:00"},{"$f":"IF(EW260=0,Hist_Tab[[#This Row],[ÅrB]],IF(Hist_Tab[[#This Row],[per/p]]<2,Hist_Tab[[#This Row],[ÅrB]],Hist_Tab[[#This Row],[År S]]))","v":"00:00:00"},{"$f":"IF(Hist_Tab[[#This Row],[Rad]:[Rad]]=0,-1,IF($EY262>_xlfn.AGGREGATE(2,6,Medel_T[[Slut]:[Slut]]),0,INDEX(Medel_T[],Hist_Tab[[#This Row],[Ref]:[Ref]],MATCH(Hist_Tab[[#Headers],[HöA T]],Medel_T[#Headers],0))))","v":0},{"$f":"IF(Hist_Tab[[#This Row],[Rad]:[Rad]]=0,0,IF($EY262>_xlfn.AGGREGATE(2,6,Medel_T[[Slut]:[Slut]]),0,INDEX(Medel_T[],Hist_Tab[[#This Row],[Ref]:[Ref]],MATCH(Hist_Tab[[#Headers],[AöA T]],Medel_T[#Headers],0))))","v":0},{"$f":"IF(Hist_Tab[[#This Row],[Rad]:[Rad]]=0,0,IF($EY262>_xlfn.AGGREGATE(2,6,Medel_T[[Slut]:[Slut]]),0,INDEX(Medel_T[],Hist_Tab[[#This Row],[Ref]:[Ref]],MATCH(Hist_Tab[[#Headers],[4AM T]],Medel_T[#Headers],0))))","v":0},{"$f":"IF(Hist_Tab[[#This Row],[Rad]:[Rad]]=0,0,IF($EY262>_xlfn.AGGREGATE(2,6,Medel_T[[Slut]:[Slut]]),0,INDEX(Medel_T[],Hist_Tab[[#This Row],[Ref]:[Ref]],MATCH(Hist_Tab[[#Headers],[15AM T]],Medel_T[#Headers],0))))","v":0},{"$f":"IF(Hist_Tab[[#This Row],[Rad]:[Rad]]=0,0,IF($EY262>_xlfn.AGGREGATE(2,6,Medel_T[[Slut]:[Slut]]),0,INDEX(Medel_T[],Hist_Tab[[#This Row],[Ref]:[Ref]],MATCH(Hist_Tab[[#Headers],[20-10D T]],Medel_T[#Headers],0))))","v":0}]
[null,null,null,null,null,null,null,null,null,null,null,null,null,null,null,null,null,null,null,null,null,null,null,null,null,null,null,null,null,null,null,null,null,null,null,null,null,null,null,null,null,null,null,null,null,null,null,null,null,null,null,null,null,null,null,null,null,null,null,null,null,null,null,null,null,null,null,null,null,null,null,null,null,null,null,null,null,null,null,null,null,null,null,null,null,null,null,null,null,null,null,null,null,null,null,null,null,null,null,null,null,null,null,null,null,null,null,null,null,null,null,null,null,null,null,null,null,null,null,null,null,null,null,null,null,null,null,null,null,null,null,null,null,null,null,null,null,null,null,null,null,null,null,null,null,null,null,null,null,null,null,null,{"$f":"ROWS($EW$20:EW262)","v":243},{"$f":"IFERROR(MATCH(Hist_Tab[[#This Row],[Ref]],Medel_T[NrX],0),1)","v":1},{"$f":"INT((ROW(Hist_Tab[[#This Row],[Ref]])-ROW(Hist_Tab[[#Headers],[Ref]])-1)/4)+1","v":61},{"$f":"COUNTIF($EY$19:EY262,Hist_Tab[[#This Row],[Ref]])","v":4},{"$f":"IFERROR(INDEX(Medel_T[Start],Hist_Tab[[#This Row],[Ref]]),_xlfn.AGGREGATE(4,6,Medel_T[Start]))","v":"00:00:00"},{"$f":"IFERROR(INDEX(Medel_T[Slut],Hist_Tab[[#This Row],[Ref]]),_xlfn.AGGREGATE(4,6,Medel_T[Slut]))","v":"00:00:00"},{"$f":"IF(EW261=0,Hist_Tab[[#This Row],[ÅrB]],IF(Hist_Tab[[#This Row],[per/p]]<2,Hist_Tab[[#This Row],[ÅrB]],Hist_Tab[[#This Row],[År S]]))","v":"00:00:00"},{"$f":"IF(Hist_Tab[[#This Row],[Rad]:[Rad]]=0,-1,IF($EY263>_xlfn.AGGREGATE(2,6,Medel_T[[Slut]:[Slut]]),0,INDEX(Medel_T[],Hist_Tab[[#This Row],[Ref]:[Ref]],MATCH(Hist_Tab[[#Headers],[HöA T]],Medel_T[#Headers],0))))","v":0},{"$f":"IF(Hist_Tab[[#This Row],[Rad]:[Rad]]=0,0,IF($EY263>_xlfn.AGGREGATE(2,6,Medel_T[[Slut]:[Slut]]),0,INDEX(Medel_T[],Hist_Tab[[#This Row],[Ref]:[Ref]],MATCH(Hist_Tab[[#Headers],[AöA T]],Medel_T[#Headers],0))))","v":0},{"$f":"IF(Hist_Tab[[#This Row],[Rad]:[Rad]]=0,0,IF($EY263>_xlfn.AGGREGATE(2,6,Medel_T[[Slut]:[Slut]]),0,INDEX(Medel_T[],Hist_Tab[[#This Row],[Ref]:[Ref]],MATCH(Hist_Tab[[#Headers],[4AM T]],Medel_T[#Headers],0))))","v":0},{"$f":"IF(Hist_Tab[[#This Row],[Rad]:[Rad]]=0,0,IF($EY263>_xlfn.AGGREGATE(2,6,Medel_T[[Slut]:[Slut]]),0,INDEX(Medel_T[],Hist_Tab[[#This Row],[Ref]:[Ref]],MATCH(Hist_Tab[[#Headers],[15AM T]],Medel_T[#Headers],0))))","v":0},{"$f":"IF(Hist_Tab[[#This Row],[Rad]:[Rad]]=0,0,IF($EY263>_xlfn.AGGREGATE(2,6,Medel_T[[Slut]:[Slut]]),0,INDEX(Medel_T[],Hist_Tab[[#This Row],[Ref]:[Ref]],MATCH(Hist_Tab[[#Headers],[20-10D T]],Medel_T[#Headers],0))))","v":0}]
[null,null,null,null,null,null,null,null,null,null,null,null,null,null,null,null,null,null,null,null,null,null,null,null,null,null,null,null,null,null,null,null,null,null,null,null,null,null,null,null,null,null,null,null,null,null,null,null,null,null,null,null,null,null,null,null,null,null,null,null,null,null,null,null,null,null,null,null,null,null,null,null,null,null,null,null,null,null,null,null,null,null,null,null,null,null,null,null,null,null,null,null,null,null,null,null,null,null,null,null,null,null,null,null,null,null,null,null,null,null,null,null,null,null,null,null,null,null,null,null,null,null,null,null,null,null,null,null,null,null,null,null,null,null,null,null,null,null,null,null,null,null,null,null,null,null,null,null,null,null,null,null,{"$f":"ROWS($EW$20:EW263)","v":244},{"$f":"IFERROR(MATCH(Hist_Tab[[#This Row],[Ref]],Medel_T[NrX],0),1)","v":1},{"$f":"INT((ROW(Hist_Tab[[#This Row],[Ref]])-ROW(Hist_Tab[[#Headers],[Ref]])-1)/4)+1","v":62},{"$f":"COUNTIF($EY$19:EY263,Hist_Tab[[#This Row],[Ref]])","v":1},{"$f":"IFERROR(INDEX(Medel_T[Start],Hist_Tab[[#This Row],[Ref]]),_xlfn.AGGREGATE(4,6,Medel_T[Start]))","v":"00:00:00"},{"$f":"IFERROR(INDEX(Medel_T[Slut],Hist_Tab[[#This Row],[Ref]]),_xlfn.AGGREGATE(4,6,Medel_T[Slut]))","v":"00:00:00"},{"$f":"IF(EW262=0,Hist_Tab[[#This Row],[ÅrB]],IF(Hist_Tab[[#This Row],[per/p]]<2,Hist_Tab[[#This Row],[ÅrB]],Hist_Tab[[#This Row],[År S]]))","v":"00:00:00"},{"$f":"IF(Hist_Tab[[#This Row],[Rad]:[Rad]]=0,-1,IF($EY264>_xlfn.AGGREGATE(2,6,Medel_T[[Slut]:[Slut]]),0,INDEX(Medel_T[],Hist_Tab[[#This Row],[Ref]:[Ref]],MATCH(Hist_Tab[[#Headers],[HöA T]],Medel_T[#Headers],0))))","v":0},{"$f":"IF(Hist_Tab[[#This Row],[Rad]:[Rad]]=0,0,IF($EY264>_xlfn.AGGREGATE(2,6,Medel_T[[Slut]:[Slut]]),0,INDEX(Medel_T[],Hist_Tab[[#This Row],[Ref]:[Ref]],MATCH(Hist_Tab[[#Headers],[AöA T]],Medel_T[#Headers],0))))","v":0},{"$f":"IF(Hist_Tab[[#This Row],[Rad]:[Rad]]=0,0,IF($EY264>_xlfn.AGGREGATE(2,6,Medel_T[[Slut]:[Slut]]),0,INDEX(Medel_T[],Hist_Tab[[#This Row],[Ref]:[Ref]],MATCH(Hist_Tab[[#Headers],[4AM T]],Medel_T[#Headers],0))))","v":0},{"$f":"IF(Hist_Tab[[#This Row],[Rad]:[Rad]]=0,0,IF($EY264>_xlfn.AGGREGATE(2,6,Medel_T[[Slut]:[Slut]]),0,INDEX(Medel_T[],Hist_Tab[[#This Row],[Ref]:[Ref]],MATCH(Hist_Tab[[#Headers],[15AM T]],Medel_T[#Headers],0))))","v":0},{"$f":"IF(Hist_Tab[[#This Row],[Rad]:[Rad]]=0,0,IF($EY264>_xlfn.AGGREGATE(2,6,Medel_T[[Slut]:[Slut]]),0,INDEX(Medel_T[],Hist_Tab[[#This Row],[Ref]:[Ref]],MATCH(Hist_Tab[[#Headers],[20-10D T]],Medel_T[#Headers],0))))","v":0}]
[null,null,null,null,null,null,null,null,null,null,null,null,null,null,null,null,null,null,null,null,null,null,null,null,null,null,null,null,null,null,null,null,null,null,null,null,null,null,null,null,null,null,null,null,null,null,null,null,null,null,null,null,null,null,null,null,null,null,null,null,null,null,null,null,null,null,null,null,null,null,null,null,null,null,null,null,null,null,null,null,null,null,null,null,null,null,null,null,null,null,null,null,null,null,null,null,null,null,null,null,null,null,null,null,null,null,null,null,null,null,null,null,null,null,null,null,null,null,null,null,null,null,null,null,null,null,null,null,null,null,null,null,null,null,null,null,null,null,null,null,null,null,null,null,null,null,null,null,null,null,null,null,{"$f":"ROWS($EW$20:EW264)","v":245},{"$f":"IFERROR(MATCH(Hist_Tab[[#This Row],[Ref]],Medel_T[NrX],0),1)","v":1},{"$f":"INT((ROW(Hist_Tab[[#This Row],[Ref]])-ROW(Hist_Tab[[#Headers],[Ref]])-1)/4)+1","v":62},{"$f":"COUNTIF($EY$19:EY264,Hist_Tab[[#This Row],[Ref]])","v":2},{"$f":"IFERROR(INDEX(Medel_T[Start],Hist_Tab[[#This Row],[Ref]]),_xlfn.AGGREGATE(4,6,Medel_T[Start]))","v":"00:00:00"},{"$f":"IFERROR(INDEX(Medel_T[Slut],Hist_Tab[[#This Row],[Ref]]),_xlfn.AGGREGATE(4,6,Medel_T[Slut]))","v":"00:00:00"},{"$f":"IF(EW263=0,Hist_Tab[[#This Row],[ÅrB]],IF(Hist_Tab[[#This Row],[per/p]]<2,Hist_Tab[[#This Row],[ÅrB]],Hist_Tab[[#This Row],[År S]]))","v":"00:00:00"},{"$f":"IF(Hist_Tab[[#This Row],[Rad]:[Rad]]=0,-1,IF($EY265>_xlfn.AGGREGATE(2,6,Medel_T[[Slut]:[Slut]]),0,INDEX(Medel_T[],Hist_Tab[[#This Row],[Ref]:[Ref]],MATCH(Hist_Tab[[#Headers],[HöA T]],Medel_T[#Headers],0))))","v":0},{"$f":"IF(Hist_Tab[[#This Row],[Rad]:[Rad]]=0,0,IF($EY265>_xlfn.AGGREGATE(2,6,Medel_T[[Slut]:[Slut]]),0,INDEX(Medel_T[],Hist_Tab[[#This Row],[Ref]:[Ref]],MATCH(Hist_Tab[[#Headers],[AöA T]],Medel_T[#Headers],0))))","v":0},{"$f":"IF(Hist_Tab[[#This Row],[Rad]:[Rad]]=0,0,IF($EY265>_xlfn.AGGREGATE(2,6,Medel_T[[Slut]:[Slut]]),0,INDEX(Medel_T[],Hist_Tab[[#This Row],[Ref]:[Ref]],MATCH(Hist_Tab[[#Headers],[4AM T]],Medel_T[#Headers],0))))","v":0},{"$f":"IF(Hist_Tab[[#This Row],[Rad]:[Rad]]=0,0,IF($EY265>_xlfn.AGGREGATE(2,6,Medel_T[[Slut]:[Slut]]),0,INDEX(Medel_T[],Hist_Tab[[#This Row],[Ref]:[Ref]],MATCH(Hist_Tab[[#Headers],[15AM T]],Medel_T[#Headers],0))))","v":0},{"$f":"IF(Hist_Tab[[#This Row],[Rad]:[Rad]]=0,0,IF($EY265>_xlfn.AGGREGATE(2,6,Medel_T[[Slut]:[Slut]]),0,INDEX(Medel_T[],Hist_Tab[[#This Row],[Ref]:[Ref]],MATCH(Hist_Tab[[#Headers],[20-10D T]],Medel_T[#Headers],0))))","v":0}]
[null,null,null,null,null,null,null,null,null,null,null,null,null,null,null,null,null,null,null,null,null,null,null,null,null,null,null,null,null,null,null,null,null,null,null,null,null,null,null,null,null,null,null,null,null,null,null,null,null,null,null,null,null,null,null,null,null,null,null,null,null,null,null,null,null,null,null,null,null,null,null,null,null,null,null,null,null,null,null,null,null,null,null,null,null,null,null,null,null,null,null,null,null,null,null,null,null,null,null,null,null,null,null,null,null,null,null,null,null,null,null,null,null,null,null,null,null,null,null,null,null,null,null,null,null,null,null,null,null,null,null,null,null,null,null,null,null,null,null,null,null,null,null,null,null,null,null,null,null,null,null,null,{"$f":"ROWS($EW$20:EW265)","v":246},{"$f":"IFERROR(MATCH(Hist_Tab[[#This Row],[Ref]],Medel_T[NrX],0),1)","v":1},{"$f":"INT((ROW(Hist_Tab[[#This Row],[Ref]])-ROW(Hist_Tab[[#Headers],[Ref]])-1)/4)+1","v":62},{"$f":"COUNTIF($EY$19:EY265,Hist_Tab[[#This Row],[Ref]])","v":3},{"$f":"IFERROR(INDEX(Medel_T[Start],Hist_Tab[[#This Row],[Ref]]),_xlfn.AGGREGATE(4,6,Medel_T[Start]))","v":"00:00:00"},{"$f":"IFERROR(INDEX(Medel_T[Slut],Hist_Tab[[#This Row],[Ref]]),_xlfn.AGGREGATE(4,6,Medel_T[Slut]))","v":"00:00:00"},{"$f":"IF(EW264=0,Hist_Tab[[#This Row],[ÅrB]],IF(Hist_Tab[[#This Row],[per/p]]<2,Hist_Tab[[#This Row],[ÅrB]],Hist_Tab[[#This Row],[År S]]))","v":"00:00:00"},{"$f":"IF(Hist_Tab[[#This Row],[Rad]:[Rad]]=0,-1,IF($EY266>_xlfn.AGGREGATE(2,6,Medel_T[[Slut]:[Slut]]),0,INDEX(Medel_T[],Hist_Tab[[#This Row],[Ref]:[Ref]],MATCH(Hist_Tab[[#Headers],[HöA T]],Medel_T[#Headers],0))))","v":0},{"$f":"IF(Hist_Tab[[#This Row],[Rad]:[Rad]]=0,0,IF($EY266>_xlfn.AGGREGATE(2,6,Medel_T[[Slut]:[Slut]]),0,INDEX(Medel_T[],Hist_Tab[[#This Row],[Ref]:[Ref]],MATCH(Hist_Tab[[#Headers],[AöA T]],Medel_T[#Headers],0))))","v":0},{"$f":"IF(Hist_Tab[[#This Row],[Rad]:[Rad]]=0,0,IF($EY266>_xlfn.AGGREGATE(2,6,Medel_T[[Slut]:[Slut]]),0,INDEX(Medel_T[],Hist_Tab[[#This Row],[Ref]:[Ref]],MATCH(Hist_Tab[[#Headers],[4AM T]],Medel_T[#Headers],0))))","v":0},{"$f":"IF(Hist_Tab[[#This Row],[Rad]:[Rad]]=0,0,IF($EY266>_xlfn.AGGREGATE(2,6,Medel_T[[Slut]:[Slut]]),0,INDEX(Medel_T[],Hist_Tab[[#This Row],[Ref]:[Ref]],MATCH(Hist_Tab[[#Headers],[15AM T]],Medel_T[#Headers],0))))","v":0},{"$f":"IF(Hist_Tab[[#This Row],[Rad]:[Rad]]=0,0,IF($EY266>_xlfn.AGGREGATE(2,6,Medel_T[[Slut]:[Slut]]),0,INDEX(Medel_T[],Hist_Tab[[#This Row],[Ref]:[Ref]],MATCH(Hist_Tab[[#Headers],[20-10D T]],Medel_T[#Headers],0))))","v":0}]
[null,null,null,null,null,null,null,null,null,null,null,null,null,null,null,null,null,null,null,null,null,null,null,null,null,null,null,null,null,null,null,null,null,null,null,null,null,null,null,null,null,null,null,null,null,null,null,null,null,null,null,null,null,null,null,null,null,null,null,null,null,null,null,null,null,null,null,null,null,null,null,null,null,null,null,null,null,null,null,null,null,null,null,null,null,null,null,null,null,null,null,null,null,null,null,null,null,null,null,null,null,null,null,null,null,null,null,null,null,null,null,null,null,null,null,null,null,null,null,null,null,null,null,null,null,null,null,null,null,null,null,null,null,null,null,null,null,null,null,null,null,null,null,null,null,null,null,null,null,null,null,null,{"$f":"ROWS($EW$20:EW266)","v":247},{"$f":"IFERROR(MATCH(Hist_Tab[[#This Row],[Ref]],Medel_T[NrX],0),1)","v":1},{"$f":"INT((ROW(Hist_Tab[[#This Row],[Ref]])-ROW(Hist_Tab[[#Headers],[Ref]])-1)/4)+1","v":62},{"$f":"COUNTIF($EY$19:EY266,Hist_Tab[[#This Row],[Ref]])","v":4},{"$f":"IFERROR(INDEX(Medel_T[Start],Hist_Tab[[#This Row],[Ref]]),_xlfn.AGGREGATE(4,6,Medel_T[Start]))","v":"00:00:00"},{"$f":"IFERROR(INDEX(Medel_T[Slut],Hist_Tab[[#This Row],[Ref]]),_xlfn.AGGREGATE(4,6,Medel_T[Slut]))","v":"00:00:00"},{"$f":"IF(EW265=0,Hist_Tab[[#This Row],[ÅrB]],IF(Hist_Tab[[#This Row],[per/p]]<2,Hist_Tab[[#This Row],[ÅrB]],Hist_Tab[[#This Row],[År S]]))","v":"00:00:00"},{"$f":"IF(Hist_Tab[[#This Row],[Rad]:[Rad]]=0,-1,IF($EY267>_xlfn.AGGREGATE(2,6,Medel_T[[Slut]:[Slut]]),0,INDEX(Medel_T[],Hist_Tab[[#This Row],[Ref]:[Ref]],MATCH(Hist_Tab[[#Headers],[HöA T]],Medel_T[#Headers],0))))","v":0},{"$f":"IF(Hist_Tab[[#This Row],[Rad]:[Rad]]=0,0,IF($EY267>_xlfn.AGGREGATE(2,6,Medel_T[[Slut]:[Slut]]),0,INDEX(Medel_T[],Hist_Tab[[#This Row],[Ref]:[Ref]],MATCH(Hist_Tab[[#Headers],[AöA T]],Medel_T[#Headers],0))))","v":0},{"$f":"IF(Hist_Tab[[#This Row],[Rad]:[Rad]]=0,0,IF($EY267>_xlfn.AGGREGATE(2,6,Medel_T[[Slut]:[Slut]]),0,INDEX(Medel_T[],Hist_Tab[[#This Row],[Ref]:[Ref]],MATCH(Hist_Tab[[#Headers],[4AM T]],Medel_T[#Headers],0))))","v":0},{"$f":"IF(Hist_Tab[[#This Row],[Rad]:[Rad]]=0,0,IF($EY267>_xlfn.AGGREGATE(2,6,Medel_T[[Slut]:[Slut]]),0,INDEX(Medel_T[],Hist_Tab[[#This Row],[Ref]:[Ref]],MATCH(Hist_Tab[[#Headers],[15AM T]],Medel_T[#Headers],0))))","v":0},{"$f":"IF(Hist_Tab[[#This Row],[Rad]:[Rad]]=0,0,IF($EY267>_xlfn.AGGREGATE(2,6,Medel_T[[Slut]:[Slut]]),0,INDEX(Medel_T[],Hist_Tab[[#This Row],[Ref]:[Ref]],MATCH(Hist_Tab[[#Headers],[20-10D T]],Medel_T[#Headers],0))))","v":0}]
[null,null,null,null,null,null,null,null,null,null,null,null,null,null,null,null,null,null,null,null,null,null,null,null,null,null,null,null,null,null,null,null,null,null,null,null,null,null,null,null,null,null,null,null,null,null,null,null,null,null,null,null,null,null,null,null,null,null,null,null,null,null,null,null,null,null,null,null,null,null,null,null,null,null,null,null,null,null,null,null,null,null,null,null,null,null,null,null,null,null,null,null,null,null,null,null,null,null,null,null,null,null,null,null,null,null,null,null,null,null,null,null,null,null,null,null,null,null,null,null,null,null,null,null,null,null,null,null,null,null,null,null,null,null,null,null,null,null,null,null,null,null,null,null,null,null,null,null,null,null,null,null,{"$f":"ROWS($EW$20:EW267)","v":248},{"$f":"IFERROR(MATCH(Hist_Tab[[#This Row],[Ref]],Medel_T[NrX],0),1)","v":1},{"$f":"INT((ROW(Hist_Tab[[#This Row],[Ref]])-ROW(Hist_Tab[[#Headers],[Ref]])-1)/4)+1","v":63},{"$f":"COUNTIF($EY$19:EY267,Hist_Tab[[#This Row],[Ref]])","v":1},{"$f":"IFERROR(INDEX(Medel_T[Start],Hist_Tab[[#This Row],[Ref]]),_xlfn.AGGREGATE(4,6,Medel_T[Start]))","v":"00:00:00"},{"$f":"IFERROR(INDEX(Medel_T[Slut],Hist_Tab[[#This Row],[Ref]]),_xlfn.AGGREGATE(4,6,Medel_T[Slut]))","v":"00:00:00"},{"$f":"IF(EW266=0,Hist_Tab[[#This Row],[ÅrB]],IF(Hist_Tab[[#This Row],[per/p]]<2,Hist_Tab[[#This Row],[ÅrB]],Hist_Tab[[#This Row],[År S]]))","v":"00:00:00"},{"$f":"IF(Hist_Tab[[#This Row],[Rad]:[Rad]]=0,-1,IF($EY268>_xlfn.AGGREGATE(2,6,Medel_T[[Slut]:[Slut]]),0,INDEX(Medel_T[],Hist_Tab[[#This Row],[Ref]:[Ref]],MATCH(Hist_Tab[[#Headers],[HöA T]],Medel_T[#Headers],0))))","v":0},{"$f":"IF(Hist_Tab[[#This Row],[Rad]:[Rad]]=0,0,IF($EY268>_xlfn.AGGREGATE(2,6,Medel_T[[Slut]:[Slut]]),0,INDEX(Medel_T[],Hist_Tab[[#This Row],[Ref]:[Ref]],MATCH(Hist_Tab[[#Headers],[AöA T]],Medel_T[#Headers],0))))","v":0},{"$f":"IF(Hist_Tab[[#This Row],[Rad]:[Rad]]=0,0,IF($EY268>_xlfn.AGGREGATE(2,6,Medel_T[[Slut]:[Slut]]),0,INDEX(Medel_T[],Hist_Tab[[#This Row],[Ref]:[Ref]],MATCH(Hist_Tab[[#Headers],[4AM T]],Medel_T[#Headers],0))))","v":0},{"$f":"IF(Hist_Tab[[#This Row],[Rad]:[Rad]]=0,0,IF($EY268>_xlfn.AGGREGATE(2,6,Medel_T[[Slut]:[Slut]]),0,INDEX(Medel_T[],Hist_Tab[[#This Row],[Ref]:[Ref]],MATCH(Hist_Tab[[#Headers],[15AM T]],Medel_T[#Headers],0))))","v":0},{"$f":"IF(Hist_Tab[[#This Row],[Rad]:[Rad]]=0,0,IF($EY268>_xlfn.AGGREGATE(2,6,Medel_T[[Slut]:[Slut]]),0,INDEX(Medel_T[],Hist_Tab[[#This Row],[Ref]:[Ref]],MATCH(Hist_Tab[[#Headers],[20-10D T]],Medel_T[#Headers],0))))","v":0}]
[null,null,null,null,null,null,null,null,null,null,null,null,null,null,null,null,null,null,null,null,null,null,null,null,null,null,null,null,null,null,null,null,null,null,null,null,null,null,null,null,null,null,null,null,null,null,null,null,null,null,null,null,null,null,null,null,null,null,null,null,null,null,null,null,null,null,null,null,null,null,null,null,null,null,null,null,null,null,null,null,null,null,null,null,null,null,null,null,null,null,null,null,null,null,null,null,null,null,null,null,null,null,null,null,null,null,null,null,null,null,null,null,null,null,null,null,null,null,null,null,null,null,null,null,null,null,null,null,null,null,null,null,null,null,null,null,null,null,null,null,null,null,null,null,null,null,null,null,null,null,null,null,{"$f":"ROWS($EW$20:EW268)","v":249},{"$f":"IFERROR(MATCH(Hist_Tab[[#This Row],[Ref]],Medel_T[NrX],0),1)","v":1},{"$f":"INT((ROW(Hist_Tab[[#This Row],[Ref]])-ROW(Hist_Tab[[#Headers],[Ref]])-1)/4)+1","v":63},{"$f":"COUNTIF($EY$19:EY268,Hist_Tab[[#This Row],[Ref]])","v":2},{"$f":"IFERROR(INDEX(Medel_T[Start],Hist_Tab[[#This Row],[Ref]]),_xlfn.AGGREGATE(4,6,Medel_T[Start]))","v":"00:00:00"},{"$f":"IFERROR(INDEX(Medel_T[Slut],Hist_Tab[[#This Row],[Ref]]),_xlfn.AGGREGATE(4,6,Medel_T[Slut]))","v":"00:00:00"},{"$f":"IF(EW267=0,Hist_Tab[[#This Row],[ÅrB]],IF(Hist_Tab[[#This Row],[per/p]]<2,Hist_Tab[[#This Row],[ÅrB]],Hist_Tab[[#This Row],[År S]]))","v":"00:00:00"},{"$f":"IF(Hist_Tab[[#This Row],[Rad]:[Rad]]=0,-1,IF($EY269>_xlfn.AGGREGATE(2,6,Medel_T[[Slut]:[Slut]]),0,INDEX(Medel_T[],Hist_Tab[[#This Row],[Ref]:[Ref]],MATCH(Hist_Tab[[#Headers],[HöA T]],Medel_T[#Headers],0))))","v":0},{"$f":"IF(Hist_Tab[[#This Row],[Rad]:[Rad]]=0,0,IF($EY269>_xlfn.AGGREGATE(2,6,Medel_T[[Slut]:[Slut]]),0,INDEX(Medel_T[],Hist_Tab[[#This Row],[Ref]:[Ref]],MATCH(Hist_Tab[[#Headers],[AöA T]],Medel_T[#Headers],0))))","v":0},{"$f":"IF(Hist_Tab[[#This Row],[Rad]:[Rad]]=0,0,IF($EY269>_xlfn.AGGREGATE(2,6,Medel_T[[Slut]:[Slut]]),0,INDEX(Medel_T[],Hist_Tab[[#This Row],[Ref]:[Ref]],MATCH(Hist_Tab[[#Headers],[4AM T]],Medel_T[#Headers],0))))","v":0},{"$f":"IF(Hist_Tab[[#This Row],[Rad]:[Rad]]=0,0,IF($EY269>_xlfn.AGGREGATE(2,6,Medel_T[[Slut]:[Slut]]),0,INDEX(Medel_T[],Hist_Tab[[#This Row],[Ref]:[Ref]],MATCH(Hist_Tab[[#Headers],[15AM T]],Medel_T[#Headers],0))))","v":0},{"$f":"IF(Hist_Tab[[#This Row],[Rad]:[Rad]]=0,0,IF($EY269>_xlfn.AGGREGATE(2,6,Medel_T[[Slut]:[Slut]]),0,INDEX(Medel_T[],Hist_Tab[[#This Row],[Ref]:[Ref]],MATCH(Hist_Tab[[#Headers],[20-10D T]],Medel_T[#Headers],0))))","v":0}]
[null,null,null,null,null,null,null,null,null,null,null,null,null,null,null,null,null,null,null,null,null,null,null,null,null,null,null,null,null,null,null,null,null,null,null,null,null,null,null,null,null,null,null,null,null,null,null,null,null,null,null,null,null,null,null,null,null,null,null,null,null,null,null,null,null,null,null,null,null,null,null,null,null,null,null,null,null,null,null,null,null,null,null,null,null,null,null,null,null,null,null,null,null,null,null,null,null,null,null,null,null,null,null,null,null,null,null,null,null,null,null,null,null,null,null,null,null,null,null,null,null,null,null,null,null,null,null,null,null,null,null,null,null,null,null,null,null,null,null,null,null,null,null,null,null,null,null,null,null,null,null,null,{"$f":"ROWS($EW$20:EW269)","v":250},{"$f":"IFERROR(MATCH(Hist_Tab[[#This Row],[Ref]],Medel_T[NrX],0),1)","v":1},{"$f":"INT((ROW(Hist_Tab[[#This Row],[Ref]])-ROW(Hist_Tab[[#Headers],[Ref]])-1)/4)+1","v":63},{"$f":"COUNTIF($EY$19:EY269,Hist_Tab[[#This Row],[Ref]])","v":3},{"$f":"IFERROR(INDEX(Medel_T[Start],Hist_Tab[[#This Row],[Ref]]),_xlfn.AGGREGATE(4,6,Medel_T[Start]))","v":"00:00:00"},{"$f":"IFERROR(INDEX(Medel_T[Slut],Hist_Tab[[#This Row],[Ref]]),_xlfn.AGGREGATE(4,6,Medel_T[Slut]))","v":"00:00:00"},{"$f":"IF(EW268=0,Hist_Tab[[#This Row],[ÅrB]],IF(Hist_Tab[[#This Row],[per/p]]<2,Hist_Tab[[#This Row],[ÅrB]],Hist_Tab[[#This Row],[År S]]))","v":"00:00:00"},{"$f":"IF(Hist_Tab[[#This Row],[Rad]:[Rad]]=0,-1,IF($EY270>_xlfn.AGGREGATE(2,6,Medel_T[[Slut]:[Slut]]),0,INDEX(Medel_T[],Hist_Tab[[#This Row],[Ref]:[Ref]],MATCH(Hist_Tab[[#Headers],[HöA T]],Medel_T[#Headers],0))))","v":0},{"$f":"IF(Hist_Tab[[#This Row],[Rad]:[Rad]]=0,0,IF($EY270>_xlfn.AGGREGATE(2,6,Medel_T[[Slut]:[Slut]]),0,INDEX(Medel_T[],Hist_Tab[[#This Row],[Ref]:[Ref]],MATCH(Hist_Tab[[#Headers],[AöA T]],Medel_T[#Headers],0))))","v":0},{"$f":"IF(Hist_Tab[[#This Row],[Rad]:[Rad]]=0,0,IF($EY270>_xlfn.AGGREGATE(2,6,Medel_T[[Slut]:[Slut]]),0,INDEX(Medel_T[],Hist_Tab[[#This Row],[Ref]:[Ref]],MATCH(Hist_Tab[[#Headers],[4AM T]],Medel_T[#Headers],0))))","v":0},{"$f":"IF(Hist_Tab[[#This Row],[Rad]:[Rad]]=0,0,IF($EY270>_xlfn.AGGREGATE(2,6,Medel_T[[Slut]:[Slut]]),0,INDEX(Medel_T[],Hist_Tab[[#This Row],[Ref]:[Ref]],MATCH(Hist_Tab[[#Headers],[15AM T]],Medel_T[#Headers],0))))","v":0},{"$f":"IF(Hist_Tab[[#This Row],[Rad]:[Rad]]=0,0,IF($EY270>_xlfn.AGGREGATE(2,6,Medel_T[[Slut]:[Slut]]),0,INDEX(Medel_T[],Hist_Tab[[#This Row],[Ref]:[Ref]],MATCH(Hist_Tab[[#Headers],[20-10D T]],Medel_T[#Headers],0))))","v":0}]
[null,null,null,null,null,null,null,null,null,null,null,null,null,null,null,null,null,null,null,null,null,null,null,null,null,null,null,null,null,null,null,null,null,null,null,null,null,null,null,null,null,null,null,null,null,null,null,null,null,null,null,null,null,null,null,null,null,null,null,null,null,null,null,null,null,null,null,null,null,null,null,null,null,null,null,null,null,null,null,null,null,null,null,null,null,null,null,null,null,null,null,null,null,null,null,null,null,null,null,null,null,null,null,null,null,null,null,null,null,null,null,null,null,null,null,null,null,null,null,null,null,null,null,null,null,null,null,null,null,null,null,null,null,null,null,null,null,null,null,null,null,null,null,null,null,null,null,null,null,null,null,null,{"$f":"ROWS($EW$20:EW270)","v":251},{"$f":"IFERROR(MATCH(Hist_Tab[[#This Row],[Ref]],Medel_T[NrX],0),1)","v":1},{"$f":"INT((ROW(Hist_Tab[[#This Row],[Ref]])-ROW(Hist_Tab[[#Headers],[Ref]])-1)/4)+1","v":63},{"$f":"COUNTIF($EY$19:EY270,Hist_Tab[[#This Row],[Ref]])","v":4},{"$f":"IFERROR(INDEX(Medel_T[Start],Hist_Tab[[#This Row],[Ref]]),_xlfn.AGGREGATE(4,6,Medel_T[Start]))","v":"00:00:00"},{"$f":"IFERROR(INDEX(Medel_T[Slut],Hist_Tab[[#This Row],[Ref]]),_xlfn.AGGREGATE(4,6,Medel_T[Slut]))","v":"00:00:00"},{"$f":"IF(EW269=0,Hist_Tab[[#This Row],[ÅrB]],IF(Hist_Tab[[#This Row],[per/p]]<2,Hist_Tab[[#This Row],[ÅrB]],Hist_Tab[[#This Row],[År S]]))","v":"00:00:00"},{"$f":"IF(Hist_Tab[[#This Row],[Rad]:[Rad]]=0,-1,IF($EY271>_xlfn.AGGREGATE(2,6,Medel_T[[Slut]:[Slut]]),0,INDEX(Medel_T[],Hist_Tab[[#This Row],[Ref]:[Ref]],MATCH(Hist_Tab[[#Headers],[HöA T]],Medel_T[#Headers],0))))","v":0},{"$f":"IF(Hist_Tab[[#This Row],[Rad]:[Rad]]=0,0,IF($EY271>_xlfn.AGGREGATE(2,6,Medel_T[[Slut]:[Slut]]),0,INDEX(Medel_T[],Hist_Tab[[#This Row],[Ref]:[Ref]],MATCH(Hist_Tab[[#Headers],[AöA T]],Medel_T[#Headers],0))))","v":0},{"$f":"IF(Hist_Tab[[#This Row],[Rad]:[Rad]]=0,0,IF($EY271>_xlfn.AGGREGATE(2,6,Medel_T[[Slut]:[Slut]]),0,INDEX(Medel_T[],Hist_Tab[[#This Row],[Ref]:[Ref]],MATCH(Hist_Tab[[#Headers],[4AM T]],Medel_T[#Headers],0))))","v":0},{"$f":"IF(Hist_Tab[[#This Row],[Rad]:[Rad]]=0,0,IF($EY271>_xlfn.AGGREGATE(2,6,Medel_T[[Slut]:[Slut]]),0,INDEX(Medel_T[],Hist_Tab[[#This Row],[Ref]:[Ref]],MATCH(Hist_Tab[[#Headers],[15AM T]],Medel_T[#Headers],0))))","v":0},{"$f":"IF(Hist_Tab[[#This Row],[Rad]:[Rad]]=0,0,IF($EY271>_xlfn.AGGREGATE(2,6,Medel_T[[Slut]:[Slut]]),0,INDEX(Medel_T[],Hist_Tab[[#This Row],[Ref]:[Ref]],MATCH(Hist_Tab[[#Headers],[20-10D T]],Medel_T[#Headers],0))))","v":0}]
[null,null,null,null,null,null,null,null,null,null,null,null,null,null,null,null,null,null,null,null,null,null,null,null,null,null,null,null,null,null,null,null,null,null,null,null,null,null,null,null,null,null,null,null,null,null,null,null,null,null,null,null,null,null,null,null,null,null,null,null,null,null,null,null,null,null,null,null,null,null,null,null,null,null,null,null,null,null,null,null,null,null,null,null,null,null,null,null,null,null,null,null,null,null,null,null,null,null,null,null,null,null,null,null,null,null,null,null,null,null,null,null,null,null,null,null,null,null,null,null,null,null,null,null,null,null,null,null,null,null,null,null,null,null,null,null,null,null,null,null,null,null,null,null,null,null,null,null,null,null,null,null,{"$f":"ROWS($EW$20:EW271)","v":252},{"$f":"IFERROR(MATCH(Hist_Tab[[#This Row],[Ref]],Medel_T[NrX],0),1)","v":1},{"$f":"INT((ROW(Hist_Tab[[#This Row],[Ref]])-ROW(Hist_Tab[[#Headers],[Ref]])-1)/4)+1","v":64},{"$f":"COUNTIF($EY$19:EY271,Hist_Tab[[#This Row],[Ref]])","v":1},{"$f":"IFERROR(INDEX(Medel_T[Start],Hist_Tab[[#This Row],[Ref]]),_xlfn.AGGREGATE(4,6,Medel_T[Start]))","v":"00:00:00"},{"$f":"IFERROR(INDEX(Medel_T[Slut],Hist_Tab[[#This Row],[Ref]]),_xlfn.AGGREGATE(4,6,Medel_T[Slut]))","v":"00:00:00"},{"$f":"IF(EW270=0,Hist_Tab[[#This Row],[ÅrB]],IF(Hist_Tab[[#This Row],[per/p]]<2,Hist_Tab[[#This Row],[ÅrB]],Hist_Tab[[#This Row],[År S]]))","v":"00:00:00"},{"$f":"IF(Hist_Tab[[#This Row],[Rad]:[Rad]]=0,-1,IF($EY272>_xlfn.AGGREGATE(2,6,Medel_T[[Slut]:[Slut]]),0,INDEX(Medel_T[],Hist_Tab[[#This Row],[Ref]:[Ref]],MATCH(Hist_Tab[[#Headers],[HöA T]],Medel_T[#Headers],0))))","v":0},{"$f":"IF(Hist_Tab[[#This Row],[Rad]:[Rad]]=0,0,IF($EY272>_xlfn.AGGREGATE(2,6,Medel_T[[Slut]:[Slut]]),0,INDEX(Medel_T[],Hist_Tab[[#This Row],[Ref]:[Ref]],MATCH(Hist_Tab[[#Headers],[AöA T]],Medel_T[#Headers],0))))","v":0},{"$f":"IF(Hist_Tab[[#This Row],[Rad]:[Rad]]=0,0,IF($EY272>_xlfn.AGGREGATE(2,6,Medel_T[[Slut]:[Slut]]),0,INDEX(Medel_T[],Hist_Tab[[#This Row],[Ref]:[Ref]],MATCH(Hist_Tab[[#Headers],[4AM T]],Medel_T[#Headers],0))))","v":0},{"$f":"IF(Hist_Tab[[#This Row],[Rad]:[Rad]]=0,0,IF($EY272>_xlfn.AGGREGATE(2,6,Medel_T[[Slut]:[Slut]]),0,INDEX(Medel_T[],Hist_Tab[[#This Row],[Ref]:[Ref]],MATCH(Hist_Tab[[#Headers],[15AM T]],Medel_T[#Headers],0))))","v":0},{"$f":"IF(Hist_Tab[[#This Row],[Rad]:[Rad]]=0,0,IF($EY272>_xlfn.AGGREGATE(2,6,Medel_T[[Slut]:[Slut]]),0,INDEX(Medel_T[],Hist_Tab[[#This Row],[Ref]:[Ref]],MATCH(Hist_Tab[[#Headers],[20-10D T]],Medel_T[#Headers],0))))","v":0}]
[null,null,null,null,null,null,null,null,null,null,null,null,null,null,null,null,null,null,null,null,null,null,null,null,null,null,null,null,null,null,null,null,null,null,null,null,null,null,null,null,null,null,null,null,null,null,null,null,null,null,null,null,null,null,null,null,null,null,null,null,null,null,null,null,null,null,null,null,null,null,null,null,null,null,null,null,null,null,null,null,null,null,null,null,null,null,null,null,null,null,null,null,null,null,null,null,null,null,null,null,null,null,null,null,null,null,null,null,null,null,null,null,null,null,null,null,null,null,null,null,null,null,null,null,null,null,null,null,null,null,null,null,null,null,null,null,null,null,null,null,null,null,null,null,null,null,null,null,null,null,null,null,{"$f":"ROWS($EW$20:EW272)","v":253},{"$f":"IFERROR(MATCH(Hist_Tab[[#This Row],[Ref]],Medel_T[NrX],0),1)","v":1},{"$f":"INT((ROW(Hist_Tab[[#This Row],[Ref]])-ROW(Hist_Tab[[#Headers],[Ref]])-1)/4)+1","v":64},{"$f":"COUNTIF($EY$19:EY272,Hist_Tab[[#This Row],[Ref]])","v":2},{"$f":"IFERROR(INDEX(Medel_T[Start],Hist_Tab[[#This Row],[Ref]]),_xlfn.AGGREGATE(4,6,Medel_T[Start]))","v":"00:00:00"},{"$f":"IFERROR(INDEX(Medel_T[Slut],Hist_Tab[[#This Row],[Ref]]),_xlfn.AGGREGATE(4,6,Medel_T[Slut]))","v":"00:00:00"},{"$f":"IF(EW271=0,Hist_Tab[[#This Row],[ÅrB]],IF(Hist_Tab[[#This Row],[per/p]]<2,Hist_Tab[[#This Row],[ÅrB]],Hist_Tab[[#This Row],[År S]]))","v":"00:00:00"},{"$f":"IF(Hist_Tab[[#This Row],[Rad]:[Rad]]=0,-1,IF($EY273>_xlfn.AGGREGATE(2,6,Medel_T[[Slut]:[Slut]]),0,INDEX(Medel_T[],Hist_Tab[[#This Row],[Ref]:[Ref]],MATCH(Hist_Tab[[#Headers],[HöA T]],Medel_T[#Headers],0))))","v":0},{"$f":"IF(Hist_Tab[[#This Row],[Rad]:[Rad]]=0,0,IF($EY273>_xlfn.AGGREGATE(2,6,Medel_T[[Slut]:[Slut]]),0,INDEX(Medel_T[],Hist_Tab[[#This Row],[Ref]:[Ref]],MATCH(Hist_Tab[[#Headers],[AöA T]],Medel_T[#Headers],0))))","v":0},{"$f":"IF(Hist_Tab[[#This Row],[Rad]:[Rad]]=0,0,IF($EY273>_xlfn.AGGREGATE(2,6,Medel_T[[Slut]:[Slut]]),0,INDEX(Medel_T[],Hist_Tab[[#This Row],[Ref]:[Ref]],MATCH(Hist_Tab[[#Headers],[4AM T]],Medel_T[#Headers],0))))","v":0},{"$f":"IF(Hist_Tab[[#This Row],[Rad]:[Rad]]=0,0,IF($EY273>_xlfn.AGGREGATE(2,6,Medel_T[[Slut]:[Slut]]),0,INDEX(Medel_T[],Hist_Tab[[#This Row],[Ref]:[Ref]],MATCH(Hist_Tab[[#Headers],[15AM T]],Medel_T[#Headers],0))))","v":0},{"$f":"IF(Hist_Tab[[#This Row],[Rad]:[Rad]]=0,0,IF($EY273>_xlfn.AGGREGATE(2,6,Medel_T[[Slut]:[Slut]]),0,INDEX(Medel_T[],Hist_Tab[[#This Row],[Ref]:[Ref]],MATCH(Hist_Tab[[#Headers],[20-10D T]],Medel_T[#Headers],0))))","v":0}]
[null,null,null,null,null,null,null,null,null,null,null,null,null,null,null,null,null,null,null,null,null,null,null,null,null,null,null,null,null,null,null,null,null,null,null,null,null,null,null,null,null,null,null,null,null,null,null,null,null,null,null,null,null,null,null,null,null,null,null,null,null,null,null,null,null,null,null,null,null,null,null,null,null,null,null,null,null,null,null,null,null,null,null,null,null,null,null,null,null,null,null,null,null,null,null,null,null,null,null,null,null,null,null,null,null,null,null,null,null,null,null,null,null,null,null,null,null,null,null,null,null,null,null,null,null,null,null,null,null,null,null,null,null,null,null,null,null,null,null,null,null,null,null,null,null,null,null,null,null,null,null,null,{"$f":"ROWS($EW$20:EW273)","v":254},{"$f":"IFERROR(MATCH(Hist_Tab[[#This Row],[Ref]],Medel_T[NrX],0),1)","v":1},{"$f":"INT((ROW(Hist_Tab[[#This Row],[Ref]])-ROW(Hist_Tab[[#Headers],[Ref]])-1)/4)+1","v":64},{"$f":"COUNTIF($EY$19:EY273,Hist_Tab[[#This Row],[Ref]])","v":3},{"$f":"IFERROR(INDEX(Medel_T[Start],Hist_Tab[[#This Row],[Ref]]),_xlfn.AGGREGATE(4,6,Medel_T[Start]))","v":"00:00:00"},{"$f":"IFERROR(INDEX(Medel_T[Slut],Hist_Tab[[#This Row],[Ref]]),_xlfn.AGGREGATE(4,6,Medel_T[Slut]))","v":"00:00:00"},{"$f":"IF(EW272=0,Hist_Tab[[#This Row],[ÅrB]],IF(Hist_Tab[[#This Row],[per/p]]<2,Hist_Tab[[#This Row],[ÅrB]],Hist_Tab[[#This Row],[År S]]))","v":"00:00:00"},{"$f":"IF(Hist_Tab[[#This Row],[Rad]:[Rad]]=0,-1,IF($EY274>_xlfn.AGGREGATE(2,6,Medel_T[[Slut]:[Slut]]),0,INDEX(Medel_T[],Hist_Tab[[#This Row],[Ref]:[Ref]],MATCH(Hist_Tab[[#Headers],[HöA T]],Medel_T[#Headers],0))))","v":0},{"$f":"IF(Hist_Tab[[#This Row],[Rad]:[Rad]]=0,0,IF($EY274>_xlfn.AGGREGATE(2,6,Medel_T[[Slut]:[Slut]]),0,INDEX(Medel_T[],Hist_Tab[[#This Row],[Ref]:[Ref]],MATCH(Hist_Tab[[#Headers],[AöA T]],Medel_T[#Headers],0))))","v":0},{"$f":"IF(Hist_Tab[[#This Row],[Rad]:[Rad]]=0,0,IF($EY274>_xlfn.AGGREGATE(2,6,Medel_T[[Slut]:[Slut]]),0,INDEX(Medel_T[],Hist_Tab[[#This Row],[Ref]:[Ref]],MATCH(Hist_Tab[[#Headers],[4AM T]],Medel_T[#Headers],0))))","v":0},{"$f":"IF(Hist_Tab[[#This Row],[Rad]:[Rad]]=0,0,IF($EY274>_xlfn.AGGREGATE(2,6,Medel_T[[Slut]:[Slut]]),0,INDEX(Medel_T[],Hist_Tab[[#This Row],[Ref]:[Ref]],MATCH(Hist_Tab[[#Headers],[15AM T]],Medel_T[#Headers],0))))","v":0},{"$f":"IF(Hist_Tab[[#This Row],[Rad]:[Rad]]=0,0,IF($EY274>_xlfn.AGGREGATE(2,6,Medel_T[[Slut]:[Slut]]),0,INDEX(Medel_T[],Hist_Tab[[#This Row],[Ref]:[Ref]],MATCH(Hist_Tab[[#Headers],[20-10D T]],Medel_T[#Headers],0))))","v":0}]
[null,null,null,null,null,null,null,null,null,null,null,null,null,null,null,null,null,null,null,null,null,null,null,null,null,null,null,null,null,null,null,null,null,null,null,null,null,null,null,null,null,null,null,null,null,null,null,null,null,null,null,null,null,null,null,null,null,null,null,null,null,null,null,null,null,null,null,null,null,null,null,null,null,null,null,null,null,null,null,null,null,null,null,null,null,null,null,null,null,null,null,null,null,null,null,null,null,null,null,null,null,null,null,null,null,null,null,null,null,null,null,null,null,null,null,null,null,null,null,null,null,null,null,null,null,null,null,null,null,null,null,null,null,null,null,null,null,null,null,null,null,null,null,null,null,null,null,null,null,null,null,null,{"$f":"ROWS($EW$20:EW274)","v":255},{"$f":"IFERROR(MATCH(Hist_Tab[[#This Row],[Ref]],Medel_T[NrX],0),1)","v":1},{"$f":"INT((ROW(Hist_Tab[[#This Row],[Ref]])-ROW(Hist_Tab[[#Headers],[Ref]])-1)/4)+1","v":64},{"$f":"COUNTIF($EY$19:EY274,Hist_Tab[[#This Row],[Ref]])","v":4},{"$f":"IFERROR(INDEX(Medel_T[Start],Hist_Tab[[#This Row],[Ref]]),_xlfn.AGGREGATE(4,6,Medel_T[Start]))","v":"00:00:00"},{"$f":"IFERROR(INDEX(Medel_T[Slut],Hist_Tab[[#This Row],[Ref]]),_xlfn.AGGREGATE(4,6,Medel_T[Slut]))","v":"00:00:00"},{"$f":"IF(EW273=0,Hist_Tab[[#This Row],[ÅrB]],IF(Hist_Tab[[#This Row],[per/p]]<2,Hist_Tab[[#This Row],[ÅrB]],Hist_Tab[[#This Row],[År S]]))","v":"00:00:00"},{"$f":"IF(Hist_Tab[[#This Row],[Rad]:[Rad]]=0,-1,IF($EY275>_xlfn.AGGREGATE(2,6,Medel_T[[Slut]:[Slut]]),0,INDEX(Medel_T[],Hist_Tab[[#This Row],[Ref]:[Ref]],MATCH(Hist_Tab[[#Headers],[HöA T]],Medel_T[#Headers],0))))","v":0},{"$f":"IF(Hist_Tab[[#This Row],[Rad]:[Rad]]=0,0,IF($EY275>_xlfn.AGGREGATE(2,6,Medel_T[[Slut]:[Slut]]),0,INDEX(Medel_T[],Hist_Tab[[#This Row],[Ref]:[Ref]],MATCH(Hist_Tab[[#Headers],[AöA T]],Medel_T[#Headers],0))))","v":0},{"$f":"IF(Hist_Tab[[#This Row],[Rad]:[Rad]]=0,0,IF($EY275>_xlfn.AGGREGATE(2,6,Medel_T[[Slut]:[Slut]]),0,INDEX(Medel_T[],Hist_Tab[[#This Row],[Ref]:[Ref]],MATCH(Hist_Tab[[#Headers],[4AM T]],Medel_T[#Headers],0))))","v":0},{"$f":"IF(Hist_Tab[[#This Row],[Rad]:[Rad]]=0,0,IF($EY275>_xlfn.AGGREGATE(2,6,Medel_T[[Slut]:[Slut]]),0,INDEX(Medel_T[],Hist_Tab[[#This Row],[Ref]:[Ref]],MATCH(Hist_Tab[[#Headers],[15AM T]],Medel_T[#Headers],0))))","v":0},{"$f":"IF(Hist_Tab[[#This Row],[Rad]:[Rad]]=0,0,IF($EY275>_xlfn.AGGREGATE(2,6,Medel_T[[Slut]:[Slut]]),0,INDEX(Medel_T[],Hist_Tab[[#This Row],[Ref]:[Ref]],MATCH(Hist_Tab[[#Headers],[20-10D T]],Medel_T[#Headers],0))))","v":0}]
[null,null,null,null,null,null,null,null,null,null,null,null,null,null,null,null,null,null,null,null,null,null,null,null,null,null,null,null,null,null,null,null,null,null,null,null,null,null,null,null,null,null,null,null,null,null,null,null,null,null,null,null,null,null,null,null,null,null,null,null,null,null,null,null,null,null,null,null,null,null,null,null,null,null,null,null,null,null,null,null,null,null,null,null,null,null,null,null,null,null,null,null,null,null,null,null,null,null,null,null,null,null,null,null,null,null,null,null,null,null,null,null,null,null,null,null,null,null,null,null,null,null,null,null,null,null,null,null,null,null,null,null,null,null,null,null,null,null,null,null,null,null,null,null,null,null,null,null,null,null,null,null,{"$f":"ROWS($EW$20:EW275)","v":256},{"$f":"IFERROR(MATCH(Hist_Tab[[#This Row],[Ref]],Medel_T[NrX],0),1)","v":1},{"$f":"INT((ROW(Hist_Tab[[#This Row],[Ref]])-ROW(Hist_Tab[[#Headers],[Ref]])-1)/4)+1","v":65},{"$f":"COUNTIF($EY$19:EY275,Hist_Tab[[#This Row],[Ref]])","v":1},{"$f":"IFERROR(INDEX(Medel_T[Start],Hist_Tab[[#This Row],[Ref]]),_xlfn.AGGREGATE(4,6,Medel_T[Start]))","v":"00:00:00"},{"$f":"IFERROR(INDEX(Medel_T[Slut],Hist_Tab[[#This Row],[Ref]]),_xlfn.AGGREGATE(4,6,Medel_T[Slut]))","v":"00:00:00"},{"$f":"IF(EW274=0,Hist_Tab[[#This Row],[ÅrB]],IF(Hist_Tab[[#This Row],[per/p]]<2,Hist_Tab[[#This Row],[ÅrB]],Hist_Tab[[#This Row],[År S]]))","v":"00:00:00"},{"$f":"IF(Hist_Tab[[#This Row],[Rad]:[Rad]]=0,-1,IF($EY276>_xlfn.AGGREGATE(2,6,Medel_T[[Slut]:[Slut]]),0,INDEX(Medel_T[],Hist_Tab[[#This Row],[Ref]:[Ref]],MATCH(Hist_Tab[[#Headers],[HöA T]],Medel_T[#Headers],0))))","v":0},{"$f":"IF(Hist_Tab[[#This Row],[Rad]:[Rad]]=0,0,IF($EY276>_xlfn.AGGREGATE(2,6,Medel_T[[Slut]:[Slut]]),0,INDEX(Medel_T[],Hist_Tab[[#This Row],[Ref]:[Ref]],MATCH(Hist_Tab[[#Headers],[AöA T]],Medel_T[#Headers],0))))","v":0},{"$f":"IF(Hist_Tab[[#This Row],[Rad]:[Rad]]=0,0,IF($EY276>_xlfn.AGGREGATE(2,6,Medel_T[[Slut]:[Slut]]),0,INDEX(Medel_T[],Hist_Tab[[#This Row],[Ref]:[Ref]],MATCH(Hist_Tab[[#Headers],[4AM T]],Medel_T[#Headers],0))))","v":0},{"$f":"IF(Hist_Tab[[#This Row],[Rad]:[Rad]]=0,0,IF($EY276>_xlfn.AGGREGATE(2,6,Medel_T[[Slut]:[Slut]]),0,INDEX(Medel_T[],Hist_Tab[[#This Row],[Ref]:[Ref]],MATCH(Hist_Tab[[#Headers],[15AM T]],Medel_T[#Headers],0))))","v":0},{"$f":"IF(Hist_Tab[[#This Row],[Rad]:[Rad]]=0,0,IF($EY276>_xlfn.AGGREGATE(2,6,Medel_T[[Slut]:[Slut]]),0,INDEX(Medel_T[],Hist_Tab[[#This Row],[Ref]:[Ref]],MATCH(Hist_Tab[[#Headers],[20-10D T]],Medel_T[#Headers],0))))","v":0}]
[null,null,null,null,null,null,null,null,null,null,null,null,null,null,null,null,null,null,null,null,null,null,null,null,null,null,null,null,null,null,null,null,null,null,null,null,null,null,null,null,null,null,null,null,null,null,null,null,null,null,null,null,null,null,null,null,null,null,null,null,null,null,null,null,null,null,null,null,null,null,null,null,null,null,null,null,null,null,null,null,null,null,null,null,null,null,null,null,null,null,null,null,null,null,null,null,null,null,null,null,null,null,null,null,null,null,null,null,null,null,null,null,null,null,null,null,null,null,null,null,null,null,null,null,null,null,null,null,null,null,null,null,null,null,null,null,null,null,null,null,null,null,null,null,null,null,null,null,null,null,null,null,{"$f":"ROWS($EW$20:EW276)","v":257},{"$f":"IFERROR(MATCH(Hist_Tab[[#This Row],[Ref]],Medel_T[NrX],0),1)","v":1},{"$f":"INT((ROW(Hist_Tab[[#This Row],[Ref]])-ROW(Hist_Tab[[#Headers],[Ref]])-1)/4)+1","v":65},{"$f":"COUNTIF($EY$19:EY276,Hist_Tab[[#This Row],[Ref]])","v":2},{"$f":"IFERROR(INDEX(Medel_T[Start],Hist_Tab[[#This Row],[Ref]]),_xlfn.AGGREGATE(4,6,Medel_T[Start]))","v":"00:00:00"},{"$f":"IFERROR(INDEX(Medel_T[Slut],Hist_Tab[[#This Row],[Ref]]),_xlfn.AGGREGATE(4,6,Medel_T[Slut]))","v":"00:00:00"},{"$f":"IF(EW275=0,Hist_Tab[[#This Row],[ÅrB]],IF(Hist_Tab[[#This Row],[per/p]]<2,Hist_Tab[[#This Row],[ÅrB]],Hist_Tab[[#This Row],[År S]]))","v":"00:00:00"},{"$f":"IF(Hist_Tab[[#This Row],[Rad]:[Rad]]=0,-1,IF($EY277>_xlfn.AGGREGATE(2,6,Medel_T[[Slut]:[Slut]]),0,INDEX(Medel_T[],Hist_Tab[[#This Row],[Ref]:[Ref]],MATCH(Hist_Tab[[#Headers],[HöA T]],Medel_T[#Headers],0))))","v":0},{"$f":"IF(Hist_Tab[[#This Row],[Rad]:[Rad]]=0,0,IF($EY277>_xlfn.AGGREGATE(2,6,Medel_T[[Slut]:[Slut]]),0,INDEX(Medel_T[],Hist_Tab[[#This Row],[Ref]:[Ref]],MATCH(Hist_Tab[[#Headers],[AöA T]],Medel_T[#Headers],0))))","v":0},{"$f":"IF(Hist_Tab[[#This Row],[Rad]:[Rad]]=0,0,IF($EY277>_xlfn.AGGREGATE(2,6,Medel_T[[Slut]:[Slut]]),0,INDEX(Medel_T[],Hist_Tab[[#This Row],[Ref]:[Ref]],MATCH(Hist_Tab[[#Headers],[4AM T]],Medel_T[#Headers],0))))","v":0},{"$f":"IF(Hist_Tab[[#This Row],[Rad]:[Rad]]=0,0,IF($EY277>_xlfn.AGGREGATE(2,6,Medel_T[[Slut]:[Slut]]),0,INDEX(Medel_T[],Hist_Tab[[#This Row],[Ref]:[Ref]],MATCH(Hist_Tab[[#Headers],[15AM T]],Medel_T[#Headers],0))))","v":0},{"$f":"IF(Hist_Tab[[#This Row],[Rad]:[Rad]]=0,0,IF($EY277>_xlfn.AGGREGATE(2,6,Medel_T[[Slut]:[Slut]]),0,INDEX(Medel_T[],Hist_Tab[[#This Row],[Ref]:[Ref]],MATCH(Hist_Tab[[#Headers],[20-10D T]],Medel_T[#Headers],0))))","v":0}]
[null,null,null,null,null,null,null,null,null,null,null,null,null,null,null,null,null,null,null,null,null,null,null,null,null,null,null,null,null,null,null,null,null,null,null,null,null,null,null,null,null,null,null,null,null,null,null,null,null,null,null,null,null,null,null,null,null,null,null,null,null,null,null,null,null,null,null,null,null,null,null,null,null,null,null,null,null,null,null,null,null,null,null,null,null,null,null,null,null,null,null,null,null,null,null,null,null,null,null,null,null,null,null,null,null,null,null,null,null,null,null,null,null,null,null,null,null,null,null,null,null,null,null,null,null,null,null,null,null,null,null,null,null,null,null,null,null,null,null,null,null,null,null,null,null,null,null,null,null,null,null,null,{"$f":"ROWS($EW$20:EW277)","v":258},{"$f":"IFERROR(MATCH(Hist_Tab[[#This Row],[Ref]],Medel_T[NrX],0),1)","v":1},{"$f":"INT((ROW(Hist_Tab[[#This Row],[Ref]])-ROW(Hist_Tab[[#Headers],[Ref]])-1)/4)+1","v":65},{"$f":"COUNTIF($EY$19:EY277,Hist_Tab[[#This Row],[Ref]])","v":3},{"$f":"IFERROR(INDEX(Medel_T[Start],Hist_Tab[[#This Row],[Ref]]),_xlfn.AGGREGATE(4,6,Medel_T[Start]))","v":"00:00:00"},{"$f":"IFERROR(INDEX(Medel_T[Slut],Hist_Tab[[#This Row],[Ref]]),_xlfn.AGGREGATE(4,6,Medel_T[Slut]))","v":"00:00:00"},{"$f":"IF(EW276=0,Hist_Tab[[#This Row],[ÅrB]],IF(Hist_Tab[[#This Row],[per/p]]<2,Hist_Tab[[#This Row],[ÅrB]],Hist_Tab[[#This Row],[År S]]))","v":"00:00:00"},{"$f":"IF(Hist_Tab[[#This Row],[Rad]:[Rad]]=0,-1,IF($EY278>_xlfn.AGGREGATE(2,6,Medel_T[[Slut]:[Slut]]),0,INDEX(Medel_T[],Hist_Tab[[#This Row],[Ref]:[Ref]],MATCH(Hist_Tab[[#Headers],[HöA T]],Medel_T[#Headers],0))))","v":0},{"$f":"IF(Hist_Tab[[#This Row],[Rad]:[Rad]]=0,0,IF($EY278>_xlfn.AGGREGATE(2,6,Medel_T[[Slut]:[Slut]]),0,INDEX(Medel_T[],Hist_Tab[[#This Row],[Ref]:[Ref]],MATCH(Hist_Tab[[#Headers],[AöA T]],Medel_T[#Headers],0))))","v":0},{"$f":"IF(Hist_Tab[[#This Row],[Rad]:[Rad]]=0,0,IF($EY278>_xlfn.AGGREGATE(2,6,Medel_T[[Slut]:[Slut]]),0,INDEX(Medel_T[],Hist_Tab[[#This Row],[Ref]:[Ref]],MATCH(Hist_Tab[[#Headers],[4AM T]],Medel_T[#Headers],0))))","v":0},{"$f":"IF(Hist_Tab[[#This Row],[Rad]:[Rad]]=0,0,IF($EY278>_xlfn.AGGREGATE(2,6,Medel_T[[Slut]:[Slut]]),0,INDEX(Medel_T[],Hist_Tab[[#This Row],[Ref]:[Ref]],MATCH(Hist_Tab[[#Headers],[15AM T]],Medel_T[#Headers],0))))","v":0},{"$f":"IF(Hist_Tab[[#This Row],[Rad]:[Rad]]=0,0,IF($EY278>_xlfn.AGGREGATE(2,6,Medel_T[[Slut]:[Slut]]),0,INDEX(Medel_T[],Hist_Tab[[#This Row],[Ref]:[Ref]],MATCH(Hist_Tab[[#Headers],[20-10D T]],Medel_T[#Headers],0))))","v":0}]
[null,null,null,null,null,null,null,null,null,null,null,null,null,null,null,null,null,null,null,null,null,null,null,null,null,null,null,null,null,null,null,null,null,null,null,null,null,null,null,null,null,null,null,null,null,null,null,null,null,null,null,null,null,null,null,null,null,null,null,null,null,null,null,null,null,null,null,null,null,null,null,null,null,null,null,null,null,null,null,null,null,null,null,null,null,null,null,null,null,null,null,null,null,null,null,null,null,null,null,null,null,null,null,null,null,null,null,null,null,null,null,null,null,null,null,null,null,null,null,null,null,null,null,null,null,null,null,null,null,null,null,null,null,null,null,null,null,null,null,null,null,null,null,null,null,null,null,null,null,null,null,null,{"$f":"ROWS($EW$20:EW278)","v":259},{"$f":"IFERROR(MATCH(Hist_Tab[[#This Row],[Ref]],Medel_T[NrX],0),1)","v":1},{"$f":"INT((ROW(Hist_Tab[[#This Row],[Ref]])-ROW(Hist_Tab[[#Headers],[Ref]])-1)/4)+1","v":65},{"$f":"COUNTIF($EY$19:EY278,Hist_Tab[[#This Row],[Ref]])","v":4},{"$f":"IFERROR(INDEX(Medel_T[Start],Hist_Tab[[#This Row],[Ref]]),_xlfn.AGGREGATE(4,6,Medel_T[Start]))","v":"00:00:00"},{"$f":"IFERROR(INDEX(Medel_T[Slut],Hist_Tab[[#This Row],[Ref]]),_xlfn.AGGREGATE(4,6,Medel_T[Slut]))","v":"00:00:00"},{"$f":"IF(EW277=0,Hist_Tab[[#This Row],[ÅrB]],IF(Hist_Tab[[#This Row],[per/p]]<2,Hist_Tab[[#This Row],[ÅrB]],Hist_Tab[[#This Row],[År S]]))","v":"00:00:00"},{"$f":"IF(Hist_Tab[[#This Row],[Rad]:[Rad]]=0,-1,IF($EY279>_xlfn.AGGREGATE(2,6,Medel_T[[Slut]:[Slut]]),0,INDEX(Medel_T[],Hist_Tab[[#This Row],[Ref]:[Ref]],MATCH(Hist_Tab[[#Headers],[HöA T]],Medel_T[#Headers],0))))","v":0},{"$f":"IF(Hist_Tab[[#This Row],[Rad]:[Rad]]=0,0,IF($EY279>_xlfn.AGGREGATE(2,6,Medel_T[[Slut]:[Slut]]),0,INDEX(Medel_T[],Hist_Tab[[#This Row],[Ref]:[Ref]],MATCH(Hist_Tab[[#Headers],[AöA T]],Medel_T[#Headers],0))))","v":0},{"$f":"IF(Hist_Tab[[#This Row],[Rad]:[Rad]]=0,0,IF($EY279>_xlfn.AGGREGATE(2,6,Medel_T[[Slut]:[Slut]]),0,INDEX(Medel_T[],Hist_Tab[[#This Row],[Ref]:[Ref]],MATCH(Hist_Tab[[#Headers],[4AM T]],Medel_T[#Headers],0))))","v":0},{"$f":"IF(Hist_Tab[[#This Row],[Rad]:[Rad]]=0,0,IF($EY279>_xlfn.AGGREGATE(2,6,Medel_T[[Slut]:[Slut]]),0,INDEX(Medel_T[],Hist_Tab[[#This Row],[Ref]:[Ref]],MATCH(Hist_Tab[[#Headers],[15AM T]],Medel_T[#Headers],0))))","v":0},{"$f":"IF(Hist_Tab[[#This Row],[Rad]:[Rad]]=0,0,IF($EY279>_xlfn.AGGREGATE(2,6,Medel_T[[Slut]:[Slut]]),0,INDEX(Medel_T[],Hist_Tab[[#This Row],[Ref]:[Ref]],MATCH(Hist_Tab[[#Headers],[20-10D T]],Medel_T[#Headers],0))))","v":0}]
[null,null,null,null,null,null,null,null,null,null,null,null,null,null,null,null,null,null,null,null,null,null,null,null,null,null,null,null,null,null,null,null,null,null,null,null,null,null,null,null,null,null,null,null,null,null,null,null,null,null,null,null,null,null,null,null,null,null,null,null,null,null,null,null,null,null,null,null,null,null,null,null,null,null,null,null,null,null,null,null,null,null,null,null,null,null,null,null,null,null,null,null,null,null,null,null,null,null,null,null,null,null,null,null,null,null,null,null,null,null,null,null,null,null,null,null,null,null,null,null,null,null,null,null,null,null,null,null,null,null,null,null,null,null,null,null,null,null,null,null,null,null,null,null,null,null,null,null,null,null,null,null,{"$f":"ROWS($EW$20:EW279)","v":260},{"$f":"IFERROR(MATCH(Hist_Tab[[#This Row],[Ref]],Medel_T[NrX],0),1)","v":1},{"$f":"INT((ROW(Hist_Tab[[#This Row],[Ref]])-ROW(Hist_Tab[[#Headers],[Ref]])-1)/4)+1","v":66},{"$f":"COUNTIF($EY$19:EY279,Hist_Tab[[#This Row],[Ref]])","v":1},{"$f":"IFERROR(INDEX(Medel_T[Start],Hist_Tab[[#This Row],[Ref]]),_xlfn.AGGREGATE(4,6,Medel_T[Start]))","v":"00:00:00"},{"$f":"IFERROR(INDEX(Medel_T[Slut],Hist_Tab[[#This Row],[Ref]]),_xlfn.AGGREGATE(4,6,Medel_T[Slut]))","v":"00:00:00"},{"$f":"IF(EW278=0,Hist_Tab[[#This Row],[ÅrB]],IF(Hist_Tab[[#This Row],[per/p]]<2,Hist_Tab[[#This Row],[ÅrB]],Hist_Tab[[#This Row],[År S]]))","v":"00:00:00"},{"$f":"IF(Hist_Tab[[#This Row],[Rad]:[Rad]]=0,-1,IF($EY280>_xlfn.AGGREGATE(2,6,Medel_T[[Slut]:[Slut]]),0,INDEX(Medel_T[],Hist_Tab[[#This Row],[Ref]:[Ref]],MATCH(Hist_Tab[[#Headers],[HöA T]],Medel_T[#Headers],0))))","v":0},{"$f":"IF(Hist_Tab[[#This Row],[Rad]:[Rad]]=0,0,IF($EY280>_xlfn.AGGREGATE(2,6,Medel_T[[Slut]:[Slut]]),0,INDEX(Medel_T[],Hist_Tab[[#This Row],[Ref]:[Ref]],MATCH(Hist_Tab[[#Headers],[AöA T]],Medel_T[#Headers],0))))","v":0},{"$f":"IF(Hist_Tab[[#This Row],[Rad]:[Rad]]=0,0,IF($EY280>_xlfn.AGGREGATE(2,6,Medel_T[[Slut]:[Slut]]),0,INDEX(Medel_T[],Hist_Tab[[#This Row],[Ref]:[Ref]],MATCH(Hist_Tab[[#Headers],[4AM T]],Medel_T[#Headers],0))))","v":0},{"$f":"IF(Hist_Tab[[#This Row],[Rad]:[Rad]]=0,0,IF($EY280>_xlfn.AGGREGATE(2,6,Medel_T[[Slut]:[Slut]]),0,INDEX(Medel_T[],Hist_Tab[[#This Row],[Ref]:[Ref]],MATCH(Hist_Tab[[#Headers],[15AM T]],Medel_T[#Headers],0))))","v":0},{"$f":"IF(Hist_Tab[[#This Row],[Rad]:[Rad]]=0,0,IF($EY280>_xlfn.AGGREGATE(2,6,Medel_T[[Slut]:[Slut]]),0,INDEX(Medel_T[],Hist_Tab[[#This Row],[Ref]:[Ref]],MATCH(Hist_Tab[[#Headers],[20-10D T]],Medel_T[#Headers],0))))","v":0}]
[null,null,null,null,null,null,null,null,null,null,null,null,null,null,null,null,null,null,null,null,null,null,null,null,null,null,null,null,null,null,null,null,null,null,null,null,null,null,null,null,null,null,null,null,null,null,null,null,null,null,null,null,null,null,null,null,null,null,null,null,null,null,null,null,null,null,null,null,null,null,null,null,null,null,null,null,null,null,null,null,null,null,null,null,null,null,null,null,null,null,null,null,null,null,null,null,null,null,null,null,null,null,null,null,null,null,null,null,null,null,null,null,null,null,null,null,null,null,null,null,null,null,null,null,null,null,null,null,null,null,null,null,null,null,null,null,null,null,null,null,null,null,null,null,null,null,null,null,null,null,null,null,{"$f":"ROWS($EW$20:EW280)","v":261},{"$f":"IFERROR(MATCH(Hist_Tab[[#This Row],[Ref]],Medel_T[NrX],0),1)","v":1},{"$f":"INT((ROW(Hist_Tab[[#This Row],[Ref]])-ROW(Hist_Tab[[#Headers],[Ref]])-1)/4)+1","v":66},{"$f":"COUNTIF($EY$19:EY280,Hist_Tab[[#This Row],[Ref]])","v":2},{"$f":"IFERROR(INDEX(Medel_T[Start],Hist_Tab[[#This Row],[Ref]]),_xlfn.AGGREGATE(4,6,Medel_T[Start]))","v":"00:00:00"},{"$f":"IFERROR(INDEX(Medel_T[Slut],Hist_Tab[[#This Row],[Ref]]),_xlfn.AGGREGATE(4,6,Medel_T[Slut]))","v":"00:00:00"},{"$f":"IF(EW279=0,Hist_Tab[[#This Row],[ÅrB]],IF(Hist_Tab[[#This Row],[per/p]]<2,Hist_Tab[[#This Row],[ÅrB]],Hist_Tab[[#This Row],[År S]]))","v":"00:00:00"},{"$f":"IF(Hist_Tab[[#This Row],[Rad]:[Rad]]=0,-1,IF($EY281>_xlfn.AGGREGATE(2,6,Medel_T[[Slut]:[Slut]]),0,INDEX(Medel_T[],Hist_Tab[[#This Row],[Ref]:[Ref]],MATCH(Hist_Tab[[#Headers],[HöA T]],Medel_T[#Headers],0))))","v":0},{"$f":"IF(Hist_Tab[[#This Row],[Rad]:[Rad]]=0,0,IF($EY281>_xlfn.AGGREGATE(2,6,Medel_T[[Slut]:[Slut]]),0,INDEX(Medel_T[],Hist_Tab[[#This Row],[Ref]:[Ref]],MATCH(Hist_Tab[[#Headers],[AöA T]],Medel_T[#Headers],0))))","v":0},{"$f":"IF(Hist_Tab[[#This Row],[Rad]:[Rad]]=0,0,IF($EY281>_xlfn.AGGREGATE(2,6,Medel_T[[Slut]:[Slut]]),0,INDEX(Medel_T[],Hist_Tab[[#This Row],[Ref]:[Ref]],MATCH(Hist_Tab[[#Headers],[4AM T]],Medel_T[#Headers],0))))","v":0},{"$f":"IF(Hist_Tab[[#This Row],[Rad]:[Rad]]=0,0,IF($EY281>_xlfn.AGGREGATE(2,6,Medel_T[[Slut]:[Slut]]),0,INDEX(Medel_T[],Hist_Tab[[#This Row],[Ref]:[Ref]],MATCH(Hist_Tab[[#Headers],[15AM T]],Medel_T[#Headers],0))))","v":0},{"$f":"IF(Hist_Tab[[#This Row],[Rad]:[Rad]]=0,0,IF($EY281>_xlfn.AGGREGATE(2,6,Medel_T[[Slut]:[Slut]]),0,INDEX(Medel_T[],Hist_Tab[[#This Row],[Ref]:[Ref]],MATCH(Hist_Tab[[#Headers],[20-10D T]],Medel_T[#Headers],0))))","v":0}]
[null,null,null,null,null,null,null,null,null,null,null,null,null,null,null,null,null,null,null,null,null,null,null,null,null,null,null,null,null,null,null,null,null,null,null,null,null,null,null,null,null,null,null,null,null,null,null,null,null,null,null,null,null,null,null,null,null,null,null,null,null,null,null,null,null,null,null,null,null,null,null,null,null,null,null,null,null,null,null,null,null,null,null,null,null,null,null,null,null,null,null,null,null,null,null,null,null,null,null,null,null,null,null,null,null,null,null,null,null,null,null,null,null,null,null,null,null,null,null,null,null,null,null,null,null,null,null,null,null,null,null,null,null,null,null,null,null,null,null,null,null,null,null,null,null,null,null,null,null,null,null,null,{"$f":"ROWS($EW$20:EW281)","v":262},{"$f":"IFERROR(MATCH(Hist_Tab[[#This Row],[Ref]],Medel_T[NrX],0),1)","v":1},{"$f":"INT((ROW(Hist_Tab[[#This Row],[Ref]])-ROW(Hist_Tab[[#Headers],[Ref]])-1)/4)+1","v":66},{"$f":"COUNTIF($EY$19:EY281,Hist_Tab[[#This Row],[Ref]])","v":3},{"$f":"IFERROR(INDEX(Medel_T[Start],Hist_Tab[[#This Row],[Ref]]),_xlfn.AGGREGATE(4,6,Medel_T[Start]))","v":"00:00:00"},{"$f":"IFERROR(INDEX(Medel_T[Slut],Hist_Tab[[#This Row],[Ref]]),_xlfn.AGGREGATE(4,6,Medel_T[Slut]))","v":"00:00:00"},{"$f":"IF(EW280=0,Hist_Tab[[#This Row],[ÅrB]],IF(Hist_Tab[[#This Row],[per/p]]<2,Hist_Tab[[#This Row],[ÅrB]],Hist_Tab[[#This Row],[År S]]))","v":"00:00:00"},{"$f":"IF(Hist_Tab[[#This Row],[Rad]:[Rad]]=0,-1,IF($EY282>_xlfn.AGGREGATE(2,6,Medel_T[[Slut]:[Slut]]),0,INDEX(Medel_T[],Hist_Tab[[#This Row],[Ref]:[Ref]],MATCH(Hist_Tab[[#Headers],[HöA T]],Medel_T[#Headers],0))))","v":0},{"$f":"IF(Hist_Tab[[#This Row],[Rad]:[Rad]]=0,0,IF($EY282>_xlfn.AGGREGATE(2,6,Medel_T[[Slut]:[Slut]]),0,INDEX(Medel_T[],Hist_Tab[[#This Row],[Ref]:[Ref]],MATCH(Hist_Tab[[#Headers],[AöA T]],Medel_T[#Headers],0))))","v":0},{"$f":"IF(Hist_Tab[[#This Row],[Rad]:[Rad]]=0,0,IF($EY282>_xlfn.AGGREGATE(2,6,Medel_T[[Slut]:[Slut]]),0,INDEX(Medel_T[],Hist_Tab[[#This Row],[Ref]:[Ref]],MATCH(Hist_Tab[[#Headers],[4AM T]],Medel_T[#Headers],0))))","v":0},{"$f":"IF(Hist_Tab[[#This Row],[Rad]:[Rad]]=0,0,IF($EY282>_xlfn.AGGREGATE(2,6,Medel_T[[Slut]:[Slut]]),0,INDEX(Medel_T[],Hist_Tab[[#This Row],[Ref]:[Ref]],MATCH(Hist_Tab[[#Headers],[15AM T]],Medel_T[#Headers],0))))","v":0},{"$f":"IF(Hist_Tab[[#This Row],[Rad]:[Rad]]=0,0,IF($EY282>_xlfn.AGGREGATE(2,6,Medel_T[[Slut]:[Slut]]),0,INDEX(Medel_T[],Hist_Tab[[#This Row],[Ref]:[Ref]],MATCH(Hist_Tab[[#Headers],[20-10D T]],Medel_T[#Headers],0))))","v":0}]
[null,null,null,null,null,null,null,null,null,null,null,null,null,null,null,null,null,null,null,null,null,null,null,null,null,null,null,null,null,null,null,null,null,null,null,null,null,null,null,null,null,null,null,null,null,null,null,null,null,null,null,null,null,null,null,null,null,null,null,null,null,null,null,null,null,null,null,null,null,null,null,null,null,null,null,null,null,null,null,null,null,null,null,null,null,null,null,null,null,null,null,null,null,null,null,null,null,null,null,null,null,null,null,null,null,null,null,null,null,null,null,null,null,null,null,null,null,null,null,null,null,null,null,null,null,null,null,null,null,null,null,null,null,null,null,null,null,null,null,null,null,null,null,null,null,null,null,null,null,null,null,null,{"$f":"ROWS($EW$20:EW282)","v":263},{"$f":"IFERROR(MATCH(Hist_Tab[[#This Row],[Ref]],Medel_T[NrX],0),1)","v":1},{"$f":"INT((ROW(Hist_Tab[[#This Row],[Ref]])-ROW(Hist_Tab[[#Headers],[Ref]])-1)/4)+1","v":66},{"$f":"COUNTIF($EY$19:EY282,Hist_Tab[[#This Row],[Ref]])","v":4},{"$f":"IFERROR(INDEX(Medel_T[Start],Hist_Tab[[#This Row],[Ref]]),_xlfn.AGGREGATE(4,6,Medel_T[Start]))","v":"00:00:00"},{"$f":"IFERROR(INDEX(Medel_T[Slut],Hist_Tab[[#This Row],[Ref]]),_xlfn.AGGREGATE(4,6,Medel_T[Slut]))","v":"00:00:00"},{"$f":"IF(EW281=0,Hist_Tab[[#This Row],[ÅrB]],IF(Hist_Tab[[#This Row],[per/p]]<2,Hist_Tab[[#This Row],[ÅrB]],Hist_Tab[[#This Row],[År S]]))","v":"00:00:00"},{"$f":"IF(Hist_Tab[[#This Row],[Rad]:[Rad]]=0,-1,IF($EY283>_xlfn.AGGREGATE(2,6,Medel_T[[Slut]:[Slut]]),0,INDEX(Medel_T[],Hist_Tab[[#This Row],[Ref]:[Ref]],MATCH(Hist_Tab[[#Headers],[HöA T]],Medel_T[#Headers],0))))","v":0},{"$f":"IF(Hist_Tab[[#This Row],[Rad]:[Rad]]=0,0,IF($EY283>_xlfn.AGGREGATE(2,6,Medel_T[[Slut]:[Slut]]),0,INDEX(Medel_T[],Hist_Tab[[#This Row],[Ref]:[Ref]],MATCH(Hist_Tab[[#Headers],[AöA T]],Medel_T[#Headers],0))))","v":0},{"$f":"IF(Hist_Tab[[#This Row],[Rad]:[Rad]]=0,0,IF($EY283>_xlfn.AGGREGATE(2,6,Medel_T[[Slut]:[Slut]]),0,INDEX(Medel_T[],Hist_Tab[[#This Row],[Ref]:[Ref]],MATCH(Hist_Tab[[#Headers],[4AM T]],Medel_T[#Headers],0))))","v":0},{"$f":"IF(Hist_Tab[[#This Row],[Rad]:[Rad]]=0,0,IF($EY283>_xlfn.AGGREGATE(2,6,Medel_T[[Slut]:[Slut]]),0,INDEX(Medel_T[],Hist_Tab[[#This Row],[Ref]:[Ref]],MATCH(Hist_Tab[[#Headers],[15AM T]],Medel_T[#Headers],0))))","v":0},{"$f":"IF(Hist_Tab[[#This Row],[Rad]:[Rad]]=0,0,IF($EY283>_xlfn.AGGREGATE(2,6,Medel_T[[Slut]:[Slut]]),0,INDEX(Medel_T[],Hist_Tab[[#This Row],[Ref]:[Ref]],MATCH(Hist_Tab[[#Headers],[20-10D T]],Medel_T[#Headers],0))))","v":0}]
[null,null,null,null,null,null,null,null,null,null,null,null,null,null,null,null,null,null,null,null,null,null,null,null,null,null,null,null,null,null,null,null,null,null,null,null,null,null,null,null,null,null,null,null,null,null,null,null,null,null,null,null,null,null,null,null,null,null,null,null,null,null,null,null,null,null,null,null,null,null,null,null,null,null,null,null,null,null,null,null,null,null,null,null,null,null,null,null,null,null,null,null,null,null,null,null,null,null,null,null,null,null,null,null,null,null,null,null,null,null,null,null,null,null,null,null,null,null,null,null,null,null,null,null,null,null,null,null,null,null,null,null,null,null,null,null,null,null,null,null,null,null,null,null,null,null,null,null,null,null,null,null,{"$f":"ROWS($EW$20:EW283)","v":264},{"$f":"IFERROR(MATCH(Hist_Tab[[#This Row],[Ref]],Medel_T[NrX],0),1)","v":1},{"$f":"INT((ROW(Hist_Tab[[#This Row],[Ref]])-ROW(Hist_Tab[[#Headers],[Ref]])-1)/4)+1","v":67},{"$f":"COUNTIF($EY$19:EY283,Hist_Tab[[#This Row],[Ref]])","v":1},{"$f":"IFERROR(INDEX(Medel_T[Start],Hist_Tab[[#This Row],[Ref]]),_xlfn.AGGREGATE(4,6,Medel_T[Start]))","v":"00:00:00"},{"$f":"IFERROR(INDEX(Medel_T[Slut],Hist_Tab[[#This Row],[Ref]]),_xlfn.AGGREGATE(4,6,Medel_T[Slut]))","v":"00:00:00"},{"$f":"IF(EW282=0,Hist_Tab[[#This Row],[ÅrB]],IF(Hist_Tab[[#This Row],[per/p]]<2,Hist_Tab[[#This Row],[ÅrB]],Hist_Tab[[#This Row],[År S]]))","v":"00:00:00"},{"$f":"IF(Hist_Tab[[#This Row],[Rad]:[Rad]]=0,-1,IF($EY284>_xlfn.AGGREGATE(2,6,Medel_T[[Slut]:[Slut]]),0,INDEX(Medel_T[],Hist_Tab[[#This Row],[Ref]:[Ref]],MATCH(Hist_Tab[[#Headers],[HöA T]],Medel_T[#Headers],0))))","v":0},{"$f":"IF(Hist_Tab[[#This Row],[Rad]:[Rad]]=0,0,IF($EY284>_xlfn.AGGREGATE(2,6,Medel_T[[Slut]:[Slut]]),0,INDEX(Medel_T[],Hist_Tab[[#This Row],[Ref]:[Ref]],MATCH(Hist_Tab[[#Headers],[AöA T]],Medel_T[#Headers],0))))","v":0},{"$f":"IF(Hist_Tab[[#This Row],[Rad]:[Rad]]=0,0,IF($EY284>_xlfn.AGGREGATE(2,6,Medel_T[[Slut]:[Slut]]),0,INDEX(Medel_T[],Hist_Tab[[#This Row],[Ref]:[Ref]],MATCH(Hist_Tab[[#Headers],[4AM T]],Medel_T[#Headers],0))))","v":0},{"$f":"IF(Hist_Tab[[#This Row],[Rad]:[Rad]]=0,0,IF($EY284>_xlfn.AGGREGATE(2,6,Medel_T[[Slut]:[Slut]]),0,INDEX(Medel_T[],Hist_Tab[[#This Row],[Ref]:[Ref]],MATCH(Hist_Tab[[#Headers],[15AM T]],Medel_T[#Headers],0))))","v":0},{"$f":"IF(Hist_Tab[[#This Row],[Rad]:[Rad]]=0,0,IF($EY284>_xlfn.AGGREGATE(2,6,Medel_T[[Slut]:[Slut]]),0,INDEX(Medel_T[],Hist_Tab[[#This Row],[Ref]:[Ref]],MATCH(Hist_Tab[[#Headers],[20-10D T]],Medel_T[#Headers],0))))","v":0}]
[null,null,null,null,null,null,null,null,null,null,null,null,null,null,null,null,null,null,null,null,null,null,null,null,null,null,null,null,null,null,null,null,null,null,null,null,null,null,null,null,null,null,null,null,null,null,null,null,null,null,null,null,null,null,null,null,null,null,null,null,null,null,null,null,null,null,null,null,null,null,null,null,null,null,null,null,null,null,null,null,null,null,null,null,null,null,null,null,null,null,null,null,null,null,null,null,null,null,null,null,null,null,null,null,null,null,null,null,null,null,null,null,null,null,null,null,null,null,null,null,null,null,null,null,null,null,null,null,null,null,null,null,null,null,null,null,null,null,null,null,null,null,null,null,null,null,null,null,null,null,null,null,{"$f":"ROWS($EW$20:EW284)","v":265},{"$f":"IFERROR(MATCH(Hist_Tab[[#This Row],[Ref]],Medel_T[NrX],0),1)","v":1},{"$f":"INT((ROW(Hist_Tab[[#This Row],[Ref]])-ROW(Hist_Tab[[#Headers],[Ref]])-1)/4)+1","v":67},{"$f":"COUNTIF($EY$19:EY284,Hist_Tab[[#This Row],[Ref]])","v":2},{"$f":"IFERROR(INDEX(Medel_T[Start],Hist_Tab[[#This Row],[Ref]]),_xlfn.AGGREGATE(4,6,Medel_T[Start]))","v":"00:00:00"},{"$f":"IFERROR(INDEX(Medel_T[Slut],Hist_Tab[[#This Row],[Ref]]),_xlfn.AGGREGATE(4,6,Medel_T[Slut]))","v":"00:00:00"},{"$f":"IF(EW283=0,Hist_Tab[[#This Row],[ÅrB]],IF(Hist_Tab[[#This Row],[per/p]]<2,Hist_Tab[[#This Row],[ÅrB]],Hist_Tab[[#This Row],[År S]]))","v":"00:00:00"},{"$f":"IF(Hist_Tab[[#This Row],[Rad]:[Rad]]=0,-1,IF($EY285>_xlfn.AGGREGATE(2,6,Medel_T[[Slut]:[Slut]]),0,INDEX(Medel_T[],Hist_Tab[[#This Row],[Ref]:[Ref]],MATCH(Hist_Tab[[#Headers],[HöA T]],Medel_T[#Headers],0))))","v":0},{"$f":"IF(Hist_Tab[[#This Row],[Rad]:[Rad]]=0,0,IF($EY285>_xlfn.AGGREGATE(2,6,Medel_T[[Slut]:[Slut]]),0,INDEX(Medel_T[],Hist_Tab[[#This Row],[Ref]:[Ref]],MATCH(Hist_Tab[[#Headers],[AöA T]],Medel_T[#Headers],0))))","v":0},{"$f":"IF(Hist_Tab[[#This Row],[Rad]:[Rad]]=0,0,IF($EY285>_xlfn.AGGREGATE(2,6,Medel_T[[Slut]:[Slut]]),0,INDEX(Medel_T[],Hist_Tab[[#This Row],[Ref]:[Ref]],MATCH(Hist_Tab[[#Headers],[4AM T]],Medel_T[#Headers],0))))","v":0},{"$f":"IF(Hist_Tab[[#This Row],[Rad]:[Rad]]=0,0,IF($EY285>_xlfn.AGGREGATE(2,6,Medel_T[[Slut]:[Slut]]),0,INDEX(Medel_T[],Hist_Tab[[#This Row],[Ref]:[Ref]],MATCH(Hist_Tab[[#Headers],[15AM T]],Medel_T[#Headers],0))))","v":0},{"$f":"IF(Hist_Tab[[#This Row],[Rad]:[Rad]]=0,0,IF($EY285>_xlfn.AGGREGATE(2,6,Medel_T[[Slut]:[Slut]]),0,INDEX(Medel_T[],Hist_Tab[[#This Row],[Ref]:[Ref]],MATCH(Hist_Tab[[#Headers],[20-10D T]],Medel_T[#Headers],0))))","v":0}]
[null,null,null,null,null,null,null,null,null,null,null,null,null,null,null,null,null,null,null,null,null,null,null,null,null,null,null,null,null,null,null,null,null,null,null,null,null,null,null,null,null,null,null,null,null,null,null,null,null,null,null,null,null,null,null,null,null,null,null,null,null,null,null,null,null,null,null,null,null,null,null,null,null,null,null,null,null,null,null,null,null,null,null,null,null,null,null,null,null,null,null,null,null,null,null,null,null,null,null,null,null,null,null,null,null,null,null,null,null,null,null,null,null,null,null,null,null,null,null,null,null,null,null,null,null,null,null,null,null,null,null,null,null,null,null,null,null,null,null,null,null,null,null,null,null,null,null,null,null,null,null,null,{"$f":"ROWS($EW$20:EW285)","v":266},{"$f":"IFERROR(MATCH(Hist_Tab[[#This Row],[Ref]],Medel_T[NrX],0),1)","v":1},{"$f":"INT((ROW(Hist_Tab[[#This Row],[Ref]])-ROW(Hist_Tab[[#Headers],[Ref]])-1)/4)+1","v":67},{"$f":"COUNTIF($EY$19:EY285,Hist_Tab[[#This Row],[Ref]])","v":3},{"$f":"IFERROR(INDEX(Medel_T[Start],Hist_Tab[[#This Row],[Ref]]),_xlfn.AGGREGATE(4,6,Medel_T[Start]))","v":"00:00:00"},{"$f":"IFERROR(INDEX(Medel_T[Slut],Hist_Tab[[#This Row],[Ref]]),_xlfn.AGGREGATE(4,6,Medel_T[Slut]))","v":"00:00:00"},{"$f":"IF(EW284=0,Hist_Tab[[#This Row],[ÅrB]],IF(Hist_Tab[[#This Row],[per/p]]<2,Hist_Tab[[#This Row],[ÅrB]],Hist_Tab[[#This Row],[År S]]))","v":"00:00:00"},{"$f":"IF(Hist_Tab[[#This Row],[Rad]:[Rad]]=0,-1,IF($EY286>_xlfn.AGGREGATE(2,6,Medel_T[[Slut]:[Slut]]),0,INDEX(Medel_T[],Hist_Tab[[#This Row],[Ref]:[Ref]],MATCH(Hist_Tab[[#Headers],[HöA T]],Medel_T[#Headers],0))))","v":0},{"$f":"IF(Hist_Tab[[#This Row],[Rad]:[Rad]]=0,0,IF($EY286>_xlfn.AGGREGATE(2,6,Medel_T[[Slut]:[Slut]]),0,INDEX(Medel_T[],Hist_Tab[[#This Row],[Ref]:[Ref]],MATCH(Hist_Tab[[#Headers],[AöA T]],Medel_T[#Headers],0))))","v":0},{"$f":"IF(Hist_Tab[[#This Row],[Rad]:[Rad]]=0,0,IF($EY286>_xlfn.AGGREGATE(2,6,Medel_T[[Slut]:[Slut]]),0,INDEX(Medel_T[],Hist_Tab[[#This Row],[Ref]:[Ref]],MATCH(Hist_Tab[[#Headers],[4AM T]],Medel_T[#Headers],0))))","v":0},{"$f":"IF(Hist_Tab[[#This Row],[Rad]:[Rad]]=0,0,IF($EY286>_xlfn.AGGREGATE(2,6,Medel_T[[Slut]:[Slut]]),0,INDEX(Medel_T[],Hist_Tab[[#This Row],[Ref]:[Ref]],MATCH(Hist_Tab[[#Headers],[15AM T]],Medel_T[#Headers],0))))","v":0},{"$f":"IF(Hist_Tab[[#This Row],[Rad]:[Rad]]=0,0,IF($EY286>_xlfn.AGGREGATE(2,6,Medel_T[[Slut]:[Slut]]),0,INDEX(Medel_T[],Hist_Tab[[#This Row],[Ref]:[Ref]],MATCH(Hist_Tab[[#Headers],[20-10D T]],Medel_T[#Headers],0))))","v":0}]
[null,null,null,null,null,null,null,null,null,null,null,null,null,null,null,null,null,null,null,null,null,null,null,null,null,null,null,null,null,null,null,null,null,null,null,null,null,null,null,null,null,null,null,null,null,null,null,null,null,null,null,null,null,null,null,null,null,null,null,null,null,null,null,null,null,null,null,null,null,null,null,null,null,null,null,null,null,null,null,null,null,null,null,null,null,null,null,null,null,null,null,null,null,null,null,null,null,null,null,null,null,null,null,null,null,null,null,null,null,null,null,null,null,null,null,null,null,null,null,null,null,null,null,null,null,null,null,null,null,null,null,null,null,null,null,null,null,null,null,null,null,null,null,null,null,null,null,null,null,null,null,null,{"$f":"ROWS($EW$20:EW286)","v":267},{"$f":"IFERROR(MATCH(Hist_Tab[[#This Row],[Ref]],Medel_T[NrX],0),1)","v":1},{"$f":"INT((ROW(Hist_Tab[[#This Row],[Ref]])-ROW(Hist_Tab[[#Headers],[Ref]])-1)/4)+1","v":67},{"$f":"COUNTIF($EY$19:EY286,Hist_Tab[[#This Row],[Ref]])","v":4},{"$f":"IFERROR(INDEX(Medel_T[Start],Hist_Tab[[#This Row],[Ref]]),_xlfn.AGGREGATE(4,6,Medel_T[Start]))","v":"00:00:00"},{"$f":"IFERROR(INDEX(Medel_T[Slut],Hist_Tab[[#This Row],[Ref]]),_xlfn.AGGREGATE(4,6,Medel_T[Slut]))","v":"00:00:00"},{"$f":"IF(EW285=0,Hist_Tab[[#This Row],[ÅrB]],IF(Hist_Tab[[#This Row],[per/p]]<2,Hist_Tab[[#This Row],[ÅrB]],Hist_Tab[[#This Row],[År S]]))","v":"00:00:00"},{"$f":"IF(Hist_Tab[[#This Row],[Rad]:[Rad]]=0,-1,IF($EY287>_xlfn.AGGREGATE(2,6,Medel_T[[Slut]:[Slut]]),0,INDEX(Medel_T[],Hist_Tab[[#This Row],[Ref]:[Ref]],MATCH(Hist_Tab[[#Headers],[HöA T]],Medel_T[#Headers],0))))","v":0},{"$f":"IF(Hist_Tab[[#This Row],[Rad]:[Rad]]=0,0,IF($EY287>_xlfn.AGGREGATE(2,6,Medel_T[[Slut]:[Slut]]),0,INDEX(Medel_T[],Hist_Tab[[#This Row],[Ref]:[Ref]],MATCH(Hist_Tab[[#Headers],[AöA T]],Medel_T[#Headers],0))))","v":0},{"$f":"IF(Hist_Tab[[#This Row],[Rad]:[Rad]]=0,0,IF($EY287>_xlfn.AGGREGATE(2,6,Medel_T[[Slut]:[Slut]]),0,INDEX(Medel_T[],Hist_Tab[[#This Row],[Ref]:[Ref]],MATCH(Hist_Tab[[#Headers],[4AM T]],Medel_T[#Headers],0))))","v":0},{"$f":"IF(Hist_Tab[[#This Row],[Rad]:[Rad]]=0,0,IF($EY287>_xlfn.AGGREGATE(2,6,Medel_T[[Slut]:[Slut]]),0,INDEX(Medel_T[],Hist_Tab[[#This Row],[Ref]:[Ref]],MATCH(Hist_Tab[[#Headers],[15AM T]],Medel_T[#Headers],0))))","v":0},{"$f":"IF(Hist_Tab[[#This Row],[Rad]:[Rad]]=0,0,IF($EY287>_xlfn.AGGREGATE(2,6,Medel_T[[Slut]:[Slut]]),0,INDEX(Medel_T[],Hist_Tab[[#This Row],[Ref]:[Ref]],MATCH(Hist_Tab[[#Headers],[20-10D T]],Medel_T[#Headers],0))))","v":0}]
[null,null,null,null,null,null,null,null,null,null,null,null,null,null,null,null,null,null,null,null,null,null,null,null,null,null,null,null,null,null,null,null,null,null,null,null,null,null,null,null,null,null,null,null,null,null,null,null,null,null,null,null,null,null,null,null,null,null,null,null,null,null,null,null,null,null,null,null,null,null,null,null,null,null,null,null,null,null,null,null,null,null,null,null,null,null,null,null,null,null,null,null,null,null,null,null,null,null,null,null,null,null,null,null,null,null,null,null,null,null,null,null,null,null,null,null,null,null,null,null,null,null,null,null,null,null,null,null,null,null,null,null,null,null,null,null,null,null,null,null,null,null,null,null,null,null,null,null,null,null,null,null,{"$f":"ROWS($EW$20:EW287)","v":268},{"$f":"IFERROR(MATCH(Hist_Tab[[#This Row],[Ref]],Medel_T[NrX],0),1)","v":1},{"$f":"INT((ROW(Hist_Tab[[#This Row],[Ref]])-ROW(Hist_Tab[[#Headers],[Ref]])-1)/4)+1","v":68},{"$f":"COUNTIF($EY$19:EY287,Hist_Tab[[#This Row],[Ref]])","v":1},{"$f":"IFERROR(INDEX(Medel_T[Start],Hist_Tab[[#This Row],[Ref]]),_xlfn.AGGREGATE(4,6,Medel_T[Start]))","v":"00:00:00"},{"$f":"IFERROR(INDEX(Medel_T[Slut],Hist_Tab[[#This Row],[Ref]]),_xlfn.AGGREGATE(4,6,Medel_T[Slut]))","v":"00:00:00"},{"$f":"IF(EW286=0,Hist_Tab[[#This Row],[ÅrB]],IF(Hist_Tab[[#This Row],[per/p]]<2,Hist_Tab[[#This Row],[ÅrB]],Hist_Tab[[#This Row],[År S]]))","v":"00:00:00"},{"$f":"IF(Hist_Tab[[#This Row],[Rad]:[Rad]]=0,-1,IF($EY288>_xlfn.AGGREGATE(2,6,Medel_T[[Slut]:[Slut]]),0,INDEX(Medel_T[],Hist_Tab[[#This Row],[Ref]:[Ref]],MATCH(Hist_Tab[[#Headers],[HöA T]],Medel_T[#Headers],0))))","v":0},{"$f":"IF(Hist_Tab[[#This Row],[Rad]:[Rad]]=0,0,IF($EY288>_xlfn.AGGREGATE(2,6,Medel_T[[Slut]:[Slut]]),0,INDEX(Medel_T[],Hist_Tab[[#This Row],[Ref]:[Ref]],MATCH(Hist_Tab[[#Headers],[AöA T]],Medel_T[#Headers],0))))","v":0},{"$f":"IF(Hist_Tab[[#This Row],[Rad]:[Rad]]=0,0,IF($EY288>_xlfn.AGGREGATE(2,6,Medel_T[[Slut]:[Slut]]),0,INDEX(Medel_T[],Hist_Tab[[#This Row],[Ref]:[Ref]],MATCH(Hist_Tab[[#Headers],[4AM T]],Medel_T[#Headers],0))))","v":0},{"$f":"IF(Hist_Tab[[#This Row],[Rad]:[Rad]]=0,0,IF($EY288>_xlfn.AGGREGATE(2,6,Medel_T[[Slut]:[Slut]]),0,INDEX(Medel_T[],Hist_Tab[[#This Row],[Ref]:[Ref]],MATCH(Hist_Tab[[#Headers],[15AM T]],Medel_T[#Headers],0))))","v":0},{"$f":"IF(Hist_Tab[[#This Row],[Rad]:[Rad]]=0,0,IF($EY288>_xlfn.AGGREGATE(2,6,Medel_T[[Slut]:[Slut]]),0,INDEX(Medel_T[],Hist_Tab[[#This Row],[Ref]:[Ref]],MATCH(Hist_Tab[[#Headers],[20-10D T]],Medel_T[#Headers],0))))","v":0}]
[null,null,null,null,null,null,null,null,null,null,null,null,null,null,null,null,null,null,null,null,null,null,null,null,null,null,null,null,null,null,null,null,null,null,null,null,null,null,null,null,null,null,null,null,null,null,null,null,null,null,null,null,null,null,null,null,null,null,null,null,null,null,null,null,null,null,null,null,null,null,null,null,null,null,null,null,null,null,null,null,null,null,null,null,null,null,null,null,null,null,null,null,null,null,null,null,null,null,null,null,null,null,null,null,null,null,null,null,null,null,null,null,null,null,null,null,null,null,null,null,null,null,null,null,null,null,null,null,null,null,null,null,null,null,null,null,null,null,null,null,null,null,null,null,null,null,null,null,null,null,null,null,{"$f":"ROWS($EW$20:EW288)","v":269},{"$f":"IFERROR(MATCH(Hist_Tab[[#This Row],[Ref]],Medel_T[NrX],0),1)","v":1},{"$f":"INT((ROW(Hist_Tab[[#This Row],[Ref]])-ROW(Hist_Tab[[#Headers],[Ref]])-1)/4)+1","v":68},{"$f":"COUNTIF($EY$19:EY288,Hist_Tab[[#This Row],[Ref]])","v":2},{"$f":"IFERROR(INDEX(Medel_T[Start],Hist_Tab[[#This Row],[Ref]]),_xlfn.AGGREGATE(4,6,Medel_T[Start]))","v":"00:00:00"},{"$f":"IFERROR(INDEX(Medel_T[Slut],Hist_Tab[[#This Row],[Ref]]),_xlfn.AGGREGATE(4,6,Medel_T[Slut]))","v":"00:00:00"},{"$f":"IF(EW287=0,Hist_Tab[[#This Row],[ÅrB]],IF(Hist_Tab[[#This Row],[per/p]]<2,Hist_Tab[[#This Row],[ÅrB]],Hist_Tab[[#This Row],[År S]]))","v":"00:00:00"},{"$f":"IF(Hist_Tab[[#This Row],[Rad]:[Rad]]=0,-1,IF($EY289>_xlfn.AGGREGATE(2,6,Medel_T[[Slut]:[Slut]]),0,INDEX(Medel_T[],Hist_Tab[[#This Row],[Ref]:[Ref]],MATCH(Hist_Tab[[#Headers],[HöA T]],Medel_T[#Headers],0))))","v":0},{"$f":"IF(Hist_Tab[[#This Row],[Rad]:[Rad]]=0,0,IF($EY289>_xlfn.AGGREGATE(2,6,Medel_T[[Slut]:[Slut]]),0,INDEX(Medel_T[],Hist_Tab[[#This Row],[Ref]:[Ref]],MATCH(Hist_Tab[[#Headers],[AöA T]],Medel_T[#Headers],0))))","v":0},{"$f":"IF(Hist_Tab[[#This Row],[Rad]:[Rad]]=0,0,IF($EY289>_xlfn.AGGREGATE(2,6,Medel_T[[Slut]:[Slut]]),0,INDEX(Medel_T[],Hist_Tab[[#This Row],[Ref]:[Ref]],MATCH(Hist_Tab[[#Headers],[4AM T]],Medel_T[#Headers],0))))","v":0},{"$f":"IF(Hist_Tab[[#This Row],[Rad]:[Rad]]=0,0,IF($EY289>_xlfn.AGGREGATE(2,6,Medel_T[[Slut]:[Slut]]),0,INDEX(Medel_T[],Hist_Tab[[#This Row],[Ref]:[Ref]],MATCH(Hist_Tab[[#Headers],[15AM T]],Medel_T[#Headers],0))))","v":0},{"$f":"IF(Hist_Tab[[#This Row],[Rad]:[Rad]]=0,0,IF($EY289>_xlfn.AGGREGATE(2,6,Medel_T[[Slut]:[Slut]]),0,INDEX(Medel_T[],Hist_Tab[[#This Row],[Ref]:[Ref]],MATCH(Hist_Tab[[#Headers],[20-10D T]],Medel_T[#Headers],0))))","v":0}]
[null,null,null,null,null,null,null,null,null,null,null,null,null,null,null,null,null,null,null,null,null,null,null,null,null,null,null,null,null,null,null,null,null,null,null,null,null,null,null,null,null,null,null,null,null,null,null,null,null,null,null,null,null,null,null,null,null,null,null,null,null,null,null,null,null,null,null,null,null,null,null,null,null,null,null,null,null,null,null,null,null,null,null,null,null,null,null,null,null,null,null,null,null,null,null,null,null,null,null,null,null,null,null,null,null,null,null,null,null,null,null,null,null,null,null,null,null,null,null,null,null,null,null,null,null,null,null,null,null,null,null,null,null,null,null,null,null,null,null,null,null,null,null,null,null,null,null,null,null,null,null,null,{"$f":"ROWS($EW$20:EW289)","v":270},{"$f":"IFERROR(MATCH(Hist_Tab[[#This Row],[Ref]],Medel_T[NrX],0),1)","v":1},{"$f":"INT((ROW(Hist_Tab[[#This Row],[Ref]])-ROW(Hist_Tab[[#Headers],[Ref]])-1)/4)+1","v":68},{"$f":"COUNTIF($EY$19:EY289,Hist_Tab[[#This Row],[Ref]])","v":3},{"$f":"IFERROR(INDEX(Medel_T[Start],Hist_Tab[[#This Row],[Ref]]),_xlfn.AGGREGATE(4,6,Medel_T[Start]))","v":"00:00:00"},{"$f":"IFERROR(INDEX(Medel_T[Slut],Hist_Tab[[#This Row],[Ref]]),_xlfn.AGGREGATE(4,6,Medel_T[Slut]))","v":"00:00:00"},{"$f":"IF(EW288=0,Hist_Tab[[#This Row],[ÅrB]],IF(Hist_Tab[[#This Row],[per/p]]<2,Hist_Tab[[#This Row],[ÅrB]],Hist_Tab[[#This Row],[År S]]))","v":"00:00:00"},{"$f":"IF(Hist_Tab[[#This Row],[Rad]:[Rad]]=0,-1,IF($EY290>_xlfn.AGGREGATE(2,6,Medel_T[[Slut]:[Slut]]),0,INDEX(Medel_T[],Hist_Tab[[#This Row],[Ref]:[Ref]],MATCH(Hist_Tab[[#Headers],[HöA T]],Medel_T[#Headers],0))))","v":0},{"$f":"IF(Hist_Tab[[#This Row],[Rad]:[Rad]]=0,0,IF($EY290>_xlfn.AGGREGATE(2,6,Medel_T[[Slut]:[Slut]]),0,INDEX(Medel_T[],Hist_Tab[[#This Row],[Ref]:[Ref]],MATCH(Hist_Tab[[#Headers],[AöA T]],Medel_T[#Headers],0))))","v":0},{"$f":"IF(Hist_Tab[[#This Row],[Rad]:[Rad]]=0,0,IF($EY290>_xlfn.AGGREGATE(2,6,Medel_T[[Slut]:[Slut]]),0,INDEX(Medel_T[],Hist_Tab[[#This Row],[Ref]:[Ref]],MATCH(Hist_Tab[[#Headers],[4AM T]],Medel_T[#Headers],0))))","v":0},{"$f":"IF(Hist_Tab[[#This Row],[Rad]:[Rad]]=0,0,IF($EY290>_xlfn.AGGREGATE(2,6,Medel_T[[Slut]:[Slut]]),0,INDEX(Medel_T[],Hist_Tab[[#This Row],[Ref]:[Ref]],MATCH(Hist_Tab[[#Headers],[15AM T]],Medel_T[#Headers],0))))","v":0},{"$f":"IF(Hist_Tab[[#This Row],[Rad]:[Rad]]=0,0,IF($EY290>_xlfn.AGGREGATE(2,6,Medel_T[[Slut]:[Slut]]),0,INDEX(Medel_T[],Hist_Tab[[#This Row],[Ref]:[Ref]],MATCH(Hist_Tab[[#Headers],[20-10D T]],Medel_T[#Headers],0))))","v":0}]
[null,null,null,null,null,null,null,null,null,null,null,null,null,null,null,null,null,null,null,null,null,null,null,null,null,null,null,null,null,null,null,null,null,null,null,null,null,null,null,null,null,null,null,null,null,null,null,null,null,null,null,null,null,null,null,null,null,null,null,null,null,null,null,null,null,null,null,null,null,null,null,null,null,null,null,null,null,null,null,null,null,null,null,null,null,null,null,null,null,null,null,null,null,null,null,null,null,null,null,null,null,null,null,null,null,null,null,null,null,null,null,null,null,null,null,null,null,null,null,null,null,null,null,null,null,null,null,null,null,null,null,null,null,null,null,null,null,null,null,null,null,null,null,null,null,null,null,null,null,null,null,null,{"$f":"ROWS($EW$20:EW290)","v":271},{"$f":"IFERROR(MATCH(Hist_Tab[[#This Row],[Ref]],Medel_T[NrX],0),1)","v":1},{"$f":"INT((ROW(Hist_Tab[[#This Row],[Ref]])-ROW(Hist_Tab[[#Headers],[Ref]])-1)/4)+1","v":68},{"$f":"COUNTIF($EY$19:EY290,Hist_Tab[[#This Row],[Ref]])","v":4},{"$f":"IFERROR(INDEX(Medel_T[Start],Hist_Tab[[#This Row],[Ref]]),_xlfn.AGGREGATE(4,6,Medel_T[Start]))","v":"00:00:00"},{"$f":"IFERROR(INDEX(Medel_T[Slut],Hist_Tab[[#This Row],[Ref]]),_xlfn.AGGREGATE(4,6,Medel_T[Slut]))","v":"00:00:00"},{"$f":"IF(EW289=0,Hist_Tab[[#This Row],[ÅrB]],IF(Hist_Tab[[#This Row],[per/p]]<2,Hist_Tab[[#This Row],[ÅrB]],Hist_Tab[[#This Row],[År S]]))","v":"00:00:00"},{"$f":"IF(Hist_Tab[[#This Row],[Rad]:[Rad]]=0,-1,IF($EY291>_xlfn.AGGREGATE(2,6,Medel_T[[Slut]:[Slut]]),0,INDEX(Medel_T[],Hist_Tab[[#This Row],[Ref]:[Ref]],MATCH(Hist_Tab[[#Headers],[HöA T]],Medel_T[#Headers],0))))","v":0},{"$f":"IF(Hist_Tab[[#This Row],[Rad]:[Rad]]=0,0,IF($EY291>_xlfn.AGGREGATE(2,6,Medel_T[[Slut]:[Slut]]),0,INDEX(Medel_T[],Hist_Tab[[#This Row],[Ref]:[Ref]],MATCH(Hist_Tab[[#Headers],[AöA T]],Medel_T[#Headers],0))))","v":0},{"$f":"IF(Hist_Tab[[#This Row],[Rad]:[Rad]]=0,0,IF($EY291>_xlfn.AGGREGATE(2,6,Medel_T[[Slut]:[Slut]]),0,INDEX(Medel_T[],Hist_Tab[[#This Row],[Ref]:[Ref]],MATCH(Hist_Tab[[#Headers],[4AM T]],Medel_T[#Headers],0))))","v":0},{"$f":"IF(Hist_Tab[[#This Row],[Rad]:[Rad]]=0,0,IF($EY291>_xlfn.AGGREGATE(2,6,Medel_T[[Slut]:[Slut]]),0,INDEX(Medel_T[],Hist_Tab[[#This Row],[Ref]:[Ref]],MATCH(Hist_Tab[[#Headers],[15AM T]],Medel_T[#Headers],0))))","v":0},{"$f":"IF(Hist_Tab[[#This Row],[Rad]:[Rad]]=0,0,IF($EY291>_xlfn.AGGREGATE(2,6,Medel_T[[Slut]:[Slut]]),0,INDEX(Medel_T[],Hist_Tab[[#This Row],[Ref]:[Ref]],MATCH(Hist_Tab[[#Headers],[20-10D T]],Medel_T[#Headers],0))))","v":0}]
[null,null,null,null,null,null,null,null,null,null,null,null,null,null,null,null,null,null,null,null,null,null,null,null,null,null,null,null,null,null,null,null,null,null,null,null,null,null,null,null,null,null,null,null,null,null,null,null,null,null,null,null,null,null,null,null,null,null,null,null,null,null,null,null,null,null,null,null,null,null,null,null,null,null,null,null,null,null,null,null,null,null,null,null,null,null,null,null,null,null,null,null,null,null,null,null,null,null,null,null,null,null,null,null,null,null,null,null,null,null,null,null,null,null,null,null,null,null,null,null,null,null,null,null,null,null,null,null,null,null,null,null,null,null,null,null,null,null,null,null,null,null,null,null,null,null,null,null,null,null,null,null,{"$f":"ROWS($EW$20:EW291)","v":272},{"$f":"IFERROR(MATCH(Hist_Tab[[#This Row],[Ref]],Medel_T[NrX],0),1)","v":1},{"$f":"INT((ROW(Hist_Tab[[#This Row],[Ref]])-ROW(Hist_Tab[[#Headers],[Ref]])-1)/4)+1","v":69},{"$f":"COUNTIF($EY$19:EY291,Hist_Tab[[#This Row],[Ref]])","v":1},{"$f":"IFERROR(INDEX(Medel_T[Start],Hist_Tab[[#This Row],[Ref]]),_xlfn.AGGREGATE(4,6,Medel_T[Start]))","v":"00:00:00"},{"$f":"IFERROR(INDEX(Medel_T[Slut],Hist_Tab[[#This Row],[Ref]]),_xlfn.AGGREGATE(4,6,Medel_T[Slut]))","v":"00:00:00"},{"$f":"IF(EW290=0,Hist_Tab[[#This Row],[ÅrB]],IF(Hist_Tab[[#This Row],[per/p]]<2,Hist_Tab[[#This Row],[ÅrB]],Hist_Tab[[#This Row],[År S]]))","v":"00:00:00"},{"$f":"IF(Hist_Tab[[#This Row],[Rad]:[Rad]]=0,-1,IF($EY292>_xlfn.AGGREGATE(2,6,Medel_T[[Slut]:[Slut]]),0,INDEX(Medel_T[],Hist_Tab[[#This Row],[Ref]:[Ref]],MATCH(Hist_Tab[[#Headers],[HöA T]],Medel_T[#Headers],0))))","v":0},{"$f":"IF(Hist_Tab[[#This Row],[Rad]:[Rad]]=0,0,IF($EY292>_xlfn.AGGREGATE(2,6,Medel_T[[Slut]:[Slut]]),0,INDEX(Medel_T[],Hist_Tab[[#This Row],[Ref]:[Ref]],MATCH(Hist_Tab[[#Headers],[AöA T]],Medel_T[#Headers],0))))","v":0},{"$f":"IF(Hist_Tab[[#This Row],[Rad]:[Rad]]=0,0,IF($EY292>_xlfn.AGGREGATE(2,6,Medel_T[[Slut]:[Slut]]),0,INDEX(Medel_T[],Hist_Tab[[#This Row],[Ref]:[Ref]],MATCH(Hist_Tab[[#Headers],[4AM T]],Medel_T[#Headers],0))))","v":0},{"$f":"IF(Hist_Tab[[#This Row],[Rad]:[Rad]]=0,0,IF($EY292>_xlfn.AGGREGATE(2,6,Medel_T[[Slut]:[Slut]]),0,INDEX(Medel_T[],Hist_Tab[[#This Row],[Ref]:[Ref]],MATCH(Hist_Tab[[#Headers],[15AM T]],Medel_T[#Headers],0))))","v":0},{"$f":"IF(Hist_Tab[[#This Row],[Rad]:[Rad]]=0,0,IF($EY292>_xlfn.AGGREGATE(2,6,Medel_T[[Slut]:[Slut]]),0,INDEX(Medel_T[],Hist_Tab[[#This Row],[Ref]:[Ref]],MATCH(Hist_Tab[[#Headers],[20-10D T]],Medel_T[#Headers],0))))","v":0}]
[null,null,null,null,null,null,null,null,null,null,null,null,null,null,null,null,null,null,null,null,null,null,null,null,null,null,null,null,null,null,null,null,null,null,null,null,null,null,null,null,null,null,null,null,null,null,null,null,null,null,null,null,null,null,null,null,null,null,null,null,null,null,null,null,null,null,null,null,null,null,null,null,null,null,null,null,null,null,null,null,null,null,null,null,null,null,null,null,null,null,null,null,null,null,null,null,null,null,null,null,null,null,null,null,null,null,null,null,null,null,null,null,null,null,null,null,null,null,null,null,null,null,null,null,null,null,null,null,null,null,null,null,null,null,null,null,null,null,null,null,null,null,null,null,null,null,null,null,null,null,null,null,{"$f":"ROWS($EW$20:EW292)","v":273},{"$f":"IFERROR(MATCH(Hist_Tab[[#This Row],[Ref]],Medel_T[NrX],0),1)","v":1},{"$f":"INT((ROW(Hist_Tab[[#This Row],[Ref]])-ROW(Hist_Tab[[#Headers],[Ref]])-1)/4)+1","v":69},{"$f":"COUNTIF($EY$19:EY292,Hist_Tab[[#This Row],[Ref]])","v":2},{"$f":"IFERROR(INDEX(Medel_T[Start],Hist_Tab[[#This Row],[Ref]]),_xlfn.AGGREGATE(4,6,Medel_T[Start]))","v":"00:00:00"},{"$f":"IFERROR(INDEX(Medel_T[Slut],Hist_Tab[[#This Row],[Ref]]),_xlfn.AGGREGATE(4,6,Medel_T[Slut]))","v":"00:00:00"},{"$f":"IF(EW291=0,Hist_Tab[[#This Row],[ÅrB]],IF(Hist_Tab[[#This Row],[per/p]]<2,Hist_Tab[[#This Row],[ÅrB]],Hist_Tab[[#This Row],[År S]]))","v":"00:00:00"},{"$f":"IF(Hist_Tab[[#This Row],[Rad]:[Rad]]=0,-1,IF($EY293>_xlfn.AGGREGATE(2,6,Medel_T[[Slut]:[Slut]]),0,INDEX(Medel_T[],Hist_Tab[[#This Row],[Ref]:[Ref]],MATCH(Hist_Tab[[#Headers],[HöA T]],Medel_T[#Headers],0))))","v":0},{"$f":"IF(Hist_Tab[[#This Row],[Rad]:[Rad]]=0,0,IF($EY293>_xlfn.AGGREGATE(2,6,Medel_T[[Slut]:[Slut]]),0,INDEX(Medel_T[],Hist_Tab[[#This Row],[Ref]:[Ref]],MATCH(Hist_Tab[[#Headers],[AöA T]],Medel_T[#Headers],0))))","v":0},{"$f":"IF(Hist_Tab[[#This Row],[Rad]:[Rad]]=0,0,IF($EY293>_xlfn.AGGREGATE(2,6,Medel_T[[Slut]:[Slut]]),0,INDEX(Medel_T[],Hist_Tab[[#This Row],[Ref]:[Ref]],MATCH(Hist_Tab[[#Headers],[4AM T]],Medel_T[#Headers],0))))","v":0},{"$f":"IF(Hist_Tab[[#This Row],[Rad]:[Rad]]=0,0,IF($EY293>_xlfn.AGGREGATE(2,6,Medel_T[[Slut]:[Slut]]),0,INDEX(Medel_T[],Hist_Tab[[#This Row],[Ref]:[Ref]],MATCH(Hist_Tab[[#Headers],[15AM T]],Medel_T[#Headers],0))))","v":0},{"$f":"IF(Hist_Tab[[#This Row],[Rad]:[Rad]]=0,0,IF($EY293>_xlfn.AGGREGATE(2,6,Medel_T[[Slut]:[Slut]]),0,INDEX(Medel_T[],Hist_Tab[[#This Row],[Ref]:[Ref]],MATCH(Hist_Tab[[#Headers],[20-10D T]],Medel_T[#Headers],0))))","v":0}]
[null,null,null,null,null,null,null,null,null,null,null,null,null,null,null,null,null,null,null,null,null,null,null,null,null,null,null,null,null,null,null,null,null,null,null,null,null,null,null,null,null,null,null,null,null,null,null,null,null,null,null,null,null,null,null,null,null,null,null,null,null,null,null,null,null,null,null,null,null,null,null,null,null,null,null,null,null,null,null,null,null,null,null,null,null,null,null,null,null,null,null,null,null,null,null,null,null,null,null,null,null,null,null,null,null,null,null,null,null,null,null,null,null,null,null,null,null,null,null,null,null,null,null,null,null,null,null,null,null,null,null,null,null,null,null,null,null,null,null,null,null,null,null,null,null,null,null,null,null,null,null,null,{"$f":"ROWS($EW$20:EW293)","v":274},{"$f":"IFERROR(MATCH(Hist_Tab[[#This Row],[Ref]],Medel_T[NrX],0),1)","v":1},{"$f":"INT((ROW(Hist_Tab[[#This Row],[Ref]])-ROW(Hist_Tab[[#Headers],[Ref]])-1)/4)+1","v":69},{"$f":"COUNTIF($EY$19:EY293,Hist_Tab[[#This Row],[Ref]])","v":3},{"$f":"IFERROR(INDEX(Medel_T[Start],Hist_Tab[[#This Row],[Ref]]),_xlfn.AGGREGATE(4,6,Medel_T[Start]))","v":"00:00:00"},{"$f":"IFERROR(INDEX(Medel_T[Slut],Hist_Tab[[#This Row],[Ref]]),_xlfn.AGGREGATE(4,6,Medel_T[Slut]))","v":"00:00:00"},{"$f":"IF(EW292=0,Hist_Tab[[#This Row],[ÅrB]],IF(Hist_Tab[[#This Row],[per/p]]<2,Hist_Tab[[#This Row],[ÅrB]],Hist_Tab[[#This Row],[År S]]))","v":"00:00:00"},{"$f":"IF(Hist_Tab[[#This Row],[Rad]:[Rad]]=0,-1,IF($EY294>_xlfn.AGGREGATE(2,6,Medel_T[[Slut]:[Slut]]),0,INDEX(Medel_T[],Hist_Tab[[#This Row],[Ref]:[Ref]],MATCH(Hist_Tab[[#Headers],[HöA T]],Medel_T[#Headers],0))))","v":0},{"$f":"IF(Hist_Tab[[#This Row],[Rad]:[Rad]]=0,0,IF($EY294>_xlfn.AGGREGATE(2,6,Medel_T[[Slut]:[Slut]]),0,INDEX(Medel_T[],Hist_Tab[[#This Row],[Ref]:[Ref]],MATCH(Hist_Tab[[#Headers],[AöA T]],Medel_T[#Headers],0))))","v":0},{"$f":"IF(Hist_Tab[[#This Row],[Rad]:[Rad]]=0,0,IF($EY294>_xlfn.AGGREGATE(2,6,Medel_T[[Slut]:[Slut]]),0,INDEX(Medel_T[],Hist_Tab[[#This Row],[Ref]:[Ref]],MATCH(Hist_Tab[[#Headers],[4AM T]],Medel_T[#Headers],0))))","v":0},{"$f":"IF(Hist_Tab[[#This Row],[Rad]:[Rad]]=0,0,IF($EY294>_xlfn.AGGREGATE(2,6,Medel_T[[Slut]:[Slut]]),0,INDEX(Medel_T[],Hist_Tab[[#This Row],[Ref]:[Ref]],MATCH(Hist_Tab[[#Headers],[15AM T]],Medel_T[#Headers],0))))","v":0},{"$f":"IF(Hist_Tab[[#This Row],[Rad]:[Rad]]=0,0,IF($EY294>_xlfn.AGGREGATE(2,6,Medel_T[[Slut]:[Slut]]),0,INDEX(Medel_T[],Hist_Tab[[#This Row],[Ref]:[Ref]],MATCH(Hist_Tab[[#Headers],[20-10D T]],Medel_T[#Headers],0))))","v":0}]
[null,null,null,null,null,null,null,null,null,null,null,null,null,null,null,null,null,null,null,null,null,null,null,null,null,null,null,null,null,null,null,null,null,null,null,null,null,null,null,null,null,null,null,null,null,null,null,null,null,null,null,null,null,null,null,null,null,null,null,null,null,null,null,null,null,null,null,null,null,null,null,null,null,null,null,null,null,null,null,null,null,null,null,null,null,null,null,null,null,null,null,null,null,null,null,null,null,null,null,null,null,null,null,null,null,null,null,null,null,null,null,null,null,null,null,null,null,null,null,null,null,null,null,null,null,null,null,null,null,null,null,null,null,null,null,null,null,null,null,null,null,null,null,null,null,null,null,null,null,null,null,null,{"$f":"ROWS($EW$20:EW294)","v":275},{"$f":"IFERROR(MATCH(Hist_Tab[[#This Row],[Ref]],Medel_T[NrX],0),1)","v":1},{"$f":"INT((ROW(Hist_Tab[[#This Row],[Ref]])-ROW(Hist_Tab[[#Headers],[Ref]])-1)/4)+1","v":69},{"$f":"COUNTIF($EY$19:EY294,Hist_Tab[[#This Row],[Ref]])","v":4},{"$f":"IFERROR(INDEX(Medel_T[Start],Hist_Tab[[#This Row],[Ref]]),_xlfn.AGGREGATE(4,6,Medel_T[Start]))","v":"00:00:00"},{"$f":"IFERROR(INDEX(Medel_T[Slut],Hist_Tab[[#This Row],[Ref]]),_xlfn.AGGREGATE(4,6,Medel_T[Slut]))","v":"00:00:00"},{"$f":"IF(EW293=0,Hist_Tab[[#This Row],[ÅrB]],IF(Hist_Tab[[#This Row],[per/p]]<2,Hist_Tab[[#This Row],[ÅrB]],Hist_Tab[[#This Row],[År S]]))","v":"00:00:00"},{"$f":"IF(Hist_Tab[[#This Row],[Rad]:[Rad]]=0,-1,IF($EY295>_xlfn.AGGREGATE(2,6,Medel_T[[Slut]:[Slut]]),0,INDEX(Medel_T[],Hist_Tab[[#This Row],[Ref]:[Ref]],MATCH(Hist_Tab[[#Headers],[HöA T]],Medel_T[#Headers],0))))","v":0},{"$f":"IF(Hist_Tab[[#This Row],[Rad]:[Rad]]=0,0,IF($EY295>_xlfn.AGGREGATE(2,6,Medel_T[[Slut]:[Slut]]),0,INDEX(Medel_T[],Hist_Tab[[#This Row],[Ref]:[Ref]],MATCH(Hist_Tab[[#Headers],[AöA T]],Medel_T[#Headers],0))))","v":0},{"$f":"IF(Hist_Tab[[#This Row],[Rad]:[Rad]]=0,0,IF($EY295>_xlfn.AGGREGATE(2,6,Medel_T[[Slut]:[Slut]]),0,INDEX(Medel_T[],Hist_Tab[[#This Row],[Ref]:[Ref]],MATCH(Hist_Tab[[#Headers],[4AM T]],Medel_T[#Headers],0))))","v":0},{"$f":"IF(Hist_Tab[[#This Row],[Rad]:[Rad]]=0,0,IF($EY295>_xlfn.AGGREGATE(2,6,Medel_T[[Slut]:[Slut]]),0,INDEX(Medel_T[],Hist_Tab[[#This Row],[Ref]:[Ref]],MATCH(Hist_Tab[[#Headers],[15AM T]],Medel_T[#Headers],0))))","v":0},{"$f":"IF(Hist_Tab[[#This Row],[Rad]:[Rad]]=0,0,IF($EY295>_xlfn.AGGREGATE(2,6,Medel_T[[Slut]:[Slut]]),0,INDEX(Medel_T[],Hist_Tab[[#This Row],[Ref]:[Ref]],MATCH(Hist_Tab[[#Headers],[20-10D T]],Medel_T[#Headers],0))))","v":0}]
[null,null,null,null,null,null,null,null,null,null,null,null,null,null,null,null,null,null,null,null,null,null,null,null,null,null,null,null,null,null,null,null,null,null,null,null,null,null,null,null,null,null,null,null,null,null,null,null,null,null,null,null,null,null,null,null,null,null,null,null,null,null,null,null,null,null,null,null,null,null,null,null,null,null,null,null,null,null,null,null,null,null,null,null,null,null,null,null,null,null,null,null,null,null,null,null,null,null,null,null,null,null,null,null,null,null,null,null,null,null,null,null,null,null,null,null,null,null,null,null,null,null,null,null,null,null,null,null,null,null,null,null,null,null,null,null,null,null,null,null,null,null,null,null,null,null,null,null,null,null,null,null,{"$f":"ROWS($EW$20:EW295)","v":276},{"$f":"IFERROR(MATCH(Hist_Tab[[#This Row],[Ref]],Medel_T[NrX],0),1)","v":1},{"$f":"INT((ROW(Hist_Tab[[#This Row],[Ref]])-ROW(Hist_Tab[[#Headers],[Ref]])-1)/4)+1","v":70},{"$f":"COUNTIF($EY$19:EY295,Hist_Tab[[#This Row],[Ref]])","v":1},{"$f":"IFERROR(INDEX(Medel_T[Start],Hist_Tab[[#This Row],[Ref]]),_xlfn.AGGREGATE(4,6,Medel_T[Start]))","v":"00:00:00"},{"$f":"IFERROR(INDEX(Medel_T[Slut],Hist_Tab[[#This Row],[Ref]]),_xlfn.AGGREGATE(4,6,Medel_T[Slut]))","v":"00:00:00"},{"$f":"IF(EW294=0,Hist_Tab[[#This Row],[ÅrB]],IF(Hist_Tab[[#This Row],[per/p]]<2,Hist_Tab[[#This Row],[ÅrB]],Hist_Tab[[#This Row],[År S]]))","v":"00:00:00"},{"$f":"IF(Hist_Tab[[#This Row],[Rad]:[Rad]]=0,-1,IF($EY296>_xlfn.AGGREGATE(2,6,Medel_T[[Slut]:[Slut]]),0,INDEX(Medel_T[],Hist_Tab[[#This Row],[Ref]:[Ref]],MATCH(Hist_Tab[[#Headers],[HöA T]],Medel_T[#Headers],0))))","v":0},{"$f":"IF(Hist_Tab[[#This Row],[Rad]:[Rad]]=0,0,IF($EY296>_xlfn.AGGREGATE(2,6,Medel_T[[Slut]:[Slut]]),0,INDEX(Medel_T[],Hist_Tab[[#This Row],[Ref]:[Ref]],MATCH(Hist_Tab[[#Headers],[AöA T]],Medel_T[#Headers],0))))","v":0},{"$f":"IF(Hist_Tab[[#This Row],[Rad]:[Rad]]=0,0,IF($EY296>_xlfn.AGGREGATE(2,6,Medel_T[[Slut]:[Slut]]),0,INDEX(Medel_T[],Hist_Tab[[#This Row],[Ref]:[Ref]],MATCH(Hist_Tab[[#Headers],[4AM T]],Medel_T[#Headers],0))))","v":0},{"$f":"IF(Hist_Tab[[#This Row],[Rad]:[Rad]]=0,0,IF($EY296>_xlfn.AGGREGATE(2,6,Medel_T[[Slut]:[Slut]]),0,INDEX(Medel_T[],Hist_Tab[[#This Row],[Ref]:[Ref]],MATCH(Hist_Tab[[#Headers],[15AM T]],Medel_T[#Headers],0))))","v":0},{"$f":"IF(Hist_Tab[[#This Row],[Rad]:[Rad]]=0,0,IF($EY296>_xlfn.AGGREGATE(2,6,Medel_T[[Slut]:[Slut]]),0,INDEX(Medel_T[],Hist_Tab[[#This Row],[Ref]:[Ref]],MATCH(Hist_Tab[[#Headers],[20-10D T]],Medel_T[#Headers],0))))","v":0}]
[null,null,null,null,null,null,null,null,null,null,null,null,null,null,null,null,null,null,null,null,null,null,null,null,null,null,null,null,null,null,null,null,null,null,null,null,null,null,null,null,null,null,null,null,null,null,null,null,null,null,null,null,null,null,null,null,null,null,null,null,null,null,null,null,null,null,null,null,null,null,null,null,null,null,null,null,null,null,null,null,null,null,null,null,null,null,null,null,null,null,null,null,null,null,null,null,null,null,null,null,null,null,null,null,null,null,null,null,null,null,null,null,null,null,null,null,null,null,null,null,null,null,null,null,null,null,null,null,null,null,null,null,null,null,null,null,null,null,null,null,null,null,null,null,null,null,null,null,null,null,null,null,{"$f":"ROWS($EW$20:EW296)","v":277},{"$f":"IFERROR(MATCH(Hist_Tab[[#This Row],[Ref]],Medel_T[NrX],0),1)","v":1},{"$f":"INT((ROW(Hist_Tab[[#This Row],[Ref]])-ROW(Hist_Tab[[#Headers],[Ref]])-1)/4)+1","v":70},{"$f":"COUNTIF($EY$19:EY296,Hist_Tab[[#This Row],[Ref]])","v":2},{"$f":"IFERROR(INDEX(Medel_T[Start],Hist_Tab[[#This Row],[Ref]]),_xlfn.AGGREGATE(4,6,Medel_T[Start]))","v":"00:00:00"},{"$f":"IFERROR(INDEX(Medel_T[Slut],Hist_Tab[[#This Row],[Ref]]),_xlfn.AGGREGATE(4,6,Medel_T[Slut]))","v":"00:00:00"},{"$f":"IF(EW295=0,Hist_Tab[[#This Row],[ÅrB]],IF(Hist_Tab[[#This Row],[per/p]]<2,Hist_Tab[[#This Row],[ÅrB]],Hist_Tab[[#This Row],[År S]]))","v":"00:00:00"},{"$f":"IF(Hist_Tab[[#This Row],[Rad]:[Rad]]=0,-1,IF($EY297>_xlfn.AGGREGATE(2,6,Medel_T[[Slut]:[Slut]]),0,INDEX(Medel_T[],Hist_Tab[[#This Row],[Ref]:[Ref]],MATCH(Hist_Tab[[#Headers],[HöA T]],Medel_T[#Headers],0))))","v":0},{"$f":"IF(Hist_Tab[[#This Row],[Rad]:[Rad]]=0,0,IF($EY297>_xlfn.AGGREGATE(2,6,Medel_T[[Slut]:[Slut]]),0,INDEX(Medel_T[],Hist_Tab[[#This Row],[Ref]:[Ref]],MATCH(Hist_Tab[[#Headers],[AöA T]],Medel_T[#Headers],0))))","v":0},{"$f":"IF(Hist_Tab[[#This Row],[Rad]:[Rad]]=0,0,IF($EY297>_xlfn.AGGREGATE(2,6,Medel_T[[Slut]:[Slut]]),0,INDEX(Medel_T[],Hist_Tab[[#This Row],[Ref]:[Ref]],MATCH(Hist_Tab[[#Headers],[4AM T]],Medel_T[#Headers],0))))","v":0},{"$f":"IF(Hist_Tab[[#This Row],[Rad]:[Rad]]=0,0,IF($EY297>_xlfn.AGGREGATE(2,6,Medel_T[[Slut]:[Slut]]),0,INDEX(Medel_T[],Hist_Tab[[#This Row],[Ref]:[Ref]],MATCH(Hist_Tab[[#Headers],[15AM T]],Medel_T[#Headers],0))))","v":0},{"$f":"IF(Hist_Tab[[#This Row],[Rad]:[Rad]]=0,0,IF($EY297>_xlfn.AGGREGATE(2,6,Medel_T[[Slut]:[Slut]]),0,INDEX(Medel_T[],Hist_Tab[[#This Row],[Ref]:[Ref]],MATCH(Hist_Tab[[#Headers],[20-10D T]],Medel_T[#Headers],0))))","v":0}]
[null,null,null,null,null,null,null,null,null,null,null,null,null,null,null,null,null,null,null,null,null,null,null,null,null,null,null,null,null,null,null,null,null,null,null,null,null,null,null,null,null,null,null,null,null,null,null,null,null,null,null,null,null,null,null,null,null,null,null,null,null,null,null,null,null,null,null,null,null,null,null,null,null,null,null,null,null,null,null,null,null,null,null,null,null,null,null,null,null,null,null,null,null,null,null,null,null,null,null,null,null,null,null,null,null,null,null,null,null,null,null,null,null,null,null,null,null,null,null,null,null,null,null,null,null,null,null,null,null,null,null,null,null,null,null,null,null,null,null,null,null,null,null,null,null,null,null,null,null,null,null,null,{"$f":"ROWS($EW$20:EW297)","v":278},{"$f":"IFERROR(MATCH(Hist_Tab[[#This Row],[Ref]],Medel_T[NrX],0),1)","v":1},{"$f":"INT((ROW(Hist_Tab[[#This Row],[Ref]])-ROW(Hist_Tab[[#Headers],[Ref]])-1)/4)+1","v":70},{"$f":"COUNTIF($EY$19:EY297,Hist_Tab[[#This Row],[Ref]])","v":3},{"$f":"IFERROR(INDEX(Medel_T[Start],Hist_Tab[[#This Row],[Ref]]),_xlfn.AGGREGATE(4,6,Medel_T[Start]))","v":"00:00:00"},{"$f":"IFERROR(INDEX(Medel_T[Slut],Hist_Tab[[#This Row],[Ref]]),_xlfn.AGGREGATE(4,6,Medel_T[Slut]))","v":"00:00:00"},{"$f":"IF(EW296=0,Hist_Tab[[#This Row],[ÅrB]],IF(Hist_Tab[[#This Row],[per/p]]<2,Hist_Tab[[#This Row],[ÅrB]],Hist_Tab[[#This Row],[År S]]))","v":"00:00:00"},{"$f":"IF(Hist_Tab[[#This Row],[Rad]:[Rad]]=0,-1,IF($EY298>_xlfn.AGGREGATE(2,6,Medel_T[[Slut]:[Slut]]),0,INDEX(Medel_T[],Hist_Tab[[#This Row],[Ref]:[Ref]],MATCH(Hist_Tab[[#Headers],[HöA T]],Medel_T[#Headers],0))))","v":0},{"$f":"IF(Hist_Tab[[#This Row],[Rad]:[Rad]]=0,0,IF($EY298>_xlfn.AGGREGATE(2,6,Medel_T[[Slut]:[Slut]]),0,INDEX(Medel_T[],Hist_Tab[[#This Row],[Ref]:[Ref]],MATCH(Hist_Tab[[#Headers],[AöA T]],Medel_T[#Headers],0))))","v":0},{"$f":"IF(Hist_Tab[[#This Row],[Rad]:[Rad]]=0,0,IF($EY298>_xlfn.AGGREGATE(2,6,Medel_T[[Slut]:[Slut]]),0,INDEX(Medel_T[],Hist_Tab[[#This Row],[Ref]:[Ref]],MATCH(Hist_Tab[[#Headers],[4AM T]],Medel_T[#Headers],0))))","v":0},{"$f":"IF(Hist_Tab[[#This Row],[Rad]:[Rad]]=0,0,IF($EY298>_xlfn.AGGREGATE(2,6,Medel_T[[Slut]:[Slut]]),0,INDEX(Medel_T[],Hist_Tab[[#This Row],[Ref]:[Ref]],MATCH(Hist_Tab[[#Headers],[15AM T]],Medel_T[#Headers],0))))","v":0},{"$f":"IF(Hist_Tab[[#This Row],[Rad]:[Rad]]=0,0,IF($EY298>_xlfn.AGGREGATE(2,6,Medel_T[[Slut]:[Slut]]),0,INDEX(Medel_T[],Hist_Tab[[#This Row],[Ref]:[Ref]],MATCH(Hist_Tab[[#Headers],[20-10D T]],Medel_T[#Headers],0))))","v":0}]
[null,null,null,null,null,null,null,null,null,null,null,null,null,null,null,null,null,null,null,null,null,null,null,null,null,null,null,null,null,null,null,null,null,null,null,null,null,null,null,null,null,null,null,null,null,null,null,null,null,null,null,null,null,null,null,null,null,null,null,null,null,null,null,null,null,null,null,null,null,null,null,null,null,null,null,null,null,null,null,null,null,null,null,null,null,null,null,null,null,null,null,null,null,null,null,null,null,null,null,null,null,null,null,null,null,null,null,null,null,null,null,null,null,null,null,null,null,null,null,null,null,null,null,null,null,null,null,null,null,null,null,null,null,null,null,null,null,null,null,null,null,null,null,null,null,null,null,null,null,null,null,null,{"$f":"ROWS($EW$20:EW298)","v":279},{"$f":"IFERROR(MATCH(Hist_Tab[[#This Row],[Ref]],Medel_T[NrX],0),1)","v":1},{"$f":"INT((ROW(Hist_Tab[[#This Row],[Ref]])-ROW(Hist_Tab[[#Headers],[Ref]])-1)/4)+1","v":70},{"$f":"COUNTIF($EY$19:EY298,Hist_Tab[[#This Row],[Ref]])","v":4},{"$f":"IFERROR(INDEX(Medel_T[Start],Hist_Tab[[#This Row],[Ref]]),_xlfn.AGGREGATE(4,6,Medel_T[Start]))","v":"00:00:00"},{"$f":"IFERROR(INDEX(Medel_T[Slut],Hist_Tab[[#This Row],[Ref]]),_xlfn.AGGREGATE(4,6,Medel_T[Slut]))","v":"00:00:00"},{"$f":"IF(EW297=0,Hist_Tab[[#This Row],[ÅrB]],IF(Hist_Tab[[#This Row],[per/p]]<2,Hist_Tab[[#This Row],[ÅrB]],Hist_Tab[[#This Row],[År S]]))","v":"00:00:00"},{"$f":"IF(Hist_Tab[[#This Row],[Rad]:[Rad]]=0,-1,IF($EY299>_xlfn.AGGREGATE(2,6,Medel_T[[Slut]:[Slut]]),0,INDEX(Medel_T[],Hist_Tab[[#This Row],[Ref]:[Ref]],MATCH(Hist_Tab[[#Headers],[HöA T]],Medel_T[#Headers],0))))","v":0},{"$f":"IF(Hist_Tab[[#This Row],[Rad]:[Rad]]=0,0,IF($EY299>_xlfn.AGGREGATE(2,6,Medel_T[[Slut]:[Slut]]),0,INDEX(Medel_T[],Hist_Tab[[#This Row],[Ref]:[Ref]],MATCH(Hist_Tab[[#Headers],[AöA T]],Medel_T[#Headers],0))))","v":0},{"$f":"IF(Hist_Tab[[#This Row],[Rad]:[Rad]]=0,0,IF($EY299>_xlfn.AGGREGATE(2,6,Medel_T[[Slut]:[Slut]]),0,INDEX(Medel_T[],Hist_Tab[[#This Row],[Ref]:[Ref]],MATCH(Hist_Tab[[#Headers],[4AM T]],Medel_T[#Headers],0))))","v":0},{"$f":"IF(Hist_Tab[[#This Row],[Rad]:[Rad]]=0,0,IF($EY299>_xlfn.AGGREGATE(2,6,Medel_T[[Slut]:[Slut]]),0,INDEX(Medel_T[],Hist_Tab[[#This Row],[Ref]:[Ref]],MATCH(Hist_Tab[[#Headers],[15AM T]],Medel_T[#Headers],0))))","v":0},{"$f":"IF(Hist_Tab[[#This Row],[Rad]:[Rad]]=0,0,IF($EY299>_xlfn.AGGREGATE(2,6,Medel_T[[Slut]:[Slut]]),0,INDEX(Medel_T[],Hist_Tab[[#This Row],[Ref]:[Ref]],MATCH(Hist_Tab[[#Headers],[20-10D T]],Medel_T[#Headers],0))))","v":0}]
[null,null,null,null,null,null,null,null,null,null,null,null,null,null,null,null,null,null,null,null,null,null,null,null,null,null,null,null,null,null,null,null,null,null,null,null,null,null,null,null,null,null,null,null,null,null,null,null,null,null,null,null,null,null,null,null,null,null,null,null,null,null,null,null,null,null,null,null,null,null,null,null,null,null,null,null,null,null,null,null,null,null,null,null,null,null,null,null,null,null,null,null,null,null,null,null,null,null,null,null,null,null,null,null,null,null,null,null,null,null,null,null,null,null,null,null,null,null,null,null,null,null,null,null,null,null,null,null,null,null,null,null,null,null,null,null,null,null,null,null,null,null,null,null,null,null,null,null,null,null,null,null,{"$f":"ROWS($EW$20:EW299)","v":280},{"$f":"IFERROR(MATCH(Hist_Tab[[#This Row],[Ref]],Medel_T[NrX],0),1)","v":1},{"$f":"INT((ROW(Hist_Tab[[#This Row],[Ref]])-ROW(Hist_Tab[[#Headers],[Ref]])-1)/4)+1","v":71},{"$f":"COUNTIF($EY$19:EY299,Hist_Tab[[#This Row],[Ref]])","v":1},{"$f":"IFERROR(INDEX(Medel_T[Start],Hist_Tab[[#This Row],[Ref]]),_xlfn.AGGREGATE(4,6,Medel_T[Start]))","v":"00:00:00"},{"$f":"IFERROR(INDEX(Medel_T[Slut],Hist_Tab[[#This Row],[Ref]]),_xlfn.AGGREGATE(4,6,Medel_T[Slut]))","v":"00:00:00"},{"$f":"IF(EW298=0,Hist_Tab[[#This Row],[ÅrB]],IF(Hist_Tab[[#This Row],[per/p]]<2,Hist_Tab[[#This Row],[ÅrB]],Hist_Tab[[#This Row],[År S]]))","v":"00:00:00"},{"$f":"IF(Hist_Tab[[#This Row],[Rad]:[Rad]]=0,-1,IF($EY300>_xlfn.AGGREGATE(2,6,Medel_T[[Slut]:[Slut]]),0,INDEX(Medel_T[],Hist_Tab[[#This Row],[Ref]:[Ref]],MATCH(Hist_Tab[[#Headers],[HöA T]],Medel_T[#Headers],0))))","v":0},{"$f":"IF(Hist_Tab[[#This Row],[Rad]:[Rad]]=0,0,IF($EY300>_xlfn.AGGREGATE(2,6,Medel_T[[Slut]:[Slut]]),0,INDEX(Medel_T[],Hist_Tab[[#This Row],[Ref]:[Ref]],MATCH(Hist_Tab[[#Headers],[AöA T]],Medel_T[#Headers],0))))","v":0},{"$f":"IF(Hist_Tab[[#This Row],[Rad]:[Rad]]=0,0,IF($EY300>_xlfn.AGGREGATE(2,6,Medel_T[[Slut]:[Slut]]),0,INDEX(Medel_T[],Hist_Tab[[#This Row],[Ref]:[Ref]],MATCH(Hist_Tab[[#Headers],[4AM T]],Medel_T[#Headers],0))))","v":0},{"$f":"IF(Hist_Tab[[#This Row],[Rad]:[Rad]]=0,0,IF($EY300>_xlfn.AGGREGATE(2,6,Medel_T[[Slut]:[Slut]]),0,INDEX(Medel_T[],Hist_Tab[[#This Row],[Ref]:[Ref]],MATCH(Hist_Tab[[#Headers],[15AM T]],Medel_T[#Headers],0))))","v":0},{"$f":"IF(Hist_Tab[[#This Row],[Rad]:[Rad]]=0,0,IF($EY300>_xlfn.AGGREGATE(2,6,Medel_T[[Slut]:[Slut]]),0,INDEX(Medel_T[],Hist_Tab[[#This Row],[Ref]:[Ref]],MATCH(Hist_Tab[[#Headers],[20-10D T]],Medel_T[#Headers],0))))","v":0}]
[null,null,null,null,null,null,null,null,null,null,null,null,null,null,null,null,null,null,null,null,null,null,null,null,null,null,null,null,null,null,null,null,null,null,null,null,null,null,null,null,null,null,null,null,null,null,null,null,null,null,null,null,null,null,null,null,null,null,null,null,null,null,null,null,null,null,null,null,null,null,null,null,null,null,null,null,null,null,null,null,null,null,null,null,null,null,null,null,null,null,null,null,null,null,null,null,null,null,null,null,null,null,null,null,null,null,null,null,null,null,null,null,null,null,null,null,null,null,null,null,null,null,null,null,null,null,null,null,null,null,null,null,null,null,null,null,null,null,null,null,null,null,null,null,null,null,null,null,null,null,null,null,{"$f":"ROWS($EW$20:EW300)","v":281},{"$f":"IFERROR(MATCH(Hist_Tab[[#This Row],[Ref]],Medel_T[NrX],0),1)","v":1},{"$f":"INT((ROW(Hist_Tab[[#This Row],[Ref]])-ROW(Hist_Tab[[#Headers],[Ref]])-1)/4)+1","v":71},{"$f":"COUNTIF($EY$19:EY300,Hist_Tab[[#This Row],[Ref]])","v":2},{"$f":"IFERROR(INDEX(Medel_T[Start],Hist_Tab[[#This Row],[Ref]]),_xlfn.AGGREGATE(4,6,Medel_T[Start]))","v":"00:00:00"},{"$f":"IFERROR(INDEX(Medel_T[Slut],Hist_Tab[[#This Row],[Ref]]),_xlfn.AGGREGATE(4,6,Medel_T[Slut]))","v":"00:00:00"},{"$f":"IF(EW299=0,Hist_Tab[[#This Row],[ÅrB]],IF(Hist_Tab[[#This Row],[per/p]]<2,Hist_Tab[[#This Row],[ÅrB]],Hist_Tab[[#This Row],[År S]]))","v":"00:00:00"},{"$f":"IF(Hist_Tab[[#This Row],[Rad]:[Rad]]=0,-1,IF($EY301>_xlfn.AGGREGATE(2,6,Medel_T[[Slut]:[Slut]]),0,INDEX(Medel_T[],Hist_Tab[[#This Row],[Ref]:[Ref]],MATCH(Hist_Tab[[#Headers],[HöA T]],Medel_T[#Headers],0))))","v":0},{"$f":"IF(Hist_Tab[[#This Row],[Rad]:[Rad]]=0,0,IF($EY301>_xlfn.AGGREGATE(2,6,Medel_T[[Slut]:[Slut]]),0,INDEX(Medel_T[],Hist_Tab[[#This Row],[Ref]:[Ref]],MATCH(Hist_Tab[[#Headers],[AöA T]],Medel_T[#Headers],0))))","v":0},{"$f":"IF(Hist_Tab[[#This Row],[Rad]:[Rad]]=0,0,IF($EY301>_xlfn.AGGREGATE(2,6,Medel_T[[Slut]:[Slut]]),0,INDEX(Medel_T[],Hist_Tab[[#This Row],[Ref]:[Ref]],MATCH(Hist_Tab[[#Headers],[4AM T]],Medel_T[#Headers],0))))","v":0},{"$f":"IF(Hist_Tab[[#This Row],[Rad]:[Rad]]=0,0,IF($EY301>_xlfn.AGGREGATE(2,6,Medel_T[[Slut]:[Slut]]),0,INDEX(Medel_T[],Hist_Tab[[#This Row],[Ref]:[Ref]],MATCH(Hist_Tab[[#Headers],[15AM T]],Medel_T[#Headers],0))))","v":0},{"$f":"IF(Hist_Tab[[#This Row],[Rad]:[Rad]]=0,0,IF($EY301>_xlfn.AGGREGATE(2,6,Medel_T[[Slut]:[Slut]]),0,INDEX(Medel_T[],Hist_Tab[[#This Row],[Ref]:[Ref]],MATCH(Hist_Tab[[#Headers],[20-10D T]],Medel_T[#Headers],0))))","v":0}]
[null,null,null,null,null,null,null,null,null,null,null,null,null,null,null,null,null,null,null,null,null,null,null,null,null,null,null,null,null,null,null,null,null,null,null,null,null,null,null,null,null,null,null,null,null,null,null,null,null,null,null,null,null,null,null,null,null,null,null,null,null,null,null,null,null,null,null,null,null,null,null,null,null,null,null,null,null,null,null,null,null,null,null,null,null,null,null,null,null,null,null,null,null,null,null,null,null,null,null,null,null,null,null,null,null,null,null,null,null,null,null,null,null,null,null,null,null,null,null,null,null,null,null,null,null,null,null,null,null,null,null,null,null,null,null,null,null,null,null,null,null,null,null,null,null,null,null,null,null,null,null,null,{"$f":"ROWS($EW$20:EW301)","v":282},{"$f":"IFERROR(MATCH(Hist_Tab[[#This Row],[Ref]],Medel_T[NrX],0),1)","v":1},{"$f":"INT((ROW(Hist_Tab[[#This Row],[Ref]])-ROW(Hist_Tab[[#Headers],[Ref]])-1)/4)+1","v":71},{"$f":"COUNTIF($EY$19:EY301,Hist_Tab[[#This Row],[Ref]])","v":3},{"$f":"IFERROR(INDEX(Medel_T[Start],Hist_Tab[[#This Row],[Ref]]),_xlfn.AGGREGATE(4,6,Medel_T[Start]))","v":"00:00:00"},{"$f":"IFERROR(INDEX(Medel_T[Slut],Hist_Tab[[#This Row],[Ref]]),_xlfn.AGGREGATE(4,6,Medel_T[Slut]))","v":"00:00:00"},{"$f":"IF(EW300=0,Hist_Tab[[#This Row],[ÅrB]],IF(Hist_Tab[[#This Row],[per/p]]<2,Hist_Tab[[#This Row],[ÅrB]],Hist_Tab[[#This Row],[År S]]))","v":"00:00:00"},{"$f":"IF(Hist_Tab[[#This Row],[Rad]:[Rad]]=0,-1,IF($EY302>_xlfn.AGGREGATE(2,6,Medel_T[[Slut]:[Slut]]),0,INDEX(Medel_T[],Hist_Tab[[#This Row],[Ref]:[Ref]],MATCH(Hist_Tab[[#Headers],[HöA T]],Medel_T[#Headers],0))))","v":0},{"$f":"IF(Hist_Tab[[#This Row],[Rad]:[Rad]]=0,0,IF($EY302>_xlfn.AGGREGATE(2,6,Medel_T[[Slut]:[Slut]]),0,INDEX(Medel_T[],Hist_Tab[[#This Row],[Ref]:[Ref]],MATCH(Hist_Tab[[#Headers],[AöA T]],Medel_T[#Headers],0))))","v":0},{"$f":"IF(Hist_Tab[[#This Row],[Rad]:[Rad]]=0,0,IF($EY302>_xlfn.AGGREGATE(2,6,Medel_T[[Slut]:[Slut]]),0,INDEX(Medel_T[],Hist_Tab[[#This Row],[Ref]:[Ref]],MATCH(Hist_Tab[[#Headers],[4AM T]],Medel_T[#Headers],0))))","v":0},{"$f":"IF(Hist_Tab[[#This Row],[Rad]:[Rad]]=0,0,IF($EY302>_xlfn.AGGREGATE(2,6,Medel_T[[Slut]:[Slut]]),0,INDEX(Medel_T[],Hist_Tab[[#This Row],[Ref]:[Ref]],MATCH(Hist_Tab[[#Headers],[15AM T]],Medel_T[#Headers],0))))","v":0},{"$f":"IF(Hist_Tab[[#This Row],[Rad]:[Rad]]=0,0,IF($EY302>_xlfn.AGGREGATE(2,6,Medel_T[[Slut]:[Slut]]),0,INDEX(Medel_T[],Hist_Tab[[#This Row],[Ref]:[Ref]],MATCH(Hist_Tab[[#Headers],[20-10D T]],Medel_T[#Headers],0))))","v":0}]
[null,null,null,null,null,null,null,null,null,null,null,null,null,null,null,null,null,null,null,null,null,null,null,null,null,null,null,null,null,null,null,null,null,null,null,null,null,null,null,null,null,null,null,null,null,null,null,null,null,null,null,null,null,null,null,null,null,null,null,null,null,null,null,null,null,null,null,null,null,null,null,null,null,null,null,null,null,null,null,null,null,null,null,null,null,null,null,null,null,null,null,null,null,null,null,null,null,null,null,null,null,null,null,null,null,null,null,null,null,null,null,null,null,null,null,null,null,null,null,null,null,null,null,null,null,null,null,null,null,null,null,null,null,null,null,null,null,null,null,null,null,null,null,null,null,null,null,null,null,null,null,null,{"$f":"ROWS($EW$20:EW302)","v":283},{"$f":"IFERROR(MATCH(Hist_Tab[[#This Row],[Ref]],Medel_T[NrX],0),1)","v":1},{"$f":"INT((ROW(Hist_Tab[[#This Row],[Ref]])-ROW(Hist_Tab[[#Headers],[Ref]])-1)/4)+1","v":71},{"$f":"COUNTIF($EY$19:EY302,Hist_Tab[[#This Row],[Ref]])","v":4},{"$f":"IFERROR(INDEX(Medel_T[Start],Hist_Tab[[#This Row],[Ref]]),_xlfn.AGGREGATE(4,6,Medel_T[Start]))","v":"00:00:00"},{"$f":"IFERROR(INDEX(Medel_T[Slut],Hist_Tab[[#This Row],[Ref]]),_xlfn.AGGREGATE(4,6,Medel_T[Slut]))","v":"00:00:00"},{"$f":"IF(EW301=0,Hist_Tab[[#This Row],[ÅrB]],IF(Hist_Tab[[#This Row],[per/p]]<2,Hist_Tab[[#This Row],[ÅrB]],Hist_Tab[[#This Row],[År S]]))","v":"00:00:00"},{"$f":"IF(Hist_Tab[[#This Row],[Rad]:[Rad]]=0,-1,IF($EY303>_xlfn.AGGREGATE(2,6,Medel_T[[Slut]:[Slut]]),0,INDEX(Medel_T[],Hist_Tab[[#This Row],[Ref]:[Ref]],MATCH(Hist_Tab[[#Headers],[HöA T]],Medel_T[#Headers],0))))","v":0},{"$f":"IF(Hist_Tab[[#This Row],[Rad]:[Rad]]=0,0,IF($EY303>_xlfn.AGGREGATE(2,6,Medel_T[[Slut]:[Slut]]),0,INDEX(Medel_T[],Hist_Tab[[#This Row],[Ref]:[Ref]],MATCH(Hist_Tab[[#Headers],[AöA T]],Medel_T[#Headers],0))))","v":0},{"$f":"IF(Hist_Tab[[#This Row],[Rad]:[Rad]]=0,0,IF($EY303>_xlfn.AGGREGATE(2,6,Medel_T[[Slut]:[Slut]]),0,INDEX(Medel_T[],Hist_Tab[[#This Row],[Ref]:[Ref]],MATCH(Hist_Tab[[#Headers],[4AM T]],Medel_T[#Headers],0))))","v":0},{"$f":"IF(Hist_Tab[[#This Row],[Rad]:[Rad]]=0,0,IF($EY303>_xlfn.AGGREGATE(2,6,Medel_T[[Slut]:[Slut]]),0,INDEX(Medel_T[],Hist_Tab[[#This Row],[Ref]:[Ref]],MATCH(Hist_Tab[[#Headers],[15AM T]],Medel_T[#Headers],0))))","v":0},{"$f":"IF(Hist_Tab[[#This Row],[Rad]:[Rad]]=0,0,IF($EY303>_xlfn.AGGREGATE(2,6,Medel_T[[Slut]:[Slut]]),0,INDEX(Medel_T[],Hist_Tab[[#This Row],[Ref]:[Ref]],MATCH(Hist_Tab[[#Headers],[20-10D T]],Medel_T[#Headers],0))))","v":0}]
[null,null,null,null,null,null,null,null,null,null,null,null,null,null,null,null,null,null,null,null,null,null,null,null,null,null,null,null,null,null,null,null,null,null,null,null,null,null,null,null,null,null,null,null,null,null,null,null,null,null,null,null,null,null,null,null,null,null,null,null,null,null,null,null,null,null,null,null,null,null,null,null,null,null,null,null,null,null,null,null,null,null,null,null,null,null,null,null,null,null,null,null,null,null,null,null,null,null,null,null,null,null,null,null,null,null,null,null,null,null,null,null,null,null,null,null,null,null,null,null,null,null,null,null,null,null,null,null,null,null,null,null,null,null,null,null,null,null,null,null,null,null,null,null,null,null,null,null,null,null,null,null,{"$f":"ROWS($EW$20:EW303)","v":284},{"$f":"IFERROR(MATCH(Hist_Tab[[#This Row],[Ref]],Medel_T[NrX],0),1)","v":1},{"$f":"INT((ROW(Hist_Tab[[#This Row],[Ref]])-ROW(Hist_Tab[[#Headers],[Ref]])-1)/4)+1","v":72},{"$f":"COUNTIF($EY$19:EY303,Hist_Tab[[#This Row],[Ref]])","v":1},{"$f":"IFERROR(INDEX(Medel_T[Start],Hist_Tab[[#This Row],[Ref]]),_xlfn.AGGREGATE(4,6,Medel_T[Start]))","v":"00:00:00"},{"$f":"IFERROR(INDEX(Medel_T[Slut],Hist_Tab[[#This Row],[Ref]]),_xlfn.AGGREGATE(4,6,Medel_T[Slut]))","v":"00:00:00"},{"$f":"IF(EW302=0,Hist_Tab[[#This Row],[ÅrB]],IF(Hist_Tab[[#This Row],[per/p]]<2,Hist_Tab[[#This Row],[ÅrB]],Hist_Tab[[#This Row],[År S]]))","v":"00:00:00"},{"$f":"IF(Hist_Tab[[#This Row],[Rad]:[Rad]]=0,-1,IF($EY304>_xlfn.AGGREGATE(2,6,Medel_T[[Slut]:[Slut]]),0,INDEX(Medel_T[],Hist_Tab[[#This Row],[Ref]:[Ref]],MATCH(Hist_Tab[[#Headers],[HöA T]],Medel_T[#Headers],0))))","v":0},{"$f":"IF(Hist_Tab[[#This Row],[Rad]:[Rad]]=0,0,IF($EY304>_xlfn.AGGREGATE(2,6,Medel_T[[Slut]:[Slut]]),0,INDEX(Medel_T[],Hist_Tab[[#This Row],[Ref]:[Ref]],MATCH(Hist_Tab[[#Headers],[AöA T]],Medel_T[#Headers],0))))","v":0},{"$f":"IF(Hist_Tab[[#This Row],[Rad]:[Rad]]=0,0,IF($EY304>_xlfn.AGGREGATE(2,6,Medel_T[[Slut]:[Slut]]),0,INDEX(Medel_T[],Hist_Tab[[#This Row],[Ref]:[Ref]],MATCH(Hist_Tab[[#Headers],[4AM T]],Medel_T[#Headers],0))))","v":0},{"$f":"IF(Hist_Tab[[#This Row],[Rad]:[Rad]]=0,0,IF($EY304>_xlfn.AGGREGATE(2,6,Medel_T[[Slut]:[Slut]]),0,INDEX(Medel_T[],Hist_Tab[[#This Row],[Ref]:[Ref]],MATCH(Hist_Tab[[#Headers],[15AM T]],Medel_T[#Headers],0))))","v":0},{"$f":"IF(Hist_Tab[[#This Row],[Rad]:[Rad]]=0,0,IF($EY304>_xlfn.AGGREGATE(2,6,Medel_T[[Slut]:[Slut]]),0,INDEX(Medel_T[],Hist_Tab[[#This Row],[Ref]:[Ref]],MATCH(Hist_Tab[[#Headers],[20-10D T]],Medel_T[#Headers],0))))","v":0}]
[null,null,null,null,null,null,null,null,null,null,null,null,null,null,null,null,null,null,null,null,null,null,null,null,null,null,null,null,null,null,null,null,null,null,null,null,null,null,null,null,null,null,null,null,null,null,null,null,null,null,null,null,null,null,null,null,null,null,null,null,null,null,null,null,null,null,null,null,null,null,null,null,null,null,null,null,null,null,null,null,null,null,null,null,null,null,null,null,null,null,null,null,null,null,null,null,null,null,null,null,null,null,null,null,null,null,null,null,null,null,null,null,null,null,null,null,null,null,null,null,null,null,null,null,null,null,null,null,null,null,null,null,null,null,null,null,null,null,null,null,null,null,null,null,null,null,null,null,null,null,null,null,{"$f":"ROWS($EW$20:EW304)","v":285},{"$f":"IFERROR(MATCH(Hist_Tab[[#This Row],[Ref]],Medel_T[NrX],0),1)","v":1},{"$f":"INT((ROW(Hist_Tab[[#This Row],[Ref]])-ROW(Hist_Tab[[#Headers],[Ref]])-1)/4)+1","v":72},{"$f":"COUNTIF($EY$19:EY304,Hist_Tab[[#This Row],[Ref]])","v":2},{"$f":"IFERROR(INDEX(Medel_T[Start],Hist_Tab[[#This Row],[Ref]]),_xlfn.AGGREGATE(4,6,Medel_T[Start]))","v":"00:00:00"},{"$f":"IFERROR(INDEX(Medel_T[Slut],Hist_Tab[[#This Row],[Ref]]),_xlfn.AGGREGATE(4,6,Medel_T[Slut]))","v":"00:00:00"},{"$f":"IF(EW303=0,Hist_Tab[[#This Row],[ÅrB]],IF(Hist_Tab[[#This Row],[per/p]]<2,Hist_Tab[[#This Row],[ÅrB]],Hist_Tab[[#This Row],[År S]]))","v":"00:00:00"},{"$f":"IF(Hist_Tab[[#This Row],[Rad]:[Rad]]=0,-1,IF($EY305>_xlfn.AGGREGATE(2,6,Medel_T[[Slut]:[Slut]]),0,INDEX(Medel_T[],Hist_Tab[[#This Row],[Ref]:[Ref]],MATCH(Hist_Tab[[#Headers],[HöA T]],Medel_T[#Headers],0))))","v":0},{"$f":"IF(Hist_Tab[[#This Row],[Rad]:[Rad]]=0,0,IF($EY305>_xlfn.AGGREGATE(2,6,Medel_T[[Slut]:[Slut]]),0,INDEX(Medel_T[],Hist_Tab[[#This Row],[Ref]:[Ref]],MATCH(Hist_Tab[[#Headers],[AöA T]],Medel_T[#Headers],0))))","v":0},{"$f":"IF(Hist_Tab[[#This Row],[Rad]:[Rad]]=0,0,IF($EY305>_xlfn.AGGREGATE(2,6,Medel_T[[Slut]:[Slut]]),0,INDEX(Medel_T[],Hist_Tab[[#This Row],[Ref]:[Ref]],MATCH(Hist_Tab[[#Headers],[4AM T]],Medel_T[#Headers],0))))","v":0},{"$f":"IF(Hist_Tab[[#This Row],[Rad]:[Rad]]=0,0,IF($EY305>_xlfn.AGGREGATE(2,6,Medel_T[[Slut]:[Slut]]),0,INDEX(Medel_T[],Hist_Tab[[#This Row],[Ref]:[Ref]],MATCH(Hist_Tab[[#Headers],[15AM T]],Medel_T[#Headers],0))))","v":0},{"$f":"IF(Hist_Tab[[#This Row],[Rad]:[Rad]]=0,0,IF($EY305>_xlfn.AGGREGATE(2,6,Medel_T[[Slut]:[Slut]]),0,INDEX(Medel_T[],Hist_Tab[[#This Row],[Ref]:[Ref]],MATCH(Hist_Tab[[#Headers],[20-10D T]],Medel_T[#Headers],0))))","v":0}]
[null,null,null,null,null,null,null,null,null,null,null,null,null,null,null,null,null,null,null,null,null,null,null,null,null,null,null,null,null,null,null,null,null,null,null,null,null,null,null,null,null,null,null,null,null,null,null,null,null,null,null,null,null,null,null,null,null,null,null,null,null,null,null,null,null,null,null,null,null,null,null,null,null,null,null,null,null,null,null,null,null,null,null,null,null,null,null,null,null,null,null,null,null,null,null,null,null,null,null,null,null,null,null,null,null,null,null,null,null,null,null,null,null,null,null,null,null,null,null,null,null,null,null,null,null,null,null,null,null,null,null,null,null,null,null,null,null,null,null,null,null,null,null,null,null,null,null,null,null,null,null,null,{"$f":"ROWS($EW$20:EW305)","v":286},{"$f":"IFERROR(MATCH(Hist_Tab[[#This Row],[Ref]],Medel_T[NrX],0),1)","v":1},{"$f":"INT((ROW(Hist_Tab[[#This Row],[Ref]])-ROW(Hist_Tab[[#Headers],[Ref]])-1)/4)+1","v":72},{"$f":"COUNTIF($EY$19:EY305,Hist_Tab[[#This Row],[Ref]])","v":3},{"$f":"IFERROR(INDEX(Medel_T[Start],Hist_Tab[[#This Row],[Ref]]),_xlfn.AGGREGATE(4,6,Medel_T[Start]))","v":"00:00:00"},{"$f":"IFERROR(INDEX(Medel_T[Slut],Hist_Tab[[#This Row],[Ref]]),_xlfn.AGGREGATE(4,6,Medel_T[Slut]))","v":"00:00:00"},{"$f":"IF(EW304=0,Hist_Tab[[#This Row],[ÅrB]],IF(Hist_Tab[[#This Row],[per/p]]<2,Hist_Tab[[#This Row],[ÅrB]],Hist_Tab[[#This Row],[År S]]))","v":"00:00:00"},{"$f":"IF(Hist_Tab[[#This Row],[Rad]:[Rad]]=0,-1,IF($EY306>_xlfn.AGGREGATE(2,6,Medel_T[[Slut]:[Slut]]),0,INDEX(Medel_T[],Hist_Tab[[#This Row],[Ref]:[Ref]],MATCH(Hist_Tab[[#Headers],[HöA T]],Medel_T[#Headers],0))))","v":0},{"$f":"IF(Hist_Tab[[#This Row],[Rad]:[Rad]]=0,0,IF($EY306>_xlfn.AGGREGATE(2,6,Medel_T[[Slut]:[Slut]]),0,INDEX(Medel_T[],Hist_Tab[[#This Row],[Ref]:[Ref]],MATCH(Hist_Tab[[#Headers],[AöA T]],Medel_T[#Headers],0))))","v":0},{"$f":"IF(Hist_Tab[[#This Row],[Rad]:[Rad]]=0,0,IF($EY306>_xlfn.AGGREGATE(2,6,Medel_T[[Slut]:[Slut]]),0,INDEX(Medel_T[],Hist_Tab[[#This Row],[Ref]:[Ref]],MATCH(Hist_Tab[[#Headers],[4AM T]],Medel_T[#Headers],0))))","v":0},{"$f":"IF(Hist_Tab[[#This Row],[Rad]:[Rad]]=0,0,IF($EY306>_xlfn.AGGREGATE(2,6,Medel_T[[Slut]:[Slut]]),0,INDEX(Medel_T[],Hist_Tab[[#This Row],[Ref]:[Ref]],MATCH(Hist_Tab[[#Headers],[15AM T]],Medel_T[#Headers],0))))","v":0},{"$f":"IF(Hist_Tab[[#This Row],[Rad]:[Rad]]=0,0,IF($EY306>_xlfn.AGGREGATE(2,6,Medel_T[[Slut]:[Slut]]),0,INDEX(Medel_T[],Hist_Tab[[#This Row],[Ref]:[Ref]],MATCH(Hist_Tab[[#Headers],[20-10D T]],Medel_T[#Headers],0))))","v":0}]
[null,null,null,null,null,null,null,null,null,null,null,null,null,null,null,null,null,null,null,null,null,null,null,null,null,null,null,null,null,null,null,null,null,null,null,null,null,null,null,null,null,null,null,null,null,null,null,null,null,null,null,null,null,null,null,null,null,null,null,null,null,null,null,null,null,null,null,null,null,null,null,null,null,null,null,null,null,null,null,null,null,null,null,null,null,null,null,null,null,null,null,null,null,null,null,null,null,null,null,null,null,null,null,null,null,null,null,null,null,null,null,null,null,null,null,null,null,null,null,null,null,null,null,null,null,null,null,null,null,null,null,null,null,null,null,null,null,null,null,null,null,null,null,null,null,null,null,null,null,null,null,null,{"$f":"ROWS($EW$20:EW306)","v":287},{"$f":"IFERROR(MATCH(Hist_Tab[[#This Row],[Ref]],Medel_T[NrX],0),1)","v":1},{"$f":"INT((ROW(Hist_Tab[[#This Row],[Ref]])-ROW(Hist_Tab[[#Headers],[Ref]])-1)/4)+1","v":72},{"$f":"COUNTIF($EY$19:EY306,Hist_Tab[[#This Row],[Ref]])","v":4},{"$f":"IFERROR(INDEX(Medel_T[Start],Hist_Tab[[#This Row],[Ref]]),_xlfn.AGGREGATE(4,6,Medel_T[Start]))","v":"00:00:00"},{"$f":"IFERROR(INDEX(Medel_T[Slut],Hist_Tab[[#This Row],[Ref]]),_xlfn.AGGREGATE(4,6,Medel_T[Slut]))","v":"00:00:00"},{"$f":"IF(EW305=0,Hist_Tab[[#This Row],[ÅrB]],IF(Hist_Tab[[#This Row],[per/p]]<2,Hist_Tab[[#This Row],[ÅrB]],Hist_Tab[[#This Row],[År S]]))","v":"00:00:00"},{"$f":"IF(Hist_Tab[[#This Row],[Rad]:[Rad]]=0,-1,IF($EY307>_xlfn.AGGREGATE(2,6,Medel_T[[Slut]:[Slut]]),0,INDEX(Medel_T[],Hist_Tab[[#This Row],[Ref]:[Ref]],MATCH(Hist_Tab[[#Headers],[HöA T]],Medel_T[#Headers],0))))","v":0},{"$f":"IF(Hist_Tab[[#This Row],[Rad]:[Rad]]=0,0,IF($EY307>_xlfn.AGGREGATE(2,6,Medel_T[[Slut]:[Slut]]),0,INDEX(Medel_T[],Hist_Tab[[#This Row],[Ref]:[Ref]],MATCH(Hist_Tab[[#Headers],[AöA T]],Medel_T[#Headers],0))))","v":0},{"$f":"IF(Hist_Tab[[#This Row],[Rad]:[Rad]]=0,0,IF($EY307>_xlfn.AGGREGATE(2,6,Medel_T[[Slut]:[Slut]]),0,INDEX(Medel_T[],Hist_Tab[[#This Row],[Ref]:[Ref]],MATCH(Hist_Tab[[#Headers],[4AM T]],Medel_T[#Headers],0))))","v":0},{"$f":"IF(Hist_Tab[[#This Row],[Rad]:[Rad]]=0,0,IF($EY307>_xlfn.AGGREGATE(2,6,Medel_T[[Slut]:[Slut]]),0,INDEX(Medel_T[],Hist_Tab[[#This Row],[Ref]:[Ref]],MATCH(Hist_Tab[[#Headers],[15AM T]],Medel_T[#Headers],0))))","v":0},{"$f":"IF(Hist_Tab[[#This Row],[Rad]:[Rad]]=0,0,IF($EY307>_xlfn.AGGREGATE(2,6,Medel_T[[Slut]:[Slut]]),0,INDEX(Medel_T[],Hist_Tab[[#This Row],[Ref]:[Ref]],MATCH(Hist_Tab[[#Headers],[20-10D T]],Medel_T[#Headers],0))))","v":0}]
[null,null,null,null,null,null,null,null,null,null,null,null,null,null,null,null,null,null,null,null,null,null,null,null,null,null,null,null,null,null,null,null,null,null,null,null,null,null,null,null,null,null,null,null,null,null,null,null,null,null,null,null,null,null,null,null,null,null,null,null,null,null,null,null,null,null,null,null,null,null,null,null,null,null,null,null,null,null,null,null,null,null,null,null,null,null,null,null,null,null,null,null,null,null,null,null,null,null,null,null,null,null,null,null,null,null,null,null,null,null,null,null,null,null,null,null,null,null,null,null,null,null,null,null,null,null,null,null,null,null,null,null,null,null,null,null,null,null,null,null,null,null,null,null,null,null,null,null,null,null,null,null,{"$f":"ROWS($EW$20:EW307)","v":288},{"$f":"IFERROR(MATCH(Hist_Tab[[#This Row],[Ref]],Medel_T[NrX],0),1)","v":1},{"$f":"INT((ROW(Hist_Tab[[#This Row],[Ref]])-ROW(Hist_Tab[[#Headers],[Ref]])-1)/4)+1","v":73},{"$f":"COUNTIF($EY$19:EY307,Hist_Tab[[#This Row],[Ref]])","v":1},{"$f":"IFERROR(INDEX(Medel_T[Start],Hist_Tab[[#This Row],[Ref]]),_xlfn.AGGREGATE(4,6,Medel_T[Start]))","v":"00:00:00"},{"$f":"IFERROR(INDEX(Medel_T[Slut],Hist_Tab[[#This Row],[Ref]]),_xlfn.AGGREGATE(4,6,Medel_T[Slut]))","v":"00:00:00"},{"$f":"IF(EW306=0,Hist_Tab[[#This Row],[ÅrB]],IF(Hist_Tab[[#This Row],[per/p]]<2,Hist_Tab[[#This Row],[ÅrB]],Hist_Tab[[#This Row],[År S]]))","v":"00:00:00"},{"$f":"IF(Hist_Tab[[#This Row],[Rad]:[Rad]]=0,-1,IF($EY308>_xlfn.AGGREGATE(2,6,Medel_T[[Slut]:[Slut]]),0,INDEX(Medel_T[],Hist_Tab[[#This Row],[Ref]:[Ref]],MATCH(Hist_Tab[[#Headers],[HöA T]],Medel_T[#Headers],0))))","v":0},{"$f":"IF(Hist_Tab[[#This Row],[Rad]:[Rad]]=0,0,IF($EY308>_xlfn.AGGREGATE(2,6,Medel_T[[Slut]:[Slut]]),0,INDEX(Medel_T[],Hist_Tab[[#This Row],[Ref]:[Ref]],MATCH(Hist_Tab[[#Headers],[AöA T]],Medel_T[#Headers],0))))","v":0},{"$f":"IF(Hist_Tab[[#This Row],[Rad]:[Rad]]=0,0,IF($EY308>_xlfn.AGGREGATE(2,6,Medel_T[[Slut]:[Slut]]),0,INDEX(Medel_T[],Hist_Tab[[#This Row],[Ref]:[Ref]],MATCH(Hist_Tab[[#Headers],[4AM T]],Medel_T[#Headers],0))))","v":0},{"$f":"IF(Hist_Tab[[#This Row],[Rad]:[Rad]]=0,0,IF($EY308>_xlfn.AGGREGATE(2,6,Medel_T[[Slut]:[Slut]]),0,INDEX(Medel_T[],Hist_Tab[[#This Row],[Ref]:[Ref]],MATCH(Hist_Tab[[#Headers],[15AM T]],Medel_T[#Headers],0))))","v":0},{"$f":"IF(Hist_Tab[[#This Row],[Rad]:[Rad]]=0,0,IF($EY308>_xlfn.AGGREGATE(2,6,Medel_T[[Slut]:[Slut]]),0,INDEX(Medel_T[],Hist_Tab[[#This Row],[Ref]:[Ref]],MATCH(Hist_Tab[[#Headers],[20-10D T]],Medel_T[#Headers],0))))","v":0}]
[null,null,null,null,null,null,null,null,null,null,null,null,null,null,null,null,null,null,null,null,null,null,null,null,null,null,null,null,null,null,null,null,null,null,null,null,null,null,null,null,null,null,null,null,null,null,null,null,null,null,null,null,null,null,null,null,null,null,null,null,null,null,null,null,null,null,null,null,null,null,null,null,null,null,null,null,null,null,null,null,null,null,null,null,null,null,null,null,null,null,null,null,null,null,null,null,null,null,null,null,null,null,null,null,null,null,null,null,null,null,null,null,null,null,null,null,null,null,null,null,null,null,null,null,null,null,null,null,null,null,null,null,null,null,null,null,null,null,null,null,null,null,null,null,null,null,null,null,null,null,null,null,{"$f":"ROWS($EW$20:EW308)","v":289},{"$f":"IFERROR(MATCH(Hist_Tab[[#This Row],[Ref]],Medel_T[NrX],0),1)","v":1},{"$f":"INT((ROW(Hist_Tab[[#This Row],[Ref]])-ROW(Hist_Tab[[#Headers],[Ref]])-1)/4)+1","v":73},{"$f":"COUNTIF($EY$19:EY308,Hist_Tab[[#This Row],[Ref]])","v":2},{"$f":"IFERROR(INDEX(Medel_T[Start],Hist_Tab[[#This Row],[Ref]]),_xlfn.AGGREGATE(4,6,Medel_T[Start]))","v":"00:00:00"},{"$f":"IFERROR(INDEX(Medel_T[Slut],Hist_Tab[[#This Row],[Ref]]),_xlfn.AGGREGATE(4,6,Medel_T[Slut]))","v":"00:00:00"},{"$f":"IF(EW307=0,Hist_Tab[[#This Row],[ÅrB]],IF(Hist_Tab[[#This Row],[per/p]]<2,Hist_Tab[[#This Row],[ÅrB]],Hist_Tab[[#This Row],[År S]]))","v":"00:00:00"},{"$f":"IF(Hist_Tab[[#This Row],[Rad]:[Rad]]=0,-1,IF($EY309>_xlfn.AGGREGATE(2,6,Medel_T[[Slut]:[Slut]]),0,INDEX(Medel_T[],Hist_Tab[[#This Row],[Ref]:[Ref]],MATCH(Hist_Tab[[#Headers],[HöA T]],Medel_T[#Headers],0))))","v":0},{"$f":"IF(Hist_Tab[[#This Row],[Rad]:[Rad]]=0,0,IF($EY309>_xlfn.AGGREGATE(2,6,Medel_T[[Slut]:[Slut]]),0,INDEX(Medel_T[],Hist_Tab[[#This Row],[Ref]:[Ref]],MATCH(Hist_Tab[[#Headers],[AöA T]],Medel_T[#Headers],0))))","v":0},{"$f":"IF(Hist_Tab[[#This Row],[Rad]:[Rad]]=0,0,IF($EY309>_xlfn.AGGREGATE(2,6,Medel_T[[Slut]:[Slut]]),0,INDEX(Medel_T[],Hist_Tab[[#This Row],[Ref]:[Ref]],MATCH(Hist_Tab[[#Headers],[4AM T]],Medel_T[#Headers],0))))","v":0},{"$f":"IF(Hist_Tab[[#This Row],[Rad]:[Rad]]=0,0,IF($EY309>_xlfn.AGGREGATE(2,6,Medel_T[[Slut]:[Slut]]),0,INDEX(Medel_T[],Hist_Tab[[#This Row],[Ref]:[Ref]],MATCH(Hist_Tab[[#Headers],[15AM T]],Medel_T[#Headers],0))))","v":0},{"$f":"IF(Hist_Tab[[#This Row],[Rad]:[Rad]]=0,0,IF($EY309>_xlfn.AGGREGATE(2,6,Medel_T[[Slut]:[Slut]]),0,INDEX(Medel_T[],Hist_Tab[[#This Row],[Ref]:[Ref]],MATCH(Hist_Tab[[#Headers],[20-10D T]],Medel_T[#Headers],0))))","v":0}]
[null,null,null,null,null,null,null,null,null,null,null,null,null,null,null,null,null,null,null,null,null,null,null,null,null,null,null,null,null,null,null,null,null,null,null,null,null,null,null,null,null,null,null,null,null,null,null,null,null,null,null,null,null,null,null,null,null,null,null,null,null,null,null,null,null,null,null,null,null,null,null,null,null,null,null,null,null,null,null,null,null,null,null,null,null,null,null,null,null,null,null,null,null,null,null,null,null,null,null,null,null,null,null,null,null,null,null,null,null,null,null,null,null,null,null,null,null,null,null,null,null,null,null,null,null,null,null,null,null,null,null,null,null,null,null,null,null,null,null,null,null,null,null,null,null,null,null,null,null,null,null,null,{"$f":"ROWS($EW$20:EW309)","v":290},{"$f":"IFERROR(MATCH(Hist_Tab[[#This Row],[Ref]],Medel_T[NrX],0),1)","v":1},{"$f":"INT((ROW(Hist_Tab[[#This Row],[Ref]])-ROW(Hist_Tab[[#Headers],[Ref]])-1)/4)+1","v":73},{"$f":"COUNTIF($EY$19:EY309,Hist_Tab[[#This Row],[Ref]])","v":3},{"$f":"IFERROR(INDEX(Medel_T[Start],Hist_Tab[[#This Row],[Ref]]),_xlfn.AGGREGATE(4,6,Medel_T[Start]))","v":"00:00:00"},{"$f":"IFERROR(INDEX(Medel_T[Slut],Hist_Tab[[#This Row],[Ref]]),_xlfn.AGGREGATE(4,6,Medel_T[Slut]))","v":"00:00:00"},{"$f":"IF(EW308=0,Hist_Tab[[#This Row],[ÅrB]],IF(Hist_Tab[[#This Row],[per/p]]<2,Hist_Tab[[#This Row],[ÅrB]],Hist_Tab[[#This Row],[År S]]))","v":"00:00:00"},{"$f":"IF(Hist_Tab[[#This Row],[Rad]:[Rad]]=0,-1,IF($EY310>_xlfn.AGGREGATE(2,6,Medel_T[[Slut]:[Slut]]),0,INDEX(Medel_T[],Hist_Tab[[#This Row],[Ref]:[Ref]],MATCH(Hist_Tab[[#Headers],[HöA T]],Medel_T[#Headers],0))))","v":0},{"$f":"IF(Hist_Tab[[#This Row],[Rad]:[Rad]]=0,0,IF($EY310>_xlfn.AGGREGATE(2,6,Medel_T[[Slut]:[Slut]]),0,INDEX(Medel_T[],Hist_Tab[[#This Row],[Ref]:[Ref]],MATCH(Hist_Tab[[#Headers],[AöA T]],Medel_T[#Headers],0))))","v":0},{"$f":"IF(Hist_Tab[[#This Row],[Rad]:[Rad]]=0,0,IF($EY310>_xlfn.AGGREGATE(2,6,Medel_T[[Slut]:[Slut]]),0,INDEX(Medel_T[],Hist_Tab[[#This Row],[Ref]:[Ref]],MATCH(Hist_Tab[[#Headers],[4AM T]],Medel_T[#Headers],0))))","v":0},{"$f":"IF(Hist_Tab[[#This Row],[Rad]:[Rad]]=0,0,IF($EY310>_xlfn.AGGREGATE(2,6,Medel_T[[Slut]:[Slut]]),0,INDEX(Medel_T[],Hist_Tab[[#This Row],[Ref]:[Ref]],MATCH(Hist_Tab[[#Headers],[15AM T]],Medel_T[#Headers],0))))","v":0},{"$f":"IF(Hist_Tab[[#This Row],[Rad]:[Rad]]=0,0,IF($EY310>_xlfn.AGGREGATE(2,6,Medel_T[[Slut]:[Slut]]),0,INDEX(Medel_T[],Hist_Tab[[#This Row],[Ref]:[Ref]],MATCH(Hist_Tab[[#Headers],[20-10D T]],Medel_T[#Headers],0))))","v":0}]
[null,null,null,null,null,null,null,null,null,null,null,null,null,null,null,null,null,null,null,null,null,null,null,null,null,null,null,null,null,null,null,null,null,null,null,null,null,null,null,null,null,null,null,null,null,null,null,null,null,null,null,null,null,null,null,null,null,null,null,null,null,null,null,null,null,null,null,null,null,null,null,null,null,null,null,null,null,null,null,null,null,null,null,null,null,null,null,null,null,null,null,null,null,null,null,null,null,null,null,null,null,null,null,null,null,null,null,null,null,null,null,null,null,null,null,null,null,null,null,null,null,null,null,null,null,null,null,null,null,null,null,null,null,null,null,null,null,null,null,null,null,null,null,null,null,null,null,null,null,null,null,null,{"$f":"ROWS($EW$20:EW310)","v":291},{"$f":"IFERROR(MATCH(Hist_Tab[[#This Row],[Ref]],Medel_T[NrX],0),1)","v":1},{"$f":"INT((ROW(Hist_Tab[[#This Row],[Ref]])-ROW(Hist_Tab[[#Headers],[Ref]])-1)/4)+1","v":73},{"$f":"COUNTIF($EY$19:EY310,Hist_Tab[[#This Row],[Ref]])","v":4},{"$f":"IFERROR(INDEX(Medel_T[Start],Hist_Tab[[#This Row],[Ref]]),_xlfn.AGGREGATE(4,6,Medel_T[Start]))","v":"00:00:00"},{"$f":"IFERROR(INDEX(Medel_T[Slut],Hist_Tab[[#This Row],[Ref]]),_xlfn.AGGREGATE(4,6,Medel_T[Slut]))","v":"00:00:00"},{"$f":"IF(EW309=0,Hist_Tab[[#This Row],[ÅrB]],IF(Hist_Tab[[#This Row],[per/p]]<2,Hist_Tab[[#This Row],[ÅrB]],Hist_Tab[[#This Row],[År S]]))","v":"00:00:00"},{"$f":"IF(Hist_Tab[[#This Row],[Rad]:[Rad]]=0,-1,IF($EY311>_xlfn.AGGREGATE(2,6,Medel_T[[Slut]:[Slut]]),0,INDEX(Medel_T[],Hist_Tab[[#This Row],[Ref]:[Ref]],MATCH(Hist_Tab[[#Headers],[HöA T]],Medel_T[#Headers],0))))","v":0},{"$f":"IF(Hist_Tab[[#This Row],[Rad]:[Rad]]=0,0,IF($EY311>_xlfn.AGGREGATE(2,6,Medel_T[[Slut]:[Slut]]),0,INDEX(Medel_T[],Hist_Tab[[#This Row],[Ref]:[Ref]],MATCH(Hist_Tab[[#Headers],[AöA T]],Medel_T[#Headers],0))))","v":0},{"$f":"IF(Hist_Tab[[#This Row],[Rad]:[Rad]]=0,0,IF($EY311>_xlfn.AGGREGATE(2,6,Medel_T[[Slut]:[Slut]]),0,INDEX(Medel_T[],Hist_Tab[[#This Row],[Ref]:[Ref]],MATCH(Hist_Tab[[#Headers],[4AM T]],Medel_T[#Headers],0))))","v":0},{"$f":"IF(Hist_Tab[[#This Row],[Rad]:[Rad]]=0,0,IF($EY311>_xlfn.AGGREGATE(2,6,Medel_T[[Slut]:[Slut]]),0,INDEX(Medel_T[],Hist_Tab[[#This Row],[Ref]:[Ref]],MATCH(Hist_Tab[[#Headers],[15AM T]],Medel_T[#Headers],0))))","v":0},{"$f":"IF(Hist_Tab[[#This Row],[Rad]:[Rad]]=0,0,IF($EY311>_xlfn.AGGREGATE(2,6,Medel_T[[Slut]:[Slut]]),0,INDEX(Medel_T[],Hist_Tab[[#This Row],[Ref]:[Ref]],MATCH(Hist_Tab[[#Headers],[20-10D T]],Medel_T[#Headers],0))))","v":0}]
[null,null,null,null,null,null,null,null,null,null,null,null,null,null,null,null,null,null,null,null,null,null,null,null,null,null,null,null,null,null,null,null,null,null,null,null,null,null,null,null,null,null,null,null,null,null,null,null,null,null,null,null,null,null,null,null,null,null,null,null,null,null,null,null,null,null,null,null,null,null,null,null,null,null,null,null,null,null,null,null,null,null,null,null,null,null,null,null,null,null,null,null,null,null,null,null,null,null,null,null,null,null,null,null,null,null,null,null,null,null,null,null,null,null,null,null,null,null,null,null,null,null,null,null,null,null,null,null,null,null,null,null,null,null,null,null,null,null,null,null,null,null,null,null,null,null,null,null,null,null,null,null,{"$f":"ROWS($EW$20:EW311)","v":292},{"$f":"IFERROR(MATCH(Hist_Tab[[#This Row],[Ref]],Medel_T[NrX],0),1)","v":1},{"$f":"INT((ROW(Hist_Tab[[#This Row],[Ref]])-ROW(Hist_Tab[[#Headers],[Ref]])-1)/4)+1","v":74},{"$f":"COUNTIF($EY$19:EY311,Hist_Tab[[#This Row],[Ref]])","v":1},{"$f":"IFERROR(INDEX(Medel_T[Start],Hist_Tab[[#This Row],[Ref]]),_xlfn.AGGREGATE(4,6,Medel_T[Start]))","v":"00:00:00"},{"$f":"IFERROR(INDEX(Medel_T[Slut],Hist_Tab[[#This Row],[Ref]]),_xlfn.AGGREGATE(4,6,Medel_T[Slut]))","v":"00:00:00"},{"$f":"IF(EW310=0,Hist_Tab[[#This Row],[ÅrB]],IF(Hist_Tab[[#This Row],[per/p]]<2,Hist_Tab[[#This Row],[ÅrB]],Hist_Tab[[#This Row],[År S]]))","v":"00:00:00"},{"$f":"IF(Hist_Tab[[#This Row],[Rad]:[Rad]]=0,-1,IF($EY312>_xlfn.AGGREGATE(2,6,Medel_T[[Slut]:[Slut]]),0,INDEX(Medel_T[],Hist_Tab[[#This Row],[Ref]:[Ref]],MATCH(Hist_Tab[[#Headers],[HöA T]],Medel_T[#Headers],0))))","v":0},{"$f":"IF(Hist_Tab[[#This Row],[Rad]:[Rad]]=0,0,IF($EY312>_xlfn.AGGREGATE(2,6,Medel_T[[Slut]:[Slut]]),0,INDEX(Medel_T[],Hist_Tab[[#This Row],[Ref]:[Ref]],MATCH(Hist_Tab[[#Headers],[AöA T]],Medel_T[#Headers],0))))","v":0},{"$f":"IF(Hist_Tab[[#This Row],[Rad]:[Rad]]=0,0,IF($EY312>_xlfn.AGGREGATE(2,6,Medel_T[[Slut]:[Slut]]),0,INDEX(Medel_T[],Hist_Tab[[#This Row],[Ref]:[Ref]],MATCH(Hist_Tab[[#Headers],[4AM T]],Medel_T[#Headers],0))))","v":0},{"$f":"IF(Hist_Tab[[#This Row],[Rad]:[Rad]]=0,0,IF($EY312>_xlfn.AGGREGATE(2,6,Medel_T[[Slut]:[Slut]]),0,INDEX(Medel_T[],Hist_Tab[[#This Row],[Ref]:[Ref]],MATCH(Hist_Tab[[#Headers],[15AM T]],Medel_T[#Headers],0))))","v":0},{"$f":"IF(Hist_Tab[[#This Row],[Rad]:[Rad]]=0,0,IF($EY312>_xlfn.AGGREGATE(2,6,Medel_T[[Slut]:[Slut]]),0,INDEX(Medel_T[],Hist_Tab[[#This Row],[Ref]:[Ref]],MATCH(Hist_Tab[[#Headers],[20-10D T]],Medel_T[#Headers],0))))","v":0}]
[null,null,null,null,null,null,null,null,null,null,null,null,null,null,null,null,null,null,null,null,null,null,null,null,null,null,null,null,null,null,null,null,null,null,null,null,null,null,null,null,null,null,null,null,null,null,null,null,null,null,null,null,null,null,null,null,null,null,null,null,null,null,null,null,null,null,null,null,null,null,null,null,null,null,null,null,null,null,null,null,null,null,null,null,null,null,null,null,null,null,null,null,null,null,null,null,null,null,null,null,null,null,null,null,null,null,null,null,null,null,null,null,null,null,null,null,null,null,null,null,null,null,null,null,null,null,null,null,null,null,null,null,null,null,null,null,null,null,null,null,null,null,null,null,null,null,null,null,null,null,null,null,{"$f":"ROWS($EW$20:EW312)","v":293},{"$f":"IFERROR(MATCH(Hist_Tab[[#This Row],[Ref]],Medel_T[NrX],0),1)","v":1},{"$f":"INT((ROW(Hist_Tab[[#This Row],[Ref]])-ROW(Hist_Tab[[#Headers],[Ref]])-1)/4)+1","v":74},{"$f":"COUNTIF($EY$19:EY312,Hist_Tab[[#This Row],[Ref]])","v":2},{"$f":"IFERROR(INDEX(Medel_T[Start],Hist_Tab[[#This Row],[Ref]]),_xlfn.AGGREGATE(4,6,Medel_T[Start]))","v":"00:00:00"},{"$f":"IFERROR(INDEX(Medel_T[Slut],Hist_Tab[[#This Row],[Ref]]),_xlfn.AGGREGATE(4,6,Medel_T[Slut]))","v":"00:00:00"},{"$f":"IF(EW311=0,Hist_Tab[[#This Row],[ÅrB]],IF(Hist_Tab[[#This Row],[per/p]]<2,Hist_Tab[[#This Row],[ÅrB]],Hist_Tab[[#This Row],[År S]]))","v":"00:00:00"},{"$f":"IF(Hist_Tab[[#This Row],[Rad]:[Rad]]=0,-1,IF($EY313>_xlfn.AGGREGATE(2,6,Medel_T[[Slut]:[Slut]]),0,INDEX(Medel_T[],Hist_Tab[[#This Row],[Ref]:[Ref]],MATCH(Hist_Tab[[#Headers],[HöA T]],Medel_T[#Headers],0))))","v":0},{"$f":"IF(Hist_Tab[[#This Row],[Rad]:[Rad]]=0,0,IF($EY313>_xlfn.AGGREGATE(2,6,Medel_T[[Slut]:[Slut]]),0,INDEX(Medel_T[],Hist_Tab[[#This Row],[Ref]:[Ref]],MATCH(Hist_Tab[[#Headers],[AöA T]],Medel_T[#Headers],0))))","v":0},{"$f":"IF(Hist_Tab[[#This Row],[Rad]:[Rad]]=0,0,IF($EY313>_xlfn.AGGREGATE(2,6,Medel_T[[Slut]:[Slut]]),0,INDEX(Medel_T[],Hist_Tab[[#This Row],[Ref]:[Ref]],MATCH(Hist_Tab[[#Headers],[4AM T]],Medel_T[#Headers],0))))","v":0},{"$f":"IF(Hist_Tab[[#This Row],[Rad]:[Rad]]=0,0,IF($EY313>_xlfn.AGGREGATE(2,6,Medel_T[[Slut]:[Slut]]),0,INDEX(Medel_T[],Hist_Tab[[#This Row],[Ref]:[Ref]],MATCH(Hist_Tab[[#Headers],[15AM T]],Medel_T[#Headers],0))))","v":0},{"$f":"IF(Hist_Tab[[#This Row],[Rad]:[Rad]]=0,0,IF($EY313>_xlfn.AGGREGATE(2,6,Medel_T[[Slut]:[Slut]]),0,INDEX(Medel_T[],Hist_Tab[[#This Row],[Ref]:[Ref]],MATCH(Hist_Tab[[#Headers],[20-10D T]],Medel_T[#Headers],0))))","v":0}]
[null,null,null,null,null,null,null,null,null,null,null,null,null,null,null,null,null,null,null,null,null,null,null,null,null,null,null,null,null,null,null,null,null,null,null,null,null,null,null,null,null,null,null,null,null,null,null,null,null,null,null,null,null,null,null,null,null,null,null,null,null,null,null,null,null,null,null,null,null,null,null,null,null,null,null,null,null,null,null,null,null,null,null,null,null,null,null,null,null,null,null,null,null,null,null,null,null,null,null,null,null,null,null,null,null,null,null,null,null,null,null,null,null,null,null,null,null,null,null,null,null,null,null,null,null,null,null,null,null,null,null,null,null,null,null,null,null,null,null,null,null,null,null,null,null,null,null,null,null,null,null,null,{"$f":"ROWS($EW$20:EW313)","v":294},{"$f":"IFERROR(MATCH(Hist_Tab[[#This Row],[Ref]],Medel_T[NrX],0),1)","v":1},{"$f":"INT((ROW(Hist_Tab[[#This Row],[Ref]])-ROW(Hist_Tab[[#Headers],[Ref]])-1)/4)+1","v":74},{"$f":"COUNTIF($EY$19:EY313,Hist_Tab[[#This Row],[Ref]])","v":3},{"$f":"IFERROR(INDEX(Medel_T[Start],Hist_Tab[[#This Row],[Ref]]),_xlfn.AGGREGATE(4,6,Medel_T[Start]))","v":"00:00:00"},{"$f":"IFERROR(INDEX(Medel_T[Slut],Hist_Tab[[#This Row],[Ref]]),_xlfn.AGGREGATE(4,6,Medel_T[Slut]))","v":"00:00:00"},{"$f":"IF(EW312=0,Hist_Tab[[#This Row],[ÅrB]],IF(Hist_Tab[[#This Row],[per/p]]<2,Hist_Tab[[#This Row],[ÅrB]],Hist_Tab[[#This Row],[År S]]))","v":"00:00:00"},{"$f":"IF(Hist_Tab[[#This Row],[Rad]:[Rad]]=0,-1,IF($EY314>_xlfn.AGGREGATE(2,6,Medel_T[[Slut]:[Slut]]),0,INDEX(Medel_T[],Hist_Tab[[#This Row],[Ref]:[Ref]],MATCH(Hist_Tab[[#Headers],[HöA T]],Medel_T[#Headers],0))))","v":0},{"$f":"IF(Hist_Tab[[#This Row],[Rad]:[Rad]]=0,0,IF($EY314>_xlfn.AGGREGATE(2,6,Medel_T[[Slut]:[Slut]]),0,INDEX(Medel_T[],Hist_Tab[[#This Row],[Ref]:[Ref]],MATCH(Hist_Tab[[#Headers],[AöA T]],Medel_T[#Headers],0))))","v":0},{"$f":"IF(Hist_Tab[[#This Row],[Rad]:[Rad]]=0,0,IF($EY314>_xlfn.AGGREGATE(2,6,Medel_T[[Slut]:[Slut]]),0,INDEX(Medel_T[],Hist_Tab[[#This Row],[Ref]:[Ref]],MATCH(Hist_Tab[[#Headers],[4AM T]],Medel_T[#Headers],0))))","v":0},{"$f":"IF(Hist_Tab[[#This Row],[Rad]:[Rad]]=0,0,IF($EY314>_xlfn.AGGREGATE(2,6,Medel_T[[Slut]:[Slut]]),0,INDEX(Medel_T[],Hist_Tab[[#This Row],[Ref]:[Ref]],MATCH(Hist_Tab[[#Headers],[15AM T]],Medel_T[#Headers],0))))","v":0},{"$f":"IF(Hist_Tab[[#This Row],[Rad]:[Rad]]=0,0,IF($EY314>_xlfn.AGGREGATE(2,6,Medel_T[[Slut]:[Slut]]),0,INDEX(Medel_T[],Hist_Tab[[#This Row],[Ref]:[Ref]],MATCH(Hist_Tab[[#Headers],[20-10D T]],Medel_T[#Headers],0))))","v":0}]
[null,null,null,null,null,null,null,null,null,null,null,null,null,null,null,null,null,null,null,null,null,null,null,null,null,null,null,null,null,null,null,null,null,null,null,null,null,null,null,null,null,null,null,null,null,null,null,null,null,null,null,null,null,null,null,null,null,null,null,null,null,null,null,null,null,null,null,null,null,null,null,null,null,null,null,null,null,null,null,null,null,null,null,null,null,null,null,null,null,null,null,null,null,null,null,null,null,null,null,null,null,null,null,null,null,null,null,null,null,null,null,null,null,null,null,null,null,null,null,null,null,null,null,null,null,null,null,null,null,null,null,null,null,null,null,null,null,null,null,null,null,null,null,null,null,null,null,null,null,null,null,null,{"$f":"ROWS($EW$20:EW314)","v":295},{"$f":"IFERROR(MATCH(Hist_Tab[[#This Row],[Ref]],Medel_T[NrX],0),1)","v":1},{"$f":"INT((ROW(Hist_Tab[[#This Row],[Ref]])-ROW(Hist_Tab[[#Headers],[Ref]])-1)/4)+1","v":74},{"$f":"COUNTIF($EY$19:EY314,Hist_Tab[[#This Row],[Ref]])","v":4},{"$f":"IFERROR(INDEX(Medel_T[Start],Hist_Tab[[#This Row],[Ref]]),_xlfn.AGGREGATE(4,6,Medel_T[Start]))","v":"00:00:00"},{"$f":"IFERROR(INDEX(Medel_T[Slut],Hist_Tab[[#This Row],[Ref]]),_xlfn.AGGREGATE(4,6,Medel_T[Slut]))","v":"00:00:00"},{"$f":"IF(EW313=0,Hist_Tab[[#This Row],[ÅrB]],IF(Hist_Tab[[#This Row],[per/p]]<2,Hist_Tab[[#This Row],[ÅrB]],Hist_Tab[[#This Row],[År S]]))","v":"00:00:00"},{"$f":"IF(Hist_Tab[[#This Row],[Rad]:[Rad]]=0,-1,IF($EY315>_xlfn.AGGREGATE(2,6,Medel_T[[Slut]:[Slut]]),0,INDEX(Medel_T[],Hist_Tab[[#This Row],[Ref]:[Ref]],MATCH(Hist_Tab[[#Headers],[HöA T]],Medel_T[#Headers],0))))","v":0},{"$f":"IF(Hist_Tab[[#This Row],[Rad]:[Rad]]=0,0,IF($EY315>_xlfn.AGGREGATE(2,6,Medel_T[[Slut]:[Slut]]),0,INDEX(Medel_T[],Hist_Tab[[#This Row],[Ref]:[Ref]],MATCH(Hist_Tab[[#Headers],[AöA T]],Medel_T[#Headers],0))))","v":0},{"$f":"IF(Hist_Tab[[#This Row],[Rad]:[Rad]]=0,0,IF($EY315>_xlfn.AGGREGATE(2,6,Medel_T[[Slut]:[Slut]]),0,INDEX(Medel_T[],Hist_Tab[[#This Row],[Ref]:[Ref]],MATCH(Hist_Tab[[#Headers],[4AM T]],Medel_T[#Headers],0))))","v":0},{"$f":"IF(Hist_Tab[[#This Row],[Rad]:[Rad]]=0,0,IF($EY315>_xlfn.AGGREGATE(2,6,Medel_T[[Slut]:[Slut]]),0,INDEX(Medel_T[],Hist_Tab[[#This Row],[Ref]:[Ref]],MATCH(Hist_Tab[[#Headers],[15AM T]],Medel_T[#Headers],0))))","v":0},{"$f":"IF(Hist_Tab[[#This Row],[Rad]:[Rad]]=0,0,IF($EY315>_xlfn.AGGREGATE(2,6,Medel_T[[Slut]:[Slut]]),0,INDEX(Medel_T[],Hist_Tab[[#This Row],[Ref]:[Ref]],MATCH(Hist_Tab[[#Headers],[20-10D T]],Medel_T[#Headers],0))))","v":0}]
[null,null,null,null,null,null,null,null,null,null,null,null,null,null,null,null,null,null,null,null,null,null,null,null,null,null,null,null,null,null,null,null,null,null,null,null,null,null,null,null,null,null,null,null,null,null,null,null,null,null,null,null,null,null,null,null,null,null,null,null,null,null,null,null,null,null,null,null,null,null,null,null,null,null,null,null,null,null,null,null,null,null,null,null,null,null,null,null,null,null,null,null,null,null,null,null,null,null,null,null,null,null,null,null,null,null,null,null,null,null,null,null,null,null,null,null,null,null,null,null,null,null,null,null,null,null,null,null,null,null,null,null,null,null,null,null,null,null,null,null,null,null,null,null,null,null,null,null,null,null,null,null,{"$f":"ROWS($EW$20:EW315)","v":296},{"$f":"IFERROR(MATCH(Hist_Tab[[#This Row],[Ref]],Medel_T[NrX],0),1)","v":1},{"$f":"INT((ROW(Hist_Tab[[#This Row],[Ref]])-ROW(Hist_Tab[[#Headers],[Ref]])-1)/4)+1","v":75},{"$f":"COUNTIF($EY$19:EY315,Hist_Tab[[#This Row],[Ref]])","v":1},{"$f":"IFERROR(INDEX(Medel_T[Start],Hist_Tab[[#This Row],[Ref]]),_xlfn.AGGREGATE(4,6,Medel_T[Start]))","v":"00:00:00"},{"$f":"IFERROR(INDEX(Medel_T[Slut],Hist_Tab[[#This Row],[Ref]]),_xlfn.AGGREGATE(4,6,Medel_T[Slut]))","v":"00:00:00"},{"$f":"IF(EW314=0,Hist_Tab[[#This Row],[ÅrB]],IF(Hist_Tab[[#This Row],[per/p]]<2,Hist_Tab[[#This Row],[ÅrB]],Hist_Tab[[#This Row],[År S]]))","v":"00:00:00"},{"$f":"IF(Hist_Tab[[#This Row],[Rad]:[Rad]]=0,-1,IF($EY316>_xlfn.AGGREGATE(2,6,Medel_T[[Slut]:[Slut]]),0,INDEX(Medel_T[],Hist_Tab[[#This Row],[Ref]:[Ref]],MATCH(Hist_Tab[[#Headers],[HöA T]],Medel_T[#Headers],0))))","v":0},{"$f":"IF(Hist_Tab[[#This Row],[Rad]:[Rad]]=0,0,IF($EY316>_xlfn.AGGREGATE(2,6,Medel_T[[Slut]:[Slut]]),0,INDEX(Medel_T[],Hist_Tab[[#This Row],[Ref]:[Ref]],MATCH(Hist_Tab[[#Headers],[AöA T]],Medel_T[#Headers],0))))","v":0},{"$f":"IF(Hist_Tab[[#This Row],[Rad]:[Rad]]=0,0,IF($EY316>_xlfn.AGGREGATE(2,6,Medel_T[[Slut]:[Slut]]),0,INDEX(Medel_T[],Hist_Tab[[#This Row],[Ref]:[Ref]],MATCH(Hist_Tab[[#Headers],[4AM T]],Medel_T[#Headers],0))))","v":0},{"$f":"IF(Hist_Tab[[#This Row],[Rad]:[Rad]]=0,0,IF($EY316>_xlfn.AGGREGATE(2,6,Medel_T[[Slut]:[Slut]]),0,INDEX(Medel_T[],Hist_Tab[[#This Row],[Ref]:[Ref]],MATCH(Hist_Tab[[#Headers],[15AM T]],Medel_T[#Headers],0))))","v":0},{"$f":"IF(Hist_Tab[[#This Row],[Rad]:[Rad]]=0,0,IF($EY316>_xlfn.AGGREGATE(2,6,Medel_T[[Slut]:[Slut]]),0,INDEX(Medel_T[],Hist_Tab[[#This Row],[Ref]:[Ref]],MATCH(Hist_Tab[[#Headers],[20-10D T]],Medel_T[#Headers],0))))","v":0}]
[null,null,null,null,null,null,null,null,null,null,null,null,null,null,null,null,null,null,null,null,null,null,null,null,null,null,null,null,null,null,null,null,null,null,null,null,null,null,null,null,null,null,null,null,null,null,null,null,null,null,null,null,null,null,null,null,null,null,null,null,null,null,null,null,null,null,null,null,null,null,null,null,null,null,null,null,null,null,null,null,null,null,null,null,null,null,null,null,null,null,null,null,null,null,null,null,null,null,null,null,null,null,null,null,null,null,null,null,null,null,null,null,null,null,null,null,null,null,null,null,null,null,null,null,null,null,null,null,null,null,null,null,null,null,null,null,null,null,null,null,null,null,null,null,null,null,null,null,null,null,null,null,{"$f":"ROWS($EW$20:EW316)","v":297},{"$f":"IFERROR(MATCH(Hist_Tab[[#This Row],[Ref]],Medel_T[NrX],0),1)","v":1},{"$f":"INT((ROW(Hist_Tab[[#This Row],[Ref]])-ROW(Hist_Tab[[#Headers],[Ref]])-1)/4)+1","v":75},{"$f":"COUNTIF($EY$19:EY316,Hist_Tab[[#This Row],[Ref]])","v":2},{"$f":"IFERROR(INDEX(Medel_T[Start],Hist_Tab[[#This Row],[Ref]]),_xlfn.AGGREGATE(4,6,Medel_T[Start]))","v":"00:00:00"},{"$f":"IFERROR(INDEX(Medel_T[Slut],Hist_Tab[[#This Row],[Ref]]),_xlfn.AGGREGATE(4,6,Medel_T[Slut]))","v":"00:00:00"},{"$f":"IF(EW315=0,Hist_Tab[[#This Row],[ÅrB]],IF(Hist_Tab[[#This Row],[per/p]]<2,Hist_Tab[[#This Row],[ÅrB]],Hist_Tab[[#This Row],[År S]]))","v":"00:00:00"},{"$f":"IF(Hist_Tab[[#This Row],[Rad]:[Rad]]=0,-1,IF($EY317>_xlfn.AGGREGATE(2,6,Medel_T[[Slut]:[Slut]]),0,INDEX(Medel_T[],Hist_Tab[[#This Row],[Ref]:[Ref]],MATCH(Hist_Tab[[#Headers],[HöA T]],Medel_T[#Headers],0))))","v":0},{"$f":"IF(Hist_Tab[[#This Row],[Rad]:[Rad]]=0,0,IF($EY317>_xlfn.AGGREGATE(2,6,Medel_T[[Slut]:[Slut]]),0,INDEX(Medel_T[],Hist_Tab[[#This Row],[Ref]:[Ref]],MATCH(Hist_Tab[[#Headers],[AöA T]],Medel_T[#Headers],0))))","v":0},{"$f":"IF(Hist_Tab[[#This Row],[Rad]:[Rad]]=0,0,IF($EY317>_xlfn.AGGREGATE(2,6,Medel_T[[Slut]:[Slut]]),0,INDEX(Medel_T[],Hist_Tab[[#This Row],[Ref]:[Ref]],MATCH(Hist_Tab[[#Headers],[4AM T]],Medel_T[#Headers],0))))","v":0},{"$f":"IF(Hist_Tab[[#This Row],[Rad]:[Rad]]=0,0,IF($EY317>_xlfn.AGGREGATE(2,6,Medel_T[[Slut]:[Slut]]),0,INDEX(Medel_T[],Hist_Tab[[#This Row],[Ref]:[Ref]],MATCH(Hist_Tab[[#Headers],[15AM T]],Medel_T[#Headers],0))))","v":0},{"$f":"IF(Hist_Tab[[#This Row],[Rad]:[Rad]]=0,0,IF($EY317>_xlfn.AGGREGATE(2,6,Medel_T[[Slut]:[Slut]]),0,INDEX(Medel_T[],Hist_Tab[[#This Row],[Ref]:[Ref]],MATCH(Hist_Tab[[#Headers],[20-10D T]],Medel_T[#Headers],0))))","v":0}]
[null,null,null,null,null,null,null,null,null,null,null,null,null,null,null,null,null,null,null,null,null,null,null,null,null,null,null,null,null,null,null,null,null,null,null,null,null,null,null,null,null,null,null,null,null,null,null,null,null,null,null,null,null,null,null,null,null,null,null,null,null,null,null,null,null,null,null,null,null,null,null,null,null,null,null,null,null,null,null,null,null,null,null,null,null,null,null,null,null,null,null,null,null,null,null,null,null,null,null,null,null,null,null,null,null,null,null,null,null,null,null,null,null,null,null,null,null,null,null,null,null,null,null,null,null,null,null,null,null,null,null,null,null,null,null,null,null,null,null,null,null,null,null,null,null,null,null,null,null,null,null,null,{"$f":"ROWS($EW$20:EW317)","v":298},{"$f":"IFERROR(MATCH(Hist_Tab[[#This Row],[Ref]],Medel_T[NrX],0),1)","v":1},{"$f":"INT((ROW(Hist_Tab[[#This Row],[Ref]])-ROW(Hist_Tab[[#Headers],[Ref]])-1)/4)+1","v":75},{"$f":"COUNTIF($EY$19:EY317,Hist_Tab[[#This Row],[Ref]])","v":3},{"$f":"IFERROR(INDEX(Medel_T[Start],Hist_Tab[[#This Row],[Ref]]),_xlfn.AGGREGATE(4,6,Medel_T[Start]))","v":"00:00:00"},{"$f":"IFERROR(INDEX(Medel_T[Slut],Hist_Tab[[#This Row],[Ref]]),_xlfn.AGGREGATE(4,6,Medel_T[Slut]))","v":"00:00:00"},{"$f":"IF(EW316=0,Hist_Tab[[#This Row],[ÅrB]],IF(Hist_Tab[[#This Row],[per/p]]<2,Hist_Tab[[#This Row],[ÅrB]],Hist_Tab[[#This Row],[År S]]))","v":"00:00:00"},{"$f":"IF(Hist_Tab[[#This Row],[Rad]:[Rad]]=0,-1,IF($EY318>_xlfn.AGGREGATE(2,6,Medel_T[[Slut]:[Slut]]),0,INDEX(Medel_T[],Hist_Tab[[#This Row],[Ref]:[Ref]],MATCH(Hist_Tab[[#Headers],[HöA T]],Medel_T[#Headers],0))))","v":0},{"$f":"IF(Hist_Tab[[#This Row],[Rad]:[Rad]]=0,0,IF($EY318>_xlfn.AGGREGATE(2,6,Medel_T[[Slut]:[Slut]]),0,INDEX(Medel_T[],Hist_Tab[[#This Row],[Ref]:[Ref]],MATCH(Hist_Tab[[#Headers],[AöA T]],Medel_T[#Headers],0))))","v":0},{"$f":"IF(Hist_Tab[[#This Row],[Rad]:[Rad]]=0,0,IF($EY318>_xlfn.AGGREGATE(2,6,Medel_T[[Slut]:[Slut]]),0,INDEX(Medel_T[],Hist_Tab[[#This Row],[Ref]:[Ref]],MATCH(Hist_Tab[[#Headers],[4AM T]],Medel_T[#Headers],0))))","v":0},{"$f":"IF(Hist_Tab[[#This Row],[Rad]:[Rad]]=0,0,IF($EY318>_xlfn.AGGREGATE(2,6,Medel_T[[Slut]:[Slut]]),0,INDEX(Medel_T[],Hist_Tab[[#This Row],[Ref]:[Ref]],MATCH(Hist_Tab[[#Headers],[15AM T]],Medel_T[#Headers],0))))","v":0},{"$f":"IF(Hist_Tab[[#This Row],[Rad]:[Rad]]=0,0,IF($EY318>_xlfn.AGGREGATE(2,6,Medel_T[[Slut]:[Slut]]),0,INDEX(Medel_T[],Hist_Tab[[#This Row],[Ref]:[Ref]],MATCH(Hist_Tab[[#Headers],[20-10D T]],Medel_T[#Headers],0))))","v":0}]
[null,null,null,null,null,null,null,null,null,null,null,null,null,null,null,null,null,null,null,null,null,null,null,null,null,null,null,null,null,null,null,null,null,null,null,null,null,null,null,null,null,null,null,null,null,null,null,null,null,null,null,null,null,null,null,null,null,null,null,null,null,null,null,null,null,null,null,null,null,null,null,null,null,null,null,null,null,null,null,null,null,null,null,null,null,null,null,null,null,null,null,null,null,null,null,null,null,null,null,null,null,null,null,null,null,null,null,null,null,null,null,null,null,null,null,null,null,null,null,null,null,null,null,null,null,null,null,null,null,null,null,null,null,null,null,null,null,null,null,null,null,null,null,null,null,null,null,null,null,null,null,null,{"$f":"ROWS($EW$20:EW318)","v":299},{"$f":"IFERROR(MATCH(Hist_Tab[[#This Row],[Ref]],Medel_T[NrX],0),1)","v":1},{"$f":"INT((ROW(Hist_Tab[[#This Row],[Ref]])-ROW(Hist_Tab[[#Headers],[Ref]])-1)/4)+1","v":75},{"$f":"COUNTIF($EY$19:EY318,Hist_Tab[[#This Row],[Ref]])","v":4},{"$f":"IFERROR(INDEX(Medel_T[Start],Hist_Tab[[#This Row],[Ref]]),_xlfn.AGGREGATE(4,6,Medel_T[Start]))","v":"00:00:00"},{"$f":"IFERROR(INDEX(Medel_T[Slut],Hist_Tab[[#This Row],[Ref]]),_xlfn.AGGREGATE(4,6,Medel_T[Slut]))","v":"00:00:00"},{"$f":"IF(EW317=0,Hist_Tab[[#This Row],[ÅrB]],IF(Hist_Tab[[#This Row],[per/p]]<2,Hist_Tab[[#This Row],[ÅrB]],Hist_Tab[[#This Row],[År S]]))","v":"00:00:00"},{"$f":"IF(Hist_Tab[[#This Row],[Rad]:[Rad]]=0,-1,IF($EY319>_xlfn.AGGREGATE(2,6,Medel_T[[Slut]:[Slut]]),0,INDEX(Medel_T[],Hist_Tab[[#This Row],[Ref]:[Ref]],MATCH(Hist_Tab[[#Headers],[HöA T]],Medel_T[#Headers],0))))","v":0},{"$f":"IF(Hist_Tab[[#This Row],[Rad]:[Rad]]=0,0,IF($EY319>_xlfn.AGGREGATE(2,6,Medel_T[[Slut]:[Slut]]),0,INDEX(Medel_T[],Hist_Tab[[#This Row],[Ref]:[Ref]],MATCH(Hist_Tab[[#Headers],[AöA T]],Medel_T[#Headers],0))))","v":0},{"$f":"IF(Hist_Tab[[#This Row],[Rad]:[Rad]]=0,0,IF($EY319>_xlfn.AGGREGATE(2,6,Medel_T[[Slut]:[Slut]]),0,INDEX(Medel_T[],Hist_Tab[[#This Row],[Ref]:[Ref]],MATCH(Hist_Tab[[#Headers],[4AM T]],Medel_T[#Headers],0))))","v":0},{"$f":"IF(Hist_Tab[[#This Row],[Rad]:[Rad]]=0,0,IF($EY319>_xlfn.AGGREGATE(2,6,Medel_T[[Slut]:[Slut]]),0,INDEX(Medel_T[],Hist_Tab[[#This Row],[Ref]:[Ref]],MATCH(Hist_Tab[[#Headers],[15AM T]],Medel_T[#Headers],0))))","v":0},{"$f":"IF(Hist_Tab[[#This Row],[Rad]:[Rad]]=0,0,IF($EY319>_xlfn.AGGREGATE(2,6,Medel_T[[Slut]:[Slut]]),0,INDEX(Medel_T[],Hist_Tab[[#This Row],[Ref]:[Ref]],MATCH(Hist_Tab[[#Headers],[20-10D T]],Medel_T[#Headers],0))))","v":0}]
[null,null,null,null,null,null,null,null,null,null,null,null,null,null,null,null,null,null,null,null,null,null,null,null,null,null,null,null,null,null,null,null,null,null,null,null,null,null,null,null,null,null,null,null,null,null,null,null,null,null,null,null,null,null,null,null,null,null,null,null,null,null,null,null,null,null,null,null,null,null,null,null,null,null,null,null,null,null,null,null,null,null,null,null,null,null,null,null,null,null,null,null,null,null,null,null,null,null,null,null,null,null,null,null,null,null,null,null,null,null,null,null,null,null,null,null,null,null,null,null,null,null,null,null,null,null,null,null,null,null,null,null,null,null,null,null,null,null,null,null,null,null,null,null,null,null,null,null,null,null,null,null,{"$f":"ROWS($EW$20:EW319)","v":300},{"$f":"IFERROR(MATCH(Hist_Tab[[#This Row],[Ref]],Medel_T[NrX],0),1)","v":1},{"$f":"INT((ROW(Hist_Tab[[#This Row],[Ref]])-ROW(Hist_Tab[[#Headers],[Ref]])-1)/4)+1","v":76},{"$f":"COUNTIF($EY$19:EY319,Hist_Tab[[#This Row],[Ref]])","v":1},{"$f":"IFERROR(INDEX(Medel_T[Start],Hist_Tab[[#This Row],[Ref]]),_xlfn.AGGREGATE(4,6,Medel_T[Start]))","v":"00:00:00"},{"$f":"IFERROR(INDEX(Medel_T[Slut],Hist_Tab[[#This Row],[Ref]]),_xlfn.AGGREGATE(4,6,Medel_T[Slut]))","v":"00:00:00"},{"$f":"IF(EW318=0,Hist_Tab[[#This Row],[ÅrB]],IF(Hist_Tab[[#This Row],[per/p]]<2,Hist_Tab[[#This Row],[ÅrB]],Hist_Tab[[#This Row],[År S]]))","v":"00:00:00"},{"$f":"IF(Hist_Tab[[#This Row],[Rad]:[Rad]]=0,-1,IF($EY320>_xlfn.AGGREGATE(2,6,Medel_T[[Slut]:[Slut]]),0,INDEX(Medel_T[],Hist_Tab[[#This Row],[Ref]:[Ref]],MATCH(Hist_Tab[[#Headers],[HöA T]],Medel_T[#Headers],0))))","v":0},{"$f":"IF(Hist_Tab[[#This Row],[Rad]:[Rad]]=0,0,IF($EY320>_xlfn.AGGREGATE(2,6,Medel_T[[Slut]:[Slut]]),0,INDEX(Medel_T[],Hist_Tab[[#This Row],[Ref]:[Ref]],MATCH(Hist_Tab[[#Headers],[AöA T]],Medel_T[#Headers],0))))","v":0},{"$f":"IF(Hist_Tab[[#This Row],[Rad]:[Rad]]=0,0,IF($EY320>_xlfn.AGGREGATE(2,6,Medel_T[[Slut]:[Slut]]),0,INDEX(Medel_T[],Hist_Tab[[#This Row],[Ref]:[Ref]],MATCH(Hist_Tab[[#Headers],[4AM T]],Medel_T[#Headers],0))))","v":0},{"$f":"IF(Hist_Tab[[#This Row],[Rad]:[Rad]]=0,0,IF($EY320>_xlfn.AGGREGATE(2,6,Medel_T[[Slut]:[Slut]]),0,INDEX(Medel_T[],Hist_Tab[[#This Row],[Ref]:[Ref]],MATCH(Hist_Tab[[#Headers],[15AM T]],Medel_T[#Headers],0))))","v":0},{"$f":"IF(Hist_Tab[[#This Row],[Rad]:[Rad]]=0,0,IF($EY320>_xlfn.AGGREGATE(2,6,Medel_T[[Slut]:[Slut]]),0,INDEX(Medel_T[],Hist_Tab[[#This Row],[Ref]:[Ref]],MATCH(Hist_Tab[[#Headers],[20-10D T]],Medel_T[#Headers],0))))","v":0}]
[null,null,null,null,null,null,null,null,null,null,null,null,null,null,null,null,null,null,null,null,null,null,null,null,null,null,null,null,null,null,null,null,null,null,null,null,null,null,null,null,null,null,null,null,null,null,null,null,null,null,null,null,null,null,null,null,null,null,null,null,null,null,null,null,null,null,null,null,null,null,null,null,null,null,null,null,null,null,null,null,null,null,null,null,null,null,null,null,null,null,null,null,null,null,null,null,null,null,null,null,null,null,null,null,null,null,null,null,null,null,null,null,null,null,null,null,null,null,null,null,null,null,null,null,null,null,null,null,null,null,null,null,null,null,null,null,null,null,null,null,null,null,null,null,null,null,null,null,null,null,null,null,{"$f":"ROWS($EW$20:EW320)","v":301},{"$f":"IFERROR(MATCH(Hist_Tab[[#This Row],[Ref]],Medel_T[NrX],0),1)","v":1},{"$f":"INT((ROW(Hist_Tab[[#This Row],[Ref]])-ROW(Hist_Tab[[#Headers],[Ref]])-1)/4)+1","v":76},{"$f":"COUNTIF($EY$19:EY320,Hist_Tab[[#This Row],[Ref]])","v":2},{"$f":"IFERROR(INDEX(Medel_T[Start],Hist_Tab[[#This Row],[Ref]]),_xlfn.AGGREGATE(4,6,Medel_T[Start]))","v":"00:00:00"},{"$f":"IFERROR(INDEX(Medel_T[Slut],Hist_Tab[[#This Row],[Ref]]),_xlfn.AGGREGATE(4,6,Medel_T[Slut]))","v":"00:00:00"},{"$f":"IF(EW319=0,Hist_Tab[[#This Row],[ÅrB]],IF(Hist_Tab[[#This Row],[per/p]]<2,Hist_Tab[[#This Row],[ÅrB]],Hist_Tab[[#This Row],[År S]]))","v":"00:00:00"},{"$f":"IF(Hist_Tab[[#This Row],[Rad]:[Rad]]=0,-1,IF($EY321>_xlfn.AGGREGATE(2,6,Medel_T[[Slut]:[Slut]]),0,INDEX(Medel_T[],Hist_Tab[[#This Row],[Ref]:[Ref]],MATCH(Hist_Tab[[#Headers],[HöA T]],Medel_T[#Headers],0))))","v":0},{"$f":"IF(Hist_Tab[[#This Row],[Rad]:[Rad]]=0,0,IF($EY321>_xlfn.AGGREGATE(2,6,Medel_T[[Slut]:[Slut]]),0,INDEX(Medel_T[],Hist_Tab[[#This Row],[Ref]:[Ref]],MATCH(Hist_Tab[[#Headers],[AöA T]],Medel_T[#Headers],0))))","v":0},{"$f":"IF(Hist_Tab[[#This Row],[Rad]:[Rad]]=0,0,IF($EY321>_xlfn.AGGREGATE(2,6,Medel_T[[Slut]:[Slut]]),0,INDEX(Medel_T[],Hist_Tab[[#This Row],[Ref]:[Ref]],MATCH(Hist_Tab[[#Headers],[4AM T]],Medel_T[#Headers],0))))","v":0},{"$f":"IF(Hist_Tab[[#This Row],[Rad]:[Rad]]=0,0,IF($EY321>_xlfn.AGGREGATE(2,6,Medel_T[[Slut]:[Slut]]),0,INDEX(Medel_T[],Hist_Tab[[#This Row],[Ref]:[Ref]],MATCH(Hist_Tab[[#Headers],[15AM T]],Medel_T[#Headers],0))))","v":0},{"$f":"IF(Hist_Tab[[#This Row],[Rad]:[Rad]]=0,0,IF($EY321>_xlfn.AGGREGATE(2,6,Medel_T[[Slut]:[Slut]]),0,INDEX(Medel_T[],Hist_Tab[[#This Row],[Ref]:[Ref]],MATCH(Hist_Tab[[#Headers],[20-10D T]],Medel_T[#Headers],0))))","v":0}]
[null,null,null,null,null,null,null,null,null,null,null,null,null,null,null,null,null,null,null,null,null,null,null,null,null,null,null,null,null,null,null,null,null,null,null,null,null,null,null,null,null,null,null,null,null,null,null,null,null,null,null,null,null,null,null,null,null,null,null,null,null,null,null,null,null,null,null,null,null,null,null,null,null,null,null,null,null,null,null,null,null,null,null,null,null,null,null,null,null,null,null,null,null,null,null,null,null,null,null,null,null,null,null,null,null,null,null,null,null,null,null,null,null,null,null,null,null,null,null,null,null,null,null,null,null,null,null,null,null,null,null,null,null,null,null,null,null,null,null,null,null,null,null,null,null,null,null,null,null,null,null,null,{"$f":"ROWS($EW$20:EW321)","v":302},{"$f":"IFERROR(MATCH(Hist_Tab[[#This Row],[Ref]],Medel_T[NrX],0),1)","v":1},{"$f":"INT((ROW(Hist_Tab[[#This Row],[Ref]])-ROW(Hist_Tab[[#Headers],[Ref]])-1)/4)+1","v":76},{"$f":"COUNTIF($EY$19:EY321,Hist_Tab[[#This Row],[Ref]])","v":3},{"$f":"IFERROR(INDEX(Medel_T[Start],Hist_Tab[[#This Row],[Ref]]),_xlfn.AGGREGATE(4,6,Medel_T[Start]))","v":"00:00:00"},{"$f":"IFERROR(INDEX(Medel_T[Slut],Hist_Tab[[#This Row],[Ref]]),_xlfn.AGGREGATE(4,6,Medel_T[Slut]))","v":"00:00:00"},{"$f":"IF(EW320=0,Hist_Tab[[#This Row],[ÅrB]],IF(Hist_Tab[[#This Row],[per/p]]<2,Hist_Tab[[#This Row],[ÅrB]],Hist_Tab[[#This Row],[År S]]))","v":"00:00:00"},{"$f":"IF(Hist_Tab[[#This Row],[Rad]:[Rad]]=0,-1,IF($EY322>_xlfn.AGGREGATE(2,6,Medel_T[[Slut]:[Slut]]),0,INDEX(Medel_T[],Hist_Tab[[#This Row],[Ref]:[Ref]],MATCH(Hist_Tab[[#Headers],[HöA T]],Medel_T[#Headers],0))))","v":0},{"$f":"IF(Hist_Tab[[#This Row],[Rad]:[Rad]]=0,0,IF($EY322>_xlfn.AGGREGATE(2,6,Medel_T[[Slut]:[Slut]]),0,INDEX(Medel_T[],Hist_Tab[[#This Row],[Ref]:[Ref]],MATCH(Hist_Tab[[#Headers],[AöA T]],Medel_T[#Headers],0))))","v":0},{"$f":"IF(Hist_Tab[[#This Row],[Rad]:[Rad]]=0,0,IF($EY322>_xlfn.AGGREGATE(2,6,Medel_T[[Slut]:[Slut]]),0,INDEX(Medel_T[],Hist_Tab[[#This Row],[Ref]:[Ref]],MATCH(Hist_Tab[[#Headers],[4AM T]],Medel_T[#Headers],0))))","v":0},{"$f":"IF(Hist_Tab[[#This Row],[Rad]:[Rad]]=0,0,IF($EY322>_xlfn.AGGREGATE(2,6,Medel_T[[Slut]:[Slut]]),0,INDEX(Medel_T[],Hist_Tab[[#This Row],[Ref]:[Ref]],MATCH(Hist_Tab[[#Headers],[15AM T]],Medel_T[#Headers],0))))","v":0},{"$f":"IF(Hist_Tab[[#This Row],[Rad]:[Rad]]=0,0,IF($EY322>_xlfn.AGGREGATE(2,6,Medel_T[[Slut]:[Slut]]),0,INDEX(Medel_T[],Hist_Tab[[#This Row],[Ref]:[Ref]],MATCH(Hist_Tab[[#Headers],[20-10D T]],Medel_T[#Headers],0))))","v":0}]
[null,null,null,null,null,null,null,null,null,null,null,null,null,null,null,null,null,null,null,null,null,null,null,null,null,null,null,null,null,null,null,null,null,null,null,null,null,null,null,null,null,null,null,null,null,null,null,null,null,null,null,null,null,null,null,null,null,null,null,null,null,null,null,null,null,null,null,null,null,null,null,null,null,null,null,null,null,null,null,null,null,null,null,null,null,null,null,null,null,null,null,null,null,null,null,null,null,null,null,null,null,null,null,null,null,null,null,null,null,null,null,null,null,null,null,null,null,null,null,null,null,null,null,null,null,null,null,null,null,null,null,null,null,null,null,null,null,null,null,null,null,null,null,null,null,null,null,null,null,null,null,null,{"$f":"ROWS($EW$20:EW322)","v":303},{"$f":"IFERROR(MATCH(Hist_Tab[[#This Row],[Ref]],Medel_T[NrX],0),1)","v":1},{"$f":"INT((ROW(Hist_Tab[[#This Row],[Ref]])-ROW(Hist_Tab[[#Headers],[Ref]])-1)/4)+1","v":76},{"$f":"COUNTIF($EY$19:EY322,Hist_Tab[[#This Row],[Ref]])","v":4},{"$f":"IFERROR(INDEX(Medel_T[Start],Hist_Tab[[#This Row],[Ref]]),_xlfn.AGGREGATE(4,6,Medel_T[Start]))","v":"00:00:00"},{"$f":"IFERROR(INDEX(Medel_T[Slut],Hist_Tab[[#This Row],[Ref]]),_xlfn.AGGREGATE(4,6,Medel_T[Slut]))","v":"00:00:00"},{"$f":"IF(EW321=0,Hist_Tab[[#This Row],[ÅrB]],IF(Hist_Tab[[#This Row],[per/p]]<2,Hist_Tab[[#This Row],[ÅrB]],Hist_Tab[[#This Row],[År S]]))","v":"00:00:00"},{"$f":"IF(Hist_Tab[[#This Row],[Rad]:[Rad]]=0,-1,IF($EY323>_xlfn.AGGREGATE(2,6,Medel_T[[Slut]:[Slut]]),0,INDEX(Medel_T[],Hist_Tab[[#This Row],[Ref]:[Ref]],MATCH(Hist_Tab[[#Headers],[HöA T]],Medel_T[#Headers],0))))","v":0},{"$f":"IF(Hist_Tab[[#This Row],[Rad]:[Rad]]=0,0,IF($EY323>_xlfn.AGGREGATE(2,6,Medel_T[[Slut]:[Slut]]),0,INDEX(Medel_T[],Hist_Tab[[#This Row],[Ref]:[Ref]],MATCH(Hist_Tab[[#Headers],[AöA T]],Medel_T[#Headers],0))))","v":0},{"$f":"IF(Hist_Tab[[#This Row],[Rad]:[Rad]]=0,0,IF($EY323>_xlfn.AGGREGATE(2,6,Medel_T[[Slut]:[Slut]]),0,INDEX(Medel_T[],Hist_Tab[[#This Row],[Ref]:[Ref]],MATCH(Hist_Tab[[#Headers],[4AM T]],Medel_T[#Headers],0))))","v":0},{"$f":"IF(Hist_Tab[[#This Row],[Rad]:[Rad]]=0,0,IF($EY323>_xlfn.AGGREGATE(2,6,Medel_T[[Slut]:[Slut]]),0,INDEX(Medel_T[],Hist_Tab[[#This Row],[Ref]:[Ref]],MATCH(Hist_Tab[[#Headers],[15AM T]],Medel_T[#Headers],0))))","v":0},{"$f":"IF(Hist_Tab[[#This Row],[Rad]:[Rad]]=0,0,IF($EY323>_xlfn.AGGREGATE(2,6,Medel_T[[Slut]:[Slut]]),0,INDEX(Medel_T[],Hist_Tab[[#This Row],[Ref]:[Ref]],MATCH(Hist_Tab[[#Headers],[20-10D T]],Medel_T[#Headers],0))))","v":0}]
[null,null,null,null,null,null,null,null,null,null,null,null,null,null,null,null,null,null,null,null,null,null,null,null,null,null,null,null,null,null,null,null,null,null,null,null,null,null,null,null,null,null,null,null,null,null,null,null,null,null,null,null,null,null,null,null,null,null,null,null,null,null,null,null,null,null,null,null,null,null,null,null,null,null,null,null,null,null,null,null,null,null,null,null,null,null,null,null,null,null,null,null,null,null,null,null,null,null,null,null,null,null,null,null,null,null,null,null,null,null,null,null,null,null,null,null,null,null,null,null,null,null,null,null,null,null,null,null,null,null,null,null,null,null,null,null,null,null,null,null,null,null,null,null,null,null,null,null,null,null,null,null,{"$f":"ROWS($EW$20:EW323)","v":304},{"$f":"IFERROR(MATCH(Hist_Tab[[#This Row],[Ref]],Medel_T[NrX],0),1)","v":1},{"$f":"INT((ROW(Hist_Tab[[#This Row],[Ref]])-ROW(Hist_Tab[[#Headers],[Ref]])-1)/4)+1","v":77},{"$f":"COUNTIF($EY$19:EY323,Hist_Tab[[#This Row],[Ref]])","v":1},{"$f":"IFERROR(INDEX(Medel_T[Start],Hist_Tab[[#This Row],[Ref]]),_xlfn.AGGREGATE(4,6,Medel_T[Start]))","v":"00:00:00"},{"$f":"IFERROR(INDEX(Medel_T[Slut],Hist_Tab[[#This Row],[Ref]]),_xlfn.AGGREGATE(4,6,Medel_T[Slut]))","v":"00:00:00"},{"$f":"IF(EW322=0,Hist_Tab[[#This Row],[ÅrB]],IF(Hist_Tab[[#This Row],[per/p]]<2,Hist_Tab[[#This Row],[ÅrB]],Hist_Tab[[#This Row],[År S]]))","v":"00:00:00"},{"$f":"IF(Hist_Tab[[#This Row],[Rad]:[Rad]]=0,-1,IF($EY324>_xlfn.AGGREGATE(2,6,Medel_T[[Slut]:[Slut]]),0,INDEX(Medel_T[],Hist_Tab[[#This Row],[Ref]:[Ref]],MATCH(Hist_Tab[[#Headers],[HöA T]],Medel_T[#Headers],0))))","v":0},{"$f":"IF(Hist_Tab[[#This Row],[Rad]:[Rad]]=0,0,IF($EY324>_xlfn.AGGREGATE(2,6,Medel_T[[Slut]:[Slut]]),0,INDEX(Medel_T[],Hist_Tab[[#This Row],[Ref]:[Ref]],MATCH(Hist_Tab[[#Headers],[AöA T]],Medel_T[#Headers],0))))","v":0},{"$f":"IF(Hist_Tab[[#This Row],[Rad]:[Rad]]=0,0,IF($EY324>_xlfn.AGGREGATE(2,6,Medel_T[[Slut]:[Slut]]),0,INDEX(Medel_T[],Hist_Tab[[#This Row],[Ref]:[Ref]],MATCH(Hist_Tab[[#Headers],[4AM T]],Medel_T[#Headers],0))))","v":0},{"$f":"IF(Hist_Tab[[#This Row],[Rad]:[Rad]]=0,0,IF($EY324>_xlfn.AGGREGATE(2,6,Medel_T[[Slut]:[Slut]]),0,INDEX(Medel_T[],Hist_Tab[[#This Row],[Ref]:[Ref]],MATCH(Hist_Tab[[#Headers],[15AM T]],Medel_T[#Headers],0))))","v":0},{"$f":"IF(Hist_Tab[[#This Row],[Rad]:[Rad]]=0,0,IF($EY324>_xlfn.AGGREGATE(2,6,Medel_T[[Slut]:[Slut]]),0,INDEX(Medel_T[],Hist_Tab[[#This Row],[Ref]:[Ref]],MATCH(Hist_Tab[[#Headers],[20-10D T]],Medel_T[#Headers],0))))","v":0}]
[null,null,null,null,null,null,null,null,null,null,null,null,null,null,null,null,null,null,null,null,null,null,null,null,null,null,null,null,null,null,null,null,null,null,null,null,null,null,null,null,null,null,null,null,null,null,null,null,null,null,null,null,null,null,null,null,null,null,null,null,null,null,null,null,null,null,null,null,null,null,null,null,null,null,null,null,null,null,null,null,null,null,null,null,null,null,null,null,null,null,null,null,null,null,null,null,null,null,null,null,null,null,null,null,null,null,null,null,null,null,null,null,null,null,null,null,null,null,null,null,null,null,null,null,null,null,null,null,null,null,null,null,null,null,null,null,null,null,null,null,null,null,null,null,null,null,null,null,null,null,null,null,{"$f":"ROWS($EW$20:EW324)","v":305},{"$f":"IFERROR(MATCH(Hist_Tab[[#This Row],[Ref]],Medel_T[NrX],0),1)","v":1},{"$f":"INT((ROW(Hist_Tab[[#This Row],[Ref]])-ROW(Hist_Tab[[#Headers],[Ref]])-1)/4)+1","v":77},{"$f":"COUNTIF($EY$19:EY324,Hist_Tab[[#This Row],[Ref]])","v":2},{"$f":"IFERROR(INDEX(Medel_T[Start],Hist_Tab[[#This Row],[Ref]]),_xlfn.AGGREGATE(4,6,Medel_T[Start]))","v":"00:00:00"},{"$f":"IFERROR(INDEX(Medel_T[Slut],Hist_Tab[[#This Row],[Ref]]),_xlfn.AGGREGATE(4,6,Medel_T[Slut]))","v":"00:00:00"},{"$f":"IF(EW323=0,Hist_Tab[[#This Row],[ÅrB]],IF(Hist_Tab[[#This Row],[per/p]]<2,Hist_Tab[[#This Row],[ÅrB]],Hist_Tab[[#This Row],[År S]]))","v":"00:00:00"},{"$f":"IF(Hist_Tab[[#This Row],[Rad]:[Rad]]=0,-1,IF($EY325>_xlfn.AGGREGATE(2,6,Medel_T[[Slut]:[Slut]]),0,INDEX(Medel_T[],Hist_Tab[[#This Row],[Ref]:[Ref]],MATCH(Hist_Tab[[#Headers],[HöA T]],Medel_T[#Headers],0))))","v":0},{"$f":"IF(Hist_Tab[[#This Row],[Rad]:[Rad]]=0,0,IF($EY325>_xlfn.AGGREGATE(2,6,Medel_T[[Slut]:[Slut]]),0,INDEX(Medel_T[],Hist_Tab[[#This Row],[Ref]:[Ref]],MATCH(Hist_Tab[[#Headers],[AöA T]],Medel_T[#Headers],0))))","v":0},{"$f":"IF(Hist_Tab[[#This Row],[Rad]:[Rad]]=0,0,IF($EY325>_xlfn.AGGREGATE(2,6,Medel_T[[Slut]:[Slut]]),0,INDEX(Medel_T[],Hist_Tab[[#This Row],[Ref]:[Ref]],MATCH(Hist_Tab[[#Headers],[4AM T]],Medel_T[#Headers],0))))","v":0},{"$f":"IF(Hist_Tab[[#This Row],[Rad]:[Rad]]=0,0,IF($EY325>_xlfn.AGGREGATE(2,6,Medel_T[[Slut]:[Slut]]),0,INDEX(Medel_T[],Hist_Tab[[#This Row],[Ref]:[Ref]],MATCH(Hist_Tab[[#Headers],[15AM T]],Medel_T[#Headers],0))))","v":0},{"$f":"IF(Hist_Tab[[#This Row],[Rad]:[Rad]]=0,0,IF($EY325>_xlfn.AGGREGATE(2,6,Medel_T[[Slut]:[Slut]]),0,INDEX(Medel_T[],Hist_Tab[[#This Row],[Ref]:[Ref]],MATCH(Hist_Tab[[#Headers],[20-10D T]],Medel_T[#Headers],0))))","v":0}]
[null,null,null,null,null,null,null,null,null,null,null,null,null,null,null,null,null,null,null,null,null,null,null,null,null,null,null,null,null,null,null,null,null,null,null,null,null,null,null,null,null,null,null,null,null,null,null,null,null,null,null,null,null,null,null,null,null,null,null,null,null,null,null,null,null,null,null,null,null,null,null,null,null,null,null,null,null,null,null,null,null,null,null,null,null,null,null,null,null,null,null,null,null,null,null,null,null,null,null,null,null,null,null,null,null,null,null,null,null,null,null,null,null,null,null,null,null,null,null,null,null,null,null,null,null,null,null,null,null,null,null,null,null,null,null,null,null,null,null,null,null,null,null,null,null,null,null,null,null,null,null,null,{"$f":"ROWS($EW$20:EW325)","v":306},{"$f":"IFERROR(MATCH(Hist_Tab[[#This Row],[Ref]],Medel_T[NrX],0),1)","v":1},{"$f":"INT((ROW(Hist_Tab[[#This Row],[Ref]])-ROW(Hist_Tab[[#Headers],[Ref]])-1)/4)+1","v":77},{"$f":"COUNTIF($EY$19:EY325,Hist_Tab[[#This Row],[Ref]])","v":3},{"$f":"IFERROR(INDEX(Medel_T[Start],Hist_Tab[[#This Row],[Ref]]),_xlfn.AGGREGATE(4,6,Medel_T[Start]))","v":"00:00:00"},{"$f":"IFERROR(INDEX(Medel_T[Slut],Hist_Tab[[#This Row],[Ref]]),_xlfn.AGGREGATE(4,6,Medel_T[Slut]))","v":"00:00:00"},{"$f":"IF(EW324=0,Hist_Tab[[#This Row],[ÅrB]],IF(Hist_Tab[[#This Row],[per/p]]<2,Hist_Tab[[#This Row],[ÅrB]],Hist_Tab[[#This Row],[År S]]))","v":"00:00:00"},{"$f":"IF(Hist_Tab[[#This Row],[Rad]:[Rad]]=0,-1,IF($EY326>_xlfn.AGGREGATE(2,6,Medel_T[[Slut]:[Slut]]),0,INDEX(Medel_T[],Hist_Tab[[#This Row],[Ref]:[Ref]],MATCH(Hist_Tab[[#Headers],[HöA T]],Medel_T[#Headers],0))))","v":0},{"$f":"IF(Hist_Tab[[#This Row],[Rad]:[Rad]]=0,0,IF($EY326>_xlfn.AGGREGATE(2,6,Medel_T[[Slut]:[Slut]]),0,INDEX(Medel_T[],Hist_Tab[[#This Row],[Ref]:[Ref]],MATCH(Hist_Tab[[#Headers],[AöA T]],Medel_T[#Headers],0))))","v":0},{"$f":"IF(Hist_Tab[[#This Row],[Rad]:[Rad]]=0,0,IF($EY326>_xlfn.AGGREGATE(2,6,Medel_T[[Slut]:[Slut]]),0,INDEX(Medel_T[],Hist_Tab[[#This Row],[Ref]:[Ref]],MATCH(Hist_Tab[[#Headers],[4AM T]],Medel_T[#Headers],0))))","v":0},{"$f":"IF(Hist_Tab[[#This Row],[Rad]:[Rad]]=0,0,IF($EY326>_xlfn.AGGREGATE(2,6,Medel_T[[Slut]:[Slut]]),0,INDEX(Medel_T[],Hist_Tab[[#This Row],[Ref]:[Ref]],MATCH(Hist_Tab[[#Headers],[15AM T]],Medel_T[#Headers],0))))","v":0},{"$f":"IF(Hist_Tab[[#This Row],[Rad]:[Rad]]=0,0,IF($EY326>_xlfn.AGGREGATE(2,6,Medel_T[[Slut]:[Slut]]),0,INDEX(Medel_T[],Hist_Tab[[#This Row],[Ref]:[Ref]],MATCH(Hist_Tab[[#Headers],[20-10D T]],Medel_T[#Headers],0))))","v":0}]
[null,null,null,null,null,null,null,null,null,null,null,null,null,null,null,null,null,null,null,null,null,null,null,null,null,null,null,null,null,null,null,null,null,null,null,null,null,null,null,null,null,null,null,null,null,null,null,null,null,null,null,null,null,null,null,null,null,null,null,null,null,null,null,null,null,null,null,null,null,null,null,null,null,null,null,null,null,null,null,null,null,null,null,null,null,null,null,null,null,null,null,null,null,null,null,null,null,null,null,null,null,null,null,null,null,null,null,null,null,null,null,null,null,null,null,null,null,null,null,null,null,null,null,null,null,null,null,null,null,null,null,null,null,null,null,null,null,null,null,null,null,null,null,null,null,null,null,null,null,null,null,null,{"$f":"ROWS($EW$20:EW326)","v":307},{"$f":"IFERROR(MATCH(Hist_Tab[[#This Row],[Ref]],Medel_T[NrX],0),1)","v":1},{"$f":"INT((ROW(Hist_Tab[[#This Row],[Ref]])-ROW(Hist_Tab[[#Headers],[Ref]])-1)/4)+1","v":77},{"$f":"COUNTIF($EY$19:EY326,Hist_Tab[[#This Row],[Ref]])","v":4},{"$f":"IFERROR(INDEX(Medel_T[Start],Hist_Tab[[#This Row],[Ref]]),_xlfn.AGGREGATE(4,6,Medel_T[Start]))","v":"00:00:00"},{"$f":"IFERROR(INDEX(Medel_T[Slut],Hist_Tab[[#This Row],[Ref]]),_xlfn.AGGREGATE(4,6,Medel_T[Slut]))","v":"00:00:00"},{"$f":"IF(EW325=0,Hist_Tab[[#This Row],[ÅrB]],IF(Hist_Tab[[#This Row],[per/p]]<2,Hist_Tab[[#This Row],[ÅrB]],Hist_Tab[[#This Row],[År S]]))","v":"00:00:00"},{"$f":"IF(Hist_Tab[[#This Row],[Rad]:[Rad]]=0,-1,IF($EY327>_xlfn.AGGREGATE(2,6,Medel_T[[Slut]:[Slut]]),0,INDEX(Medel_T[],Hist_Tab[[#This Row],[Ref]:[Ref]],MATCH(Hist_Tab[[#Headers],[HöA T]],Medel_T[#Headers],0))))","v":0},{"$f":"IF(Hist_Tab[[#This Row],[Rad]:[Rad]]=0,0,IF($EY327>_xlfn.AGGREGATE(2,6,Medel_T[[Slut]:[Slut]]),0,INDEX(Medel_T[],Hist_Tab[[#This Row],[Ref]:[Ref]],MATCH(Hist_Tab[[#Headers],[AöA T]],Medel_T[#Headers],0))))","v":0},{"$f":"IF(Hist_Tab[[#This Row],[Rad]:[Rad]]=0,0,IF($EY327>_xlfn.AGGREGATE(2,6,Medel_T[[Slut]:[Slut]]),0,INDEX(Medel_T[],Hist_Tab[[#This Row],[Ref]:[Ref]],MATCH(Hist_Tab[[#Headers],[4AM T]],Medel_T[#Headers],0))))","v":0},{"$f":"IF(Hist_Tab[[#This Row],[Rad]:[Rad]]=0,0,IF($EY327>_xlfn.AGGREGATE(2,6,Medel_T[[Slut]:[Slut]]),0,INDEX(Medel_T[],Hist_Tab[[#This Row],[Ref]:[Ref]],MATCH(Hist_Tab[[#Headers],[15AM T]],Medel_T[#Headers],0))))","v":0},{"$f":"IF(Hist_Tab[[#This Row],[Rad]:[Rad]]=0,0,IF($EY327>_xlfn.AGGREGATE(2,6,Medel_T[[Slut]:[Slut]]),0,INDEX(Medel_T[],Hist_Tab[[#This Row],[Ref]:[Ref]],MATCH(Hist_Tab[[#Headers],[20-10D T]],Medel_T[#Headers],0))))","v":0}]
[null,null,null,null,null,null,null,null,null,null,null,null,null,null,null,null,null,null,null,null,null,null,null,null,null,null,null,null,null,null,null,null,null,null,null,null,null,null,null,null,null,null,null,null,null,null,null,null,null,null,null,null,null,null,null,null,null,null,null,null,null,null,null,null,null,null,null,null,null,null,null,null,null,null,null,null,null,null,null,null,null,null,null,null,null,null,null,null,null,null,null,null,null,null,null,null,null,null,null,null,null,null,null,null,null,null,null,null,null,null,null,null,null,null,null,null,null,null,null,null,null,null,null,null,null,null,null,null,null,null,null,null,null,null,null,null,null,null,null,null,null,null,null,null,null,null,null,null,null,null,null,null,{"$f":"ROWS($EW$20:EW327)","v":308},{"$f":"IFERROR(MATCH(Hist_Tab[[#This Row],[Ref]],Medel_T[NrX],0),1)","v":1},{"$f":"INT((ROW(Hist_Tab[[#This Row],[Ref]])-ROW(Hist_Tab[[#Headers],[Ref]])-1)/4)+1","v":78},{"$f":"COUNTIF($EY$19:EY327,Hist_Tab[[#This Row],[Ref]])","v":1},{"$f":"IFERROR(INDEX(Medel_T[Start],Hist_Tab[[#This Row],[Ref]]),_xlfn.AGGREGATE(4,6,Medel_T[Start]))","v":"00:00:00"},{"$f":"IFERROR(INDEX(Medel_T[Slut],Hist_Tab[[#This Row],[Ref]]),_xlfn.AGGREGATE(4,6,Medel_T[Slut]))","v":"00:00:00"},{"$f":"IF(EW326=0,Hist_Tab[[#This Row],[ÅrB]],IF(Hist_Tab[[#This Row],[per/p]]<2,Hist_Tab[[#This Row],[ÅrB]],Hist_Tab[[#This Row],[År S]]))","v":"00:00:00"},{"$f":"IF(Hist_Tab[[#This Row],[Rad]:[Rad]]=0,-1,IF($EY328>_xlfn.AGGREGATE(2,6,Medel_T[[Slut]:[Slut]]),0,INDEX(Medel_T[],Hist_Tab[[#This Row],[Ref]:[Ref]],MATCH(Hist_Tab[[#Headers],[HöA T]],Medel_T[#Headers],0))))","v":0},{"$f":"IF(Hist_Tab[[#This Row],[Rad]:[Rad]]=0,0,IF($EY328>_xlfn.AGGREGATE(2,6,Medel_T[[Slut]:[Slut]]),0,INDEX(Medel_T[],Hist_Tab[[#This Row],[Ref]:[Ref]],MATCH(Hist_Tab[[#Headers],[AöA T]],Medel_T[#Headers],0))))","v":0},{"$f":"IF(Hist_Tab[[#This Row],[Rad]:[Rad]]=0,0,IF($EY328>_xlfn.AGGREGATE(2,6,Medel_T[[Slut]:[Slut]]),0,INDEX(Medel_T[],Hist_Tab[[#This Row],[Ref]:[Ref]],MATCH(Hist_Tab[[#Headers],[4AM T]],Medel_T[#Headers],0))))","v":0},{"$f":"IF(Hist_Tab[[#This Row],[Rad]:[Rad]]=0,0,IF($EY328>_xlfn.AGGREGATE(2,6,Medel_T[[Slut]:[Slut]]),0,INDEX(Medel_T[],Hist_Tab[[#This Row],[Ref]:[Ref]],MATCH(Hist_Tab[[#Headers],[15AM T]],Medel_T[#Headers],0))))","v":0},{"$f":"IF(Hist_Tab[[#This Row],[Rad]:[Rad]]=0,0,IF($EY328>_xlfn.AGGREGATE(2,6,Medel_T[[Slut]:[Slut]]),0,INDEX(Medel_T[],Hist_Tab[[#This Row],[Ref]:[Ref]],MATCH(Hist_Tab[[#Headers],[20-10D T]],Medel_T[#Headers],0))))","v":0}]
[null,null,null,null,null,null,null,null,null,null,null,null,null,null,null,null,null,null,null,null,null,null,null,null,null,null,null,null,null,null,null,null,null,null,null,null,null,null,null,null,null,null,null,null,null,null,null,null,null,null,null,null,null,null,null,null,null,null,null,null,null,null,null,null,null,null,null,null,null,null,null,null,null,null,null,null,null,null,null,null,null,null,null,null,null,null,null,null,null,null,null,null,null,null,null,null,null,null,null,null,null,null,null,null,null,null,null,null,null,null,null,null,null,null,null,null,null,null,null,null,null,null,null,null,null,null,null,null,null,null,null,null,null,null,null,null,null,null,null,null,null,null,null,null,null,null,null,null,null,null,null,null,{"$f":"ROWS($EW$20:EW328)","v":309},{"$f":"IFERROR(MATCH(Hist_Tab[[#This Row],[Ref]],Medel_T[NrX],0),1)","v":1},{"$f":"INT((ROW(Hist_Tab[[#This Row],[Ref]])-ROW(Hist_Tab[[#Headers],[Ref]])-1)/4)+1","v":78},{"$f":"COUNTIF($EY$19:EY328,Hist_Tab[[#This Row],[Ref]])","v":2},{"$f":"IFERROR(INDEX(Medel_T[Start],Hist_Tab[[#This Row],[Ref]]),_xlfn.AGGREGATE(4,6,Medel_T[Start]))","v":"00:00:00"},{"$f":"IFERROR(INDEX(Medel_T[Slut],Hist_Tab[[#This Row],[Ref]]),_xlfn.AGGREGATE(4,6,Medel_T[Slut]))","v":"00:00:00"},{"$f":"IF(EW327=0,Hist_Tab[[#This Row],[ÅrB]],IF(Hist_Tab[[#This Row],[per/p]]<2,Hist_Tab[[#This Row],[ÅrB]],Hist_Tab[[#This Row],[År S]]))","v":"00:00:00"},{"$f":"IF(Hist_Tab[[#This Row],[Rad]:[Rad]]=0,-1,IF($EY329>_xlfn.AGGREGATE(2,6,Medel_T[[Slut]:[Slut]]),0,INDEX(Medel_T[],Hist_Tab[[#This Row],[Ref]:[Ref]],MATCH(Hist_Tab[[#Headers],[HöA T]],Medel_T[#Headers],0))))","v":0},{"$f":"IF(Hist_Tab[[#This Row],[Rad]:[Rad]]=0,0,IF($EY329>_xlfn.AGGREGATE(2,6,Medel_T[[Slut]:[Slut]]),0,INDEX(Medel_T[],Hist_Tab[[#This Row],[Ref]:[Ref]],MATCH(Hist_Tab[[#Headers],[AöA T]],Medel_T[#Headers],0))))","v":0},{"$f":"IF(Hist_Tab[[#This Row],[Rad]:[Rad]]=0,0,IF($EY329>_xlfn.AGGREGATE(2,6,Medel_T[[Slut]:[Slut]]),0,INDEX(Medel_T[],Hist_Tab[[#This Row],[Ref]:[Ref]],MATCH(Hist_Tab[[#Headers],[4AM T]],Medel_T[#Headers],0))))","v":0},{"$f":"IF(Hist_Tab[[#This Row],[Rad]:[Rad]]=0,0,IF($EY329>_xlfn.AGGREGATE(2,6,Medel_T[[Slut]:[Slut]]),0,INDEX(Medel_T[],Hist_Tab[[#This Row],[Ref]:[Ref]],MATCH(Hist_Tab[[#Headers],[15AM T]],Medel_T[#Headers],0))))","v":0},{"$f":"IF(Hist_Tab[[#This Row],[Rad]:[Rad]]=0,0,IF($EY329>_xlfn.AGGREGATE(2,6,Medel_T[[Slut]:[Slut]]),0,INDEX(Medel_T[],Hist_Tab[[#This Row],[Ref]:[Ref]],MATCH(Hist_Tab[[#Headers],[20-10D T]],Medel_T[#Headers],0))))","v":0}]
[null,null,null,null,null,null,null,null,null,null,null,null,null,null,null,null,null,null,null,null,null,null,null,null,null,null,null,null,null,null,null,null,null,null,null,null,null,null,null,null,null,null,null,null,null,null,null,null,null,null,null,null,null,null,null,null,null,null,null,null,null,null,null,null,null,null,null,null,null,null,null,null,null,null,null,null,null,null,null,null,null,null,null,null,null,null,null,null,null,null,null,null,null,null,null,null,null,null,null,null,null,null,null,null,null,null,null,null,null,null,null,null,null,null,null,null,null,null,null,null,null,null,null,null,null,null,null,null,null,null,null,null,null,null,null,null,null,null,null,null,null,null,null,null,null,null,null,null,null,null,null,null,{"$f":"ROWS($EW$20:EW329)","v":310},{"$f":"IFERROR(MATCH(Hist_Tab[[#This Row],[Ref]],Medel_T[NrX],0),1)","v":1},{"$f":"INT((ROW(Hist_Tab[[#This Row],[Ref]])-ROW(Hist_Tab[[#Headers],[Ref]])-1)/4)+1","v":78},{"$f":"COUNTIF($EY$19:EY329,Hist_Tab[[#This Row],[Ref]])","v":3},{"$f":"IFERROR(INDEX(Medel_T[Start],Hist_Tab[[#This Row],[Ref]]),_xlfn.AGGREGATE(4,6,Medel_T[Start]))","v":"00:00:00"},{"$f":"IFERROR(INDEX(Medel_T[Slut],Hist_Tab[[#This Row],[Ref]]),_xlfn.AGGREGATE(4,6,Medel_T[Slut]))","v":"00:00:00"},{"$f":"IF(EW328=0,Hist_Tab[[#This Row],[ÅrB]],IF(Hist_Tab[[#This Row],[per/p]]<2,Hist_Tab[[#This Row],[ÅrB]],Hist_Tab[[#This Row],[År S]]))","v":"00:00:00"},{"$f":"IF(Hist_Tab[[#This Row],[Rad]:[Rad]]=0,-1,IF($EY330>_xlfn.AGGREGATE(2,6,Medel_T[[Slut]:[Slut]]),0,INDEX(Medel_T[],Hist_Tab[[#This Row],[Ref]:[Ref]],MATCH(Hist_Tab[[#Headers],[HöA T]],Medel_T[#Headers],0))))","v":0},{"$f":"IF(Hist_Tab[[#This Row],[Rad]:[Rad]]=0,0,IF($EY330>_xlfn.AGGREGATE(2,6,Medel_T[[Slut]:[Slut]]),0,INDEX(Medel_T[],Hist_Tab[[#This Row],[Ref]:[Ref]],MATCH(Hist_Tab[[#Headers],[AöA T]],Medel_T[#Headers],0))))","v":0},{"$f":"IF(Hist_Tab[[#This Row],[Rad]:[Rad]]=0,0,IF($EY330>_xlfn.AGGREGATE(2,6,Medel_T[[Slut]:[Slut]]),0,INDEX(Medel_T[],Hist_Tab[[#This Row],[Ref]:[Ref]],MATCH(Hist_Tab[[#Headers],[4AM T]],Medel_T[#Headers],0))))","v":0},{"$f":"IF(Hist_Tab[[#This Row],[Rad]:[Rad]]=0,0,IF($EY330>_xlfn.AGGREGATE(2,6,Medel_T[[Slut]:[Slut]]),0,INDEX(Medel_T[],Hist_Tab[[#This Row],[Ref]:[Ref]],MATCH(Hist_Tab[[#Headers],[15AM T]],Medel_T[#Headers],0))))","v":0},{"$f":"IF(Hist_Tab[[#This Row],[Rad]:[Rad]]=0,0,IF($EY330>_xlfn.AGGREGATE(2,6,Medel_T[[Slut]:[Slut]]),0,INDEX(Medel_T[],Hist_Tab[[#This Row],[Ref]:[Ref]],MATCH(Hist_Tab[[#Headers],[20-10D T]],Medel_T[#Headers],0))))","v":0}]
[null,null,null,null,null,null,null,null,null,null,null,null,null,null,null,null,null,null,null,null,null,null,null,null,null,null,null,null,null,null,null,null,null,null,null,null,null,null,null,null,null,null,null,null,null,null,null,null,null,null,null,null,null,null,null,null,null,null,null,null,null,null,null,null,null,null,null,null,null,null,null,null,null,null,null,null,null,null,null,null,null,null,null,null,null,null,null,null,null,null,null,null,null,null,null,null,null,null,null,null,null,null,null,null,null,null,null,null,null,null,null,null,null,null,null,null,null,null,null,null,null,null,null,null,null,null,null,null,null,null,null,null,null,null,null,null,null,null,null,null,null,null,null,null,null,null,null,null,null,null,null,null,{"$f":"ROWS($EW$20:EW330)","v":311},{"$f":"IFERROR(MATCH(Hist_Tab[[#This Row],[Ref]],Medel_T[NrX],0),1)","v":1},{"$f":"INT((ROW(Hist_Tab[[#This Row],[Ref]])-ROW(Hist_Tab[[#Headers],[Ref]])-1)/4)+1","v":78},{"$f":"COUNTIF($EY$19:EY330,Hist_Tab[[#This Row],[Ref]])","v":4},{"$f":"IFERROR(INDEX(Medel_T[Start],Hist_Tab[[#This Row],[Ref]]),_xlfn.AGGREGATE(4,6,Medel_T[Start]))","v":"00:00:00"},{"$f":"IFERROR(INDEX(Medel_T[Slut],Hist_Tab[[#This Row],[Ref]]),_xlfn.AGGREGATE(4,6,Medel_T[Slut]))","v":"00:00:00"},{"$f":"IF(EW329=0,Hist_Tab[[#This Row],[ÅrB]],IF(Hist_Tab[[#This Row],[per/p]]<2,Hist_Tab[[#This Row],[ÅrB]],Hist_Tab[[#This Row],[År S]]))","v":"00:00:00"},{"$f":"IF(Hist_Tab[[#This Row],[Rad]:[Rad]]=0,-1,IF($EY331>_xlfn.AGGREGATE(2,6,Medel_T[[Slut]:[Slut]]),0,INDEX(Medel_T[],Hist_Tab[[#This Row],[Ref]:[Ref]],MATCH(Hist_Tab[[#Headers],[HöA T]],Medel_T[#Headers],0))))","v":0},{"$f":"IF(Hist_Tab[[#This Row],[Rad]:[Rad]]=0,0,IF($EY331>_xlfn.AGGREGATE(2,6,Medel_T[[Slut]:[Slut]]),0,INDEX(Medel_T[],Hist_Tab[[#This Row],[Ref]:[Ref]],MATCH(Hist_Tab[[#Headers],[AöA T]],Medel_T[#Headers],0))))","v":0},{"$f":"IF(Hist_Tab[[#This Row],[Rad]:[Rad]]=0,0,IF($EY331>_xlfn.AGGREGATE(2,6,Medel_T[[Slut]:[Slut]]),0,INDEX(Medel_T[],Hist_Tab[[#This Row],[Ref]:[Ref]],MATCH(Hist_Tab[[#Headers],[4AM T]],Medel_T[#Headers],0))))","v":0},{"$f":"IF(Hist_Tab[[#This Row],[Rad]:[Rad]]=0,0,IF($EY331>_xlfn.AGGREGATE(2,6,Medel_T[[Slut]:[Slut]]),0,INDEX(Medel_T[],Hist_Tab[[#This Row],[Ref]:[Ref]],MATCH(Hist_Tab[[#Headers],[15AM T]],Medel_T[#Headers],0))))","v":0},{"$f":"IF(Hist_Tab[[#This Row],[Rad]:[Rad]]=0,0,IF($EY331>_xlfn.AGGREGATE(2,6,Medel_T[[Slut]:[Slut]]),0,INDEX(Medel_T[],Hist_Tab[[#This Row],[Ref]:[Ref]],MATCH(Hist_Tab[[#Headers],[20-10D T]],Medel_T[#Headers],0))))","v":0}]
[null,null,null,null,null,null,null,null,null,null,null,null,null,null,null,null,null,null,null,null,null,null,null,null,null,null,null,null,null,null,null,null,null,null,null,null,null,null,null,null,null,null,null,null,null,null,null,null,null,null,null,null,null,null,null,null,null,null,null,null,null,null,null,null,null,null,null,null,null,null,null,null,null,null,null,null,null,null,null,null,null,null,null,null,null,null,null,null,null,null,null,null,null,null,null,null,null,null,null,null,null,null,null,null,null,null,null,null,null,null,null,null,null,null,null,null,null,null,null,null,null,null,null,null,null,null,null,null,null,null,null,null,null,null,null,null,null,null,null,null,null,null,null,null,null,null,null,null,null,null,null,null,{"$f":"ROWS($EW$20:EW331)","v":312},{"$f":"IFERROR(MATCH(Hist_Tab[[#This Row],[Ref]],Medel_T[NrX],0),1)","v":1},{"$f":"INT((ROW(Hist_Tab[[#This Row],[Ref]])-ROW(Hist_Tab[[#Headers],[Ref]])-1)/4)+1","v":79},{"$f":"COUNTIF($EY$19:EY331,Hist_Tab[[#This Row],[Ref]])","v":1},{"$f":"IFERROR(INDEX(Medel_T[Start],Hist_Tab[[#This Row],[Ref]]),_xlfn.AGGREGATE(4,6,Medel_T[Start]))","v":"00:00:00"},{"$f":"IFERROR(INDEX(Medel_T[Slut],Hist_Tab[[#This Row],[Ref]]),_xlfn.AGGREGATE(4,6,Medel_T[Slut]))","v":"00:00:00"},{"$f":"IF(EW330=0,Hist_Tab[[#This Row],[ÅrB]],IF(Hist_Tab[[#This Row],[per/p]]<2,Hist_Tab[[#This Row],[ÅrB]],Hist_Tab[[#This Row],[År S]]))","v":"00:00:00"},{"$f":"IF(Hist_Tab[[#This Row],[Rad]:[Rad]]=0,-1,IF($EY332>_xlfn.AGGREGATE(2,6,Medel_T[[Slut]:[Slut]]),0,INDEX(Medel_T[],Hist_Tab[[#This Row],[Ref]:[Ref]],MATCH(Hist_Tab[[#Headers],[HöA T]],Medel_T[#Headers],0))))","v":0},{"$f":"IF(Hist_Tab[[#This Row],[Rad]:[Rad]]=0,0,IF($EY332>_xlfn.AGGREGATE(2,6,Medel_T[[Slut]:[Slut]]),0,INDEX(Medel_T[],Hist_Tab[[#This Row],[Ref]:[Ref]],MATCH(Hist_Tab[[#Headers],[AöA T]],Medel_T[#Headers],0))))","v":0},{"$f":"IF(Hist_Tab[[#This Row],[Rad]:[Rad]]=0,0,IF($EY332>_xlfn.AGGREGATE(2,6,Medel_T[[Slut]:[Slut]]),0,INDEX(Medel_T[],Hist_Tab[[#This Row],[Ref]:[Ref]],MATCH(Hist_Tab[[#Headers],[4AM T]],Medel_T[#Headers],0))))","v":0},{"$f":"IF(Hist_Tab[[#This Row],[Rad]:[Rad]]=0,0,IF($EY332>_xlfn.AGGREGATE(2,6,Medel_T[[Slut]:[Slut]]),0,INDEX(Medel_T[],Hist_Tab[[#This Row],[Ref]:[Ref]],MATCH(Hist_Tab[[#Headers],[15AM T]],Medel_T[#Headers],0))))","v":0},{"$f":"IF(Hist_Tab[[#This Row],[Rad]:[Rad]]=0,0,IF($EY332>_xlfn.AGGREGATE(2,6,Medel_T[[Slut]:[Slut]]),0,INDEX(Medel_T[],Hist_Tab[[#This Row],[Ref]:[Ref]],MATCH(Hist_Tab[[#Headers],[20-10D T]],Medel_T[#Headers],0))))","v":0}]
[null,null,null,null,null,null,null,null,null,null,null,null,null,null,null,null,null,null,null,null,null,null,null,null,null,null,null,null,null,null,null,null,null,null,null,null,null,null,null,null,null,null,null,null,null,null,null,null,null,null,null,null,null,null,null,null,null,null,null,null,null,null,null,null,null,null,null,null,null,null,null,null,null,null,null,null,null,null,null,null,null,null,null,null,null,null,null,null,null,null,null,null,null,null,null,null,null,null,null,null,null,null,null,null,null,null,null,null,null,null,null,null,null,null,null,null,null,null,null,null,null,null,null,null,null,null,null,null,null,null,null,null,null,null,null,null,null,null,null,null,null,null,null,null,null,null,null,null,null,null,null,null,{"$f":"ROWS($EW$20:EW332)","v":313},{"$f":"IFERROR(MATCH(Hist_Tab[[#This Row],[Ref]],Medel_T[NrX],0),1)","v":1},{"$f":"INT((ROW(Hist_Tab[[#This Row],[Ref]])-ROW(Hist_Tab[[#Headers],[Ref]])-1)/4)+1","v":79},{"$f":"COUNTIF($EY$19:EY332,Hist_Tab[[#This Row],[Ref]])","v":2},{"$f":"IFERROR(INDEX(Medel_T[Start],Hist_Tab[[#This Row],[Ref]]),_xlfn.AGGREGATE(4,6,Medel_T[Start]))","v":"00:00:00"},{"$f":"IFERROR(INDEX(Medel_T[Slut],Hist_Tab[[#This Row],[Ref]]),_xlfn.AGGREGATE(4,6,Medel_T[Slut]))","v":"00:00:00"},{"$f":"IF(EW331=0,Hist_Tab[[#This Row],[ÅrB]],IF(Hist_Tab[[#This Row],[per/p]]<2,Hist_Tab[[#This Row],[ÅrB]],Hist_Tab[[#This Row],[År S]]))","v":"00:00:00"},{"$f":"IF(Hist_Tab[[#This Row],[Rad]:[Rad]]=0,-1,IF($EY333>_xlfn.AGGREGATE(2,6,Medel_T[[Slut]:[Slut]]),0,INDEX(Medel_T[],Hist_Tab[[#This Row],[Ref]:[Ref]],MATCH(Hist_Tab[[#Headers],[HöA T]],Medel_T[#Headers],0))))","v":0},{"$f":"IF(Hist_Tab[[#This Row],[Rad]:[Rad]]=0,0,IF($EY333>_xlfn.AGGREGATE(2,6,Medel_T[[Slut]:[Slut]]),0,INDEX(Medel_T[],Hist_Tab[[#This Row],[Ref]:[Ref]],MATCH(Hist_Tab[[#Headers],[AöA T]],Medel_T[#Headers],0))))","v":0},{"$f":"IF(Hist_Tab[[#This Row],[Rad]:[Rad]]=0,0,IF($EY333>_xlfn.AGGREGATE(2,6,Medel_T[[Slut]:[Slut]]),0,INDEX(Medel_T[],Hist_Tab[[#This Row],[Ref]:[Ref]],MATCH(Hist_Tab[[#Headers],[4AM T]],Medel_T[#Headers],0))))","v":0},{"$f":"IF(Hist_Tab[[#This Row],[Rad]:[Rad]]=0,0,IF($EY333>_xlfn.AGGREGATE(2,6,Medel_T[[Slut]:[Slut]]),0,INDEX(Medel_T[],Hist_Tab[[#This Row],[Ref]:[Ref]],MATCH(Hist_Tab[[#Headers],[15AM T]],Medel_T[#Headers],0))))","v":0},{"$f":"IF(Hist_Tab[[#This Row],[Rad]:[Rad]]=0,0,IF($EY333>_xlfn.AGGREGATE(2,6,Medel_T[[Slut]:[Slut]]),0,INDEX(Medel_T[],Hist_Tab[[#This Row],[Ref]:[Ref]],MATCH(Hist_Tab[[#Headers],[20-10D T]],Medel_T[#Headers],0))))","v":0}]
[null,null,null,null,null,null,null,null,null,null,null,null,null,null,null,null,null,null,null,null,null,null,null,null,null,null,null,null,null,null,null,null,null,null,null,null,null,null,null,null,null,null,null,null,null,null,null,null,null,null,null,null,null,null,null,null,null,null,null,null,null,null,null,null,null,null,null,null,null,null,null,null,null,null,null,null,null,null,null,null,null,null,null,null,null,null,null,null,null,null,null,null,null,null,null,null,null,null,null,null,null,null,null,null,null,null,null,null,null,null,null,null,null,null,null,null,null,null,null,null,null,null,null,null,null,null,null,null,null,null,null,null,null,null,null,null,null,null,null,null,null,null,null,null,null,null,null,null,null,null,null,null,{"$f":"ROWS($EW$20:EW333)","v":314},{"$f":"IFERROR(MATCH(Hist_Tab[[#This Row],[Ref]],Medel_T[NrX],0),1)","v":1},{"$f":"INT((ROW(Hist_Tab[[#This Row],[Ref]])-ROW(Hist_Tab[[#Headers],[Ref]])-1)/4)+1","v":79},{"$f":"COUNTIF($EY$19:EY333,Hist_Tab[[#This Row],[Ref]])","v":3},{"$f":"IFERROR(INDEX(Medel_T[Start],Hist_Tab[[#This Row],[Ref]]),_xlfn.AGGREGATE(4,6,Medel_T[Start]))","v":"00:00:00"},{"$f":"IFERROR(INDEX(Medel_T[Slut],Hist_Tab[[#This Row],[Ref]]),_xlfn.AGGREGATE(4,6,Medel_T[Slut]))","v":"00:00:00"},{"$f":"IF(EW332=0,Hist_Tab[[#This Row],[ÅrB]],IF(Hist_Tab[[#This Row],[per/p]]<2,Hist_Tab[[#This Row],[ÅrB]],Hist_Tab[[#This Row],[År S]]))","v":"00:00:00"},{"$f":"IF(Hist_Tab[[#This Row],[Rad]:[Rad]]=0,-1,IF($EY334>_xlfn.AGGREGATE(2,6,Medel_T[[Slut]:[Slut]]),0,INDEX(Medel_T[],Hist_Tab[[#This Row],[Ref]:[Ref]],MATCH(Hist_Tab[[#Headers],[HöA T]],Medel_T[#Headers],0))))","v":{"$error":"#REF!"}},{"$f":"IF(Hist_Tab[[#This Row],[Rad]:[Rad]]=0,0,IF($EY334>_xlfn.AGGREGATE(2,6,Medel_T[[Slut]:[Slut]]),0,INDEX(Medel_T[],Hist_Tab[[#This Row],[Ref]:[Ref]],MATCH(Hist_Tab[[#Headers],[AöA T]],Medel_T[#Headers],0))))","v":{"$error":"#REF!"}},{"$f":"IF(Hist_Tab[[#This Row],[Rad]:[Rad]]=0,0,IF($EY334>_xlfn.AGGREGATE(2,6,Medel_T[[Slut]:[Slut]]),0,INDEX(Medel_T[],Hist_Tab[[#This Row],[Ref]:[Ref]],MATCH(Hist_Tab[[#Headers],[4AM T]],Medel_T[#Headers],0))))","v":{"$error":"#REF!"}},{"$f":"IF(Hist_Tab[[#This Row],[Rad]:[Rad]]=0,0,IF($EY334>_xlfn.AGGREGATE(2,6,Medel_T[[Slut]:[Slut]]),0,INDEX(Medel_T[],Hist_Tab[[#This Row],[Ref]:[Ref]],MATCH(Hist_Tab[[#Headers],[15AM T]],Medel_T[#Headers],0))))","v":{"$error":"#REF!"}},{"$f":"IF(Hist_Tab[[#This Row],[Rad]:[Rad]]=0,0,IF($EY334>_xlfn.AGGREGATE(2,6,Medel_T[[Slut]:[Slut]]),0,INDEX(Medel_T[],Hist_Tab[[#This Row],[Ref]:[Ref]],MATCH(Hist_Tab[[#Headers],[20-10D T]],Medel_T[#Headers],0))))","v":{"$error":"#REF!"}}]

{"sheet":"Text","index":1,"n_rows":23,"n_cols":19,"rows_kept":23,"cut":false,"hidden":false,"merged":[]}
["Textprint",null,null,"Inledning",null,"Sammanfattning",null,"Överarmsrörelser> 15/min: ","Överarmslyft> 90°: ","Anställning","Ergonomisk belastning till sjukdomsdebut: ",null,"↓",null,null,null,"Delimiters",null,"Ofta?"]
[{"$f":"Inled_T[Inledning]&Medel_T[[#Totals],[Text print]]&Samm_T[Sammanfattning]","v":"Bilaga 2\nPatienten arbetar som  mellan 1900 - 1900. \n\n\n\nSammanfattning\nSammanlagd ergonomisk belastning i yrkeslivet: 1900 jan – 1900 jan\nÖverarmslyft> 90°: \nÖverarmsrörelser> 15/min: "},null,null,{"$f":"\"Bilaga 2\"&↓[↓]&\"Patienten \"&IF(Besök[Besöksdatum]<=Hin_T[[#Totals],[S-år]],\"arbetar som \",\"arbetade som \")&IFERROR(SUBSTITUTE(Hin_T[[#Totals],[Yrke]],\",\",\" och\",LEN(Hin_T[[#Totals],[Yrke]])-LEN(SUBSTITUTE(Hin_T[[#Totals],[Yrke]],\",\",\"\"))),Hin_T[[#Totals],[Yrke]])&\" mellan \"&YEAR(Hin_T[[#Totals],[B-år]])&\" - \"&YEAR(Hin_T[[#Totals],[S-år]])&\". \"&IF(ISNUMBER(Besvär_T[Sjukdomsdebut]),\"Sjukdomen debuterade \"&YEAR(Besvär_T[[#Totals],[Sjukdomsdebut]])&\".\",\"\")&↓[↓]&↓[↓]","v":"Bilaga 2\nPatienten arbetar som  mellan 1900 - 1900. \n\n"},null,{"$f":"↓[[#This Row],[↓]]&↓[[#This Row],[↓]]&Samm_T[[#Headers],[Sammanfattning]]&↓[[#This Row],[↓]]&IF(ISBLANK(Besvär_T[Sjukdomsdebut]),\"\",Exp_T[[#Headers],[Ergonomisk belastning till sjukdomsdebut: ]]&TEXT(Hin_T[[#Totals],[B-år]],\"ÅÅÅÅ MMM\")&List_T[[#Totals],[List symb]]&TEXT(Besvär_T[[#Totals],[Sjukdomsdebut]],\"ÅÅÅÅ MMM\")&↓[[#This Row],[↓]]&Exp_T[[#Headers],[Överarmslyft> 90°: ]]&Medel_T[[#Totals],[D AöA¤]]&↓[[#This Row],[↓]]&Exp_T[[#Headers],[Överarmsrörelser> 15/min: ]]&Medel_T[[#Totals],[D 15AM¤]]&↓[[#This Row],[↓]])&Exp_T[[#This Row],[Ergonomisk belastning till sjukdomsdebut: ]]&TEXT(Hin_T[[#Totals],[B-år]],\"ÅÅÅÅ MMM\")&List_T[[#Totals],[List symb]]&TEXT(Hin_T[[#Totals],[S-år]],\"ÅÅÅÅ MMM\")&↓[[#This Row],[↓]]&Exp_T[[#Headers],[Överarmslyft> 90°: ]]&Medel_T[[#Totals],[D AöA§]]&↓[[#This Row],[↓]]&Exp_T[[#Headers],[Överarmsrörelser> 15/min: ]]&Medel_T[[#Totals],[D 15AM§]]","v":"\n\nSammanfattning\nSammanlagd ergonomisk belastning i yrkeslivet: 1900 jan – 1900 jan\nÖverarmslyft> 90°: \nÖverarmsrörelser> 15/min: "},null,", snabba överarmsrörelser: minst 15 per minut: ",", överarmslyft över 90°: ","Ergonomisk belastning: ","Sammanlagd ergonomisk belastning i yrkeslivet: ",null,{"$f":"CHAR(IF(↓[[#Totals],[↓]]=\"PC\",10,13))","v":"\n"},null,null,null,{"$f":"↓[↓]&ROMAN(ROW()-ROW(Delim[[#Headers],[Delimiters]])+1)&\") \"","v":"\nII) "},null,"dagligen "]
[{"$f":"ErgBed_T[[#Headers],[Belastningsergonomisk exponeringsbedömning]]&↓[↓]&ErgBed_T[Belastningsergonomisk exponeringsbedömning]&ErgBed_T[[#Totals],[Belastningsergonomisk exponeringsbedömning]]","v":"Belastningsergonomisk exponeringsbedömning\nExponeringen var av sådan omfattning att ökad risk för SIS föreligger (Tabell 2 och ref 2,3,4). \n"},null,null,null,null,null,null,"repetitiva överarmsrörelser","överarmslyft över 90°","överarmsarmrörelser","överarmslyft >90°",null,{"$f":"IF(IFERROR(FIND(\"/\",CELL(\"Filename\")),0)>0,\"MAC\",\"PC\")","v":"PC"},null,null,null,{"$f":"↓[↓]&ROMAN(ROW()-ROW(Delim[[#Headers],[Delimiters]])+1)&\") \"","v":"\nIII) "},null,"några dagar i veckan "]
[null,null,null,"Belastningsergonomisk exponeringsbedömning","TomDebut","Övrig","Den kumulativa exponeringen fram till sjukdomsdebuten var ",null," h/dag","AöA","15AM",null," respektive ","för överarmslyft >90° ","för överarmsarmrörelser ",null,{"$f":"↓[↓]&ROMAN(ROW()-ROW(Delim[[#Headers],[Delimiters]])+1)&\") \"","v":"\nIV) "},null,"någon gång i veckan "]
[null,null,null,{"$f":"ErgBed_T[TomDebut]&ErgBed_T[[#This Row],[Övrig]]&ErgBed_T[[#This Row],[Den kumulativa exponeringen fram till sjukdomsdebuten var ]]&ErgBed_T[[#Totals],[Den kumulativa exponeringen fram till sjukdomsdebuten var ]]","v":""},{"$f":"IF(LEN(ErgBed_T[[#This Row],[Den kumulativa exponeringen fram till sjukdomsdebuten var ]])>0,\"Den fysiska exponeringen \"&IF(ISBLANK(Namn_T[Patient ID]),\"för patienten\",\"för \"&Namn_T[Patient ID])&\" till sjukdomsdebuten (\"&YEAR(Besvär_T[[#Totals],[Sjukdomsdebut]])&\") innefattade arbete med \",\"\")","v":""},{"$f":"IF(LEN(ErgBed_T[[#This Row],[Den kumulativa exponeringen fram till sjukdomsdebuten var ]])>0,IF(h_d[[#Totals],[AöA]]>0,Exp_T[[#Totals],[Överarmslyft> 90°: ]]&\" cirka \"&IF(h_d[AöA]-h_d[[#Totals],[AöA]]<0.15,h_d[AöA],h_d[[#Totals],[AöA]]&List_T[[#Totals],[List symb]]&h_d[[#This Row],[AöA]])&h_d[[#Headers],[ h/dag]],\"\")&IF(COUNTIF(h_d[[#Totals],[AöA]:[15AM]],\">0\"),\" och \",\"\")&IF(h_d[[#Totals],[15AM]]>0,Exp_T[[#Totals],[Överarmsrörelser> 15/min: ]]&\" cirka \"&IF(h_d[15AM]-h_d[[#Totals],[15AM]]<0.15,h_d[15AM],h_d[[#Totals],[15AM]]&List_T[[#Totals],[List symb]]&h_d[[#This Row],[15AM]])&h_d[[#Headers],[ h/dag]],\"\")&\" under arbetslivet.\"&↓[↓],\"\")","v":""},{"$f":"IFERROR(ErgBed_T[[#Headers],[Den kumulativa exponeringen fram till sjukdomsdebuten var ]]&IF(Tom_SJD[för överarmslyft >90° ]>0,Tom_SJD[[#Headers],[för överarmslyft >90° ]]&Tom_SJD[för överarmslyft >90° ]&Tom_SJD[[ respektive ]]&IF(Oddskvot_T[Oddskvot]=JN_T[[#Totals],[JN]],\"\",Tom_SJD[[#Totals],[ respektive ]]&Tom_SJD[[#Totals],[för överarmslyft >90° ]]&\")\"),\"\")&IF(COUNTIF(Tom_SJD[[#Totals],[för överarmslyft >90° ]:[för överarmsarmrörelser ]],\">0\")=2,Tom_SJD[[#Headers],[ respektive ]],\"\")&IF(Tom_SJD[[för överarmsarmrörelser ]]>0,Tom_SJD[[#Headers],[för överarmsarmrörelser ]]&Tom_SJD[[för överarmsarmrörelser ]]&Tom_SJD[[ respektive ]]&IF(Oddskvot_T[Oddskvot]=JN_T[[#Totals],[JN]],\"\",Tom_SJD[[#Totals],[ respektive ]]&Tom_SJD[[#Totals],[för överarmsarmrörelser ]]&\")\"),\"\")&I[[#Totals],[,]],\"\")","v":""},null,"Max",{"$f":"ROUND(MAX(Medel_T[AöA T])*24,1-(INT(LOG10(ABS(MAX(Medel_T[AöA T])*24)))))","v":-24},{"$f":"ROUND(MAX(Medel_T[15AM T])*24,1-(INT(LOG10(ABS(MAX(Medel_T[15AM T])*24)))))","v":-24},null," timmar",{"$f":"ROUND(Sum_T[[#Totals],[D AöA]]*24,1-(INT(LOG10(ABS(Sum_T[[#Totals],[D AöA]]*24)))))","v":{"$error":"#NUM!"}},{"$f":"ROUND(Sum_T[[#Totals],[D 15AM]]*24,1-(INT(LOG10(ABS(Sum_T[[#Totals],[D 15AM]]*24)))))","v":{"$error":"#NUM!"}},null,{"$f":"↓[↓]&ROMAN(ROW()-ROW(Delim[[#Headers],[Delimiters]])+1)&\") \"","v":"\nV) "},null,"varannan vecka "]
[null,null,null,{"$f":"ErgBed_T[[#Totals],[TomDebut]]&↓[↓]&ErgBed_T[[#Totals],[Övrig]]","v":"Exponeringen var av sådan omfattning att ökad risk för SIS föreligger (Tabell 2 och ref 2,3,4). \n"},"Exponeringen var av sådan omfattning att ökad risk för SIS föreligger (Tabell 2 och ref 2,3,4). ",{"$f":"Rest_Text[[#Totals],[Dessutom har arbete med ]]","v":""},{"$f":"IF(YEAR(Besvär_T[[#Totals],[Sjukdomsdebut]])=YEAR(Hin_T[[#Totals],[S-år]]),\"\",IF(ISBLANK(Namn_T[Patient ID]),\"Patienten\",Namn_T[Patient ID])&IF(LEN(ErgBed_T[[Den kumulativa exponeringen fram till sjukdomsdebuten var ]])>0,\" har därefter fortsatt att arbeta som \",\" har arbetat som \")&SUBSTITUTE(Hin_T[[#Totals],[Arbetsmoment]],I[,],I[och],LEN(Hin_T[[#Totals],[Arbetsmoment]])-LEN(SUBSTITUTE(Hin_T[[#Totals],[Arbetsmoment]],I[[#Headers],[,]],\"\")))&\" med \"&IF(TOT[överarmslyft]>0,TOT[[#Headers],[överarmslyft]],\"\")&TOT[[för ]]&IF(TOT[överarmsrörelser]>0,TOT[[#Headers],[överarmsrörelser]],\"\")&I[[#Totals],[,]]&\"Den kumulativa exponeringen till och med \"&YEAR(Hin_T[[#Totals],[S-år]])&\" \"&IF(TOT[överarmslyft]>0,\"var \"&TOT[[#Headers],[för ]]&TOT[[#Headers],[överarmslyft]]&\" \"&TOT[överarmslyft]&Tom_SJD[[ respektive ]],\"\")&TOT[[för ]]&IF(TOT[överarmsrörelser]>0,IF(LEN(TOT[[för ]])=0,\"var \",\"\")&TOT[[#Headers],[för ]]&TOT[[#Headers],[överarmsrörelser]]&\" \"&TOT[överarmsrörelser]&Tom_SJD[[ respektive ]],\"\")&I[[#Totals],[,]])","v":""},null,"Min",{"$f":"ROUND(MIN(Hin_T[AöA])*24,1-(INT(LOG10(ABS(MIN(Hin_T[AöA])*24)))))","v":{"$error":"#NUM!"}},{"$f":"ROUND(MIN(Hin_T[15AM])*24,2-(INT(LOG10(ABS(MIN(Hin_T[15AM])*24)))))","v":{"$error":"#NUM!"}},null," (O.R: ",{"$f":"INDEX(Odds_T[Oddskvot AöA],MATCH(Sum_T[[#Totals],[D AöA]]*24,Odds_T[Kum. Belast. (h/liv) AöA],1))","v":1},{"$f":"INDEX(Odds_T[Oddskvot 15AM],MATCH(Sum_T[[#Totals],[D 15AM]]*24,Odds_T[Kum. Belast. (h/liv) 15AM],1))","v":1},null,{"$f":"↓[↓]&ROMAN(ROW()-ROW(Delim[[#Headers],[Delimiters]])+1)&\") \"","v":"\nVI) "},null,"någon gång per månad "]
[null,null,null,null,null,null,null,null,null,null,null,null,null,null,null,null,{"$f":"↓[↓]&ROMAN(ROW()-ROW(Delim[[#Headers],[Delimiters]])+1)&\") \"","v":"\nVII) "}]
[null,null,null,"Dessutom har arbete med ","Före sjukdomsdebut","Efter sjukdomsdebut",null,null,",","och",null,null,"för ","överarmslyft","överarmsrörelser",null,{"$f":"↓[↓]&ROMAN(ROW()-ROW(Delim[[#Headers],[Delimiters]])+1)&\") \"","v":"\nVIII) "}]
[null,null,null,"händerna ovan axelhöjd",{"$f":"IF(OR(INDEX(Rest_in[],MATCH(Rest_Text[[#This Row],[Dessutom har arbete med ]:[Dessutom har arbete med ]],Rest_in[[Förekommer:]:[Förekommer:]],0),MATCH(Rest_Text[[#Headers],[Före sjukdomsdebut]],Rest_in[#Headers],0))=0,INDEX(Rest_in[],MATCH(Rest_Text[[#This Row],[Dessutom har arbete med ]:[Dessutom har arbete med ]],Rest_in[[Förekommer:]:[Förekommer:]],0),MATCH(Rest_Text[[#Headers],[Före sjukdomsdebut]],Rest_in[#Headers],0))=JN_T[[#Totals],[JN]]),\"\",Rest_Text[[#This Row],[Dessutom har arbete med ]:[Dessutom har arbete med ]])","v":""},{"$f":"IF(OR(INDEX(Rest_in[],MATCH(Rest_Text[[#This Row],[Dessutom har arbete med ]:[Dessutom har arbete med ]],Rest_in[[Förekommer:]:[Förekommer:]],0),MATCH(Rest_Text[[#Headers],[Efter sjukdomsdebut]],Rest_in[#Headers],0))=0,INDEX(Rest_in[],MATCH(Rest_Text[[#This Row],[Dessutom har arbete med ]:[Dessutom har arbete med ]],Rest_in[[Förekommer:]:[Förekommer:]],0),MATCH(Rest_Text[[#Headers],[Efter sjukdomsdebut]],Rest_in[#Headers],0))=JN_T[[#Totals],[JN]]),\"\",Rest_Text[[#This Row],[Dessutom har arbete med ]:[Dessutom har arbete med ]])","v":""},null,null,", "," och ",null,null,{"$f":"IF(COUNTIF(TOT[[#Totals],[överarmslyft]:[överarmsrörelser]],\">0\")=2,I[och],\"\")","v":" och "},{"$f":"ROUND(Sum_T[D AöA]*24,1-(INT(LOG10(ABS(Sum_T[D AöA]*24)))))","v":{"$error":"#NUM!"}},{"$f":"ROUND(Sum_T[D 15AM]*24,1-(INT(LOG10(ABS(Sum_T[D 15AM]*24)))))","v":{"$error":"#NUM!"}},null,{"$f":"↓[↓]&ROMAN(ROW()-ROW(Delim[[#Headers],[Delimiters]])+1)&\") \"","v":"\nIX) "}]
[null,null,null,"tung manuell hantering",{"$f":"IF(OR(INDEX(Rest_in[],MATCH(Rest_Text[[#This Row],[Dessutom har arbete med ]:[Dessutom har arbete med ]],Rest_in[[Förekommer:]:[Förekommer:]],0),MATCH(Rest_Text[[#Headers],[Före sjukdomsdebut]],Rest_in[#Headers],0))=0,INDEX(Rest_in[],MATCH(Rest_Text[[#This Row],[Dessutom har arbete med ]:[Dessutom har arbete med ]],Rest_in[[Förekommer:]:[Förekommer:]],0),MATCH(Rest_Text[[#Headers],[Före sjukdomsdebut]],Rest_in[#Headers],0))=JN_T[[#Totals],[JN]]),\"\",Rest_Text[[#This Row],[Dessutom har arbete med ]:[Dessutom har arbete med ]])","v":""},{"$f":"IF(OR(INDEX(Rest_in[],MATCH(Rest_Text[[#This Row],[Dessutom har arbete med ]:[Dessutom har arbete med ]],Rest_in[[Förekommer:]:[Förekommer:]],0),MATCH(Rest_Text[[#Headers],[Efter sjukdomsdebut]],Rest_in[#Headers],0))=0,INDEX(Rest_in[],MATCH(Rest_Text[[#This Row],[Dessutom har arbete med ]:[Dessutom har arbete med ]],Rest_in[[Förekommer:]:[Förekommer:]],0),MATCH(Rest_Text[[#Headers],[Efter sjukdomsdebut]],Rest_in[#Headers],0))=JN_T[[#Totals],[JN]]),\"\",Rest_Text[[#This Row],[Dessutom har arbete med ]:[Dessutom har arbete med ]])","v":""},null,null,". ",null,null,null," (O.R: ",{"$f":"INDEX(Odds_T[Oddskvot AöA],MATCH(Sum_T[D AöA]*24,Odds_T[Kum. Belast. (h/liv) AöA],1))","v":1},{"$f":"INDEX(Odds_T[Oddskvot 15AM],MATCH(Sum_T[D 15AM]*24,Odds_T[Kum. Belast. (h/liv) 15AM],1))","v":1},null,{"$f":"↓[↓]&ROMAN(ROW()-ROW(Delim[[#Headers],[Delimiters]])+1)&\") \"","v":"\nX) "}]
[null,null,null,"arbete med vibrerande verktyg",{"$f":"IF(OR(INDEX(Rest_in[],MATCH(Rest_Text[[#This Row],[Dessutom har arbete med ]:[Dessutom har arbete med ]],Rest_in[[Förekommer:]:[Förekommer:]],0),MATCH(Rest_Text[[#Headers],[Före sjukdomsdebut]],Rest_in[#Headers],0))=0,INDEX(Rest_in[],MATCH(Rest_Text[[#This Row],[Dessutom har arbete med ]:[Dessutom har arbete med ]],Rest_in[[Förekommer:]:[Förekommer:]],0),MATCH(Rest_Text[[#Headers],[Före sjukdomsdebut]],Rest_in[#Headers],0))=JN_T[[#Totals],[JN]]),\"\",Rest_Text[[#This Row],[Dessutom har arbete med ]:[Dessutom har arbete med ]])","v":""},{"$f":"IF(OR(INDEX(Rest_in[],MATCH(Rest_Text[[#This Row],[Dessutom har arbete med ]:[Dessutom har arbete med ]],Rest_in[[Förekommer:]:[Förekommer:]],0),MATCH(Rest_Text[[#Headers],[Efter sjukdomsdebut]],Rest_in[#Headers],0))=0,INDEX(Rest_in[],MATCH(Rest_Text[[#This Row],[Dessutom har arbete med ]:[Dessutom har arbete med ]],Rest_in[[Förekommer:]:[Förekommer:]],0),MATCH(Rest_Text[[#Headers],[Efter sjukdomsdebut]],Rest_in[#Headers],0))=JN_T[[#Totals],[JN]]),\"\",Rest_Text[[#This Row],[Dessutom har arbete med ]:[Dessutom har arbete med ]])","v":""},null,null,null,null,null,null,null,null,null,null,{"$f":"↓[↓]&ROMAN(ROW()-ROW(Delim[[#Headers],[Delimiters]])+1)&\") \"","v":"\nXI) "}]
[null,null,null,"hur ofta?",{"$f":"IF(INDEX(Rest_in[],MATCH(Rest_Text[[#This Row],[Dessutom har arbete med ]:[Dessutom har arbete med ]],Rest_in[[Förekommer:]:[Förekommer:]],0),MATCH(Rest_Text[[#Headers],[Före sjukdomsdebut]],Rest_in[#Headers],0))=0,\"\",INDEX(Rest_in[],MATCH(Rest_Text[[#This Row],[Dessutom har arbete med ]:[Dessutom har arbete med ]],Rest_in[[Förekommer:]:[Förekommer:]],0),MATCH(Rest_Text[[#Headers],[Före sjukdomsdebut]],Rest_in[#Headers],0)))","v":""},{"$f":"IF(INDEX(Rest_in[],MATCH(Rest_Text[[#This Row],[Dessutom har arbete med ]:[Dessutom har arbete med ]],Rest_in[[Förekommer:]:[Förekommer:]],0),MATCH(Rest_Text[[#Headers],[Efter sjukdomsdebut]],Rest_in[#Headers],0))=0,\"\",INDEX(Rest_in[],MATCH(Rest_Text[[#This Row],[Dessutom har arbete med ]:[Dessutom har arbete med ]],Rest_in[[Förekommer:]:[Förekommer:]],0),MATCH(Rest_Text[[#Headers],[Efter sjukdomsdebut]],Rest_in[#Headers],0)))","v":""},null,null,null,null,null,null,null,null,null,null,{"$f":"↓[↓]&ROMAN(ROW()-ROW(Delim[[#Headers],[Delimiters]])+1)&\") \"","v":"\nXII) "}]
[null,null,null,{"$f":"IF(AND(LEN(Rest_Text[[#Totals],[Före sjukdomsdebut]])=0,LEN(Rest_Text[[#Totals],[Efter sjukdomsdebut]])=0),\"\",IF(OR(LEN(Rest_Text[[#Totals],[Före sjukdomsdebut]])>0,LEN(Rest_Text[[#Totals],[Efter sjukdomsdebut]])>0),\"Dessutom har arbete med \",\"\")&Rest_Text[[#Totals],[Före sjukdomsdebut]]&IF(COUNTIF(Rest_Text[[#Totals],[Före sjukdomsdebut]:[Efter sjukdomsdebut]],\"*?\")=2,I[och],\"\")&Rest_Text[[#Totals],[Efter sjukdomsdebut]]&I[[#Totals],[,]])","v":""},{"$f":"IF(COUNTIF(E$9:E$11,\"?*\")=0,\"\",IFERROR(SUBSTITUTE(_xlfn.TEXTJOIN(I[[,]:[,]],TRUE,Text!E$9:E$11),I[[,]:[,]],I[[och]:[och]],COUNTIF(E$9:E11,\"?*\")-1),_xlfn.TEXTJOIN(\";\",TRUE,Text!E$9:E$11))&\" förekommit \"&IF(LEN(E$12)>0,E$12,\"\")&\"fram till \"&LOWER(Besvär_T[[#Headers],[Sjukdomsdebut]]))","v":""},{"$f":"IF(COUNTIF(F$9:F$11,\"?*\")=0,\"\",IFERROR(SUBSTITUTE(_xlfn.TEXTJOIN(I[[,]:[,]],TRUE,Text!F$9:F$11),I[[,]:[,]],I[[och]:[och]],COUNTIF(F$9:F$11,\"?*\")-1),_xlfn.TEXTJOIN(\";\",TRUE,Text!F$9:F$11))&\" fortsatt \"&IF(LEN(F$12)>0,F$12,\"\")&\"fram till \"&TEXT(Hin_T[[#Totals],[S-år]],\"ÅÅÅÅ\"))","v":""},null,null,null,null,null,null,null,null,null,null,{"$f":"↓[↓]&ROMAN(ROW()-ROW(Delim[[#Headers],[Delimiters]])+1)&\") \"","v":"\nXIII) "}]
[null,null,null,null,null,null,null,null,null,null,null,null,null,null,null,null,{"$f":"↓[↓]&ROMAN(ROW()-ROW(Delim[[#Headers],[Delimiters]])+1)&\") \"","v":"\nXIV) "}]
[null,null,null,null,null,null,null,null,null,null,null,null,null,null,null,null,{"$f":"↓[↓]&ROMAN(ROW()-ROW(Delim[[#Headers],[Delimiters]])+1)&\") \"","v":"\nXV) "}]
[null,null,null,null,null,null,null,null,null,null,null,null,null,null,null,null,{"$f":"↓[↓]&ROMAN(ROW()-ROW(Delim[[#Headers],[Delimiters]])+1)&\") \"","v":"\nXVI) "}]
[null,null,null,null,null,null,null,null,null,null,null,null,null,null,null,null,{"$f":"↓[↓]&ROMAN(ROW()-ROW(Delim[[#Headers],[Delimiters]])+1)&\") \"","v":"\nXVII) "}]
[null,null,null,null,null,null,null,null,null,null,null,null,null,null,null,null,{"$f":"↓[↓]&ROMAN(ROW()-ROW(Delim[[#Headers],[Delimiters]])+1)&\") \"","v":"\nXVIII) "}]
[null,null,null,null,null,null,null,null,null,null,null,null,null,null,null,null,{"$f":"↓[↓]&ROMAN(ROW()-ROW(Delim[[#Headers],[Delimiters]])+1)&\") \"","v":"\nXIX) "}]
[null,null,null,null,null,null,null,null,null,null,null,null,null,null,null,null,{"$f":"↓[↓]&ROMAN(ROW()-ROW(Delim[[#Headers],[Delimiters]])+1)&\") \"","v":"\nXX) "}]
[null,null,null,null,null,null,null,null,null,null,null,null,null,null,null,null,{"$f":"↓[↓]&ROMAN(ROW()-ROW(Delim[[#Headers],[Delimiters]])+1)&\") \"","v":"\nXXI) "}]
[null,null,null,null,null,null,null,null,null,null,null,null,null,null,null,null,{"$f":"↓[↓]&ROMAN(ROW()-ROW(Delim[[#Headers],[Delimiters]])+1)&\") \"","v":"\nXXII) "}]
[null,null,null,null,null,null,null,null,null,null,null,null,null,null,null,null,{"$f":"↓[↓]&ROMAN(ROW()-ROW(Delim[[#Headers],[Delimiters]])+1)&\") \"","v":"\nXXIII) "}]

{"sheet":"Oddstabell","index":2,"n_rows":8,"n_cols":5,"rows_kept":8,"cut":false,"hidden":true,"merged":[[1,0,1,1],[1,3,1,4]]}
["Tabell 2. Risk för SIS i förhållande till livstidsdos av armelevation respektive repetitiva rörelser i arbetet."]
["Överarmslyft >90◦",null,null,"Repetitivt arbete med ≥15 armrörelser per minut"]
["Kumulerad belastning (antal h under livet)","Oddskvot",null,"Kumulerad belastning (antal h under livet)","Oddskvot"]
[0,1,null,0,1]
[330,"1,4 (1,4 – 1,5)",null,330,"1,2 (1,1 – 1,3)"]
[1155,"1,5 (1,5 – 1,6)",null,990,"1,5 (1,5 – 1,6)"]
[2475,"1,8 (1,7 – 1,9)",null,3960,"1,6 (1,5 – 1,6)"]
[4950,"2,1 (2,0 – 2,2)",null,11880,"1,9 (1,8 – 2,0)"]